Workbook
Name 【企業】評価項目: [1]発注者入力シート!$L$6:$L$13
Name 【企業】評価項目: [2]発注者入力シート!$L$6:$L$13
Name 【企業】評価項目: 発注者入力シート!$L$6:$L$13
Name 【技術者】評価項目: [1]発注者入力シート!$M$6:$M$12
Name 【技術者】評価項目: [2]発注者入力シート!$M$6:$M$12
Name 【技術者】評価項目: 発注者入力シート!$M$6:$M$12
Name 【地域貢献】評価項目: [1]発注者入力シート!$N$6:$N$25
Name 【地域貢献】評価項目: [2]発注者入力シート!$N$6:$N$29
Name 【地域貢献】評価項目: 発注者入力シート!$N$6:$N$25
Name 【地理的条件】評価項目: [1]発注者入力シート!$O$6:$O$11
Name 【地理的条件】評価項目: [2]発注者入力シート!$O$6:$O$11
Name 【地理的条件】評価項目: 発注者入力シート!$O$6:$O$11
Name 企業回答: [1]発注者入力シート!$Z$6:$Z$9
Name 企業回答: 発注者入力シート!$Z$6:$Z$9
Name 企業回答1: [1]発注者入力シート!$V$6:$V$8
Name 企業回答1: [2]発注者入力シート!$V$6:$V$8
Name 企業回答1: 発注者入力シート!$V$6:$V$8
Name 企業回答10: [1]発注者入力シート!$AE$6:$AE$9
Name 企業回答10: [3]発注者入力シート!$AE$6:$AE$9
Name 企業回答10: 発注者入力シート!$AE$6:$AE$9
Name 企業回答11: [2]発注者入力シート!$AF$6:$AF$7
Name 企業回答11: 発注者入力シート!$AF$6:$AF$9
Name 企業回答12: [1]発注者入力シート!$AG$6:$AG$9
Name 企業回答12: [3]発注者入力シート!$AG$6:$AG$9
Name 企業回答12: 発注者入力シート!$AG$6:$AG$9
Name 企業回答13: [4]発注者入力シート!$AH$6:$AH$8
Name 企業回答13: [4]発注者入力シート!$AH$6:$AH$8
Name 企業回答13: 発注者入力シート!$AH$6:$AH$9
Name 企業回答14: [5]発注者入力シート!$AI$6:$AI$8
Name 企業回答14: [4]発注者入力シート!$AI$6:$AI$9
Name 企業回答14: 発注者入力シート!$AI$5:$AI$8
Name 企業回答2: [1]発注者入力シート!$W$6:$W$11
Name 企業回答2: [2]発注者入力シート!$W$6:$W$11
Name 企業回答2: 発注者入力シート!$W$6:$W$11
Name 企業回答3: [2]発注者入力シート!$X$6:$X$11
Name 企業回答3: 発注者入力シート!$X$6:$X$11
Name 企業回答4: [1]発注者入力シート!$Y$6:$Y$8
Name 企業回答4: 発注者入力シート!$Y$6:$Y$8
Name 企業回答5: [1]発注者入力シート!$Z$6:$Z$9
Name 企業回答5: 発注者入力シート!$Z$6:$Z$9
Name 企業回答6: [1]発注者入力シート!$AA$6:$AA$10
Name 企業回答6: [2]発注者入力シート!$AA$6:$AA$12
Name 企業回答6: 発注者入力シート!$AA$6:$AA$10
Name 企業回答7: [1]発注者入力シート!$AB$6:$AB$9
Name 企業回答7: [2]発注者入力シート!$AB$6:$AB$9
Name 企業回答7: 発注者入力シート!$AB$6:$AB$9
Name 企業回答8: [2]発注者入力シート!$AC$6:$AC$17
Name 企業回答8: 発注者入力シート!$AC$6:$AC$14
Name 企業回答9: [2]発注者入力シート!$AD$6:$AD$8
Name 企業回答9: 発注者入力シート!$AD$6:$AD$8
Name 建設工事の種類: [1]発注者入力シート!$U$6:$U$13
Name 建設工事の種類: [2]発注者入力シート!$U$6:$U$21
Name 建設工事の種類: 発注者入力シート!$U$6:$U$13
Name 工事種別: [1]発注者入力シート!$T$6:$T$11
Name 工事種別: [2]発注者入力シート!$T$6:$T$22
Name 工事種別: 発注者入力シート!$T$6:$T$11
Name 地域密着型: [2]発注者入力シート!$S$6:$S$7
Name 地域密着型: 発注者入力シート!$S$6:$S$7
Name 評価項目番号: [1]発注者入力シート!$Q$6:$Q$12
Name 評価項目番号: [2]発注者入力シート!$Q$6:$Q$12

Sheet 発注者入力シート
A1: 発注までに必要な作業 | L1: 【表３】プルダウンリスト | AX1: 技術資料「企業の工事成績評定点」、「配置予定技術者の工事成績評定点」の表示
A2: （１）発注工事の基本情報 | L2: 【表３】を編集すると評価項目（C列）のリストが変更できます（原則、着色セル以外編集不可）。 | AX2: 入力状況 | AY2: =C8&C9 -> 一般建築工事建築一式工事
B3: １．【表１】のC列に基本情報を直接入力してください | L3: 表中の着色セルを予備欄です。項目が不足する場合ここに入力すれば、プルダウンリストを追加できます。 | AX3: 工事種別 | AY3: 建設工事の種類 | AZ3: 判定用 | BA3: 表示（工事種別） | BB3: 表示（建設工事の種類） | BC3: 工事成績評価対象期間
B4: 【表１】 | L4: 【表３】 | AX4: 一般建築工事 | AY4: 建築一式工事 | AZ4: =AX4&AY4 -> 一般建築工事建築一式工事 | BA4: 一般建築工事 | BB4: 建築一式工事 | BC4: 工事成績（過去5年間で評価）
B5: 入力項目名 | C5: 入力欄 | L5: 【企業】評価項目 | M5: 【技術者】評価項目 | N5: 【地域貢献・その他】評価項目 | O5: 【地理的条件】評価項目 | P5: 様式番号 | Q5: 評価項目番号 | R5: 評価項目番号（枝番） | S5: 地域密着 | T5: 工事種別 | U5: 建設工事の種類 | V5: 企業回答1 | W5: 企業回答2 | X5: 企業回答3 | Y5: 企業回答4 | Z5: 企業回答5 | AA5: 企業回答6 | AB5: 企業回答7 | AC5: 企業回答8 | AD5: 企業回答9 | AE5: 企業回答10 | AF5: 企業回答11 | AG5: 企業回答12 | AH5: 企業回答13 | AI5: 企業回答14 | AX5: 一般建築工事 | AY5: 防水工事 | AZ5: =AX5&AY5 -> 一般建築工事防水工事 | BA5: 一般建築工事 | BB5: 防水工事 | BC5: 工事成績（過去5年間で評価）
B6: 発注事務所名 | C6: 総務部営繕課 | D6: ←直接入力 | L6: 工事成績 | M6: 保有資格 | N6: 防災協定 | O6: 近隣施工実績 | P6: ２ | Q6: （１） | R6: ① | T6: 一般建築工事 | U6: 建築一式工事 | V6: 有 | W6: 国局長 | X6: 国局長の表彰 | Y6: 契約工事名 | Z6: 単体 | AA6: 監理技術者 | AB6: 本店 | AC6: ｼｮﾍﾞﾙ系掘削機(ｼｮﾍﾞﾙ) | AD6: 保有 | AE6: 第1ｸﾞﾙｰﾌﾟ | AF6: 2回 | AG6: 国局長 | AH6: 国局長の表彰 | AI6: 元請 | AY6: 一般建築工事 | AZ6: とび・土工・コンクリート工事 | BA6: =AY6&AZ6 -> 一般建築工事とび・土工・コンクリート工事 | BB6: 一般建築工事 | BC6: 建築一式工事、とび・土工・コンクリート工事 | BD6: 工事成績（過去5年間で評価）
B7: 入札公告日 | C7: 46310 | D7: ←ｙｙｙｙ/m/dで入力【重要】 | G7: 入札公告日前日 | H7: =C7-1 -> 46309 | I7: ←削除厳禁 | L7: 同種工事実績 | M7: 同種工事経験 | N7: 家畜伝染病防疫協定 | O7: 会社所在地 | P7: ３ | Q7: （２） | R7: ② | T7: 電気工事 | U7: とび・土工・コンクリート工事 | V7: 無 | W7: 国事務所長 | X7: 国事務所長の表彰 | Y7: 表彰状記載工事名 | Z7: 特別（特定）JV | AA7: 主任技術者 | AB7: 支店 | AC7: ｼｮﾍﾞﾙ系掘削機(ﾊﾞｯｸﾎｳ) | AD7: リース契約 | AE7: 第2ｸﾞﾙｰﾌﾟ | AF7: 1回 | AG7: 国事務所長 | AH7: 国事務所長の表彰 | AI7: 下請 | AY7: 冷暖房衛生設備工事 | AZ7: 管工事 | BA7: =AY7&AZ7 -> 冷暖房衛生設備工事管工事 | BB7: 建築物に係る冷暖房衛生設備工事 | BC7: 管工事 | BD7: 工事成績（過去5年間で評価）
B8: 工事種別 | C8: 一般建築工事 | D8: ←必須【入力結果が技術資料(企業成績評定点、技術者成績評定点）シートの対象工事欄に反映される】 | L8: 優良工事表彰 | M8: 技術者の表彰 | N8: ボランティア活動又はハートフルしまね | O8: 工場・会社所在地 | P8: ４ | Q8: （３） | R8: ③ | T8: 冷暖房衛生設備工事 | U8: 防水工事 | W8: 知事 | X8: 知事表彰該当工事の表彰 | Z8: 一般（経常）JV | AA8: 監理技術者補佐 | AB8: 営業所 | AC8: ｼｮﾍﾞﾙ系掘削機(ﾄﾞﾗｸﾞﾗｲﾝ) | AE8: 第3ｸﾞﾙｰﾌﾟ | AF8: 0回 | AG8: 知事 | AH8: 知事表彰該当工事の表彰 | AY8: 電気工事 | AZ8: 電気工事 | BA8: =AY8&AZ8 -> 電気工事電気工事 | BB8: 建築物に係る電気工事 | BC8: 電気工事 | BD8: 工事成績（過去5年間で評価）
B9: 建設工事の種類 | C9: 建築一式工事 | D9: =IF(INDEX(AX3:BC9,MATCH(AY2,AZ3:AZ9,0),3)=AY2,INDEX(AX3:BC9,MATCH(AY2,AZ3:AZ9,0),6),"err") -> 工事成績（過去5年間で評価） | G9: ←エラー表示の場合、工事種別と建設工事の種類を再確認 | L9: プラント保有 | M9: 継続学習 | N9: 維持管理業務 | O9: サポート拠点 | P9: ５ | Q9: （４） | R9: ④ | T9: 塗装工事 | U9: 電気工事 | W9: 県課長 | X9: 県課長表彰該当工事の表彰 | AC9: ｼｮﾍﾞﾙ系掘削機(ｸﾗﾑｼｪﾙ) | AY9: 塗装工事 | AZ9: 塗装工事 | BA9: =AY9&AZ9 -> 塗装工事塗装工事 | BB9: 建築物に係る塗装工事 | BC9: 塗装工事 | BD9: 工事成績（過去5年間で評価）
B10: 工事名 | C10: 浜山公園陸上競技場メインスタンド増築外（建築）工事 | L10: 法面機械保有 | M10: 技術者の成績 | N10: 除雪業務 | O10: - | P10: ６ | Q10: （５） | R10: ⑤ | U10: 管工事 | W10: 県事務所長 | X10: 県事務所長表彰該当工事の表彰 | AC10: ｼｮﾍﾞﾙ系掘削機(ｸﾚｰﾝ)
L11: OPD制度参加登録 | M11: - | N11: 労働福祉（障がい者雇用） | P11: ７ | Q11: （６） | R11: ⑥ | U11: 塗装工事 | AC11: ｼｮﾍﾞﾙ系掘削機(ﾊﾟｲﾙﾄﾞﾗｲﾊﾞｰ)
A12: （２）総合評価方式の評価項目、技術資料様式の番号情報 | L12: - | N12: 労働福祉（育児介護制度） | P12: ８ | R12: ⑦ | AC12: ﾌﾞﾙﾄﾞｰｻﾞ
B13: １．【表２】C列に発注工事の評価項目を入力してください（技術提案は、直接入力、その他の項目はプルダウンリストから選択） | N13: 育児介護チェック表 | P13: ９ | R13: ⑧ | AC13: ﾄﾗｸﾀｰｼｮﾍﾞﾙ
B14: （特殊な評価項目でプルダウンリストに項目がない場合は、【表３】で項目を追加してください） | N14: 登録基幹技能者 | P14: １０ | R14: ⑨
B15: ２．【表２】E～G列に様式番号と評価項目の番号をプルダウンリストで選択してください。 | N15: 若手技術者・従業員の新規雇用 | P15: １１ | R15: ⑩
B16: （様式番号は表紙が1になるため、2から始まります。評価項目の番号は、入札説明書に記載する見出し番号とあわせてください） | N16: 消防団協力事業所 | P16: １２
B17: ３．地域密着型工事で地域条件を設定する評価項目は、【表２】D列で【地域密着型】を選択してください | N17: 応急危険度判定士 | P17: １３
B18: 【表２】 | F18: 様式番号 | G18: 評価項目（１）－①（例） | N18: CCUSの活用 | P18: １４
B19: 区分 | C19: 評価項目 | D19: 地域密着 | E19: 様式－○ | F19: 評価項目○－○ | N19: 海上援助活動 | P19: １５
B20: 技術提案 | H20: 技術提案b① | N20: 若手・中堅技術者配置 | P20: １６
B21: 技術提案 | H21: 技術提案b② | N21: 建設機械保有状況 | P21: １７
B22: 技術提案 | H22: 技術提案b③ | N22: BCP認定 | P22: １８
B23: 技術提案 | H23: 技術提案b④ | N23: - | P23: １９
B24: 技術提案 | C24: コンクリート工事の品質向上 | E24: ２ | F24: （１） | G24: ① | H24: 技術提案① | N24: - | P24: ２０
B25: 技術提案 | C25: 工事中の環境対策 | E25: ３ | F25: （１） | G25: ② | H25: 技術提案② | N25: 応急復旧相談員 | P25: ２１
B26: 技術提案 | C26: 工事中の安全対策 | E26: ４ | F26: （１） | G26: ③ | H26: 技術提案③ | P26: ２２
B27: 技術提案 | H27: 技能士活用 | P27: ２３
B28: 企業 | C28: 工事成績 | E28: ５ | F28: （２） | G28: ① | P28: ２４
B29: 企業 | C29: 同種工事実績 | E29: ６ | F29: （２） | G29: ② | P29: ２５
B30: 企業 | C30: 優良工事表彰 | E30: ７ | F30: （２） | G30: ③ | P30: ２６
B31: 企業 | C31: OPD制度参加登録 | E31: ８ | F31: （２） | G31: ④ | P31: ２７
B32: 企業
B33: 配置予定技術者 | C33: 技術者の成績 | E33: ９ | F33: （３） | G33: ①
B34: 配置予定技術者 | C34: 同種工事経験 | E34: １０ | F34: （３） | G34: ②
B35: 配置予定技術者 | C35: 継続学習 | E35: １１ | F35: （３） | G35: ③ | L35: 【表４】表紙記載文リスト
B36: 配置予定技術者 | L36: 【表４】を編集すると技術資料（表紙）「2 提出書類（必要な項目について）」で記載する様式の名称変更ができます。
B37: 地域貢献・その他 | C37: ボランティア活動又はハートフルしまね | E37: １２ | F37: （４） | G37: ① | L37: （【隠岐】企業の法面機械保有は、機械名が○○になっていますので、必ず編集が必要です。）
B38: 地域貢献・その他 | C38: 労働福祉（障がい者雇用） | E38: １３ | F38: （４） | G38: ② | L38: 【表４】
B39: 地域貢献・その他 | C39: 労働福祉（育児介護制度） | E39: １４ | F39: （４） | G39: ② | L39: ↓【重要】表２のD列で項目を記載したもの以外は、エラー表示される【編集厳禁】
B40: 地域貢献・その他 | C40: 育児介護チェック表 | E40: １５ | F40: （４） | G40: ② | L40: 様式番号 | M40: 区分 | N40: 評価項目名 | O40: 表紙記載文
...

Sheet 企業入力シート
A1: 特別共同企業体情報
A2: 1.企業体情報
A3: 表のC列（赤枠内）に企業体情報を入力してください。入力した情報は、各種様式に反映されます。
B4: 項目名 | C4: 企業情報記入欄
A5: 1 | B5: 企業体名
A7: 代表者（第１グループ）
A8: 1.企業情報
A9: 表のC列（赤枠内）に企業情報を入力してください。入力した情報は、各種様式に反映されます。
B10: 項目名 | C10: 企業情報記入欄
A11: 1 | B11: 提出日 | C11: 46235 | D11: ←ｙｙｙｙ/m/dで入力
A12: 2
A13: 3 | B13: 住所
A14: 4 | B14: 商号又は名称 | C14: ○○建設
A15: 5 | B15: 代表者 | C15: ○○ ○○
A16: 6 | B16: 担当者
A17: 7 | B17: 部署
A18: 8 | B18: 電話番号
A19: 9 | B19: ＦＡＸ番号
A20: 10 | B20: Ｅ－mail
A22: 2.配置予定技術者の氏名
A23: 表のC・D列（赤枠内）に配置予定技術者情報を入力してください。入力した情報は、各種様式に反映されます。
B24: 配置予定技術者 | C24: 氏名記入欄 | D24: 生年月日
A25: 1 | B25: 配置予定技術者① | E25: ←ｙｙｙｙ/m/dで入力
A26: 2 | B26: 配置予定技術者② | E26: ←ｙｙｙｙ/m/dで入力
A27: 3 | B27: 配置予定技術者③ | E27: ←ｙｙｙｙ/m/dで入力
A29: 3.事前審査・証明書による申請
A30: 事前審査・証明書で提出する評価項目がある場合、該当するものに「○」を入力してください。事前審査・証明書で提出する項目については、技術資料及び添付資料を提出する必要はありません。
A31: 下欄の入力内容は「表紙」シートに反映されます。
A32: =COUNTA(B33:B42) -> 0 | B32: 証明書での提出 | C32: 項目 | K32: ○
A33: =COUNTA(B33) -> 0 | C33: 【土木一式】企業の工事成績評定点（県）
A34: =COUNTA($B$33:B34) -> 0 | C34: 【舗装】企業の工事成績評定点（県）
A35: =COUNTA($B$33:B35) -> 0 | C35: 【法面】企業の工事成績評定点（県）
A36: =COUNTA($B$33:B36) -> 0 | C36: 【港湾】企業の工事成績評定点（県）
A37: =COUNTA($B$33:B37) -> 0 | C37: 防災協定の締結実績
A38: =COUNTA($B$33:B38) -> 0 | C38: 家畜伝染病防疫協定の締結実績
A39: =COUNTA($B$33:B39) -> 0 | C39: ボランティア活動又はハートフルしまねへの参加実績
A40: =COUNTA($B$33:B40) -> 0 | C40: 維持管理業務等の契約実績（県）
A41: =COUNTA($B$33:B41) -> 0 | C41: 除雪業務の契約実績（県）
A42: =COUNTA($B$33:B42) -> 0 | C42: 労働福祉関連（育児介護・こっころ）
A44: 構成員（第２グループ）
...

Sheet ファイル使用上の注意事項
A1: 技術資料作成用エクセル形式の電子ファイル使用上の注意事項
A3: ○技術資料【PDF形式】と参考資料【本エクセル形式】の位置づけについて
A4: (1) | B4: 本エクセル形式で作成したデータをPDF形式に変換したものを「技術資料」として、提出しなければなりません。 （提出：必須）
A6: (2) | B6: 本エクセル形式は、発注者が技術資料の審査を行う際に「参考資料」として使用しますので、提出の協力をお願いします。 本エクセル形式のみの提出をもって、技術資料を提出したことにはなりませんので、ご注意ください。
A11: ○エクセル形式使用時及び技術資料提出時の注意事項について
A12: (1) | B12: 行高・列幅不足により文字切れや「＃＃＃＃」表示で出力されていないか、提出する前に必ず印刷物で確認してください。
A14: (2) | B14: 文字切れや「＃＃＃＃」表示になっている場合、行高・列幅を広げる、文字を縮小して表示させるなど調整してください。
A16: (3) | B16: 発注者専用シート（シート名が赤色シート）には触れないでください。
A17: (4) | B17: 記入しない様式があっても、シートは絶対に削除しないでください。
A18: (5) | B18: 各様式の企業直接入力欄（青色着色セル）に記入する際、結合されたセルは絶対に解除しないでください。
A20: (6) | B20: 技術資料様式は、「ページ設定」で「白黒印刷」と「印刷範囲」を設定していますので、画面表示の着色セルも白色で印刷されます。
A22: (7) | B22: 技術提案や施工上の留意点の様式に図や表など貼り付けないで下さい。図や表を用いる場合は、必ず別ファイル（PDFファイル）で提出してください。
A24: (8) | B24: 「技術提案」、「施工上の留意点」様式は、提案記入欄より上部を印刷タイトルの設定で固定していますので、提出資料が複数ページに跨る場合、固定部分は全てのページで自動的に表示されます。
A27: ○数式に不具合があった場合の対応について
A28: (1) | B28: 本エクセル形式に設定されている数式に不具合があり、正しく表示されない場合がありましたら、直接セルに正しいものを記入してください。
A31: ○技術資料の審査について
A32: (1) | B32: 発注者は、技術資料【PDF形式】に記載された内容により審査しますので、提出書類に記載漏れ、添付漏れ、文字切れ等の不備がないか必ず確認してください。
A35: ○本エクセル形式のシート名着色の区分について
A36: シート名着色の区分は次のとおりです
B37: ：発注者専用シート（企業は入力厳禁です！！）
B38: ：企業専用シート（企業入力シート（申請企業の基本情報を入力）、質問書など）
B40: ：技術資料様式の表紙シート、ファイル使用上の注意事項シート
B41: ：「技術提案」、「施工上の留意点」様式シート
B42: ：「企業の評価」様式シート
B43: ：「配置予定技術者」様式シート
B44: ：「地域貢献・その他の評価」様式シート
B45: ：「地理的条件の評価」様式シート
A47: ○技術資料様式の凡例について
A48: 技術資料様式のセルの着色の凡例は次の通りです
A49: 着色セルの凡例
A50: （企業）
B51: ：「企業入力シート」で入力した情報が表示される箇所（数式でリンク有）
B52: ：セルに直接入力が必要な箇所
A54: （発注者）
B55: ：「発注者入力シート」や他のシートで入力した情報が表示される箇所（数式でリンク有）
B56: ：セルに直接入力が必要な箇所
A58: （企業・発注者共通事項）
B59: ：同じシート内で入力した情報が表示される箇所（数式でリンク有）

Sheet 発注者設定内容確認シート
A1: 入札公告日： | D1: =発注者入力シート!C7 -> 46310
A2: 工事名： | D2: =発注者入力シート!C10 -> 浜山公園陸上競技場メインスタンド増築外（建築）工事
A3: 不要な項目は、非表示にしてください（行の削除厳禁）
A4: 発注者入力シートで選択していない項目は、エラー表示になります
A5: 評価項目番号 | D5: 区分 | E5: 評価項目 | F5: 評価対象事項 | G5: 評価基準（様式記載内容）
A6: =発注者入力シート!F20 -> 0 | B6: - | C6: =発注者入力シート!G20 -> 0 | D6: 技術提案 | E6: =技術提案ｂ①!B5
A7: =発注者入力シート!F21 -> 0 | B7: - | C7: =発注者入力シート!G21 -> 0 | E7: =技術提案ｂ②!B5
A8: =発注者入力シート!F22 -> 0 | B8: - | C8: =発注者入力シート!G22 -> 0 | E8: =技術提案ｂ③!B5
A9: =発注者入力シート!F23 -> 0 | B9: - | C9: =発注者入力シート!G23 -> 0 | E9: =技術提案ｂ④!B5
A10: =発注者入力シート!F24 -> （１） | B10: - | C10: =発注者入力シート!G24 -> ① | E10: =IF(技術提案①!B5="","",技術提案①!B5) -> コンクリート工事の品質向上
A11: =発注者入力シート!F25 -> （１） | B11: - | C11: =発注者入力シート!G25 -> ② | E11: =IF(技術提案②!B5="","",技術提案②!B5) -> 工事中の環境対策
A12: =発注者入力シート!F26 -> （１） | B12: - | C12: =発注者入力シート!G26 -> ③ | E12: =IF(技術提案③!B5="","",技術提案③!B5) -> 工事中の安全対策
A13: =発注者入力シート!F27 -> 0 | B13: - | C13: =発注者入力シート!G27 -> 0 | E13: =発注者入力シート!C27 -> 0 | H13: 技能士活用を設定した場合
A14: =INDEX(発注者入力シート!$B$28:$G$32,MATCH(発注者入力シート!L6,発注者入力シート!$C$28:$C$32,0),5) -> （２） | B14: - | C14: =INDEX(発注者入力シート!$B$28:$G$32,MATCH(発注者入力シート!L6,発注者入力シート!$C$28:$C$32,0),6) -> ① | D14: 企業 | E14: =発注者入力シート!L6 -> 工事成績 | F14: 完成年度 | G14: =IF('企業成績評定点 (JV用) '!D7="","",'企業成績評定点 (JV用) '!D7) -> 令和３年度から令和７年度（完成及び引き渡しが完了）
A15: =A14 -> （２） | B15: - | C15: =C14 -> ① | F15: 発注機関 | G15: =IF('企業成績評定点 (JV用) '!D8="","",'企業成績評定点 (JV用) '!D8) -> 島根県（総務部(企業局及び病院局契約を含み、企業局及び病院局発注工事は除く。)、農林水産部、土木部）
A16: =A14 -> （２） | B16: - | C16: =C14 -> ① | F16: 工事種別 | G16: =IF('企業成績評定点 (JV用) '!D9="","",'企業成績評定点 (JV用) '!D9) -> 一般建築工事
A17: =A14 -> （２） | B17: - | C17: =C14 -> ① | F17: 建設工事の種類 | G17: =IF('企業成績評定点 (JV用) '!D10="","",'企業成績評定点 (JV用) '!D10) -> 建築一式工事
A18: =INDEX(発注者入力シート!$B$28:$G$32,MATCH(発注者入力シート!L7,発注者入力シート!$C$28:$C$32,0),5) -> （２） | B18: - | C18: =INDEX(発注者入力シート!$B$28:$G$32,MATCH(発注者入力シート!L7,発注者入力シート!$C$28:$C$32,0),6) -> ② | D18: 企業 | E18: =発注者入力シート!L7 -> 同種工事実績 | F18: 対象年度・機関等 | G18: =IF(同種工事施工実績!F7="","",同種工事施工実績!F7) -> 平成２８年度から入札公告日前日までに完成及び引き渡しが完了した工事
A19: =A18 -> （２） | B19: - | C19: =C18 -> ② | F19: 同種工事 | G19: =IF(同種工事施工実績!F11="","",同種工事施工実績!F11) -> １契約で税込み最終金額が１１億円以上の建築一式工事で、非木造の建築物に係るもの（解体工事を除く。）をいう。
A20: =A19 -> （２） | B20: - | C20: =C19 -> ② | F20: 工事種別 | G20: =IF(同種工事施工実績!F9="","",同種工事施工実績!F9) -> 一般建築工事
A21: =A20 -> （２） | B21: - | C21: =C20 -> ② | F21: 建設工事の種類 | G21: =IF(同種工事施工実績!F10="","",同種工事施工実績!F10) -> 建築一式工事
A22: =INDEX(発注者入力シート!$B$28:$G$32,MATCH(発注者入力シート!L8,発注者入力シート!$C$28:$C$32,0),5) -> （２） | B22: - | C22: =INDEX(発注者入力シート!$B$28:$G$32,MATCH(発注者入力シート!L8,発注者入力シート!$C$28:$C$32,0),6) -> ③ | D22: 企業 | E22: =発注者入力シート!L8 -> 優良工事表彰 | F22: 対象年度・機関等 | G22: =IF(優良工事表彰!F6="","",優良工事表彰!F6) -> 島根県内の公共事業において、平成28年度から令和2年度に、島根県及び中国地方整備局発注工事で受けた建築一式工事の優良工事表彰（優良工事施工団体表彰）
A23: =A22 -> （２） | B23: =B22 -> - | C23: =C22 -> ③ | F23: 工事種別 | G23: =IF(優良工事表彰!F9="","",優良工事表彰!F9) -> 一般建築工事
A24: =A23 -> （２） | B24: =B23 -> - | C24: =C23 -> ③ | F24: 建設工事の種類 | G24: =IF(優良工事表彰!F10="","",優良工事表彰!F10) -> 建築一式工事
A25: =INDEX(発注者入力シート!$B$28:$G$32,MATCH(発注者入力シート!L11,発注者入力シート!$C$28:$C$32,0),5) -> （２） | B25: - | C25: =INDEX(発注者入力シート!$B$28:$G$32,MATCH(発注者入力シート!L11,発注者入力シート!$C$28:$C$32,0),6) -> ④ | D25: 企業 | E25: =発注者入力シート!L11 -> OPD制度参加登録 | F25: 対象 | G25: =IF('【建築】技術提案（技能士活用）'!A8="","",'【建築】技術提案（技能士活用）'!A8) -> 一般技能士の活用による品質向上について、下記工種に従事させる一級技能士の人数について具体的提案を求める。
A26: =INDEX(発注者入力シート!$B$33:$G$36,MATCH(発注者入力シート!M10,発注者入力シート!$C$33:$C$36,0),5) -> （３） | B26: - | C26: =INDEX(発注者入力シート!$B$33:$G$36,MATCH(発注者入力シート!M10,発注者入力シート!$C$33:$C$36,0),6) -> ① | D26: 配置予定技術者 | E26: 配置予定技術者の工事成績評定点 | F26: 完成年度 | G26: =IF('【建築】技術者成績評定点 (JV第1G用) '!F7="","",'【建築】技術者成績評定点 (JV第1G用) '!F7) -> 令和３年度から令和７年度（完成及び引き渡しが完了）
A27: =A26 -> （３） | B27: - | C27: =C26 -> ① | F27: 発注機関 | G27: =IF('【建築】技術者成績評定点 (JV第1G用) '!F8="","",'【建築】技術者成績評定点 (JV第1G用) '!F8) -> 島根県（総務部（企業局及び病院局契約を含み、企業局及び病院局発注工事は除く。)、農林水産部、土木部）
A28: =A26 -> （３） | B28: - | C28: =C26 -> ① | F28: 工事種別 | G28: =IF('【建築】技術者成績評定点 (JV第1G用) '!F9="","",'【建築】技術者成績評定点 (JV第1G用) '!F9) -> 一般建築工事
A29: =A26 -> （３） | B29: - | C29: =C26 -> ① | F29: 建設工事の種類 | G29: =IF('【建築】技術者成績評定点 (JV第1G用) '!F10="","",'【建築】技術者成績評定点 (JV第1G用) '!F10) -> 建築一式工事
A30: =INDEX(発注者入力シート!$B$33:$G$36,MATCH(発注者入力シート!M7,発注者入力シート!$C$33:$C$36,0),5) -> （３） | B30: - | C30: =INDEX(発注者入力シート!$B$33:$G$36,MATCH(発注者入力シート!M7,発注者入力シート!$C$33:$C$36,0),6) -> ② | D30: 配置予定技術者 | E30: 施工経験 | F30: 対象年度・機関等 | G30: =IF(同種工事施工経験!F6="","",同種工事施工経験!F6) -> 平成２８年度から入札公告日前日までに完成及び引き渡しが完了した島根県、島根県内の市町村又は国の機関（独立行政法人等を含みコリンズ登録があるものに限る。）発注工事
A31: =A30 -> （３） | B31: - | C31: =C30 -> ② | F31: 同種工事 | G31: =IF(同種工事施工経験!F8="","",同種工事施工経験!F8) -> １契約で税込み最終金額が５億７，０００万円以上の建築一式工事で、非木造の建築物に係るもの（解体工事を除く。）をいう。
A32: =A31 -> （３） | B32: - | C32: =C31 -> ② | F32: 工事種別 | G32: =IF(同種工事施工経験!F11="","",同種工事施工経験!F11) -> 一般建築工事
A33: =A32 -> （３） | B33: - | C33: =C32 -> ② | F33: 建設工事の種類 | G33: =IF(同種工事施工経験!F12="","",同種工事施工経験!F12) -> 建築一式工事
A34: =INDEX(発注者入力シート!$B$37:$G$46,MATCH(発注者入力シート!N8,発注者入力シート!$C$37:$C$46,0),5) -> （４） | B34: - | C34: =INDEX(発注者入力シート!$B$37:$G$46,MATCH(発注者入力シート!N8,発注者入力シート!$C$37:$C$46,0),6) -> ① | D34: 地域貢献・その他 | E34: ボランティア(JV) | F34: 対象 | G34: ='ボランティア (JV)'!B7 -> 令和６年度及び令和７年度における島根県内で実施されたボランティア活動又はハートフルしまねへの参加実績
A35: =INDEX(発注者入力シート!$B$37:$G$46,MATCH(発注者入力シート!N11,発注者入力シート!$C$37:$C$46,0),5) -> （４） | B35: - | C35: =INDEX(発注者入力シート!$B$37:$G$46,MATCH(発注者入力シート!N11,発注者入力シート!$C$37:$C$46,0),6) -> ② | D35: 地域貢献・その他 | E35: 労働福祉関連(JV) | F35: 障がい者雇用
A36: =INDEX(発注者入力シート!$B$37:$G$46,MATCH(発注者入力シート!N12,発注者入力シート!$C$37:$C$46,0),5) -> （４） | B36: - | C36: =INDEX(発注者入力シート!$B$37:$G$46,MATCH(発注者入力シート!N12,発注者入力シート!$C$37:$C$46,0),6) -> ② | F36: 育児・介護休業制度
A37: =INDEX(発注者入力シート!$B$37:$G$46,MATCH(発注者入力シート!N14,発注者入力シート!$C$37:$C$46,0),5) -> #N/A | B37: - | C37: =INDEX(発注者入力シート!$B$37:$G$46,MATCH(発注者入力シート!N14,発注者入力シート!$C$37:$C$46,0),6) -> #N/A | D37: 地域貢献・その他 | E37: 登録基幹技能者 | F37: 対象 | G37: =IF(登録基幹技能者!B9="","",登録基幹技能者!B9) -> 登録○○○○基幹技能者の現場への配置
A38: =INDEX(発注者入力シート!$B$37:$G$46,MATCH(発注者入力シート!N15,発注者入力シート!$C$37:$C$46,0),5) -> （４） | B38: - | C38: =INDEX(発注者入力シート!$B$37:$G$46,MATCH(発注者入力シート!N15,発注者入力シート!$C$37:$C$46,0),6) -> ③ | D38: 地域貢献・その他 | E38: 若手技術者・若手従業員の新規雇用(JV) | F38: 対象 | G38: =IF('若手技術者・従業員新規雇用（JV)'!B7="","",'若手技術者・従業員新規雇用（JV)'!B7) -> 令和６年4月1日以降に、若手技術者・若手従業員（３０歳未満の者）の１人以上の新規雇用があること。
A39: =INDEX(発注者入力シート!$B$37:$G$46,MATCH(発注者入力シート!N16,発注者入力シート!$C$37:$C$46,0),5) -> #N/A | B39: - | C39: =INDEX(発注者入力シート!$B$37:$G$46,MATCH(発注者入力シート!N16,発注者入力シート!$C$37:$C$46,0),6) -> #N/A | D39: 地域貢献・その他 | E39: 消防団協力事業所
A40: =INDEX(発注者入力シート!$B$37:$G$46,MATCH(発注者入力シート!N17,発注者入力シート!$C$37:$C$46,0),5) -> （４） | B40: - | C40: =INDEX(発注者入力シート!$B$37:$G$46,MATCH(発注者入力シート!N17,発注者入力シート!$C$37:$C$46,0),6) -> ④ | D40: 地域貢献・その他 | E40: 応急危険度判定士の登録 | F40: 対象
...

Sheet 発注者審査作業用シート (技術提案)
A1: このシートは、「技術審査用ファイル」の「技術提案①～⑥」にコピー作業を行うためのものです
B2: 技術提案
B3: 技術提案b① | C3: 技術提案b② | D3: 技術提案b③ | E3: 技術提案b④ | F3: 技術提案① | G3: 技術提案② | H3: 技術提案③
B4: =IF(技術提案ｂ①!B5="","",技術提案ｂ①!B5) | C4: =IF(技術提案ｂ②!B5="","",技術提案ｂ②!B5) | D4: =IF(技術提案ｂ③!B5="","",技術提案ｂ③!B5) | E4: =IF(技術提案ｂ④!B5="","",技術提案ｂ④!B5) | F4: =IF(技術提案①!B5="","",技術提案①!B5) -> コンクリート工事の品質向上 | G4: =IF(技術提案②!B5="","",技術提案②!B5) -> 工事中の環境対策 | H4: =IF(技術提案③!B5="","",技術提案③!B5) -> 工事中の安全対策
B8: =IF(技術提案ｂ①!B20="","",技術提案ｂ①!B20) -> 使用材料 | C8: =IF(技術提案ｂ②!B20="","",技術提案ｂ②!B20) -> 使用材料 | D8: =IF(技術提案ｂ③!B20="","",技術提案ｂ③!B20) -> 使用材料 | E8: =IF(技術提案ｂ④!B20="","",技術提案ｂ④!B20) -> 使用材料 | F8: =IF(技術提案①!A20="","",技術提案①!A20) -> ① コンクリート打設時のジャンカ又はコールドジョイントの防止策 （現場特性・概要） （時期、期間） （位置、範囲） （内容《誰が･何を･どうする》、数量、材料、機械等） （目的、効果、優位性） （効果の技術的根拠） （その他） | G8: =IF(技術提案②!A20="","",技術提案②!A20) -> ① 騒音又は粉塵の低減対策 （現場特性・概要） （時期、期間） （位置、範囲） （内容《誰が･何を･どうする》、数量、材料、機械等） （目的、効果、優位性） （効果の技術的根拠） （その他） | H8: =IF(技術提案③!A20="","",技術提案③!A20) -> ① 安全対策 （現場特性・概要） （時期、期間） （位置、範囲） （内容《誰が･何を･どうする》、数量、材料、機械等） （目的、効果、優位性） （効果の技術的根拠） （その他）
B9: =IF(技術提案ｂ①!A21="","",技術提案ｂ①!A21) -> ① ◯◯◯◯◯ （現場特性・概要）（時期、期間）（位置、範囲）（内容《誰が･何を･どうする》、数量、材料、機械等）（目的、効果、優位性）（効果の技術的根拠）（その他） | C9: =IF(技術提案ｂ②!A21="","",技術提案ｂ②!A21) -> ① ◯◯◯◯◯ （現場特性・概要）（時期、期間）（位置、範囲）（内容《誰が･何を･どうする》、数量、材料、機械等）（目的、効果、優位性）（効果の技術的根拠）（その他） | D9: =IF(技術提案ｂ③!A21="","",技術提案ｂ③!A21) -> ① ◯◯◯◯◯ （現場特性・概要）（時期、期間）（位置、範囲）（内容《誰が･何を･どうする》、数量、材料、機械等）（目的、効果、優位性）（効果の技術的根拠）（その他） | E9: =IF(技術提案ｂ④!A21="","",技術提案ｂ④!A21) -> ① ◯◯◯◯◯ （現場特性・概要）（時期、期間）（位置、範囲）（内容《誰が･何を･どうする》、数量、材料、機械等）（目的、効果、優位性）（効果の技術的根拠）（その他） | F9: =IF(技術提案①!A27="","",技術提案①!A27) -> ② コンクリートのひび割れ防止策 （現場特性・概要） （時期、期間） （位置、範囲） （内容《誰が･何を･どうする》、数量、材料、機械等） （目的、効果、優位性） （効果の技術的根拠） （その他） | G9: =IF(技術提案②!A27="","",技術提案②!A27) -> ② 騒音又は粉塵の低減対策 （現場特性・概要） （時期、期間） （位置、範囲） （内容《誰が･何を･どうする》、数量、材料、機械等） （目的、効果、優位性） （効果の技術的根拠） （その他） | H9: =IF(技術提案③!A27="","",技術提案③!A27) -> ② 安全対策 （現場特性・概要） （時期、期間） （位置、範囲） （内容《誰が･何を･どうする》、数量、材料、機械等） （目的、効果、優位性） （効果の技術的根拠） （その他）
B10: =IF(技術提案ｂ①!A25="","",技術提案ｂ①!A25) -> ② ◯◯◯◯◯ （現場特性・概要）（時期、期間）（位置、範囲）（内容《誰が･何を･どうする》、数量、材料、機械等）（目的、効果、優位性）（効果の技術的根拠）（その他） | C10: =IF(技術提案ｂ②!A25="","",技術提案ｂ②!A25) -> ② ◯◯◯◯◯ （現場特性・概要）（時期、期間）（位置、範囲）（内容《誰が･何を･どうする》、数量、材料、機械等）（目的、効果、優位性）（効果の技術的根拠）（その他） | D10: =IF(技術提案ｂ③!A25="","",技術提案ｂ③!A25) -> ② ◯◯◯◯◯ （現場特性・概要）（時期、期間）（位置、範囲）（内容《誰が･何を･どうする》、数量、材料、機械等）（目的、効果、優位性）（効果の技術的根拠）（その他） | E10: =IF(技術提案ｂ④!A25="","",技術提案ｂ④!A25) -> ② ◯◯◯◯◯ （現場特性・概要）（時期、期間）（位置、範囲）（内容《誰が･何を･どうする》、数量、材料、機械等）（目的、効果、優位性）（効果の技術的根拠）（その他） | F10: =IF(技術提案①!A34="","",技術提案①!A34) -> ③ 鉄筋のかぶり厚さ確保策 （現場特性・概要） （時期、期間） （位置、範囲） （内容《誰が･何を･どうする》、数量、材料、機械等） （目的、効果、優位性） （効果の技術的根拠） （その他） | G10: =IF(技術提案②!#REF!="","",技術提案②!#REF!) -> #REF! | H10: =IF(技術提案③!#REF!="","",技術提案③!#REF!) -> #REF!
B11: =IF(技術提案ｂ①!B29="","",技術提案ｂ①!B29) -> 使用材料 | C11: =IF(技術提案ｂ②!B29="","",技術提案ｂ②!B29) -> 使用材料 | D11: =IF(技術提案ｂ③!B29="","",技術提案ｂ③!B29) -> 使用材料 | E11: =IF(技術提案ｂ④!B29="","",技術提案ｂ④!B29) -> 使用材料
B12: =IF(技術提案ｂ①!A30="","",技術提案ｂ①!A30) -> ① ◯◯◯◯◯ （現場特性・概要）（時期、期間）（位置、範囲）（内容《誰が･何を･どうする》、数量、材料、機械等）（目的、効果、優位性）（効果の技術的根拠）（その他） | C12: =IF(技術提案ｂ②!A30="","",技術提案ｂ②!A30) -> ① ◯◯◯◯◯ （現場特性・概要）（時期、期間）（位置、範囲）（内容《誰が･何を･どうする》、数量、材料、機械等）（目的、効果、優位性）（効果の技術的根拠）（その他） | D12: =IF(技術提案ｂ③!A30="","",技術提案ｂ③!A30) -> ① ◯◯◯◯◯ （現場特性・概要）（時期、期間）（位置、範囲）（内容《誰が･何を･どうする》、数量、材料、機械等）（目的、効果、優位性）（効果の技術的根拠）（その他） | E12: =IF(技術提案ｂ④!A30="","",技術提案ｂ④!A30) -> ① ◯◯◯◯◯ （現場特性・概要）（時期、期間）（位置、範囲）（内容《誰が･何を･どうする》、数量、材料、機械等）（目的、効果、優位性）（効果の技術的根拠）（その他）
B13: =IF(技術提案ｂ①!A34="","",技術提案ｂ①!A34) -> ② ◯◯◯◯◯ （現場特性・概要）（時期、期間）（位置、範囲）（内容《誰が･何を･どうする》、数量、材料、機械等）（目的、効果、優位性）（効果の技術的根拠）（その他） | C13: =IF(技術提案ｂ②!A34="","",技術提案ｂ②!A34) -> ② ◯◯◯◯◯ （現場特性・概要）（時期、期間）（位置、範囲）（内容《誰が･何を･どうする》、数量、材料、機械等）（目的、効果、優位性）（効果の技術的根拠）（その他） | D13: =IF(技術提案ｂ③!A34="","",技術提案ｂ③!A34) -> ② ◯◯◯◯◯ （現場特性・概要）（時期、期間）（位置、範囲）（内容《誰が･何を･どうする》、数量、材料、機械等）（目的、効果、優位性）（効果の技術的根拠）（その他） | E13: =IF(技術提案ｂ④!A34="","",技術提案ｂ④!A34) -> ② ◯◯◯◯◯ （現場特性・概要）（時期、期間）（位置、範囲）（内容《誰が･何を･どうする》、数量、材料、機械等）（目的、効果、優位性）（効果の技術的根拠）（その他）
B14: =IF(技術提案ｂ①!B38="","",技術提案ｂ①!B38) -> 使用材料 | C14: =IF(技術提案ｂ②!B38="","",技術提案ｂ②!B38) -> 使用材料 | D14: =IF(技術提案ｂ③!B38="","",技術提案ｂ③!B38) -> 使用材料 | E14: =IF(技術提案ｂ④!B38="","",技術提案ｂ④!B38) -> 使用材料
B15: =IF(技術提案ｂ①!A39="","",技術提案ｂ①!A39) -> ① ◯◯◯◯◯ （現場特性・概要）（時期、期間）（位置、範囲）（内容《誰が･何を･どうする》、数量、材料、機械等）（目的、効果、優位性）（効果の技術的根拠）（その他） | C15: =IF(技術提案ｂ②!A39="","",技術提案ｂ②!A39) -> ① ◯◯◯◯◯ （現場特性・概要）（時期、期間）（位置、範囲）（内容《誰が･何を･どうする》、数量、材料、機械等）（目的、効果、優位性）（効果の技術的根拠）（その他） | D15: =IF(技術提案ｂ③!A39="","",技術提案ｂ③!A39) -> ① ◯◯◯◯◯ （現場特性・概要）（時期、期間）（位置、範囲）（内容《誰が･何を･どうする》、数量、材料、機械等）（目的、効果、優位性）（効果の技術的根拠）（その他） | E15: =IF(技術提案ｂ④!A39="","",技術提案ｂ④!A39) -> ① ◯◯◯◯◯ （現場特性・概要）（時期、期間）（位置、範囲）（内容《誰が･何を･どうする》、数量、材料、機械等）（目的、効果、優位性）（効果の技術的根拠）（その他）
B16: =IF(技術提案ｂ①!A43="","",技術提案ｂ①!A43) -> ② ◯◯◯◯◯ （現場特性・概要）（時期、期間）（位置、範囲）（内容《誰が･何を･どうする》、数量、材料、機械等）（目的、効果、優位性）（効果の技術的根拠）（その他） | C16: =IF(技術提案ｂ②!A43="","",技術提案ｂ②!A43) -> ② ◯◯◯◯◯ （現場特性・概要）（時期、期間）（位置、範囲）（内容《誰が･何を･どうする》、数量、材料、機械等）（目的、効果、優位性）（効果の技術的根拠）（その他） | D16: =IF(技術提案ｂ③!A43="","",技術提案ｂ③!A43) -> ② ◯◯◯◯◯ （現場特性・概要）（時期、期間）（位置、範囲）（内容《誰が･何を･どうする》、数量、材料、機械等）（目的、効果、優位性）（効果の技術的根拠）（その他） | E16: =IF(技術提案ｂ④!A43="","",技術提案ｂ④!A43) -> ② ◯◯◯◯◯ （現場特性・概要）（時期、期間）（位置、範囲）（内容《誰が･何を･どうする》、数量、材料、機械等）（目的、効果、優位性）（効果の技術的根拠）（その他）
B17: =IF(技術提案ｂ①!B47="","",技術提案ｂ①!B47) -> 使用材料 | C17: =IF(技術提案ｂ②!B47="","",技術提案ｂ②!B47) -> 使用材料 | D17: =IF(技術提案ｂ③!B47="","",技術提案ｂ③!B47) -> 使用材料 | E17: =IF(技術提案ｂ④!B47="","",技術提案ｂ④!B47) -> 使用材料
B18: =IF(技術提案ｂ①!A48="","",技術提案ｂ①!A48) -> ① ◯◯◯◯◯ （現場特性・概要）（時期、期間）（位置、範囲）（内容《誰が･何を･どうする》、数量、材料、機械等）（目的、効果、優位性）（効果の技術的根拠）（その他） | C18: =IF(技術提案ｂ②!A48="","",技術提案ｂ②!A48) -> ① ◯◯◯◯◯ （現場特性・概要）（時期、期間）（位置、範囲）（内容《誰が･何を･どうする》、数量、材料、機械等）（目的、効果、優位性）（効果の技術的根拠）（その他） | D18: =IF(技術提案ｂ③!A48="","",技術提案ｂ③!A48) -> ① ◯◯◯◯◯ （現場特性・概要）（時期、期間）（位置、範囲）（内容《誰が･何を･どうする》、数量、材料、機械等）（目的、効果、優位性）（効果の技術的根拠）（その他） | E18: =IF(技術提案ｂ④!A48="","",技術提案ｂ④!A48) -> ① ◯◯◯◯◯ （現場特性・概要）（時期、期間）（位置、範囲）（内容《誰が･何を･どうする》、数量、材料、機械等）（目的、効果、優位性）（効果の技術的根拠）（その他）
B19: =IF(技術提案ｂ①!A52="","",技術提案ｂ①!A52) -> ② ◯◯◯◯◯ （現場特性・概要）（時期、期間）（位置、範囲）（内容《誰が･何を･どうする》、数量、材料、機械等）（目的、効果、優位性）（効果の技術的根拠）（その他） | C19: =IF(技術提案ｂ②!A52="","",技術提案ｂ②!A52) -> ② ◯◯◯◯◯ （現場特性・概要）（時期、期間）（位置、範囲）（内容《誰が･何を･どうする》、数量、材料、機械等）（目的、効果、優位性）（効果の技術的根拠）（その他） | D19: =IF(技術提案ｂ③!A52="","",技術提案ｂ③!A52) -> ② ◯◯◯◯◯ （現場特性・概要）（時期、期間）（位置、範囲）（内容《誰が･何を･どうする》、数量、材料、機械等）（目的、効果、優位性）（効果の技術的根拠）（その他） | E19: =IF(技術提案ｂ④!A52="","",技術提案ｂ④!A52) -> ② ◯◯◯◯◯ （現場特性・概要）（時期、期間）（位置、範囲）（内容《誰が･何を･どうする》、数量、材料、機械等）（目的、効果、優位性）（効果の技術的根拠）（その他）

Sheet 発注者審査作業用シート（提案以外）
A1: このシートは、「技術審査用ファイル」の「作業用シート」に一括コピー作業を行うためのものです
A2: ＜シートの説明＞
B3: ・「技術審査用ファイル」の「作業用シート」へ一括コピーするため、「コピー専用表」をこのシートに設定しています。
B4: ・コピーする範囲は、「コピー専用表」の薄オレンジ部分（評価項目：１９～２５行）と白色部分（企業申請内容：２６行～３３行）です。
B5: ・文字切れやフォントサイズの修正は、「技術審査用ファイル」で行いますので、このシートでは作業不要です。
B6: ・「コピー専用表」は、「技術審査用ファイル」の「技術審査用シート」で見えやすいように概ね書式調整しています。「技術審査用シート」で見えにくいときのみ、コピー専用表の書式を修正してください。
A7: ＜作業手順＞・・・・以下の作業は、必ず別ファイルとして公告用ファイルを作成し、公告用ファイルで作業してください（１回シートや列を削除すると元の状態に戻せなくなります）。
A8: 準備作業： | B8: 不要な評価項目の列全体をこのシートから削除。不要な様式も削除してください。
B9: 評価項目の列全体を削除する際、コピー先の配列（「技術審査用ファイル」）に合わせておく必要があります（「技術審査用ファイル」の自動集計に支障が生じるため）。
B10: 予備欄等を活用して配列を合わせてください。
B11: 「技術審査用ファイル」の固定配列（※１項目３列で設定してあります）
B12: 企業：４項目、配置予定技術者①：４項目、配置予定技術者②：４項目、配置予定技術者③：４項目、地域貢献・その他：７項目、地理的条件：２項目
A13: 手順①： | B13: 「コピー専用表」の薄オレンジ部分全体を指定しコピー後、「技術審査用ファイル」の「作業用シート」の「貼り付け箇所A」に、貼り付けオプションの「値」で貼り付け。
A14: 手順②： | B14: 手順①の後、同じ場所（貼り付け箇所A）に貼り付けオプションの「書式設定」で貼り付けると、コピー専用行で設定された書式でコピー可能。
A15: 手順③： | B15: 手順①、手順②の方法により、「コピー専用表」の白色部分全体を「技術審査用ファイル」の「作業用シート」の「貼り付け箇所B」に貼り付け。
A17: 以下、審査用ファイルの「作業用」シートへの「コピー専用表」 | X17: 削除× | AA17: 審査用ファイルコピー先の列数と合わせるため削除× | AJ17: 削除× | AM17: 審査用ファイルコピー先の列数と合わせるため削除× | AV17: 削除× | AY17: 審査用ファイルコピー先の列数と合わせるため削除× | BZ17: 審査用ファイルコピー先の列数と合わせるための欄 | CC17: 審査用ファイルコピー先の列数と合わせるための欄 | CF17: 審査用ファイルコピー先の列数と合わせるための欄 | CL17: 審査用ファイルコピー先の列数と合わせるための列
B18: 行番号 | C18: =CONCATENATE("様式-",INDEX(発注者入力シート!$B$28:$G$32,MATCH(発注者入力シート!L6,発注者入力シート!$C$28:$C$32,0),4)) -> 様式-５ | F18: =CONCATENATE("様式-",INDEX(発注者入力シート!$B$28:$G$32,MATCH(発注者入力シート!L7,発注者入力シート!$C$28:$C$32,0),4)) -> 様式-６ | I18: =CONCATENATE("様式-",INDEX(発注者入力シート!$B$28:$G$32,MATCH(発注者入力シート!L8,発注者入力シート!$C$28:$C$32,0),4)) -> 様式-７ | L18: =CONCATENATE("様式-",INDEX(発注者入力シート!$B$28:$G$32,MATCH(発注者入力シート!L8,発注者入力シート!$C$28:$C$32,0),4)) -> 様式-７ | O18: =CONCATENATE("様式-",INDEX(発注者入力シート!$B$28:$G$32,MATCH(発注者入力シート!L11,発注者入力シート!$C$28:$C$32,0),4)) -> 様式-８ | R18: =CONCATENATE("様式-",INDEX(発注者入力シート!$B$28:$G$32,MATCH(発注者入力シート!L13,発注者入力シート!$C$28:$C$32,0),4)) -> #N/A | U18: =CONCATENATE("様式-",INDEX(発注者入力シート!$B$33:$G$36,MATCH(発注者入力シート!M10,発注者入力シート!$C$33:$C$36,0),4)) -> 様式-９ | X18: =CONCATENATE("様式-",INDEX(発注者入力シート!$B$33:$G$36,MATCH(発注者入力シート!M7,発注者入力シート!$C$33:$C$36,0),4)) -> 様式-１０ | AD18: =CONCATENATE("様式-",INDEX(発注者入力シート!$B$33:$G$36,MATCH(発注者入力シート!M12,発注者入力シート!$C$33:$C$36,0),4)) -> #N/A | AG18: =CONCATENATE("様式-",INDEX(発注者入力シート!$B$33:$G$36,MATCH(発注者入力シート!M10,発注者入力シート!$C$33:$C$36,0),4)) -> 様式-９ | AJ18: =CONCATENATE("様式-",INDEX(発注者入力シート!$B$33:$G$36,MATCH(発注者入力シート!M7,発注者入力シート!$C$33:$C$36,0),4)) -> 様式-１０ | AM18: =CONCATENATE("様式-",INDEX(発注者入力シート!$B$33:$G$36,MATCH(発注者入力シート!J14,発注者入力シート!$C$33:$C$36,0),4)) -> #N/A | AP18: =CONCATENATE("様式-",INDEX(発注者入力シート!$B$33:$G$36,MATCH(発注者入力シート!M12,発注者入力シート!$C$33:$C$36,0),4)) -> #N/A | AS18: =CONCATENATE("様式-",INDEX(発注者入力シート!$B$33:$G$36,MATCH(発注者入力シート!M10,発注者入力シート!$C$33:$C$36,0),4)) -> 様式-９ | AV18: =CONCATENATE("様式-",INDEX(発注者入力シート!$B$33:$G$36,MATCH(発注者入力シート!M7,発注者入力シート!$C$33:$C$36,0),4)) -> 様式-１０ | AY18: =CONCATENATE("様式-",INDEX(発注者入力シート!$B$33:$G$36,MATCH(発注者入力シート!J14,発注者入力シート!$C$33:$C$36,0),4)) -> #N/A | BB18: =CONCATENATE("様式-",INDEX(発注者入力シート!$B$33:$G$36,MATCH(発注者入力シート!M12,発注者入力シート!$C$33:$C$36,0),4)) -> #N/A | BE18: =CONCATENATE("様式-",INDEX(発注者入力シート!$B$37:$G$46,MATCH(発注者入力シート!N8,発注者入力シート!$C$37:$C$46,0),4)) -> 様式-１２ | BH18: =CONCATENATE("様式-",INDEX(発注者入力シート!$B$37:$G$46,MATCH(発注者入力シート!N11,発注者入力シート!$C$37:$C$46,0),4),"など") -> 様式-１３など | BK18: =CONCATENATE("様式-",INDEX(発注者入力シート!$B$37:$G$46,MATCH(発注者入力シート!N14,発注者入力シート!$C$37:$C$46,0),4)) -> #N/A | BN18: =CONCATENATE("様式-",INDEX(発注者入力シート!$B$37:$G$46,MATCH(発注者入力シート!N15,発注者入力シート!$C$37:$C$46,0),4)) -> 様式-１６ | BQ18: =CONCATENATE("様式-",INDEX(発注者入力シート!$B$37:$G$46,MATCH(発注者入力シート!N16,発注者入力シート!$C$37:$C$46,0),4)) -> #N/A | BT18: =CONCATENATE("様式-",INDEX(発注者入力シート!$B$37:$G$46,MATCH(発注者入力シート!N17,発注者入力シート!$C$37:$C$46,0),4)) -> 様式-１７ | BW18: =CONCATENATE("様式-",INDEX(発注者入力シート!$B$37:$G$46,MATCH(発注者入力シート!N18,発注者入力シート!$C$37:$C$46,0),4)) -> #N/A | CI18: =CONCATENATE("様式-",INDEX(発注者入力シート!$B$47:$G$48,MATCH(発注者入力シート!O7,発注者入力シート!$C$47:$C$48,0),4)) -> #N/A
A19: コピー専用行 | B19: a0 | C19: 企業 | F19: 企業 | I19: 企業 | L19: 企業 | O19: 企業【建築】 | R19: 企業 | U19: 配置予定技術者① | X19: 配置予定技術者① | AA19: 配置予定技術者① | AD19: 配置予定技術者① | AG19: 配置予定技術者② | AJ19: 配置予定技術者② | AM19: 配置予定技術者② | AP19: 配置予定技術者② | AS19: 配置予定技術者③ | AV19: 配置予定技術者③ | AY19: 配置予定技術者③ | BB19: 配置予定技術者③ | BE19: 地域貢献・その他 | BH19: 地域貢献・その他 | BK19: 【電気工事】、【塗装工事】企業 | BN19: 地域貢献・その他 | BQ19: 地域貢献・その他 | BT19: 地域貢献・その他【建築】 | BW19: 地域貢献・その他 | BZ19: 地域貢献・その他 | CC19: 地域貢献・その他 | CF19: 地域貢献・その他 | CI19: 地理的条件 | CL19: 地理的条件
A20: コピー専用行 | B20: a1 | C20: 工事成績評定点(JV) | F20: 施工実績 | I20: 優良工事表彰 | L20: 優良工事表彰(JV) | O20: 企業の継続能力開発（CPD)制度の参加登録 | R20: 予備欄 | U20: 工事成績評定点（JV） | X20: 施工経験 | AA20: 予備欄① | AD20: 予備欄② | AG20: 工事成績評定点（JV） | AJ20: 施工経験 | AM20: 予備欄① | AP20: 予備欄② | AS20: 工事成績評定点（JV） | AV20: 施工経験 | AY20: 予備欄① | BB20: 予備欄② | BE20: ボランティア（JV） | BH20: 労働福祉関連（JV） | BK20: 登録基幹技能者 | BN20: 若手技術者・従業員の新規雇用（JV） | BQ20: 消防団協力事業所 | BT20: 応急危険度判定士の登録 | BW20: CCUSの活用 | BZ20: 予備欄 | CC20: 予備欄 | CF20: 予備欄 | CI20: 会社所在地 | CL20: 予備欄１
A21: コピー専用行 | B21: a | C21: =C39 -> 完成年度 | D21: =D39 -> 令和３年度から令和７年度（完成及び引き渡しが完了） | E21: =E39 -> 0 | F21: =F39 -> 対象期間 | G21: =G39 -> 平成２８年度から入札公告日前日までに完成及び引き渡しが完了した工事 | I21: =I39 -> 対象年度・機関等 | J21: =J39 -> 島根県内の公共事業において、平成28年度から令和2年度に、島根県及び中国地方整備局発注工事で受けた建築一式工事の優良工事表彰（優良工事施工団体表彰） | L21: =L39 -> 対象年度・機関等 | M21: =M39 -> 島根県内の公共事業において、令和４年度から令和８年度に、島根県及び中国地方整備局発注工事で受けた建築一式工事の優良工事表彰（優良工事施工団体表彰） | N21: =N39 -> 0 | O21: =O39 -> 入札公告日前日におけるCPD制度に参加登録している社員数の合計 | P21: =P39 -> 0 | Q21: =Q39 -> 0 | U21: =U39 -> 完成年度 | V21: =V39 -> 令和３年度から令和７年度（完成及び引き渡しが完了） | X21: =X39 -> 対象年度・機関等 | Y21: =Y39 -> 平成２８年度から入札公告日前日までに完成及び引き渡しが完了した島根県、島根県内の市町村又は国の機関（独立行政法人等を含みコリンズ登録があるものに限る。）発注工事 | AG21: =AG39 -> 完成年度 | AH21: =AH39 -> 令和３年度から令和７年度（完成及び引き渡しが完了） | AJ21: =AJ39 -> 対象年度・機関等 | AK21: =AK39 -> 平成２８年度から入札公告日前日までに完成及び引き渡しが完了した島根県、島根県内の市町村又は国の機関（独立行政法人等を含みコリンズ登録があるものに限る。）発注工事 | AS21: =AS39 -> 完成年度 | AT21: =AT39 -> 令和３年度から令和７年度（完成及び引き渡しが完了） | AV21: =AV39 -> 対象年度・機関等 | AW21: =AW39 -> 平成２８年度から入札公告日前日までに完成及び引き渡しが完了した島根県、島根県内の市町村又は国の機関（独立行政法人等を含みコリンズ登録があるものに限る。）発注工事 | BE21: =BE39 -> 対象 | BF21: =BF39 -> 令和６年度及び令和７年度における島根県内で実施されたボランティア活動又はハートフルしまねへの参加実績 | BG21: =BG39 -> 0 | BH21: =BH39 -> 対象 | BI21: =BI39 -> 入札公告日前日時点での取り組み状況 | BJ21: =BJ39 -> 0 | BK21: =BK39 -> 登録○○○○基幹技能者の現場への配置 | BN21: =BN39 -> 対象 | BO21: =BO39 -> 令和６年4月1日以降に、若手技術者・若手従業員（３０歳未満の者）の１人以上の新規雇用があること。 | BP21: =BP39 -> 0 | BQ21: =BQ39 -> 対象 | BR21: =BR39 -> 入札公告日前日時点（令和8年10月14日時点）での消防団協力事業所の認定状況 | BS21: =BS39 -> 0 | BT21: =BT39 -> 入札公告日前日における会社に所属する「島根県地震被災建築物応急危険度判定士」に登録している社員数の合計 | BU21: =BU39 -> 0 | ... BY21: =BY39 -> 0 | CI21: =CI39 -> 対象 | CJ21: =CJ39 -> 入札公告日前日において、評価対象地域内に建設業法で規定する主たる営業所（本店）または従たる営業所（支店、営業所）がある者
A22: コピー専用行 | B22: b | C22: =C40 -> 発注機関 | D22: =D40 -> 島根県（総務部(企業局及び病院局契約を含み、企業局及び病院局発注工事は除く。)、農林水産部、土木部） | E22: =E40 -> 0 | F22: =F40 -> 同種工事 | G22: =G40 -> １契約で税込み最終金額が１１億円以上の建築一式工事で、非木造の建築物に係るもの（解体工事を除く。）をいう。 | L22: =L40 -> 0 | M22: =M40 -> 0 | N22: =N40 -> 0 | O22: =O40 -> 0 | P22: =P40 -> 0 | Q22: =Q40 -> 0 | U22: =U40 -> 発注機関 | V22: =V40 -> 島根県（総務部（企業局及び病院局契約を含み、企業局及び病院局発注工事は除く。)、農林水産部、土木部） | X22: =X40 -> 同種工事 | Y22: =Y40 -> １契約で税込み最終金額が５億７，０００万円以上の建築一式工事で、非木造の建築物に係るもの（解体工事を除く。）をいう。 | AG22: =AG40 -> 発注機関 | AH22: =AH40 -> 島根県（総務部（企業局及び病院局契約を含み、企業局及び病院局発注工事は除く。)、農林水産部、土木部） | AJ22: =AJ40 -> 同種工事 | AK22: =AK40 -> １契約で税込み最終金額が５億７，０００万円以上の建築一式工事で、非木造の建築物に係るもの（解体工事を除く。）をいう。 | AS22: =AS40 -> 発注機関 | AT22: =AT40 -> 島根県（総務部（企業局及び病院局契約を含み、企業局及び病院局発注工事は除く。)、農林水産部、土木部） | AV22: =AV40 -> 同種工事 | AW22: =AW40 -> １契約で税込み最終金額が５億７，０００万円以上の建築一式工事で、非木造の建築物に係るもの（解体工事を除く。）をいう。 | BE22: =BE40 -> 0 | BF22: =BF40 -> 0 | BG22: =BG40 -> 0 | BH22: =BH40 -> 0 | BI22: =BI40 -> 0 | BJ22: =BJ40 -> 0 | BN22: =BN40 -> 0 | BO22: =BO40 -> 0 | BP22: =BP40 -> 0 | BQ22: =BQ40 -> 0 | BR22: =BR40 -> 0 | BS22: =BS40 -> 0 | BT22: =BT40 -> 0 | BU22: =BU40 -> 0 | ... BY22: =BY40 -> 0
A23: コピー専用行 | B23: c | C23: =C41 -> 工事種別 | D23: =D41 -> 一般建築工事 | E23: =E41 -> 0 | F23: =F41 -> 工事種別 | G23: =G41 -> 一般建築工事 | I23: =I41 -> 工事種別 | J23: =J41 -> 一般建築工事 | L23: =L41 -> 0 | M23: =M41 -> 0 | N23: =N41 -> 0 | O23: =O41 -> 0 | P23: =P41 -> 0 | Q23: =Q41 -> 0 | U23: =U41 -> 工事種別 | V23: =V41 -> 一般建築工事 | X23: =X41 -> 工事種別 | Y23: =Y41 -> 一般建築工事 | AG23: =AG41 -> 工事種別 | AH23: =AH41 -> 一般建築工事 | AJ23: =AJ41 -> 工事種別 | AK23: =AK41 -> 一般建築工事 | AS23: =AS41 -> 工事種別 | AT23: =AT41 -> 一般建築工事 | AV23: =AV41 -> 工事種別 | AW23: =AW41 -> 一般建築工事 | BE23: =BE41 -> 0 | BF23: =BF41 -> 0 | BG23: =BG41 -> 0 | BH23: =BH41 -> 0 | BI23: =BI41 -> 0 | BJ23: =BJ41 -> 0 | BN23: =BN41 -> 0 | BO23: =BO41 -> 0 | BP23: =BP41 -> 0 | BQ23: =BQ41 -> 0 | BR23: =BR41 -> 0 | BS23: =BS41 -> 0 | BT23: =BT41 -> 0 | BU23: =BU41 -> 0 | ... BY23: =BY41 -> 0
A24: コピー専用行 | B24: d | C24: =C42 -> 建設工事の種類 | D24: =D42 -> 建築一式工事 | E24: =E42 -> 0 | F24: =F42 -> 建設工事の種類 | G24: =G42 -> 建築一式工事 | I24: =I42 -> 建設工事の種類 | J24: =J42 -> 建築一式工事 | L24: =L42 -> 0 | M24: =M42 -> 0 | N24: =N42 -> 0 | O24: =O42 -> 0 | P24: =P42 -> 0 | Q24: =Q42 -> 0 | U24: =U42 -> 建設工事の種類 | V24: =V42 -> 建築一式工事 | X24: =X42 -> 建設工事の種類 | Y24: =Y42 -> 建築一式工事 | AG24: =AG42 -> 建設工事の種類 | AH24: =AH42 -> 建築一式工事 | AJ24: =AJ42 -> 建設工事の種類 | AK24: =AK42 -> 建築一式工事 | AS24: =AS42 -> 建設工事の種類 | AT24: =AT42 -> 建築一式工事 | AV24: =AV42 -> 建設工事の種類 | AW24: =AW42 -> 建築一式工事 | BE24: =BE42 -> 0 | BF24: =BF42 -> 0 | BG24: =BG42 -> 0 | BH24: =BH42 -> 0 | BI24: =BI42 -> 0 | BJ24: =BJ42 -> 0 | BN24: =BN42 -> 0 | BO24: =BO42 -> 0 | BP24: =BP42 -> 0 | BQ24: =BQ42 -> 0 | BR24: =BR42 -> 0 | BS24: =BS42 -> 0 | BT24: =BT42 -> 0 | BU24: =BU42 -> 0 | ... BY24: =BY42 -> 0 | CI24: =CI42 -> 評価地域 | CJ24: =CJ42 -> ○○県土整備事務所管内
A25: コピー専用行 | B25: e | C25: =C43 -> 対象 | D25: =D43 -> 該当件数 | E25: =E43 -> 平均点 | F25: =F43 -> 項目名 | G25: =G43 -> 工事① | H25: =H43 -> 工事② | I25: =I43 -> 表彰区分 | J25: =J43 -> 実績 | L25: =L43 -> 受賞企業 | M25: =M43 -> 企業名 | O25: 合計人数 | U25: =U43 -> 該当企業 | V25: =V43 -> 件数 | W25: =W43 -> 平均点 | X25: =X43 -> 項目名 | Y25: =Y43 -> 工事① | Z25: =Z43 -> 工事② | AG25: =AG43 -> 該当企業 | AH25: =AH43 -> 件数 | AI25: =AI43 -> 平均点 | AJ25: =AJ43 -> 項目名 | AK25: =AK43 -> 工事① | AL25: =AL43 -> 工事② | AS25: =AS43 -> 該当企業 | AT25: =AT43 -> 件数 | AU25: =AU43 -> 平均点 | AV25: =AV43 -> 項目名 | AW25: =AW43 -> 工事① | AX25: =AX43 -> 工事② | BE25: =BE43 -> 対象企業 | BF25: =BF43 -> ボランティア | BG25: =BG43 -> ﾊｰﾄﾌﾙ | BH25: =BH43 -> 第1ｸﾞﾙｰﾌﾟ | BI25: =BI43 -> 第2ｸﾞﾙｰﾌﾟ | BJ25: =BJ43 -> 第3ｸﾞﾙｰﾌﾟ | BK25: 項目名 | BL25: 状況 | BN25: =BN43 -> 第1ｸﾞﾙｰﾌﾟ | BO25: =BO43 -> 第2ｸﾞﾙｰﾌﾟ | BP25: =BP43 -> 第3ｸﾞﾙｰﾌﾟ | BQ25: =BQ43 -> 項目名 | BR25: =BR43 -> 状況 | BT25: =BU43 -> 登録人数 | BW25: =BW43 -> 項目名 | BX25: =BX43 -> 状況 | CI25: =CI43 -> 項目名 | CJ25: =CJ43 -> 状況
A26: コピー専用行 | B26: 1 | C26: =C44 -> 第1ｸﾞﾙｰﾌﾟ | D26: =D44 | E26: =E44 | F26: =F44 -> 工事名 | G26: =G44 -> 申請なし | H26: =H44 -> 申請なし | I26: =I44 -> 申請なし | J26: =J44 | L26: 第1ｸﾞﾙｰﾌﾟ | M26: =COUNTIF($L$44:$L$53,L26) -> 0 | O26: 合計人数 | P26: =COUNTA(O44:O49)-COUNTBLANK(O44:O49) -> 0 | U26: =U44 -> 第1ｸﾞﾙｰﾌﾟ | V26: =V44 | W26: =W44 | X26: =X44 -> 工事名 | Y26: =Y44 -> 配置なし | Z26: =Z44 | AG26: =AG44 -> 第1ｸﾞﾙｰﾌﾟ | AH26: =AH44 | AI26: =AI44 | AJ26: =AJ44 -> 工事名 | AK26: =AK44 -> 配置なし | AL26: =AL44 | AS26: =AS44 -> 第1ｸﾞﾙｰﾌﾟ | AT26: =AT44 | AU26: =AU44 | AV26: =AV44 -> 工事名 | AW26: =AW44 -> 配置なし | AX26: =AX44 | BE26: 第1ｸﾞﾙｰﾌﾟ | BF26: =IF(BF44="有",BF44&"("&BF47&"人)",BF44) -> 申請なし | BG26: =IF(BG44="有",BG44&"("&BG47&"人)",BG44) -> 申請なし | BK26: =BK44 -> 配置の有無 | BL26: =BL44 -> 申請なし | BN26: =BN44 -> 雇用① | BO26: =BO44 -> 雇用① | BP26: =BP44 -> 雇用① | BQ26: =BQ44 -> 認定有無 | BR26: =BR44 -> 申請なし | BT26: 登録人数 | BU26: =COUNTA(BU44:BU55)-COUNTBLANK(BU44:BU55) -> 0 | BW26: =BW44 -> 確約書の提出 | BX26: =BX44 -> 無 | CI26: =CI44 -> 住所 | CJ26: =CJ44 -> 申請なし
A27: コピー専用行 | B27: 2 | C27: =C45 -> 第2ｸﾞﾙｰﾌﾟ | D27: =D45 | E27: =E45 | F27: =F45 -> 発注機関 | G27: =G45 | H27: =H45 | L27: 第2ｸﾞﾙｰﾌﾟ | M27: =COUNTIF($L$44:$L$53,L27) -> 0 | U27: =U45 -> 第2ｸﾞﾙｰﾌﾟ | V27: =V45 | W27: =W45 | X27: =X45 -> 発注機関 | Y27: =Y45 | Z27: =Z45 | AG27: =AG45 -> 第2ｸﾞﾙｰﾌﾟ | AH27: =AH45 | AI27: =AI45 | AJ27: =AJ45 -> 発注機関 | AK27: =AK45 | AL27: =AL45 | AS27: =AS45 -> 第2ｸﾞﾙｰﾌﾟ | AT27: =AT45 | AU27: =AU45 | AV27: =AV45 -> 発注機関 | AW27: =AW45 | AX27: =AX45 | BE27: 従業員数 | BF27: =IF(BF44="無","",BF48) | BG27: =IF(BG44="無","",BG48) | BN27: =BN45 -> 申請なし | BO27: =BO45 -> 申請なし | BP27: =BP45 -> 申請なし | CI27: =CI45 -> 種類 | CJ27: =CJ45
A28: コピー専用行 | B28: 3 | C28: =C46 -> 第3ｸﾞﾙｰﾌﾟ | D28: =D46 | E28: =E46 | F28: =F46 -> 工事種別 | G28: =G46 | H28: =H46 | L28: 第3ｸﾞﾙｰﾌﾟ | M28: =COUNTIF($L$44:$L$53,L28) -> 0 | U28: =U46 -> 第3ｸﾞﾙｰﾌﾟ | V28: =V46 | W28: =W46 | X28: =X46 -> 施工場所 | Y28: =Y46 | Z28: =Z46 | AG28: =AG46 -> 第3ｸﾞﾙｰﾌﾟ | AH28: =AH46 | AI28: =AI46 | AJ28: =AJ46 -> 施工場所 | AK28: =AK46 | AL28: =AL46 | AS28: =AS46 -> 第3ｸﾞﾙｰﾌﾟ | AT28: =AT46 | AU28: =AU46 | AV28: =AV46 -> 施工場所 | AW28: =AW46 | AX28: =AX46 | BE28: 第2ｸﾞﾙｰﾌﾟ | BF28: =IF(BF49="有",BF49&"("&BF52&"人)",BF49) -> 申請なし | BG28: =IF(BG49="有",BG49&"("&BG52&"人)",BG49) -> 申請なし | BH28: 障がい者雇用 | BN28: =BN46 -> 雇用② | BO28: =BO46 -> 雇用② | BP28: =BP46 -> 雇用②
A29: コピー専用行 | B29: 4 | C29: =C44 -> 第1ｸﾞﾙｰﾌﾟ | E29: =IF(D26="","",IF(D26=1,ROUND(3/5*ROUNDDOWN(0.9*IF(E26<70,0,IF(E26<73,1,IF(80<=E26,5,ROUNDDOWN(1.5+(3.5*(E26-73)/7),1)))),1),1),IF(E26<70,0,IF(E26<73,0.6,IF(80<=E26,3,ROUND(3/5*ROUNDDOWN(1.5+(3.5*(E26-73)/7),1),1)))))) | F29: =F47 -> 建設工事の種類 | G29: =G47 | H29: =H47 | I29: =I45 | J29: =J45 | L29: 合計 | M29: =M26+M27+M28 -> 0 | U29: =U44 -> 第1ｸﾞﾙｰﾌﾟ | W29: =IF(V26="","",IF(W26<70,0,IF(V26>1,HLOOKUP(W26,発注者入力シート!$AM$3:$AV$5,2)*2/5,IF(V26=1,HLOOKUP(W26,発注者入力シート!$AM$3:$AV$5,3)*2/5,"")))) | X29: =X47 -> 請負金額 | Y29: =Y47 | Z29: =Z47 | AG29: =AG44 -> 第1ｸﾞﾙｰﾌﾟ | AI29: =IF(AH26="","",IF(AI26<70,0,IF(AH26>1,HLOOKUP(AI26,発注者入力シート!$AM$3:$AV$5,2)*2/5,IF(AH26=1,HLOOKUP(AI26,発注者入力シート!$AM$3:$AV$5,3)*2/5,"")))) | AJ29: =AJ47 -> 請負金額 | AK29: =AK47 | AL29: =AL47 | AS29: =AS44 -> 第1ｸﾞﾙｰﾌﾟ | AU29: =IF(AT26="","",IF(AU26<70,0,IF(AT26>1,HLOOKUP(AU26,発注者入力シート!$AM$3:$AV$5,2)*2/5,IF(AT26=1,HLOOKUP(AU26,発注者入力シート!$AM$3:$AV$5,3)*2/5,"")))) | AV29: =AV47 -> 請負金額 | AW29: =AW47 | AX29: =AX47 | BE29: 従業員数 | BF29: =IF(BF49="無","",BF53) | BG29: =IF(BG49="無","",BG53) | BH29: =IF(BH47="","申請なし","雇用"&BH47&"人"&CHAR(10)&"義務数"&BH48&"人") -> 申請なし | BI29: =IF(BI47="","申請なし","雇用"&BI47&"人"&CHAR(10)&"義務数"&BI48&"人") -> 申請なし | BJ29: =IF(BJ47="","申請なし","雇用"&BJ47&"人"&CHAR(10)&"義務数"&BJ48&"人") -> 申請なし | BN29: =BN47 -> 申請なし | BO29: =BO47 -> 申請なし | BP29: =BP47 -> 申請なし
A30: コピー専用行 | B30: 5 | C30: =C45 -> 第2ｸﾞﾙｰﾌﾟ | E30: =IF(D27="","",IF(D27=1,ROUND(1/5*ROUNDDOWN(0.9*IF(E27<70,0,IF(E27<73,1,IF(80<=E27,5,ROUNDDOWN(1.5+(3.5*(E27-73)/7),1)))),1),1),IF(E27<70,0,IF(E27<73,0.2,IF(80<=E27,3,ROUND(1/5*ROUNDDOWN(1.5+(3.5*(E27-73)/7),1),1)))))) | F30: 工期 | G30: =G50&CHAR(10)&G51 | H30: =H50&CHAR(10)&H51 | I30: =I46 | J30: =J46 | U30: =U45 -> 第2ｸﾞﾙｰﾌﾟ | W30: =IF(V27="","",IF(W27<70,0,IF(V27>1,HLOOKUP(W27,発注者入力シート!$AM$3:$AV$5,2)*1/5,IF(V27=1,HLOOKUP(W27,発注者入力シート!$AM$3:$AV$5,3)*1/5,"")))) | X30: 工期 | Y30: =Y48&CHAR(10)&Y49 | Z30: =Z48&CHAR(10)&Z49 | AG30: =AG45 -> 第2ｸﾞﾙｰﾌﾟ | AI30: =IF(AH27="","",IF(AI27<70,0,IF(AH27>1,HLOOKUP(AI27,発注者入力シート!$AM$3:$AV$5,2)*1/5,IF(AH27=1,HLOOKUP(AI27,発注者入力シート!$AM$3:$AV$5,3)*1/5,"")))) | AJ30: 工期 | AK30: =AK48&CHAR(10)&AK49 | AL30: =AL48&CHAR(10)&AL49 | AS30: =AS45 -> 第2ｸﾞﾙｰﾌﾟ | AU30: =IF(AT27="","",IF(AU27<70,0,IF(AT27>1,HLOOKUP(AU27,発注者入力シート!$AM$3:$AV$5,2)*1/5,IF(AT27=1,HLOOKUP(AU27,発注者入力シート!$AM$3:$AV$5,3)*1/5,"")))) | AV30: 工期 | AW30: =AW48&CHAR(10)&AW49 | AX30: =AX48&CHAR(10)&AX49 | BE30: 第3ｸﾞﾙｰﾌﾟ | BF30: =IF(BF54="有",BF54&"("&BF57&"人)",BF54) -> 申請なし | BG30: =IF(BG54="有",BG54&"("&BG57&"人)",BG54) -> 申請なし | BH30: 育児・介護休業制度
A31: コピー専用行 | B31: 6 | C31: =C46 -> 第3ｸﾞﾙｰﾌﾟ | E31: =IF(D28="","",IF(D28=1,ROUND(1/5*ROUNDDOWN(0.9*IF(E28<70,0,IF(E28<73,1,IF(80<=E28,5,ROUNDDOWN(1.5+(3.5*(E28-73)/7),1)))),1),1),IF(E28<70,0,IF(E28<73,0.2,IF(80<=E28,3,ROUND(1/5*ROUNDDOWN(1.5+(3.5*(E28-73)/7),1),1)))))) | F31: 延床面積／構造種別 | G31: =G52&"／"&G53&" "&G54&" "&G55&" "&G56 -> ／ | H31: =H52&"／"&H53&" "&H54&" "&H55&" "&H56 -> ／ | I31: 工事種別／建設工事の種類 | J31: =J47&"／"&J48 -> ／ | U31: =U46 -> 第3ｸﾞﾙｰﾌﾟ | W31: =IF(V28="","",IF(W28<70,0,IF(V28>1,HLOOKUP(W28,発注者入力シート!$AM$3:$AV$5,2)*1/5,IF(V28=1,HLOOKUP(W28,発注者入力シート!$AM$3:$AV$5,3)*1/5,"")))) | X31: 工事種別／建設工事の種類 | Y31: =Y50&"／"&Y51 -> ／ | Z31: =Z50&"／"&Z51 -> ／ | AG31: =AG46 -> 第3ｸﾞﾙｰﾌﾟ | AI31: =IF(AH28="","",IF(AI28<70,0,IF(AH28>1,HLOOKUP(AI28,発注者入力シート!$AM$3:$AV$5,2)*1/5,IF(AH28=1,HLOOKUP(AI28,発注者入力シート!$AM$3:$AV$5,3)*1/5,"")))) | AJ31: 工事種別／建設工事の種類 | AK31: =AK50&"／"&AK51 -> ／ | AL31: =AL50&"／"&AL51 -> ／ | AS31: =AS46 -> 第3ｸﾞﾙｰﾌﾟ | AU31: =IF(AT28="","",IF(AU28<70,0,IF(AT28>1,HLOOKUP(AU28,発注者入力シート!$AM$3:$AV$5,2)*1/5,IF(AT28=1,HLOOKUP(AU28,発注者入力シート!$AM$3:$AV$5,3)*1/5,"")))) | AV31: 工事種別／建設工事の種類 | AW31: =AW50&"／"&AW51 -> ／ | AX31: =AX50&"／"&AX51 -> ／ | BE31: 従業員数 | BF31: =IF(BF54="無","",BF58) | BG31: =IF(BG54="無","",BG58) | BH31: =IF(AND(BH49="",BH50=""),"申請なし",IF(BH49="有","法を超える制度",IF(BH50="有","こっころ認定","無"))) -> 申請なし | BI31: =IF(AND(BI49="",BI50=""),"申請なし",IF(BI49="有","法を超える制度",IF(BI50="有","こっころ認定","無"))) -> 申請なし | BJ31: =IF(AND(BJ49="",BJ50=""),"申請なし",IF(BJ49="有","法を超える制度",IF(BJ50="有","こっころ認定","無"))) -> 申請なし
A32: コピー専用行 | B32: 7 | C32: 合計 | E32: =SUM(E29,E30,E31) -> 0 | F32: =F57 -> 工事成績 | G32: =G57 | H32: =H57 | U32: 合計 | W32: =SUM(W29,W30,W31) -> 0 | X32: 役職 工事成績 | Y32: =IF(Y52="","",Y52&CHAR(10)&"("&Y56&"点)") | Z32: =IF(Z52="","",Z52&CHAR(10)&"("&Z56&"点)") | AG32: 合計 | AI32: =SUM(AI29,AI30,AI31) -> 0 | AJ32: 役職 工事成績 | AK32: =IF(AK52="","",AK52&CHAR(10)&"("&AK56&"点)") | AL32: =IF(AL52="","",AL52&CHAR(10)&"("&AL56&"点)") | AS32: 合計 | AU32: =SUM(AU29,AU30,AU31) -> 0 | AV32: 役職 工事成績 | AW32: =IF(AW52="","",AW52&CHAR(10)&"("&AW56&"点)") | AX32: =IF(AX52="","",AX52&CHAR(10)&"("&AX56&"点)") | BH32: 若手技術者新規雇用
A33: コピー専用行 | B33: 8 | U33: =U47 -> 第1ｸﾞﾙｰﾌﾟ 配置なし | V33: =U48 -> 第2ｸﾞﾙｰﾌﾟ 配置なし | W33: =U49 -> 第3ｸﾞﾙｰﾌﾟ 配置なし | X33: 延床面積／構造種別 | Y33: =Y53&"／"&Y54&" "&Y55 -> ／ | Z33: =Z53&"／"&Z54&" "&Z55 -> ／ | AG33: =AG47 -> 第1ｸﾞﾙｰﾌﾟ 配置なし | AH33: =AG48 -> 第2ｸﾞﾙｰﾌﾟ 配置なし | AI33: =AG49 -> 第3ｸﾞﾙｰﾌﾟ 配置なし | AJ33: 延床面積／構造種別 | AK33: =AK53&"／"&AK54&" "&AK55 -> ／ | AL33: =AL53&"／"&AL54&" "&AL55 -> ／ | AS33: =AS47 -> 第1ｸﾞﾙｰﾌﾟ 配置なし | AT33: =AS48 -> 第2ｸﾞﾙｰﾌﾟ 配置なし | AU33: =AS49 -> 第3ｸﾞﾙｰﾌﾟ 配置なし | AV33: 延床面積／構造種別 | AW33: =AW53&"／"&AW54&" "&AW55 -> ／ | AX33: =AX53&"／"&AX54&" "&AX55 -> ／ | BH33: =BH51 -> 申請なし | BI33: =BI51 -> 申請なし | BJ33: =BJ51 -> 申請なし
U34: =IF(企業入力シート!C25="","配置なし","配置あり") -> 配置なし | V34: =IF(企業入力シート!C54="","配置なし","配置あり") -> 配置なし | W34: =IF(企業入力シート!C83="","配置なし","配置あり") -> 配置なし | X34: =IF(企業入力シート!C25="","配置なし","配置あり") -> 配置なし | AG34: =IF(企業入力シート!C26="","配置なし","配置あり") -> 配置なし | AH34: =IF(企業入力シート!C55="","配置なし","配置あり") -> 配置なし | AI34: =IF(企業入力シート!C84="","配置なし","配置あり") -> 配置なし | AJ34: =IF(企業入力シート!C26="","配置なし","配置あり") -> 配置なし | AS34: =IF(企業入力シート!C27="","配置なし","配置あり") -> 配置なし | AT34: =IF(企業入力シート!C56="","配置なし","配置あり") -> 配置なし | AU34: =IF(企業入力シート!C85="","配置なし","配置あり") -> 配置なし | AV34: =IF(企業入力シート!C27="","配置なし","配置あり") -> 配置なし
A36: 以下、集計専用表（コピー箇所ではありません）
B37: a0 | C37: 企業 | F37: 企業 | I37: 企業 | L37: 企業 | O37: 企業【建築】 | R37: 企業 | U37: 配置予定技術者① | X37: 配置予定技術者① | AA37: 配置予定技術者① | AD37: 配置予定技術者① | AG37: 配置予定技術者② | AJ37: 配置予定技術者② | AM37: 配置予定技術者② | AP37: 配置予定技術者② | AS37: 配置予定技術者③ | AV37: 配置予定技術者③ | AY37: 配置予定技術者③ | BB37: 配置予定技術者③ | BE37: 地域貢献・その他 | BH37: 地域貢献・その他 | BK37: 【電気工事】、【塗装工事】企業 | BN37: 地域貢献・その他 | BQ37: 地域貢献・その他 | BT37: 地域貢献・その他【建築】 | BW37: 地域貢献・その他 | BZ37: 地域貢献・その他 | CC37: 地域貢献・その他 | CF37: 地域貢献・その他 | CI37: 地理的条件 | CL37: 地理的条件
B38: a1 | C38: 工事成績評定点(JV) | F38: 施工実績 | I38: 優良工事表彰 | L38: 優良工事表彰(JV) | O38: 企業の継続能力開発（CPD)制度の参加登録 | R38: 予備欄 | U38: 工事成績評定点(JV) | X38: 施工経験 | AA38: 予備欄 | AD38: 予備欄 | AG38: 工事成績評定点（JV） | AJ38: 施工経験 | AM38: 予備欄① | AP38: 予備欄② | AS38: 工事成績評定点（JV） | AV38: 施工経験 | AY38: 予備欄① | BB38: 予備欄② | BE38: ボランティア（JV） | BH38: 労働福祉関連（JV） | BK38: 登録基幹技能者 | BN38: 若手技術者・従業員の新規雇用 | BQ38: 消防団協力事業所 | BT38: 応急危険度判定士の登録 | BW38: CCUSの活用 | BZ38: 予備欄 | CC38: 予備欄 | CF38: 予備欄 | CI38: 会社所在地
B39: a | C39: 完成年度 | D39: =IF('企業成績評定点 (JV用) '!D7="","",'企業成績評定点 (JV用) '!D7) -> 令和３年度から令和７年度（完成及び引き渡しが完了） | F39: 対象期間 | G39: =IF(同種工事施工実績!F7="","",同種工事施工実績!F7) -> 平成２８年度から入札公告日前日までに完成及び引き渡しが完了した工事 | I39: 対象年度・機関等 | J39: =IF(優良工事表彰!F6="","",優良工事表彰!F6) -> 島根県内の公共事業において、平成28年度から令和2年度に、島根県及び中国地方整備局発注工事で受けた建築一式工事の優良工事表彰（優良工事施工団体表彰） | L39: 対象年度・機関等 | M39: =IF('優良工事表彰（JV）'!A6="","",'優良工事表彰（JV）'!A6) -> 島根県内の公共事業において、令和４年度から令和８年度に、島根県及び中国地方整備局発注工事で受けた建築一式工事の優良工事表彰（優良工事施工団体表彰） | O39: 入札公告日前日におけるCPD制度に参加登録している社員数の合計 | U39: =IF('【建築】技術者成績評定点 (JV第1G用) '!C7="","",'【建築】技術者成績評定点 (JV第1G用) '!C7) -> 完成年度 | V39: =IF('【建築】技術者成績評定点 (JV第1G用) '!F7="","",'【建築】技術者成績評定点 (JV第1G用) '!F7) -> 令和３年度から令和７年度（完成及び引き渡しが完了） | X39: 対象年度・機関等 | Y39: =IF(同種工事施工経験!F6="","",同種工事施工経験!F6) -> 平成２８年度から入札公告日前日までに完成及び引き渡しが完了した島根県、島根県内の市町村又は国の機関（独立行政法人等を含みコリンズ登録があるものに限る。）発注工事 | AG39: =IF('【建築】技術者成績評定点 (JV第1G用) '!C7="","",'【建築】技術者成績評定点 (JV第1G用) '!C7) -> 完成年度 | AH39: =IF('【建築】技術者成績評定点 (JV第1G用) '!F7="","",'【建築】技術者成績評定点 (JV第1G用) '!F7) -> 令和３年度から令和７年度（完成及び引き渡しが完了） | AJ39: 対象年度・機関等 | AK39: =IF(同種工事施工経験!F6="","",同種工事施工経験!F6) -> 平成２８年度から入札公告日前日までに完成及び引き渡しが完了した島根県、島根県内の市町村又は国の機関（独立行政法人等を含みコリンズ登録があるものに限る。）発注工事 | AS39: =IF('【建築】技術者成績評定点 (JV第1G用) '!C7="","",'【建築】技術者成績評定点 (JV第1G用) '!C7) -> 完成年度 | AT39: =IF('【建築】技術者成績評定点 (JV第1G用) '!F7="","",'【建築】技術者成績評定点 (JV第1G用) '!F7) -> 令和３年度から令和７年度（完成及び引き渡しが完了） | AV39: 対象年度・機関等 | AW39: =IF(同種工事施工経験!F6="","",同種工事施工経験!F6) -> 平成２８年度から入札公告日前日までに完成及び引き渡しが完了した島根県、島根県内の市町村又は国の機関（独立行政法人等を含みコリンズ登録があるものに限る。）発注工事 | BE39: 対象 | BF39: =IF('ボランティア (JV)'!B7="","",'ボランティア (JV)'!B7) -> 令和６年度及び令和７年度における島根県内で実施されたボランティア活動又はハートフルしまねへの参加実績 | BH39: 対象 | BI39: 入札公告日前日時点での取り組み状況 | BK39: =IF(登録基幹技能者!B9="","",登録基幹技能者!B9) -> 登録○○○○基幹技能者の現場への配置 | BN39: 対象 | BO39: ='若手技術者・従業員新規雇用（JV)'!B7 -> 令和６年4月1日以降に、若手技術者・若手従業員（３０歳未満の者）の１人以上の新規雇用があること。 | BQ39: 対象 | BR39: =IF(消防団!B9="","",消防団!B9) -> 入札公告日前日時点（令和8年10月14日時点）での消防団協力事業所の認定状況 | BT39: 入札公告日前日における会社に所属する「島根県地震被災建築物応急危険度判定士」に登録している社員数の合計 | BW39: 対象 | BX39: 当該工事での建設キャリアアップシステム（CCUS）の活用 | CI39: 対象 | CJ39: =IF(会社所在地!B10="","",会社所在地!B10) -> 入札公告日前日において、評価対象地域内に建設業法で規定する主たる営業所（本店）または従たる営業所（支店、営業所）がある者
B40: b | C40: 発注機関 | D40: =IF('企業成績評定点 (JV用) '!D8="","",'企業成績評定点 (JV用) '!D8) -> 島根県（総務部(企業局及び病院局契約を含み、企業局及び病院局発注工事は除く。)、農林水産部、土木部） | F40: 同種工事 | G40: =IF(同種工事施工実績!F11="","",同種工事施工実績!F11) -> １契約で税込み最終金額が１１億円以上の建築一式工事で、非木造の建築物に係るもの（解体工事を除く。）をいう。 | U40: =IF('【建築】技術者成績評定点 (JV第1G用) '!C8="","",'【建築】技術者成績評定点 (JV第1G用) '!C8) -> 発注機関 | V40: =IF('【建築】技術者成績評定点 (JV第1G用) '!F8="","",'【建築】技術者成績評定点 (JV第1G用) '!F8) -> 島根県（総務部（企業局及び病院局契約を含み、企業局及び病院局発注工事は除く。)、農林水産部、土木部） | X40: 同種工事 | Y40: =IF(同種工事施工経験!F8="","",同種工事施工経験!F8) -> １契約で税込み最終金額が５億７，０００万円以上の建築一式工事で、非木造の建築物に係るもの（解体工事を除く。）をいう。 | AG40: =IF('【建築】技術者成績評定点 (JV第1G用) '!C8="","",'【建築】技術者成績評定点 (JV第1G用) '!C8) -> 発注機関 | AH40: =IF('【建築】技術者成績評定点 (JV第1G用) '!F8="","",'【建築】技術者成績評定点 (JV第1G用) '!F8) -> 島根県（総務部（企業局及び病院局契約を含み、企業局及び病院局発注工事は除く。)、農林水産部、土木部） | AJ40: 同種工事 | AK40: =IF(同種工事施工経験!F8="","",同種工事施工経験!F8) -> １契約で税込み最終金額が５億７，０００万円以上の建築一式工事で、非木造の建築物に係るもの（解体工事を除く。）をいう。 | AS40: =IF('【建築】技術者成績評定点 (JV第1G用) '!C8="","",'【建築】技術者成績評定点 (JV第1G用) '!C8) -> 発注機関 | AT40: =IF('【建築】技術者成績評定点 (JV第1G用) '!F8="","",'【建築】技術者成績評定点 (JV第1G用) '!F8) -> 島根県（総務部（企業局及び病院局契約を含み、企業局及び病院局発注工事は除く。)、農林水産部、土木部） | AV40: 同種工事 | AW40: =IF(同種工事施工経験!F8="","",同種工事施工経験!F8) -> １契約で税込み最終金額が５億７，０００万円以上の建築一式工事で、非木造の建築物に係るもの（解体工事を除く。）をいう。
B41: c | C41: 工事種別 | D41: =IF('企業成績評定点 (JV用) '!D9="","",'企業成績評定点 (JV用) '!D9) -> 一般建築工事 | F41: 工事種別 | G41: =IF(同種工事施工実績!F9="","",同種工事施工実績!F9) -> 一般建築工事 | I41: 工事種別 | J41: =IF(優良工事表彰!F9="","",優良工事表彰!F9) -> 一般建築工事 | U41: =IF('【建築】技術者成績評定点 (JV第1G用) '!C9="","",'【建築】技術者成績評定点 (JV第1G用) '!C9) -> 工事種別 | V41: =IF('【建築】技術者成績評定点 (JV第1G用) '!F9="","",'【建築】技術者成績評定点 (JV第1G用) '!F9) -> 一般建築工事 | X41: 工事種別 | Y41: =IF(同種工事施工経験!F11="","",同種工事施工経験!F11) -> 一般建築工事 | AG41: =IF('【建築】技術者成績評定点 (JV第1G用) '!C9="","",'【建築】技術者成績評定点 (JV第1G用) '!C9) -> 工事種別 | AH41: =IF('【建築】技術者成績評定点 (JV第1G用) '!F9="","",'【建築】技術者成績評定点 (JV第1G用) '!F9) -> 一般建築工事 | AJ41: 工事種別 | AK41: =IF(同種工事施工経験!F11="","",同種工事施工経験!F11) -> 一般建築工事 | AS41: =IF('【建築】技術者成績評定点 (JV第1G用) '!C9="","",'【建築】技術者成績評定点 (JV第1G用) '!C9) -> 工事種別 | AT41: =IF('【建築】技術者成績評定点 (JV第1G用) '!F9="","",'【建築】技術者成績評定点 (JV第1G用) '!F9) -> 一般建築工事 | AV41: 工事種別 | AW41: =IF(同種工事施工経験!F11="","",同種工事施工経験!F11) -> 一般建築工事
B42: d | C42: 建設工事の種類 | D42: =IF('企業成績評定点 (JV用) '!D10="","",'企業成績評定点 (JV用) '!D10) -> 建築一式工事 | F42: 建設工事の種類 | G42: =IF(同種工事施工実績!F10="","",同種工事施工実績!F10) -> 建築一式工事 | I42: 建設工事の種類 | J42: =IF(優良工事表彰!F10="","",優良工事表彰!F10) -> 建築一式工事 | U42: =IF('【建築】技術者成績評定点 (JV第1G用) '!C10="","",'【建築】技術者成績評定点 (JV第1G用) '!C10) -> 建設工事の種類 | V42: =IF('【建築】技術者成績評定点 (JV第1G用) '!F10="","",'【建築】技術者成績評定点 (JV第1G用) '!F10) -> 建築一式工事 | X42: 建設工事の種類 | Y42: =IF(同種工事施工経験!F12="","",同種工事施工経験!F12) -> 建築一式工事 | AG42: =IF('【建築】技術者成績評定点 (JV第1G用) '!C10="","",'【建築】技術者成績評定点 (JV第1G用) '!C10) -> 建設工事の種類 | AH42: =IF('【建築】技術者成績評定点 (JV第1G用) '!F10="","",'【建築】技術者成績評定点 (JV第1G用) '!F10) -> 建築一式工事 | AJ42: 建設工事の種類 | AK42: =IF(同種工事施工経験!F12="","",同種工事施工経験!F12) -> 建築一式工事 | AS42: =IF('【建築】技術者成績評定点 (JV第1G用) '!C10="","",'【建築】技術者成績評定点 (JV第1G用) '!C10) -> 建設工事の種類 | AT42: =IF('【建築】技術者成績評定点 (JV第1G用) '!F10="","",'【建築】技術者成績評定点 (JV第1G用) '!F10) -> 建築一式工事 | AV42: 建設工事の種類 | AW42: =IF(同種工事施工経験!F12="","",同種工事施工経験!F12) -> 建築一式工事 | CI42: 評価地域 | CJ42: =IF(会社所在地!D13="","",会社所在地!D13) -> ○○県土整備事務所管内
...

Sheet 表紙
A1: 様式－ | B1: 1 | S1: 着色セルの凡例
M2: 提出日 | N2: =IF(企業入力シート!C11="","",企業入力シート!C11) -> 46235 | S2: （企業）
A3: （ 標準型 総合評価方式 ） | T3: ：「企業入力シート」で入力（数式リンク有）
A4: 総 合 評 価 技 術 資 料 | T4: ：セルに直接入力が必要な箇所
A5: 発注者
A6: 島根県知事 様 | S6: （発注者）
T7: ：「発注者入力シート」で入力（数式リンク有）
C8: 共同企業体名 | F8: =IF(企業入力シート!C5="","",企業入力シート!C5) | T8: ：セルに直接入力が必要な箇所
G9: （代表者）
G11: 住所 | J11: =IF(企業入力シート!C13="","",企業入力シート!C13)
S12: 【印刷について】
G13: 商号又は名称 | J13: =IF(企業入力シート!C14="","",企業入力シート!C14) -> ○○建設 | S13: このシートは「ページ設定」で「白黒印刷」と「印刷範囲」が設定されています。
G14: 代表者氏名 | J14: =IF(企業入力シート!C15="","",企業入力シート!C15) -> ○○ ○○
A17: =CONCATENATE(" ","令和",(YEAR(発注者入力シート!C7)-2018),"年",MONTH(発注者入力シート!C7),"月",DAY(発注者入力シート!C7),"日付けで入札公告のありました下記工事について、別添のとおり書類を添えて提出いたします。") -> 令和8年10月15日付けで入札公告のありました下記工事について、別添のとおり書類を添えて提出いたします。
A20: １ 工事名 | C20: =発注者入力シート!C10 -> 浜山公園陸上競技場メインスタンド増築外（建築）工事
A22: ２ 提出書類（下記項目の該当するもの）
A23: =IF(発注者入力シート!C24="","#N/A"," ○技術提案（ "&発注者入力シート!C24&" ） （様式-２）") -> ○技術提案（ コンクリート工事の品質向上 ） （様式-２）
A24: =IF(発注者入力シート!C25="","#N/A"," ○技術提案（ "&発注者入力シート!C25&" ） （様式-３）") -> ○技術提案（ 工事中の環境対策 ） （様式-３）
A25: =IF(発注者入力シート!C26="","#N/A"," ○技術提案（ "&発注者入力シート!C26&" ） （様式-４）") -> ○技術提案（ 工事中の安全対策 ） （様式-４）
A26: =IF(発注者入力シート!C22="","#N/A"," ○技術提案（ "&発注者入力シート!C22&" ） （様式-２）") -> #N/A
A27: =IF(発注者入力シート!C23="","#N/A"," ○技術提案（ "&発注者入力シート!C23&" ） （様式-２）") -> #N/A
A28: =IF(発注者入力シート!C20="","#N/A"," ○技術提案（ "&発注者入力シート!C20&" ） （様式-２）") -> #N/A
A29: =IF(発注者入力シート!C21="","#N/A"," ○技術提案（ "&発注者入力シート!C21&" ） （様式-２）") -> #N/A
A30: =IF(発注者入力シート!C27="","#N/A"," ○技術提案（ "&発注者入力シート!C27&" ） （様式-２）") -> #N/A | S30: 技能士活用が必要か要確認！
A31: =IF(AND(IFERROR(OR(発注者入力シート!$L$62="３",発注者入力シート!$L$63="３"),FALSE),企業入力シート!$L$100=3),"",IF(COUNTIF($A$50:$A$76,"*"&VLOOKUP("３",発注者入力シート!$L$41:$N$75,3,FALSE)&"*")>=3,"",INDEX(発注者入力シート!$L$40:$O$81,MATCH("３",発注者入力シート!$L$40:$L$81,0),4))) -> #N/A
A32: =IF(AND(IFERROR(OR(発注者入力シート!$L$62="４",発注者入力シート!$L$63="４"),FALSE),企業入力シート!$L$100=3),"",IF(COUNTIF($A$50:$A$76,"*"&VLOOKUP("４",発注者入力シート!$L$41:$N$75,3,FALSE)&"*")>=3,"",INDEX(発注者入力シート!$L$40:$O$81,MATCH("４",発注者入力シート!$L$40:$L$81,0),4))) -> #N/A
A33: =IF(AND(IFERROR(OR(発注者入力シート!$L$62="５",発注者入力シート!$L$63="５"),FALSE),企業入力シート!$L$100=3),"",IF(COUNTIF($A$50:$A$76,"*"&VLOOKUP("５",発注者入力シート!$L$41:$N$75,3,FALSE)&"*")>=3,"",INDEX(発注者入力シート!$L$40:$O$81,MATCH("５",発注者入力シート!$L$40:$L$81,0),4))) -> ○企業の工事成績評定点 （様式-５-１、様式-５-２）
A34: =IF(AND(IFERROR(OR(発注者入力シート!$L$62="６",発注者入力シート!$L$63="６"),FALSE),企業入力シート!$L$100=3),"",IF(COUNTIF($A$50:$A$76,"*"&VLOOKUP("６",発注者入力シート!$L$41:$N$75,3,FALSE)&"*")>=3,"",INDEX(発注者入力シート!$L$40:$O$81,MATCH("６",発注者入力シート!$L$40:$L$81,0),4))) -> ○企業の同種工事の施工実績 （様式-６）
A35: =IF(AND(IFERROR(OR(発注者入力シート!$L$62="７",発注者入力シート!$L$63="７"),FALSE),企業入力シート!$L$100=3),"",IF(COUNTIF($A$50:$A$76,"*"&VLOOKUP("７",発注者入力シート!$L$41:$N$75,3,FALSE)&"*")>=3,"",INDEX(発注者入力シート!$L$40:$O$81,MATCH("７",発注者入力シート!$L$40:$L$81,0),4))) -> ○企業の優良工事表彰（優良工事施工団体表彰） （様式-７）
A36: =IF(AND(IFERROR(OR(発注者入力シート!$L$62="８",発注者入力シート!$L$63="８"),FALSE),企業入力シート!$L$100=3),"",IF(COUNTIF($A$50:$A$76,"*"&VLOOKUP("８",発注者入力シート!$L$41:$N$75,3,FALSE)&"*")>=3,"",INDEX(発注者入力シート!$L$40:$O$81,MATCH("８",発注者入力シート!$L$40:$L$81,0),4))) -> ○企業の継続能力（CPD）制度の参加登録 （様式-８）
A37: =IF(AND(IFERROR(OR(発注者入力シート!$L$62="９",発注者入力シート!$L$63="９"),FALSE),企業入力シート!$L$100=3),"",IF(COUNTIF($A$50:$A$76,"*"&VLOOKUP("９",発注者入力シート!$L$41:$N$75,3,FALSE)&"*")>=3,"",INDEX(発注者入力シート!$L$40:$O$81,MATCH("９",発注者入力シート!$L$40:$L$81,0),4))) -> ○配置予定技術者の工事成績評定点 （様式-９-１、様式-９-２）
A38: =IF(AND(IFERROR(OR(発注者入力シート!$L$62="１０",発注者入力シート!$L$63="１０"),FALSE),企業入力シート!$L$100=3),"",IF(COUNTIF($A$50:$A$76,"*"&VLOOKUP("１０",発注者入力シート!$L$41:$N$75,3,FALSE)&"*")>=3,"",INDEX(発注者入力シート!$L$40:$O$81,MATCH("１０",発注者入力シート!$L$40:$L$81,0),4))) -> ○配置予定技術者の同種工事の施工経験 （様式-１０）
A39: =IF(AND(IFERROR(OR(発注者入力シート!$L$62="１１",発注者入力シート!$L$63="１１"),FALSE),企業入力シート!$L$100=3),"",IF(COUNTIF($A$50:$A$76,"*"&VLOOKUP("１１",発注者入力シート!$L$41:$N$75,3,FALSE)&"*")>=3,"",INDEX(発注者入力シート!$L$40:$O$81,MATCH("１１",発注者入力シート!$L$40:$L$81,0),4))) -> ○配置予定技術者の継続学習 （様式-１１）
A40: =IF(AND(IFERROR(OR(発注者入力シート!$L$62="１２",発注者入力シート!$L$63="１２"),FALSE),企業入力シート!$L$100=3),"",IF(COUNTIF($A$50:$A$76,"*"&VLOOKUP("１２",発注者入力シート!$L$41:$N$75,3,FALSE)&"*")>=3,"",INDEX(発注者入力シート!$L$40:$O$81,MATCH("１２",発注者入力シート!$L$40:$L$81,0),4))) -> ○ボランティア活動又はハートフルしまねへの参加実績 （様式-１２）
A41: =IF(AND(IFERROR(OR(発注者入力シート!$L$62="１３",発注者入力シート!$L$63="１３"),FALSE),企業入力シート!$L$100=3),"",IF(COUNTIF($A$50:$A$76,"*"&VLOOKUP("１３",発注者入力シート!$L$41:$N$75,3,FALSE)&"*")>=3,"",INDEX(発注者入力シート!$L$40:$O$81,MATCH("１３",発注者入力シート!$L$40:$L$81,0),4))) -> ○労働福祉関連の状況(a 障がい者雇用の実態) （様式-１３）
A42: =IF(AND(IFERROR(OR(発注者入力シート!$L$62="１４",発注者入力シート!$L$63="１４"),FALSE),企業入力シート!$L$100=3),"",IF(COUNTIF($A$50:$A$76,"*"&VLOOKUP("１４",発注者入力シート!$L$41:$N$75,3,FALSE)&"*")>=3,"",INDEX(発注者入力シート!$L$40:$O$81,MATCH("１４",発注者入力シート!$L$40:$L$81,0),4))) -> ○労働福祉関連の状況(b 育児・介護休業に関する制度) （様式-１４）
A43: =IF(AND(IFERROR(OR(発注者入力シート!$L$62="１５",発注者入力シート!$L$63="１５"),FALSE),企業入力シート!$L$100=3),"",IF(COUNTIF($A$50:$A$76,"*"&VLOOKUP("１５",発注者入力シート!$L$41:$N$75,3,FALSE)&"*")>=3,"",INDEX(発注者入力シート!$L$40:$O$81,MATCH("１５",発注者入力シート!$L$40:$L$81,0),4))) -> ○育児・介護休業に関する制度 チェック表 （様式-１５）
A44: =IF(AND(IFERROR(OR(発注者入力シート!$L$62="１６",発注者入力シート!$L$63="１６"),FALSE),企業入力シート!$L$100=3),"",IF(COUNTIF($A$50:$A$76,"*"&VLOOKUP("１６",発注者入力シート!$L$41:$N$75,3,FALSE)&"*")>=3,"",INDEX(発注者入力シート!$L$40:$O$81,MATCH("１６",発注者入力シート!$L$40:$L$81,0),4))) -> ○若手技術者・若手従業員の新規雇用 （様式-１６）
A45: =IF(AND(IFERROR(OR(発注者入力シート!$L$62="１７",発注者入力シート!$L$63="１７"),FALSE),企業入力シート!$L$100=3),"",IF(COUNTIF($A$50:$A$76,"*"&VLOOKUP("１７",発注者入力シート!$L$41:$N$75,3,FALSE)&"*")>=3,"",INDEX(発注者入力シート!$L$40:$O$81,MATCH("１７",発注者入力シート!$L$40:$L$81,0),4))) -> ○島根県地震被災建築物応急危険度判定士の登録 （様式-１７）
A46: =IF(AND(IFERROR(OR(発注者入力シート!$L$62="１８",発注者入力シート!$L$63="１８"),FALSE),企業入力シート!$L$100=3),"",IF(COUNTIF($A$50:$A$76,"*"&VLOOKUP("１８",発注者入力シート!$L$41:$N$75,3,FALSE)&"*")>=3,"",INDEX(発注者入力シート!$L$40:$O$81,MATCH("１８",発注者入力シート!$L$40:$L$81,0),4))) -> ○島根県被災住宅応急復旧相談員の登録 （様式-１８）
...

Sheet 技術提案ｂ①
A1: =CONCATENATE("（様式－",発注者入力シート!E20,"）") -> （様式－） | U1: 着色セルの凡例
A2: =CONCATENATE("評価項目",発注者入力シート!F20,"－",発注者入力シート!G20) -> 評価項目－ | F2: 企業体名： | H2: =IF(企業入力シート!C5="","",企業入力シート!C5) | U2: （企業）
V3: ：「企業入力シート」で入力（数式リンク有）
A4: 技術提案 | V4: ：セルに直接入力もしくはリストから選択が必要な箇所
A5: 課題： | B5: =IF(発注者入力シート!C20="","",発注者入力シート!C20)
A6: 技術提案の有無 | H6: （会社記載欄：必須） | U6: （発注者）
M7: 無の場合（標準案での施工） | V7: ：「発注者入力シート」で入力（数式リンク有）
A8: 技術提案が採用されなかった場合の標準案での施工の意志の有無 | H8: （会社記載欄：上表で『有』と選択した場合のみ必須） | V8: ：セルに直接入力が必要な箇所
A10: （発注者記載欄）
A11: 技術提案の記載方法等について | U11: 【印刷について】
A12: ・ | B12: 標準案は、入札説明書本文を参照すること。 | U12: このシートは「ページ設定」で「白黒印刷」と「印刷範囲」が設定されています。
A13: ・ | B13: 記載する内容は説明の要点（目的、具体的な手法＜施工数量、施工位置、施工範囲、施工期間、使用材料、使用機械等＞、効果、技術的な根拠、標準案に対する優位性等）が分かり易いようにまとめることとし、設定項目毎の提案は２個までとする。 | U13: 技術提案記載欄より上の行は、印刷タイトルの設定をしています。
U14: 様式内の吹出しコメントは印刷されません。
A16: ・ | B16: 技術提案が「有」の場合、その提案が採用されなかった場合の標準案での施工の意志の記載がない又は「無」と記載すると、標準点を０点とする。 | U16: 注意事項
U17: 記入欄が不足する場合は、行を挿入してください。
A18: ・ | B18: 技術提案がない場合は、技術評価点の減点対象とする。 | U18: 企業記入欄のセルの解除はしないでください。
A19: 技術提案がある場合、以下に記載する（会社記載欄） | P19: ※評価結果 | U19: 提出資料が２P以上になる場合、体裁を整えた上で提出してください。
A20: 1. | B20: 使用材料 | U20: 文字切れがないか必ず確認してください。
A21: ① ◯◯◯◯◯ （現場特性・概要）（時期、期間）（位置、範囲）（内容《誰が･何を･どうする》、数量、材料、機械等）（目的、効果、優位性）（効果の技術的根拠）（その他）
U22: 一つの提案内容（同一枠内）に複数提案が記載されている場合、「受発注者協議による実施の可能性」について、備考欄へ詳細に記入すること。（発注者）
A25: ② ◯◯◯◯◯ （現場特性・概要）（時期、期間）（位置、範囲）（内容《誰が･何を･どうする》、数量、材料、機械等）（目的、効果、優位性）（効果の技術的根拠）（その他） | U25: 【複数提案で○、△、×が混在する場合】
U26: 例 | V26: 評価 | W26: 履行義務 | Y26: 受発注者協議による実施の可能性
U27: ○、○ | V27: ○ | W27: すべて履行義務あり | Y27: －
U28: ○、△ | V28: △ | W28: 履行義務なし | Y28: すべて実施可能。
A29: 2. | B29: 使用材料 | U29: ○、× | V29: × | W29: 履行義務なし | Y29: ×は実施を認めない。○は実施可能。
A30: ① ◯◯◯◯◯ （現場特性・概要）（時期、期間）（位置、範囲）（内容《誰が･何を･どうする》、数量、材料、機械等）（目的、効果、優位性）（効果の技術的根拠）（その他） | U30: △、× | V30: × | W30: 履行義務なし | Y30: ×は実施を認めない。△は実施可能。
A34: ② ◯◯◯◯◯ （現場特性・概要）（時期、期間）（位置、範囲）（内容《誰が･何を･どうする》、数量、材料、機械等）（目的、効果、優位性）（効果の技術的根拠）（その他）
A38: 3. | B38: 使用材料
A39: ① ◯◯◯◯◯ （現場特性・概要）（時期、期間）（位置、範囲）（内容《誰が･何を･どうする》、数量、材料、機械等）（目的、効果、優位性）（効果の技術的根拠）（その他）
A43: ② ◯◯◯◯◯ （現場特性・概要）（時期、期間）（位置、範囲）（内容《誰が･何を･どうする》、数量、材料、機械等）（目的、効果、優位性）（効果の技術的根拠）（その他）
A47: 4. | B47: 使用材料
A48: ① ◯◯◯◯◯ （現場特性・概要）（時期、期間）（位置、範囲）（内容《誰が･何を･どうする》、数量、材料、機械等）（目的、効果、優位性）（効果の技術的根拠）（その他）
A52: ② ◯◯◯◯◯ （現場特性・概要）（時期、期間）（位置、範囲）（内容《誰が･何を･どうする》、数量、材料、機械等）（目的、効果、優位性）（効果の技術的根拠）（その他）
A56: ※備考
A58: ※印の欄には記入しないでください。（発注者記入欄）
A59: ※「○（評価する）」とした提案以外については、履行義務なしとする。「×」とした提案は実施を認めない。

Sheet 技術提案ｂ②
A1: =CONCATENATE("（様式－",発注者入力シート!E21,"）") -> （様式－） | U1: 着色セルの凡例
A2: =CONCATENATE("評価項目",発注者入力シート!F21,"－",発注者入力シート!G21) -> 評価項目－ | F2: 企業体名： | H2: =IF(企業入力シート!C5="","",企業入力シート!C5) | U2: （企業）
V3: ：「企業入力シート」で入力（数式リンク有）
A4: 技術提案 | V4: ：セルに直接入力もしくはリストから選択が必要な箇所
A5: 課題： | B5: =IF(発注者入力シート!C21="","",発注者入力シート!C21)
A6: 技術提案の有無 | H6: （会社記載欄：必須） | U6: （発注者）
M7: 無の場合（標準案での施工） | V7: ：「発注者入力シート」で入力（数式リンク有）
A8: 技術提案が採用されなかった場合の標準案での施工の意志の有無 | H8: （会社記載欄：上表で『有』と選択した場合のみ必須） | V8: ：セルに直接入力が必要な箇所
A10: （発注者記載欄）
A11: 技術提案の記載方法等について | U11: 【印刷について】
A12: ・ | B12: 標準案は、入札説明書本文を参照すること。 | U12: このシートは「ページ設定」で「白黒印刷」と「印刷範囲」が設定されています。
A13: ・ | B13: 記載する内容は説明の要点（目的、具体的な手法＜施工数量、施工位置、施工範囲、施工期間、使用材料、使用機械等＞、効果、技術的な根拠、標準案に対する優位性等）が分かり易いようにまとめることとし、設定項目毎の提案は２個までとする。 | U13: 技術提案記載欄より上の行は、印刷タイトルの設定をしています。
U14: 様式内の吹出しコメントは印刷されません。
A16: ・ | B16: 技術提案が「有」の場合、その提案が採用されなかった場合の標準案での施工の意志の記載がない又は「無」と記載すると、標準点を０点とする。 | U16: 注意事項
U17: 記入欄が不足する場合は、行を挿入してください。
A18: ・ | B18: 技術提案がない場合は、技術評価点の減点対象とする。 | U18: 企業記入欄のセルの解除はしないでください。
A19: 技術提案がある場合、以下に記載する（会社記載欄） | P19: ※評価結果 | U19: 提出資料が２P以上になる場合、体裁を整えた上で提出してください。
A20: 1. | B20: 使用材料 | U20: 文字切れがないか必ず確認してください。
A21: ① ◯◯◯◯◯ （現場特性・概要）（時期、期間）（位置、範囲）（内容《誰が･何を･どうする》、数量、材料、機械等）（目的、効果、優位性）（効果の技術的根拠）（その他）
U22: 一つの提案内容（同一枠内）に複数提案が記載されている場合、「受発注者協議による実施の可能性」について、備考欄へ詳細に記入すること。（発注者）
A25: ② ◯◯◯◯◯ （現場特性・概要）（時期、期間）（位置、範囲）（内容《誰が･何を･どうする》、数量、材料、機械等）（目的、効果、優位性）（効果の技術的根拠）（その他） | U25: 【複数提案で○、△、×が混在する場合】
U26: 例 | V26: 評価 | W26: 履行義務 | Y26: 受発注者協議による実施の可能性
U27: ○、○ | V27: ○ | W27: すべて履行義務あり | Y27: －
U28: ○、△ | V28: △ | W28: 履行義務なし | Y28: すべて実施可能。
A29: 2. | B29: 使用材料 | U29: ○、× | V29: × | W29: 履行義務なし | Y29: ×は実施を認めない。○は実施可能。
A30: ① ◯◯◯◯◯ （現場特性・概要）（時期、期間）（位置、範囲）（内容《誰が･何を･どうする》、数量、材料、機械等）（目的、効果、優位性）（効果の技術的根拠）（その他） | U30: △、× | V30: × | W30: 履行義務なし | Y30: ×は実施を認めない。△は実施可能。
A34: ② ◯◯◯◯◯ （現場特性・概要）（時期、期間）（位置、範囲）（内容《誰が･何を･どうする》、数量、材料、機械等）（目的、効果、優位性）（効果の技術的根拠）（その他）
A38: 3. | B38: 使用材料
A39: ① ◯◯◯◯◯ （現場特性・概要）（時期、期間）（位置、範囲）（内容《誰が･何を･どうする》、数量、材料、機械等）（目的、効果、優位性）（効果の技術的根拠）（その他）
A43: ② ◯◯◯◯◯ （現場特性・概要）（時期、期間）（位置、範囲）（内容《誰が･何を･どうする》、数量、材料、機械等）（目的、効果、優位性）（効果の技術的根拠）（その他）
A47: 4. | B47: 使用材料
A48: ① ◯◯◯◯◯ （現場特性・概要）（時期、期間）（位置、範囲）（内容《誰が･何を･どうする》、数量、材料、機械等）（目的、効果、優位性）（効果の技術的根拠）（その他）
A52: ② ◯◯◯◯◯ （現場特性・概要）（時期、期間）（位置、範囲）（内容《誰が･何を･どうする》、数量、材料、機械等）（目的、効果、優位性）（効果の技術的根拠）（その他）
A56: ※備考
A58: ※印の欄には記入しないでください。（発注者記入欄）
A59: ※「○（評価する）」とした提案以外については、履行義務なしとする。「×」とした提案は実施を認めない。

Sheet 技術提案ｂ③
A1: =CONCATENATE("（様式－",発注者入力シート!E22,"）") -> （様式－） | U1: 着色セルの凡例
A2: =CONCATENATE("評価項目",発注者入力シート!F22,"－",発注者入力シート!G22) -> 評価項目－ | F2: 企業体名： | H2: =IF(企業入力シート!C5="","",企業入力シート!C5) | U2: （企業）
V3: ：「企業入力シート」で入力（数式リンク有）
A4: 技術提案 | V4: ：セルに直接入力もしくはリストから選択が必要な箇所
A5: 課題： | B5: =IF(発注者入力シート!C22="","",発注者入力シート!C22)
A6: 技術提案の有無 | H6: （会社記載欄：必須） | U6: （発注者）
M7: 無の場合（標準案での施工） | V7: ：「発注者入力シート」で入力（数式リンク有）
A8: 技術提案が採用されなかった場合の標準案での施工の意志の有無 | H8: （会社記載欄：上表で『有』と選択した場合のみ必須） | V8: ：セルに直接入力が必要な箇所
A10: （発注者記載欄）
A11: 技術提案の記載方法等について | U11: 【印刷について】
A12: ・ | B12: 標準案は、入札説明書本文を参照すること。 | U12: このシートは「ページ設定」で「白黒印刷」と「印刷範囲」が設定されています。
A13: ・ | B13: 記載する内容は説明の要点（目的、具体的な手法＜施工数量、施工位置、施工範囲、施工期間、使用材料、使用機械等＞、効果、技術的な根拠、標準案に対する優位性等）が分かり易いようにまとめることとし、設定項目毎の提案は２個までとする。 | U13: 技術提案記載欄より上の行は、印刷タイトルの設定をしています。
U14: 様式内の吹出しコメントは印刷されません。
