Workbook
Name 【企業】評価項目: [1]発注者入力シート!$L$6:$L$13
Name 【企業】評価項目: [2]発注者入力シート!$L$6:$L$13
Name 【企業】評価項目: [3]発注者入力シート!$L$6:$L$13
Name 【企業】評価項目: 発注者入力シート!$L$6:$L$13
Name 【技術者】評価項目: [1]発注者入力シート!$M$6:$M$12
Name 【技術者】評価項目: [2]発注者入力シート!$M$6:$M$12
Name 【技術者】評価項目: [3]発注者入力シート!$M$6:$M$12
Name 【技術者】評価項目: 発注者入力シート!$M$6:$M$12
Name 【地域貢献】評価項目: [1]発注者入力シート!$N$6:$N$25
Name 【地域貢献】評価項目: [2]発注者入力シート!$N$6:$N$29
Name 【地域貢献】評価項目: [3]発注者入力シート!$N$6:$N$29
Name 【地域貢献】評価項目: 発注者入力シート!$N$6:$N$25
Name 【地理的条件】評価項目: [1]発注者入力シート!$O$6:$O$11
Name 【地理的条件】評価項目: [2]発注者入力シート!$O$6:$O$11
Name 【地理的条件】評価項目: [3]発注者入力シート!$O$6:$O$11
Name 【地理的条件】評価項目: 発注者入力シート!$O$6:$O$11
Name 企業回答: [1]発注者入力シート!$Z$6:$Z$9
Name 企業回答: 発注者入力シート!$Z$6:$Z$9
Name 企業回答1: [1]発注者入力シート!$V$6:$V$8
Name 企業回答1: [2]発注者入力シート!$V$6:$V$8
Name 企業回答1: [3]発注者入力シート!$V$6:$V$8
Name 企業回答1: 発注者入力シート!$V$6:$V$8
Name 企業回答10: [1]発注者入力シート!$AE$6:$AE$9
Name 企業回答10: 発注者入力シート!$AE$6:$AE$9
Name 企業回答11: [2]発注者入力シート!$AF$6:$AF$7
Name 企業回答11: [3]発注者入力シート!$AF$6:$AF$7
Name 企業回答11: 発注者入力シート!$AF$6:$AF$9
Name 企業回答12: [1]発注者入力シート!$AG$6:$AG$9
Name 企業回答12: 発注者入力シート!$AG$6:$AG$9
Name 企業回答13: [4]発注者入力シート!$AH$6:$AH$8
Name 企業回答13: [4]発注者入力シート!$AH$6:$AH$8
Name 企業回答13: [3]発注者入力シート!$AH$6:$AH$8
Name 企業回答13: 発注者入力シート!$AH$6:$AH$9
Name 企業回答14: [5]発注者入力シート!$AI$6:$AI$8
Name 企業回答14: [4]発注者入力シート!$AI$6:$AI$9
Name 企業回答14: [3]発注者入力シート!$AI$6:$AI$9
Name 企業回答14: 発注者入力シート!$AI$5:$AI$8
Name 企業回答2: [1]発注者入力シート!$W$6:$W$11
Name 企業回答2: [2]発注者入力シート!$W$6:$W$11
Name 企業回答2: [3]発注者入力シート!$W$6:$W$11
Name 企業回答2: 発注者入力シート!$W$6:$W$11
Name 企業回答3: [2]発注者入力シート!$X$6:$X$11
Name 企業回答3: [3]発注者入力シート!$X$6:$X$11
Name 企業回答3: 発注者入力シート!$X$6:$X$11
Name 企業回答4: [1]発注者入力シート!$Y$6:$Y$8
Name 企業回答4: 発注者入力シート!$Y$6:$Y$8
Name 企業回答5: [1]発注者入力シート!$Z$6:$Z$9
Name 企業回答5: 発注者入力シート!$Z$6:$Z$9
Name 企業回答6: [1]発注者入力シート!$AA$6:$AA$10
Name 企業回答6: [2]発注者入力シート!$AA$6:$AA$12
Name 企業回答6: [3]発注者入力シート!$AA$6:$AA$12
Name 企業回答6: 発注者入力シート!$AA$6:$AA$10
Name 企業回答7: [1]発注者入力シート!$AB$6:$AB$9
Name 企業回答7: [2]発注者入力シート!$AB$6:$AB$9
Name 企業回答7: [3]発注者入力シート!$AB$6:$AB$9
Name 企業回答7: 発注者入力シート!$AB$6:$AB$9
Name 企業回答8: [2]発注者入力シート!$AC$6:$AC$17
Name 企業回答8: [3]発注者入力シート!$AC$6:$AC$17
Name 企業回答8: 発注者入力シート!$AC$6:$AC$14
Name 企業回答9: [2]発注者入力シート!$AD$6:$AD$8

Sheet 発注者入力シート
A1: 発注までに必要な作業 | L1: 【表３】プルダウンリスト | AX1: 技術資料「企業の工事成績評定点」、「配置予定技術者の工事成績評定点」の表示
A2: （１）発注工事の基本情報 | L2: 【表３】を編集すると評価項目（C列）のリストが変更できます（原則、着色セル以外編集不可）。 | AX2: 入力状況 | AY2: =C8&C9 -> 電気工事電気工事
B3: １．【表１】のC列に基本情報を直接入力してください | L3: 表中の着色セルを予備欄です。項目が不足する場合ここに入力すれば、プルダウンリストを追加できます。 | AX3: 工事種別 | AY3: 建設工事の種類 | AZ3: 判定用 | BA3: 表示（工事種別） | BB3: 表示（建設工事の種類） | BC3: 工事成績評価対象期間
B4: 【表１】 | L4: 【表３】 | AX4: 一般建築工事 | AY4: 建築一式工事 | AZ4: =AX4&AY4 -> 一般建築工事建築一式工事 | BA4: 一般建築工事 | BB4: 建築一式工事 | BC4: 工事成績（過去5年間で評価）
B5: 入力項目名 | C5: 入力欄 | L5: 【企業】評価項目 | M5: 【技術者】評価項目 | N5: 【地域貢献・その他】評価項目 | O5: 【地理的条件】評価項目 | P5: 様式番号 | Q5: 評価項目番号 | R5: 評価項目番号（枝番） | S5: 地域密着 | T5: 工事種別 | U5: 建設工事の種類 | V5: 企業回答1 | W5: 企業回答2 | X5: 企業回答3 | Y5: 企業回答4 | Z5: 企業回答5 | AA5: 企業回答6 | AB5: 企業回答7 | AC5: 企業回答8 | AD5: 企業回答9 | AE5: 企業回答10 | AF5: 企業回答11 | AG5: 企業回答12 | AH5: 企業回答13 | AI5: 企業回答14 | AX5: 一般建築工事 | AY5: 防水工事 | AZ5: =AX5&AY5 -> 一般建築工事防水工事 | BA5: 一般建築工事 | BB5: 防水工事 | BC5: 工事成績（過去5年間で評価）
B6: 発注事務所名 | C6: 総務部営繕課 | D6: ←直接入力 | L6: 工事成績 | M6: 保有資格 | N6: 防災協定 | O6: 近隣施工実績 | P6: ２ | Q6: （１） | R6: ① | T6: 一般建築工事 | U6: 建築一式工事 | V6: 有 | W6: 国局長 | X6: 国局長の表彰 | Y6: 契約工事名 | Z6: 単体 | AA6: 監理技術者 | AB6: 本店 | AC6: ｼｮﾍﾞﾙ系掘削機(ｼｮﾍﾞﾙ) | AD6: 保有 | AE6: 第1ｸﾞﾙｰﾌﾟ | AF6: 2回 | AG6: 国局長 | AH6: 国局長の表彰 | AI6: 元請 | AX6: 一般建築工事 | AY6: とび・土工・コンクリート工事 | AZ6: =AX6&AY6 -> 一般建築工事とび・土工・コンクリート工事 | BA6: 一般建築工事 | BB6: 建築一式工事、とび・土工・コンクリート工事 | BC6: 工事成績（過去5年間で評価） | BD6: 工事成績（過去5年間で評価）
B7: 入札公告日 | C7: 46310 | D7: ←ｙｙｙｙ/m/dで入力【重要】 | G7: 入札公告日前日 | H7: =C7-1 -> 46309 | I7: ←削除厳禁 | L7: 同種工事実績 | M7: 同種工事経験 | N7: 家畜伝染病防疫協定 | O7: 会社所在地 | P7: ３ | Q7: （２） | R7: ② | T7: 電気工事 | U7: とび・土工・コンクリート工事 | V7: 無 | W7: 国事務所長 | X7: 国事務所長の表彰 | Y7: 表彰状記載工事名 | Z7: 特別（特定）JV | AA7: 主任技術者 | AB7: 支店 | AC7: ｼｮﾍﾞﾙ系掘削機(ﾊﾞｯｸﾎｳ) | AD7: リース契約 | AE7: 第2ｸﾞﾙｰﾌﾟ | AF7: 1回 | AG7: 国事務所長 | AH7: 国事務所長の表彰 | AI7: 下請 | AX7: 冷暖房衛生設備工事 | AY7: 管工事 | AZ7: =AX7&AY7 -> 冷暖房衛生設備工事管工事 | BA7: 建築物に係る冷暖房衛生設備工事 | BB7: 管工事、熱絶縁工事、消防施設工事 | BC7: 工事成績（過去5年間で評価） | BD7: 工事成績（過去5年間で評価）
B8: 工事種別 | C8: 電気工事 | D8: ←必須【入力結果が技術資料(企業成績評定点、技術者成績評定点）シートの対象工事欄に反映される】 | L8: 優良工事表彰 | M8: 技術者の表彰 | N8: ボランティア活動又はハートフルしまね | O8: 工場・会社所在地 | P8: ４ | Q8: （３） | R8: ③ | T8: 冷暖房衛生設備工事 | U8: 防水工事 | W8: 知事 | X8: 知事表彰該当工事の表彰 | Z8: 一般（経常）JV | AA8: 監理技術者補佐 | AB8: 営業所 | AC8: ｼｮﾍﾞﾙ系掘削機(ﾄﾞﾗｸﾞﾗｲﾝ) | AE8: 第3ｸﾞﾙｰﾌﾟ | AF8: 0回 | AG8: 知事 | AH8: 知事表彰該当工事の表彰 | AX8: 電気工事 | AY8: 電気工事 | AZ8: =AX8&AY8 -> 電気工事電気工事 | BA8: 建築物に係る電気工事 | BB8: 電気工事、消防施設工事 | BC8: 工事成績（過去5年間で評価） | BD8: 工事成績（過去5年間で評価）
B9: 建設工事の種類 | C9: 電気工事 | D9: =IF(INDEX(AX3:BC9,MATCH(AY2,AZ3:AZ9,0),3)=AY2,INDEX(AX3:BC9,MATCH(AY2,AZ3:AZ9,0),6),"err") -> 工事成績（過去5年間で評価） | G9: ←エラー表示の場合、工事種別と建設工事の種類を再確認 | L9: プラント保有 | M9: 継続学習 | N9: 維持管理業務 | O9: サポート拠点 | P9: ５ | Q9: （４） | R9: ④ | T9: 塗装工事 | U9: 電気工事 | W9: 県課長 | X9: 県課長表彰該当工事の表彰 | AC9: ｼｮﾍﾞﾙ系掘削機(ｸﾗﾑｼｪﾙ) | AX9: 塗装工事 | AY9: 塗装工事 | AZ9: =AX9&AY9 -> 塗装工事塗装工事 | BA9: 建築物に係る塗装工事 | BB9: 塗装工事 | BC9: 工事成績（過去5年間で評価） | BD9: 工事成績（過去5年間で評価）
B10: 工事名 | C10: 浜山公園陸上競技場メインスタンド増築外（電気設備）工事 | L10: 法面機械保有 | M10: 技術者の成績 | N10: 除雪業務 | O10: - | P10: ６ | Q10: （５） | R10: ⑤ | U10: 管工事 | W10: 県事務所長 | X10: 県事務所長表彰該当工事の表彰 | AC10: ｼｮﾍﾞﾙ系掘削機(ｸﾚｰﾝ)
L11: OPD制度参加登録 | M11: - | N11: 労働福祉（障がい者雇用） | P11: ７ | Q11: （６） | R11: ⑥ | U11: 塗装工事 | AC11: ｼｮﾍﾞﾙ系掘削機(ﾊﾟｲﾙﾄﾞﾗｲﾊﾞｰ)
A12: （２）総合評価方式の評価項目、技術資料様式の番号情報 | L12: - | N12: 労働福祉（育児介護制度） | P12: ８ | R12: ⑦ | U12: 熱絶縁工事 | AC12: ﾌﾞﾙﾄﾞｰｻﾞ
B13: １．【表２】C列に発注工事の評価項目を入力してください（技術提案は、直接入力、その他の項目はプルダウンリストから選択） | N13: 育児介護チェック表 | P13: ９ | R13: ⑧ | U13: 消防施設工事 | AC13: ﾄﾗｸﾀｰｼｮﾍﾞﾙ
B14: （特殊な評価項目でプルダウンリストに項目がない場合は、【表３】で項目を追加してください） | N14: 登録基幹技能者 | P14: １０ | R14: ⑨
B15: ２．【表２】E～G列に様式番号と評価項目の番号をプルダウンリストで選択してください。 | N15: 若手技術者・従業員の新規雇用 | P15: １１ | R15: ⑩
B16: （様式番号は表紙が1になるため、2から始まります。評価項目の番号は、入札説明書に記載する見出し番号とあわせてください） | N16: 消防団協力事業所 | P16: １２
B17: ３．地域密着型工事で地域条件を設定する評価項目は、【表２】D列で【地域密着型】を選択してください | N17: 応急危険度判定士 | P17: １３
B18: 【表２】 | F18: 様式番号 | G18: 評価項目（１）－①（例） | N18: CCUSの活用 | P18: １４
B19: 区分 | C19: 評価項目 | D19: 地域密着 | E19: 様式－○ | F19: 評価項目○－○ | N19: 海上援助活動 | P19: １５
B20: 技術提案 | F20: （１） | G20: ① | H20: 技術提案b① | N20: 若手・中堅技術者配置 | P20: １６
B21: 技術提案 | F21: （１） | G21: ② | H21: 技術提案b② | N21: 建設機械保有状況 | P21: １７
B22: 技術提案 | F22: （１） | G22: ③ | H22: 技術提案b③ | N22: BCP認定 | P22: １８
B23: 技術提案 | F23: （１） | G23: ④ | H23: 技術提案b④ | N23: - | P23: １９
B24: 技術提案 | F24: （１） | G24: ⑤ | H24: 技術提案① | N24: 応急復旧相談員 | P24: ２０
B25: 技術提案 | F25: （１） | G25: ⑥ | H25: 技術提案② | P25: ２１
B26: 技術提案 | F26: （１） | G26: ⑦ | H26: 技術提案③ | P26: ２２
B27: 技術提案 | F27: （１） | H27: 技能士活用 | P27: ２３
B28: 企業 | C28: 工事成績 | E28: ２ | F28: （１） | G28: ① | P28: ２４
B29: 企業 | C29: 同種工事実績 | E29: ３ | F29: （１） | G29: ② | P29: ２５
B30: 企業 | C30: 優良工事表彰 | E30: ４ | F30: （１） | G30: ③ | P30: ２６
B31: 企業 | F31: （１） | G31: ④ | P31: ２７
B32: 企業
B33: 配置予定技術者 | C33: 技術者の成績 | E33: ５ | F33: （２） | G33: ①
B34: 配置予定技術者 | C34: 同種工事経験 | E34: ６ | F34: （２） | G34: ②
B35: 配置予定技術者 | C35: 継続学習 | E35: ７ | F35: （２） | G35: ③ | L35: 【表４】表紙記載文リスト
B36: 配置予定技術者 | L36: 【表４】を編集すると技術資料（表紙）「2 提出書類（必要な項目について）」で記載する様式の名称変更ができます。
B37: 地域貢献・その他 | C37: ボランティア活動又はハートフルしまね | E37: ８ | F37: （３） | G37: ① | L37: （【隠岐】企業の法面機械保有は、機械名が○○になっていますので、必ず編集が必要です。）
B38: 地域貢献・その他 | C38: 労働福祉（障がい者雇用） | E38: ９ | F38: （３） | G38: ② | L38: 【表４】
B39: 地域貢献・その他 | C39: 労働福祉（育児介護制度） | E39: １０ | F39: （３） | G39: ② | L39: ↓【重要】表２のD列で項目を記載したもの以外は、エラー表示される【編集厳禁】
B40: 地域貢献・その他 | C40: 育児介護チェック表 | E40: １１ | F40: （３） | G40: ② | L40: 様式番号 | M40: 区分 | N40: 評価項目名 | O40: 表紙記載文
B41: 地域貢献・その他 | C41: 登録基幹技能者 | E41: １２ | F41: （３） | G41: ③ | L41: =INDEX($B$28:$G$48,MATCH(N41,$C$28:$C$48,0),4) -> ２ | M41: 企業 | N41: =L6 -> 工事成績 | O41: =CONCATENATE(" ○企業の工事成績評定点 （様式-",L41,"-１、様式-",L41,"-２）") -> ○企業の工事成績評定点 （様式-２-１、様式-２-２）
B42: 地域貢献・その他 | C42: 応急復旧相談員 | E42: １３ | F42: （３） | G42: ④ | L42: =INDEX($B$28:$G$48,MATCH(N42,$C$28:$C$48,0),4) -> ３ | N42: =L7 -> 同種工事実績 | O42: =CONCATENATE(" ○企業の同種工事の施工実績 （様式-",L42,"）") -> ○企業の同種工事の施工実績 （様式-３）
B43: 地域貢献・その他 | C43: 若手技術者・従業員の新規雇用 | E43: １４ | F43: （３） | G43: ⑤ | L43: =INDEX($B$28:$G$48,MATCH(N43,$C$28:$C$48,0),4) -> ４ | N43: =L8 -> 優良工事表彰 | O43: =CONCATENATE(" ○企業の優良工事表彰（優良工事施工団体表彰） （様式-",L43,"）") -> ○企業の優良工事表彰（優良工事施工団体表彰） （様式-４）
B44: 地域貢献・その他 | L44: =INDEX($B$28:$G$48,MATCH(N44,$C$28:$C$48,0),4) -> #N/A | N44: =L9 -> プラント保有 | O44: =CONCATENATE(" ○アスファルト合材プラント保有の有無 （様式-",L44,"）") -> #N/A
B45: 地域貢献・その他 | L45: =INDEX($B$28:$G$48,MATCH(N45,$C$28:$C$48,0),4) -> #N/A | N45: =L10 -> 法面機械保有 | O45: =CONCATENATE(" ○企業の○○機の保有の有無 （様式-",L45,"）") -> #N/A
B46: 地域貢献・その他 | L46: =INDEX($B$28:$G$48,MATCH(N46,$C$28:$C$48,0),4) -> #N/A | N46: =L11 -> OPD制度参加登録 | O46: =CONCATENATE(" ○企業の継続能力（CPD）制度の参加登録 （様式-",L46,"）") -> #N/A
B47: 地理的条件 | C47: 近隣施工実績 | E47: １５ | F47: （４） | G47: ① | L47: =INDEX($B$28:$G$48,MATCH(N47,$C$28:$C$48,0),4) -> #N/A | N47: =L12 -> - | O47: 対象外
B48: 地理的条件 | L48: =INDEX($B$28:$G$48,MATCH(N48,$C$28:$C$48,0),4) -> #N/A | N48: =L13 -> 0 | O48: 表３【企業】評価項目の着色セルに項目を記入した場合、ここに記載文を直接入力！
B49: その他様式 | C49: 設計図書、技術資料質問書 | L49: =INDEX($B$28:$G$48,MATCH(N49,$C$28:$C$48,0),4) -> #N/A | M49: 技術者 | N49: =M6 -> 保有資格 | O49: =CONCATENATE(" ○配置予定技術者の資格 （様式-",L49,"）") -> #N/A
B50: その他様式 | C50: 設計図書、技術資料回答書 | L50: =INDEX($B$28:$G$48,MATCH(N50,$C$28:$C$48,0),4) -> ６ | N50: =M7 -> 同種工事経験 | O50: =CONCATENATE(" ○配置予定技術者の同種工事の施工経験 （様式-",L50,"）") -> ○配置予定技術者の同種工事の施工経験 （様式-６）
B51: その他様式 | C51: 技術提案採否結果等通知書 | L51: =INDEX($B$28:$G$48,MATCH(N51,$C$28:$C$48,0),4) -> #N/A | N51: =M8 -> 技術者の表彰 | O51: =CONCATENATE(" ○配置予定技術者の優秀建設技術者表彰 （様式-",L51,"）") -> #N/A
B52: その他様式 | C52: 技術提案不採用理由説明要求書 | L52: =INDEX($B$28:$G$48,MATCH(N52,$C$28:$C$48,0),4) -> ７ | N52: =M9 -> 継続学習 | O52: =CONCATENATE(" ○配置予定技術者の継続学習 （様式-",L52,"）") -> ○配置予定技術者の継続学習 （様式-７）
B53: その他様式 | C53: 技術提案不採用理由回答書 | L53: =INDEX($B$28:$G$48,MATCH(N53,$C$28:$C$48,0),4) -> ５ | N53: =M10 -> 技術者の成績 | O53: =CONCATENATE(" ○配置予定技術者の工事成績評定点 （様式-",L53,"-１、様式-",L53,"-２）") -> ○配置予定技術者の工事成績評定点 （様式-５-１、様式-５-２）
B54: その他様式 | C54: 評価内容説明要求書 | L54: =INDEX($B$28:$G$48,MATCH(N54,$C$28:$C$48,0),4) -> #N/A | N54: =M11 -> - | O54: 対象外
B55: その他様式 | C55: 評価内容回答書 | L55: =INDEX($B$28:$G$48,MATCH(N55,$C$28:$C$48,0),4) -> #N/A | N55: =M12 -> 0 | O55: 表３【技術者】評価項目の着色セルに項目を記入した場合、ここに記載文を直接入力！
B56: その他様式 | C56: 技術提案改善要請書 | L56: =INDEX($B$28:$G$48,MATCH(N56,$C$28:$C$48,0),4) -> #N/A | M56: 地域貢献・その他 | N56: =N6 -> 防災協定 | O56: =CONCATENATE(" ○防災協定の締結実績 （様式-",L56,"）") -> #N/A
B57: その他様式 | C57: 改善技術提案書 | L57: =INDEX($B$28:$G$48,MATCH(N57,$C$28:$C$48,0),4) -> #N/A | N57: =N7 -> 家畜伝染病防疫協定 | O57: =CONCATENATE(" ○家畜伝染病防疫協定の締結実績 （様式-",L57,"）") -> #N/A
L58: =INDEX($B$28:$G$48,MATCH(N58,$C$28:$C$48,0),4) -> ８ | N58: =N8 -> ボランティア活動又はハートフルしまね | O58: =CONCATENATE(" ○ボランティア活動又はハートフルしまねへの参加実績 （様式-",L58,"）") -> ○ボランティア活動又はハートフルしまねへの参加実績 （様式-８）
A59: （３）確認・修正作業【重要】 | L59: =INDEX($B$28:$G$48,MATCH(N59,$C$28:$C$48,0),4) -> #N/A | N59: =N9 -> 維持管理業務 | O59: =CONCATENATE(" ○県管理公共土木施設に関する維持管理業務または海岸漂着物の回収業務の契約実績 （様式-",L59,"）") -> #N/A
A60: １．【技術資料（表紙）の確認・修正事項】 | L60: =INDEX($B$28:$G$48,MATCH(N60,$C$28:$C$48,0),4) -> #N/A | N60: =N10 -> 除雪業務 | O60: =CONCATENATE(" ○県管理道路・空港を含む除雪業務の契約実績 （様式-",L60,"）") -> #N/A
B61: ①「2 提出書類（必要な項目について）」を確認してください。記載文の修正が必要な場合、【表４】O列数式内の記載文を編集してください。 | L61: =INDEX($B$28:$G$48,MATCH(N61,$C$28:$C$48,0),4) -> ９ | N61: =N11 -> 労働福祉（障がい者雇用） | O61: =CONCATENATE(" ○労働福祉関連の状況(a 障がい者雇用の実態) （様式-",L61,"）") -> ○労働福祉関連の状況(a 障がい者雇用の実態) （様式-９）
B62: （【隠岐】企業の法面機械保有は、機械名が○○になっていますので、必ず編集が必要です。） | L62: =INDEX($B$28:$G$48,MATCH(N62,$C$28:$C$48,0),4) -> １０ | N62: =N12 -> 労働福祉（育児介護制度） | O62: =CONCATENATE(" ○労働福祉関連の状況(b 育児・介護休業に関する制度) （様式-",L62,"）") -> ○労働福祉関連の状況(b 育児・介護休業に関する制度) （様式-１０）
B63: ②エラー表示がでている行を非表示にしてください（行の削除厳禁）。 | L63: =INDEX($B$28:$G$48,MATCH(N63,$C$28:$C$48,0),4) -> １１ | N63: =N13 -> 育児介護チェック表 | O63: =CONCATENATE(" ○育児・介護休業に関する制度 チェック表 （様式-",L63,"）") -> ○育児・介護休業に関する制度 チェック表 （様式-１１）
L64: =INDEX($B$28:$G$48,MATCH(N64,$C$28:$C$48,0),4) -> １２ | N64: =N14 -> 登録基幹技能者 | O64: =CONCATENATE(" ○登録基幹技能者の配置 （様式-",L64,"）") -> ○登録基幹技能者の配置 （様式-１２）
A65: ２．【技術資料（各種様式）の確認・修正事項】 | L65: =INDEX($B$28:$G$48,MATCH(N65,$C$28:$C$48,0),4) -> １４ | N65: =N15 -> 若手技術者・従業員の新規雇用 | O65: =CONCATENATE(" ○若手技術者・若手従業員の新規雇用 （様式-",L65,"）") -> ○若手技術者・若手従業員の新規雇用 （様式-１４）
B66: ①技術資料の緑着色セルに正しく情報が転記されているか確認してください | L66: =INDEX($B$28:$G$48,MATCH(N66,$C$28:$C$48,0),4) -> #N/A | N66: =N16 -> 消防団協力事業所 | O66: =CONCATENATE(" ○消防団協力事業所の認定 （様式-",L66,"）") -> #N/A
B67: （転記されていない場合は、もう一度【表１～４】の入力条件を確認後、必要に応じ緑着色セルを直接入力により修正してください） | L67: =INDEX($B$28:$G$48,MATCH(N67,$C$28:$C$48,0),4) -> #N/A | N67: =N17 -> 応急危険度判定士 | O67: =CONCATENATE(" ○島根県地震被災建築物応急危険度判定士の登録 （様式-",L67,"）") -> #N/A
B68: ②技術資料の黄色着色セルに必要な情報を直接入力してください | L68: =INDEX($B$28:$G$48,MATCH(N68,$C$28:$C$48,0),4) -> #N/A | N68: =N18 -> CCUSの活用 | O68: =CONCATENATE(" ○建設キャリアアップシステム（CCUS）の活用 （様式-",L68,"）") -> #N/A
B69: ③その他箇所の記載文や文字切れなど不備がないか確認し、必要に応じて修正してください | L69: =INDEX($B$28:$G$48,MATCH(N69,$C$28:$C$48,0),4) -> #N/A | N69: =N19 -> 海上援助活動 | O69: =CONCATENATE(" ○海上援助活動の実績 （様式-",L69,"）") -> #N/A
L70: =INDEX($B$28:$G$48,MATCH(N70,$C$28:$C$48,0),4) -> #N/A | N70: =N20 -> 若手・中堅技術者配置 | O70: =CONCATENATE(" ○若手・中堅技術者の配置 （様式-",L70,"）") -> #N/A
A71: ３．【評価基準の確認】 | L71: =INDEX($B$28:$G$48,MATCH(N71,$C$28:$C$48,0),4) -> #N/A | N71: =N21 -> 建設機械保有状況 | O71: =CONCATENATE(" ○建設機械の保有状況 （様式-",L71,"）") -> #N/A
B72: ①「発注者設定内容確認シート」で入札説明書に記載した内容と様式に記載した内容が一致しているか確認してください | L72: =INDEX($B$28:$G$48,MATCH(N72,$C$28:$C$48,0),4) -> #N/A | N72: =N22 -> BCP認定 | O72: =CONCATENATE(" ○BCPの認定状況 （様式-",L72,"）") -> #N/A
L73: =INDEX($B$28:$G$48,MATCH(N73,$C$28:$C$48,0),4) -> #N/A | N73: =N23 -> - | O73: 対象外
A74: ４．【PPI掲載用ファイルの作成】 | L74: =INDEX($B$28:$G$48,MATCH(N74,$C$28:$C$48,0),4) -> １３ | N74: =N24 -> 応急復旧相談員 | O74: =CONCATENATE(" ○島根県地震被災建築物応急復旧相談員の登録 （様式-",L74,"）") -> ○島根県地震被災建築物応急復旧相談員の登録 （様式-１３）
B75: ①PPI掲載用ファイルを別ファイルで作成してください（シート削除するとシートの復活できないので、必ず削除作業前に別ファイルを作成してください） | L75: =INDEX($B$28:$G$48,MATCH(N75,$C$28:$C$48,0),4) -> #N/A | N75: 0 | O75: 表３【地域貢献・その他】評価項目の着色セルに項目を記入した場合、ここに記載文を直接入力！
B76: ②不要な技術資料様式は、シート毎削除してください | L76: =INDEX($B$28:$G$48,MATCH(N76,$C$28:$C$48,0),4) -> １５ | M76: 地理的条件 | N76: =O6 -> 近隣施工実績 | O76: =CONCATENATE(" ○地理的条件（近隣地域での施工実績） （様式-",L76,"）") -> ○地理的条件（近隣地域での施工実績） （様式-１５）
B77: ③収受印を発行しない様式は、破線以下を全て削除してください | L77: =INDEX($B$28:$G$48,MATCH(N77,$C$28:$C$48,0),4) -> #N/A | N77: =O7 -> 会社所在地 | O77: =CONCATENATE(" ○地理的条件（会社所在地） （様式-",L77,"）") -> #N/A
B78: ④「企業入力シート」の「３提出資料確認欄」について、不要項目などを削除・修正してください | L78: =INDEX($B$28:$G$48,MATCH(N78,$C$28:$C$48,0),4) -> #N/A | N78: =O8 -> 工場・会社所在地 | O78: =CONCATENATE(" ○地理的条件（橋梁用桁製作の機能を有する工場及び建設業法上の営業所所在地） （様式-",L78,"）") -> #N/A
B79: （収受印を発行しない発注機関は、「３提出資料確認欄」を全て削除） | L79: =INDEX($B$28:$G$48,MATCH(N79,$C$28:$C$48,0),4) -> #N/A | N79: =O9 -> サポート拠点 | O79: =CONCATENATE(" ○地理的条件（サポート拠点の所在地及び技術者の在籍） （様式-",L79,"）") -> #N/A
L80: =INDEX($B$28:$G$48,MATCH(N80,$C$28:$C$48,0),4) -> #N/A | N80: =O10 -> - | O80: 対象外
A81: ５．【技術審査（競争参加資格委員会）の準備作業】 | L81: =INDEX($B$28:$G$48,MATCH(N81,$C$28:$C$48,0),4) -> #N/A | N81: =O11 -> 0 | O81: 表３【地理的条件】評価項目の着色セルに項目を記入した場合、ここに記載文を直接入力！
B82: ①「発注者審査作業用」シートに記載されている表中の不要な項目の列全体を削除してください
B83: （文字のサイズ、セルの結合、列幅の調整などは、「技術審査用ファイル」で行うため、「発注者作業用シート」では、体裁を整える必要はありません）
B85: ※「発注者審査作業用」シート
B86: 企業の申請内容を数式でリンクさせて評価項目毎に一覧表で整理。指定された範囲を「技術審査用ファイル」の「作業用シート」に一括コピーすることで、
B87: 技術審査（競争参加資格委員会）や入札結果調書を簡単に作成することが可能
B89: ※技術審査用ファイル
B90: このファイルの「発注者作業用シート」から各企業の申請内容を一括コピーし、「技術審査用ファイル」で集計することで、技術審査（競争参加資格委員会）
B91: 用の資料や入札結果調書が簡単に作成可能
A93: ＜発注準備から入札結果調書作成までの全体イメージ＞

Sheet 企業入力シート
A1: 特別共同企業体情報
A2: 1.企業体情報
A3: 表のC列（赤枠内）に企業体情報を入力してください。入力した情報は、各種様式に反映されます。
B4: 項目名 | C4: 企業情報記入欄
A5: 1 | B5: 企業体名
A7: 代表者（第１グループ）
A8: 1.企業情報
A9: 表のC列（赤枠内）に企業情報を入力してください。入力した情報は、各種様式に反映されます。
B10: 項目名 | C10: 企業情報記入欄
A11: 1 | B11: 提出日 | C11: 46235 | D11: ←ｙｙｙｙ/m/dで入力
A12: 2
A13: 3 | B13: 住所
A14: 4 | B14: 商号又は名称 | C14: ○○建設
A15: 5 | B15: 代表者 | C15: ○○ ○○
A16: 6 | B16: 担当者
A17: 7 | B17: 部署
A18: 8 | B18: 電話番号
A19: 9 | B19: ＦＡＸ番号
A20: 10 | B20: Ｅ－mail
A22: 2.配置予定技術者の氏名
A23: 表のC・D列（赤枠内）に配置予定技術者情報を入力してください。入力した情報は、各種様式に反映されます。
B24: 配置予定技術者 | C24: 氏名記入欄 | D24: 生年月日
A25: 1 | B25: 配置予定技術者① | E25: ←ｙｙｙｙ/m/dで入力
A26: 2 | B26: 配置予定技術者② | E26: ←ｙｙｙｙ/m/dで入力
A27: 3 | B27: 配置予定技術者③ | E27: ←ｙｙｙｙ/m/dで入力
A29: 3.事前審査・証明書による申請
A30: 事前審査・証明書で提出する評価項目がある場合、該当するものに「○」を入力してください。事前審査・証明書で提出する項目については、技術資料及び添付資料を提出する必要はありません。
A31: 下欄の入力内容は「表紙」シートに反映されます。
A32: =COUNTA(B33:B42) -> 0 | B32: 証明書での提出 | C32: 項目 | K32: ○
A33: =COUNTA(B33) -> 0 | C33: 【土木一式】企業の工事成績評定点（県）
A34: =COUNTA($B$33:B34) -> 0 | C34: 【舗装】企業の工事成績評定点（県）
A35: =COUNTA($B$33:B35) -> 0 | C35: 【法面】企業の工事成績評定点（県）
A36: =COUNTA($B$33:B36) -> 0 | C36: 【港湾】企業の工事成績評定点（県）
A37: =COUNTA($B$33:B37) -> 0 | C37: 防災協定の締結実績
A38: =COUNTA($B$33:B38) -> 0 | C38: 家畜伝染病防疫協定の締結実績
A39: =COUNTA($B$33:B39) -> 0 | C39: ボランティア活動又はハートフルしまねへの参加実績
A40: =COUNTA($B$33:B40) -> 0 | C40: 維持管理業務等の契約実績（県）
A41: =COUNTA($B$33:B41) -> 0 | C41: 除雪業務の契約実績（県）
A42: =COUNTA($B$33:B42) -> 0 | C42: 労働福祉関連（育児介護・こっころ）
A44: 構成員（第２グループ）
A45: 1.企業情報
A46: 表のC列（赤枠内）に企業情報を入力してください。入力した情報は、各種様式に反映されます。
B47: 項目名 | C47: 企業情報記入欄
A48: 1 | B48: 商号又は名称 | C48: △△建設
A49: 2 | B49: 代表者
A51: 2.配置予定技術者の氏名
A52: 表のC・D列（赤枠内）に配置予定技術者情報を入力してください。入力した情報は、各種様式に反映されます。
B53: 配置予定技術者 | C53: 氏名記入欄 | D53: 生年月日
A54: 1 | B54: 配置予定技術者① | E54: ←ｙｙｙｙ/m/dで入力
A55: 2 | B55: 配置予定技術者② | E55: ←ｙｙｙｙ/m/dで入力
A56: 3 | B56: 配置予定技術者③ | E56: ←ｙｙｙｙ/m/dで入力
A58: 3.事前審査・証明書による申請
A59: 事前審査・証明書で提出する評価項目がある場合、該当するものに「○」を入力してください。事前審査・証明書で提出する項目については、技術資料及び添付資料を提出する必要はありません。
A60: 下欄の入力内容は「表紙」シートに反映されます。
A61: =COUNTA(B62:B71) -> 0 | B61: 証明書での提出 | C61: 項目 | K61: ○
A62: =COUNTA(B62) -> 0 | C62: 【土木一式】企業の工事成績評定点（県）
A63: =COUNTA($B$62:B63) -> 0 | C63: 【舗装】企業の工事成績評定点（県）
A64: =COUNTA($B$62:B64) -> 0 | C64: 【法面】企業の工事成績評定点（県）
A65: =COUNTA($B$62:B65) -> 0 | C65: 【港湾】企業の工事成績評定点（県）
A66: =COUNTA($B$62:B66) -> 0 | C66: 防災協定の締結実績
A67: =COUNTA($B$62:B67) -> 0 | C67: 家畜伝染病防疫協定の締結実績
A68: =COUNTA($B$62:B68) -> 0 | C68: ボランティア活動又はハートフルしまねへの参加実績
A69: =COUNTA($B$62:B69) -> 0 | C69: 維持管理業務等の契約実績（県）
A70: =COUNTA($B$62:B70) -> 0 | C70: 除雪業務の契約実績（県）
A71: =COUNTA($B$62:B71) -> 0 | C71: 労働福祉関連（育児介護・こっころ）
A73: 構成員（第３グループ）
A74: 1.企業情報
A75: 表のC列（赤枠内）に企業情報を入力してください。入力した情報は、各種様式に反映されます。
B76: 項目名 | C76: 企業情報記入欄
A77: 1 | B77: 商号又は名称 | C77: □□建設
A78: 2 | B78: 代表者
A80: 2.配置予定技術者の氏名
A81: 表のC・D列（赤枠内）に配置予定技術者情報を入力してください。入力した情報は、各種様式に反映されます。
B82: 配置予定技術者 | C82: 氏名記入欄 | D82: 生年月日
A83: 1 | B83: 配置予定技術者① | E83: ←ｙｙｙｙ/m/dで入力
A84: 2 | B84: 配置予定技術者② | E84: ←ｙｙｙｙ/m/dで入力
A85: 3 | B85: 配置予定技術者③ | E85: ←ｙｙｙｙ/m/dで入力
A87: 3.事前審査・証明書による申請
A88: 事前審査・証明書で提出する評価項目がある場合、該当するものに「○」を入力してください。事前審査・証明書で提出する項目については、技術資料及び添付資料を提出する必要はありません。
A89: 下欄の入力内容は「表紙」シートに反映されます。
A90: =COUNTA(B91:B100) -> 0 | B90: 証明書での提出 | C90: 項目 | K90: ○
A91: =COUNTA(B91) -> 0 | C91: 【土木一式】企業の工事成績評定点（県） | L91: =COUNTA(B33,B62,B91) -> 0
A92: =COUNTA($B$91:B92) -> 0 | C92: 【舗装】企業の工事成績評定点（県） | L92: =COUNTA(B34,B63,B92) -> 0
A93: =COUNTA($B$91:B93) -> 0 | C93: 【法面】企業の工事成績評定点（県） | L93: =COUNTA(B35,B64,B93) -> 0
A94: =COUNTA($B$91:B94) -> 0 | C94: 【港湾】企業の工事成績評定点（県） | L94: =COUNTA(B36,B65,B94) -> 0
A95: =COUNTA($B$91:B95) -> 0 | C95: 防災協定の締結実績 | L95: =COUNTA(B37,B66,B95) -> 0
A96: =COUNTA($B$91:B96) -> 0 | C96: 家畜伝染病防疫協定の締結実績 | L96: =COUNTA(B38,B67,B96) -> 0
A97: =COUNTA($B$91:B97) -> 0 | C97: ボランティア活動又はハートフルしまねへの参加実績 | L97: =COUNTA(B39,B68,B97) -> 0
A98: =COUNTA($B$91:B98) -> 0 | C98: 維持管理業務等の契約実績（県） | L98: =COUNTA(B40,B69,B98) -> 0
A99: =COUNTA($B$91:B99) -> 0 | C99: 除雪業務の契約実績（県） | L99: =COUNTA(B41,B70,B99) -> 0
A100: =COUNTA($B$91:B100) -> 0 | C100: 労働福祉関連（育児介護・こっころ） | L100: =COUNTA(B42,B71,B100) -> 0
L101: ↑作業用の判定式（消さないでください。）

Sheet ファイル使用上の注意事項
A1: 技術資料作成用エクセル形式の電子ファイル使用上の注意事項
A3: ○技術資料【PDF形式】と参考資料【本エクセル形式】の位置づけについて
A4: (1) | B4: 本エクセル形式で作成したデータをPDF形式に変換したものを「技術資料」として、提出しなければなりません。 （提出：必須）
A6: (2) | B6: 本エクセル形式は、発注者が技術資料の審査を行う際に「参考資料」として使用しますので、提出の協力をお願いします。 本エクセル形式のみの提出をもって、技術資料を提出したことにはなりませんので、ご注意ください。
A11: ○エクセル形式使用時及び技術資料提出時の注意事項について
A12: (1) | B12: 行高・列幅不足により文字切れや「＃＃＃＃」表示で出力されていないか、提出する前に必ず印刷物で確認してください。
A14: (2) | B14: 文字切れや「＃＃＃＃」表示になっている場合、行高・列幅を広げる、文字を縮小して表示させるなど調整してください。
A16: (3) | B16: 発注者専用シート（シート名が赤色シート）には触れないでください。
A17: (4) | B17: 記入しない様式があっても、シートは絶対に削除しないでください。
A18: (5) | B18: 各様式の企業直接入力欄（青色着色セル）に記入する際、結合されたセルは絶対に解除しないでください。
A20: (6) | B20: 技術資料様式は、「ページ設定」で「白黒印刷」と「印刷範囲」を設定していますので、画面表示の着色セルも白色で印刷されます。
A22: (7) | B22: 技術提案や施工上の留意点の様式に図や表など貼り付けないで下さい。図や表を用いる場合は、必ず別ファイル（PDFファイル）で提出してください。
A24: (8) | B24: 「技術提案」、「施工上の留意点」様式は、提案記入欄より上部を印刷タイトルの設定で固定していますので、提出資料が複数ページに跨る場合、固定部分は全てのページで自動的に表示されます。
A27: ○数式に不具合があった場合の対応について
A28: (1) | B28: 本エクセル形式に設定されている数式に不具合があり、正しく表示されない場合がありましたら、直接セルに正しいものを記入してください。
A31: ○技術資料の審査について
A32: (1) | B32: 発注者は、技術資料【PDF形式】に記載された内容により審査しますので、提出書類に記載漏れ、添付漏れ、文字切れ等の不備がないか必ず確認してください。
A35: ○本エクセル形式のシート名着色の区分について
A36: シート名着色の区分は次のとおりです
B37: ：発注者専用シート（企業は入力厳禁です！！）
B38: ：企業専用シート（企業入力シート（申請企業の基本情報を入力）、質問書など）
B40: ：技術資料様式の表紙シート、ファイル使用上の注意事項シート
B41: ：「技術提案」、「施工上の留意点」様式シート
B42: ：「企業の評価」様式シート
B43: ：「配置予定技術者」様式シート
B44: ：「地域貢献・その他の評価」様式シート
B45: ：「地理的条件の評価」様式シート
A47: ○技術資料様式の凡例について
A48: 技術資料様式のセルの着色の凡例は次の通りです
A49: 着色セルの凡例
A50: （企業）
B51: ：「企業入力シート」で入力した情報が表示される箇所（数式でリンク有）
B52: ：セルに直接入力が必要な箇所
A54: （発注者）
B55: ：「発注者入力シート」や他のシートで入力した情報が表示される箇所（数式でリンク有）
B56: ：セルに直接入力が必要な箇所
A58: （企業・発注者共通事項）
B59: ：同じシート内で入力した情報が表示される箇所（数式でリンク有）

Sheet 発注者設定内容確認シート
A1: 入札公告日： | D1: =発注者入力シート!C7 -> 46310
A2: 工事名： | D2: =発注者入力シート!C10 -> 浜山公園陸上競技場メインスタンド増築外（電気設備）工事
A3: 不要な項目は、非表示にしてください（行の削除厳禁）
A4: 発注者入力シートで選択していない項目は、エラー表示になります
A5: 評価項目番号 | D5: 区分 | E5: 評価項目 | F5: 評価対象事項 | G5: 評価基準（様式記載内容）
A6: =発注者入力シート!F20 -> （１） | B6: - | C6: =発注者入力シート!G20 -> ① | D6: 技術提案 | E6: =技術提案ｂ①!B5
A7: =発注者入力シート!F21 -> （１） | B7: - | C7: =発注者入力シート!G21 -> ② | E7: =技術提案ｂ②!B5
A8: =発注者入力シート!F22 -> （１） | B8: - | C8: =発注者入力シート!G22 -> ③ | E8: =技術提案ｂ③!B5
A9: =発注者入力シート!F23 -> （１） | B9: - | C9: =発注者入力シート!G23 -> ④ | E9: =技術提案ｂ④!B5
A10: =発注者入力シート!F24 -> （１） | B10: - | C10: =発注者入力シート!G24 -> ⑤ | E10: =IF(技術提案①!B5="","",技術提案①!B5)
A11: =発注者入力シート!F25 -> （１） | B11: - | C11: =発注者入力シート!G25 -> ⑥ | E11: =IF(技術提案②!B5="","",技術提案②!B5)
A12: =発注者入力シート!F26 -> （１） | B12: - | C12: =発注者入力シート!G26 -> ⑦ | E12: =IF(技術提案③!B5="","",技術提案③!B5)
A13: =発注者入力シート!F27 -> （１） | B13: - | C13: =発注者入力シート!G27 -> 0 | E13: =発注者入力シート!C27 -> 0 | H13: 技能士活用を設定した場合
A14: =INDEX(発注者入力シート!$B$28:$G$32,MATCH(発注者入力シート!L6,発注者入力シート!$C$28:$C$32,0),5) -> （１） | B14: - | C14: =INDEX(発注者入力シート!$B$28:$G$32,MATCH(発注者入力シート!L6,発注者入力シート!$C$28:$C$32,0),6) -> ① | D14: 企業 | E14: =発注者入力シート!L6 -> 工事成績 | F14: 完成年度 | G14: =IF('企業成績評定点 (JV用) '!D7="","",'企業成績評定点 (JV用) '!D7) -> 令和３年度から令和７年度（完成及び引き渡しが完了）
A15: =A14 -> （１） | B15: - | C15: =C14 -> ① | F15: 発注機関 | G15: =IF('企業成績評定点 (JV用) '!D8="","",'企業成績評定点 (JV用) '!D8) -> 島根県（総務部(企業局及び病院局契約を含み、企業局及び病院局発注工事は除く。)、農林水産部、土木部）
A16: =A14 -> （１） | B16: - | C16: =C14 -> ① | F16: 工事種別 | G16: =IF('企業成績評定点 (JV用) '!D9="","",'企業成績評定点 (JV用) '!D9) -> 建築物に係る電気工事
A17: =A14 -> （１） | B17: - | C17: =C14 -> ① | F17: 建設工事の種類 | G17: =IF('企業成績評定点 (JV用) '!D10="","",'企業成績評定点 (JV用) '!D10) -> 電気工事、消防施設工事
A18: =INDEX(発注者入力シート!$B$28:$G$32,MATCH(発注者入力シート!L7,発注者入力シート!$C$28:$C$32,0),5) -> （１） | B18: - | C18: =INDEX(発注者入力シート!$B$28:$G$32,MATCH(発注者入力シート!L7,発注者入力シート!$C$28:$C$32,0),6) -> ② | D18: 企業 | E18: =発注者入力シート!L7 -> 同種工事実績 | F18: 対象年度・機関等 | G18: =IF(同種工事施工実績!F7="","",同種工事施工実績!F7) -> 平成２８年度から入札公告日前日までに完成及び引き渡しが完了した工事
A19: =A18 -> （１） | B19: - | C19: =C18 -> ② | F19: 同種工事 | G19: =IF(同種工事施工実績!F11="","",同種工事施工実績!F11) -> １契約で税込み最終金額が５億２，０００万円以上の住宅以外の建築物に係る電気工事
A20: =A19 -> （１） | B20: - | C20: =C19 -> ② | F20: 工事種別 | G20: =IF(同種工事施工実績!F9="","",同種工事施工実績!F9) -> 建築物に係る電気工事
A21: =A20 -> （１） | B21: - | C21: =C20 -> ② | F21: 建設工事の種類 | G21: =IF(同種工事施工実績!F10="","",同種工事施工実績!F10) -> 電気工事、消防施設工事
A22: =INDEX(発注者入力シート!$B$28:$G$32,MATCH(発注者入力シート!L8,発注者入力シート!$C$28:$C$32,0),5) -> （１） | B22: - | C22: =INDEX(発注者入力シート!$B$28:$G$32,MATCH(発注者入力シート!L8,発注者入力シート!$C$28:$C$32,0),6) -> ③ | D22: 企業 | E22: =発注者入力シート!L8 -> 優良工事表彰 | F22: 対象年度・機関等 | G22: =IF(優良工事表彰!F6="","",優良工事表彰!F6) -> 島根県内の公共事業において、平成28年度から令和2年度に、島根県及び中国地方整備局発注工事で受けた建築一式工事の優良工事表彰（優良工事施工団体表彰）
A23: =A22 -> （１） | B23: =B22 -> - | C23: =C22 -> ③ | F23: 工事種別 | G23: =IF(優良工事表彰!F9="","",優良工事表彰!F9) -> 建築物に係る電気工事
A24: =A23 -> （１） | B24: =B23 -> - | C24: =C23 -> ③ | F24: 建設工事の種類 | G24: =IF(優良工事表彰!F10="","",優良工事表彰!F10) -> 電気工事、消防施設工事
A25: =INDEX(発注者入力シート!$B$28:$G$32,MATCH(発注者入力シート!L11,発注者入力シート!$C$28:$C$32,0),5) -> #N/A | B25: - | C25: =INDEX(発注者入力シート!$B$28:$G$32,MATCH(発注者入力シート!L11,発注者入力シート!$C$28:$C$32,0),6) -> #N/A | D25: 企業 | E25: =発注者入力シート!L11 -> OPD制度参加登録 | F25: 対象 | G25: =IF('【建築】技術提案（技能士活用）'!A8="","",'【建築】技術提案（技能士活用）'!A8) -> 一般技能士の活用による品質向上について、下記工種に従事させる一級技能士の人数について具体的提案を求める。
A26: =INDEX(発注者入力シート!$B$33:$G$36,MATCH(発注者入力シート!M10,発注者入力シート!$C$33:$C$36,0),5) -> （２） | B26: - | C26: =INDEX(発注者入力シート!$B$33:$G$36,MATCH(発注者入力シート!M10,発注者入力シート!$C$33:$C$36,0),6) -> ① | D26: 配置予定技術者 | E26: 配置予定技術者の工事成績評定点 | F26: 完成年度 | G26: =IF('【建築】技術者成績評定点 (JV第1G用) '!F7="","",'【建築】技術者成績評定点 (JV第1G用) '!F7) -> 令和３年度から令和７年度（完成及び引き渡しが完了）
A27: =A26 -> （２） | B27: - | C27: =C26 -> ① | F27: 発注機関 | G27: =IF('【建築】技術者成績評定点 (JV第1G用) '!F8="","",'【建築】技術者成績評定点 (JV第1G用) '!F8) -> 島根県（総務部(企業局及び病院局契約を含み、企業局及び病院局発注工事は除く。)、農林水産部、土木部）
A28: =A26 -> （２） | B28: - | C28: =C26 -> ① | F28: 工事種別 | G28: =IF('【建築】技術者成績評定点 (JV第1G用) '!F9="","",'【建築】技術者成績評定点 (JV第1G用) '!F9) -> 建築物に係る電気工事
A29: =A26 -> （２） | B29: - | C29: =C26 -> ① | F29: 建設工事の種類 | G29: =IF('【建築】技術者成績評定点 (JV第1G用) '!F10="","",'【建築】技術者成績評定点 (JV第1G用) '!F10) -> 電気工事、消防施設工事
A30: =INDEX(発注者入力シート!$B$33:$G$36,MATCH(発注者入力シート!M7,発注者入力シート!$C$33:$C$36,0),5) -> （２） | B30: - | C30: =INDEX(発注者入力シート!$B$33:$G$36,MATCH(発注者入力シート!M7,発注者入力シート!$C$33:$C$36,0),6) -> ② | D30: 配置予定技術者 | E30: 施工経験 | F30: 対象年度・機関等 | G30: =IF(同種工事施工経験!F6="","",同種工事施工経験!F6) -> 平成２８年度から入札公告日前日までに完成及び引き渡しが完了した島根県、島根県内の市町村又は国の機関（独立行政法人等を含みコリンズ登録があるものに限る。）発注工事
A31: =A30 -> （２） | B31: - | C31: =C30 -> ② | F31: 同種工事 | G31: =IF(同種工事施工経験!F8="","",同種工事施工経験!F8) -> １契約で税込み最終金額が２億６，０００万円以上の住宅以外の建築物に係る電気工事
A32: =A31 -> （２） | B32: - | C32: =C31 -> ② | F32: 工事種別 | G32: =IF(同種工事施工経験!F11="","",同種工事施工経験!F11) -> 建築物に係る電気工事
A33: =A32 -> （２） | B33: - | C33: =C32 -> ② | F33: 建設工事の種類 | G33: =IF(同種工事施工経験!F12="","",同種工事施工経験!F12) -> 電気工事、消防施設工事
A34: =INDEX(発注者入力シート!$B$37:$G$46,MATCH(発注者入力シート!N8,発注者入力シート!$C$37:$C$46,0),5) -> （３） | B34: - | C34: =INDEX(発注者入力シート!$B$37:$G$46,MATCH(発注者入力シート!N8,発注者入力シート!$C$37:$C$46,0),6) -> ① | D34: 地域貢献・その他 | E34: ボランティア(JV) | F34: 対象 | G34: ='ボランティア (JV)'!B7 -> 令和６年度及び令和７年度における島根県内で実施されたボランティア活動又はハートフルしまねへの参加実績
A35: =INDEX(発注者入力シート!$B$37:$G$46,MATCH(発注者入力シート!N11,発注者入力シート!$C$37:$C$46,0),5) -> （３） | B35: - | C35: =INDEX(発注者入力シート!$B$37:$G$46,MATCH(発注者入力シート!N11,発注者入力シート!$C$37:$C$46,0),6) -> ② | D35: 地域貢献・その他 | E35: 労働福祉関連(JV) | F35: 障がい者雇用
A36: =INDEX(発注者入力シート!$B$37:$G$46,MATCH(発注者入力シート!N12,発注者入力シート!$C$37:$C$46,0),5) -> （３） | B36: - | C36: =INDEX(発注者入力シート!$B$37:$G$46,MATCH(発注者入力シート!N12,発注者入力シート!$C$37:$C$46,0),6) -> ② | F36: 育児・介護休業制度
A37: =INDEX(発注者入力シート!$B$37:$G$46,MATCH(発注者入力シート!N14,発注者入力シート!$C$37:$C$46,0),5) -> （３） | B37: - | C37: =INDEX(発注者入力シート!$B$37:$G$46,MATCH(発注者入力シート!N14,発注者入力シート!$C$37:$C$46,0),6) -> ③ | D37: 地域貢献・その他 | E37: 登録基幹技能者 | F37: 対象 | G37: =IF(登録基幹技能者!B9="","",登録基幹技能者!B9) -> 登録電気工事基幹技能者の現場への配置
A38: =INDEX(発注者入力シート!$B$37:$G$46,MATCH(発注者入力シート!N15,発注者入力シート!$C$37:$C$46,0),5) -> （３） | B38: - | C38: =INDEX(発注者入力シート!$B$37:$G$46,MATCH(発注者入力シート!N15,発注者入力シート!$C$37:$C$46,0),6) -> ⑤ | D38: 地域貢献・その他 | E38: 若手技術者・若手従業員の新規雇用(JV) | F38: 対象 | G38: =IF('若手技術者・従業員新規雇用（JV)'!B7="","",'若手技術者・従業員新規雇用（JV)'!B7) -> 令和６年4月1日以降に、若手技術者・若手従業員（３０歳未満の者）の１人以上の新規雇用があること。
A39: =INDEX(発注者入力シート!$B$37:$G$46,MATCH(発注者入力シート!N16,発注者入力シート!$C$37:$C$46,0),5) -> #N/A | B39: - | C39: =INDEX(発注者入力シート!$B$37:$G$46,MATCH(発注者入力シート!N16,発注者入力シート!$C$37:$C$46,0),6) -> #N/A | D39: 地域貢献・その他 | E39: 消防団協力事業所
A40: =INDEX(発注者入力シート!$B$37:$G$46,MATCH(発注者入力シート!N17,発注者入力シート!$C$37:$C$46,0),5) -> #N/A | B40: - | C40: =INDEX(発注者入力シート!$B$37:$G$46,MATCH(発注者入力シート!N17,発注者入力シート!$C$37:$C$46,0),6) -> #N/A | D40: 地域貢献・その他 | E40: 応急危険度判定士の登録 | F40: 対象
A41: =INDEX(発注者入力シート!$B$37:$G$46,MATCH(発注者入力シート!N18,発注者入力シート!$C$37:$C$46,0),5) -> #N/A | B41: - | C41: =INDEX(発注者入力シート!$B$37:$G$46,MATCH(発注者入力シート!N18,発注者入力シート!$C$37:$C$46,0),6) -> #N/A | D41: 地域貢献・その他 | E41: CCUSの活用 | F41: 対象 | G41: =IF('建設キャリアアップシステム(CCUS)'!B8="","",'建設キャリアアップシステム(CCUS)'!B8) -> 当該工事における建設キャリアアップシステム（CCUS）の活用することの確約
A42: =INDEX(発注者入力シート!$B$47:$G$48,MATCH(発注者入力シート!O7,発注者入力シート!$C$47:$C$48,0),5) -> #N/A | B42: - | C42: =INDEX(発注者入力シート!$B$47:$G$48,MATCH(発注者入力シート!O7,発注者入力シート!$C$47:$C$48,0),6) -> #N/A | D42: 地理的条件 | E42: 会社所在地 | F42: 対象 | G42: =IF(会社所在地!B10="","",会社所在地!B10) -> 入札公告日前日において、評価対象地域内に建設業法で規定する主たる営業所（本店）または従たる営業所（支店、営業所）がある者
A43: =A42 -> #N/A | B43: - | C43: =C42 -> #N/A | F43: 評価対象地域 | G43: =IF(会社所在地!D13="","",会社所在地!D13) -> ○○県土整備事務所管内

Sheet 発注者審査作業用シート (技術提案)
A1: このシートは、「技術審査用ファイル」の「技術提案①～⑥」にコピー作業を行うためのものです
B2: 技術提案
B3: 技術提案b① | C3: 技術提案b② | D3: 技術提案b③ | E3: 技術提案b④ | F3: 技術提案① | G3: 技術提案② | H3: 技術提案③
B4: =IF(技術提案ｂ①!B5="","",技術提案ｂ①!B5) | C4: =IF(技術提案ｂ②!B5="","",技術提案ｂ②!B5) | D4: =IF(技術提案ｂ③!B5="","",技術提案ｂ③!B5) | E4: =IF(技術提案ｂ④!B5="","",技術提案ｂ④!B5) | F4: =IF(技術提案①!B5="","",技術提案①!B5) | G4: =IF(技術提案②!B5="","",技術提案②!B5) | H4: =IF(技術提案③!B5="","",技術提案③!B5)
B8: =IF(技術提案ｂ①!B20="","",技術提案ｂ①!B20) -> 使用材料 | C8: =IF(技術提案ｂ②!B20="","",技術提案ｂ②!B20) -> 使用材料 | D8: =IF(技術提案ｂ③!B20="","",技術提案ｂ③!B20) -> 使用材料 | E8: =IF(技術提案ｂ④!B20="","",技術提案ｂ④!B20) -> 使用材料 | F8: =IF(技術提案①!A20="","",技術提案①!A20) -> ① ◯◯◯◯◯ （現場特性・概要） （時期、期間） （位置、範囲） （内容《誰が･何を･どうする》、数量、材料、機械等） （目的、効果、優位性） （効果の技術的根拠） （その他） | G8: =IF(技術提案②!A20="","",技術提案②!A20) -> ① ◯◯◯◯◯ （現場特性・概要） （時期、期間） （位置、範囲） （内容《誰が･何を･どうする》、数量、材料、機械等） （目的、効果、優位性） （効果の技術的根拠） （その他） | H8: =IF(技術提案③!A20="","",技術提案③!A20) -> ① ◯◯◯◯◯ （現場特性・概要） （時期、期間） （位置、範囲） （内容《誰が･何を･どうする》、数量、材料、機械等） （目的、効果、優位性） （効果の技術的根拠） （その他）
B9: =IF(技術提案ｂ①!A21="","",技術提案ｂ①!A21) -> ① ◯◯◯◯◯ （現場特性・概要）（時期、期間）（位置、範囲）（内容《誰が･何を･どうする》、数量、材料、機械等）（目的、効果、優位性）（効果の技術的根拠）（その他） | C9: =IF(技術提案ｂ②!A21="","",技術提案ｂ②!A21) -> ① ◯◯◯◯◯ （現場特性・概要）（時期、期間）（位置、範囲）（内容《誰が･何を･どうする》、数量、材料、機械等）（目的、効果、優位性）（効果の技術的根拠）（その他） | D9: =IF(技術提案ｂ③!A21="","",技術提案ｂ③!A21) -> ① ◯◯◯◯◯ （現場特性・概要）（時期、期間）（位置、範囲）（内容《誰が･何を･どうする》、数量、材料、機械等）（目的、効果、優位性）（効果の技術的根拠）（その他） | E9: =IF(技術提案ｂ④!A21="","",技術提案ｂ④!A21) -> ① ◯◯◯◯◯ （現場特性・概要）（時期、期間）（位置、範囲）（内容《誰が･何を･どうする》、数量、材料、機械等）（目的、効果、優位性）（効果の技術的根拠）（その他） | F9: =IF(技術提案①!A27="","",技術提案①!A27) -> ② ◯◯◯◯◯ （現場特性・概要） （時期、期間） （位置、範囲） （内容《誰が･何を･どうする》、数量、材料、機械等） （目的、効果、優位性） （効果の技術的根拠） （その他） | G9: =IF(技術提案②!A27="","",技術提案②!A27) -> ② ◯◯◯◯◯ （現場特性・概要） （時期、期間） （位置、範囲） （内容《誰が･何を･どうする》、数量、材料、機械等） （目的、効果、優位性） （効果の技術的根拠） （その他） | H9: =IF(技術提案③!A27="","",技術提案③!A27) -> ② ◯◯◯◯◯ （現場特性・概要） （時期、期間） （位置、範囲） （内容《誰が･何を･どうする》、数量、材料、機械等） （目的、効果、優位性） （効果の技術的根拠） （その他）
B10: =IF(技術提案ｂ①!A25="","",技術提案ｂ①!A25) -> ② ◯◯◯◯◯ （現場特性・概要）（時期、期間）（位置、範囲）（内容《誰が･何を･どうする》、数量、材料、機械等）（目的、効果、優位性）（効果の技術的根拠）（その他） | C10: =IF(技術提案ｂ②!A25="","",技術提案ｂ②!A25) -> ② ◯◯◯◯◯ （現場特性・概要）（時期、期間）（位置、範囲）（内容《誰が･何を･どうする》、数量、材料、機械等）（目的、効果、優位性）（効果の技術的根拠）（その他） | D10: =IF(技術提案ｂ③!A25="","",技術提案ｂ③!A25) -> ② ◯◯◯◯◯ （現場特性・概要）（時期、期間）（位置、範囲）（内容《誰が･何を･どうする》、数量、材料、機械等）（目的、効果、優位性）（効果の技術的根拠）（その他） | E10: =IF(技術提案ｂ④!A25="","",技術提案ｂ④!A25) -> ② ◯◯◯◯◯ （現場特性・概要）（時期、期間）（位置、範囲）（内容《誰が･何を･どうする》、数量、材料、機械等）（目的、効果、優位性）（効果の技術的根拠）（その他） | F10: =IF(技術提案①!A34="","",技術提案①!A34) -> ③ ◯◯◯◯◯ （現場特性・概要） （時期、期間） （位置、範囲） （内容《誰が･何を･どうする》、数量、材料、機械等） （目的、効果、優位性） （効果の技術的根拠） （その他） | G10: =IF(技術提案②!A34="","",技術提案②!A34) -> ③ ◯◯◯◯◯ （現場特性・概要） （時期、期間） （位置、範囲） （内容《誰が･何を･どうする》、数量、材料、機械等） （目的、効果、優位性） （効果の技術的根拠） （その他） | H10: =IF(技術提案③!A34="","",技術提案③!A34) -> ③ ◯◯◯◯◯ （現場特性・概要） （時期、期間） （位置、範囲） （内容《誰が･何を･どうする》、数量、材料、機械等） （目的、効果、優位性） （効果の技術的根拠） （その他）
B11: =IF(技術提案ｂ①!B29="","",技術提案ｂ①!B29) -> 使用材料 | C11: =IF(技術提案ｂ②!B29="","",技術提案ｂ②!B29) -> 使用材料 | D11: =IF(技術提案ｂ③!B29="","",技術提案ｂ③!B29) -> 使用材料 | E11: =IF(技術提案ｂ④!B29="","",技術提案ｂ④!B29) -> 使用材料
B12: =IF(技術提案ｂ①!A30="","",技術提案ｂ①!A30) -> ① ◯◯◯◯◯ （現場特性・概要）（時期、期間）（位置、範囲）（内容《誰が･何を･どうする》、数量、材料、機械等）（目的、効果、優位性）（効果の技術的根拠）（その他） | C12: =IF(技術提案ｂ②!A30="","",技術提案ｂ②!A30) -> ① ◯◯◯◯◯ （現場特性・概要）（時期、期間）（位置、範囲）（内容《誰が･何を･どうする》、数量、材料、機械等）（目的、効果、優位性）（効果の技術的根拠）（その他） | D12: =IF(技術提案ｂ③!A30="","",技術提案ｂ③!A30) -> ① ◯◯◯◯◯ （現場特性・概要）（時期、期間）（位置、範囲）（内容《誰が･何を･どうする》、数量、材料、機械等）（目的、効果、優位性）（効果の技術的根拠）（その他） | E12: =IF(技術提案ｂ④!A30="","",技術提案ｂ④!A30) -> ① ◯◯◯◯◯ （現場特性・概要）（時期、期間）（位置、範囲）（内容《誰が･何を･どうする》、数量、材料、機械等）（目的、効果、優位性）（効果の技術的根拠）（その他）
B13: =IF(技術提案ｂ①!A34="","",技術提案ｂ①!A34) -> ② ◯◯◯◯◯ （現場特性・概要）（時期、期間）（位置、範囲）（内容《誰が･何を･どうする》、数量、材料、機械等）（目的、効果、優位性）（効果の技術的根拠）（その他） | C13: =IF(技術提案ｂ②!A34="","",技術提案ｂ②!A34) -> ② ◯◯◯◯◯ （現場特性・概要）（時期、期間）（位置、範囲）（内容《誰が･何を･どうする》、数量、材料、機械等）（目的、効果、優位性）（効果の技術的根拠）（その他） | D13: =IF(技術提案ｂ③!A34="","",技術提案ｂ③!A34) -> ② ◯◯◯◯◯ （現場特性・概要）（時期、期間）（位置、範囲）（内容《誰が･何を･どうする》、数量、材料、機械等）（目的、効果、優位性）（効果の技術的根拠）（その他） | E13: =IF(技術提案ｂ④!A34="","",技術提案ｂ④!A34) -> ② ◯◯◯◯◯ （現場特性・概要）（時期、期間）（位置、範囲）（内容《誰が･何を･どうする》、数量、材料、機械等）（目的、効果、優位性）（効果の技術的根拠）（その他）
B14: =IF(技術提案ｂ①!B38="","",技術提案ｂ①!B38) -> 使用材料 | C14: =IF(技術提案ｂ②!B38="","",技術提案ｂ②!B38) -> 使用材料 | D14: =IF(技術提案ｂ③!B38="","",技術提案ｂ③!B38) -> 使用材料 | E14: =IF(技術提案ｂ④!B38="","",技術提案ｂ④!B38) -> 使用材料
B15: =IF(技術提案ｂ①!A39="","",技術提案ｂ①!A39) -> ① ◯◯◯◯◯ （現場特性・概要）（時期、期間）（位置、範囲）（内容《誰が･何を･どうする》、数量、材料、機械等）（目的、効果、優位性）（効果の技術的根拠）（その他） | C15: =IF(技術提案ｂ②!A39="","",技術提案ｂ②!A39) -> ① ◯◯◯◯◯ （現場特性・概要）（時期、期間）（位置、範囲）（内容《誰が･何を･どうする》、数量、材料、機械等）（目的、効果、優位性）（効果の技術的根拠）（その他） | D15: =IF(技術提案ｂ③!A39="","",技術提案ｂ③!A39) -> ① ◯◯◯◯◯ （現場特性・概要）（時期、期間）（位置、範囲）（内容《誰が･何を･どうする》、数量、材料、機械等）（目的、効果、優位性）（効果の技術的根拠）（その他） | E15: =IF(技術提案ｂ④!A39="","",技術提案ｂ④!A39) -> ① ◯◯◯◯◯ （現場特性・概要）（時期、期間）（位置、範囲）（内容《誰が･何を･どうする》、数量、材料、機械等）（目的、効果、優位性）（効果の技術的根拠）（その他）
B16: =IF(技術提案ｂ①!A43="","",技術提案ｂ①!A43) -> ② ◯◯◯◯◯ （現場特性・概要）（時期、期間）（位置、範囲）（内容《誰が･何を･どうする》、数量、材料、機械等）（目的、効果、優位性）（効果の技術的根拠）（その他） | C16: =IF(技術提案ｂ②!A43="","",技術提案ｂ②!A43) -> ② ◯◯◯◯◯ （現場特性・概要）（時期、期間）（位置、範囲）（内容《誰が･何を･どうする》、数量、材料、機械等）（目的、効果、優位性）（効果の技術的根拠）（その他） | D16: =IF(技術提案ｂ③!A43="","",技術提案ｂ③!A43) -> ② ◯◯◯◯◯ （現場特性・概要）（時期、期間）（位置、範囲）（内容《誰が･何を･どうする》、数量、材料、機械等）（目的、効果、優位性）（効果の技術的根拠）（その他） | E16: =IF(技術提案ｂ④!A43="","",技術提案ｂ④!A43) -> ② ◯◯◯◯◯ （現場特性・概要）（時期、期間）（位置、範囲）（内容《誰が･何を･どうする》、数量、材料、機械等）（目的、効果、優位性）（効果の技術的根拠）（その他）
B17: =IF(技術提案ｂ①!B47="","",技術提案ｂ①!B47) -> 使用材料 | C17: =IF(技術提案ｂ②!B47="","",技術提案ｂ②!B47) -> 使用材料 | D17: =IF(技術提案ｂ③!B47="","",技術提案ｂ③!B47) -> 使用材料 | E17: =IF(技術提案ｂ④!B47="","",技術提案ｂ④!B47) -> 使用材料
B18: =IF(技術提案ｂ①!A48="","",技術提案ｂ①!A48) -> ① ◯◯◯◯◯ （現場特性・概要）（時期、期間）（位置、範囲）（内容《誰が･何を･どうする》、数量、材料、機械等）（目的、効果、優位性）（効果の技術的根拠）（その他） | C18: =IF(技術提案ｂ②!A48="","",技術提案ｂ②!A48) -> ① ◯◯◯◯◯ （現場特性・概要）（時期、期間）（位置、範囲）（内容《誰が･何を･どうする》、数量、材料、機械等）（目的、効果、優位性）（効果の技術的根拠）（その他） | D18: =IF(技術提案ｂ③!A48="","",技術提案ｂ③!A48) -> ① ◯◯◯◯◯ （現場特性・概要）（時期、期間）（位置、範囲）（内容《誰が･何を･どうする》、数量、材料、機械等）（目的、効果、優位性）（効果の技術的根拠）（その他） | E18: =IF(技術提案ｂ④!A48="","",技術提案ｂ④!A48) -> ① ◯◯◯◯◯ （現場特性・概要）（時期、期間）（位置、範囲）（内容《誰が･何を･どうする》、数量、材料、機械等）（目的、効果、優位性）（効果の技術的根拠）（その他）
B19: =IF(技術提案ｂ①!A52="","",技術提案ｂ①!A52) -> ② ◯◯◯◯◯ （現場特性・概要）（時期、期間）（位置、範囲）（内容《誰が･何を･どうする》、数量、材料、機械等）（目的、効果、優位性）（効果の技術的根拠）（その他） | C19: =IF(技術提案ｂ②!A52="","",技術提案ｂ②!A52) -> ② ◯◯◯◯◯ （現場特性・概要）（時期、期間）（位置、範囲）（内容《誰が･何を･どうする》、数量、材料、機械等）（目的、効果、優位性）（効果の技術的根拠）（その他） | D19: =IF(技術提案ｂ③!A52="","",技術提案ｂ③!A52) -> ② ◯◯◯◯◯ （現場特性・概要）（時期、期間）（位置、範囲）（内容《誰が･何を･どうする》、数量、材料、機械等）（目的、効果、優位性）（効果の技術的根拠）（その他） | E19: =IF(技術提案ｂ④!A52="","",技術提案ｂ④!A52) -> ② ◯◯◯◯◯ （現場特性・概要）（時期、期間）（位置、範囲）（内容《誰が･何を･どうする》、数量、材料、機械等）（目的、効果、優位性）（効果の技術的根拠）（その他）

Sheet 発注者審査作業用シート（提案以外）
A1: このシートは、「技術審査用ファイル」の「作業用シート」に一括コピー作業を行うためのものです
A2: ＜シートの説明＞
B3: ・「技術審査用ファイル」の「作業用シート」へ一括コピーするため、「コピー専用表」をこのシートに設定しています。
B4: ・コピーする範囲は、「コピー専用表」の薄オレンジ部分（評価項目：１９～２５行）と白色部分（企業申請内容：２６行～３３行）です。
B5: ・文字切れやフォントサイズの修正は、「技術審査用ファイル」で行いますので、このシートでは作業不要です。
B6: ・「コピー専用表」は、「技術審査用ファイル」の「技術審査用シート」で見えやすいように概ね書式調整しています。「技術審査用シート」で見えにくいときのみ、コピー専用表の書式を修正してください。
A7: ＜作業手順＞・・・・以下の作業は、必ず別ファイルとして公告用ファイルを作成し、公告用ファイルで作業してください（１回シートや列を削除すると元の状態に戻せなくなります）。
A8: 準備作業： | B8: 不要な評価項目の列全体をこのシートから削除。不要な様式も削除してください。
B9: 評価項目の列全体を削除する際、コピー先の配列（「技術審査用ファイル」）に合わせておく必要があります（「技術審査用ファイル」の自動集計に支障が生じるため）。
B10: 予備欄等を活用して配列を合わせてください。
B11: 「技術審査用ファイル」の固定配列（※１項目３列で設定してあります）
B12: 企業：４項目、配置予定技術者①：４項目、配置予定技術者②：４項目、配置予定技術者③：４項目、地域貢献・その他：７項目、地理的条件：２項目
A13: 手順①： | B13: 「コピー専用表」の薄オレンジ部分全体を指定しコピー後、「技術審査用ファイル」の「作業用シート」の「貼り付け箇所A」に、貼り付けオプションの「値」で貼り付け。
A14: 手順②： | B14: 手順①の後、同じ場所（貼り付け箇所A）に貼り付けオプションの「書式設定」で貼り付けると、コピー専用行で設定された書式でコピー可能。
A15: 手順③： | B15: 手順①、手順②の方法により、「コピー専用表」の白色部分全体を「技術審査用ファイル」の「作業用シート」の「貼り付け箇所B」に貼り付け。
A17: 以下、審査用ファイルの「作業用」シートへの「コピー専用表」 | X17: 削除× | AA17: 審査用ファイルコピー先の列数と合わせるため削除× | AJ17: 削除× | AM17: 審査用ファイルコピー先の列数と合わせるため削除× | AV17: 削除× | AY17: 審査用ファイルコピー先の列数と合わせるため削除× | BZ17: 審査用ファイルコピー先の列数と合わせるための欄 | CC17: 審査用ファイルコピー先の列数と合わせるための欄 | CF17: 審査用ファイルコピー先の列数と合わせるための欄 | CL17: 審査用ファイルコピー先の列数と合わせるための列
B18: 行番号 | C18: =CONCATENATE("様式-",INDEX(発注者入力シート!$B$28:$G$32,MATCH(発注者入力シート!L6,発注者入力シート!$C$28:$C$32,0),4)) -> 様式-２ | F18: =CONCATENATE("様式-",INDEX(発注者入力シート!$B$28:$G$32,MATCH(発注者入力シート!L7,発注者入力シート!$C$28:$C$32,0),4)) -> 様式-３ | I18: =CONCATENATE("様式-",INDEX(発注者入力シート!$B$28:$G$32,MATCH(発注者入力シート!L8,発注者入力シート!$C$28:$C$32,0),4)) -> 様式-４ | L18: =CONCATENATE("様式-",INDEX(発注者入力シート!$B$28:$G$32,MATCH(発注者入力シート!L8,発注者入力シート!$C$28:$C$32,0),4)) -> 様式-４ | O18: =CONCATENATE("様式-",INDEX(発注者入力シート!$B$28:$G$32,MATCH(発注者入力シート!L11,発注者入力シート!$C$28:$C$32,0),4)) -> #N/A | R18: =CONCATENATE("様式-",INDEX(発注者入力シート!$B$28:$G$32,MATCH(発注者入力シート!L13,発注者入力シート!$C$28:$C$32,0),4)) -> #N/A | U18: =CONCATENATE("様式-",INDEX(発注者入力シート!$B$33:$G$36,MATCH(発注者入力シート!M10,発注者入力シート!$C$33:$C$36,0),4)) -> 様式-５ | X18: =CONCATENATE("様式-",INDEX(発注者入力シート!$B$33:$G$36,MATCH(発注者入力シート!M7,発注者入力シート!$C$33:$C$36,0),4)) -> 様式-６ | AD18: =CONCATENATE("様式-",INDEX(発注者入力シート!$B$33:$G$36,MATCH(発注者入力シート!M12,発注者入力シート!$C$33:$C$36,0),4)) -> #N/A | AG18: =CONCATENATE("様式-",INDEX(発注者入力シート!$B$33:$G$36,MATCH(発注者入力シート!M10,発注者入力シート!$C$33:$C$36,0),4)) -> 様式-５ | AJ18: =CONCATENATE("様式-",INDEX(発注者入力シート!$B$33:$G$36,MATCH(発注者入力シート!M7,発注者入力シート!$C$33:$C$36,0),4)) -> 様式-６ | AM18: =CONCATENATE("様式-",INDEX(発注者入力シート!$B$33:$G$36,MATCH(発注者入力シート!J14,発注者入力シート!$C$33:$C$36,0),4)) -> #N/A | AP18: =CONCATENATE("様式-",INDEX(発注者入力シート!$B$33:$G$36,MATCH(発注者入力シート!M12,発注者入力シート!$C$33:$C$36,0),4)) -> #N/A | AS18: =CONCATENATE("様式-",INDEX(発注者入力シート!$B$33:$G$36,MATCH(発注者入力シート!M10,発注者入力シート!$C$33:$C$36,0),4)) -> 様式-５ | AV18: =CONCATENATE("様式-",INDEX(発注者入力シート!$B$33:$G$36,MATCH(発注者入力シート!M7,発注者入力シート!$C$33:$C$36,0),4)) -> 様式-６ | AY18: =CONCATENATE("様式-",INDEX(発注者入力シート!$B$33:$G$36,MATCH(発注者入力シート!J14,発注者入力シート!$C$33:$C$36,0),4)) -> #N/A | BB18: =CONCATENATE("様式-",INDEX(発注者入力シート!$B$33:$G$36,MATCH(発注者入力シート!M12,発注者入力シート!$C$33:$C$36,0),4)) -> #N/A | BE18: =CONCATENATE("様式-",INDEX(発注者入力シート!$B$37:$G$46,MATCH(発注者入力シート!N8,発注者入力シート!$C$37:$C$46,0),4)) -> 様式-８ | BH18: =CONCATENATE("様式-",INDEX(発注者入力シート!$B$37:$G$46,MATCH(発注者入力シート!N11,発注者入力シート!$C$37:$C$46,0),4),"など") -> 様式-９など | BK18: =CONCATENATE("様式-",INDEX(発注者入力シート!$B$37:$G$46,MATCH(発注者入力シート!N14,発注者入力シート!$C$37:$C$46,0),4)) -> 様式-１２ | BN18: =CONCATENATE("様式-",INDEX(発注者入力シート!$B$37:$G$46,MATCH(発注者入力シート!N15,発注者入力シート!$C$37:$C$46,0),4)) -> 様式-１４ | BQ18: =CONCATENATE("様式-",INDEX(発注者入力シート!$B$37:$G$46,MATCH(発注者入力シート!N16,発注者入力シート!$C$37:$C$46,0),4)) -> #N/A | BT18: =CONCATENATE("様式-",INDEX(発注者入力シート!$B$37:$G$46,MATCH(発注者入力シート!N17,発注者入力シート!$C$37:$C$46,0),4)) -> #N/A | BW18: =CONCATENATE("様式-",INDEX(発注者入力シート!$B$37:$G$46,MATCH(発注者入力シート!N18,発注者入力シート!$C$37:$C$46,0),4)) -> #N/A | CI18: =CONCATENATE("様式-",INDEX(発注者入力シート!$B$47:$G$48,MATCH(発注者入力シート!O7,発注者入力シート!$C$47:$C$48,0),4)) -> #N/A
A19: コピー専用行 | B19: a0 | C19: 企業 | F19: 企業 | I19: 企業 | L19: 企業 | O19: 企業【建築】 | R19: 企業 | U19: 配置予定技術者① | X19: 配置予定技術者① | AA19: 配置予定技術者① | AD19: 配置予定技術者① | AG19: 配置予定技術者② | AJ19: 配置予定技術者② | AM19: 配置予定技術者② | AP19: 配置予定技術者② | AS19: 配置予定技術者③ | AV19: 配置予定技術者③ | AY19: 配置予定技術者③ | BB19: 配置予定技術者③ | BE19: 地域貢献・その他 | BH19: 地域貢献・その他 | BK19: 【電気工事】、【塗装工事】企業 | BN19: 地域貢献・その他 | BQ19: 地域貢献・その他 | BT19: 地域貢献・その他【建築】 | BW19: 地域貢献・その他 | BZ19: 地域貢献・その他 | CC19: 地域貢献・その他 | CF19: 地域貢献・その他 | CI19: 地理的条件 | CL19: 地理的条件
A20: コピー専用行 | B20: a1 | C20: 工事成績評定点(JV) | F20: 施工実績 | I20: 優良工事表彰 | L20: 優良工事表彰(JV) | O20: 企業の継続能力開発（CPD)制度の参加登録 | R20: 予備欄 | U20: 工事成績評定点（JV） | X20: 施工経験 | AA20: 予備欄① | AD20: 予備欄② | AG20: 工事成績評定点（JV） | AJ20: 施工経験 | AM20: 予備欄① | AP20: 予備欄② | AS20: 工事成績評定点（JV） | AV20: 施工経験 | AY20: 予備欄① | BB20: 予備欄② | BE20: ボランティア（JV） | BH20: 労働福祉関連（JV） | BK20: 登録基幹技能者 | BN20: 若手技術者・従業員の新規雇用（JV） | BQ20: 消防団協力事業所 | BT20: 応急危険度判定士の登録 | BW20: CCUSの活用 | BZ20: 予備欄 | CC20: 予備欄 | CF20: 予備欄 | CI20: 会社所在地 | CL20: 予備欄１
A21: コピー専用行 | B21: a | C21: =C39 -> 完成年度 | D21: =D39 -> 令和３年度から令和７年度（完成及び引き渡しが完了） | E21: =E39 -> 0 | F21: =F39 -> 対象期間 | G21: =G39 -> 平成２８年度から入札公告日前日までに完成及び引き渡しが完了した工事 | I21: =I39 -> 対象年度・機関等 | J21: =J39 -> 島根県内の公共事業において、平成28年度から令和2年度に、島根県及び中国地方整備局発注工事で受けた建築一式工事の優良工事表彰（優良工事施工団体表彰） | L21: =L39 -> 対象年度・機関等 | M21: =M39 -> 島根県内の公共事業において、令和４年度から令和８年度に、島根県及び中国地方整備局発注工事で受けた建築部門の優良工事表彰（優良工事施工団体表彰） ・工事種別：建築物に係る電気工事 ・建設工事の種類：電気工事、消防施設工事 | N21: =N39 -> 0 | O21: =O39 -> 入札公告日前日におけるCPD制度に参加登録している社員数の合計 | P21: =P39 -> 0 | Q21: =Q39 -> 0 | U21: =U39 -> 完成年度 | V21: =V39 -> 令和３年度から令和７年度（完成及び引き渡しが完了） | X21: =X39 -> 対象年度・機関等 | Y21: =Y39 -> 平成２８年度から入札公告日前日までに完成及び引き渡しが完了した島根県、島根県内の市町村又は国の機関（独立行政法人等を含みコリンズ登録があるものに限る。）発注工事 | AG21: =AG39 -> 完成年度 | AH21: =AH39 -> 令和３年度から令和７年度（完成及び引き渡しが完了） | AJ21: =AJ39 -> 対象年度・機関等 | AK21: =AK39 -> 平成２８年度から入札公告日前日までに完成及び引き渡しが完了した島根県、島根県内の市町村又は国の機関（独立行政法人等を含みコリンズ登録があるものに限る。）発注工事 | AS21: =AS39 -> 完成年度 | AT21: =AT39 -> 令和３年度から令和７年度（完成及び引き渡しが完了） | AV21: =AV39 -> 対象年度・機関等 | AW21: =AW39 -> 平成２８年度から入札公告日前日までに完成及び引き渡しが完了した島根県、島根県内の市町村又は国の機関（独立行政法人等を含みコリンズ登録があるものに限る。）発注工事 | BE21: =BE39 -> 対象 | BF21: =BF39 -> 令和６年度及び令和７年度における島根県内で実施されたボランティア活動又はハートフルしまねへの参加実績 | BG21: =BG39 -> 0 | BH21: =BH39 -> 対象 | BI21: =BI39 -> 入札公告日前日時点での取り組み状況 | BJ21: =BJ39 -> 0 | BK21: =BK39 -> 登録電気工事基幹技能者の現場への配置 | BN21: =BN39 -> 対象 | BO21: =BO39 -> 令和６年4月1日以降に、若手技術者・若手従業員（３０歳未満の者）の１人以上の新規雇用があること。 | BP21: =BP39 -> 0 | BQ21: =BQ39 -> 対象 | BR21: =BR39 -> 入札公告日前日時点（令和8年10月14日時点）での消防団協力事業所の認定状況 | BS21: =BS39 -> 0 | BT21: =BT39 -> 入札公告日前日における会社に所属する「島根県地震被災建築物応急危険度判定士」に登録している社員数の合計 | BU21: =BU39 -> 0 | ... BY21: =BY39 -> 0 | CI21: =CI39 -> 対象 | CJ21: =CJ39 -> 入札公告日前日において、評価対象地域内に建設業法で規定する主たる営業所（本店）または従たる営業所（支店、営業所）がある者
A22: コピー専用行 | B22: b | C22: =C40 -> 発注機関 | D22: =D40 -> 島根県（総務部(企業局及び病院局契約を含み、企業局及び病院局発注工事は除く。)、農林水産部、土木部） | E22: =E40 -> 0 | F22: =F40 -> 同種工事 | G22: =G40 -> １契約で税込み最終金額が５億２，０００万円以上の住宅以外の建築物に係る電気工事 | L22: =L40 -> 0 | M22: =M40 -> 0 | N22: =N40 -> 0 | O22: =O40 -> 0 | P22: =P40 -> 0 | Q22: =Q40 -> 0 | U22: =U40 -> 発注機関 | V22: =V40 -> 島根県（総務部(企業局及び病院局契約を含み、企業局及び病院局発注工事は除く。)、農林水産部、土木部） | X22: =X40 -> 同種工事 | Y22: =Y40 -> １契約で税込み最終金額が２億６，０００万円以上の住宅以外の建築物に係る電気工事 | AG22: =AG40 -> 発注機関 | AH22: =AH40 -> 島根県（総務部(企業局及び病院局契約を含み、企業局及び病院局発注工事は除く。)、農林水産部、土木部） | AJ22: =AJ40 -> 同種工事 | AK22: =AK40 -> １契約で税込み最終金額が２億６，０００万円以上の住宅以外の建築物に係る電気工事 | AS22: =AS40 -> 発注機関 | AT22: =AT40 -> 島根県（総務部(企業局及び病院局契約を含み、企業局及び病院局発注工事は除く。)、農林水産部、土木部） | AV22: =AV40 -> 同種工事 | AW22: =AW40 -> １契約で税込み最終金額が２億６，０００万円以上の住宅以外の建築物に係る電気工事 | BE22: =BE40 -> 0 | BF22: =BF40 -> 0 | BG22: =BG40 -> 0 | BH22: =BH40 -> 0 | BI22: =BI40 -> 0 | BJ22: =BJ40 -> 0 | BN22: =BN40 -> 0 | BO22: =BO40 -> 0 | BP22: =BP40 -> 0 | BQ22: =BQ40 -> 0 | BR22: =BR40 -> 0 | BS22: =BS40 -> 0 | BT22: =BT40 -> 0 | BU22: =BU40 -> 0 | ... BY22: =BY40 -> 0
A23: コピー専用行 | B23: c | C23: =C41 -> 工事種別 | D23: =D41 -> 建築物に係る電気工事 | E23: =E41 -> 0 | F23: =F41 -> 工事種別 | G23: =G41 -> 建築物に係る電気工事 | I23: =I41 -> 工事種別 | J23: =J41 -> 建築物に係る電気工事 | L23: =L41 -> 0 | M23: =M41 -> 0 | N23: =N41 -> 0 | O23: =O41 -> 0 | P23: =P41 -> 0 | Q23: =Q41 -> 0 | U23: =U41 -> 工事種別 | V23: =V41 -> 建築物に係る電気工事 | X23: =X41 -> 工事種別 | Y23: =Y41 -> 建築物に係る電気工事 | AG23: =AG41 -> 工事種別 | AH23: =AH41 -> 建築物に係る電気工事 | AJ23: =AJ41 -> 工事種別 | AK23: =AK41 -> 建築物に係る電気工事 | AS23: =AS41 -> 工事種別 | AT23: =AT41 -> 建築物に係る電気工事 | AV23: =AV41 -> 工事種別 | AW23: =AW41 -> 建築物に係る電気工事 | BE23: =BE41 -> 0 | BF23: =BF41 -> 0 | BG23: =BG41 -> 0 | BH23: =BH41 -> 0 | BI23: =BI41 -> 0 | BJ23: =BJ41 -> 0 | BN23: =BN41 -> 0 | BO23: =BO41 -> 0 | BP23: =BP41 -> 0 | BQ23: =BQ41 -> 0 | BR23: =BR41 -> 0 | BS23: =BS41 -> 0 | BT23: =BT41 -> 0 | BU23: =BU41 -> 0 | ... BY23: =BY41 -> 0
A24: コピー専用行 | B24: d | C24: =C42 -> 建設工事の種類 | D24: =D42 -> 電気工事、消防施設工事 | E24: =E42 -> 0 | F24: =F42 -> 建設工事の種類 | G24: =G42 -> 電気工事、消防施設工事 | I24: =I42 -> 建設工事の種類 | J24: =J42 -> 電気工事、消防施設工事 | L24: =L42 -> 0 | M24: =M42 -> 0 | N24: =N42 -> 0 | O24: =O42 -> 0 | P24: =P42 -> 0 | Q24: =Q42 -> 0 | U24: =U42 -> 建設工事の種類 | V24: =V42 -> 電気工事、消防施設工事 | X24: =X42 -> 建設工事の種類 | Y24: =Y42 -> 電気工事、消防施設工事 | AG24: =AG42 -> 建設工事の種類 | AH24: =AH42 -> 電気工事、消防施設工事 | AJ24: =AJ42 -> 建設工事の種類 | AK24: =AK42 -> 電気工事、消防施設工事 | AS24: =AS42 -> 建設工事の種類 | AT24: =AT42 -> 電気工事、消防施設工事 | AV24: =AV42 -> 建設工事の種類 | AW24: =AW42 -> 電気工事、消防施設工事 | BE24: =BE42 -> 0 | BF24: =BF42 -> 0 | BG24: =BG42 -> 0 | BH24: =BH42 -> 0 | BI24: =BI42 -> 0 | BJ24: =BJ42 -> 0 | BN24: =BN42 -> 0 | BO24: =BO42 -> 0 | BP24: =BP42 -> 0 | BQ24: =BQ42 -> 0 | BR24: =BR42 -> 0 | BS24: =BS42 -> 0 | BT24: =BT42 -> 0 | BU24: =BU42 -> 0 | ... BY24: =BY42 -> 0 | CI24: =CI42 -> 評価地域 | CJ24: =CJ42 -> ○○県土整備事務所管内
A25: コピー専用行 | B25: e | C25: =C43 -> 対象 | D25: =D43 -> 該当件数 | E25: =E43 -> 平均点 | F25: =F43 -> 項目名 | G25: =G43 -> 工事① | H25: =H43 -> 工事② | I25: =I43 -> 表彰区分 | J25: =J43 -> 実績 | L25: =L43 -> 受賞企業 | M25: =M43 -> 企業名 | O25: 合計人数 | U25: =U43 -> 該当企業 | V25: =V43 -> 件数 | W25: =W43 -> 平均点 | X25: =X43 -> 項目名 | Y25: =Y43 -> 工事① | Z25: =Z43 -> 工事② | AG25: =AG43 -> 該当企業 | AH25: =AH43 -> 件数 | AI25: =AI43 -> 平均点 | AJ25: =AJ43 -> 項目名 | AK25: =AK43 -> 工事① | AL25: =AL43 -> 工事② | AS25: =AS43 -> 該当企業 | AT25: =AT43 -> 件数 | AU25: =AU43 -> 平均点 | AV25: =AV43 -> 項目名 | AW25: =AW43 -> 工事① | AX25: =AX43 -> 工事② | BE25: =BE43 -> 対象企業 | BF25: =BF43 -> ボランティア | BG25: =BG43 -> ﾊｰﾄﾌﾙ | BH25: =BH43 -> 第1ｸﾞﾙｰﾌﾟ | BI25: =BI43 -> 第2ｸﾞﾙｰﾌﾟ | BJ25: =BJ43 -> 第3ｸﾞﾙｰﾌﾟ | BK25: 項目名 | BL25: 状況 | BN25: =BN43 -> 第1ｸﾞﾙｰﾌﾟ | BO25: =BO43 -> 第2ｸﾞﾙｰﾌﾟ | BP25: =BP43 -> 第3ｸﾞﾙｰﾌﾟ | BQ25: =BQ43 -> 項目名 | BR25: =BR43 -> 状況 | BT25: =BU43 -> 登録人数 | BW25: =BW43 -> 項目名 | BX25: =BX43 -> 状況 | CI25: =CI43 -> 項目名 | CJ25: =CJ43 -> 状況
A26: コピー専用行 | B26: 1 | C26: =C44 -> 第1ｸﾞﾙｰﾌﾟ | D26: =D44 | E26: =E44 | F26: =F44 -> 工事名 | G26: =G44 -> 申請なし | H26: =H44 -> 申請なし | I26: =I44 -> 申請なし | J26: =J44 | L26: 第1ｸﾞﾙｰﾌﾟ | M26: =COUNTIF($L$44:$L$53,L26) -> 0 | O26: 合計人数 | P26: =COUNTA(O44:O49)-COUNTBLANK(O44:O49) -> 0 | U26: =U44 -> 第1ｸﾞﾙｰﾌﾟ | V26: =V44 | W26: =W44 | X26: =X44 -> 工事名 | Y26: =Y44 -> 配置なし | Z26: =Z44 | AG26: =AG44 -> 第1ｸﾞﾙｰﾌﾟ | AH26: =AH44 | AI26: =AI44 | AJ26: =AJ44 -> 工事名 | AK26: =AK44 -> 配置なし | AL26: =AL44 | AS26: =AS44 -> 第1ｸﾞﾙｰﾌﾟ | AT26: =AT44 | AU26: =AU44 | AV26: =AV44 -> 工事名 | AW26: =AW44 -> 配置なし | AX26: =AX44 | BE26: 第1ｸﾞﾙｰﾌﾟ | BF26: =IF(BF44="有",BF44&"("&BF47&"人)",BF44) -> 申請なし | BG26: =IF(BG44="有",BG44&"("&BG47&"人)",BG44) -> 申請なし | BK26: =BK44 -> 配置の有無 | BL26: =BL44 -> 申請なし | BN26: =BN44 -> 雇用① | BO26: =BO44 -> 雇用① | BP26: =BP44 -> 雇用① | BQ26: =BQ44 -> 認定有無 | BR26: =BR44 -> 申請なし | BT26: 登録人数 | BU26: =COUNTA(BU44:BU55)-COUNTBLANK(BU44:BU55) -> 0 | BW26: =BW44 -> 確約書の提出 | BX26: =BX44 -> 無 | CI26: =CI44 -> 住所 | CJ26: =CJ44 -> 申請なし
A27: コピー専用行 | B27: 2 | C27: =C45 -> 第2ｸﾞﾙｰﾌﾟ | D27: =D45 | E27: =E45 | F27: =F45 -> 発注機関 | G27: =G45 | H27: =H45 | L27: 第2ｸﾞﾙｰﾌﾟ | M27: =COUNTIF($L$44:$L$53,L27) -> 0 | U27: =U45 -> 第2ｸﾞﾙｰﾌﾟ | V27: =V45 | W27: =W45 | X27: =X45 -> 発注機関 | Y27: =Y45 | Z27: =Z45 | AG27: =AG45 -> 第2ｸﾞﾙｰﾌﾟ | AH27: =AH45 | AI27: =AI45 | AJ27: =AJ45 -> 発注機関 | AK27: =AK45 | AL27: =AL45 | AS27: =AS45 -> 第2ｸﾞﾙｰﾌﾟ | AT27: =AT45 | AU27: =AU45 | AV27: =AV45 -> 発注機関 | AW27: =AW45 | AX27: =AX45 | BE27: 従業員数 | BF27: =IF(BF44="無","",BF48) | BG27: =IF(BG44="無","",BG48) | BN27: =BN45 -> 申請なし | BO27: =BO45 -> 申請なし | BP27: =BP45 -> 申請なし | CI27: =CI45 -> 種類 | CJ27: =CJ45
A28: コピー専用行 | B28: 3 | C28: =C46 -> 第3ｸﾞﾙｰﾌﾟ | D28: =D46 | E28: =E46 | F28: =F46 -> 工事種別 | G28: =G46 | H28: =H46 | L28: 第3ｸﾞﾙｰﾌﾟ | M28: =COUNTIF($L$44:$L$53,L28) -> 0 | U28: =U46 -> 第3ｸﾞﾙｰﾌﾟ | V28: =V46 | W28: =W46 | X28: =X46 -> 施工場所 | Y28: =Y46 | Z28: =Z46 | AG28: =AG46 -> 第3ｸﾞﾙｰﾌﾟ | AH28: =AH46 | AI28: =AI46 | AJ28: =AJ46 -> 施工場所 | AK28: =AK46 | AL28: =AL46 | AS28: =AS46 -> 第3ｸﾞﾙｰﾌﾟ | AT28: =AT46 | AU28: =AU46 | AV28: =AV46 -> 施工場所 | AW28: =AW46 | AX28: =AX46 | BE28: 第2ｸﾞﾙｰﾌﾟ | BF28: =IF(BF49="有",BF49&"("&BF52&"人)",BF49) -> 申請なし | BG28: =IF(BG49="有",BG49&"("&BG52&"人)",BG49) -> 申請なし | BH28: 障がい者雇用 | BN28: =BN46 -> 雇用② | BO28: =BO46 -> 雇用② | BP28: =BP46 -> 雇用②
A29: コピー専用行 | B29: 4 | C29: =C44 -> 第1ｸﾞﾙｰﾌﾟ | E29: =IF(D26="","",IF(D26=1,ROUND(3/5*ROUNDDOWN(0.9*IF(E26<70,0,IF(E26<73,1,IF(80<=E26,5,ROUNDDOWN(1.5+(3.5*(E26-73)/7),1)))),1),1),IF(E26<70,0,IF(E26<73,0.6,IF(80<=E26,3,ROUND(3/5*ROUNDDOWN(1.5+(3.5*(E26-73)/7),1),1)))))) | F29: =F47 -> 建設工事の種類 | G29: =G47 | H29: =H47 | I29: =I45 | J29: =J45 | L29: 合計 | M29: =M26+M27+M28 -> 0 | U29: =U44 -> 第1ｸﾞﾙｰﾌﾟ | W29: =IF(V26="","",IF(W26<70,0,IF(V26>1,HLOOKUP(W26,発注者入力シート!$AM$3:$AV$5,2)*2/5,IF(V26=1,HLOOKUP(W26,発注者入力シート!$AM$3:$AV$5,3)*2/5,"")))) | X29: =X47 -> 請負金額 | Y29: =Y47 | Z29: =Z47 | AG29: =AG44 -> 第1ｸﾞﾙｰﾌﾟ | AI29: =IF(AH26="","",IF(AI26<70,0,IF(AH26>1,HLOOKUP(AI26,発注者入力シート!$AM$3:$AV$5,2)*2/5,IF(AH26=1,HLOOKUP(AI26,発注者入力シート!$AM$3:$AV$5,3)*2/5,"")))) | AJ29: =AJ47 -> 請負金額 | AK29: =AK47 | AL29: =AL47 | AS29: =AS44 -> 第1ｸﾞﾙｰﾌﾟ | AU29: =IF(AT26="","",IF(AU26<70,0,IF(AT26>1,HLOOKUP(AU26,発注者入力シート!$AM$3:$AV$5,2)*2/5,IF(AT26=1,HLOOKUP(AU26,発注者入力シート!$AM$3:$AV$5,3)*2/5,"")))) | AV29: =AV47 -> 請負金額 | AW29: =AW47 | AX29: =AX47 | BE29: 従業員数 | BF29: =IF(BF49="無","",BF53) | BG29: =IF(BG49="無","",BG53) | BH29: =IF(BH47="","申請なし","雇用"&BH47&"人"&CHAR(10)&"義務数"&BH48&"人") -> 申請なし | BI29: =IF(BI47="","申請なし","雇用"&BI47&"人"&CHAR(10)&"義務数"&BI48&"人") -> 申請なし | BJ29: =IF(BJ47="","申請なし","雇用"&BJ47&"人"&CHAR(10)&"義務数"&BJ48&"人") -> 申請なし | BN29: =BN47 -> 申請なし | BO29: =BO47 -> 申請なし | BP29: =BP47 -> 申請なし
A30: コピー専用行 | B30: 5 | C30: =C45 -> 第2ｸﾞﾙｰﾌﾟ | E30: =IF(D27="","",IF(D27=1,ROUND(1/5*ROUNDDOWN(0.9*IF(E27<70,0,IF(E27<73,1,IF(80<=E27,5,ROUNDDOWN(1.5+(3.5*(E27-73)/7),1)))),1),1),IF(E27<70,0,IF(E27<73,0.2,IF(80<=E27,3,ROUND(1/5*ROUNDDOWN(1.5+(3.5*(E27-73)/7),1),1)))))) | F30: 工期 | G30: =G50&CHAR(10)&G51 | H30: =H50&CHAR(10)&H51 | I30: =I46 | J30: =J46 | U30: =U45 -> 第2ｸﾞﾙｰﾌﾟ | W30: =IF(V27="","",IF(W27<70,0,IF(V27>1,HLOOKUP(W27,発注者入力シート!$AM$3:$AV$5,2)*1/5,IF(V27=1,HLOOKUP(W27,発注者入力シート!$AM$3:$AV$5,3)*1/5,"")))) | X30: 工期 | Y30: =Y48&CHAR(10)&Y49 | Z30: =Z48&CHAR(10)&Z49 | AG30: =AG45 -> 第2ｸﾞﾙｰﾌﾟ | AI30: =IF(AH27="","",IF(AI27<70,0,IF(AH27>1,HLOOKUP(AI27,発注者入力シート!$AM$3:$AV$5,2)*1/5,IF(AH27=1,HLOOKUP(AI27,発注者入力シート!$AM$3:$AV$5,3)*1/5,"")))) | AJ30: 工期 | AK30: =AK48&CHAR(10)&AK49 | AL30: =AL48&CHAR(10)&AL49 | AS30: =AS45 -> 第2ｸﾞﾙｰﾌﾟ | AU30: =IF(AT27="","",IF(AU27<70,0,IF(AT27>1,HLOOKUP(AU27,発注者入力シート!$AM$3:$AV$5,2)*1/5,IF(AT27=1,HLOOKUP(AU27,発注者入力シート!$AM$3:$AV$5,3)*1/5,"")))) | AV30: 工期 | AW30: =AW48&CHAR(10)&AW49 | AX30: =AX48&CHAR(10)&AX49 | BE30: 第3ｸﾞﾙｰﾌﾟ | BF30: =IF(BF54="有",BF54&"("&BF57&"人)",BF54) -> 申請なし | BG30: =IF(BG54="有",BG54&"("&BG57&"人)",BG54) -> 申請なし | BH30: 育児・介護休業制度
A31: コピー専用行 | B31: 6 | C31: =C46 -> 第3ｸﾞﾙｰﾌﾟ | E31: =IF(D28="","",IF(D28=1,ROUND(1/5*ROUNDDOWN(0.9*IF(E28<70,0,IF(E28<73,1,IF(80<=E28,5,ROUNDDOWN(1.5+(3.5*(E28-73)/7),1)))),1),1),IF(E28<70,0,IF(E28<73,0.2,IF(80<=E28,3,ROUND(1/5*ROUNDDOWN(1.5+(3.5*(E28-73)/7),1),1)))))) | F31: 延床面積／構造種別 | G31: =G52&"／"&G53&" "&G54&" "&G55&" "&G56 -> ／ | H31: =H52&"／"&H53&" "&H54&" "&H55&" "&H56 -> ／ | I31: 工事種別／建設工事の種類 | J31: =J47&"／"&J48 -> ／ | U31: =U46 -> 第3ｸﾞﾙｰﾌﾟ | W31: =IF(V28="","",IF(W28<70,0,IF(V28>1,HLOOKUP(W28,発注者入力シート!$AM$3:$AV$5,2)*1/5,IF(V28=1,HLOOKUP(W28,発注者入力シート!$AM$3:$AV$5,3)*1/5,"")))) | X31: 工事種別／建設工事の種類 | Y31: =Y50&"／"&Y51 -> ／ | Z31: =Z50&"／"&Z51 -> ／ | AG31: =AG46 -> 第3ｸﾞﾙｰﾌﾟ | AI31: =IF(AH28="","",IF(AI28<70,0,IF(AH28>1,HLOOKUP(AI28,発注者入力シート!$AM$3:$AV$5,2)*1/5,IF(AH28=1,HLOOKUP(AI28,発注者入力シート!$AM$3:$AV$5,3)*1/5,"")))) | AJ31: 工事種別／建設工事の種類 | AK31: =AK50&"／"&AK51 -> ／ | AL31: =AL50&"／"&AL51 -> ／ | AS31: =AS46 -> 第3ｸﾞﾙｰﾌﾟ | AU31: =IF(AT28="","",IF(AU28<70,0,IF(AT28>1,HLOOKUP(AU28,発注者入力シート!$AM$3:$AV$5,2)*1/5,IF(AT28=1,HLOOKUP(AU28,発注者入力シート!$AM$3:$AV$5,3)*1/5,"")))) | AV31: 工事種別／建設工事の種類 | AW31: =AW50&"／"&AW51 -> ／ | AX31: =AX50&"／"&AX51 -> ／ | BE31: 従業員数 | BF31: =IF(BF54="無","",BF58) | BG31: =IF(BG54="無","",BG58) | BH31: =IF(AND(BH49="",BH50=""),"申請なし",IF(BH49="有","法を超える制度",IF(BH50="有","こっころ認定","無"))) -> 申請なし | BI31: =IF(AND(BI49="",BI50=""),"申請なし",IF(BI49="有","法を超える制度",IF(BI50="有","こっころ認定","無"))) -> 申請なし | BJ31: =IF(AND(BJ49="",BJ50=""),"申請なし",IF(BJ49="有","法を超える制度",IF(BJ50="有","こっころ認定","無"))) -> 申請なし
A32: コピー専用行 | B32: 7 | C32: 合計 | E32: =SUM(E29,E30,E31) -> 0 | F32: =F57 -> 工事成績 | G32: =G57 | H32: =H57 | U32: 合計 | W32: =SUM(W29,W30,W31) -> 0 | X32: 役職 工事成績 | Y32: =IF(Y52="","",Y52&CHAR(10)&"("&Y56&"点)") | Z32: =IF(Z52="","",Z52&CHAR(10)&"("&Z56&"点)") | AG32: 合計 | AI32: =SUM(AI29,AI30,AI31) -> 0 | AJ32: 役職 工事成績 | AK32: =IF(AK52="","",AK52&CHAR(10)&"("&AK56&"点)") | AL32: =IF(AL52="","",AL52&CHAR(10)&"("&AL56&"点)") | AS32: 合計 | AU32: =SUM(AU29,AU30,AU31) -> 0 | AV32: 役職 工事成績 | AW32: =IF(AW52="","",AW52&CHAR(10)&"("&AW56&"点)") | AX32: =IF(AX52="","",AX52&CHAR(10)&"("&AX56&"点)") | BH32: 若手技術者新規雇用
A33: コピー専用行 | B33: 8 | U33: =U47 -> 第1ｸﾞﾙｰﾌﾟ 配置なし | V33: =U48 -> 第2ｸﾞﾙｰﾌﾟ 配置なし | W33: =U49 -> 第3ｸﾞﾙｰﾌﾟ 配置なし | X33: 延床面積／構造種別 | Y33: =Y53&"／"&Y54&" "&Y55 -> ／ | Z33: =Z53&"／"&Z54&" "&Z55 -> ／ | AG33: =AG47 -> 第1ｸﾞﾙｰﾌﾟ 配置なし | AH33: =AG48 -> 第2ｸﾞﾙｰﾌﾟ 配置なし | AI33: =AG49 -> 第3ｸﾞﾙｰﾌﾟ 配置なし | AJ33: 延床面積／構造種別 | AK33: =AK53&"／"&AK54&" "&AK55 -> ／ | AL33: =AL53&"／"&AL54&" "&AL55 -> ／ | AS33: =AS47 -> 第1ｸﾞﾙｰﾌﾟ 配置なし | AT33: =AS48 -> 第2ｸﾞﾙｰﾌﾟ 配置なし | AU33: =AS49 -> 第3ｸﾞﾙｰﾌﾟ 配置なし | AV33: 延床面積／構造種別 | AW33: =AW53&"／"&AW54&" "&AW55 -> ／ | AX33: =AX53&"／"&AX54&" "&AX55 -> ／ | BH33: =BH51 -> 申請なし | BI33: =BI51 -> 申請なし | BJ33: =BJ51 -> 申請なし
U34: =IF(企業入力シート!C25="","配置なし","配置あり") -> 配置なし | V34: =IF(企業入力シート!C54="","配置なし","配置あり") -> 配置なし | W34: =IF(企業入力シート!C83="","配置なし","配置あり") -> 配置なし | X34: =IF(企業入力シート!C25="","配置なし","配置あり") -> 配置なし | AG34: =IF(企業入力シート!C26="","配置なし","配置あり") -> 配置なし | AH34: =IF(企業入力シート!C55="","配置なし","配置あり") -> 配置なし | AI34: =IF(企業入力シート!C84="","配置なし","配置あり") -> 配置なし | AJ34: =IF(企業入力シート!C26="","配置なし","配置あり") -> 配置なし | AS34: =IF(企業入力シート!C27="","配置なし","配置あり") -> 配置なし | AT34: =IF(企業入力シート!C56="","配置なし","配置あり") -> 配置なし | AU34: =IF(企業入力シート!C85="","配置なし","配置あり") -> 配置なし | AV34: =IF(企業入力シート!C27="","配置なし","配置あり") -> 配置なし
A36: 以下、集計専用表（コピー箇所ではありません）
B37: a0 | C37: 企業 | F37: 企業 | I37: 企業 | L37: 企業 | O37: 企業【建築】 | R37: 企業 | U37: 配置予定技術者① | X37: 配置予定技術者① | AA37: 配置予定技術者① | AD37: 配置予定技術者① | AG37: 配置予定技術者② | AJ37: 配置予定技術者② | AM37: 配置予定技術者② | AP37: 配置予定技術者② | AS37: 配置予定技術者③ | AV37: 配置予定技術者③ | AY37: 配置予定技術者③ | BB37: 配置予定技術者③ | BE37: 地域貢献・その他 | BH37: 地域貢献・その他 | BK37: 【電気工事】、【塗装工事】企業 | BN37: 地域貢献・その他 | BQ37: 地域貢献・その他 | BT37: 地域貢献・その他【建築】 | BW37: 地域貢献・その他 | BZ37: 地域貢献・その他 | CC37: 地域貢献・その他 | CF37: 地域貢献・その他 | CI37: 地理的条件 | CL37: 地理的条件
B38: a1 | C38: 工事成績評定点(JV) | F38: 施工実績 | I38: 優良工事表彰 | L38: 優良工事表彰(JV) | O38: 企業の継続能力開発（CPD)制度の参加登録 | R38: 予備欄 | U38: 工事成績評定点(JV) | X38: 施工経験 | AA38: 予備欄 | AD38: 予備欄 | AG38: 工事成績評定点（JV） | AJ38: 施工経験 | AM38: 予備欄① | AP38: 予備欄② | AS38: 工事成績評定点（JV） | AV38: 施工経験 | AY38: 予備欄① | BB38: 予備欄② | BE38: ボランティア（JV） | BH38: 労働福祉関連（JV） | BK38: 登録基幹技能者 | BN38: 若手技術者・従業員の新規雇用 | BQ38: 消防団協力事業所 | BT38: 応急危険度判定士の登録 | BW38: CCUSの活用 | BZ38: 予備欄 | CC38: 予備欄 | CF38: 予備欄 | CI38: 会社所在地
B39: a | C39: 完成年度 | D39: =IF('企業成績評定点 (JV用) '!D7="","",'企業成績評定点 (JV用) '!D7) -> 令和３年度から令和７年度（完成及び引き渡しが完了） | F39: 対象期間 | G39: =IF(同種工事施工実績!F7="","",同種工事施工実績!F7) -> 平成２８年度から入札公告日前日までに完成及び引き渡しが完了した工事 | I39: 対象年度・機関等 | J39: =IF(優良工事表彰!F6="","",優良工事表彰!F6) -> 島根県内の公共事業において、平成28年度から令和2年度に、島根県及び中国地方整備局発注工事で受けた建築一式工事の優良工事表彰（優良工事施工団体表彰） | L39: 対象年度・機関等 | M39: =IF('優良工事表彰（JV）'!A6="","",'優良工事表彰（JV）'!A6) -> 島根県内の公共事業において、令和４年度から令和８年度に、島根県及び中国地方整備局発注工事で受けた建築部門の優良工事表彰（優良工事施工団体表彰） ・工事種別：建築物に係る電気工事 ・建設工事の種類：電気工事、消防施設工事 | O39: 入札公告日前日におけるCPD制度に参加登録している社員数の合計 | U39: =IF('【建築】技術者成績評定点 (JV第1G用) '!C7="","",'【建築】技術者成績評定点 (JV第1G用) '!C7) -> 完成年度 | V39: =IF('【建築】技術者成績評定点 (JV第1G用) '!F7="","",'【建築】技術者成績評定点 (JV第1G用) '!F7) -> 令和３年度から令和７年度（完成及び引き渡しが完了） | X39: 対象年度・機関等 | Y39: =IF(同種工事施工経験!F6="","",同種工事施工経験!F6) -> 平成２８年度から入札公告日前日までに完成及び引き渡しが完了した島根県、島根県内の市町村又は国の機関（独立行政法人等を含みコリンズ登録があるものに限る。）発注工事 | AG39: =IF('【建築】技術者成績評定点 (JV第1G用) '!C7="","",'【建築】技術者成績評定点 (JV第1G用) '!C7) -> 完成年度 | AH39: =IF('【建築】技術者成績評定点 (JV第1G用) '!F7="","",'【建築】技術者成績評定点 (JV第1G用) '!F7) -> 令和３年度から令和７年度（完成及び引き渡しが完了） | AJ39: 対象年度・機関等 | AK39: =IF(同種工事施工経験!F6="","",同種工事施工経験!F6) -> 平成２８年度から入札公告日前日までに完成及び引き渡しが完了した島根県、島根県内の市町村又は国の機関（独立行政法人等を含みコリンズ登録があるものに限る。）発注工事 | AS39: =IF('【建築】技術者成績評定点 (JV第1G用) '!C7="","",'【建築】技術者成績評定点 (JV第1G用) '!C7) -> 完成年度 | AT39: =IF('【建築】技術者成績評定点 (JV第1G用) '!F7="","",'【建築】技術者成績評定点 (JV第1G用) '!F7) -> 令和３年度から令和７年度（完成及び引き渡しが完了） | AV39: 対象年度・機関等 | AW39: =IF(同種工事施工経験!F6="","",同種工事施工経験!F6) -> 平成２８年度から入札公告日前日までに完成及び引き渡しが完了した島根県、島根県内の市町村又は国の機関（独立行政法人等を含みコリンズ登録があるものに限る。）発注工事 | BE39: 対象 | BF39: =IF('ボランティア (JV)'!B7="","",'ボランティア (JV)'!B7) -> 令和６年度及び令和７年度における島根県内で実施されたボランティア活動又はハートフルしまねへの参加実績 | BH39: 対象 | BI39: 入札公告日前日時点での取り組み状況 | BK39: =IF(登録基幹技能者!B9="","",登録基幹技能者!B9) -> 登録電気工事基幹技能者の現場への配置 | BN39: 対象 | BO39: ='若手技術者・従業員新規雇用（JV)'!B7 -> 令和６年4月1日以降に、若手技術者・若手従業員（３０歳未満の者）の１人以上の新規雇用があること。 | BQ39: 対象 | BR39: =IF(消防団!B9="","",消防団!B9) -> 入札公告日前日時点（令和8年10月14日時点）での消防団協力事業所の認定状況 | BT39: 入札公告日前日における会社に所属する「島根県地震被災建築物応急危険度判定士」に登録している社員数の合計 | BW39: 対象 | BX39: 当該工事での建設キャリアアップシステム（CCUS）の活用 | CI39: 対象 | CJ39: =IF(会社所在地!B10="","",会社所在地!B10) -> 入札公告日前日において、評価対象地域内に建設業法で規定する主たる営業所（本店）または従たる営業所（支店、営業所）がある者
B40: b | C40: 発注機関 | D40: =IF('企業成績評定点 (JV用) '!D8="","",'企業成績評定点 (JV用) '!D8) -> 島根県（総務部(企業局及び病院局契約を含み、企業局及び病院局発注工事は除く。)、農林水産部、土木部） | F40: 同種工事 | G40: =IF(同種工事施工実績!F11="","",同種工事施工実績!F11) -> １契約で税込み最終金額が５億２，０００万円以上の住宅以外の建築物に係る電気工事 | U40: =IF('【建築】技術者成績評定点 (JV第1G用) '!C8="","",'【建築】技術者成績評定点 (JV第1G用) '!C8) -> 発注機関 | V40: =IF('【建築】技術者成績評定点 (JV第1G用) '!F8="","",'【建築】技術者成績評定点 (JV第1G用) '!F8) -> 島根県（総務部(企業局及び病院局契約を含み、企業局及び病院局発注工事は除く。)、農林水産部、土木部） | X40: 同種工事 | Y40: =IF(同種工事施工経験!F8="","",同種工事施工経験!F8) -> １契約で税込み最終金額が２億６，０００万円以上の住宅以外の建築物に係る電気工事 | AG40: =IF('【建築】技術者成績評定点 (JV第1G用) '!C8="","",'【建築】技術者成績評定点 (JV第1G用) '!C8) -> 発注機関 | AH40: =IF('【建築】技術者成績評定点 (JV第1G用) '!F8="","",'【建築】技術者成績評定点 (JV第1G用) '!F8) -> 島根県（総務部(企業局及び病院局契約を含み、企業局及び病院局発注工事は除く。)、農林水産部、土木部） | AJ40: 同種工事 | AK40: =IF(同種工事施工経験!F8="","",同種工事施工経験!F8) -> １契約で税込み最終金額が２億６，０００万円以上の住宅以外の建築物に係る電気工事 | AS40: =IF('【建築】技術者成績評定点 (JV第1G用) '!C8="","",'【建築】技術者成績評定点 (JV第1G用) '!C8) -> 発注機関 | AT40: =IF('【建築】技術者成績評定点 (JV第1G用) '!F8="","",'【建築】技術者成績評定点 (JV第1G用) '!F8) -> 島根県（総務部(企業局及び病院局契約を含み、企業局及び病院局発注工事は除く。)、農林水産部、土木部） | AV40: 同種工事 | AW40: =IF(同種工事施工経験!F8="","",同種工事施工経験!F8) -> １契約で税込み最終金額が２億６，０００万円以上の住宅以外の建築物に係る電気工事
B41: c | C41: 工事種別 | D41: =IF('企業成績評定点 (JV用) '!D9="","",'企業成績評定点 (JV用) '!D9) -> 建築物に係る電気工事 | F41: 工事種別 | G41: =IF(同種工事施工実績!F9="","",同種工事施工実績!F9) -> 建築物に係る電気工事 | I41: 工事種別 | J41: =IF(優良工事表彰!F9="","",優良工事表彰!F9) -> 建築物に係る電気工事 | U41: =IF('【建築】技術者成績評定点 (JV第1G用) '!C9="","",'【建築】技術者成績評定点 (JV第1G用) '!C9) -> 工事種別 | V41: =IF('【建築】技術者成績評定点 (JV第1G用) '!F9="","",'【建築】技術者成績評定点 (JV第1G用) '!F9) -> 建築物に係る電気工事 | X41: 工事種別 | Y41: =IF(同種工事施工経験!F11="","",同種工事施工経験!F11) -> 建築物に係る電気工事 | AG41: =IF('【建築】技術者成績評定点 (JV第1G用) '!C9="","",'【建築】技術者成績評定点 (JV第1G用) '!C9) -> 工事種別 | AH41: =IF('【建築】技術者成績評定点 (JV第1G用) '!F9="","",'【建築】技術者成績評定点 (JV第1G用) '!F9) -> 建築物に係る電気工事 | AJ41: 工事種別 | AK41: =IF(同種工事施工経験!F11="","",同種工事施工経験!F11) -> 建築物に係る電気工事 | AS41: =IF('【建築】技術者成績評定点 (JV第1G用) '!C9="","",'【建築】技術者成績評定点 (JV第1G用) '!C9) -> 工事種別 | AT41: =IF('【建築】技術者成績評定点 (JV第1G用) '!F9="","",'【建築】技術者成績評定点 (JV第1G用) '!F9) -> 建築物に係る電気工事 | AV41: 工事種別 | AW41: =IF(同種工事施工経験!F11="","",同種工事施工経験!F11) -> 建築物に係る電気工事
B42: d | C42: 建設工事の種類 | D42: =IF('企業成績評定点 (JV用) '!D10="","",'企業成績評定点 (JV用) '!D10) -> 電気工事、消防施設工事 | F42: 建設工事の種類 | G42: =IF(同種工事施工実績!F10="","",同種工事施工実績!F10) -> 電気工事、消防施設工事 | I42: 建設工事の種類 | J42: =IF(優良工事表彰!F10="","",優良工事表彰!F10) -> 電気工事、消防施設工事 | U42: =IF('【建築】技術者成績評定点 (JV第1G用) '!C10="","",'【建築】技術者成績評定点 (JV第1G用) '!C10) -> 建設工事の種類 | V42: =IF('【建築】技術者成績評定点 (JV第1G用) '!F10="","",'【建築】技術者成績評定点 (JV第1G用) '!F10) -> 電気工事、消防施設工事 | X42: 建設工事の種類 | Y42: =IF(同種工事施工経験!F12="","",同種工事施工経験!F12) -> 電気工事、消防施設工事 | AG42: =IF('【建築】技術者成績評定点 (JV第1G用) '!C10="","",'【建築】技術者成績評定点 (JV第1G用) '!C10) -> 建設工事の種類 | AH42: =IF('【建築】技術者成績評定点 (JV第1G用) '!F10="","",'【建築】技術者成績評定点 (JV第1G用) '!F10) -> 電気工事、消防施設工事 | AJ42: 建設工事の種類 | AK42: =IF(同種工事施工経験!F12="","",同種工事施工経験!F12) -> 電気工事、消防施設工事 | AS42: =IF('【建築】技術者成績評定点 (JV第1G用) '!C10="","",'【建築】技術者成績評定点 (JV第1G用) '!C10) -> 建設工事の種類 | AT42: =IF('【建築】技術者成績評定点 (JV第1G用) '!F10="","",'【建築】技術者成績評定点 (JV第1G用) '!F10) -> 電気工事、消防施設工事 | AV42: 建設工事の種類 | AW42: =IF(同種工事施工経験!F12="","",同種工事施工経験!F12) -> 電気工事、消防施設工事 | CI42: 評価地域 | CJ42: =IF(会社所在地!D13="","",会社所在地!D13) -> ○○県土整備事務所管内
B43: e | C43: 対象 | D43: 該当件数 | E43: 平均点 | F43: 項目名 | G43: 工事① | H43: 工事② | I43: 表彰区分 | J43: 実績 | L43: 受賞企業 | M43: 企業名 | N43: 工事名／工事種別／工事の種類 | O43: 登録番号 | P43: 企業名 | U43: 該当企業 | V43: 件数 | W43: 平均点 | X43: 項目名 | Y43: 工事① | Z43: 工事② | AG43: 該当企業 | AH43: 件数 | AI43: 平均点 | AJ43: 項目名 | AK43: 工事① | AL43: 工事② | AS43: 該当企業 | AT43: 件数 | AU43: 平均点 | AV43: 項目名 | AW43: 工事① | AX43: 工事② | BE43: 対象企業 | BF43: ボランティア | BG43: ﾊｰﾄﾌﾙ | BH43: 第1ｸﾞﾙｰﾌﾟ | BI43: 第2ｸﾞﾙｰﾌﾟ | BJ43: 第3ｸﾞﾙｰﾌﾟ | BK43: 項目名 | BL43: 状況 | BN43: 第1ｸﾞﾙｰﾌﾟ | BO43: 第2ｸﾞﾙｰﾌﾟ | BP43: 第3ｸﾞﾙｰﾌﾟ | BQ43: 項目名 | BR43: 状況 | BT43: 項目名 | BU43: 登録人数 | BW43: 項目名 | BX43: 状況 | CI43: 項目名 | CJ43: 状況
B44: 1 | C44: 第1ｸﾞﾙｰﾌﾟ | D44: =IF('企業成績評定点 (JV用) '!G19="","",'企業成績評定点 (JV用) '!G19) | E44: =IF('企業成績評定点 (JV用) '!J19="","",'企業成績評定点 (JV用) '!J19) | F44: 工事名 | G44: =IF(同種工事施工実績!F14="","申請なし",同種工事施工実績!F14) -> 申請なし | H44: =IF(同種工事施工実績!M14="","申請なし",同種工事施工実績!M14) -> 申請なし | I44: =IF(J45="","申請なし","工事名") -> 申請なし | J44: =IF(J45="","",IF(優良工事表彰!E14="","",優良工事表彰!E14)) | L44: =IF(OR('優良工事表彰（JV）'!B11="",'優良工事表彰（JV）'!L10=""),"",'優良工事表彰（JV）'!B11) | M44: =IF('優良工事表彰（JV）'!B10="","",'優良工事表彰（JV）'!B10) | N44: =IF('優良工事表彰（JV）'!L10="","",'優良工事表彰（JV）'!L10) | O44: =IF('【建築】継続能力開発（CPD）制度'!J13="","",'【建築】継続能力開発（CPD）制度'!J13) | P44: =IF('【建築】継続能力開発（CPD）制度'!N13="","",'【建築】継続能力開発（CPD）制度'!N13) | U44: 第1ｸﾞﾙｰﾌﾟ | V44: =IF(U34="配置なし","",IF('【建築】技術者成績評定点 (JV第1G用) '!F15="","",'【建築】技術者成績評定点 (JV第1G用) '!F15)) | W44: =IF(U34="配置なし","",IF('【建築】技術者成績評定点 (JV第1G用) '!J15="","",'【建築】技術者成績評定点 (JV第1G用) '!J15)) | X44: 工事名 | Y44: =IF(X34="配置なし","配置なし",IF(同種工事施工経験!F15="","申請なし",同種工事施工経験!F15)) -> 配置なし | Z44: =IF(X34="配置なし","",IF(同種工事施工経験!M15="","申請なし",同種工事施工経験!M15)) | AG44: 第1ｸﾞﾙｰﾌﾟ | AH44: =IF(AG34="配置なし","",IF('【建築】技術者成績評定点 (JV第1G用) '!F22="","",'【建築】技術者成績評定点 (JV第1G用) '!F22)) | AI44: =IF(AG34="配置なし","",IF('【建築】技術者成績評定点 (JV第1G用) '!J22="","",'【建築】技術者成績評定点 (JV第1G用) '!J22)) | AJ44: 工事名 | AK44: =IF(AJ34="配置なし","配置なし",IF(同種工事施工経験!F122="","申請なし",同種工事施工経験!F122)) -> 配置なし | AL44: =IF(AJ34="配置なし","",IF(同種工事施工経験!M122="","申請なし",同種工事施工経験!M122)) | AS44: 第1ｸﾞﾙｰﾌﾟ | AT44: =IF(AS34="配置なし","",IF('【建築】技術者成績評定点 (JV第1G用) '!F29="","",'【建築】技術者成績評定点 (JV第1G用) '!F29)) | AU44: =IF(AS34="配置なし","",IF('【建築】技術者成績評定点 (JV第1G用) '!J29="","",'【建築】技術者成績評定点 (JV第1G用) '!J29)) | AV44: 工事名 | AW44: =IF(AV34="配置なし","配置なし",IF(同種工事施工経験!F168="","申請なし",同種工事施工経験!F168)) -> 配置なし | AX44: =IF(AV34="配置なし","",IF(同種工事施工経験!M168="","申請なし",同種工事施工経験!M168)) | BE44: 第1ｸﾞﾙｰﾌﾟ | BF44: =IF(BF47="","申請なし","有") -> 申請なし | BG44: =IF(BG47="","申請なし","有") -> 申請なし | BK44: 配置の有無 | BL44: =IF(登録基幹技能者!E10="","申請なし",登録基幹技能者!E10) -> 申請なし | BN44: 雇用① | BO44: 雇用① | BP44: 雇用① | BQ44: 認定有無 | BR44: =IF(消防団!L10="","申請なし",消防団!L10) -> 申請なし | BT44: 交付番号 | BU44: =IF(【建築】応急危険度判定士!L12="","",【建築】応急危険度判定士!L12) | BW44: 確約書の提出 | BX44: =IF('建設キャリアアップシステム(CCUS)'!E11="","無",'建設キャリアアップシステム(CCUS)'!E11) -> 無 | CI44: 住所 | CJ44: =IF(CJ45="","申請なし",IF(会社所在地!F16="","",会社所在地!F16)) -> 申請なし
B45: 2 | C45: 第2ｸﾞﾙｰﾌﾟ | D45: =IF('企業成績評定点 (JV用) '!G30="","",'企業成績評定点 (JV用) '!G30) | E45: =IF('企業成績評定点 (JV用) '!J30="","",'企業成績評定点 (JV用) '!J30) | F45: 発注機関 | G45: =IF(G44="申請なし","",IF(同種工事施工実績!F19="","",同種工事施工実績!F19)) | H45: =IF(H44="申請なし","",IF(同種工事施工実績!M19="","",同種工事施工実績!M19)) | I45: =IF(J45="","","表彰種類") | J45: =IF(優良工事表彰!E12="","",優良工事表彰!E12) | L45: =IF(OR('優良工事表彰（JV）'!B13="",'優良工事表彰（JV）'!L12=""),"",'優良工事表彰（JV）'!B13) | M45: =IF('優良工事表彰（JV）'!B12="","",'優良工事表彰（JV）'!B12) | N45: =IF('優良工事表彰（JV）'!L12="","",'優良工事表彰（JV）'!L12) | O45: =IF('【建築】継続能力開発（CPD）制度'!J14="","",'【建築】継続能力開発（CPD）制度'!J14) | P45: =IF('【建築】継続能力開発（CPD）制度'!N14="","",'【建築】継続能力開発（CPD）制度'!N14) | U45: 第2ｸﾞﾙｰﾌﾟ | V45: =IF(V34="配置なし","",IF('【建築】技術者成績評定点 (JV第2G用)'!F15="","",'【建築】技術者成績評定点 (JV第2G用)'!F15)) | W45: =IF(V34="配置なし","",IF('【建築】技術者成績評定点 (JV第2G用)'!J15="","",'【建築】技術者成績評定点 (JV第2G用)'!J15)) | X45: 発注機関 | Y45: =IF(OR(Y44="配置なし",Y44="申請なし"),"",IF(同種工事施工経験!F20="","",同種工事施工経験!F20)) | Z45: =IF(OR(Z44="",Z44="申請なし"),"",IF(同種工事施工経験!M20="","",同種工事施工経験!M20)) | AG45: 第2ｸﾞﾙｰﾌﾟ | AH45: =IF(AH34="配置なし","",IF('【建築】技術者成績評定点 (JV第2G用)'!F22="","",'【建築】技術者成績評定点 (JV第2G用)'!F22)) | AI45: =IF(AH34="配置なし","",IF('【建築】技術者成績評定点 (JV第2G用)'!J22="","",'【建築】技術者成績評定点 (JV第2G用)'!J22)) | AJ45: 発注機関 | AK45: =IF(OR(AK44="配置なし",AK44="申請なし"),"",IF(同種工事施工経験!F127="","",同種工事施工経験!F127)) | AL45: =IF(OR(AL44="",AL44="申請なし"),"",IF(同種工事施工経験!M127="","",同種工事施工経験!M127)) | AS45: 第2ｸﾞﾙｰﾌﾟ | AT45: =IF(AT34="配置なし","",IF('【建築】技術者成績評定点 (JV第2G用)'!F29="","",'【建築】技術者成績評定点 (JV第2G用)'!F29)) | AU45: =IF(AT34="配置なし","",IF('【建築】技術者成績評定点 (JV第2G用)'!J29="","",'【建築】技術者成績評定点 (JV第2G用)'!J29)) | AV45: 発注機関 | AW45: =IF(OR(AW44="配置なし",AW44="申請なし"),"",IF(同種工事施工経験!F173="","",同種工事施工経験!F173)) | AX45: =IF(OR(AX44="",AX44="申請なし"),"",IF(同種工事施工経験!M173="","",同種工事施工経験!M173)) | BE45: 活動年月日 | BF45: =IF('ボランティア (JV)'!C12="","",'ボランティア (JV)'!C12) -> R６ | BN45: =IF('若手技術者・従業員新規雇用（JV)'!H14="","申請なし",IF(OR('若手技術者・従業員新規雇用（JV)'!H18="有",'若手技術者・従業員新規雇用（JV)'!H30="有"),"若手技術者",IF('若手技術者・従業員新規雇用（JV)'!H32="有","若手従業員","無"))) -> 申請なし | BO45: =IF('若手技術者・従業員新規雇用（JV)'!H37="","申請なし",IF(OR('若手技術者・従業員新規雇用（JV)'!H41="有",'若手技術者・従業員新規雇用（JV)'!H53="有"),"若手技術者",IF('若手技術者・従業員新規雇用（JV)'!H55="有","若手従業員","無"))) -> 申請なし | BP45: =IF('若手技術者・従業員新規雇用（JV)'!H60="","申請なし",IF(OR('若手技術者・従業員新規雇用（JV)'!H64="有",'若手技術者・従業員新規雇用（JV)'!H76="有"),"若手技術者",IF('若手技術者・従業員新規雇用（JV)'!H78="有","若手従業員","無"))) -> 申請なし | BU45: =IF(【建築】応急危険度判定士!L13="","",【建築】応急危険度判定士!L13) | CI45: 種類 | CJ45: =IF(会社所在地!A16="","",会社所在地!A16)
B46: 3 | C46: 第3ｸﾞﾙｰﾌﾟ | D46: =IF('企業成績評定点 (JV用) '!G41="","",'企業成績評定点 (JV用) '!G41) | E46: =IF('企業成績評定点 (JV用) '!J41="","",'企業成績評定点 (JV用) '!J41) | F46: 工事種別 | G46: =IF(G44="申請なし","",IF(同種工事施工実績!F20="","",同種工事施工実績!F20)) | H46: =IF(H44="申請なし","",IF(同種工事施工実績!M20="","",同種工事施工実績!M20)) | I46: =IF(J45="","","受賞年度") | J46: =IF(J45="","",IF(優良工事表彰!E13="","",優良工事表彰!E13)) | L46: =IF(OR('優良工事表彰（JV）'!B15="",'優良工事表彰（JV）'!N14=""),"",'優良工事表彰（JV）'!B15) | M46: =IF('優良工事表彰（JV）'!B14="","",'優良工事表彰（JV）'!B14) | N46: =IF('優良工事表彰（JV）'!N14="","",'優良工事表彰（JV）'!N14) | O46: =IF('【建築】継続能力開発（CPD）制度'!J15="","",'【建築】継続能力開発（CPD）制度'!J15) | P46: =IF('【建築】継続能力開発（CPD）制度'!N15="","",'【建築】継続能力開発（CPD）制度'!N15) | U46: 第3ｸﾞﾙｰﾌﾟ | V46: =IF(W34="配置なし","",IF('【建築】技術者成績評定点 (JV第3G用) '!F15="","",'【建築】技術者成績評定点 (JV第3G用) '!F15)) | W46: =IF(W34="配置なし","",IF('【建築】技術者成績評定点 (JV第3G用) '!J15="","",'【建築】技術者成績評定点 (JV第3G用) '!J15)) | X46: 施工場所 | Y46: =IF(OR(Y44="配置なし",Y44="申請なし"),"",IF(同種工事施工経験!F21="","",同種工事施工経験!F21)) | Z46: =IF(OR(Z44="",Z44="申請なし"),"",IF(同種工事施工経験!M21="","",同種工事施工経験!M21)) | AG46: 第3ｸﾞﾙｰﾌﾟ | AH46: =IF(AI34="配置なし","",IF('【建築】技術者成績評定点 (JV第3G用) '!F22="","",'【建築】技術者成績評定点 (JV第3G用) '!F22)) | AI46: =IF(AI34="配置なし","",IF('【建築】技術者成績評定点 (JV第3G用) '!J22="","",'【建築】技術者成績評定点 (JV第3G用) '!J22)) | AJ46: 施工場所 | AK46: =IF(OR(AK44="配置なし",AK44="申請なし"),"",IF(同種工事施工経験!F128="","",同種工事施工経験!F128)) | AL46: =IF(OR(AL44="",AL44="申請なし"),"",IF(同種工事施工経験!M128="","",同種工事施工経験!M128)) | AS46: 第3ｸﾞﾙｰﾌﾟ | AT46: =IF(AU34="配置なし","",IF('【建築】技術者成績評定点 (JV第3G用) '!F29="","",'【建築】技術者成績評定点 (JV第3G用) '!F29)) | AU46: =IF(AU34="配置なし","",IF('【建築】技術者成績評定点 (JV第3G用) '!J29="","",'【建築】技術者成績評定点 (JV第3G用) '!J29)) | AV46: 施工場所 | AW46: =IF(OR(AW44="配置なし",AW44="申請なし"),"",IF(同種工事施工経験!F174="","",同種工事施工経験!F174)) | AX46: =IF(OR(AX44="",AX44="申請なし"),"",IF(同種工事施工経験!M174="","",同種工事施工経験!M174)) | BE46: 活動内容 | BF46: =IF('ボランティア (JV)'!F12="","",'ボランティア (JV)'!F12) | BN46: 雇用② | BO46: 雇用② | BP46: 雇用② | BU46: =IF(【建築】応急危険度判定士!L14="","",【建築】応急危険度判定士!L14)
B47: 4 | F47: 建設工事の種類 | G47: =IF(G44="申請なし","",IF(同種工事施工実績!F21="","",同種工事施工実績!F21)) | H47: =IF(H44="申請なし","",IF(同種工事施工実績!M21="","",同種工事施工実績!M21)) | I47: =IF(J45="","","工事種別") | J47: =IF(J45="","",IF(優良工事表彰!E16="","",優良工事表彰!E16)) | L47: =IF(OR('優良工事表彰（JV）'!B17="",'優良工事表彰（JV）'!N16=""),"",'優良工事表彰（JV）'!B17) | M47: =IF('優良工事表彰（JV）'!B16="","",'優良工事表彰（JV）'!B16) | N47: =IF('優良工事表彰（JV）'!N16="","",'優良工事表彰（JV）'!N16) | O47: =IF('【建築】継続能力開発（CPD）制度'!J16="","",'【建築】継続能力開発（CPD）制度'!J16) | P47: =IF('【建築】継続能力開発（CPD）制度'!N16="","",'【建築】継続能力開発（CPD）制度'!N16) | U47: =IF(U34="配置なし","第1ｸﾞﾙｰﾌﾟ"&CHAR(10)&"配置なし",IF(U34="配置あり","第1ｸﾞﾙｰﾌﾟ"&CHAR(10)&"申請あり","")) -> 第1ｸﾞﾙｰﾌﾟ 配置なし | X47: 請負金額 | Y47: =IF(OR(Y44="配置なし",Y44="申請なし"),"",IF(同種工事施工経験!F23="","",同種工事施工経験!F23)) | Z47: =IF(OR(Z44="",Z44="申請なし"),"",IF(同種工事施工経験!M23="","",同種工事施工経験!M23)) | AG47: =IF(AG34="配置なし","第1ｸﾞﾙｰﾌﾟ"&CHAR(10)&"配置なし",IF(AG34="配置あり","第1ｸﾞﾙｰﾌﾟ"&CHAR(10)&"申請あり","")) -> 第1ｸﾞﾙｰﾌﾟ 配置なし | AJ47: 請負金額 | AK47: =IF(OR(AK44="配置なし",AK44="申請なし"),"",IF(同種工事施工経験!F130="","",同種工事施工経験!F130)) | AL47: =IF(OR(AL44="",AL44="申請なし"),"",IF(同種工事施工経験!M130="","",同種工事施工経験!M130)) | AS47: =IF(AS34="配置なし","第1ｸﾞﾙｰﾌﾟ"&CHAR(10)&"配置なし",IF(AS34="配置あり","第1ｸﾞﾙｰﾌﾟ"&CHAR(10)&"申請あり","")) -> 第1ｸﾞﾙｰﾌﾟ 配置なし | AV47: 請負金額 | AW47: =IF(OR(AW44="配置なし",AW44="申請なし"),"",IF(同種工事施工経験!F176="","",同種工事施工経験!F176)) | AX47: =IF(OR(AX44="",AX44="申請なし"),"",IF(同種工事施工経験!M176="","",同種工事施工経験!M176)) | BE47: 参加人数 | BF47: =IF('ボランティア (JV)'!L12="","",'ボランティア (JV)'!L12) | BG47: =IF('ボランティア (JV)'!L25="","",'ボランティア (JV)'!L25) | BH47: =IF('障がい者雇用 (JV)'!M20="","",'障がい者雇用 (JV)'!M20) | BI47: =IF('障がい者雇用 (JV)'!M39="","",'障がい者雇用 (JV)'!M39) | BJ47: =IF('障がい者雇用 (JV)'!M72="","",'障がい者雇用 (JV)'!M72) | BN47: =IF('若手技術者・従業員新規雇用（JV)'!M14="","申請なし",IF(OR('若手技術者・従業員新規雇用（JV)'!M18="有",'若手技術者・従業員新規雇用（JV)'!M30="有"),"若手技術者",IF('若手技術者・従業員新規雇用（JV)'!M32="有","若手従業員","無"))) -> 申請なし | BO47: =IF('若手技術者・従業員新規雇用（JV)'!M37="","申請なし",IF(OR('若手技術者・従業員新規雇用（JV)'!M41="有",'若手技術者・従業員新規雇用（JV)'!M53="有"),"若手技術者",IF('若手技術者・従業員新規雇用（JV)'!M55="有","若手従業員","無"))) -> 申請なし | BP47: =IF('若手技術者・従業員新規雇用（JV)'!M60="","申請なし",IF(OR('若手技術者・従業員新規雇用（JV)'!M64="有",'若手技術者・従業員新規雇用（JV)'!M76="有"),"若手技術者",IF('若手技術者・従業員新規雇用（JV)'!M78="有","若手従業員","無"))) -> 申請なし | BU47: =IF(【建築】応急危険度判定士!L15="","",【建築】応急危険度判定士!L15)
B48: 5 | F48: 施工場所 | G48: =IF(G44="申請なし","",IF(同種工事施工実績!F22="","",同種工事施工実績!F22)) | H48: =IF(H44="申請なし","",IF(同種工事施工実績!M22="","",同種工事施工実績!M22)) | I48: =IF(J45="","","建設工事の種類") | J48: =IF(J45="","",IF(優良工事表彰!E17="","",優良工事表彰!E17)) | L48: =IF(OR('優良工事表彰（JV）'!B19="",'優良工事表彰（JV）'!N18=""),"",'優良工事表彰（JV）'!B19) | M48: =IF('優良工事表彰（JV）'!B18="","",'優良工事表彰（JV）'!B18) | N48: =IF('優良工事表彰（JV）'!N18="","",'優良工事表彰（JV）'!N18) | O48: =IF('【建築】継続能力開発（CPD）制度'!J17="","",'【建築】継続能力開発（CPD）制度'!J17) | P48: =IF('【建築】継続能力開発（CPD）制度'!N17="","",'【建築】継続能力開発（CPD）制度'!N17) | U48: =IF(V34="配置なし","第2ｸﾞﾙｰﾌﾟ"&CHAR(10)&"配置なし",IF(V34="配置あり","第2ｸﾞﾙｰﾌﾟ"&CHAR(10)&"申請あり","")) -> 第2ｸﾞﾙｰﾌﾟ 配置なし | X48: 工期(始) | Y48: =IF(OR(Y44="配置なし",Y44="申請なし"),"",IF(同種工事施工経験!G24="","",同種工事施工経験!F24&同種工事施工経験!G24&同種工事施工経験!H24&同種工事施工経験!I24&同種工事施工経験!J24&同種工事施工経験!K24&同種工事施工経験!L24&"～")) | Z48: =IF(OR(Z44="",Z44="申請なし"),"",IF(同種工事施工経験!N24="","",同種工事施工経験!M24&同種工事施工経験!N24&同種工事施工経験!O24&同種工事施工経験!P24&同種工事施工経験!Q24&同種工事施工経験!R24&同種工事施工経験!S24&"～")) | AG48: =IF(AH34="配置なし","第2ｸﾞﾙｰﾌﾟ"&CHAR(10)&"配置なし",IF(AH34="配置あり","第2ｸﾞﾙｰﾌﾟ"&CHAR(10)&"申請あり","")) -> 第2ｸﾞﾙｰﾌﾟ 配置なし | AJ48: 工期(始) | AK48: =IF(OR(AK44="配置なし",AK44="申請なし"),"",IF(同種工事施工経験!G131="","",同種工事施工経験!F131&同種工事施工経験!G131&同種工事施工経験!H131&同種工事施工経験!I131&同種工事施工経験!J131&同種工事施工経験!K131&同種工事施工経験!L131&"～")) | AL48: =IF(OR(AL44="",AL44="申請なし"),"",IF(同種工事施工経験!N131="","",同種工事施工経験!M131&同種工事施工経験!N131&同種工事施工経験!O131&同種工事施工経験!P131&同種工事施工経験!Q131&同種工事施工経験!R131&同種工事施工経験!S131)) | AS48: =IF(AT34="配置なし","第2ｸﾞﾙｰﾌﾟ"&CHAR(10)&"配置なし",IF(AT34="配置あり","第2ｸﾞﾙｰﾌﾟ"&CHAR(10)&"申請あり","")) -> 第2ｸﾞﾙｰﾌﾟ 配置なし | AV48: 工期(始) | AW48: =IF(OR(AW44="配置なし",AW44="申請なし"),"",IF(同種工事施工経験!G177="","",同種工事施工経験!F177&同種工事施工経験!G177&同種工事施工経験!H177&同種工事施工経験!I177&同種工事施工経験!J177&同種工事施工経験!K177&同種工事施工経験!L177&"～")) | AX48: =IF(OR(AX44="",AX44="申請なし"),"",IF(同種工事施工経験!N177="","",同種工事施工経験!M177&同種工事施工経験!N177&同種工事施工経験!O177&同種工事施工経験!P177&同種工事施工経験!Q177&同種工事施工経験!R177&同種工事施工経験!S177&"～")) | BE48: 従業員数 | BF48: =IF(OR(BF44="申請なし",'ボランティア (JV)'!N12=""),"",'ボランティア (JV)'!N12) | BG48: =IF(OR(BG44="申請なし",'ボランティア (JV)'!N25=""),"",'ボランティア (JV)'!N25) | BH48: =IF('障がい者雇用 (JV)'!M21="","",'障がい者雇用 (JV)'!M21) | BI48: =IF('障がい者雇用 (JV)'!M40="","",'障がい者雇用 (JV)'!M40) | BJ48: =IF('障がい者雇用 (JV)'!M73="","",'障がい者雇用 (JV)'!M73) | BU48: =IF(【建築】応急危険度判定士!L16="","",【建築】応急危険度判定士!L16)
B49: 6 | F49: 請負金額 | G49: =IF(G44="申請なし","",IF(同種工事施工実績!F24="","",同種工事施工実績!F24)) | H49: =IF(H44="申請なし","",IF(同種工事施工実績!M24="","",同種工事施工実績!M24)) | L49: =IF(OR('優良工事表彰（JV）'!B21="",'優良工事表彰（JV）'!N20=""),"",'優良工事表彰（JV）'!B21) | M49: =IF('優良工事表彰（JV）'!B20="","",'優良工事表彰（JV）'!B20) | N49: =IF('優良工事表彰（JV）'!N20="","",'優良工事表彰（JV）'!N20) | O49: =IF('【建築】継続能力開発（CPD）制度'!J18="","",'【建築】継続能力開発（CPD）制度'!J18) | P49: =IF('【建築】継続能力開発（CPD）制度'!N18="","",'【建築】継続能力開発（CPD）制度'!N18) | U49: =IF(W34="配置なし","第3ｸﾞﾙｰﾌﾟ"&CHAR(10)&"配置なし",IF(W34="配置あり","第3ｸﾞﾙｰﾌﾟ"&CHAR(10)&"申請あり","")) -> 第3ｸﾞﾙｰﾌﾟ 配置なし | X49: 工期(終) | Y49: =IF(OR(Y44="配置なし",Y44="申請なし"),"",IF(同種工事施工経験!G25="","",同種工事施工経験!F25&同種工事施工経験!G25&同種工事施工経験!H25&同種工事施工経験!I25&同種工事施工経験!J25&同種工事施工経験!K25&同種工事施工経験!L25)) | Z49: =IF(OR(Z44="",Z44="申請なし"),"",IF(同種工事施工経験!N25="","",同種工事施工経験!M25&同種工事施工経験!N25&同種工事施工経験!O25&同種工事施工経験!P25&同種工事施工経験!Q25&同種工事施工経験!R25&同種工事施工経験!S25)) | AG49: =IF(AI34="配置なし","第3ｸﾞﾙｰﾌﾟ"&CHAR(10)&"配置なし",IF(AI34="配置あり","第3ｸﾞﾙｰﾌﾟ"&CHAR(10)&"申請あり","")) -> 第3ｸﾞﾙｰﾌﾟ 配置なし | AJ49: 工期(終) | AK49: =IF(OR(AK44="配置なし",AK44="申請なし"),"",IF(同種工事施工経験!G132="","",同種工事施工経験!F132&同種工事施工経験!G132&同種工事施工経験!H132&同種工事施工経験!I132&同種工事施工経験!J132&同種工事施工経験!K132&同種工事施工経験!L132)) | AL49: =IF(OR(AL44="",AL44="申請なし"),"",IF(同種工事施工経験!N132="","",同種工事施工経験!M132&同種工事施工経験!N132&同種工事施工経験!O132&同種工事施工経験!P132&同種工事施工経験!Q132&同種工事施工経験!R132&同種工事施工経験!S132)) | AS49: =IF(AU34="配置なし","第3ｸﾞﾙｰﾌﾟ"&CHAR(10)&"配置なし",IF(AU34="配置あり","第3ｸﾞﾙｰﾌﾟ"&CHAR(10)&"申請あり","")) -> 第3ｸﾞﾙｰﾌﾟ 配置なし | AV49: 工期(終) | AW49: =IF(OR(AW44="配置なし",AW44="申請なし"),"",IF(同種工事施工経験!G178="","",同種工事施工経験!F178&同種工事施工経験!G178&同種工事施工経験!H178&同種工事施工経験!I178&同種工事施工経験!J178&同種工事施工経験!K178&同種工事施工経験!L178)) | AX49: =IF(OR(AX44="",AX44="申請なし"),"",IF(同種工事施工経験!N178="","",同種工事施工経験!M178&同種工事施工経験!N178&同種工事施工経験!O178&同種工事施工経験!P178&同種工事施工経験!Q178&同種工事施工経験!R178&同種工事施工経験!S178)) | BE49: 第2ｸﾞﾙｰﾌﾟ | BF49: =IF(BF52="","申請なし","有") -> 申請なし | BG49: =IF(BG52="","申請なし","有") -> 申請なし | BH49: =IF('育児・介護休業 (JV) '!E13="","",'育児・介護休業 (JV) '!E13) | BI49: =IF('育児・介護休業 (JV) '!E17="","",'育児・介護休業 (JV) '!E17) | BJ49: =IF('育児・介護休業 (JV) '!E21="","",'育児・介護休業 (JV) '!E21) | BU49: =IF(【建築】応急危険度判定士!L17="","",【建築】応急危険度判定士!L17)
B50: 7 | F50: 工期(始) | G50: =IF(G44="申請なし","",IF(同種工事施工実績!G25="","",同種工事施工実績!F25&同種工事施工実績!G25&同種工事施工実績!H25&同種工事施工実績!I25&同種工事施工実績!J25&同種工事施工実績!K25&同種工事施工実績!L25&"～")) | H50: =IF(H44="申請なし","",IF(同種工事施工実績!N25="","",同種工事施工実績!M25&同種工事施工実績!N25&同種工事施工実績!O25&同種工事施工実績!P25&同種工事施工実績!Q25&同種工事施工実績!R25&同種工事施工実績!S25&"～")) | L50: =IF(OR('優良工事表彰（JV）'!B23="",'優良工事表彰（JV）'!N22=""),"",'優良工事表彰（JV）'!B23) | M50: =IF('優良工事表彰（JV）'!B22="","",'優良工事表彰（JV）'!B22) | N50: =IF('優良工事表彰（JV）'!N22="","",'優良工事表彰（JV）'!N22) | X50: 工事種別 | Y50: =IF(OR(Y44="配置なし",Y44="申請なし"),"",IF(同種工事施工経験!F31="","",同種工事施工経験!F31)) | Z50: =IF(OR(Z44="",Z44="申請なし"),"",IF(同種工事施工経験!M31="","",同種工事施工経験!M31)) | AJ50: 工事種別 | AK50: =IF(OR(AK44="配置なし",AK44="申請なし"),"",IF(同種工事施工経験!F138="","",同種工事施工経験!F138)) | AL50: =IF(OR(AL44="",AL44="申請なし"),"",IF(同種工事施工経験!M138="","",同種工事施工経験!M138)) | AV50: 工事種別 | AW50: =IF(OR(AW44="配置なし",AW44="申請なし"),"",IF(同種工事施工経験!F184="","",同種工事施工経験!F184)) | AX50: =IF(OR(AX44="",AX44="申請なし"),"",IF(同種工事施工経験!M184="","",同種工事施工経験!M184)) | BE50: 活動年月日 | BF50: =IF('ボランティア (JV)'!C13="","",'ボランティア (JV)'!C13) -> R７ | BH50: =IF('育児・介護休業 (JV) '!L13="","",'育児・介護休業 (JV) '!L13) | BI50: =IF('育児・介護休業 (JV) '!L17="","",'育児・介護休業 (JV) '!L17) | BJ50: =IF('育児・介護休業 (JV) '!L21="","",'育児・介護休業 (JV) '!L21) | BU50: =IF(【建築】応急危険度判定士!L18="","",【建築】応急危険度判定士!L18)
B51: 8 | F51: 工期(終) | G51: =IF(G44="申請なし","",IF(同種工事施工実績!G26="","",同種工事施工実績!F26&同種工事施工実績!G26&同種工事施工実績!H26&同種工事施工実績!I26&同種工事施工実績!J26&同種工事施工実績!K26&同種工事施工実績!L26)) | H51: =IF(H44="申請なし","",IF(同種工事施工実績!N26="","",同種工事施工実績!M26&同種工事施工実績!N26&同種工事施工実績!O26&同種工事施工実績!P26&同種工事施工実績!Q26&同種工事施工実績!R26&同種工事施工実績!S26)) | L51: =IF(OR('優良工事表彰（JV）'!B25="",'優良工事表彰（JV）'!N24=""),"",'優良工事表彰（JV）'!B25) | M51: =IF('優良工事表彰（JV）'!B24="","",'優良工事表彰（JV）'!B24) | N51: =IF('優良工事表彰（JV）'!N24="","",'優良工事表彰（JV）'!N24) | X51: 建設工事の種類 | Y51: =IF(OR(Y44="配置なし",Y44="申請なし"),"",IF(同種工事施工経験!F32="","",同種工事施工経験!F32)) | Z51: =IF(OR(Z44="",Z44="申請なし"),"",IF(同種工事施工経験!M32="","",同種工事施工経験!M32)) | AJ51: 建設工事の種類 | AK51: =IF(OR(AK44="配置なし",AK44="申請なし"),"",IF(同種工事施工経験!F139="","",同種工事施工経験!F139)) | AL51: =IF(OR(AL44="",AL44="申請なし"),"",IF(同種工事施工経験!M139="","",同種工事施工経験!M139)) | AV51: 建設工事の種類 | AW51: =IF(OR(AW44="配置なし",AW44="申請なし"),"",IF(同種工事施工経験!F185="","",同種工事施工経験!F185)) | AX51: =IF(OR(AX44="",AX44="申請なし"),"",IF(同種工事施工経験!M185="","",同種工事施工経験!M185)) | BE51: 活動内容 | BF51: =IF('ボランティア (JV)'!F13="","",'ボランティア (JV)'!F13) | BH51: =IF(AND('若手技術者・従業員新規雇用（JV)'!H14="",'若手技術者・従業員新規雇用（JV)'!M14=""),"申請なし",IF(OR('若手技術者・従業員新規雇用（JV)'!H18="有",'若手技術者・従業員新規雇用（JV)'!H30="有",'若手技術者・従業員新規雇用（JV)'!M18="有",'若手技術者・従業員新規雇用（JV)'!M30="有"),"有","無")) -> 申請なし | BI51: =IF(AND('若手技術者・従業員新規雇用（JV)'!H37="",'若手技術者・従業員新規雇用（JV)'!M37=""),"申請なし",IF(OR('若手技術者・従業員新規雇用（JV)'!H41="有",'若手技術者・従業員新規雇用（JV)'!H53="有",'若手技術者・従業員新規雇用（JV)'!M41="有",'若手技術者・従業員新規雇用（JV)'!M53="有"),"有","無")) -> 申請なし | BJ51: =IF(AND('若手技術者・従業員新規雇用（JV)'!H60="",'若手技術者・従業員新規雇用（JV)'!M60=""),"申請なし",IF(OR('若手技術者・従業員新規雇用（JV)'!H64="有",'若手技術者・従業員新規雇用（JV)'!H76="有",'若手技術者・従業員新規雇用（JV)'!M64="有",'若手技術者・従業員新規雇用（JV)'!M76="有"),"有","無")) -> 申請なし | BU51: =IF(【建築】応急危険度判定士!L19="","",【建築】応急危険度判定士!L19)
B52: 9 | F52: 延床面積 | G52: =IF(G44="申請なし","",IF(同種工事施工実績!F31="","",同種工事施工実績!F31)) | H52: =IF(H44="申請なし","",IF(同種工事施工実績!M31="","",同種工事施工実績!M31)) | L52: =IF(OR('優良工事表彰（JV）'!B27="",'優良工事表彰（JV）'!N26=""),"",'優良工事表彰（JV）'!B27) | M52: =IF('優良工事表彰（JV）'!B26="","",'優良工事表彰（JV）'!B26) | N52: =IF('優良工事表彰（JV）'!N26="","",'優良工事表彰（JV）'!N26) | X52: 役職 | Y52: =IF(OR(Y44="配置なし",Y44="申請なし"),"",IF(同種工事施工経験!F28="","",同種工事施工経験!F28)) | Z52: =IF(OR(Z44="",Z44="申請なし"),"",IF(同種工事施工経験!M28="","",同種工事施工経験!M28)) | AJ52: 役職 | AK52: =IF(OR(AK44="配置なし",AK44="申請なし"),"",IF(同種工事施工経験!F135="","",同種工事施工経験!F135)) | AL52: =IF(OR(AL44="",AL44="申請なし"),"",IF(同種工事施工経験!M135="","",同種工事施工経験!M135)) | AV52: 役職 | AW52: =IF(OR(AW44="配置なし",AW44="申請なし"),"",IF(同種工事施工経験!F181="","",同種工事施工経験!F181)) | AX52: =IF(OR(AX44="",AX44="申請なし"),"",IF(同種工事施工経験!M181="","",同種工事施工経験!M181)) | BE52: 参加人数 | BF52: =IF('ボランティア (JV)'!L13="","",'ボランティア (JV)'!L13) | BG52: =IF('ボランティア (JV)'!L26="","",'ボランティア (JV)'!L26) | BU52: =IF(【建築】応急危険度判定士!L20="","",【建築】応急危険度判定士!L20)
B53: 10 | F53: 構造種別 | G53: =IF(G44="申請なし","",IF(同種工事施工実績!F33="","",同種工事施工実績!F33)) | H53: =IF(H44="申請なし","",IF(同種工事施工実績!M33="","",同種工事施工実績!M33)) | L53: =IF(OR('優良工事表彰（JV）'!B29="",'優良工事表彰（JV）'!N28=""),"",'優良工事表彰（JV）'!B29) | M53: =IF('優良工事表彰（JV）'!B28="","",'優良工事表彰（JV）'!B28) | N53: =IF('優良工事表彰（JV）'!N28="","",'優良工事表彰（JV）'!N28) | X53: 延床面積 | Y53: =IF(OR(Y44="配置なし",Y44="申請なし"),"",IF(同種工事施工経験!F34="","",同種工事施工経験!F34)) | Z53: =IF(OR(Z44="",Z44="申請なし"),"",IF(同種工事施工経験!M34="","",同種工事施工経験!M34)) | AJ53: 延床面積 | AK53: =IF(OR(AK44="配置なし",AK44="申請なし"),"",IF(同種工事施工経験!F141="","",同種工事施工経験!F141)) | AL53: =IF(OR(AL44="",AL44="申請なし"),"",IF(同種工事施工経験!M141="","",同種工事施工経験!M141)) | AV53: 延床面積 | AW53: =IF(OR(AW44="配置なし",AW44="申請なし"),"",IF(同種工事施工経験!F187="","",同種工事施工経験!F187)) | AX53: =IF(OR(AX44="",AX44="申請なし"),"",IF(同種工事施工経験!M187="","",同種工事施工経験!M187)) | BE53: 従業員数 | BF53: =IF(OR(BF49="申請なし",'ボランティア (JV)'!N13=""),"",'ボランティア (JV)'!N13) | BG53: =IF(OR(BG49="申請なし",'ボランティア (JV)'!N26=""),"",'ボランティア (JV)'!N26) | BU53: =IF(【建築】応急危険度判定士!L21="","",【建築】応急危険度判定士!L21)
B54: 11 | G54: =IF(G44="申請なし","",IF(同種工事施工実績!F35="","",同種工事施工実績!F35)) | H54: =IF(H44="申請なし","",IF(同種工事施工実績!M35="","",同種工事施工実績!M35)) | X54: 構造種別 | Y54: =IF(OR(Y44="配置なし",Y44="申請なし"),"",IF(同種工事施工経験!F36="","",同種工事施工経験!F36)) | Z54: =IF(OR(Z44="",Z44="申請なし"),"",IF(同種工事施工経験!M36="","",同種工事施工経験!M36)) | AJ54: 構造種別 | AK54: =IF(OR(AK44="配置なし",AK44="申請なし"),"",IF(同種工事施工経験!F143="","",同種工事施工経験!F143)) | AL54: =IF(OR(AL44="",AL44="申請なし"),"",IF(同種工事施工経験!M143="","",同種工事施工経験!M143)) | AV54: 構造種別 | AW54: =IF(OR(AW44="配置なし",AW44="申請なし"),"",IF(同種工事施工経験!F189="","",同種工事施工経験!F189)) | AX54: =IF(OR(AX44="",AX44="申請なし"),"",IF(同種工事施工経験!M189="","",同種工事施工経験!M189)) | BE54: 第3ｸﾞﾙｰﾌﾟ | BF54: =IF(BF57="","申請なし","有") -> 申請なし | BG54: =IF(BG57="","申請なし","有") -> 申請なし | BU54: =IF(【建築】応急危険度判定士!L22="","",【建築】応急危険度判定士!L22)
B55: 12 | G55: =IF(G44="申請なし","",IF(同種工事施工実績!F37="","",同種工事施工実績!F37)) | H55: =IF(H44="申請なし","",IF(同種工事施工実績!M37="","",同種工事施工実績!M37)) | Y55: =IF(OR(Y44="配置なし",Y44="申請なし"),"",IF(同種工事施工経験!F38="","",同種工事施工経験!F38)) | Z55: =IF(OR(Z44="",Z44="申請なし"),"",IF(同種工事施工経験!M38="","",同種工事施工経験!M38)) | AK55: =IF(OR(AK44="配置なし",AK44="申請なし"),"",IF(同種工事施工経験!F145="","",同種工事施工経験!F145)) | AL55: =IF(OR(AL44="",AL44="申請なし"),"",IF(同種工事施工経験!M145="","",同種工事施工経験!M145)) | AW55: =IF(OR(AW44="配置なし",AW44="申請なし"),"",IF(同種工事施工経験!F191="","",同種工事施工経験!F191)) | AX55: =IF(OR(AX44="",AX44="申請なし"),"",IF(同種工事施工経験!M191="","",同種工事施工経験!M191)) | BE55: 活動年月日 | BF55: =IF('ボランティア (JV)'!C14="","",'ボランティア (JV)'!C14) -> R６ | BU55: =IF(【建築】応急危険度判定士!L23="","",【建築】応急危険度判定士!L23)
B56: 13 | G56: =IF(G44="申請なし","",IF(同種工事施工実績!F39="","",同種工事施工実績!F39)) | H56: =IF(H44="申請なし","",IF(同種工事施工実績!M39="","",同種工事施工実績!M39)) | X56: 工事成績 | Y56: =IF(OR(Y44="配置なし",Y44="申請なし"),"",IF(同種工事施工経験!F33="","",同種工事施工経験!F33)) | Z56: =IF(OR(Z44="",Z44="申請なし"),"",IF(同種工事施工経験!M33="","",同種工事施工経験!M33)) | AJ56: 工事成績 | AK56: =IF(OR(AK44="配置なし",AK44="申請なし"),"",IF(同種工事施工経験!F140="","",同種工事施工経験!F140)) | AL56: =IF(OR(AL44="",AL44="申請なし"),"",IF(同種工事施工経験!M140="","",同種工事施工経験!M140)) | AV56: 工事成績 | AW56: =IF(OR(AW44="配置なし",AW44="申請なし"),"",IF(同種工事施工経験!F186="","",同種工事施工経験!F186)) | AX56: =IF(OR(AX44="",AX44="申請なし"),"",IF(同種工事施工経験!M186="","",同種工事施工経験!M186)) | BE56: 活動内容 | BF56: =IF('ボランティア (JV)'!F14="","",'ボランティア (JV)'!F14)
B57: 14 | F57: 工事成績 | G57: =IF(G44="申請なし","",IF(同種工事施工実績!F29="","",同種工事施工実績!F29)) | H57: =IF(H44="申請なし","",IF(同種工事施工実績!M29="","",同種工事施工実績!M29)) | X57: 受注形態 | Y57: =IF(OR(Y44="配置なし",Y44="申請なし"),"",IF(同種工事施工経験!F29="","",同種工事施工経験!F29)) | Z57: =IF(OR(Z44="",Z44="申請なし"),"",IF(同種工事施工経験!M29="","",同種工事施工経験!M29)) | AJ57: 受注形態 | AK57: =IF(OR(AK44="配置なし",AK44="申請なし"),"",IF(同種工事施工経験!F136="","",同種工事施工経験!F136)) | AL57: =IF(OR(AL44="",AL44="申請なし"),"",IF(同種工事施工経験!M136="","",同種工事施工経験!M136)) | AV57: 受注形態 | AW57: =IF(OR(AW44="配置なし",AW44="申請なし"),"",IF(同種工事施工経験!F182="","",同種工事施工経験!F182)) | AX57: =IF(OR(AX44="",AX44="申請なし"),"",IF(同種工事施工経験!M182="","",同種工事施工経験!M182)) | BE57: 参加人数 | BF57: =IF('ボランティア (JV)'!L14="","",'ボランティア (JV)'!L14) | BG57: =IF('ボランティア (JV)'!L27="","",'ボランティア (JV)'!L27)
B58: 15 | F58: 受注形態 | G58: =IF(G44="申請なし","",IF(同種工事施工実績!F27="","",同種工事施工実績!F27)) | H58: =IF(H44="申請なし","",IF(同種工事施工実績!M27="","",同種工事施工実績!M27)) | X58: 出資比率 | Y58: =IF(OR(Y44="配置なし",Y44="申請なし"),"",IF(同種工事施工経験!F30="","",同種工事施工経験!F30)) | Z58: =IF(OR(Z44="",Z44="申請なし"),"",IF(同種工事施工経験!M30="","",同種工事施工経験!M30)) | AJ58: 出資比率 | AK58: =IF(OR(AK44="配置なし",AK44="申請なし"),"",IF(同種工事施工経験!F137="","",同種工事施工経験!F137)) | AL58: =IF(OR(AL44="",AL44="申請なし"),"",IF(同種工事施工経験!M137="","",同種工事施工経験!M137)) | AV58: 出資比率 | AW58: =IF(OR(AW44="配置なし",AW44="申請なし"),"",IF(同種工事施工経験!F183="","",同種工事施工経験!F183)) | AX58: =IF(OR(AX44="",AX44="申請なし"),"",IF(同種工事施工経験!M183="","",同種工事施工経験!M183)) | BE58: 従業員数 | BF58: =IF(OR(BF54="申請なし",'ボランティア (JV)'!N14=""),"",'ボランティア (JV)'!N14) | BG58: =IF(OR(BG54="申請なし",'ボランティア (JV)'!N27=""),"",'ボランティア (JV)'!N27)
B59: 16 | F59: 出資比率 | G59: =IF(G44="申請なし","",IF(同種工事施工実績!F28="","",同種工事施工実績!F28)) | H59: =IF(H44="申請なし","",IF(同種工事施工実績!M28="","",同種工事施工実績!M28)) | X59: コリンズ | Y59: =IF(OR(Y44="配置なし",Y44="申請なし"),"",IF(同種工事施工経験!F19="","",同種工事施工経験!F19)) | Z59: =IF(OR(Z44="",Z44="申請なし"),"",IF(同種工事施工経験!M19="","",同種工事施工経験!M19)) | AJ59: コリンズ | AK59: =IF(OR(AK44="配置なし",AK44="申請なし"),"",IF(同種工事施工経験!F126="","",同種工事施工経験!F126)) | AL59: =IF(OR(AL44="",AL44="申請なし"),"",IF(同種工事施工経験!M126="","",同種工事施工経験!M126)) | AV59: コリンズ | AW59: =IF(OR(AW44="配置なし",AW44="申請なし"),"",IF(同種工事施工経験!F172="","",同種工事施工経験!F172)) | AX59: =IF(OR(AX44="",AX44="申請なし"),"",IF(同種工事施工経験!M172="","",同種工事施工経験!M172))
B60: 17 | F60: コリンズ | G60: =IF(G44="申請なし","",IF(同種工事施工実績!F18="","",同種工事施工実績!F18)) | H60: =IF(H44="申請なし","",IF(同種工事施工実績!M18="","",同種工事施工実績!M18))
B61: 18
B62: ・各様式に記載された内容をこのシートの集計専用表で数式によりリンクさせています。
B63: ・集計専用表で集計した内容をコピー専用表で再集計していますので、企業震災内容の行数は１８行から８行に減っています。

Sheet 表紙
A1: 様式－１ | S1: 着色セルの凡例
M2: 提出日 | N2: =IF(企業入力シート!C11="","",企業入力シート!C11) -> 46235 | S2: （企業）
A3: （ 標準型 総合評価方式 ） | T3: ：「企業入力シート」で入力（数式リンク有）
A4: 総 合 評 価 技 術 資 料 | T4: ：セルに直接入力が必要な箇所
A5: 発注者
A6: 島根県知事 様 | S6: （発注者）
T7: ：「発注者入力シート」で入力（数式リンク有）
C8: 共同企業体名 | F8: =IF(企業入力シート!C5="","",企業入力シート!C5) | T8: ：セルに直接入力が必要な箇所
G9: （代表者）
G11: 住所 | J11: =IF(企業入力シート!C13="","",企業入力シート!C13)
S12: 【印刷について】
G13: 商号又は名称 | J13: =IF(企業入力シート!C14="","",企業入力シート!C14) -> ○○建設 | S13: このシートは「ページ設定」で「白黒印刷」と「印刷範囲」が設定されています。
G14: 代表者氏名 | J14: =IF(企業入力シート!C15="","",企業入力シート!C15) -> ○○ ○○
A17: =CONCATENATE(" ","令和",(YEAR(発注者入力シート!C7)-2018),"年",MONTH(発注者入力シート!C7),"月",DAY(発注者入力シート!C7),"日付けで入札公告のありました下記工事について、別添のとおり書類を添えて提出いたします。") -> 令和8年10月15日付けで入札公告のありました下記工事について、別添のとおり書類を添えて提出いたします。
A20: １ 工事名 | C20: =発注者入力シート!C10 -> 浜山公園陸上競技場メインスタンド増築外（電気設備）工事
A22: ２ 提出書類（下記項目の該当するもの）
A23: =IF(発注者入力シート!C24="","#N/A"," ○技術提案（ "&発注者入力シート!C24&" ） （様式-２）") -> #N/A
A24: =IF(発注者入力シート!C25="","#N/A"," ○技術提案（ "&発注者入力シート!C25&" ） （様式-２）") -> #N/A
A25: =IF(発注者入力シート!C26="","#N/A"," ○技術提案（ "&発注者入力シート!C26&" ） （様式-２）") -> #N/A
A26: =IF(発注者入力シート!C22="","#N/A"," ○技術提案（ "&発注者入力シート!C22&" ） （様式-２）") -> #N/A
A27: =IF(発注者入力シート!C23="","#N/A"," ○技術提案（ "&発注者入力シート!C23&" ） （様式-２）") -> #N/A
A28: =IF(発注者入力シート!C20="","#N/A"," ○技術提案（ "&発注者入力シート!C20&" ） （様式-２）") -> #N/A
A29: =IF(発注者入力シート!C21="","#N/A"," ○技術提案（ "&発注者入力シート!C21&" ） （様式-２）") -> #N/A
A30: =IF(AND(IFERROR(OR(発注者入力シート!$L$62="２",発注者入力シート!$L$63="２"),FALSE),企業入力シート!$L$100=3),"",IF(COUNTIF($A$50:$A$76,"*"&VLOOKUP("２",発注者入力シート!$L$41:$N$75,3,FALSE)&"*")>=3,"",INDEX(発注者入力シート!$L$40:$O$81,MATCH("２",発注者入力シート!$L$40:$L$81,0),4))) -> ○企業の工事成績評定点 （様式-２-１、様式-２-２） | S30: 技能士活用が必要か要確認！
A31: =IF(AND(IFERROR(OR(発注者入力シート!$L$62="３",発注者入力シート!$L$63="３"),FALSE),企業入力シート!$L$100=3),"",IF(COUNTIF($A$50:$A$76,"*"&VLOOKUP("３",発注者入力シート!$L$41:$N$75,3,FALSE)&"*")>=3,"",INDEX(発注者入力シート!$L$40:$O$81,MATCH("３",発注者入力シート!$L$40:$L$81,0),4))) -> ○企業の同種工事の施工実績 （様式-３）
A32: =IF(AND(IFERROR(OR(発注者入力シート!$L$62="４",発注者入力シート!$L$63="４"),FALSE),企業入力シート!$L$100=3),"",IF(COUNTIF($A$50:$A$76,"*"&VLOOKUP("４",発注者入力シート!$L$41:$N$75,3,FALSE)&"*")>=3,"",INDEX(発注者入力シート!$L$40:$O$81,MATCH("４",発注者入力シート!$L$40:$L$81,0),4))) -> ○企業の優良工事表彰（優良工事施工団体表彰） （様式-４）
A33: =IF(AND(IFERROR(OR(発注者入力シート!$L$62="５",発注者入力シート!$L$63="５"),FALSE),企業入力シート!$L$100=3),"",IF(COUNTIF($A$50:$A$76,"*"&VLOOKUP("５",発注者入力シート!$L$41:$N$75,3,FALSE)&"*")>=3,"",INDEX(発注者入力シート!$L$40:$O$81,MATCH("５",発注者入力シート!$L$40:$L$81,0),4))) -> ○配置予定技術者の工事成績評定点 （様式-５-１、様式-５-２）
A34: =IF(AND(IFERROR(OR(発注者入力シート!$L$62="６",発注者入力シート!$L$63="６"),FALSE),企業入力シート!$L$100=3),"",IF(COUNTIF($A$50:$A$76,"*"&VLOOKUP("６",発注者入力シート!$L$41:$N$75,3,FALSE)&"*")>=3,"",INDEX(発注者入力シート!$L$40:$O$81,MATCH("６",発注者入力シート!$L$40:$L$81,0),4))) -> ○配置予定技術者の同種工事の施工経験 （様式-６）
A35: =IF(AND(IFERROR(OR(発注者入力シート!$L$62="７",発注者入力シート!$L$63="７"),FALSE),企業入力シート!$L$100=3),"",IF(COUNTIF($A$50:$A$76,"*"&VLOOKUP("７",発注者入力シート!$L$41:$N$75,3,FALSE)&"*")>=3,"",INDEX(発注者入力シート!$L$40:$O$81,MATCH("７",発注者入力シート!$L$40:$L$81,0),4))) -> ○配置予定技術者の継続学習 （様式-７）
A36: =IF(AND(IFERROR(OR(発注者入力シート!$L$62="８",発注者入力シート!$L$63="８"),FALSE),企業入力シート!$L$100=3),"",IF(COUNTIF($A$50:$A$76,"*"&VLOOKUP("８",発注者入力シート!$L$41:$N$75,3,FALSE)&"*")>=3,"",INDEX(発注者入力シート!$L$40:$O$81,MATCH("８",発注者入力シート!$L$40:$L$81,0),4))) -> ○ボランティア活動又はハートフルしまねへの参加実績 （様式-８）
A37: =IF(AND(IFERROR(OR(発注者入力シート!$L$62="９",発注者入力シート!$L$63="９"),FALSE),企業入力シート!$L$100=3),"",IF(COUNTIF($A$50:$A$76,"*"&VLOOKUP("９",発注者入力シート!$L$41:$N$75,3,FALSE)&"*")>=3,"",INDEX(発注者入力シート!$L$40:$O$81,MATCH("９",発注者入力シート!$L$40:$L$81,0),4))) -> ○労働福祉関連の状況(a 障がい者雇用の実態) （様式-９）
A38: =IF(AND(IFERROR(OR(発注者入力シート!$L$62="１０",発注者入力シート!$L$63="１０"),FALSE),企業入力シート!$L$100=3),"",IF(COUNTIF($A$50:$A$76,"*"&VLOOKUP("１０",発注者入力シート!$L$41:$N$75,3,FALSE)&"*")>=3,"",INDEX(発注者入力シート!$L$40:$O$81,MATCH("１０",発注者入力シート!$L$40:$L$81,0),4))) -> ○労働福祉関連の状況(b 育児・介護休業に関する制度) （様式-１０）
A39: =IF(AND(IFERROR(OR(発注者入力シート!$L$62="１１",発注者入力シート!$L$63="１１"),FALSE),企業入力シート!$L$100=3),"",IF(COUNTIF($A$50:$A$76,"*"&VLOOKUP("１１",発注者入力シート!$L$41:$N$75,3,FALSE)&"*")>=3,"",INDEX(発注者入力シート!$L$40:$O$81,MATCH("１１",発注者入力シート!$L$40:$L$81,0),4))) -> ○育児・介護休業に関する制度 チェック表 （様式-１１）
A40: =IF(AND(IFERROR(OR(発注者入力シート!$L$62="１２",発注者入力シート!$L$63="１２"),FALSE),企業入力シート!$L$100=3),"",IF(COUNTIF($A$50:$A$76,"*"&VLOOKUP("１２",発注者入力シート!$L$41:$N$75,3,FALSE)&"*")>=3,"",INDEX(発注者入力シート!$L$40:$O$81,MATCH("１２",発注者入力シート!$L$40:$L$81,0),4))) -> ○登録基幹技能者の配置 （様式-１２）
A41: =IF(AND(IFERROR(OR(発注者入力シート!$L$62="１３",発注者入力シート!$L$63="１３"),FALSE),企業入力シート!$L$100=3),"",IF(COUNTIF($A$50:$A$76,"*"&VLOOKUP("１３",発注者入力シート!$L$41:$N$75,3,FALSE)&"*")>=3,"",INDEX(発注者入力シート!$L$40:$O$81,MATCH("１３",発注者入力シート!$L$40:$L$81,0),4))) -> ○島根県地震被災建築物応急復旧相談員の登録 （様式-１３）
A42: =IF(AND(IFERROR(OR(発注者入力シート!$L$62="１４",発注者入力シート!$L$63="１４"),FALSE),企業入力シート!$L$100=3),"",IF(COUNTIF($A$50:$A$76,"*"&VLOOKUP("１４",発注者入力シート!$L$41:$N$75,3,FALSE)&"*")>=3,"",INDEX(発注者入力シート!$L$40:$O$81,MATCH("１４",発注者入力シート!$L$40:$L$81,0),4))) -> ○若手技術者・若手従業員の新規雇用 （様式-１４）
A43: =IF(AND(IFERROR(OR(発注者入力シート!$L$62="１５",発注者入力シート!$L$63="１５"),FALSE),企業入力シート!$L$100=3),"",IF(COUNTIF($A$50:$A$76,"*"&VLOOKUP("１５",発注者入力シート!$L$41:$N$75,3,FALSE)&"*")>=3,"",INDEX(発注者入力シート!$L$40:$O$81,MATCH("１５",発注者入力シート!$L$40:$L$81,0),4))) -> ○地理的条件（近隣地域での施工実績） （様式-１５）
A44: =IF(AND(IFERROR(OR(発注者入力シート!$L$62="１６",発注者入力シート!$L$63="１６"),FALSE),企業入力シート!$L$100=3),"",IF(COUNTIF($A$50:$A$76,"*"&VLOOKUP("１６",発注者入力シート!$L$41:$N$75,3,FALSE)&"*")>=3,"",INDEX(発注者入力シート!$L$40:$O$81,MATCH("１６",発注者入力シート!$L$40:$L$81,0),4))) -> #N/A
A45: =IF(AND(IFERROR(OR(発注者入力シート!$L$62="１７",発注者入力シート!$L$63="１７"),FALSE),企業入力シート!$L$100=3),"",IF(COUNTIF($A$50:$A$76,"*"&VLOOKUP("１７",発注者入力シート!$L$41:$N$75,3,FALSE)&"*")>=3,"",INDEX(発注者入力シート!$L$40:$O$81,MATCH("１７",発注者入力シート!$L$40:$L$81,0),4))) -> #N/A
A46: =IF(AND(IFERROR(OR(発注者入力シート!$L$62="１８",発注者入力シート!$L$63="１８"),FALSE),企業入力シート!$L$100=3),"",IF(COUNTIF($A$50:$A$76,"*"&VLOOKUP("１８",発注者入力シート!$L$41:$N$75,3,FALSE)&"*")>=3,"",INDEX(発注者入力シート!$L$40:$O$81,MATCH("１８",発注者入力シート!$L$40:$L$81,0),4))) -> #N/A
A47: =IF(AND(IFERROR(OR(発注者入力シート!$L$62="１９",発注者入力シート!$L$63="１９"),FALSE),企業入力シート!$L$100=3),"",IF(COUNTIF($A$50:$A$76,"*"&VLOOKUP("１９",発注者入力シート!$L$41:$N$75,3,FALSE)&"*")>=3,"",INDEX(発注者入力シート!$L$40:$O$81,MATCH("１９",発注者入力シート!$L$40:$L$81,0),4))) -> #N/A
A48: =IF(AND(IFERROR(OR(発注者入力シート!$L$62="２０",発注者入力シート!$L$63="２０"),FALSE),企業入力シート!$L$100=3),"",IF(COUNTIF($A$50:$A$76,"*"&VLOOKUP("２０",発注者入力シート!$L$41:$N$75,3,FALSE)&"*")>=3,"",INDEX(発注者入力シート!$L$40:$O$81,MATCH("２０",発注者入力シート!$L$40:$L$81,0),4))) -> #N/A
A50: =IF(SUM(企業入力シート!A32,企業入力シート!A61,企業入力シート!A90)=0,"","※事前審査・証明書による提出（技術資料及び添付資料省略）")
A51: =IF(企業入力シート!A32>0,"○第１グループ（"&企業入力シート!C14&"）",IF(企業入力シート!A61>0,"○第２グループ（"&企業入力シート!C48&"）",IF(企業入力シート!A90>0,"○第３グループ（"&企業入力シート!C77&"）","")))
A52: =IF(企業入力シート!$A$32>0," ・"&VLOOKUP(1,企業入力シート!$A$33:$I$42,3,FALSE),IF(企業入力シート!$A$61>0," ・"&VLOOKUP(1,企業入力シート!$A$62:$I$71,3,FALSE),IF(企業入力シート!$A$90>0," ・"&VLOOKUP(1,企業入力シート!$A$91:$I$100,3,FALSE),"")))
A53: =IF(企業入力シート!$A$32>0,IF(企業入力シート!$A$32>1," ・"&VLOOKUP(2,企業入力シート!$A$33:$I$42,3,FALSE),""),IF(企業入力シート!$A$61>0,IF(企業入力シート!$A$61>1," ・"&VLOOKUP(2,企業入力シート!$A$62:$I$71,3,FALSE),""),IF(企業入力シート!$A$90>0,IF(企業入力シート!$A$90>1," ・"&VLOOKUP(2,企業入力シート!$A$91:$I$100,3,FALSE),""),"")))
A54: =IF(企業入力シート!$A$32>0,IF(企業入力シート!$A$32>2," ・"&VLOOKUP(3,企業入力シート!$A$33:$I$42,3,FALSE),""),IF(企業入力シート!$A$61>0,IF(企業入力シート!$A$61>2," ・"&VLOOKUP(3,企業入力シート!$A$62:$I$71,3,FALSE),""),IF(企業入力シート!$A$90>0,IF(企業入力シート!$A$90>2," ・"&VLOOKUP(3,企業入力シート!$A$91:$I$100,3,FALSE),""),"")))
A55: =IF(企業入力シート!$A$32>0,IF(企業入力シート!$A$32>3," ・"&VLOOKUP(4,企業入力シート!$A$33:$I$42,3,FALSE),""),IF(企業入力シート!$A$61>0,IF(企業入力シート!$A$61>3," ・"&VLOOKUP(4,企業入力シート!$A$62:$I$71,3,FALSE),""),IF(企業入力シート!$A$90>0,IF(企業入力シート!$A$90>3," ・"&VLOOKUP(4,企業入力シート!$A$91:$I$100,3,FALSE),""),"")))
A56: =IF(企業入力シート!$A$32>0,IF(企業入力シート!$A$32>4," ・"&VLOOKUP(5,企業入力シート!$A$33:$I$42,3,FALSE),""),IF(企業入力シート!$A$61>0,IF(企業入力シート!$A$61>4," ・"&VLOOKUP(5,企業入力シート!$A$62:$I$71,3,FALSE),""),IF(企業入力シート!$A$90>0,IF(企業入力シート!$A$90>4," ・"&VLOOKUP(5,企業入力シート!$A$91:$I$100,3,FALSE),""),"")))
A57: =IF(企業入力シート!$A$32>0,IF(企業入力シート!$A$32>5," ・"&VLOOKUP(6,企業入力シート!$A$33:$I$42,3,FALSE),""),IF(企業入力シート!$A$61>0,IF(企業入力シート!$A$61>5," ・"&VLOOKUP(6,企業入力シート!$A$62:$I$71,3,FALSE),""),IF(企業入力シート!$A$90>0,IF(企業入力シート!$A$90>5," ・"&VLOOKUP(6,企業入力シート!$A$91:$I$100,3,FALSE),""),"")))
A58: =IF(企業入力シート!$A$32>0,IF(企業入力シート!$A$32>6," ・"&VLOOKUP(7,企業入力シート!$A$33:$I$42,3,FALSE),""),IF(企業入力シート!$A$61>0,IF(企業入力シート!$A$61>6," ・"&VLOOKUP(7,企業入力シート!$A$62:$I$71,3,FALSE),""),IF(企業入力シート!$A$90>0,IF(企業入力シート!$A$90>6," ・"&VLOOKUP(7,企業入力シート!$A$91:$I$100,3,FALSE),""),"")))
A60: =IF(AND(企業入力シート!A32>0,企業入力シート!A61>0),"○第２グループ（"&企業入力シート!C48&"）",IF(AND(企業入力シート!A90>0,OR(企業入力シート!A32>0,企業入力シート!A61>0)),"○第３グループ（"&企業入力シート!C77&"）",""))
A61: =IF(AND(企業入力シート!$A$32>0,企業入力シート!$A$61>0)," ・"&VLOOKUP(1,企業入力シート!$A$62:$I$71,3,FALSE),IF(AND(企業入力シート!$A$90>0,OR(企業入力シート!$A$32>0,企業入力シート!$A$61>0))," ・"&VLOOKUP(1,企業入力シート!$A$91:$I$100,3,FALSE),""))
A62: =IF(AND(企業入力シート!$A$32>0,企業入力シート!$A$61>1)," ・"&VLOOKUP(2,企業入力シート!$A$62:$I$71,3,FALSE),IF(AND(企業入力シート!$A$90>1,OR(企業入力シート!$A$32>0,企業入力シート!$A$61>0))," ・"&VLOOKUP(2,企業入力シート!$A$91:$I$100,3,FALSE),""))
A63: =IF(AND(企業入力シート!$A$32>0,企業入力シート!$A$61>2)," ・"&VLOOKUP(3,企業入力シート!$A$62:$I$71,3,FALSE),IF(AND(企業入力シート!$A$90>2,OR(企業入力シート!$A$32>0,企業入力シート!$A$61>0))," ・"&VLOOKUP(3,企業入力シート!$A$91:$I$100,3,FALSE),""))
A64: =IF(AND(企業入力シート!$A$32>0,企業入力シート!$A$61>3)," ・"&VLOOKUP(4,企業入力シート!$A$62:$I$71,3,FALSE),IF(AND(企業入力シート!$A$90>3,OR(企業入力シート!$A$32>0,企業入力シート!$A$61>0))," ・"&VLOOKUP(4,企業入力シート!$A$91:$I$100,3,FALSE),""))
A65: =IF(AND(企業入力シート!$A$32>0,企業入力シート!$A$61>4)," ・"&VLOOKUP(5,企業入力シート!$A$62:$I$71,3,FALSE),IF(AND(企業入力シート!$A$90>4,OR(企業入力シート!$A$32>0,企業入力シート!$A$61>0))," ・"&VLOOKUP(5,企業入力シート!$A$91:$I$100,3,FALSE),""))
A66: =IF(AND(企業入力シート!$A$32>0,企業入力シート!$A$61>5)," ・"&VLOOKUP(6,企業入力シート!$A$62:$I$71,3,FALSE),IF(AND(企業入力シート!$A$90>5,OR(企業入力シート!$A$32>0,企業入力シート!$A$61>0))," ・"&VLOOKUP(6,企業入力シート!$A$91:$I$100,3,FALSE),""))
A67: =IF(AND(企業入力シート!$A$32>0,企業入力シート!$A$61>6)," ・"&VLOOKUP(7,企業入力シート!$A$62:$I$71,3,FALSE),IF(AND(企業入力シート!$A$90>6,OR(企業入力シート!$A$32>0,企業入力シート!$A$61>0))," ・"&VLOOKUP(7,企業入力シート!$A$91:$I$100,3,FALSE),""))
A69: =IF(AND(企業入力シート!A32>0,企業入力シート!A61>0,企業入力シート!A90>0),"○第３グループ（"&企業入力シート!C77&"）","")
A70: =IF(AND(企業入力シート!$A$32>0,企業入力シート!$A$61>0,企業入力シート!$A$90>0)," ・"&VLOOKUP(1,企業入力シート!$A$91:$I$100,3,FALSE),"")
A71: =IF(AND(企業入力シート!$A$32>0,企業入力シート!$A$61>0,企業入力シート!$A$90>1)," ・"&VLOOKUP(2,企業入力シート!$A$91:$I$100,3,FALSE),"")
A72: =IF(AND(企業入力シート!$A$32>0,企業入力シート!$A$61>0,企業入力シート!$A$90>3)," ・"&VLOOKUP(3,企業入力シート!$A$91:$I$100,3,FALSE),"")
A73: =IF(AND(企業入力シート!$A$32>0,企業入力シート!$A$61>0,企業入力シート!$A$90>4)," ・"&VLOOKUP(4,企業入力シート!$A$91:$I$100,3,FALSE),"")
A74: =IF(AND(企業入力シート!$A$32>0,企業入力シート!$A$61>0,企業入力シート!$A$90>5)," ・"&VLOOKUP(5,企業入力シート!$A$91:$I$100,3,FALSE),"")
A75: =IF(AND(企業入力シート!$A$32>0,企業入力シート!$A$61>0,企業入力シート!$A$90>6)," ・"&VLOOKUP(6,企業入力シート!$A$91:$I$100,3,FALSE),"")
A76: =IF(AND(企業入力シート!$A$32>0,企業入力シート!$A$61>0,企業入力シート!$A$90>7)," ・"&VLOOKUP(7,企業入力シート!$A$91:$I$100,3,FALSE),"")
A78: ３ 問い合わせ先
B79: 担当者 | D79: =IF(企業入力シート!C16="","",企業入力シート!C16)
B80: 部署 | D80: =IF(企業入力シート!C17="","",企業入力シート!C17)
B81: 電話番号 | D81: =IF(企業入力シート!C18="","",企業入力シート!C18)
B82: FAX番号 | D82: =IF(企業入力シート!C19="","",企業入力シート!C19)
B83: Ｅ－ｍａｉｌ | D83: =IF(企業入力シート!C20="","",企業入力シート!C20)

Sheet 技術提案ｂ①
A1: =CONCATENATE("（様式－",発注者入力シート!E20,"）") -> （様式－） | U1: 着色セルの凡例
A2: =CONCATENATE("評価項目",発注者入力シート!F20,"－",発注者入力シート!G20) -> 評価項目（１）－① | F2: 企業体名： | H2: =IF(企業入力シート!C5="","",企業入力シート!C5) | U2: （企業）
V3: ：「企業入力シート」で入力（数式リンク有）
A4: 技術提案 | V4: ：セルに直接入力もしくはリストから選択が必要な箇所
A5: 課題： | B5: =IF(発注者入力シート!C20="","",発注者入力シート!C20)
A6: 技術提案の有無 | H6: （会社記載欄：必須） | U6: （発注者）
M7: 無の場合（標準案での施工） | V7: ：「発注者入力シート」で入力（数式リンク有）
A8: 技術提案が採用されなかった場合の標準案での施工の意志の有無 | H8: （会社記載欄：上表で『有』と選択した場合のみ必須） | V8: ：セルに直接入力が必要な箇所
A10: （発注者記載欄）
A11: 技術提案の記載方法等について | U11: 【印刷について】
A12: ・ | B12: 標準案は、入札説明書本文を参照すること。 | U12: このシートは「ページ設定」で「白黒印刷」と「印刷範囲」が設定されています。
A13: ・ | B13: 記載する内容は説明の要点（目的、具体的な手法＜施工数量、施工位置、施工範囲、施工期間、使用材料、使用機械等＞、効果、技術的な根拠、標準案に対する優位性等）が分かり易いようにまとめることとし、設定項目毎の提案は２個までとする。 | U13: 技術提案記載欄より上の行は、印刷タイトルの設定をしています。
U14: 様式内の吹出しコメントは印刷されません。
A16: ・ | B16: 技術提案が「有」の場合、その提案が採用されなかった場合の標準案での施工の意志の記載がない又は「無」と記載すると、標準点を０点とする。 | U16: 注意事項
U17: 記入欄が不足する場合は、行を挿入してください。
A18: ・ | B18: 技術提案がない場合は、技術評価点の減点対象とする。 | U18: 企業記入欄のセルの解除はしないでください。
A19: 技術提案がある場合、以下に記載する（会社記載欄） | P19: ※評価結果 | U19: 提出資料が２P以上になる場合、体裁を整えた上で提出してください。
A20: 1. | B20: 使用材料 | U20: 文字切れがないか必ず確認してください。
A21: ① ◯◯◯◯◯ （現場特性・概要）（時期、期間）（位置、範囲）（内容《誰が･何を･どうする》、数量、材料、機械等）（目的、効果、優位性）（効果の技術的根拠）（その他）
U22: 一つの提案内容（同一枠内）に複数提案が記載されている場合、「受発注者協議による実施の可能性」について、備考欄へ詳細に記入すること。（発注者）
A25: ② ◯◯◯◯◯ （現場特性・概要）（時期、期間）（位置、範囲）（内容《誰が･何を･どうする》、数量、材料、機械等）（目的、効果、優位性）（効果の技術的根拠）（その他） | U25: 【複数提案で○、△、×が混在する場合】
U26: 例 | V26: 評価 | W26: 履行義務 | Y26: 受発注者協議による実施の可能性
U27: ○、○ | V27: ○ | W27: すべて履行義務あり | Y27: －
U28: ○、△ | V28: △ | W28: 履行義務なし | Y28: すべて実施可能。
A29: 2. | B29: 使用材料 | U29: ○、× | V29: × | W29: 履行義務なし | Y29: ×は実施を認めない。○は実施可能。
A30: ① ◯◯◯◯◯ （現場特性・概要）（時期、期間）（位置、範囲）（内容《誰が･何を･どうする》、数量、材料、機械等）（目的、効果、優位性）（効果の技術的根拠）（その他） | U30: △、× | V30: × | W30: 履行義務なし | Y30: ×は実施を認めない。△は実施可能。
A34: ② ◯◯◯◯◯ （現場特性・概要）（時期、期間）（位置、範囲）（内容《誰が･何を･どうする》、数量、材料、機械等）（目的、効果、優位性）（効果の技術的根拠）（その他）
A38: 3. | B38: 使用材料
A39: ① ◯◯◯◯◯ （現場特性・概要）（時期、期間）（位置、範囲）（内容《誰が･何を･どうする》、数量、材料、機械等）（目的、効果、優位性）（効果の技術的根拠）（その他）
A43: ② ◯◯◯◯◯ （現場特性・概要）（時期、期間）（位置、範囲）（内容《誰が･何を･どうする》、数量、材料、機械等）（目的、効果、優位性）（効果の技術的根拠）（その他）
A47: 4. | B47: 使用材料
A48: ① ◯◯◯◯◯ （現場特性・概要）（時期、期間）（位置、範囲）（内容《誰が･何を･どうする》、数量、材料、機械等）（目的、効果、優位性）（効果の技術的根拠）（その他）
A52: ② ◯◯◯◯◯ （現場特性・概要）（時期、期間）（位置、範囲）（内容《誰が･何を･どうする》、数量、材料、機械等）（目的、効果、優位性）（効果の技術的根拠）（その他）
A56: ※備考
A58: ※印の欄には記入しないでください。（発注者記入欄）
A59: ※「○（評価する）」とした提案以外については、履行義務なしとする。「×」とした提案は実施を認めない。

Sheet 技術提案ｂ②
A1: =CONCATENATE("（様式－",発注者入力シート!E21,"）") -> （様式－） | U1: 着色セルの凡例
A2: =CONCATENATE("評価項目",発注者入力シート!F21,"－",発注者入力シート!G21) -> 評価項目（１）－② | F2: 企業体名： | H2: =IF(企業入力シート!C5="","",企業入力シート!C5) | U2: （企業）
V3: ：「企業入力シート」で入力（数式リンク有）
A4: 技術提案 | V4: ：セルに直接入力もしくはリストから選択が必要な箇所
A5: 課題： | B5: =IF(発注者入力シート!C21="","",発注者入力シート!C21)
A6: 技術提案の有無 | H6: （会社記載欄：必須） | U6: （発注者）
M7: 無の場合（標準案での施工） | V7: ：「発注者入力シート」で入力（数式リンク有）
A8: 技術提案が採用されなかった場合の標準案での施工の意志の有無 | H8: （会社記載欄：上表で『有』と選択した場合のみ必須） | V8: ：セルに直接入力が必要な箇所
A10: （発注者記載欄）
A11: 技術提案の記載方法等について | U11: 【印刷について】
A12: ・ | B12: 標準案は、入札説明書本文を参照すること。 | U12: このシートは「ページ設定」で「白黒印刷」と「印刷範囲」が設定されています。
A13: ・ | B13: 記載する内容は説明の要点（目的、具体的な手法＜施工数量、施工位置、施工範囲、施工期間、使用材料、使用機械等＞、効果、技術的な根拠、標準案に対する優位性等）が分かり易いようにまとめることとし、設定項目毎の提案は２個までとする。 | U13: 技術提案記載欄より上の行は、印刷タイトルの設定をしています。
U14: 様式内の吹出しコメントは印刷されません。
A16: ・ | B16: 技術提案が「有」の場合、その提案が採用されなかった場合の標準案での施工の意志の記載がない又は「無」と記載すると、標準点を０点とする。 | U16: 注意事項
U17: 記入欄が不足する場合は、行を挿入してください。
A18: ・ | B18: 技術提案がない場合は、技術評価点の減点対象とする。 | U18: 企業記入欄のセルの解除はしないでください。
A19: 技術提案がある場合、以下に記載する（会社記載欄） | P19: ※評価結果 | U19: 提出資料が２P以上になる場合、体裁を整えた上で提出してください。
A20: 1. | B20: 使用材料 | U20: 文字切れがないか必ず確認してください。
A21: ① ◯◯◯◯◯ （現場特性・概要）（時期、期間）（位置、範囲）（内容《誰が･何を･どうする》、数量、材料、機械等）（目的、効果、優位性）（効果の技術的根拠）（その他）
U22: 一つの提案内容（同一枠内）に複数提案が記載されている場合、「受発注者協議による実施の可能性」について、備考欄へ詳細に記入すること。（発注者）
A25: ② ◯◯◯◯◯ （現場特性・概要）（時期、期間）（位置、範囲）（内容《誰が･何を･どうする》、数量、材料、機械等）（目的、効果、優位性）（効果の技術的根拠）（その他） | U25: 【複数提案で○、△、×が混在する場合】
U26: 例 | V26: 評価 | W26: 履行義務 | Y26: 受発注者協議による実施の可能性
U27: ○、○ | V27: ○ | W27: すべて履行義務あり | Y27: －
U28: ○、△ | V28: △ | W28: 履行義務なし | Y28: すべて実施可能。
A29: 2. | B29: 使用材料 | U29: ○、× | V29: × | W29: 履行義務なし | Y29: ×は実施を認めない。○は実施可能。
A30: ① ◯◯◯◯◯ （現場特性・概要）（時期、期間）（位置、範囲）（内容《誰が･何を･どうする》、数量、材料、機械等）（目的、効果、優位性）（効果の技術的根拠）（その他） | U30: △、× | V30: × | W30: 履行義務なし | Y30: ×は実施を認めない。△は実施可能。
A34: ② ◯◯◯◯◯ （現場特性・概要）（時期、期間）（位置、範囲）（内容《誰が･何を･どうする》、数量、材料、機械等）（目的、効果、優位性）（効果の技術的根拠）（その他）
A38: 3. | B38: 使用材料
A39: ① ◯◯◯◯◯ （現場特性・概要）（時期、期間）（位置、範囲）（内容《誰が･何を･どうする》、数量、材料、機械等）（目的、効果、優位性）（効果の技術的根拠）（その他）
A43: ② ◯◯◯◯◯ （現場特性・概要）（時期、期間）（位置、範囲）（内容《誰が･何を･どうする》、数量、材料、機械等）（目的、効果、優位性）（効果の技術的根拠）（その他）
A47: 4. | B47: 使用材料
A48: ① ◯◯◯◯◯ （現場特性・概要）（時期、期間）（位置、範囲）（内容《誰が･何を･どうする》、数量、材料、機械等）（目的、効果、優位性）（効果の技術的根拠）（その他）
A52: ② ◯◯◯◯◯ （現場特性・概要）（時期、期間）（位置、範囲）（内容《誰が･何を･どうする》、数量、材料、機械等）（目的、効果、優位性）（効果の技術的根拠）（その他）
A56: ※備考
A58: ※印の欄には記入しないでください。（発注者記入欄）
A59: ※「○（評価する）」とした提案以外については、履行義務なしとする。「×」とした提案は実施を認めない。

Sheet 技術提案ｂ③
A1: =CONCATENATE("（様式－",発注者入力シート!E22,"）") -> （様式－） | U1: 着色セルの凡例
A2: =CONCATENATE("評価項目",発注者入力シート!F22,"－",発注者入力シート!G22) -> 評価項目（１）－③ | F2: 企業体名： | H2: =IF(企業入力シート!C5="","",企業入力シート!C5) | U2: （企業）
V3: ：「企業入力シート」で入力（数式リンク有）
A4: 技術提案 | V4: ：セルに直接入力もしくはリストから選択が必要な箇所
A5: 課題： | B5: =IF(発注者入力シート!C22="","",発注者入力シート!C22)
A6: 技術提案の有無 | H6: （会社記載欄：必須） | U6: （発注者）
M7: 無の場合（標準案での施工） | V7: ：「発注者入力シート」で入力（数式リンク有）
A8: 技術提案が採用されなかった場合の標準案での施工の意志の有無 | H8: （会社記載欄：上表で『有』と選択した場合のみ必須） | V8: ：セルに直接入力が必要な箇所
A10: （発注者記載欄）
A11: 技術提案の記載方法等について | U11: 【印刷について】
A12: ・ | B12: 標準案は、入札説明書本文を参照すること。 | U12: このシートは「ページ設定」で「白黒印刷」と「印刷範囲」が設定されています。
A13: ・ | B13: 記載する内容は説明の要点（目的、具体的な手法＜施工数量、施工位置、施工範囲、施工期間、使用材料、使用機械等＞、効果、技術的な根拠、標準案に対する優位性等）が分かり易いようにまとめることとし、設定項目毎の提案は２個までとする。 | U13: 技術提案記載欄より上の行は、印刷タイトルの設定をしています。
U14: 様式内の吹出しコメントは印刷されません。
A16: ・ | B16: 技術提案が「有」の場合、その提案が採用されなかった場合の標準案での施工の意志の記載がない又は「無」と記載すると、標準点を０点とする。 | U16: 注意事項
U17: 記入欄が不足する場合は、行を挿入してください。
A18: ・ | B18: 技術提案がない場合は、技術評価点の減点対象とする。 | U18: 企業記入欄のセルの解除はしないでください。
A19: 技術提案がある場合、以下に記載する（会社記載欄） | P19: ※評価結果 | U19: 提出資料が２P以上になる場合、体裁を整えた上で提出してください。
A20: 1. | B20: 使用材料 | U20: 文字切れがないか必ず確認してください。
A21: ① ◯◯◯◯◯ （現場特性・概要）（時期、期間）（位置、範囲）（内容《誰が･何を･どうする》、数量、材料、機械等）（目的、効果、優位性）（効果の技術的根拠）（その他）
U22: 一つの提案内容（同一枠内）に複数提案が記載されている場合、「受発注者協議による実施の可能性」について、備考欄へ詳細に記入すること。（発注者）
A25: ② ◯◯◯◯◯ （現場特性・概要）（時期、期間）（位置、範囲）（内容《誰が･何を･どうする》、数量、材料、機械等）（目的、効果、優位性）（効果の技術的根拠）（その他） | U25: 【複数提案で○、△、×が混在する場合】
U26: 例 | V26: 評価 | W26: 履行義務 | Y26: 受発注者協議による実施の可能性
U27: ○、○ | V27: ○ | W27: すべて履行義務あり | Y27: －
U28: ○、△ | V28: △ | W28: 履行義務なし | Y28: すべて実施可能。
A29: 2. | B29: 使用材料 | U29: ○、× | V29: × | W29: 履行義務なし | Y29: ×は実施を認めない。○は実施可能。
A30: ① ◯◯◯◯◯ （現場特性・概要）（時期、期間）（位置、範囲）（内容《誰が･何を･どうする》、数量、材料、機械等）（目的、効果、優位性）（効果の技術的根拠）（その他） | U30: △、× | V30: × | W30: 履行義務なし | Y30: ×は実施を認めない。△は実施可能。
A34: ② ◯◯◯◯◯ （現場特性・概要）（時期、期間）（位置、範囲）（内容《誰が･何を･どうする》、数量、材料、機械等）（目的、効果、優位性）（効果の技術的根拠）（その他）
A38: 3. | B38: 使用材料
A39: ① ◯◯◯◯◯ （現場特性・概要）（時期、期間）（位置、範囲）（内容《誰が･何を･どうする》、数量、材料、機械等）（目的、効果、優位性）（効果の技術的根拠）（その他）
A43: ② ◯◯◯◯◯ （現場特性・概要）（時期、期間）（位置、範囲）（内容《誰が･何を･どうする》、数量、材料、機械等）（目的、効果、優位性）（効果の技術的根拠）（その他）
A47: 4. | B47: 使用材料
A48: ① ◯◯◯◯◯ （現場特性・概要）（時期、期間）（位置、範囲）（内容《誰が･何を･どうする》、数量、材料、機械等）（目的、効果、優位性）（効果の技術的根拠）（その他）
A52: ② ◯◯◯◯◯ （現場特性・概要）（時期、期間）（位置、範囲）（内容《誰が･何を･どうする》、数量、材料、機械等）（目的、効果、優位性）（効果の技術的根拠）（その他）
A56: ※備考
A58: ※印の欄には記入しないでください。（発注者記入欄）
A59: ※「○（評価する）」とした提案以外については、履行義務なしとする。「×」とした提案は実施を認めない。

Sheet 技術提案ｂ④
A1: =CONCATENATE("（様式－",発注者入力シート!E23,"）") -> （様式－） | U1: 着色セルの凡例
A2: =CONCATENATE("評価項目",発注者入力シート!F23,"－",発注者入力シート!G23) -> 評価項目（１）－④ | F2: 企業体名： | H2: =IF(企業入力シート!C5="","",企業入力シート!C5) | U2: （企業）
V3: ：「企業入力シート」で入力（数式リンク有）
A4: 技術提案 | V4: ：セルに直接入力もしくはリストから選択が必要な箇所
A5: 課題： | B5: =IF(発注者入力シート!C23="","",発注者入力シート!C23)
A6: 技術提案の有無 | H6: （会社記載欄：必須） | U6: （発注者）
M7: 無の場合（標準案での施工） | V7: ：「発注者入力シート」で入力（数式リンク有）
A8: 技術提案が採用されなかった場合の標準案での施工の意志の有無 | H8: （会社記載欄：上表で『有』と選択した場合のみ必須） | V8: ：セルに直接入力が必要な箇所
A10: （発注者記載欄）
A11: 技術提案の記載方法等について | U11: 【印刷について】
A12: ・ | B12: 標準案は、入札説明書本文を参照すること。 | U12: このシートは「ページ設定」で「白黒印刷」と「印刷範囲」が設定されています。
A13: ・ | B13: 記載する内容は説明の要点（目的、具体的な手法＜施工数量、施工位置、施工範囲、施工期間、使用材料、使用機械等＞、効果、技術的な根拠、標準案に対する優位性等）が分かり易いようにまとめることとし、設定項目毎の提案は２個までとする。 | U13: 技術提案記載欄より上の行は、印刷タイトルの設定をしています。
U14: 様式内の吹出しコメントは印刷されません。
A16: ・ | B16: 技術提案が「有」の場合、その提案が採用されなかった場合の標準案での施工の意志の記載がない又は「無」と記載すると、標準点を０点とする。 | U16: 注意事項
U17: 記入欄が不足する場合は、行を挿入してください。
A18: ・ | B18: 技術提案がない場合は、技術評価点の減点対象とする。 | U18: 企業記入欄のセルの解除はしないでください。
A19: 技術提案がある場合、以下に記載する（会社記載欄） | P19: ※評価結果 | U19: 提出資料が２P以上になる場合、体裁を整えた上で提出してください。
A20: 1. | B20: 使用材料 | U20: 文字切れがないか必ず確認してください。
A21: ① ◯◯◯◯◯ （現場特性・概要）（時期、期間）（位置、範囲）（内容《誰が･何を･どうする》、数量、材料、機械等）（目的、効果、優位性）（効果の技術的根拠）（その他）
U22: 一つの提案内容（同一枠内）に複数提案が記載されている場合、「受発注者協議による実施の可能性」について、備考欄へ詳細に記入すること。（発注者）
A25: ② ◯◯◯◯◯ （現場特性・概要）（時期、期間）（位置、範囲）（内容《誰が･何を･どうする》、数量、材料、機械等）（目的、効果、優位性）（効果の技術的根拠）（その他） | U25: 【複数提案で○、△、×が混在する場合】
U26: 例 | V26: 評価 | W26: 履行義務 | Y26: 受発注者協議による実施の可能性
U27: ○、○ | V27: ○ | W27: すべて履行義務あり | Y27: －
U28: ○、△ | V28: △ | W28: 履行義務なし | Y28: すべて実施可能。
A29: 2. | B29: 使用材料 | U29: ○、× | V29: × | W29: 履行義務なし | Y29: ×は実施を認めない。○は実施可能。
A30: ① ◯◯◯◯◯ （現場特性・概要）（時期、期間）（位置、範囲）（内容《誰が･何を･どうする》、数量、材料、機械等）（目的、効果、優位性）（効果の技術的根拠）（その他） | U30: △、× | V30: × | W30: 履行義務なし | Y30: ×は実施を認めない。△は実施可能。
A34: ② ◯◯◯◯◯ （現場特性・概要）（時期、期間）（位置、範囲）（内容《誰が･何を･どうする》、数量、材料、機械等）（目的、効果、優位性）（効果の技術的根拠）（その他）
A38: 3. | B38: 使用材料
A39: ① ◯◯◯◯◯ （現場特性・概要）（時期、期間）（位置、範囲）（内容《誰が･何を･どうする》、数量、材料、機械等）（目的、効果、優位性）（効果の技術的根拠）（その他）
A43: ② ◯◯◯◯◯ （現場特性・概要）（時期、期間）（位置、範囲）（内容《誰が･何を･どうする》、数量、材料、機械等）（目的、効果、優位性）（効果の技術的根拠）（その他）
A47: 4. | B47: 使用材料
A48: ① ◯◯◯◯◯ （現場特性・概要）（時期、期間）（位置、範囲）（内容《誰が･何を･どうする》、数量、材料、機械等）（目的、効果、優位性）（効果の技術的根拠）（その他）
A52: ② ◯◯◯◯◯ （現場特性・概要）（時期、期間）（位置、範囲）（内容《誰が･何を･どうする》、数量、材料、機械等）（目的、効果、優位性）（効果の技術的根拠）（その他）
A56: ※備考
A58: ※印の欄には記入しないでください。（発注者記入欄）
A59: ※「○（評価する）」とした提案以外については、履行義務なしとする。「×」とした提案は実施を認めない。

Sheet 技術提案①
A1: =CONCATENATE("（様式－",発注者入力シート!E24,"）") -> （様式－） | U1: 着色セルの凡例
A2: =CONCATENATE("評価項目",発注者入力シート!F24,"－",発注者入力シート!G24) -> 評価項目（１）－⑤ | F2: 企業体名： | H2: =IF(企業入力シート!C5="","",企業入力シート!C5) | U2: （企業）
V3: ：「企業入力シート」で入力（数式リンク有）
A4: 技術提案 | V4: ：セルに直接入力もしくはリストから選択が必要な箇所
A5: 課題： | B5: =IF(発注者入力シート!C24="","",発注者入力シート!C24)
A6: 技術提案の有無 | H6: （会社記載欄：必須） | U6: （発注者）
M7: 無の場合（標準案での施工） | V7: ：「発注者入力シート」で入力（数式リンク有）
A8: 技術提案が採用されなかった場合の標準案での施工の意志の有無 | H8: （会社記載欄：上表で『有』と選択した場合のみ必須） | V8: ：セルに直接入力が必要な箇所
A10: （発注者記載欄）
A11: 技術提案の記載方法等について | U11: 【印刷について】
A12: ・ | B12: 標準案は、入札説明書本文を参照すること。 | U12: このシートは「ページ設定」で「白黒印刷」と「印刷範囲」が設定されています。
A13: ・ | B13: 記載する内容は説明の要点（目的、具体的な手法＜施工数量、施工位置、施工範囲、施工期間、使用材料、使用機械等＞、効果、技術的な根拠、標準案に対する優位性等）が分かり易いようにまとめることとし、提案は３個までとする。 | U13: 技術提案記載欄より上の行は、印刷タイトルの設定をしています。
U14: 様式内の吹出しコメントは印刷されません。
A16: ・ | B16: 技術提案が「有」の場合、その提案が採用されなかった場合の標準案での施工の意志の記載がない又は「無」と記載すると、標準点を０点とする。 | U16: 注意事項
U17: 記入欄が不足する場合は、行を挿入してください。
A18: ・ | B18: 技術提案がない場合は、技術評価点の減点対象とする。 | U18: 企業記入欄のセルの解除はしないでください。
A19: 技術提案がある場合、以下に記載する（会社記載欄） | P19: ※評価結果 | U19: 提出資料が２P以上になる場合、体裁を整えた上で提出してください。
A20: ① ◯◯◯◯◯ （現場特性・概要） （時期、期間） （位置、範囲） （内容《誰が･何を･どうする》、数量、材料、機械等） （目的、効果、優位性） （効果の技術的根拠） （その他） | U20: 文字切れがないか必ず確認してください。
U23: 一つの提案内容（同一枠内）に複数提案が記載されている場合、「受発注者協議による実施の可能性」について、備考欄へ詳細に記入すること。（発注者）
U26: 【複数提案で○、△、×が混在する場合】
A27: ② ◯◯◯◯◯ （現場特性・概要） （時期、期間） （位置、範囲） （内容《誰が･何を･どうする》、数量、材料、機械等） （目的、効果、優位性） （効果の技術的根拠） （その他） | U27: 例 | V27: 評価 | W27: 履行義務 | Y27: 受発注者協議による実施の可能性
U28: ○、○ | V28: ○ | W28: すべて履行義務あり | Y28: －
U29: ○、△ | V29: △ | W29: 履行義務なし | Y29: すべて実施可能。
U30: ○、× | V30: × | W30: 履行義務なし | Y30: ×は実施を認めない。○は実施可能。
U31: △、× | V31: × | W31: 履行義務なし | Y31: ×は実施を認めない。△は実施可能。
A34: ③ ◯◯◯◯◯ （現場特性・概要） （時期、期間） （位置、範囲） （内容《誰が･何を･どうする》、数量、材料、機械等） （目的、効果、優位性） （効果の技術的根拠） （その他）
A41: ※備考
A44: ※印の欄には記入しないでください。（発注者記入欄）
A45: ※「○（評価する）」とした提案以外については、履行義務なしとする。「×」とした提案は実施を認めない。

Sheet 技術提案②
A1: =CONCATENATE("（様式－",発注者入力シート!E25,"）") -> （様式－） | U1: 着色セルの凡例
A2: =CONCATENATE("評価項目",発注者入力シート!F25,"－",発注者入力シート!G25) -> 評価項目（１）－⑥ | F2: 企業体名： | H2: =IF(企業入力シート!C5="","",企業入力シート!C5) | U2: （企業）
V3: ：「企業入力シート」で入力（数式リンク有）
A4: 技術提案 | V4: ：セルに直接入力もしくはリストから選択が必要な箇所
A5: 課題： | B5: =IF(発注者入力シート!C25="","",発注者入力シート!C25)
A6: 技術提案の有無 | H6: （会社記載欄：必須） | U6: （発注者）
M7: 無の場合（標準案での施工） | V7: ：「発注者入力シート」で入力（数式リンク有）
A8: 技術提案が採用されなかった場合の標準案での施工の意志の有無 | H8: （会社記載欄：上表で『有』と選択した場合のみ必須） | V8: ：セルに直接入力が必要な箇所
A10: （発注者記載欄）
A11: 技術提案の記載方法等について | U11: 【印刷について】
A12: ・ | B12: 標準案は、入札説明書本文を参照すること。 | U12: このシートは「ページ設定」で「白黒印刷」と「印刷範囲」が設定されています。
A13: ・ | B13: 記載する内容は説明の要点（目的、具体的な手法＜施工数量、施工位置、施工範囲、施工期間、使用材料、使用機械等＞、効果、技術的な根拠、標準案に対する優位性等）が分かり易いようにまとめることとし、提案は３個までとする。 | U13: 技術提案記載欄より上の行は、印刷タイトルの設定をしています。
U14: 様式内の吹出しコメントは印刷されません。
A16: ・ | B16: 技術提案が「有」の場合、その提案が採用されなかった場合の標準案での施工の意志の記載がない又は「無」と記載すると、標準点を０点とする。 | U16: 注意事項
A17: ・ | U17: 記入欄が不足する場合は、行を挿入してください。
B18: 技術提案がない場合は、技術評価点の減点対象とする。 | U18: 企業記入欄のセルの解除はしないでください。
A19: 技術提案がある場合、以下に記載する（会社記載欄） | P19: ※評価結果 | U19: 提出資料が２P以上になる場合、体裁を整えた上で提出してください。
A20: ① ◯◯◯◯◯ （現場特性・概要） （時期、期間） （位置、範囲） （内容《誰が･何を･どうする》、数量、材料、機械等） （目的、効果、優位性） （効果の技術的根拠） （その他） | U20: 文字切れがないか必ず確認してください。
U23: 一つの提案内容（同一枠内）に複数提案が記載されている場合、「受発注者協議による実施の可能性」について、備考欄へ詳細に記入すること。（発注者）
U26: 【複数提案で○、△、×が混在する場合】
A27: ② ◯◯◯◯◯ （現場特性・概要） （時期、期間） （位置、範囲） （内容《誰が･何を･どうする》、数量、材料、機械等） （目的、効果、優位性） （効果の技術的根拠） （その他） | U27: 例 | V27: 評価 | W27: 履行義務 | Y27: 受発注者協議による実施の可能性
U28: ○、○ | V28: ○ | W28: すべて履行義務あり | Y28: －
U29: ○、△ | V29: △ | W29: 履行義務なし | Y29: すべて実施可能。
U30: ○、× | V30: × | W30: 履行義務なし | Y30: ×は実施を認めない。○は実施可能。
U31: △、× | V31: × | W31: 履行義務なし | Y31: ×は実施を認めない。△は実施可能。
A34: ③ ◯◯◯◯◯ （現場特性・概要） （時期、期間） （位置、範囲） （内容《誰が･何を･どうする》、数量、材料、機械等） （目的、効果、優位性） （効果の技術的根拠） （その他）
A41: ※備考
A44: ※印の欄には記入しないでください。（発注者記入欄）
A45: ※「○（評価する）」とした提案以外については、履行義務なしとする。「×」とした提案は実施を認めない。

Sheet 技術提案③
A1: =CONCATENATE("（様式－",発注者入力シート!E26,"）") -> （様式－） | U1: 着色セルの凡例
A2: =CONCATENATE("評価項目",発注者入力シート!F26,"－",発注者入力シート!G26) -> 評価項目（１）－⑦ | F2: 企業体名： | H2: =IF(企業入力シート!C5="","",企業入力シート!C5) | U2: （企業）
V3: ：「企業入力シート」で入力（数式リンク有）
A4: 技術提案 | V4: ：セルに直接入力もしくはリストから選択が必要な箇所
A5: 課題： | B5: =IF(発注者入力シート!C26="","",発注者入力シート!C26)
A6: 技術提案の有無 | H6: （会社記載欄：必須） | U6: （発注者）
M7: 無の場合（標準案での施工） | V7: ：「発注者入力シート」で入力（数式リンク有）
A8: 技術提案が採用されなかった場合の標準案での施工の意志の有無 | H8: （会社記載欄：上表で『有』と選択した場合のみ必須） | V8: ：セルに直接入力が必要な箇所
A10: （発注者記載欄）
A11: 技術提案の記載方法等について | U11: 【印刷について】
A12: ・ | B12: 標準案は、入札説明書本文を参照すること。 | U12: このシートは「ページ設定」で「白黒印刷」と「印刷範囲」が設定されています。
A13: ・ | B13: 記載する内容は説明の要点（目的、具体的な手法＜施工数量、施工位置、施工範囲、施工期間、使用材料、使用機械等＞、効果、技術的な根拠、標準案に対する優位性等）が分かり易いようにまとめることとし、提案は３個までとする。 | U13: 技術提案記載欄より上の行は、印刷タイトルの設定をしています。
U14: 様式内の吹出しコメントは印刷されません。
A16: ・ | B16: 技術提案が「有」の場合、その提案が採用されなかった場合の標準案での施工の意志の記載がない又は「無」と記載すると、標準点を０点とする。 | U16: 注意事項
A17: ・ | U17: 記入欄が不足する場合は、行を挿入してください。
B18: 技術提案がない場合は、技術評価点の減点対象とする。 | U18: 企業記入欄のセルの解除はしないでください。
A19: 技術提案がある場合、以下に記載する（会社記載欄） | P19: ※評価結果 | U19: 提出資料が２P以上になる場合、体裁を整えた上で提出してください。
A20: ① ◯◯◯◯◯ （現場特性・概要） （時期、期間） （位置、範囲） （内容《誰が･何を･どうする》、数量、材料、機械等） （目的、効果、優位性） （効果の技術的根拠） （その他） | U20: 文字切れがないか必ず確認してください。
U23: 一つの提案内容（同一枠内）に複数提案が記載されている場合、「受発注者協議による実施の可能性」について、備考欄へ詳細に記入すること。（発注者）
U26: 【複数提案で○、△、×が混在する場合】
A27: ② ◯◯◯◯◯ （現場特性・概要） （時期、期間） （位置、範囲） （内容《誰が･何を･どうする》、数量、材料、機械等） （目的、効果、優位性） （効果の技術的根拠） （その他） | U27: 例 | V27: 評価 | W27: 履行義務 | Y27: 受発注者協議による実施の可能性
U28: ○、○ | V28: ○ | W28: すべて履行義務あり | Y28: －
U29: ○、△ | V29: △ | W29: 履行義務なし | Y29: すべて実施可能。
U30: ○、× | V30: × | W30: 履行義務なし | Y30: ×は実施を認めない。○は実施可能。
U31: △、× | V31: × | W31: 履行義務なし | Y31: ×は実施を認めない。△は実施可能。
A34: ③ ◯◯◯◯◯ （現場特性・概要） （時期、期間） （位置、範囲） （内容《誰が･何を･どうする》、数量、材料、機械等） （目的、効果、優位性） （効果の技術的根拠） （その他）
A41: ※備考
A44: ※印の欄には記入しないでください。（発注者記入欄）
A45: ※「○（評価する）」とした提案以外については、履行義務なしとする。「×」とした提案は実施を認めない。

Sheet 【建築】技術提案（技能士活用）
A1: =CONCATENATE("（様式－",発注者入力シート!E27,"）") -> （様式－）
A2: =CONCATENATE("評価項目",発注者入力シート!F27,"－",発注者入力シート!G27) -> 評価項目（１）－
D3: 企業体名： | F3: =IF(企業入力シート!C5="","",企業入力シート!C5)
A5: 技 術 提 案 | S5: 着色セルの凡例
A6: 技術提案を募る項目（評価項目） ： | G6: 技能士活用による品質向上 | S6: （企業）
A7: （ 発注者記載欄 ） | T7: ：「企業入力シート」で入力（数式リンク有）
A8: 一般技能士の活用による品質向上について、下記工種に従事させる一級技能士の人数について具体的提案を求める。 | T8: ：セルに直接入力が必要な箇所
A10: ・ | B10: 建築板金（内外装板金作業） | S10: （発注者）
A11: ・ | B11: 建築大工（大工工事作業） | T11: ：「発注者入力シート」で入力（数式リンク有）
A12: ・ | B12: かわらぶき （かわらぶき作業） | T12: ：セルに直接入力が必要な箇所
A13: ・ | B13: とび （とび作業）
A14: ・ | B14: 左官 （左官作業） | S14: 【印刷について】
A15: ・ | B15: タイル張り （タイル張り作業） | S15: このシートは「ページ設定」で「白黒印刷」と「印刷範囲」が設定されています。
A16: ・ | B16: 型枠施工 （型枠工事作業）
A17: ・ | B17: 鉄筋施工 （鉄筋組立て作業）
A18: ・ | B18: コンクリート圧送施工 （コンクリート圧送工事作業）
A19: ・ | B19: 防水施工 （アスファルト防水工事作業）
A20: ・ | B20: 防水施工 （ウレタンゴム系塗膜防水工事作業）
A21: ・ | B21: 防水施工 （塩化ビニル系シート防水工事作業）
A22: ・ | B22: 防水施工 （シーリング防水工事作業）
A23: ・ | B23: 内装仕上げ施工 （木質系床仕上げ工事作業）
A24: ・ | B24: 内装仕上げ施工 （鋼製下地工事作業）
A25: ・ | B25: 内装仕上げ施工 （ボード仕上げ工事作業）
A26: ・ | B26: サッシ施工 （ビル用サッシ施工作業）
A27: ・ | B27: ガラス施工 （ガラス工事作業）
A28: ・ | B28: 塗装 （建築塗装作業）
A29: （ 企業（企業体）記載欄 ）
A30: 技術提案の内容及び簡単な説明
A31: 各工種に従事させる一級技能士の人数は下記のとおりです。
B32: 適 用 種 別 | N32: 人数
B33: =B10 -> 建築板金（内外装板金作業） | P33: 人
B34: =B11 -> 建築大工（大工工事作業） | P34: 人
B35: =B12 -> かわらぶき （かわらぶき作業） | P35: 人
B36: =B13 -> とび （とび作業） | P36: 人
B37: =B14 -> 左官 （左官作業） | P37: 人
B38: =B15 -> タイル張り （タイル張り作業） | P38: 人
B39: =B16 -> 型枠施工 （型枠工事作業） | P39: 人
B40: =B17 -> 鉄筋施工 （鉄筋組立て作業） | P40: 人
B41: =B18 -> コンクリート圧送施工 （コンクリート圧送工事作業） | P41: 人
B42: =B19 -> 防水施工 （アスファルト防水工事作業） | P42: 人
B43: =B20 -> 防水施工 （ウレタンゴム系塗膜防水工事作業） | P43: 人
B44: =B21 -> 防水施工 （塩化ビニル系シート防水工事作業） | P44: 人
... B51: =B28 -> 塗装 （建築塗装作業） | P51: 人

Sheet 企業成績評定点 (JV用) 
A1: =CONCATENATE("（様式-",INDEX(発注者入力シート!$B$28:$G$32,MATCH(発注者入力シート!L6,発注者入力シート!$C$28:$C$32,0),4),"-１）") -> （様式-２-１） | R1: 着色セルの凡例
A2: =CONCATENATE("評価項目",INDEX(発注者入力シート!$B$28:$G$32,MATCH(発注者入力シート!L6,発注者入力シート!$C$28:$C$32,0),5),"-",INDEX(発注者入力シート!$B$28:$G$32,MATCH(発注者入力シート!L6,発注者入力シート!$C$28:$C$32,0),6)) -> 評価項目（１）-① | R2: （企業）
A3: 企業の工事成績評定点 | S3: ：「企業入力シート」で入力（数式リンク有）
D4: 企業体名： | F4: =IF(企業入力シート!C5="","",企業入力シート!C5) | S4: ：リストから選択が必要な箇所
A6: 対象工事 | R6: （発注者）
A7: 完成年度 | D7: 令和３年度から令和７年度（完成及び引き渡しが完了） | S7: ：「発注者入力シート」で入力（数式リンク有）
A8: 発注機関 | D8: 島根県（総務部(企業局及び病院局契約を含み、企業局及び病院局発注工事は除く。)、農林水産部、土木部） | S8: ：セルに直接入力が必要な箇所
A9: 工事種別 | D9: =INDEX(発注者入力シート!$AX$3:$BC$9,MATCH(発注者入力シート!$AY$2,発注者入力シート!$AZ$3:$AZ$9,0),4) -> 建築物に係る電気工事
A10: 建設工事の種類 | D10: =INDEX(発注者入力シート!$AX$3:$BC$9,MATCH(発注者入力シート!$AY$2,発注者入力シート!$AZ$3:$AZ$9,0),5) -> 電気工事、消防施設工事 | R10: 【印刷について】
R11: このシートは「ページ設定」で「白黒印刷」と「印刷範囲」が設定されています。
R12: 様式内の吹出しコメントは印刷されません。
A13: 特別共同企業体の代表者（第１グループ）の実績 | K13: =IF(企業入力シート!C14="","",企業入力シート!C14) -> ○○建設
A14: 各工事成績評定点 | D14: 平成３０年度 | G14: =IF('評定点一覧(第1G用) '!$P8="","",'評定点一覧(第1G用) '!$P8) | H14: =IF('評定点一覧(第1G用) '!$P9="","",'評定点一覧(第1G用) '!$P9) | I14: =IF('評定点一覧(第1G用) '!$P10="","",'評定点一覧(第1G用) '!$P10) | J14: =IF('評定点一覧(第1G用) '!$P11="","",'評定点一覧(第1G用) '!$P11) | K14: =IF('評定点一覧(第1G用) '!$P12="","",'評定点一覧(第1G用) '!$P12) | L14: =IF('評定点一覧(第1G用) '!$P13="","",'評定点一覧(第1G用) '!$P13) | M14: =IF('評定点一覧(第1G用) '!$P14="","",'評定点一覧(第1G用) '!$P14) | N14: =IF('評定点一覧(第1G用) '!$P15="","",'評定点一覧(第1G用) '!$P15) | O14: =IF('評定点一覧(第1G用) '!$P16="","",'評定点一覧(第1G用) '!$P16) | P14: =IF('評定点一覧(第1G用) '!$P17="","",'評定点一覧(第1G用) '!$P17)
D15: 令和元年度 | G15: =IF('評定点一覧(第1G用) '!$P21="","",'評定点一覧(第1G用) '!$P21) | H15: =IF('評定点一覧(第1G用) '!$P22="","",'評定点一覧(第1G用) '!$P22) | I15: =IF('評定点一覧(第1G用) '!$P23="","",'評定点一覧(第1G用) '!$P23) | J15: =IF('評定点一覧(第1G用) '!$P24="","",'評定点一覧(第1G用) '!$P24) | K15: =IF('評定点一覧(第1G用) '!$P25="","",'評定点一覧(第1G用) '!$P25) | L15: =IF('評定点一覧(第1G用) '!$P26="","",'評定点一覧(第1G用) '!$P26) | M15: =IF('評定点一覧(第1G用) '!$P27="","",'評定点一覧(第1G用) '!$P27) | N15: =IF('評定点一覧(第1G用) '!$P28="","",'評定点一覧(第1G用) '!$P28) | O15: =IF('評定点一覧(第1G用) '!$P29="","",'評定点一覧(第1G用) '!$P29) | P15: =IF('評定点一覧(第1G用) '!$P30="","",'評定点一覧(第1G用) '!$P30)
D16: 令和２年度 | G16: =IF('評定点一覧(第1G用) '!$P34="","",'評定点一覧(第1G用) '!$P34) | H16: =IF('評定点一覧(第1G用) '!$P35="","",'評定点一覧(第1G用) '!$P35) | I16: =IF('評定点一覧(第1G用) '!$P36="","",'評定点一覧(第1G用) '!$P36) | J16: =IF('評定点一覧(第1G用) '!$P37="","",'評定点一覧(第1G用) '!$P37) | K16: =IF('評定点一覧(第1G用) '!$P38="","",'評定点一覧(第1G用) '!$P38) | L16: =IF('評定点一覧(第1G用) '!$P39="","",'評定点一覧(第1G用) '!$P39) | M16: =IF('評定点一覧(第1G用) '!$P40="","",'評定点一覧(第1G用) '!$P40) | N16: =IF('評定点一覧(第1G用) '!$P41="","",'評定点一覧(第1G用) '!$P41) | O16: =IF('評定点一覧(第1G用) '!$P42="","",'評定点一覧(第1G用) '!$P42) | P16: =IF('評定点一覧(第1G用) '!$P43="","",'評定点一覧(第1G用) '!$P43)
D17: 令和３年度 | G17: =IF('評定点一覧(第1G用) '!$P47="","",'評定点一覧(第1G用) '!$P47) | H17: =IF('評定点一覧(第1G用) '!$P48="","",'評定点一覧(第1G用) '!$P48) | I17: =IF('評定点一覧(第1G用) '!$P49="","",'評定点一覧(第1G用) '!$P49) | J17: =IF('評定点一覧(第1G用) '!$P50="","",'評定点一覧(第1G用) '!$P50) | K17: =IF('評定点一覧(第1G用) '!$P51="","",'評定点一覧(第1G用) '!$P51) | L17: =IF('評定点一覧(第1G用) '!$P52="","",'評定点一覧(第1G用) '!$P52) | M17: =IF('評定点一覧(第1G用) '!$P53="","",'評定点一覧(第1G用) '!$P53) | N17: =IF('評定点一覧(第1G用) '!$P54="","",'評定点一覧(第1G用) '!$P54) | O17: =IF('評定点一覧(第1G用) '!$P55="","",'評定点一覧(第1G用) '!$P55) | P17: =IF('評定点一覧(第1G用) '!$P56="","",'評定点一覧(第1G用) '!$P56)
D18: 令和４年度 | G18: =IF('評定点一覧(第1G用) '!$P60="","",'評定点一覧(第1G用) '!$P60) | H18: =IF('評定点一覧(第1G用) '!$P61="","",'評定点一覧(第1G用) '!$P61) | I18: =IF('評定点一覧(第1G用) '!$P62="","",'評定点一覧(第1G用) '!$P62) | J18: =IF('評定点一覧(第1G用) '!$P63="","",'評定点一覧(第1G用) '!$P63) | K18: =IF('評定点一覧(第1G用) '!$P64="","",'評定点一覧(第1G用) '!$P64) | L18: =IF('評定点一覧(第1G用) '!$P65="","",'評定点一覧(第1G用) '!$P65) | M18: =IF('評定点一覧(第1G用) '!$P66="","",'評定点一覧(第1G用) '!$P66) | N18: =IF('評定点一覧(第1G用) '!$P67="","",'評定点一覧(第1G用) '!$P67) | O18: =IF('評定点一覧(第1G用) '!$P68="","",'評定点一覧(第1G用) '!$P68) | P18: =IF('評定点一覧(第1G用) '!$P69="","",'評定点一覧(第1G用) '!$P69)
A19: 工事成績評定点の平均 | G19: =IF((COUNTA(G14:P18)-COUNTBLANK(G14:P18))=0,"",COUNTA(G14:P18)-COUNTBLANK(G14:P18)) | I19: 件 | J19: =IF(OR(G19="",G19=0),"",ROUND(AVERAGE(G14:P18),1)) | M19: 点
A20: （小数第２位を四捨五入）
A24: 特別共同企業体の代表者以外の構成員（第２グループ）の実績 | K24: =IF(企業入力シート!C48="","",企業入力シート!C48) -> △△建設
A25: 各工事成績評定点 | D25: =D14 -> 平成３０年度 | G25: =IF('評定点一覧(第2G用) '!$P8="","",'評定点一覧(第2G用) '!$P8) | H25: =IF('評定点一覧(第2G用) '!$P9="","",'評定点一覧(第2G用) '!$P9) | I25: =IF('評定点一覧(第2G用) '!$P10="","",'評定点一覧(第2G用) '!$P10) | J25: =IF('評定点一覧(第2G用) '!$P11="","",'評定点一覧(第2G用) '!$P11) | K25: =IF('評定点一覧(第2G用) '!$P12="","",'評定点一覧(第2G用) '!$P12) | L25: =IF('評定点一覧(第2G用) '!$P13="","",'評定点一覧(第2G用) '!$P13) | M25: =IF('評定点一覧(第2G用) '!$P14="","",'評定点一覧(第2G用) '!$P14) | N25: =IF('評定点一覧(第2G用) '!$P15="","",'評定点一覧(第2G用) '!$P15) | O25: =IF('評定点一覧(第2G用) '!$P16="","",'評定点一覧(第2G用) '!$P16) | P25: =IF('評定点一覧(第2G用) '!$P17="","",'評定点一覧(第2G用) '!$P17)
D26: =D15 -> 令和元年度 | G26: =IF('評定点一覧(第2G用) '!$P21="","",'評定点一覧(第2G用) '!$P21) | H26: =IF('評定点一覧(第2G用) '!$P22="","",'評定点一覧(第2G用) '!$P22) | I26: =IF('評定点一覧(第2G用) '!$P23="","",'評定点一覧(第2G用) '!$P23) | J26: =IF('評定点一覧(第2G用) '!$P24="","",'評定点一覧(第2G用) '!$P24) | K26: =IF('評定点一覧(第2G用) '!$P25="","",'評定点一覧(第2G用) '!$P25) | L26: =IF('評定点一覧(第2G用) '!$P26="","",'評定点一覧(第2G用) '!$P26) | M26: =IF('評定点一覧(第2G用) '!$P27="","",'評定点一覧(第2G用) '!$P27) | N26: =IF('評定点一覧(第2G用) '!$P28="","",'評定点一覧(第2G用) '!$P28) | O26: =IF('評定点一覧(第2G用) '!$P29="","",'評定点一覧(第2G用) '!$P29) | P26: =IF('評定点一覧(第2G用) '!$P30="","",'評定点一覧(第2G用) '!$P30)
D27: =D16 -> 令和２年度 | G27: =IF('評定点一覧(第2G用) '!$P34="","",'評定点一覧(第2G用) '!$P34) | H27: =IF('評定点一覧(第2G用) '!$P35="","",'評定点一覧(第2G用) '!$P35) | I27: =IF('評定点一覧(第2G用) '!$P36="","",'評定点一覧(第2G用) '!$P36) | J27: =IF('評定点一覧(第2G用) '!$P37="","",'評定点一覧(第2G用) '!$P37) | K27: =IF('評定点一覧(第2G用) '!$P38="","",'評定点一覧(第2G用) '!$P38) | L27: =IF('評定点一覧(第2G用) '!$P39="","",'評定点一覧(第2G用) '!$P39) | M27: =IF('評定点一覧(第2G用) '!$P40="","",'評定点一覧(第2G用) '!$P40) | N27: =IF('評定点一覧(第2G用) '!$P41="","",'評定点一覧(第2G用) '!$P41) | O27: =IF('評定点一覧(第2G用) '!$P42="","",'評定点一覧(第2G用) '!$P42) | P27: =IF('評定点一覧(第2G用) '!$P43="","",'評定点一覧(第2G用) '!$P43)
D28: =D17 -> 令和３年度 | G28: =IF('評定点一覧(第2G用) '!$P47="","",'評定点一覧(第2G用) '!$P47) | H28: =IF('評定点一覧(第2G用) '!$P48="","",'評定点一覧(第2G用) '!$P48) | I28: =IF('評定点一覧(第2G用) '!$P49="","",'評定点一覧(第2G用) '!$P49) | J28: =IF('評定点一覧(第2G用) '!$P50="","",'評定点一覧(第2G用) '!$P50) | K28: =IF('評定点一覧(第2G用) '!$P51="","",'評定点一覧(第2G用) '!$P51) | L28: =IF('評定点一覧(第2G用) '!$P52="","",'評定点一覧(第2G用) '!$P52) | M28: =IF('評定点一覧(第2G用) '!$P53="","",'評定点一覧(第2G用) '!$P53) | N28: =IF('評定点一覧(第2G用) '!$P54="","",'評定点一覧(第2G用) '!$P54) | O28: =IF('評定点一覧(第2G用) '!$P55="","",'評定点一覧(第2G用) '!$P55) | P28: =IF('評定点一覧(第2G用) '!$P56="","",'評定点一覧(第2G用) '!$P56)
D29: =D18 -> 令和４年度 | G29: =IF('評定点一覧(第2G用) '!$P60="","",'評定点一覧(第2G用) '!$P60) | H29: =IF('評定点一覧(第2G用) '!$P61="","",'評定点一覧(第2G用) '!$P61) | I29: =IF('評定点一覧(第2G用) '!$P62="","",'評定点一覧(第2G用) '!$P62) | J29: =IF('評定点一覧(第2G用) '!$P63="","",'評定点一覧(第2G用) '!$P63) | K29: =IF('評定点一覧(第2G用) '!$P64="","",'評定点一覧(第2G用) '!$P64) | L29: =IF('評定点一覧(第2G用) '!$P65="","",'評定点一覧(第2G用) '!$P65) | M29: =IF('評定点一覧(第2G用) '!$P66="","",'評定点一覧(第2G用) '!$P66) | N29: =IF('評定点一覧(第2G用) '!$P67="","",'評定点一覧(第2G用) '!$P67) | O29: =IF('評定点一覧(第2G用) '!$P68="","",'評定点一覧(第2G用) '!$P68) | P29: =IF('評定点一覧(第2G用) '!$P69="","",'評定点一覧(第2G用) '!$P69)
A30: 工事成績評定点の平均 | G30: =IF((COUNTA(G25:P29)-COUNTBLANK(G25:P29))=0,"",COUNTA(G25:P29)-COUNTBLANK(G25:P29)) | I30: 件 | J30: =IF(OR(G30="",G30=0),"",ROUND(AVERAGE(G25:P29),1)) | M30: 点
A31: （小数第２位を四捨五入）
A35: 特別共同企業体の代表者以外の構成員（第３グループ）の実績 | K35: =IF(企業入力シート!C77="","",企業入力シート!C77) -> □□建設
A36: 各工事成績評定点 | D36: =D14 -> 平成３０年度 | G36: =IF('評定点一覧(第3G用) '!$P8="","",'評定点一覧(第3G用) '!$P8) | H36: =IF('評定点一覧(第3G用) '!$P9="","",'評定点一覧(第3G用) '!$P9) | I36: =IF('評定点一覧(第3G用) '!$P10="","",'評定点一覧(第3G用) '!$P10) | J36: =IF('評定点一覧(第3G用) '!$P11="","",'評定点一覧(第3G用) '!$P11) | K36: =IF('評定点一覧(第3G用) '!$P12="","",'評定点一覧(第3G用) '!$P12) | L36: =IF('評定点一覧(第3G用) '!$P13="","",'評定点一覧(第3G用) '!$P13) | M36: =IF('評定点一覧(第3G用) '!$P14="","",'評定点一覧(第3G用) '!$P14) | N36: =IF('評定点一覧(第3G用) '!$P15="","",'評定点一覧(第3G用) '!$P15) | O36: =IF('評定点一覧(第3G用) '!$P16="","",'評定点一覧(第3G用) '!$P16) | P36: =IF('評定点一覧(第3G用) '!$P17="","",'評定点一覧(第3G用) '!$P17)
D37: =D15 -> 令和元年度 | G37: =IF('評定点一覧(第3G用) '!$P21="","",'評定点一覧(第3G用) '!$P21) | H37: =IF('評定点一覧(第3G用) '!$P22="","",'評定点一覧(第3G用) '!$P22) | I37: =IF('評定点一覧(第3G用) '!$P23="","",'評定点一覧(第3G用) '!$P23) | J37: =IF('評定点一覧(第3G用) '!$P24="","",'評定点一覧(第3G用) '!$P24) | K37: =IF('評定点一覧(第3G用) '!$P25="","",'評定点一覧(第3G用) '!$P25) | L37: =IF('評定点一覧(第3G用) '!$P26="","",'評定点一覧(第3G用) '!$P26) | M37: =IF('評定点一覧(第3G用) '!$P27="","",'評定点一覧(第3G用) '!$P27) | N37: =IF('評定点一覧(第3G用) '!$P28="","",'評定点一覧(第3G用) '!$P28) | O37: =IF('評定点一覧(第3G用) '!$P29="","",'評定点一覧(第3G用) '!$P29) | P37: =IF('評定点一覧(第3G用) '!$P30="","",'評定点一覧(第3G用) '!$P30)
D38: =D16 -> 令和２年度 | G38: =IF('評定点一覧(第3G用) '!$P34="","",'評定点一覧(第3G用) '!$P34) | H38: =IF('評定点一覧(第3G用) '!$P35="","",'評定点一覧(第3G用) '!$P35) | I38: =IF('評定点一覧(第3G用) '!$P36="","",'評定点一覧(第3G用) '!$P36) | J38: =IF('評定点一覧(第3G用) '!$P37="","",'評定点一覧(第3G用) '!$P37) | K38: =IF('評定点一覧(第3G用) '!$P38="","",'評定点一覧(第3G用) '!$P38) | L38: =IF('評定点一覧(第3G用) '!$P39="","",'評定点一覧(第3G用) '!$P39) | M38: =IF('評定点一覧(第3G用) '!$P40="","",'評定点一覧(第3G用) '!$P40) | N38: =IF('評定点一覧(第3G用) '!$P41="","",'評定点一覧(第3G用) '!$P41) | O38: =IF('評定点一覧(第3G用) '!$P42="","",'評定点一覧(第3G用) '!$P42) | P38: =IF('評定点一覧(第3G用) '!$P43="","",'評定点一覧(第3G用) '!$P43)
D39: =D17 -> 令和３年度 | G39: =IF('評定点一覧(第3G用) '!$P47="","",'評定点一覧(第3G用) '!$P47) | H39: =IF('評定点一覧(第3G用) '!$P48="","",'評定点一覧(第3G用) '!$P48) | I39: =IF('評定点一覧(第3G用) '!$P49="","",'評定点一覧(第3G用) '!$P49) | J39: =IF('評定点一覧(第3G用) '!$P50="","",'評定点一覧(第3G用) '!$P50) | K39: =IF('評定点一覧(第3G用) '!$P51="","",'評定点一覧(第3G用) '!$P51) | L39: =IF('評定点一覧(第3G用) '!$P52="","",'評定点一覧(第3G用) '!$P52) | M39: =IF('評定点一覧(第3G用) '!$P53="","",'評定点一覧(第3G用) '!$P53) | N39: =IF('評定点一覧(第3G用) '!$P54="","",'評定点一覧(第3G用) '!$P54) | O39: =IF('評定点一覧(第3G用) '!$P55="","",'評定点一覧(第3G用) '!$P55) | P39: =IF('評定点一覧(第3G用) '!$P56="","",'評定点一覧(第3G用) '!$P56)
D40: =D18 -> 令和４年度 | G40: =IF('評定点一覧(第3G用) '!$P60="","",'評定点一覧(第3G用) '!$P60) | H40: =IF('評定点一覧(第3G用) '!$P61="","",'評定点一覧(第3G用) '!$P61) | I40: =IF('評定点一覧(第3G用) '!$P62="","",'評定点一覧(第3G用) '!$P62) | J40: =IF('評定点一覧(第3G用) '!$P63="","",'評定点一覧(第3G用) '!$P63) | K40: =IF('評定点一覧(第3G用) '!$P64="","",'評定点一覧(第3G用) '!$P64) | L40: =IF('評定点一覧(第3G用) '!$P65="","",'評定点一覧(第3G用) '!$P65) | M40: =IF('評定点一覧(第3G用) '!$P66="","",'評定点一覧(第3G用) '!$P66) | N40: =IF('評定点一覧(第3G用) '!$P67="","",'評定点一覧(第3G用) '!$P67) | O40: =IF('評定点一覧(第3G用) '!$P68="","",'評定点一覧(第3G用) '!$P68) | P40: =IF('評定点一覧(第3G用) '!$P69="","",'評定点一覧(第3G用) '!$P69)
A41: 工事成績評定点の平均 | G41: =IF((COUNTA(G36:P40)-COUNTBLANK(G36:P40))=0,"",COUNTA(G36:P40)-COUNTBLANK(G36:P40)) | I41: 件 | J41: =IF(OR(G41="",G41=0),"",ROUND(AVERAGE(G36:P40),1)) | M41: 点
A42: （小数第２位を四捨五入）
A43: (1) | B43: 対象工事の工事成績評定点一覧表（別紙）を添付すること。
A44: (2) | B44: 工事種別については、各工事の契約時における「島根県土木工事仕様書」等において確認すること。
A46: (3) | B46: 単年度の対象工事件数が１０件を超える場合、「工事成績評定点の平均」欄の「件数」及び「平均点」は、自動計算されないため、直接記入すること。
A48: (4) | B48: 上記事項の外、入札説明書本文にある要件を必ず確認すること。

Sheet 評定点一覧(第1G用) 
A1: =CONCATENATE("（様式-",INDEX(発注者入力シート!$B$28:$G$32,MATCH(発注者入力シート!L6,発注者入力シート!$C$28:$C$32,0),4),"-２）") -> （様式-２-２） | H1: 工事成績評定点一覧表(別紙) | Q1: 【第１グループ用】
A2: =CONCATENATE("評価項目",INDEX(発注者入力シート!$B$28:$G$32,MATCH(発注者入力シート!L6,発注者入力シート!$C$28:$C$32,0),5),"-",INDEX(発注者入力シート!$B$28:$G$32,MATCH(発注者入力シート!L6,発注者入力シート!$C$28:$C$32,0),6)) -> 評価項目（１）-① | F2: 企業体名： | H2: =IF(企業入力シート!C5="","",企業入力シート!C5)
A4: 工事種別 | D4: =IF('企業成績評定点 (JV用) '!D9="","",'企業成績評定点 (JV用) '!D9) -> 建築物に係る電気工事 | I4: 建設工事の種類 | L4: =IF('企業成績評定点 (JV用) '!D10="","",'企業成績評定点 (JV用) '!D10) -> 電気工事、消防施設工事
A6: 令和 | B6: 3 | C6: 年度 | K6: =IF(企業入力シート!C14="","",企業入力シート!C14) -> ○○建設 | S6: 着色セルの凡例
A7: 番号 | B7: 発注機関名 | E7: 工事名 | P7: 評定点 | S7: （企業）
A8: 1 | Q8: 点 | T8: ：「企業入力シート」、一覧表（別紙）で入力（数式リンク有）
A9: 2 | Q9: 点 | T9: ：セルに直接入力が必要な箇所
A10: 3 | Q10: 点 | S10: （発注者）
A11: 4 | Q11: 点 | T11: ：「発注者入力シート」で入力（数式リンク有）
A12: 5 | Q12: 点 | T12: ：セルに直接入力が必要な箇所
A13: 6 | Q13: 点
A14: 7 | Q14: 点 | S14: 【印刷について】
A15: 8 | Q15: 点 | S15: このシートは「ページ設定」で「白黒印刷」と「印刷範囲」が設定されています。
A16: 9 | Q16: 点 | S16: 様式内の吹出しコメントは印刷されません。
A17: 10 | Q17: 点
A19: 令和 | B19: =B6+1 -> 4 | C19: 年度
A20: 番号 | B20: 発注機関名 | E20: 工事名 | P20: 評定点
A21: 1 | Q21: 点
A22: 2 | Q22: 点
A23: 3 | Q23: 点
A24: 4 | Q24: 点
A25: 5 | Q25: 点
A26: 6 | Q26: 点
A27: 7 | Q27: 点
A28: 8 | Q28: 点
A29: 9 | Q29: 点
A30: 10 | Q30: 点
A32: 令和 | B32: =B19+1 -> 5 | C32: 年度
A33: 番号 | B33: 発注機関名 | E33: 工事名 | P33: 評定点
A34: 1 | Q34: 点
A35: 2 | Q35: 点
A36: 3 | Q36: 点
A37: 4 | Q37: 点
A38: 5 | Q38: 点
A39: 6 | Q39: 点
A40: 7 | Q40: 点
A41: 8 | Q41: 点
A42: 9 | Q42: 点
A43: 10 | Q43: 点
A45: 令和 | B45: =B32+1 -> 6 | C45: 年度
A46: 番号 | B46: 発注機関名 | E46: 工事名 | P46: 評定点
A47: 1 | Q47: 点
A48: 2 | Q48: 点
A49: 3 | Q49: 点
A50: 4 | Q50: 点
A51: 5 | Q51: 点
A52: 6 | Q52: 点
A53: 7 | Q53: 点
A54: 8 | Q54: 点
A55: 9 | Q55: 点
A56: 10 | Q56: 点
A58: 令和 | B58: =B45+1 -> 7 | C58: 年度
A59: 番号 | B59: 発注機関名 | E59: 工事名 | P59: 評定点
A60: 1 | Q60: 点
A61: 2 | Q61: 点
A62: 3 | Q62: 点
A63: 4 | Q63: 点
A64: 5 | Q64: 点
A65: 6 | Q65: 点
A66: 7 | Q66: 点
A67: 8 | Q67: 点
A68: 9 | Q68: 点
A69: 10 | Q69: 点
A70: (1) | B70: 記入欄が足りない場合は欄を追加して記入すること。。

Sheet 評定点一覧(第2G用)  
A1: =CONCATENATE("（様式-",INDEX(発注者入力シート!$B$28:$G$32,MATCH(発注者入力シート!L6,発注者入力シート!$C$28:$C$32,0),4),"-２）") -> （様式-２-２） | H1: 工事成績評定点一覧表(別紙) | Q1: 【第２グループ用】
A2: =CONCATENATE("評価項目",INDEX(発注者入力シート!$B$28:$G$32,MATCH(発注者入力シート!L6,発注者入力シート!$C$28:$C$32,0),5),"-",INDEX(発注者入力シート!$B$28:$G$32,MATCH(発注者入力シート!L6,発注者入力シート!$C$28:$C$32,0),6)) -> 評価項目（１）-① | F2: 企業体名： | H2: =IF(企業入力シート!C5="","",企業入力シート!C5)
A4: 工事種別 | D4: =IF('企業成績評定点 (JV用) '!D9="","",'企業成績評定点 (JV用) '!D9) -> 建築物に係る電気工事 | I4: 建設工事の種類 | L4: =IF('企業成績評定点 (JV用) '!D10="","",'企業成績評定点 (JV用) '!D10) -> 電気工事、消防施設工事
A6: 令和 | B6: ='評定点一覧(第1G用) '!B6 -> 3 | C6: 年度 | K6: =IF(企業入力シート!C48="","",企業入力シート!C48) -> △△建設 | S6: 着色セルの凡例
A7: 番号 | B7: 発注機関名 | E7: 工事名 | P7: 評定点 | S7: （企業）
A8: 1 | Q8: 点 | T8: ：「企業入力シート」、一覧表（別紙）で入力（数式リンク有）
A9: 2 | Q9: 点 | T9: ：セルに直接入力が必要な箇所
A10: 3 | Q10: 点 | S10: （発注者）
A11: 4 | Q11: 点 | T11: ：「発注者入力シート」で入力（数式リンク有）
A12: 5 | Q12: 点 | T12: ：セルに直接入力が必要な箇所
A13: 6 | Q13: 点
A14: 7 | Q14: 点 | S14: 【印刷について】
A15: 8 | Q15: 点 | S15: このシートは「ページ設定」で「白黒印刷」と「印刷範囲」が設定されています。
A16: 9 | Q16: 点 | S16: 様式内の吹出しコメントは印刷されません。
A17: 10 | Q17: 点
A19: 令和 | B19: =B6+1 -> 4 | C19: 年度
A20: 番号 | B20: 発注機関名 | E20: 工事名 | P20: 評定点
A21: 1 | Q21: 点
A22: 2 | Q22: 点
A23: 3 | Q23: 点
A24: 4 | Q24: 点
A25: 5 | Q25: 点
A26: 6 | Q26: 点
A27: 7 | Q27: 点
A28: 8 | Q28: 点
A29: 9 | Q29: 点
A30: 10 | Q30: 点
A32: 令和 | B32: =B19+1 -> 5 | C32: 年度
A33: 番号 | B33: 発注機関名 | E33: 工事名 | P33: 評定点
A34: 1 | Q34: 点
A35: 2 | Q35: 点
A36: 3 | Q36: 点
A37: 4 | Q37: 点
A38: 5 | Q38: 点
A39: 6 | Q39: 点
A40: 7 | Q40: 点
A41: 8 | Q41: 点
A42: 9 | Q42: 点
A43: 10 | Q43: 点
A45: 令和 | B45: =B32+1 -> 6 | C45: 年度
A46: 番号 | B46: 発注機関名 | E46: 工事名 | P46: 評定点
A47: 1 | Q47: 点
A48: 2 | Q48: 点
A49: 3 | Q49: 点
A50: 4 | Q50: 点
A51: 5 | Q51: 点
A52: 6 | Q52: 点
A53: 7 | Q53: 点
A54: 8 | Q54: 点
A55: 9 | Q55: 点
A56: 10 | Q56: 点
A58: 令和 | B58: =B45+1 -> 7 | C58: 年度
A59: 番号 | B59: 発注機関名 | E59: 工事名 | P59: 評定点
A60: 1 | Q60: 点
A61: 2 | Q61: 点
A62: 3 | Q62: 点
A63: 4 | Q63: 点
A64: 5 | Q64: 点
A65: 6 | Q65: 点
A66: 7 | Q66: 点
A67: 8 | Q67: 点
A68: 9 | Q68: 点
A69: 10 | Q69: 点
A70: (1) | B70: 記入欄が足りない場合は欄を追加して記入すること。。

Sheet 評定点一覧(第3G用) 
A1: =CONCATENATE("（様式-",INDEX(発注者入力シート!$B$28:$G$32,MATCH(発注者入力シート!L6,発注者入力シート!$C$28:$C$32,0),4),"-２）") -> （様式-２-２） | H1: 工事成績評定点一覧表(別紙) | Q1: 【第３グループ用】
A2: =CONCATENATE("評価項目",INDEX(発注者入力シート!$B$28:$G$32,MATCH(発注者入力シート!L6,発注者入力シート!$C$28:$C$32,0),5),"-",INDEX(発注者入力シート!$B$28:$G$32,MATCH(発注者入力シート!L6,発注者入力シート!$C$28:$C$32,0),6)) -> 評価項目（１）-① | F2: 企業体名： | H2: =IF(企業入力シート!C5="","",企業入力シート!C5)
A4: 工事種別 | D4: =IF('企業成績評定点 (JV用) '!D9="","",'企業成績評定点 (JV用) '!D9) -> 建築物に係る電気工事 | I4: 建設工事の種類 | L4: =IF('企業成績評定点 (JV用) '!D10="","",'企業成績評定点 (JV用) '!D10) -> 電気工事、消防施設工事
A6: 令和 | B6: ='評定点一覧(第1G用) '!B6 -> 3 | C6: 年度 | K6: =IF(企業入力シート!C77="","",企業入力シート!C77) -> □□建設 | S6: 着色セルの凡例
A7: 番号 | B7: 発注機関名 | E7: 工事名 | P7: 評定点 | S7: （企業）
A8: 1 | Q8: 点 | T8: ：「企業入力シート」、一覧表（別紙）で入力（数式リンク有）
A9: 2 | Q9: 点 | T9: ：セルに直接入力が必要な箇所
A10: 3 | Q10: 点 | S10: （発注者）
A11: 4 | Q11: 点 | T11: ：「発注者入力シート」で入力（数式リンク有）
A12: 5 | Q12: 点 | T12: ：セルに直接入力が必要な箇所
A13: 6 | Q13: 点
A14: 7 | Q14: 点 | S14: 【印刷について】
A15: 8 | Q15: 点 | S15: このシートは「ページ設定」で「白黒印刷」と「印刷範囲」が設定されています。
A16: 9 | Q16: 点 | S16: 様式内の吹出しコメントは印刷されません。
A17: 10 | Q17: 点
A19: 令和 | B19: =B6+1 -> 4 | C19: 年度
A20: 番号 | B20: 発注機関名 | E20: 工事名 | P20: 評定点
A21: 1 | Q21: 点
A22: 2 | Q22: 点
A23: 3 | Q23: 点
A24: 4 | Q24: 点
A25: 5 | Q25: 点
A26: 6 | Q26: 点
A27: 7 | Q27: 点
A28: 8 | Q28: 点
A29: 9 | Q29: 点
A30: 10 | Q30: 点
A32: 令和 | B32: =B19+1 -> 5 | C32: 年度
A33: 番号 | B33: 発注機関名 | E33: 工事名 | P33: 評定点
A34: 1 | Q34: 点
A35: 2 | Q35: 点
A36: 3 | Q36: 点
A37: 4 | Q37: 点
A38: 5 | Q38: 点
A39: 6 | Q39: 点
A40: 7 | Q40: 点
A41: 8 | Q41: 点
A42: 9 | Q42: 点
A43: 10 | Q43: 点
A45: 令和 | B45: =B32+1 -> 6 | C45: 年度
A46: 番号 | B46: 発注機関名 | E46: 工事名 | P46: 評定点
A47: 1 | Q47: 点
A48: 2 | Q48: 点
A49: 3 | Q49: 点
A50: 4 | Q50: 点
A51: 5 | Q51: 点
A52: 6 | Q52: 点
A53: 7 | Q53: 点
A54: 8 | Q54: 点
A55: 9 | Q55: 点
A56: 10 | Q56: 点
A58: 令和 | B58: =B45+1 -> 7 | C58: 年度
A59: 番号 | B59: 発注機関名 | E59: 工事名 | P59: 評定点
A60: 1 | Q60: 点
A61: 2 | Q61: 点
A62: 3 | Q62: 点
A63: 4 | Q63: 点
A64: 5 | Q64: 点
A65: 6 | Q65: 点
A66: 7 | Q66: 点
A67: 8 | Q67: 点
A68: 9 | Q68: 点
A69: 10 | Q69: 点
A70: (1) | B70: 記入欄が足りない場合は欄を追加して記入すること。。

Sheet 同種工事施工実績
A1: =CONCATENATE("（様式-",INDEX(発注者入力シート!$B$28:$G$32,MATCH(発注者入力シート!L7,発注者入力シート!$C$28:$C$32,0),4),"）") -> （様式-３） | Q1: =IF(INDEX(発注者入力シート!$B$24:$G$48,MATCH(発注者入力シート!L7,発注者入力シート!$C$24:$C$48,0),3)="","",INDEX(発注者入力シート!$B$24:$G$48,MATCH(発注者入力シート!L7,発注者入力シート!$C$24:$C$48,0),3)) | V1: 着色セルの凡例
A2: =CONCATENATE("評価項目",INDEX(発注者入力シート!$B$28:$G$32,MATCH(発注者入力シート!L7,発注者入力シート!$C$28:$C$32,0),5),"-",INDEX(発注者入力シート!$B$28:$G$32,MATCH(発注者入力シート!L7,発注者入力シート!$C$28:$C$32,0),6)) -> 評価項目（１）-② | V2: （企業）
A3: 企業の同種工事の施工実績 | W3: ：「企業入力シート」、一覧表（別紙）で入力（数式リンク有）
W4: ：セルに直接入力もしくはリストから選択が必要な箇所
D5: 企業体名： | F5: =IF(企業入力シート!C5="","",企業入力シート!C5)
V6: （発注者）
A7: 対象工事 | B7: 対象期間・対象機関 | F7: 平成２８年度から入札公告日前日までに完成及び引き渡しが完了した工事 | W7: ：「発注者入力シート」で入力（数式リンク有）
W8: ：セルに直接入力が必要な箇所
B9: 工事種別 | F9: =INDEX(発注者入力シート!$AX$3:$BC$31,MATCH(発注者入力シート!$AY$2,発注者入力シート!$AZ$3:$AZ$31,0),4) -> 建築物に係る電気工事
B10: 建設工事の種類 | F10: =INDEX(発注者入力シート!$AX$3:$BC$31,MATCH(発注者入力シート!$AY$2,発注者入力シート!$AZ$3:$AZ$31,0),5) -> 電気工事、消防施設工事
B11: 同種工事の定義 | F11: １契約で税込み最終金額が５億２，０００万円以上の住宅以外の建築物に係る電気工事
A13: 工事内容 | F13: 施工実績① | M13: 施工実績② | V13: 【印刷について】
A14: 工事名称等 | B14: 工 事 名 | V14: このシートは「ページ設定」で「白黒印刷」と「印刷範囲」が設定されています。
V15: 様式内の吹出しコメントは印刷されません。
B18: （コリンズ登録番号）
B19: 発注機関名 | U19: ← | V19: ○○県土整備事務所など発注機関名を記入（略名可）
B20: 工事種別
B21: 建設工事の種類
B22: 施工場所
V23: （チェック用）
B24: 請負金額（最終・税込） | L24: 円 | S24: 円 | V24: 西暦
B25: 契約上の工期 | E25: （始） | H25: 年 | J25: 月 | L25: 日 | O25: 年 | Q25: 月 | S25: 日 | V25: 46235 | W25: ←西暦を入力すると下の欄に和暦が表示 | AA25: 平成
E26: （終） | H26: 年 | J26: 月 | L26: 日 | O26: 年 | Q26: 月 | S26: 日 | V26: 和暦 | AA26: 令和
B27: 受注形態 | V27: =V25 -> 46235
B28: 特別（特定）ＪＶの場合、出資比率
A29: 工事成績評定点 （島根県が発注した工事） | L29: 点 | S29: 点
A31: 工事概要 | B31: 建物用途
A41: (1) | B41: 施工実績（上表記載内容）全てが確認できるよう下表を参考に資料①～⑧を組み合せて提出すること。
B42: 【公共工事の場合】
B43: ① | C43: コリンズの「工事カルテ」又は「登録内容確認書」の写し。（いずれも竣工登録に限る。） ただし、コリンズの工事カルテのみでは工事概要が確認できない場合は、最終図面、最終仕様書など工事概要が確認できる資料（資料⑥）を追加添付すること。
B47: ② | C47: 当初、変更を含む全ての契約書の写し。 ただし、必ず項目別評定点表（資料③）又は竣工検査済証の写し（資料④）＋最終図面、最終仕様書など工事概要が確認できる資料（資料⑥）を追加添付すること。
B50: ③ | C50: 項目別評定点表。（島根県発注工事に限る。）
B51: ④ | C51: 竣工検査済証の写し。
B52: ⑤ | C52: 工事成績評定通知書の写し。（島根県発注工事に限る。）
B53: ⑥ | C53: 最終図面、最終仕様書など工事概要が確認できる資料。
B54: ⑦ | C54: 同種工事の施工実績として最終請負金額を求めた場合で、同種工事以外の工事を包含しているものは、求めている部分の最終請負金額が確認できる資料（最終の工事種別毎の工事費一覧又は工事内訳書等）。
B57: ⑧ | C57: 発注者の証明書の写し。（上記資料①～⑥で確認できない記載内容（コリンズ登録番号を除く。）を全て証明してあるもの。）
B59: ⑨ | C59: 施工実績として提出する工事の「工事種別」及び「建設工事の種類」が確認できる資料
A61: 資料①～⑨で確認できる内容
A62: 項目名 | H62: 資料番号 | Q62: 備考
H63: ① | I63: ② | J63: ③ | K63: ④ | L63: ⑤ | M63: ⑥ | N63: ⑦ | O63: ⑧ | P63: ⑨
A64: 工事名称等 | B64: 工事名 | H64: ○ | I64: ○ | J64: ○ | K64: ○ | L64: ○ | M64: ○ | N64: ○ | O64: ○ | P64: ○
B65: （コリンズ登録番号） | H65: ○
B66: 発注機関名 | H66: ○ | I66: ○ | J66: ○ | K66: ○ | L66: ○ | O66: ○ | P66: ○
B67: 工事種別、建設工事の種類 | H67: ○ | O67: ○ | P67: ○
B68: 施工場所 | H68: ○ | I68: ○ | K68: ○ | O68: ○ | P68: ○
B69: 請負金額（最終・税込） | H69: ○ or △ | I69: ○ or △ | J69: ○ or △ | K69: ○ or △ | N69: ○ | O69: ○
B72: 契約上の工期 | H72: ○ | I72: ○ | J72: ○ | K72: ○ | L72: ○ | O72: ○
B73: 受注形態 | H73: ○ | I73: ○ | J73: ○ | K73: ○ | L73: ○ | O73: ○
B74: 特別（特定）JVの場合、出資比率 | H74: ○ | O74: ○ | Q74: JV工事のみ対象
A75: 工事成績評定点 | J75: ○ | L75: ○ | O75: ○ | Q75: 島根県発注工事のみ
A76: 工事概要 | H76: ○ or △ | M76: ○ or △ | O76: ○
A79: ※１：「○」は資料で確認ができるもの、「△」は全ては確認できないもの。
A80: ※２：資料③、④、⑤の「○」と「△」は、島根県発注工事の場合。
A82: （参考）代表的な提出資料の組合せ
A83: パターン名 | C83: 条件１ | H83: 条件２ | P83: 提出資料の組合せ
A84: パターン１ | C84: コリンズの竣工登録あり | H84: コリンズのみで工事概要が確認可能。 | P84: ①+③
P85: ①+⑤
A86: パターン２ | H86: コリンズのみで工事概要が確認できない。最終図面等を追加添付。 | P86: ①+③+⑥
P87: ①+⑤+⑥
A88: パターン３ | C88: コリンズの竣工登録なし | H88: 必要な資料が準備できる。 | P88: ②+③+⑥
P89: ②+④+⑤+⑥
A90: パターン４ | H90: 必要な資料が準備できない。 | P90: ⑧
A92: ※１：同種工事として最終請負金額を求めた場合で、同種工事実績以外の工事が包含されているものは、上記に加え必ず⑦を追加添付すること。
B95: 【公共工事以外の場合】
B96: ① | C96: 当初、変更を含む全ての契約書の写し。
B97: ② | C97: 最終図面、最終仕様書など工事概要が確認できる資料。
B98: ③ | C98: 同種工事の施工実績として最終請負金額を求めた場合で、同種工事以外の工事を包含しているものは、求めている部分の最終請負金額が確認できる資料（最終の工事種別毎の工事費一覧又は工事内訳書等）。
A102: （参考）代表的な提出資料の組合せ
A103: パターン名 | C103: 条件１ | G103: 条件２ | P103: 提出資料の組合せ
A104: パターン１ | C104: 同種工事として最終請負金額を求めた場合 | G104: 同種工事実績以外の工事が包含されていない。 | P104: ①+②
A105: パターン２ | G105: 同種工事実績以外の工事が包含されている。 | P105: ①+②+③
A106: パターン３ | C106: 同種工事として最終請負金額を求めていない場合 | P106: ①+②
A109: (2) | B109: 共同企業体の代表者の施工実績のみを提出すること。
A110: (3) | B110: 施工実績が２回以上ある場合は、代表的なもの２回分の提出でよい。
A111: (4) | B111: 特別（特定）ＪＶで施工した工事については、出資比率２０％以上の場合にのみ施工実績として認める。
A112: (5) | B112: 上記事項の外、入札説明書本文にある要件を必ず確認すること。

Sheet 優良工事表彰
A1: =CONCATENATE("（様式-",INDEX(発注者入力シート!$B$28:$G$32,MATCH(発注者入力シート!L8,発注者入力シート!$C$28:$C$32,0),4),"）") -> （様式-４） | S1: 着色セルの凡例
A2: =CONCATENATE("評価項目",INDEX(発注者入力シート!$B$28:$G$32,MATCH(発注者入力シート!L8,発注者入力シート!$C$28:$C$32,0),5),"-",INDEX(発注者入力シート!$B$28:$G$32,MATCH(発注者入力シート!L8,発注者入力シート!$C$28:$C$32,0),6)) -> 評価項目（１）-③ | S2: （企業）
A3: 企業の優良工事表彰（優良工事施工団体表彰） | T3: ：「企業入力シート」、一覧表（別紙）で入力（数式リンク有）
D4: 企業体名： | F4: =IF(企業入力シート!C5="","",企業入力シート!C5) | T4: ：セルに直接入力もしくはリストから選択が必要な箇所
A6: 対象工事 | B6: 対象年度 対象機関 | E6: 島根県内の公共事業において、令和４年度から令和８年度に、島根県及び中国地方整備局発注工事で受けた建築一式工事の優良工事表彰（優良工事施工団体表彰） | F6: 島根県内の公共事業において、平成28年度から令和2年度に、島根県及び中国地方整備局発注工事で受けた建築一式工事の優良工事表彰（優良工事施工団体表彰）
S7: （発注者）
T8: ：「発注者入力シート」で入力（数式リンク有）
B9: 工事種別 | E9: =INDEX(発注者入力シート!$AX$3:$BC$31,MATCH(発注者入力シート!$AY$2,発注者入力シート!$AZ$3:$AZ$31,0),4) -> 建築物に係る電気工事 | F9: =INDEX(発注者入力シート!$AX$3:$BC$31,MATCH(発注者入力シート!$AY$2,発注者入力シート!$AZ$3:$AZ$31,0),4) -> 建築物に係る電気工事
B10: 建設工事の種類 | E10: =INDEX(発注者入力シート!$AX$3:$BC$31,MATCH(発注者入力シート!$AY$2,発注者入力シート!$AZ$3:$AZ$31,0),5) -> 電気工事、消防施設工事 | F10: =INDEX(発注者入力シート!$AX$3:$BC$31,MATCH(発注者入力シート!$AY$2,発注者入力シート!$AZ$3:$AZ$31,0),5) -> 電気工事、消防施設工事
A12: 表彰者の区分 | T12: ：セルに直接入力が必要な箇所
A13: 受賞年度 | L13: ※竣工年度ではありません
A14: 工事名
A16: 工事種別
A17: 建設工事の種類
A18: (１) | B18: 第１グループ、第２グループ及び第３グループの受賞の合計が３回以上ある場合は、代表的なもの３件の提出でよい。 | S18: 【印刷について】
S19: このシートは「ページ設定」で「白黒印刷」と「印刷範囲」が設定されています。
A20: (2) | B20: 島根県発注工事は資料添付が不要。
A21: (3) | B21: 中国地方整備局発注工事は表彰状等の写しを添付すること。また、発注者から表彰実績に関する資料が提示された場合は、その写しの添付でもよい。 | S21: 様式内の吹出しコメントは印刷されません。
A23: (4) | B23: 工事の対象は、中国地方整備局及び島根県発注の工事とする。
A24: (5) | B24: 表彰の対象は、国土交通省が行ったものについては中国地方整備局長表彰及び事務所長表彰、島根県が行ったものについては知事表彰とする。
A26: (6) | B26: 工事名は、「契約工事名」で記入すること。
A27: (7) | B27: 上記事項の外、入札説明書本文にある要件を必ず確認すること。

Sheet 優良工事表彰（JV）
A1: =CONCATENATE("（様式-",INDEX(発注者入力シート!$B$28:$G$32,MATCH(発注者入力シート!L8,発注者入力シート!$C$28:$C$32,0),4),"）") -> （様式-４） | S1: 着色セルの凡例
A2: =CONCATENATE("評価項目",INDEX(発注者入力シート!$B$28:$G$32,MATCH(発注者入力シート!L8,発注者入力シート!$C$28:$C$32,0),5),"-",INDEX(発注者入力シート!$B$28:$G$32,MATCH(発注者入力シート!L8,発注者入力シート!$C$28:$C$32,0),6)) -> 評価項目（１）-③ | S2: （企業）
A3: 企業の優良工事表彰（優良工事施工団体表彰） | T3: ：「企業入力シート」、一覧表（別紙）で入力（数式リンク有）
D4: 企業体名： | F4: =IF(企業入力シート!C5="","",企業入力シート!C5) | T4: ：セルに直接入力もしくはリストから選択が必要な箇所
A5: 対象となる年度・機関等：
A6: 島根県内の公共事業において、令和４年度から令和８年度に、島根県及び中国地方整備局発注工事で受けた建築部門の優良工事表彰（優良工事施工団体表彰） ・工事種別：建築物に係る電気工事 ・建設工事の種類：電気工事、消防施設工事 | S6: （発注者）
T7: ：「発注者入力シート」で入力（数式リンク有）
T8: ：セルに直接入力が必要な箇所
A9: 特別共同企業体構成員の会社名 | F9: 表彰者の区分 | I9: 受賞年度 | L9: 工事名／工事種別／建設工事の種類
A10: ① | B10: =IF(OR(企業入力シート!$C$14="",企業入力シート!$C$48="",企業入力シート!$C$77=""),"",IF(B11="第1ｸﾞﾙｰﾌﾟ",企業入力シート!$C$14,IF(B11="第2ｸﾞﾙｰﾌﾟ",企業入力シート!$C$48,IF(B11="第3ｸﾞﾙｰﾌﾟ",企業入力シート!$C$77,"")))) | S10: 【印刷について】
S11: このシートは「ページ設定」で「白黒印刷」と「印刷範囲」が設定されています。
A12: ② | B12: =IF(OR(企業入力シート!$C$14="",企業入力シート!$C$48="",企業入力シート!$C$77=""),"",IF(B13="第1ｸﾞﾙｰﾌﾟ",企業入力シート!$C$14,IF(B13="第2ｸﾞﾙｰﾌﾟ",企業入力シート!$C$48,IF(B13="第3ｸﾞﾙｰﾌﾟ",企業入力シート!$C$77,"")))) | S12: 様式内の吹出しコメントは印刷されません。
A14: ③ | B14: =IF(OR(企業入力シート!$C$14="",企業入力シート!$C$48="",企業入力シート!$C$77=""),"",IF(B15="第1ｸﾞﾙｰﾌﾟ",企業入力シート!$C$14,IF(B15="第2ｸﾞﾙｰﾌﾟ",企業入力シート!$C$48,IF(B15="第3ｸﾞﾙｰﾌﾟ",企業入力シート!$C$77,""))))
A16: ④ | B16: =IF(OR(企業入力シート!$C$14="",企業入力シート!$C$48="",企業入力シート!$C$77=""),"",IF(B17="第1ｸﾞﾙｰﾌﾟ",企業入力シート!$C$14,IF(B17="第2ｸﾞﾙｰﾌﾟ",企業入力シート!$C$48,IF(B17="第3ｸﾞﾙｰﾌﾟ",企業入力シート!$C$77,""))))
A18: ⑤ | B18: =IF(OR(企業入力シート!$C$14="",企業入力シート!$C$48="",企業入力シート!$C$77=""),"",IF(B19="第1ｸﾞﾙｰﾌﾟ",企業入力シート!$C$14,IF(B19="第2ｸﾞﾙｰﾌﾟ",企業入力シート!$C$48,IF(B19="第3ｸﾞﾙｰﾌﾟ",企業入力シート!$C$77,""))))
A20: ⑥ | B20: =IF(OR(企業入力シート!$C$14="",企業入力シート!$C$48="",企業入力シート!$C$77=""),"",IF(B21="第1ｸﾞﾙｰﾌﾟ",企業入力シート!$C$14,IF(B21="第2ｸﾞﾙｰﾌﾟ",企業入力シート!$C$48,IF(B21="第3ｸﾞﾙｰﾌﾟ",企業入力シート!$C$77,""))))
A22: ⑦ | B22: =IF(OR(企業入力シート!$C$14="",企業入力シート!$C$48="",企業入力シート!$C$77=""),"",IF(B23="第1ｸﾞﾙｰﾌﾟ",企業入力シート!$C$14,IF(B23="第2ｸﾞﾙｰﾌﾟ",企業入力シート!$C$48,IF(B23="第3ｸﾞﾙｰﾌﾟ",企業入力シート!$C$77,""))))
A24: ⑧ | B24: =IF(OR(企業入力シート!$C$14="",企業入力シート!$C$48="",企業入力シート!$C$77=""),"",IF(B25="第1ｸﾞﾙｰﾌﾟ",企業入力シート!$C$14,IF(B25="第2ｸﾞﾙｰﾌﾟ",企業入力シート!$C$48,IF(B25="第3ｸﾞﾙｰﾌﾟ",企業入力シート!$C$77,""))))
A26: ⑨ | B26: =IF(OR(企業入力シート!$C$14="",企業入力シート!$C$48="",企業入力シート!$C$77=""),"",IF(B27="第1ｸﾞﾙｰﾌﾟ",企業入力シート!$C$14,IF(B27="第2ｸﾞﾙｰﾌﾟ",企業入力シート!$C$48,IF(B27="第3ｸﾞﾙｰﾌﾟ",企業入力シート!$C$77,""))))
A28: ⑩ | B28: =IF(OR(企業入力シート!$C$14="",企業入力シート!$C$48="",企業入力シート!$C$77=""),"",IF(B29="第1ｸﾞﾙｰﾌﾟ",企業入力シート!$C$14,IF(B29="第2ｸﾞﾙｰﾌﾟ",企業入力シート!$C$48,IF(B29="第3ｸﾞﾙｰﾌﾟ",企業入力シート!$C$77,""))))
A30: (1) | B30: 特別共同企業体構成員の受賞の合計が４回以上ある場合は、代表的なもの３回分の提出でよい。
A31: (2) | B31: 工事の対象は、中国地方整備局及び島根県発注の工事とする。
A32: (3) | B32: 表彰の対象は、国土交通省が行ったものについては中国地方整備局長表彰及び事務所長表彰、島根県が行ったものについては知事表彰とする。
A34: (4) | B34: 工事名は、「契約工事名」で記入すること。
A35: (5) | B35: 島根県発注の工事は、表彰状の添付は不要である。 | R35: ←表彰状の添付を求める場合は、左記を修正願います。
A36: (6) | B36: 上記事項の外、入札説明書本文にある要件を必ず確認すること。

Sheet 【建築】継続能力開発（CPD）制度
A1: =CONCATENATE("（様式-",INDEX(発注者入力シート!$B$28:$G$32,MATCH(発注者入力シート!L11,発注者入力シート!$C$28:$C$32,0),4),"）") -> #N/A | S1: 着色セルの凡例
A2: =CONCATENATE("評価項目",INDEX(発注者入力シート!$B$28:$G$32,MATCH(発注者入力シート!L11,発注者入力シート!$C$28:$C$32,0),5),"-",INDEX(発注者入力シート!$B$28:$G$32,MATCH(発注者入力シート!L11,発注者入力シート!$C$28:$C$32,0),6)) -> #N/A | S2: （企業）
T3: ：「企業入力シート」、一覧表（別紙）で入力（数式リンク有）
A4: 企業の継続能力開発（CPD)制度の参加登録 | T4: ：セルに直接入力が必要な箇所
D6: 企業体名： | F6: =IF(企業入力シート!C5="","",企業入力シート!C5) | S6: （発注者）
T7: ：「発注者入力シート」で入力（数式リンク有）
T8: ：セルに直接入力が必要な箇所
A9: 継続能力開発（CPD)制度の参加登録者
B10: 登録者氏名 | F10: 参加登録年月日 | J10: 交付番号 | N10: 所属会社名 | S10: 【印刷について】
S11: このシートは「ページ設定」で「白黒印刷」と「印刷範囲」が設定されています。
A13: 1 | S13: ※建築士会継続能力開発（CPD)証明願は、PDFファイルのみの提出でよい。
A14: 2
A15: 3
A16: 4
A17: 5
A18: 6
A20: (1) | B20: 共同企業体構成員の会社に所属する「（公社）日本建築士会連合会の継続能力開発（CPD）制度」に参加登録している者を記載すること。 （旧CPDでも可とする。）
A22: (2) | B22: 各登録者について、別添「建築士会継続能力開発（CPD)証明願」による（一社）島根県建築士会の証明を添付すること。
A24: (3) | B24: 各登録者の雇用関係が証明できる書類を添付すること。
A25: (4) | B25: ６名以上登録している場合は、代表者６名について記入すること。
A26: (5) | B26: =CONCATENATE("入札公告日前日時点（令和",(YEAR(発注者入力シート!H7)-2018),"年",MONTH(発注者入力シート!H7),"月",DAY(発注者入力シート!H7),"日時点）での状況について記載すること。") -> 入札公告日前日時点（令和8年10月14日時点）での状況について記載すること。
M47: 令和 年 月 日 | S47: 着色セルの凡例
S48: （企業）
T49: ：「企業入力シート」、一覧表（別紙）で入力（数式リンク有）
T50: ：セルに直接入力が必要な箇所
H51: 申請者 | J51: 住所
S52: （発注者）
J53: 氏名 | P53: ㊞ | T53: ：「発注者入力シート」で入力（数式リンク有）
T54: ：セルに直接入力が必要な箇所
S56: 【印刷について】
A57: 建築士会継続能力開発（CPD)証明願 | S57: このシートは「ページ設定」で「白黒印刷」と「印刷範囲」が設定されています。
A59: このことについて、次のとおり参加登録していることを証明願います。
S60: ※建築士会継続能力開発（CPD)証明願は、PDFファイルのみの提出でよい。
A62: １． | B62: 氏名
A63: ２． | B63: CPD登録番号
A64: ３． | B64: 参加登録年月日 | F64: 令和 年 月 日
A72: （以下、建築士会記入欄）
B75: 上記のとおり建築士会継続能力開発（CPD)制度に参加登録されていることを証明します。
B78: 令和 年 月 日
J82: 一般社団法人島根県建築士会
K84: 会長

Sheet 【建築】技術者成績評定点 (JV第1G用) 
A1: =CONCATENATE("（様式-",INDEX(発注者入力シート!$B$33:$G$36,MATCH(発注者入力シート!M10,発注者入力シート!$C$33:$C$36,0),4),"-１）") -> （様式-５-１） | Q1: 特別共同企業体の代表者（第１グループ）用 | S1: 着色セルの凡例
A2: =CONCATENATE("評価項目",INDEX(発注者入力シート!$B$33:$G$36,MATCH(発注者入力シート!M10,発注者入力シート!$C$33:$C$36,0),5),"-",INDEX(発注者入力シート!$B$33:$G$36,MATCH(発注者入力シート!M10,発注者入力シート!$C$33:$C$36,0),6)) -> 評価項目（２）-① | L2: =IF(企業入力シート!C14="","",企業入力シート!C14) -> ○○建設 | S2: （企業）
A3: 配置予定技術者の工事成績評定点 | T3: ：「企業入力シート」、一覧表で入力（数式リンク有）
D4: 企業体名： | F4: =IF(企業入力シート!C5="","",企業入力シート!C5) | T4: ：セルに直接入力もしくはリストから選択が必要な箇所
T5: ：自動計算
A6: 配置予定技術者が主任（監理）技術者として従事した工事実績
A7: 対象工事 | C7: 完成年度 | F7: 令和３年度から令和７年度（完成及び引き渡しが完了） | S7: （発注者）
C8: 発注機関 | F8: 島根県（総務部(企業局及び病院局契約を含み、企業局及び病院局発注工事は除く。)、農林水産部、土木部） | T8: ：「発注者入力シート」で入力（数式リンク有）
C9: 工事種別 | F9: =INDEX(発注者入力シート!$AX$3:$BC$9,MATCH(発注者入力シート!$AY$2,発注者入力シート!$AZ$3:$AZ$9,0),4) -> 建築物に係る電気工事 | T9: ：セルに直接入力が必要な箇所
C10: 建設工事の種類 | F10: =INDEX(発注者入力シート!$AX$3:$BC$9,MATCH(発注者入力シート!$AY$2,発注者入力シート!$AZ$3:$AZ$9,0),5) -> 電気工事、消防施設工事 | S10: 【印刷について】
S11: このシートは「ページ設定」で「白黒印刷」と「印刷範囲」が設定されています。
A12: 配置予定技術者①の監理技術者（第１グループ）の実績 | S12: 様式内の吹出しコメントは印刷されません。
A13: 配置技術者氏名 | F13: ① | G13: =IF(企業入力シート!C25="","",企業入力シート!C25)
A14: 各工事成績評定点 | F14: =IF('【建築】技術者評定点一覧表 (JV第1G用)'!O10="","",'【建築】技術者評定点一覧表 (JV第1G用)'!O10) | G14: =IF('【建築】技術者評定点一覧表 (JV第1G用)'!O11="","",'【建築】技術者評定点一覧表 (JV第1G用)'!O11) | H14: =IF('【建築】技術者評定点一覧表 (JV第1G用)'!O12="","",'【建築】技術者評定点一覧表 (JV第1G用)'!O12) | I14: =IF('【建築】技術者評定点一覧表 (JV第1G用)'!O13="","",'【建築】技術者評定点一覧表 (JV第1G用)'!O13) | J14: =IF('【建築】技術者評定点一覧表 (JV第1G用)'!O14="","",'【建築】技術者評定点一覧表 (JV第1G用)'!O14) | K14: =IF('【建築】技術者評定点一覧表 (JV第1G用)'!O15="","",'【建築】技術者評定点一覧表 (JV第1G用)'!O15) | L14: =IF('【建築】技術者評定点一覧表 (JV第1G用)'!O16="","",'【建築】技術者評定点一覧表 (JV第1G用)'!O16) | M14: =IF('【建築】技術者評定点一覧表 (JV第1G用)'!O17="","",'【建築】技術者評定点一覧表 (JV第1G用)'!O17) | N14: =IF('【建築】技術者評定点一覧表 (JV第1G用)'!O18="","",'【建築】技術者評定点一覧表 (JV第1G用)'!O18) | O14: =IF('【建築】技術者評定点一覧表 (JV第1G用)'!O19="","",'【建築】技術者評定点一覧表 (JV第1G用)'!O19) | P14: =IF('【建築】技術者評定点一覧表 (JV第1G用)'!O20="","",'【建築】技術者評定点一覧表 (JV第1G用)'!O20) | Q14: =IF('【建築】技術者評定点一覧表 (JV第1G用)'!O21="","",'【建築】技術者評定点一覧表 (JV第1G用)'!O21)
A15: 工事成績評定点の平均 | F15: =IF((COUNTA(F14:Q14)-COUNTBLANK(F14:Q14))=0,"",COUNTA(F14:Q14)-COUNTBLANK(F14:Q14)) | H15: 件 | J15: =IF(OR(F15=0,F15=""),"",ROUND(AVERAGE(F14:Q14),1)) | N15: 点
A16: （小数第２位を四捨五入）
A19: 配置予定技術者②の監理技術者（第１グループ）の実績
A20: 配置技術者氏名 | F20: ② | G20: =IF(企業入力シート!C26="","",企業入力シート!C26)
A21: 各工事成績評定点 | F21: =IF('【建築】技術者評定点一覧表 (JV第1G用)'!O27="","",'【建築】技術者評定点一覧表 (JV第1G用)'!O27) | G21: =IF('【建築】技術者評定点一覧表 (JV第1G用)'!O28="","",'【建築】技術者評定点一覧表 (JV第1G用)'!O28) | H21: =IF('【建築】技術者評定点一覧表 (JV第1G用)'!O29="","",'【建築】技術者評定点一覧表 (JV第1G用)'!O29) | I21: =IF('【建築】技術者評定点一覧表 (JV第1G用)'!O30="","",'【建築】技術者評定点一覧表 (JV第1G用)'!O30) | J21: =IF('【建築】技術者評定点一覧表 (JV第1G用)'!O31="","",'【建築】技術者評定点一覧表 (JV第1G用)'!O31) | K21: =IF('【建築】技術者評定点一覧表 (JV第1G用)'!O32="","",'【建築】技術者評定点一覧表 (JV第1G用)'!O32) | L21: =IF('【建築】技術者評定点一覧表 (JV第1G用)'!O33="","",'【建築】技術者評定点一覧表 (JV第1G用)'!O33) | M21: =IF('【建築】技術者評定点一覧表 (JV第1G用)'!O34="","",'【建築】技術者評定点一覧表 (JV第1G用)'!O34) | N21: =IF('【建築】技術者評定点一覧表 (JV第1G用)'!O35="","",'【建築】技術者評定点一覧表 (JV第1G用)'!O35) | O21: =IF('【建築】技術者評定点一覧表 (JV第1G用)'!O36="","",'【建築】技術者評定点一覧表 (JV第1G用)'!O36) | P21: =IF('【建築】技術者評定点一覧表 (JV第1G用)'!O37="","",'【建築】技術者評定点一覧表 (JV第1G用)'!O37) | Q21: =IF('【建築】技術者評定点一覧表 (JV第1G用)'!O38="","",'【建築】技術者評定点一覧表 (JV第1G用)'!O38)
A22: 工事成績評定点の平均 | F22: =IF((COUNTA(F21:Q21)-COUNTBLANK(F21:Q21))=0,"",COUNTA(F21:Q21)-COUNTBLANK(F21:Q21)) | H22: 件 | J22: =IF(OR(F22=0,F22=""),"",ROUND(AVERAGE(F21:Q21),1)) | N22: 点
A23: （小数第２位を四捨五入）
A26: 配置予定技術者③の監理技術者（第１グループ）の実績
A27: 配置技術者氏名 | F27: ③ | G27: =IF(企業入力シート!C27="","",企業入力シート!C27)
A28: 各工事成績評定点 | F28: =IF('【建築】技術者評定点一覧表 (JV第1G用)'!O44="","",'【建築】技術者評定点一覧表 (JV第1G用)'!O44) | G28: =IF('【建築】技術者評定点一覧表 (JV第1G用)'!O45="","",'【建築】技術者評定点一覧表 (JV第1G用)'!O45) | H28: =IF('【建築】技術者評定点一覧表 (JV第1G用)'!O46="","",'【建築】技術者評定点一覧表 (JV第1G用)'!O46) | I28: =IF('【建築】技術者評定点一覧表 (JV第1G用)'!O47="","",'【建築】技術者評定点一覧表 (JV第1G用)'!O47) | J28: =IF('【建築】技術者評定点一覧表 (JV第1G用)'!O48="","",'【建築】技術者評定点一覧表 (JV第1G用)'!O48) | K28: =IF('【建築】技術者評定点一覧表 (JV第1G用)'!O49="","",'【建築】技術者評定点一覧表 (JV第1G用)'!O49) | L28: =IF('【建築】技術者評定点一覧表 (JV第1G用)'!O50="","",'【建築】技術者評定点一覧表 (JV第1G用)'!O50) | M28: =IF('【建築】技術者評定点一覧表 (JV第1G用)'!O51="","",'【建築】技術者評定点一覧表 (JV第1G用)'!O51) | N28: =IF('【建築】技術者評定点一覧表 (JV第1G用)'!O52="","",'【建築】技術者評定点一覧表 (JV第1G用)'!O52) | O28: =IF('【建築】技術者評定点一覧表 (JV第1G用)'!O53="","",'【建築】技術者評定点一覧表 (JV第1G用)'!O53) | P28: =IF('【建築】技術者評定点一覧表 (JV第1G用)'!O54="","",'【建築】技術者評定点一覧表 (JV第1G用)'!O54) | Q28: =IF('【建築】技術者評定点一覧表 (JV第1G用)'!O55="","",'【建築】技術者評定点一覧表 (JV第1G用)'!O55)
A29: 工事成績評定点の平均 | F29: =IF((COUNTA(F28:Q28)-COUNTBLANK(F28:Q28))=0,"",COUNTA(F28:Q28)-COUNTBLANK(F28:Q28)) | H29: 件 | J29: =IF(OR(F29=0,F29=""),"",ROUND(AVERAGE(F28:Q28),1)) | N29: 点
A30: （小数第２位を四捨五入）
A31: （1） | B31: 対象工事の工事成績評定点（技術者）一覧表（別紙）を添付すること。
A32: （2） | B32: コリンズの「工事カルテ受領書」もしくは「登録内容確認書」を添付すること。
A33: （3） | B33: 工事成績評定点（技術者）一覧表（別紙）の記入欄を追加した場合、「工事成績評定点の平均」欄の「件数」及び「平均点」は、自動計算されないため、直接記入すること。
A35: （4） | B35: 技術資料提出時に配置予定技術者が特定できない場合は、複数の候補者を記入できる。その場合、審査は候補者のうち配置予定技術者の評価点合計が最も低い者で評価する。
A37: （5） | B37: 契約工期と技術者の従事期間が異なる工事の場合は、現場着手日及び実地完成日が確認できる資料（最終の実施工程表等）（発注者が押印した資料の写しに限る。）を添付すること。
A39: （６） | B39: 上記事項の外、入札説明書本文にある要件を必ず確認すること。

Sheet 【建築】技術者評定点一覧表 (JV第1G用)
A1: =CONCATENATE("（様式-",INDEX(発注者入力シート!$B$33:$G$36,MATCH(発注者入力シート!M10,発注者入力シート!$C$33:$C$36,0),4),"-２）") -> （様式-５-２） | Q1: 特別共同企業体の代表者（第１グループ）用 | S1: 着色セルの凡例
A2: =CONCATENATE("評価項目",INDEX(発注者入力シート!$B$33:$G$36,MATCH(発注者入力シート!M10,発注者入力シート!$C$33:$C$36,0),5),"-",INDEX(発注者入力シート!$B$33:$G$36,MATCH(発注者入力シート!M10,発注者入力シート!$C$33:$C$36,0),6)) -> 評価項目（２）-① | L2: =IF(企業入力シート!C14="","",企業入力シート!C14) -> ○○建設 | S2: （企業）
A3: 工事成績評定点（技術者）一覧表(別紙) | T3: ：「企業入力シート」、一覧表で入力（数式リンク有）
D4: 企業体名： | F4: =IF(企業入力シート!C5="","",企業入力シート!C5) | T4: ：セルに直接入力もしくはリストから選択が必要な箇所
T5: ：自動計算
A6: 工事種別 | D6: =IF('【建築】技術者成績評定点 (JV第1G用) '!F9="","",'【建築】技術者成績評定点 (JV第1G用) '!F9) -> 建築物に係る電気工事 | I6: 建設工事の種類 | L6: =IF('【建築】技術者成績評定点 (JV第1G用) '!F10="","",'【建築】技術者成績評定点 (JV第1G用) '!F10) -> 電気工事、消防施設工事
S7: （発注者）
A8: 配置技術者氏名 | F8: ① | G8: =IF(企業入力シート!C25="","",企業入力シート!C25) | T8: ：「発注者入力シート」で入力（数式リンク有）
A9: 完成年度 | D9: 工 事 名 | O9: 工事成績評定点 | T9: ：セルに直接入力が必要な箇所
Q10: 点 | T10: ：技術者成績評定点(JV第1G用)のシートとリンク
Q11: 点
Q12: 点 | S12: 【印刷について】
Q13: 点 | S13: このシートは「ページ設定」で「白黒印刷」と「印刷範囲」が設定されています。
Q14: 点 | S14: 様式内の吹出しコメントは印刷されません。
Q15: 点
Q16: 点
Q17: 点
Q18: 点
Q19: 点 | S19: （参考）
Q20: 点 | S20: 件数 | T20: =COUNTA(O10:O21) -> 0
Q21: 点 | S21: 平均点 | T21: =ROUND(AVERAGE(O10:O21),1) -> #DIV/0!
A22: (1) | B22: 記入欄が足りない場合は欄を追加して記入すること。
A25: 配置技術者氏名 | F25: ② | G25: =IF(企業入力シート!C26="","",企業入力シート!C26)
A26: 完成年度 | D26: 工 事 名 | O26: 工事成績評定点
Q27: 点
Q28: 点
Q29: 点
Q30: 点
Q31: 点
Q32: 点
Q33: 点
Q34: 点
Q35: 点
Q36: 点 | S36: （参考）
Q37: 点 | S37: 件数 | T37: =COUNTA(O27:O38) -> 0
Q38: 点 | S38: 平均点 | T38: =ROUND(AVERAGE(O27:O38),1) -> #DIV/0!
A39: (1) | B39: 記入欄が足りない場合は欄を追加して記入すること。
A42: 配置技術者氏名 | F42: ③ | G42: =IF(企業入力シート!C27="","",企業入力シート!C27)
A43: 完成年度 | D43: 工 事 名 | O43: 工事成績評定点
Q44: 点
Q45: 点
Q46: 点
Q47: 点
Q48: 点
Q49: 点
Q50: 点
Q51: 点
Q52: 点
Q53: 点 | S53: （参考）
Q54: 点 | S54: 件数 | T54: =COUNTA(O44:O55) -> 0
Q55: 点 | S55: 平均点 | T55: =ROUND(AVERAGE(O44:O55),1) -> #DIV/0!
A56: (1) | B56: 記入欄が足りない場合は欄を追加して記入すること。

Sheet 【建築】技術者成績評定点 (JV第2G用)
A1: =CONCATENATE("（様式-",INDEX(発注者入力シート!$B$33:$G$36,MATCH(発注者入力シート!M10,発注者入力シート!$C$33:$C$36,0),4),"-１）") -> （様式-５-１） | Q1: 特別共同企業体の代表者以外の構成員（第２グループ）用 | S1: 着色セルの凡例
A2: =CONCATENATE("評価項目",INDEX(発注者入力シート!$B$33:$G$36,MATCH(発注者入力シート!M10,発注者入力シート!$C$33:$C$36,0),5),"-",INDEX(発注者入力シート!$B$33:$G$36,MATCH(発注者入力シート!M10,発注者入力シート!$C$33:$C$36,0),6)) -> 評価項目（２）-① | L2: =IF(企業入力シート!C48="","",企業入力シート!C48) -> △△建設 | S2: （企業）
A3: 配置予定技術者の工事成績評定点 | T3: ：「企業入力シート」、一覧表で入力（数式リンク有）
D4: 企業体名： | F4: =IF(企業入力シート!C5="","",企業入力シート!C5) | T4: ：セルに直接入力もしくはリストから選択が必要な箇所
T5: ：自動計算
A6: 配置予定技術者が主任（監理）技術者として従事した工事実績
A7: 対象工事 | C7: 完成年度 | F7: =IF('【建築】技術者成績評定点 (JV第1G用) '!F7="","",'【建築】技術者成績評定点 (JV第1G用) '!F7) -> 令和３年度から令和７年度（完成及び引き渡しが完了） | S7: （発注者）
C8: 発注機関 | F8: =IF('【建築】技術者成績評定点 (JV第1G用) '!F8="","",'【建築】技術者成績評定点 (JV第1G用) '!F8) -> 島根県（総務部(企業局及び病院局契約を含み、企業局及び病院局発注工事は除く。)、農林水産部、土木部） | T8: ：「発注者入力シート」で入力（数式リンク有）
C9: 工事種別 | F9: =IF('【建築】技術者成績評定点 (JV第1G用) '!F9="","",'【建築】技術者成績評定点 (JV第1G用) '!F9) -> 建築物に係る電気工事 | T9: ：セルに直接入力が必要な箇所
C10: 建設工事の種類 | F10: =IF('【建築】技術者成績評定点 (JV第1G用) '!F10="","",'【建築】技術者成績評定点 (JV第1G用) '!F10) -> 電気工事、消防施設工事 | T10: ：技術者成績評定点(JV第1G用)のシートとリンク
S11: 【印刷について】
A12: 配置予定技術者①の主任技術者（第２グループ）の実績 | S12: このシートは「ページ設定」で「白黒印刷」と「印刷範囲」が設定されています。
A13: 配置技術者氏名 | F13: ① | G13: =IF(企業入力シート!C54="","",企業入力シート!C54) | S13: 様式内の吹出しコメントは印刷されません。
A14: 各工事成績評定点 | F14: =IF('【建築】技術者評定一覧表(JV第2G用) '!O10="","",'【建築】技術者評定一覧表(JV第2G用) '!O10) | G14: =IF('【建築】技術者評定一覧表(JV第2G用) '!O11="","",'【建築】技術者評定一覧表(JV第2G用) '!O11) | H14: =IF('【建築】技術者評定一覧表(JV第2G用) '!O12="","",'【建築】技術者評定一覧表(JV第2G用) '!O12) | I14: =IF('【建築】技術者評定一覧表(JV第2G用) '!O13="","",'【建築】技術者評定一覧表(JV第2G用) '!O13) | J14: =IF('【建築】技術者評定一覧表(JV第2G用) '!O14="","",'【建築】技術者評定一覧表(JV第2G用) '!O14) | K14: =IF('【建築】技術者評定一覧表(JV第2G用) '!O15="","",'【建築】技術者評定一覧表(JV第2G用) '!O15) | L14: =IF('【建築】技術者評定一覧表(JV第2G用) '!O16="","",'【建築】技術者評定一覧表(JV第2G用) '!O16) | M14: =IF('【建築】技術者評定一覧表(JV第2G用) '!O17="","",'【建築】技術者評定一覧表(JV第2G用) '!O17) | N14: =IF('【建築】技術者評定一覧表(JV第2G用) '!O18="","",'【建築】技術者評定一覧表(JV第2G用) '!O18) | O14: =IF('【建築】技術者評定一覧表(JV第2G用) '!O19="","",'【建築】技術者評定一覧表(JV第2G用) '!O19) | P14: =IF('【建築】技術者評定一覧表(JV第2G用) '!O20="","",'【建築】技術者評定一覧表(JV第2G用) '!O20) | Q14: =IF('【建築】技術者評定一覧表(JV第2G用) '!O21="","",'【建築】技術者評定一覧表(JV第2G用) '!O21)
A15: 工事成績評定点の平均 | F15: =IF((COUNTA(F14:Q14)-COUNTBLANK(F14:Q14))=0,"",COUNTA(F14:Q14)-COUNTBLANK(F14:Q14)) | H15: 件 | J15: =IF(OR(F15=0,F15=""),"",ROUND(AVERAGE(F14:Q14),1)) | N15: 点
A16: （小数第２位を四捨五入）
A19: 配置予定技術者②の主任技術者（第２グループ）の実績
A20: 配置技術者氏名 | F20: ② | G20: =IF(企業入力シート!C55="","",企業入力シート!C55)
A21: 各工事成績評定点 | F21: =IF('【建築】技術者評定一覧表(JV第2G用) '!O27="","",'【建築】技術者評定一覧表(JV第2G用) '!O27) | G21: =IF('【建築】技術者評定一覧表(JV第2G用) '!O28="","",'【建築】技術者評定一覧表(JV第2G用) '!O28) | H21: =IF('【建築】技術者評定一覧表(JV第2G用) '!O29="","",'【建築】技術者評定一覧表(JV第2G用) '!O29) | I21: =IF('【建築】技術者評定一覧表(JV第2G用) '!O30="","",'【建築】技術者評定一覧表(JV第2G用) '!O30) | J21: =IF('【建築】技術者評定一覧表(JV第2G用) '!O31="","",'【建築】技術者評定一覧表(JV第2G用) '!O31) | K21: =IF('【建築】技術者評定一覧表(JV第2G用) '!O32="","",'【建築】技術者評定一覧表(JV第2G用) '!O32) | L21: =IF('【建築】技術者評定一覧表(JV第2G用) '!O33="","",'【建築】技術者評定一覧表(JV第2G用) '!O33) | M21: =IF('【建築】技術者評定一覧表(JV第2G用) '!O34="","",'【建築】技術者評定一覧表(JV第2G用) '!O34) | N21: =IF('【建築】技術者評定一覧表(JV第2G用) '!O35="","",'【建築】技術者評定一覧表(JV第2G用) '!O35) | O21: =IF('【建築】技術者評定一覧表(JV第2G用) '!O36="","",'【建築】技術者評定一覧表(JV第2G用) '!O36) | P21: =IF('【建築】技術者評定一覧表(JV第2G用) '!O37="","",'【建築】技術者評定一覧表(JV第2G用) '!O37) | Q21: =IF('【建築】技術者評定一覧表(JV第2G用) '!O38="","",'【建築】技術者評定一覧表(JV第2G用) '!O38)
A22: 工事成績評定点の平均 | F22: =IF((COUNTA(F21:Q21)-COUNTBLANK(F21:Q21))=0,"",COUNTA(F21:Q21)-COUNTBLANK(F21:Q21)) | H22: 件 | J22: =IF(OR(F22=0,F22=""),"",ROUND(AVERAGE(F21:Q21),1)) | N22: 点
A23: （小数第２位を四捨五入）
A26: 配置予定技術者③の主任技術者（第２グループ）の実績
A27: 配置技術者氏名 | F27: ③ | G27: =IF(企業入力シート!C56="","",企業入力シート!C56)
A28: 各工事成績評定点 | F28: =IF('【建築】技術者評定一覧表(JV第2G用) '!O44="","",'【建築】技術者評定一覧表(JV第2G用) '!O44) | G28: =IF('【建築】技術者評定一覧表(JV第2G用) '!O45="","",'【建築】技術者評定一覧表(JV第2G用) '!O45) | H28: =IF('【建築】技術者評定一覧表(JV第2G用) '!O46="","",'【建築】技術者評定一覧表(JV第2G用) '!O46) | I28: =IF('【建築】技術者評定一覧表(JV第2G用) '!O47="","",'【建築】技術者評定一覧表(JV第2G用) '!O47) | J28: =IF('【建築】技術者評定一覧表(JV第2G用) '!O48="","",'【建築】技術者評定一覧表(JV第2G用) '!O48) | K28: =IF('【建築】技術者評定一覧表(JV第2G用) '!O49="","",'【建築】技術者評定一覧表(JV第2G用) '!O49) | L28: =IF('【建築】技術者評定一覧表(JV第2G用) '!O50="","",'【建築】技術者評定一覧表(JV第2G用) '!O50) | M28: =IF('【建築】技術者評定一覧表(JV第2G用) '!O51="","",'【建築】技術者評定一覧表(JV第2G用) '!O51) | N28: =IF('【建築】技術者評定一覧表(JV第2G用) '!O52="","",'【建築】技術者評定一覧表(JV第2G用) '!O52) | O28: =IF('【建築】技術者評定一覧表(JV第2G用) '!O53="","",'【建築】技術者評定一覧表(JV第2G用) '!O53) | P28: =IF('【建築】技術者評定一覧表(JV第2G用) '!O54="","",'【建築】技術者評定一覧表(JV第2G用) '!O54) | Q28: =IF('【建築】技術者評定一覧表(JV第2G用) '!O55="","",'【建築】技術者評定一覧表(JV第2G用) '!O55)
A29: 工事成績評定点の平均 | F29: =IF((COUNTA(F28:Q28)-COUNTBLANK(F28:Q28))=0,"",COUNTA(F28:Q28)-COUNTBLANK(F28:Q28)) | H29: 件 | J29: =IF(OR(F29=0,F29=""),"",ROUND(AVERAGE(F28:Q28),1)) | N29: 点
A30: （小数第２位を四捨五入）
A31: （1） | B31: 対象工事の工事成績評定点（技術者）一覧表（別紙）を添付すること。
A32: （2） | B32: コリンズの「工事カルテ受領書」もしくは「登録内容確認書」を添付すること。
A33: （3） | B33: 工事成績評定点（技術者）一覧表（別紙）の記入欄を追加した場合、「工事成績評定点の平均」欄の「件数」及び「平均点」は、自動計算されないため、直接記入すること。
A35: （4） | B35: 技術資料提出時に配置予定技術者が特定できない場合は、複数の候補者を記入できる。その場合、審査は候補者のうち配置予定技術者の評価点合計が最も低い者で評価する。
A37: （5） | B37: 契約工期と技術者の従事期間が異なる工事の場合は、現場着手日及び実地完成日が確認できる資料（最終の実施工程表等）（発注者が押印した資料の写しに限る。）を添付すること。
A39: （６） | B39: 上記事項の外、入札説明書本文にある要件を必ず確認すること。

Sheet 【建築】技術者評定一覧表(JV第2G用) 
A1: =CONCATENATE("（様式-",INDEX(発注者入力シート!$B$33:$G$36,MATCH(発注者入力シート!M10,発注者入力シート!$C$33:$C$36,0),4),"-２）") -> （様式-５-２） | Q1: 特別共同企業体の代表者以外の構成員（第２グループ）用 | S1: 着色セルの凡例
A2: =CONCATENATE("評価項目",INDEX(発注者入力シート!$B$33:$G$36,MATCH(発注者入力シート!M10,発注者入力シート!$C$33:$C$36,0),5),"-",INDEX(発注者入力シート!$B$33:$G$36,MATCH(発注者入力シート!M10,発注者入力シート!$C$33:$C$36,0),6)) -> 評価項目（２）-① | L2: =IF(企業入力シート!C48="","",企業入力シート!C48) -> △△建設 | S2: （企業）
A3: 工事成績評定点（技術者）一覧表(別紙) | T3: ：「企業入力シート」、一覧表で入力（数式リンク有）
D4: 企業体名： | F4: =IF(企業入力シート!C5="","",企業入力シート!C5) | T4: ：セルに直接入力もしくはリストから選択が必要な箇所
T5: ：自動計算
A6: 工事種別 | D6: =IF('【建築】技術者成績評定点 (JV第1G用) '!F9="","",'【建築】技術者成績評定点 (JV第1G用) '!F9) -> 建築物に係る電気工事 | I6: 建設工事の種類 | L6: =IF('【建築】技術者成績評定点 (JV第1G用) '!F10="","",'【建築】技術者成績評定点 (JV第1G用) '!F10) -> 電気工事、消防施設工事
S7: （発注者）
A8: 配置技術者氏名 | F8: ① | G8: =IF(企業入力シート!C54="","",企業入力シート!C54) | T8: ：「発注者入力シート」で入力（数式リンク有）
A9: 完成年度 | D9: 工 事 名 | O9: 工事成績評定点 | T9: ：セルに直接入力が必要な箇所
Q10: 点 | T10: ：技術者成績評定点(JV第1G用)のシートとリンク
Q11: 点
Q12: 点 | S12: 【印刷について】
Q13: 点 | S13: このシートは「ページ設定」で「白黒印刷」と「印刷範囲」が設定されています。
Q14: 点 | S14: 様式内の吹出しコメントは印刷されません。
Q15: 点
Q16: 点
Q17: 点
Q18: 点
Q19: 点 | S19: （参考）
Q20: 点 | S20: 件数 | T20: =COUNTA(O10:O21) -> 0
Q21: 点 | S21: 平均点 | T21: =ROUND(AVERAGE(O10:O21),1) -> #DIV/0!
A22: (1) | B22: 記入欄が足りない場合は欄を追加して記入すること。
A25: 配置技術者氏名 | F25: ② | G25: =IF(企業入力シート!C55="","",企業入力シート!C55)
A26: 完成年度 | D26: 工 事 名 | O26: 工事成績評定点
Q27: 点
Q28: 点
Q29: 点
Q30: 点
Q31: 点
Q32: 点
Q33: 点
Q34: 点
Q35: 点
Q36: 点 | S36: （参考）
Q37: 点 | S37: 件数 | T37: =COUNTA(O27:O38) -> 0
Q38: 点 | S38: 平均点 | T38: =ROUND(AVERAGE(O27:O38),1) -> #DIV/0!
A39: (1) | B39: 記入欄が足りない場合は欄を追加して記入すること。
A42: 配置技術者氏名 | F42: ③ | G42: =IF(企業入力シート!C56="","",企業入力シート!C56)
A43: 完成年度 | D43: 工 事 名 | O43: 工事成績評定点
Q44: 点
Q45: 点
Q46: 点
Q47: 点
Q48: 点
Q49: 点
Q50: 点
Q51: 点
Q52: 点
Q53: 点 | S53: （参考）
Q54: 点 | S54: 件数 | T54: =COUNTA(O44:O55) -> 0
Q55: 点 | S55: 平均点 | T55: =ROUND(AVERAGE(O44:O55),1) -> #DIV/0!
A56: (1) | B56: 記入欄が足りない場合は欄を追加して記入すること。

Sheet 【建築】技術者成績評定点 (JV第3G用) 
A1: =CONCATENATE("（様式-",INDEX(発注者入力シート!$B$33:$G$36,MATCH(発注者入力シート!M10,発注者入力シート!$C$33:$C$36,0),4),"-１）") -> （様式-５-１） | Q1: 特別共同企業体の代表者以外の構成員（第３グループ）用 | S1: 着色セルの凡例
A2: =CONCATENATE("評価項目",INDEX(発注者入力シート!$B$33:$G$36,MATCH(発注者入力シート!M10,発注者入力シート!$C$33:$C$36,0),5),"-",INDEX(発注者入力シート!$B$33:$G$36,MATCH(発注者入力シート!M10,発注者入力シート!$C$33:$C$36,0),6)) -> 評価項目（２）-① | L2: =IF(企業入力シート!C77="","",企業入力シート!C77) -> □□建設 | S2: （企業）
A3: 配置予定技術者の工事成績評定点 | T3: ：「企業入力シート」、一覧表で入力（数式リンク有）
D4: 企業体名： | F4: =IF(企業入力シート!C5="","",企業入力シート!C5) | T4: ：セルに直接入力もしくはリストから選択が必要な箇所
T5: ：自動計算
A6: 配置予定技術者が主任（監理）技術者として従事した工事実績 | S6: （発注者）
A7: 対象工事 | C7: 完成年度 | F7: =IF('【建築】技術者成績評定点 (JV第1G用) '!F7="","",'【建築】技術者成績評定点 (JV第1G用) '!F7) -> 令和３年度から令和７年度（完成及び引き渡しが完了） | T7: ：「発注者入力シート」で入力（数式リンク有）
C8: 発注機関 | F8: =IF('【建築】技術者成績評定点 (JV第1G用) '!F8="","",'【建築】技術者成績評定点 (JV第1G用) '!F8) -> 島根県（総務部(企業局及び病院局契約を含み、企業局及び病院局発注工事は除く。)、農林水産部、土木部） | T8: ：セルに直接入力が必要な箇所
C9: 工事種別 | F9: =IF('【建築】技術者成績評定点 (JV第1G用) '!F9="","",'【建築】技術者成績評定点 (JV第1G用) '!F9) -> 建築物に係る電気工事 | T9: ：技術者成績評定点(JV第1G用)のシートとリンク
C10: 建設工事の種類 | F10: =IF('【建築】技術者成績評定点 (JV第1G用) '!F10="","",'【建築】技術者成績評定点 (JV第1G用) '!F10) -> 電気工事、消防施設工事
S11: 【印刷について】
A12: 配置予定技術者①の主任技術者（第３グループ）の実績 | S12: このシートは「ページ設定」で「白黒印刷」と「印刷範囲」が設定されています。
A13: 配置技術者氏名 | F13: ① | G13: =IF(企業入力シート!C83="","",企業入力シート!C83) | S13: 様式内の吹出しコメントは印刷されません。
A14: 各工事成績評定点 | F14: =IF('【建築】技術者評定一覧表(JV第3G用) '!O10="","",'【建築】技術者評定一覧表(JV第3G用) '!O10) | G14: =IF('【建築】技術者評定一覧表(JV第3G用) '!O11="","",'【建築】技術者評定一覧表(JV第3G用) '!O11) | H14: =IF('【建築】技術者評定一覧表(JV第3G用) '!O12="","",'【建築】技術者評定一覧表(JV第3G用) '!O12) | I14: =IF('【建築】技術者評定一覧表(JV第3G用) '!O13="","",'【建築】技術者評定一覧表(JV第3G用) '!O13) | J14: =IF('【建築】技術者評定一覧表(JV第3G用) '!O14="","",'【建築】技術者評定一覧表(JV第3G用) '!O14) | K14: =IF('【建築】技術者評定一覧表(JV第3G用) '!O15="","",'【建築】技術者評定一覧表(JV第3G用) '!O15) | L14: =IF('【建築】技術者評定一覧表(JV第3G用) '!O16="","",'【建築】技術者評定一覧表(JV第3G用) '!O16) | M14: =IF('【建築】技術者評定一覧表(JV第3G用) '!O17="","",'【建築】技術者評定一覧表(JV第3G用) '!O17) | N14: =IF('【建築】技術者評定一覧表(JV第3G用) '!O18="","",'【建築】技術者評定一覧表(JV第3G用) '!O18) | O14: =IF('【建築】技術者評定一覧表(JV第3G用) '!O19="","",'【建築】技術者評定一覧表(JV第3G用) '!O19) | P14: =IF('【建築】技術者評定一覧表(JV第3G用) '!O20="","",'【建築】技術者評定一覧表(JV第3G用) '!O20) | Q14: =IF('【建築】技術者評定一覧表(JV第3G用) '!O21="","",'【建築】技術者評定一覧表(JV第3G用) '!O21)
A15: 工事成績評定点の平均 | F15: =IF((COUNTA(F14:Q14)-COUNTBLANK(F14:Q14))=0,"",COUNTA(F14:Q14)-COUNTBLANK(F14:Q14)) | H15: 件 | J15: =IF(OR(F15=0,F15=""),"",ROUND(AVERAGE(F14:Q14),1)) | N15: 点
A16: （小数第２位を四捨五入）
A19: 配置予定技術者②の主任技術者（第３グループ）の実績
A20: 配置技術者氏名 | F20: ② | G20: =IF(企業入力シート!C84="","",企業入力シート!C84)
A21: 各工事成績評定点 | F21: =IF('【建築】技術者評定一覧表(JV第3G用) '!O27="","",'【建築】技術者評定一覧表(JV第3G用) '!O27) | G21: =IF('【建築】技術者評定一覧表(JV第3G用) '!O28="","",'【建築】技術者評定一覧表(JV第3G用) '!O28) | H21: =IF('【建築】技術者評定一覧表(JV第3G用) '!O29="","",'【建築】技術者評定一覧表(JV第3G用) '!O29) | I21: =IF('【建築】技術者評定一覧表(JV第3G用) '!O30="","",'【建築】技術者評定一覧表(JV第3G用) '!O30) | J21: =IF('【建築】技術者評定一覧表(JV第3G用) '!O31="","",'【建築】技術者評定一覧表(JV第3G用) '!O31) | K21: =IF('【建築】技術者評定一覧表(JV第3G用) '!O32="","",'【建築】技術者評定一覧表(JV第3G用) '!O32) | L21: =IF('【建築】技術者評定一覧表(JV第3G用) '!O33="","",'【建築】技術者評定一覧表(JV第3G用) '!O33) | M21: =IF('【建築】技術者評定一覧表(JV第3G用) '!O34="","",'【建築】技術者評定一覧表(JV第3G用) '!O34) | N21: =IF('【建築】技術者評定一覧表(JV第3G用) '!O35="","",'【建築】技術者評定一覧表(JV第3G用) '!O35) | O21: =IF('【建築】技術者評定一覧表(JV第3G用) '!O36="","",'【建築】技術者評定一覧表(JV第3G用) '!O36) | P21: =IF('【建築】技術者評定一覧表(JV第3G用) '!O37="","",'【建築】技術者評定一覧表(JV第3G用) '!O37) | Q21: =IF('【建築】技術者評定一覧表(JV第3G用) '!O38="","",'【建築】技術者評定一覧表(JV第3G用) '!O38)
A22: 工事成績評定点の平均 | F22: =IF((COUNTA(F21:Q21)-COUNTBLANK(F21:Q21))=0,"",COUNTA(F21:Q21)-COUNTBLANK(F21:Q21)) | H22: 件 | J22: =IF(OR(F22=0,F22=""),"",ROUND(AVERAGE(F21:Q21),1)) | N22: 点
A23: （小数第２位を四捨五入）
A26: 配置予定技術者③の主任技術者（第３グループ）の実績
A27: 配置技術者氏名 | F27: ③ | G27: =IF(企業入力シート!C85="","",企業入力シート!C85)
A28: 各工事成績評定点 | F28: =IF('【建築】技術者評定一覧表(JV第3G用) '!O44="","",'【建築】技術者評定一覧表(JV第3G用) '!O44) | G28: =IF('【建築】技術者評定一覧表(JV第3G用) '!O45="","",'【建築】技術者評定一覧表(JV第3G用) '!O45) | H28: =IF('【建築】技術者評定一覧表(JV第3G用) '!O46="","",'【建築】技術者評定一覧表(JV第3G用) '!O46) | I28: =IF('【建築】技術者評定一覧表(JV第3G用) '!O47="","",'【建築】技術者評定一覧表(JV第3G用) '!O47) | J28: =IF('【建築】技術者評定一覧表(JV第3G用) '!O48="","",'【建築】技術者評定一覧表(JV第3G用) '!O48) | K28: =IF('【建築】技術者評定一覧表(JV第3G用) '!O49="","",'【建築】技術者評定一覧表(JV第3G用) '!O49) | L28: =IF('【建築】技術者評定一覧表(JV第3G用) '!O50="","",'【建築】技術者評定一覧表(JV第3G用) '!O50) | M28: =IF('【建築】技術者評定一覧表(JV第3G用) '!O51="","",'【建築】技術者評定一覧表(JV第3G用) '!O51) | N28: =IF('【建築】技術者評定一覧表(JV第3G用) '!O52="","",'【建築】技術者評定一覧表(JV第3G用) '!O52) | O28: =IF('【建築】技術者評定一覧表(JV第3G用) '!O53="","",'【建築】技術者評定一覧表(JV第3G用) '!O53) | P28: =IF('【建築】技術者評定一覧表(JV第3G用) '!O54="","",'【建築】技術者評定一覧表(JV第3G用) '!O54) | Q28: =IF('【建築】技術者評定一覧表(JV第3G用) '!O55="","",'【建築】技術者評定一覧表(JV第3G用) '!O55)
A29: 工事成績評定点の平均 | F29: =IF((COUNTA(F28:Q28)-COUNTBLANK(F28:Q28))=0,"",COUNTA(F28:Q28)-COUNTBLANK(F28:Q28)) | H29: 件 | J29: =IF(OR(F29=0,F29=""),"",ROUND(AVERAGE(F28:Q28),1)) | N29: 点
A30: （小数第２位を四捨五入）
A31: （1） | B31: 対象工事の工事成績評定点（技術者）一覧表（別紙）を添付すること。
A32: （2） | B32: コリンズの「工事カルテ受領書」もしくは「登録内容確認書」を添付すること。
A33: （3） | B33: 工事成績評定点（技術者）一覧表（別紙）の記入欄を追加した場合、「工事成績評定点の平均」欄の「件数」及び「平均点」は、自動計算されないため、直接記入すること。
A35: （4） | B35: 技術資料提出時に配置予定技術者が特定できない場合は、複数の候補者を記入できる。その場合、審査は候補者のうち配置予定技術者の評価点合計が最も低い者で評価する。
A37: （5） | B37: 契約工期と技術者の従事期間が異なる工事の場合は、現場着手日及び実地完成日が確認できる資料（最終の実施工程表等）（発注者が押印した資料の写しに限る。）を添付すること。
A39: （６） | B39: 上記事項の外、入札説明書本文にある要件を必ず確認すること。

Sheet 【建築】技術者評定一覧表(JV第3G用) 
A1: =CONCATENATE("（様式-",INDEX(発注者入力シート!$B$33:$G$36,MATCH(発注者入力シート!M10,発注者入力シート!$C$33:$C$36,0),4),"-２）") -> （様式-５-２） | Q1: 特別共同企業体の代表者以外の構成員（第３グループ）用 | S1: 着色セルの凡例
A2: =CONCATENATE("評価項目",INDEX(発注者入力シート!$B$33:$G$36,MATCH(発注者入力シート!M10,発注者入力シート!$C$33:$C$36,0),5),"-",INDEX(発注者入力シート!$B$33:$G$36,MATCH(発注者入力シート!M10,発注者入力シート!$C$33:$C$36,0),6)) -> 評価項目（２）-① | L2: =IF(企業入力シート!C77="","",企業入力シート!C77) -> □□建設 | S2: （企業）
A3: 工事成績評定点（技術者）一覧表(別紙) | T3: ：「企業入力シート」、一覧表で入力（数式リンク有）
D4: 企業体名： | F4: =IF(企業入力シート!C5="","",企業入力シート!C5) | T4: ：セルに直接入力もしくはリストから選択が必要な箇所
T5: ：自動計算
A6: 工事種別 | D6: =IF('【建築】技術者成績評定点 (JV第1G用) '!F9="","",'【建築】技術者成績評定点 (JV第1G用) '!F9) -> 建築物に係る電気工事 | I6: 建設工事の種類 | L6: =IF('【建築】技術者成績評定点 (JV第1G用) '!F10="","",'【建築】技術者成績評定点 (JV第1G用) '!F10) -> 電気工事、消防施設工事
S7: （発注者）
A8: 配置技術者氏名 | F8: ① | G8: =IF(企業入力シート!C83="","",企業入力シート!C83) | T8: ：「発注者入力シート」で入力（数式リンク有）
A9: 完成年度 | D9: 工 事 名 | O9: 工事成績評定点 | T9: ：セルに直接入力が必要な箇所
Q10: 点 | T10: ：技術者成績評定点(JV第1G用)のシートとリンク
Q11: 点
Q12: 点 | S12: 【印刷について】
Q13: 点 | S13: このシートは「ページ設定」で「白黒印刷」と「印刷範囲」が設定されています。
Q14: 点 | S14: 様式内の吹出しコメントは印刷されません。
Q15: 点
Q16: 点
Q17: 点
Q18: 点
Q19: 点 | S19: （参考）
Q20: 点 | S20: 件数 | T20: =COUNTA(O10:O21) -> 0
Q21: 点 | S21: 平均点 | T21: =ROUND(AVERAGE(O10:O21),1) -> #DIV/0!
A22: (1) | B22: 記入欄が足りない場合は欄を追加して記入すること。
A25: 配置技術者氏名 | F25: ② | G25: =IF(企業入力シート!C84="","",企業入力シート!C84)
A26: 完成年度 | D26: 工 事 名 | O26: 工事成績評定点
Q27: 点
Q28: 点
Q29: 点
Q30: 点
Q31: 点
Q32: 点
Q33: 点
Q34: 点
Q35: 点
Q36: 点 | S36: （参考）
Q37: 点 | S37: 件数 | T37: =COUNTA(O27:O38) -> 0
Q38: 点 | S38: 平均点 | T38: =ROUND(AVERAGE(O27:O38),1) -> #DIV/0!
A39: (1) | B39: 記入欄が足りない場合は欄を追加して記入すること。
A42: 配置技術者氏名 | F42: ③ | G42: =IF(企業入力シート!C85="","",企業入力シート!C85)
A43: 完成年度 | D43: 工 事 名 | O43: 工事成績評定点
Q44: 点
Q45: 点
Q46: 点
Q47: 点
Q48: 点
Q49: 点
Q50: 点
Q51: 点
Q52: 点
Q53: 点 | S53: （参考）
Q54: 点 | S54: 件数 | T54: =COUNTA(O44:O55) -> 0
Q55: 点 | S55: 平均点 | T55: =ROUND(AVERAGE(O44:O55),1) -> #DIV/0!
A56: (1) | B56: 記入欄が足りない場合は欄を追加して記入すること。

Sheet 同種工事施工経験
A1: =CONCATENATE("（様式-",INDEX(発注者入力シート!$B$33:$G$36,MATCH(発注者入力シート!M7,発注者入力シート!$C$33:$C$36,0),4),"）") -> （様式-６） | S1: 配置予定技術者①用 | U1: 着色セルの凡例
A2: =CONCATENATE("評価項目",INDEX(発注者入力シート!$B$33:$G$36,MATCH(発注者入力シート!M7,発注者入力シート!$C$33:$C$36,0),5),"-",INDEX(発注者入力シート!$B$33:$G$36,MATCH(発注者入力シート!M7,発注者入力シート!$C$33:$C$36,0),6)) -> 評価項目（２）-② | Q2: =IF(INDEX(発注者入力シート!$B$24:$G$48,MATCH(発注者入力シート!M7,発注者入力シート!$C$24:$C$48,0),3)="","",INDEX(発注者入力シート!$B$24:$G$48,MATCH(発注者入力シート!M7,発注者入力シート!$C$24:$C$48,0),3)) | U2: （企業）
A3: 配置予定技術者の同種工事の施工経験 | V3: ：「企業入力シート」、一覧表（別紙）で入力（数式リンク有）
D4: 企業体名： | F4: =IF(企業入力シート!C5="","",企業入力シート!C5) | V4: ：セルに直接入力もしくはリストから選択が必要な箇所
A6: 対象工事 | B6: 対象期間・対象機関 | F6: 平成２８年度から入札公告日前日までに完成及び引き渡しが完了した島根県、島根県内の市町村又は国の機関（独立行政法人等を含みコリンズ登録があるものに限る。）発注工事 | U6: （発注者）
V7: ：「発注者入力シート」で入力（数式リンク有）
B8: 同種工事の定義 | F8: １契約で税込み最終金額が２億６，０００万円以上の住宅以外の建築物に係る電気工事 | V8: ：セルに直接入力が必要な箇所
V9: ：配置予定技術者①のシートとリンク
B11: 工事種別 | F11: =INDEX(発注者入力シート!$AX$3:$BC$31,MATCH(発注者入力シート!$AY$2,発注者入力シート!$AZ$3:$AZ$31,0),4) -> 建築物に係る電気工事
B12: 建設工事の種類 | F12: =INDEX(発注者入力シート!$AX$3:$BC$31,MATCH(発注者入力シート!$AY$2,発注者入力シート!$AZ$3:$AZ$31,0),5) -> 電気工事、消防施設工事
A13: 配置予定技術者 氏名 | F13: ① | G13: =IF(企業入力シート!C25="","",企業入力シート!C25)
A14: 工事内容 | F14: 施工経験① | M14: 施工経験② | U14: 【印刷について】
A15: 工事名称等 | B15: 工 事 名 | U15: このシートは「ページ設定」で「白黒印刷」と「印刷範囲」が設定されています。
U16: 様式内の吹出しコメントは印刷されません。
B19: （コリンズ登録番号）
B20: 発注機関名 | T20: ← | U20: ○○県土整備事務所など発注機関名を記入（略名可）
B21: 施工場所
U22: （チェック用）
B23: 請負金額（最終・税込） | L23: 円 | S23: 円 | U23: 西暦
B24: 契約上の工期 | E24: （始） | H24: 年 | J24: 月 | L24: 日 | O24: 年 | Q24: 月 | S24: 日 | U24: 46235 | V24: ←西暦を入力すると下の欄に和暦が表示 | Z24: 平成
E25: （終） | H25: 年 | J25: 月 | L25: 日 | O25: 年 | Q25: 月 | S25: 日 | U25: 和暦 | Z25: 令和
B26: 従事期間 | E26: （始） | H26: 年 | J26: 月 | L26: 日 | O26: 年 | Q26: 月 | S26: 日 | U26: =U24 -> 46235
E27: （終） | H27: 年 | J27: 月 | L27: 日 | O27: 年 | Q27: 月 | S27: 日
B28: 従事時の役職
B29: 受注形態
B30: 特別（特定）ＪＶの場合、出資比率
B31: 工事種別
B32: 建設工事の種類
A33: 工事成績評定点 （島根県が発注した工事） | L33: 点 | S33: 点
A34: 工事概要 | B34: 建物用途
A40: (1) | B40: 施工実績（上表記載内容）全てが確認できるよう下表を参考に資料①～⑨を組み合せて提出すること。
B41: ① | C41: コリンズの「工事カルテ」又は「登録内容確認書」の写し。(いずれも竣工登録に限る。)。 ただし、コリンズの工事カルテのみでは工事概要が確認できない場合は、最終図面、最終仕様書など工事概要が確認できる資料（資料⑥）を追加添付すること。
B45: ③ | C45: 項目別評定点表。（島根県発注工事に限る。）
B46: ⑤ | C46: 工事成績評定通知書の写し。（島根県発注工事に限る。）
B47: ⑥ | C47: 最終図面、最終仕様書など工事概要が確認できる資料。
B48: ⑦ | C48: 同種工事の施工実績として最終請負金額を求めた場合で、同種工事以外の工事を包含しているものは、求めている部分の最終請負金額が確認できる資料（最終の工事種別毎の工事費一覧又は工事内訳書等）。
B51: ⑧ | C51: 現場着手日及び実地完成日が確認できる資料（最終の実施工程表等）（発注者が押印した資料の写しに限る。）
B53: ⑨ | C53: 技術者の従事期間と従事時の役職が確認できる資料（コリンズの「登録内容確認書」の写し等）
B55: ⑩ | C55: 発注者の証明書の写し。（上記資料①～⑨で確認できない記載内容（コリンズ登録番号を除く。）を全て証明してあるもの。）
B57: ⑪ | C57: 施工経験として提出する工事の「工事種別」および「建設工事の種類」が確認できる資料
A58: 資料①～⑪で確認できる内容
A59: 項目名 | G59: 資料番号 | R59: 備考
G60: ① | H60: - | I60: ③ | J60: - | K60: ⑤ | L60: ⑥ | M60: ⑦ | N60: ⑧ | O60: ⑨ | P60: ⑩ | Q60: ⑪
A61: 工事名称等 | B61: 工事名 | G61: ○ | I61: ○ | K61: ○ | L61: ○ | M61: ○ | N61: ○ | O61: ○ | P61: ○ | Q61: ○
B62: （コリンズ登録番号） | G62: ○
B63: 発注機関名 | G63: ○ | I63: ○ | K63: ○ | P63: ○ | Q63: ○
B64: 施工場所 | G64: ○ | P64: ○ | Q64: ○
B65: 請負金額（最終・税込） | G65: ○ or △ | I65: ○ or △ | M65: ○ | P65: ○
B68: 契約上の工期 | G68: ○ | I68: ○ | K68: ○ | N68: △ | O68: △ | P68: ○
B69: 従事期間 | G69: ○ | N69: △ | O69: △ | P69: ○ | R69: ⑧、⑨は両方必要
B70: 従事時の役職 | G70: ○ | O70: △ | P70: ○
B71: 受注形態 | G71: ○ | I71: ○ | K71: ○ | P71: ○
B72: 特別（特定）JVの場合、出資比率 | G72: ○ | P72: ○ | R72: JV工事のみ対象
B74: 工事種別 | G74: ○ | P74: ○ | Q74: ○
B75: 建設工事の種類 | G75: ○ | P75: ○ | Q75: ○
A76: 工事成績評定点 | I76: ○ | K76: ○ | P76: ○ | R76: 島根県発注工事のみ
A78: 工事概要 | G78: ○ or △ | L78: ○ or △ | P78: ○
A81: ※１：「○」は資料で確認ができるもの、「△」は全ては確認できないもの。
A82: ※２：資料③、⑤の「○」と「△」は、島根県発注工事の場合。
A84: （参考）代表的な提出資料の組合せ
A85: パターン名 | C85: 条件１ | E85: 条件２ | K85: 条件３ | O85: 提出資料の組合せ
A86: パターン１ | C86: コリンズの竣工登録あり | E86: コリンズのみで工事概要が確認可能。 | K86: 契約工期と技術者の従事期間が同じ。 | O86: ①+③
O87: ①+⑤
A88: パターン２ | E88: コリンズのみで工事概要が確認できない。最終図面等を追加添付。 | O88: ①+③+⑥
O89: ①+⑤+⑥
A91: パターン３ | E91: 上記パターン１、２のいずれかに該当。 | K91: 契約工期と技術者の従事期間が異なる。 | O91: パターン１+⑧+⑨
O92: パターン２+⑧+⑨
A94: パターン４ | C94: コリンズの竣工登録なし | O94: ⑩
O95: ⑩+⑪
A97: ※１：同種工事として最終請負金額を求めた場合で、同種工事実績以外の工事が包含されているものは、上記に加え必ず⑦を追加添付すること。
A100: (2) | B100: 施工経験が２回以上ある場合は、代表的なもの２回分の提出でよい。
A101: (3) | B101: 技術資料提出時に配置予定技術者が特定できない場合は、複数の候補者を記入できる。その場合、審査は候補者のうち配置予定技術者の評価点合計が最も低い者で評価する。
A103: (4) | B103: 同種工事施工経験時の所属会社は問わない。（現在の所属会社以外のものも記載できる。）
A104: (5) | B104: 特別（特定）ＪＶで施工した工事については、出資比率２０％以上の場合にのみ施工実績として認める。
A106: (6) | B106: 上記事項の外、入札説明書本文にある要件を必ず確認すること。
A108: =CONCATENATE("（様式-",INDEX(発注者入力シート!$B$33:$G$36,MATCH(発注者入力シート!M7,発注者入力シート!$C$33:$C$36,0),4),"）") -> （様式-６） | S108: 配置予定技術者②用 | U108: 着色セルの凡例
A109: =CONCATENATE("評価項目",INDEX(発注者入力シート!$B$33:$G$36,MATCH(発注者入力シート!M7,発注者入力シート!$C$33:$C$36,0),5),"-",INDEX(発注者入力シート!$B$33:$G$36,MATCH(発注者入力シート!M7,発注者入力シート!$C$33:$C$36,0),6)) -> 評価項目（２）-② | Q109: =IF(INDEX(発注者入力シート!$B$24:$G$48,MATCH(発注者入力シート!M7,発注者入力シート!$C$24:$C$48,0),3)="","",INDEX(発注者入力シート!$B$24:$G$48,MATCH(発注者入力シート!M7,発注者入力シート!$C$24:$C$48,0),3)) | U109: （企業）
A110: 配置予定技術者の同種工事の施工経験 | V110: ：「企業入力シート」、一覧表（別紙）で入力（数式リンク有）
D111: 企業体名： | F111: =IF(企業入力シート!C5="","",企業入力シート!C5) | V111: ：セルに直接入力が必要な箇所
A113: 対象工事 | B113: 対象期間・対象機関 | F113: =$F$6 -> 平成２８年度から入札公告日前日までに完成及び引き渡しが完了した島根県、島根県内の市町村又は国の機関（独立行政法人等を含みコリンズ登録があるものに限る。）発注工事 | U113: （発注者）
V114: ：「発注者入力シート」で入力（数式リンク有）
B115: 同種工事の定義 | F115: =$F$8 -> １契約で税込み最終金額が２億６，０００万円以上の住宅以外の建築物に係る電気工事 | V115: ：セルに直接入力が必要な箇所
V116: ：配置予定技術者①のシートとリンク
B118: 工事種別 | F118: =$F$11 -> 建築物に係る電気工事
B119: 建設工事の種類 | F119: =$F$12 -> 電気工事、消防施設工事
A120: 配置予定技術者 氏名 | F120: ② | G120: =IF(企業入力シート!C26="","",企業入力シート!C26)
A121: 工事内容 | F121: 施工経験① | M121: 施工経験② | U121: 【印刷について】
A122: 工事名称等 | B122: 工 事 名 | U122: このシートは「ページ設定」で「白黒印刷」と「印刷範囲」が設定されています。
U123: 様式内の吹出しコメントは印刷されません。
B126: （コリンズ登録番号）
B127: 発注機関名 | T127: ← | U127: ○○県土整備事務所など発注機関名を記入（略名可）
B128: 施工場所
U129: （チェック用）
B130: 請負金額（最終・税込） | L130: 円 | S130: 円 | U130: 西暦
B131: 工 期 | E131: （始） | H131: 年 | J131: 月 | L131: 日 | O131: 年 | Q131: 月 | S131: 日 | U131: 46235 | V131: ←西暦を入力すると下の欄に和暦が表示 | Z131: 平成
E132: （終） | H132: 年 | J132: 月 | L132: 日 | O132: 年 | Q132: 月 | S132: 日 | U132: 和暦 | Z132: 令和
B133: 従事期間 | E133: （始） | H133: 年 | J133: 月 | L133: 日 | O133: 年 | Q133: 月 | S133: 日 | U133: =U131 -> 46235
E134: （終） | H134: 年 | J134: 月 | L134: 日 | O134: 年 | Q134: 月 | S134: 日
B135: 従事時の役職
B136: 受注形態
...

Sheet 技術者継続学習
A1: =CONCATENATE("（様式-",INDEX(発注者入力シート!$B$33:$G$36,MATCH(発注者入力シート!M9,発注者入力シート!$C$33:$C$36,0),4),"）") -> （様式-７） | Q1: 配置予定技術者①、②、③共通 | S1: 着色セルの凡例
A2: =CONCATENATE("評価項目",INDEX(発注者入力シート!$B$33:$G$36,MATCH(発注者入力シート!M9,発注者入力シート!$C$33:$C$36,0),5),"-",INDEX(発注者入力シート!$B$33:$G$36,MATCH(発注者入力シート!M9,発注者入力シート!$C$33:$C$36,0),6)) -> 評価項目（２）-③ | S2: （企業）
A3: 配置予定技術者の継続学習 | T3: ：「企業入力シート」、一覧表（別紙）で入力（数式リンク有）
T4: ：セルに直接入力が必要な箇所
H5: 会社（企業体）名： | K5: =IF(企業入力シート!C5="","",企業入力シート!C5)
S6: （発注者）
T7: ：「発注者入力シート」で入力（数式リンク有）
A8: 対象： | B8: 配置予定の主任（監理）技術者が保有するCPD単位数 | Q8: 代表者(第１ｸﾞﾙｰﾌﾟ) | T8: ：セルに直接入力が必要な箇所
A9: 配置予定技術者氏名 | F9: 保有するCPD単位数 | L9: ※評価結果
L10: （発注者記載欄） | S10: 【印刷について】
A11: ① | B11: =IF(企業入力シート!C25="","",企業入力シート!C25) | J11: 単位 | S11: このシートは「ページ設定」で「白黒印刷」と「印刷範囲」が設定されています。
A13: ② | B13: =IF(企業入力シート!C26="","",企業入力シート!C26) | J13: 単位
A15: ③ | B15: =IF(企業入力シート!C27="","",企業入力シート!C27) | J15: 単位
Q17: 構成員(第２ｸﾞﾙｰﾌﾟ)
A18: 配置予定技術者氏名 | F18: 保有するCPD単位数 | L18: ※評価結果
L19: （発注者記載欄）
A20: ① | B20: =IF(企業入力シート!C54="","",企業入力シート!C54) | J20: 単位
A22: ② | B22: =IF(企業入力シート!C55="","",企業入力シート!C55) | J22: 単位
A24: ③ | B24: =IF(企業入力シート!C56="","",企業入力シート!C56) | J24: 単位
Q26: 構成員(第３ｸﾞﾙｰﾌﾟ)
A27: 配置予定技術者氏名 | F27: 保有するCPD単位数 | L27: ※評価結果
L28: （発注者記載欄）
A29: ① | B29: =IF(企業入力シート!C83="","",企業入力シート!C83) | J29: 単位
A31: ② | B31: =IF(企業入力シート!C84="","",企業入力シート!C84) | J31: 単位
A33: ③ | B33: =IF(企業入力シート!C85="","",企業入力シート!C85) | J33: 単位
A35: (1) | B35: 保有CPD単位数が確認できる資料として、（公社）日本建築士会連合会が発行した「建築士会CPD実績証明書」の写し又は（一財）建設業振興基金が発行した「建築・設備施工管理CPD制度実績証明書」の写しを添付すること。
S36: 開始年度
A37: (2) | B37: =CONCATENATE("「建築士会CPD実績証明書」又は「建築・設備施工管理CPD制度実績証明書」は、",S19,"から入札公告日前日時点（令和",(YEAR(発注者入力シート!H7)-2018),"年",MONTH(発注者入力シート!H7),"月",DAY(発注者入力シート!H7),"日時点）までに取得している保有CPD単位数が確認できるものを添付すること。") -> 「建築士会CPD実績証明書」又は「建築・設備施工管理CPD制度実績証明書」は、から入札公告日前日時点（令和8年10月14日時点）までに取得している保有CPD単位数が確認できるものを添付すること。 | S37: 令和３年度
A39: (3) | B39: 技術資料提出時に配置予定技術者が特定できない場合は、複数の候補者を記入できる。その場合、審査は候補者のうち配置予定技術者の評価点合計が最も低い者で評価する。
A41: (4) | B41: 上記事項の外、入札説明書本文にある要件を必ず確認すること。

Sheet ボランティア (JV)
A1: =CONCATENATE("（様式-",INDEX(発注者入力シート!$B$37:$G$46,MATCH(発注者入力シート!N8,発注者入力シート!$C$37:$C$46,0),4),"）") -> （様式-８） | O1: =IF(INDEX(発注者入力シート!$B$24:$G$48,MATCH(発注者入力シート!N8,発注者入力シート!$C$24:$C$48,0),3)="","",INDEX(発注者入力シート!$B$24:$G$48,MATCH(発注者入力シート!N8,発注者入力シート!$C$24:$C$48,0),3)) | S1: 着色セルの凡例
A2: =CONCATENATE("評価項目",INDEX(発注者入力シート!$B$37:$G$46,MATCH(発注者入力シート!N8,発注者入力シート!$C$37:$C$46,0),5),"-",INDEX(発注者入力シート!$B$37:$G$46,MATCH(発注者入力シート!N8,発注者入力シート!$C$37:$C$46,0),6)) -> 評価項目（３）-① | S2: （企業）
T3: ：「企業入力シートで入力（数式リンク有）
A4: ボランティア活動又はハートフルしまねへの参加実績 | T4: ：セルに直接入力もしくはリストから選択が必要な箇所
D5: 企業体名： | F5: =IF(企業入力シート!C5="","",企業入力シート!C5)
S6: （発注者）
A7: 対象： | B7: 令和６年度及び令和７年度における島根県内で実施されたボランティア活動又はハートフルしまねへの参加実績 | T7: ：「発注者入力シート」で入力（数式リンク有）
T8: ：セルに直接入力が必要な箇所
A10: ○企業としてのボランティア活動への参加実績
A11: 企業体 | C11: 活動年月日 | F11: 活動内容 | K11: 活動箇所 | O11: 年度間延べ参加人数 | Q11: 従業員数 | T11: 【印刷について】
A12: 代表者 (第１ｸﾞﾙｰﾌﾟ) | C12: R６ | T12: このシートは「ページ設定」で「白黒印刷」と「印刷範囲」が設定されています。
C13: R７
A14: 構成員 (第2ｸﾞﾙｰﾌﾟ) | C14: =C12 -> R６ | T14: 様式内の吹出しコメントは印刷されません。
C15: =C13 -> R７
A16: 構成員 (第3ｸﾞﾙｰﾌﾟ) | C16: =C14 -> R６
C17: =C15 -> R７
A18: (1) | B18: 活動したことを証明する資料と活動箇所が確認できる資料を添付すること。
A19: (2) | B19: 参加人数が１０名未満の場合、従業員数の欄に当該活動時点の常用雇用労働者と短時間労働者の合計人数を記載すること。
A20: (3) | B20: 入札説明書本文にある要件を必ず確認すること。
A21: (4) | B21: ボランティア活動を複数日で行った場合、参加実績は重複者を含んだ合計人数とする（延べ人数）。従業員数は当該活動時点のものとする。
A24: ○企業としてのハートフルしまねの参加実績
A25: 企業体 | C25: 登録団体名 | I25: 活動箇所 | N25: 年度間延べ参加人数 | Q25: 従業員数 | T25: 活動期間中に従業員数の変動があった場合は、最大時の人数を記載してください
A26: 代表者 (第１ｸﾞﾙｰﾌﾟ) | C26: =C12 -> R６
C27: =C13 -> R７
A28: 構成員 (第2ｸﾞﾙｰﾌﾟ) | C28: =C12 -> R６
C29: =C13 -> R７
A30: 構成員 (第3ｸﾞﾙｰﾌﾟ) | C30: =C14 -> R６
C31: =C15 -> R７
A32: (1) | B32: 活動箇所が確認できる資料を添付すること。
A33: (2) | B33: 参加人数が１０名未満の場合、従業員数の欄に当該活動時点の常用雇用労働者と短時間労働者の合計人数を記載すること。
A34: (3) | B34: 入札説明書本文にある要件を必ず確認すること。
A35: (4) | B35: 従業員数は当該活動時点のものとする。

Sheet 障がい者雇用 (JV)
A1: =CONCATENATE("（様式-",INDEX(発注者入力シート!$B$37:$G$46,MATCH(発注者入力シート!N11,発注者入力シート!$C$37:$C$46,0),4),"）") -> （様式-９） | S1: 着色セルの凡例
A2: =CONCATENATE("評価項目",INDEX(発注者入力シート!$B$37:$G$46,MATCH(発注者入力シート!N11,発注者入力シート!$C$37:$C$46,0),5),"-",INDEX(発注者入力シート!$B$37:$G$46,MATCH(発注者入力シート!N11,発注者入力シート!$C$37:$C$46,0),6)) -> 評価項目（３）-② | S2: （企業）
A3: 労働福祉関連の状況(ｂ 障がい者雇用の実態) | T3: ：「企業入力シートで入力（数式リンク有）
T4: ：セルに直接入力もしくはリストから選択が必要な箇所
D5: 企業体名： | F5: =IF(企業入力シート!C5="","",企業入力シート!C5)
S6: （発注者）
A7: ｂ 障がい者雇用の実態 | T7: ：「発注者入力シート」で入力（数式リンク有）
A8: 本様式もしくは「障がい者雇用の促進等に関する法律施行規則」第８条で定められた様式（障害者雇用状況報告書）を提出すること。 | T8: ：セルに直接入力が必要な箇所
T9: ：１枚目のシートとリンク
A10: =CONCATENATE(" 障害者雇用状況報告書で提出する場合、入札公告日前日時点（令和",(YEAR(発注者入力シート!H7)-2018),"年",MONTH(発注者入力シート!H7),"月",DAY(発注者入力シート!H7),"日時点）の状況と相異ないことを代表者名で証明すること。") -> 障害者雇用状況報告書で提出する場合、入札公告日前日時点（令和8年10月14日時点）の状況と相異ないことを代表者名で証明すること。
S11: 【印刷について】
S12: このシートは「ページ設定」で「白黒印刷」と「印刷範囲」が設定されています。
A13: 特別共同企業体の代表者（第１グループ）の実績 | K13: =IF(企業入力シート!C14="","",企業入力シート!C14) -> ○○建設 | S13: 様式内の吹出しコメントは印刷されません。
A14: （a） | B14: 常用雇用労働者数（短時間労働者数を除く） | Q14: 人
A15: （b） | B15: 短時間労働者数（週20時間以上30時間未満） | Q15: 人
A16: （c） | B16: 法定雇用義務数の算出の基礎となる常用雇用労働者数 | Q16: 人 | S16: 参考（c）の人数
B17: （下線部分は小数点以下切捨て） | S17: =M14+M15*0.5-ROUNDDOWN((M14+M15*0.5)*M19/100,0) -> 0
B18: （a）＋（b）×0.5－{（a）＋（b）×0.5 }×（d）／100 ＝（c）
A19: （d） | B19: 除外率 | Q19: ％
A20: （e） | B20: 常用雇用労働者のうち障がい者数（小数第１位まで） | Q20: 人
A21: （ｆ） | B21: 法定雇用義務数（小数点以下切捨て） | Q21: 人 | S21: 参考（f）の人数
B22: （c）×０．０２７＝ (ｆ) | S22: =ROUNDDOWN((M14+M15*0.5-ROUNDDOWN((M14+M15*0.5)*20/100,0))*0.022,0) -> 0
A24: ○ 個別の状況
B25: 障がい等級等 | G25: 雇用形態
G26: （常用労働者・短時間労働者・特定短時間労働者）
A27: 1
A28: 2
A29: 3
A30: 4
A32: 特別共同企業体の代表者以外の構成員（第２グループ）の実績 | K32: =IF(企業入力シート!C48="","",企業入力シート!C48) -> △△建設
A33: （a） | B33: 常用雇用労働者数（短時間労働者数を除く） | Q33: 人
A34: （b） | B34: 短時間労働者数（週20時間以上30時間未満） | Q34: 人
A35: （c） | B35: 法定雇用義務数の算出の基礎となる常用雇用労働者数 | Q35: 人 | S35: 参考（c）の人数
B36: （下線部分は小数点以下切捨て） | S36: =M33+M34*0.5-ROUNDDOWN((M33+M34*0.5)*M38/100,0) -> 0
B37: （a）＋（b）×0.5－{（a）＋（b）×0.5 }×（d）／100 ＝（c）
A38: （d） | B38: 除外率 | Q38: ％
A39: （e） | B39: 常用雇用労働者のうち障がい者数（小数第１位まで） | Q39: 人
A40: （ｆ） | B40: 法定雇用義務数（小数点以下切捨て） | Q40: 人 | S40: 参考（f）の人数
B41: （c）×０．０２７＝ (ｆ) | S41: =ROUNDDOWN((M33+M34*0.5-ROUNDDOWN((M33+M34*0.5)*20/100,0))*0.022,0) -> 0
A43: ○ 個別の状況
B44: 障がい等級等 | G44: 雇用形態
G45: （常用労働者・短時間労働者・特定短時間労働者）
A46: 1
A47: 2
A48: 3
A49: 4
A53: =IF(A1="","",A1) -> （様式-９） | S53: 着色セルの凡例
A54: =IF(A2="","",A2) -> 評価項目（３）-② | S54: （企業）
A55: 労働福祉関連の状況(ｂ 障がい者雇用の実態) | T55: ：「企業入力シートで入力（数式リンク有）
T56: ：セルに直接入力もしくはリストから選択が必要な箇所
D57: 企業体名： | F57: =IF(F5="","",F5)
S58: （発注者）
A59: ｂ 障がい者雇用の実態 | T59: ：「発注者入力シート」で入力（数式リンク有）
A60: =IF(A8="","",A8) -> 本様式もしくは「障がい者雇用の促進等に関する法律施行規則」第８条で定められた様式（障害者雇用状況報告書）を提出すること。 | T60: ：セルに直接入力が必要な箇所
T61: ：１枚目のシートとリンク
A62: =IF(A10="","",A10) -> 障害者雇用状況報告書で提出する場合、入札公告日前日時点（令和8年10月14日時点）の状況と相異ないことを代表者名で証明すること。
S63: 【印刷について】
S64: このシートは「ページ設定」で「白黒印刷」と「印刷範囲」が設定されています。
A65: 特別共同企業体の代表者以外の構成員（第３グループ）の実績 | K65: =IF(企業入力シート!C77="","",企業入力シート!C77) -> □□建設 | S65: 様式内の吹出しコメントは印刷されません。
A66: （a） | B66: 常用雇用労働者数（短時間労働者数を除く） | Q66: 人
A67: （b） | B67: 短時間労働者数（週20時間以上30時間未満） | Q67: 人
A68: （c） | B68: 法定雇用義務数の算出の基礎となる常用雇用労働者数 | Q68: 人 | S68: 参考（c）の人数
B69: （下線部分は小数点以下切捨て） | S69: =M66+M67*0.5-ROUNDDOWN((M66+M67*0.5)*M71/100,0) -> 0
B70: （a）＋（b）×0.5－{（a）＋（b）×0.5 }×（d）／100 ＝（c）
A71: （d） | B71: 除外率 | Q71: ％
A72: （e） | B72: 常用雇用労働者のうち障がい者数（小数第１位まで） | Q72: 人
A73: （ｆ） | B73: 法定雇用義務数（小数点以下切捨て） | Q73: 人 | S73: 参考（f）の人数
B74: （c）×０．０２７＝ (ｆ) | S74: =ROUNDDOWN((M66+M67*0.5-ROUNDDOWN((M66+M67*0.5)*20/100,0))*0.022,0) -> 0
A76: ○ 個別の状況
B77: 障がい等級等 | G77: 雇用形態
G78: （常用労働者・短時間労働者・特定短時間労働者）
A79: 1
A80: 2
A81: 3
A82: 4
A84: (1) | B84: 「(a)常用雇用労働者数」、「(b)短時間労働者数」、「(e)常用雇用労働者のうち障がい者数」欄は、障害者雇用率制度で定める「一般民間企業における雇用率設定基準」(厚生労働省)により算定した数とすること。（短時間労働者は、１人を０．５人としてカウント。重度身体障がい者・重度知的障がい者は、1人を２人としてカウント。ただし、短時間の重度身体障がい者、重度知的障がい者は１人としてカウント。 等）
A88: (2) | B88: 「(ｆ)法定雇用義務数」欄は、障がい者雇用の義務がある事業者のみ（R8年度から(c)常用雇用労働者37.5人以上）記入すること。
A90: (3) | B90: 「(f)法定雇用義務数」欄は、公共職業安定所に提出された「障がい者雇用状況報告書」の数字をそのまま記入するのではなく、報告後の移動や「障害者の雇用の促進等に関する法律」の改正内容を反映させて記入すること。
B94: 【法定雇用義務数の算定例】：下線部分は小数点以下切捨てとする。
B95: ○常用雇用労働者数（短時間労働者を除く）：７０人 短時間労働者数：１０名の場合
B96: ｛ 70＋10×0.5－（70＋10×0.5）×１０％ ｝ × ２．７％ ＝ １．８２名 ⇒ １名 | S96: 今後の法定雇用率の設定
B97: { 法定雇用義務数の算定の基礎となる常用雇用労働者数 }×（法定雇用率） ＝ （小数点以下切り捨て） | S97: R6年度 2.5％ | U97: R8年度 2.7％
A99: (4) | B99: =CONCATENATE("入札公告日前日時点（令和",(YEAR(発注者入力シート!H7)-2018),"年",MONTH(発注者入力シート!H7),"月",DAY(発注者入力シート!H7),"日時点）での状況について記載すること。") -> 入札公告日前日時点（令和8年10月14日時点）での状況について記載すること。
A100: (5) | B100: 「個別状況」の記入欄が足りない場合は欄を追加して記入すること。
A101: (6) | B101: 身体障がい者手帳等の写しは添付不要。
A102: (7) | B102: この様式は、構成員ごとに記入すること。

Sheet 育児・介護休業 (JV) 
A1: =CONCATENATE("（様式-",INDEX(発注者入力シート!$B$37:$G$46,MATCH(発注者入力シート!N12,発注者入力シート!$C$37:$C$46,0),4),"）") -> （様式-１０） | S1: 着色セルの凡例
A2: =CONCATENATE("評価項目",INDEX(発注者入力シート!$B$37:$G$46,MATCH(発注者入力シート!N12,発注者入力シート!$C$37:$C$46,0),5),"-",INDEX(発注者入力シート!$B$37:$G$46,MATCH(発注者入力シート!N12,発注者入力シート!$C$37:$C$46,0),6)) -> 評価項目（３）-② | S2: （企業）
T3: ：「企業入力シートで入力（数式リンク有）
A4: 労働福祉関連の状況(ｃ 育児・介護休業に関する制度) | T4: ：セルに直接入力もしくはリストから選択が必要な箇所
D6: 企業体名： | F6: =IF(企業入力シート!C5="","",企業入力シート!C5) | S6: （発注者）
T7: ：「発注者入力シート」で入力（数式リンク有）
A8: ｃ 育児・介護休業に関する制度（下記①、②のいずれかの取組みがある場合） | T8: ：セルに直接入力が必要な箇所
E9: ①「育児休業・介護休業等育児又は家族介護を行う労働者の福祉に関する法律」（令和７年10月1日施行、以下「育児・介護休業法」という。）で定める制度を超える内容を含む制度を規定していること | L9: ②こっころカンパニー(しまね子育て応援企業)に認定されていること
A10: 企業体 | S10: 【印刷について】
S11: このシートは「ページ設定」で「白黒印刷」と「印刷範囲」が設定されています。
S12: 様式内の吹出しコメントは印刷されません。
A14: 代表者
A15: （第１グループ） | L15: 認定期間 | Q15: まで
A18: 構成員
A19: （第２グループ） | L19: 認定期間 | Q19: まで
A22: 構成員
A23: （第３グループ） | L23: 認定期間 | Q23: まで
A25: 【①の場合】
A26: (1) | B26: 企業の育児・介護休業に関する制度の概要が分かる資料（就業規則等）のうち「育児・介護休業法」に関係する部分を添付資料として提出すること。その際、法定の制度を超える箇所にアンダーライン明示すること。なお、明示が無い場合は、評価の対象としない。
A30: (2) | B30: 育児・介護休業に関する制度の内容を確認するため、必ず別紙「育児・介護休業に関する制度 チェック表」を記入し、添付すること。
A32: (3) | B32: 就業規則等は、原本と相異ないことを代表者名で証明すること。
A33: (4) | B33: 添付資料については法定制度を超える内容を項目毎に明示すること。
A34: 【②の場合】
A35: (1) | B35: こっころカンパニーについては、「こっころカンパニー認定書」の写しを添付すること。
A36: (2) | B36: こっころカンパニーの認定で提出する場合は、①への入力は不要。
A37: 【共通事項】
A38: (1) | B38: =CONCATENATE("入札公告日前日時点（令和",(YEAR(発注者入力シート!H7)-2018),"年",MONTH(発注者入力シート!H7),"月",DAY(発注者入力シート!H7),"日時点）での状況について記載すること。") -> 入札公告日前日時点（令和8年10月14日時点）での状況について記載すること。

Sheet 育児介護チェック表（第1G用）
B1: =CONCATENATE("（様式-",INDEX(発注者入力シート!$B$37:$G$46,MATCH(発注者入力シート!N13,発注者入力シート!$C$37:$C$46,0),4),"）") -> （様式-１１） | F1: 特別共同企業体の代表者（第１グループ）用
B2: =CONCATENATE("評価項目",INDEX(発注者入力シート!$B$37:$G$46,MATCH(発注者入力シート!N13,発注者入力シート!$C$37:$C$46,0),5),"-",INDEX(発注者入力シート!$B$37:$G$46,MATCH(発注者入力シート!N13,発注者入力シート!$C$37:$C$46,0),6)) -> 評価項目（３）-② | F2: =IF(企業入力シート!C14="","",企業入力シート!C14) -> ○○建設
B3: 育児・介護休業に関する制度 チェック表 育児・介護休業法（R7.10.1施行）対応版
E4: 企業体名： | F4: =IF(企業入力シート!C5="","",企業入力シート!C5)
B5: 【法定を超える内容チェック表１】 各Ｑの「はい」または「いいえ」、「該当項目」に■ をご記入下さい。
C7: ★Ｑ1～13の「はい」または「該当項目」に１つでも■がある場合、総合評価の加点対象となります。 ★ 記載内容については、就業規則等により確認できるよう必ず該当条文を記入願います。
B9: Q1 | C9: 育児休業制度の対象となる子の上限年齢を、法定を超えた年齢までとしている。
D10: □ | E10: はい | F10: □ | G10: いいえ
E11: （上限年齢 ＝ 歳 か月まで）
E12: （該当条文： ）
D14: ○法律では１歳まで、両親ともに育児休業を取得する場合は１歳２ヶ月まで、または、一定の事情がある場合は２歳までとされています。 ○一定の事情の有無に関わらず、２歳まで育児休業をとることができる場合は、法定を超える内容となります。
B16: Q2 | C16: 法定基準の制度とは別に、３歳未満の子を養育する従業員が利用できる以下の制度のうち、いずれか１つ以上の制度を定めている。
D17: □ | E17: ①短時間勤務制度（5時間45分から6時間以外の制度等の実施） | F17: □ | G17: ②テレワーク等
E18: （該当条文： ） | G18: （該当条文： ）
D19: □ | E19: ③フレックスタイム制 | F19: □ | G19: ④始業・終業時刻の繰上げ・繰下げ （１日の所定労働時間は変わらない）
E20: （該当条文： ） | G20: （該当条文： ）
D21: □ | E21: ⑤事業所内保育施設の運営 （共同運営や保育施設と契約している場合も含む） | F21: □ | G21: ⑥育児サービス費用を補助する制度 （ベビーシッターや保育施設の利用料補助等）
E22: （該当条文： ） | G22: （該当条文： ）
D24: ①育児・介護休業法では、短時間勤務制度は、原則として6時間（5時間45分から６時間まで）とする措置を含むものとなっているので、それ以外の短時間勤務制度の実施。
B26: Q3 | C26: 介護休業の取得可能期間を、法定を超える日数や回数としている。
D27: □ | E27: はい | F27: □ | G27: いいえ
E28: （上限期間 ＝ 以内）
E29: （該当条文： ）
D31: 育児・介護休業法では、労働者は、要介護状態にある対象家族１人につき、のべ93日間までの範囲内で３回を上限として介護休業を取得することができるとしています。
B33: Q4 | C33: 要介護状態にある対象家族の介護を行う従業員が利用できる短時間勤務制度を除く以下の制度のうち、いくつの制度を定めていますか。
D34: □ | E34: ①フレックスタイム制 | F34: □ | G34: ②始業・終業時刻の繰上げ・繰下げ （１日の所定労働時間は変わらない）
E35: （該当条文： ） | G35: （該当条文： ）
D36: □ | E36: ③介護サービス費用を補助する制度 （ホームヘルパーや介護サービスの利用料補助等）
E37: （該当条文： ）
D38: □ | E38: ④その他これに準ずる制度（ ）
E39: （該当条文： ）
B41: Q5 | C41: Q4で定めているとした制度について、当てはまるものにチェックをしてください。（定めている制度のうち、一つでも当てはまる制度があればチェックをしてください。）
D42: □ | E42: ①介護休業とは別に、利用開始から３年を超える期間で２回の利用を可能としている。
E43: （該当条文： ）
D44: □ | E44: ②介護休業とは別に、利用開始から３年の間で３回以上の利用を可能としている。
E45: （該当条文： ）
D46: □ | E46: ③介護休業とは別に、利用開始から３年を超える期間で３回以上の利用を可能としている。
E47: （該当条文： ）
D48: □ | E48: ④その他
E49: （該当条文： ）
B51: =$B$1&" "&$B$2 -> （様式-１１） 評価項目（３）-② | F51: =IF(F2="","",F2) -> ○○建設
B52: 【法定を超える内容チェック表２】 各Ｑの「はい」または「いいえ」、「該当項目」に■ をご記入下さい。
B54: Q6 | C54: 小学生以上の子を持つ従業員が利用できる以下の制度のうち、いくつの制度がありますか。
D55: □ | E55: ①短時間勤務制度 | F55: □ | G55: ②テレワーク等
E56: （該当条文： ） | G56: （該当条文： ）
D57: □ | E57: ③フレックスタイム制 | F57: □ | G57: ④始業・終業時刻の繰上げ・繰下げ （１日の所定労働時間は変わらない）
E58: （該当条文： ） | G58: （該当条文： ）
D59: □ | E59: ⑤所定外労働をさせない制度 | F59: □ | G59: ⑥事業所内託児施設の運営 （共同運営や保育施設と契約している場合も含む）
E60: （該当条文： ） | G60: （該当条文： ）
D61: □ | E61: ⑦養育両立支援休暇の付与（子の看護等休暇を除く）
E62: （該当条文： ）
B64: Q7 | C64: 子の看護休暇について、従業員に対する次の配慮のうち、何項目実施していますか。
D65: □ | E65: ①小学校４年生以上の子についても、別に子の看護休暇が取得できる。 | F65: □ | G65: ②取得可能日数が、年５日（小学校３年生修了までの子が2人以上であれば年10日）を超える
E66: （該当条文： ） | G66: （該当条文： ）
B68: Q8 | C68: 介護休暇について、従業員に対する次の配慮のうち、何項目実施していますか。
D69: □ | E69: ①取得可能日数が、年5日（対象家族が2人以上であれば年10日）を超える。 | F69: □ | G69: ②法で定める「対象家族」を超える範囲も対象。 （対象家族：配偶者、父母・子・祖父母・兄弟姉妹及び孫、配偶者の父母）
E70: （該当条文： ） | G70: （該当条文： ）
B72: Q９ | C72: 子供が生まれる際の父親の休暇制度がある。
D73: □ | E73: はい | F73: □ | G73: いいえ
E74: （内容 ）
E75: （該当条文： ）
B77: Q10 | C77: 前々年（度）に残った年次有給休暇の積立制度を設けている。
D78: □ | E78: はい | F78: □ | G78: いいえ
E79: （内容 ）
E80: （該当条文： ）
B82: Q11 | C82: 妊娠、出産、育児、介護を理由に退職した従業員を対象とした再雇用制度がある。
D83: □ | E83: はい | F83: □ | G83: いいえ
E84: （内容 ）
E85: （該当条文： ）
B87: Q12 | C87: 次の制度等のうち、有給としているものが、いくつありますか。（一部支給でも可）
D88: □ | E88: ①産前産後休業（支給割合： ） | F88: □ | G88: ②育児時間 （支給割合： ）
E89: （該当条文： ） | G89: （該当条文： ）
D90: □ | E90: ③育児休業 （支給割合： ） | F90: □ | G90: ④介護休業 （支給割合： ）
E91: （該当条文： ） | G91: （該当条文： ）
D92: □ | E92: ⑤子の看護休暇 （支給割合： ） | F92: □ | G92: ⑥介護休暇 （支給割合： ）
E93: （該当条文： ） | G93: （該当条文： ）
D94: □ | E94: ⑦独自の有給休暇制度 （休暇名： ）
E95: （該当条文： ）
D96: ②「育児時間」：出産後１歳未満の子どもを育てる女性から請求があった場合、1日2回それぞれ30分以上、育児のための時間を与えなければなりません。（労働基準法第67条）
B98: =$B$1&" "&$B$2 -> （様式-１１） 評価項目（３）-② | F98: =IF(F2="","",F2) -> ○○建設
B99: 【法定を超える内容チェック表３】 各Ｑの「はい」または「いいえ」、「該当項目」に■ をご記入下さい。
B101: Q13 | C101: その他、上記以外で育児・介護休業法の規定を超える取組の実施があれば、法律条文を記入、該当部分を下線明示した上で、就業規則等を記入、法律を超える内容を具体的に下線明示してください。
D102: □ | E102: （育児・介護休業法）第○○条第○○項 ○○○○○○○○○ … ○○○○○○○○○○○○○○○○○○ ……………
E103: （就業規則）第○○条第○○項 ○○○○○○○○ … ○○○○○○○○○○○○○○○○○○○○ ……………
E105: 法定項目（Ｑ1～Ｑ9） 判 定 | F105: ＯＫ！
D107: ★ | E107: 総合評価（Ｑ1～Ｑ13） 加 算 | F107: =IF(F105="ＯＫ！",IF((COUNTIF(D10,"■")+COUNTIF(D17:F21,"■")+COUNTIF(D27,"■")+COUNTIF(D34:F48,"■")+COUNTIF(D55:F69,"■")+COUNTIF(D72:D83,"■")+COUNTIF(D88:F94,"■")+COUNTIF(D102,"■"))>=1,"ＯＫ！","ＮＯ！"),"ＮＯ！") -> ＮＯ！
E108: ★総合評価（Ｑ1～Ｑ13）加算欄が「ＯＫ！」となる場合でも、就業規則等の添付資料により上記記載内容が確認できなければ、総合評価方式の加算点を認めません。

Sheet 育児介護チェック表（第2G用）
B1: =CONCATENATE("（様式-",INDEX(発注者入力シート!$B$37:$G$46,MATCH(発注者入力シート!N13,発注者入力シート!$C$37:$C$46,0),4),"）") -> （様式-１１） | F1: 特別共同企業体の代表者以外の構成員（第２グループ）用
B2: =CONCATENATE("評価項目",INDEX(発注者入力シート!$B$37:$G$46,MATCH(発注者入力シート!N13,発注者入力シート!$C$37:$C$46,0),5),"-",INDEX(発注者入力シート!$B$37:$G$46,MATCH(発注者入力シート!N13,発注者入力シート!$C$37:$C$46,0),6)) -> 評価項目（３）-② | F2: =IF(企業入力シート!C48="","",企業入力シート!C48) -> △△建設
B3: 育児・介護休業に関する制度 チェック表 育児・介護休業法（R7.10.1施行）対応版
E4: 企業体名： | F4: =IF(企業入力シート!C5="","",企業入力シート!C5)
B5: 【法定を超える内容チェック表１】 各Ｑの「はい」または「いいえ」、「該当項目」に■ をご記入下さい。
C7: ★Ｑ1～13の「はい」または「該当項目」に１つでも■がある場合、総合評価の加点対象となります。 ★ 記載内容については、就業規則等により確認できるよう必ず該当条文を記入願います。
B9: Q1 | C9: 育児休業制度の対象となる子の上限年齢を、法定を超えた年齢までとしている。
D10: □ | E10: はい | F10: □ | G10: いいえ
E11: （上限年齢 ＝ 歳 か月まで）
E12: （該当条文： ）
D14: ○法律では１歳まで、両親ともに育児休業を取得する場合は１歳２ヶ月まで、または、一定の事情がある場合は２歳までとされています。 ○一定の事情の有無に関わらず、２歳まで育児休業をとることができる場合は、法定を超える内容となります。
B16: Q2 | C16: 法定基準の制度とは別に、３歳未満の子を養育する従業員が利用できる以下の制度のうち、いずれか１つ以上の制度を定めている。
D17: □ | E17: ①短時間勤務制度（5時間45分から6時間以外の制度等の実施） | F17: □ | G17: ②テレワーク等
E18: （該当条文： ） | G18: （該当条文： ）
D19: □ | E19: ③フレックスタイム制 | F19: □ | G19: ④始業・終業時刻の繰上げ・繰下げ （１日の所定労働時間は変わらない）
E20: （該当条文： ） | G20: （該当条文： ）
D21: □ | E21: ⑤事業所内保育施設の運営 （共同運営や保育施設と契約している場合も含む） | F21: □ | G21: ⑥育児サービス費用を補助する制度 （ベビーシッターや保育施設の利用料補助等）
E22: （該当条文： ） | G22: （該当条文： ）
D24: ①育児・介護休業法では、短時間勤務制度は、原則として6時間（5時間45分から６時間まで）とする措置を含むものとなっているので、それ以外の短時間勤務制度の実施。
B26: Q3 | C26: 介護休業の取得可能期間を、法定を超える日数や回数としている。
D27: □ | E27: はい | F27: □ | G27: いいえ
E28: （上限期間 ＝ 以内）
E29: （該当条文： ）
D31: 育児・介護休業法では、労働者は、要介護状態にある対象家族１人につき、のべ93日間までの範囲内で３回を上限として介護休業を取得することができるとしています。
B33: Q4 | C33: 要介護状態にある対象家族の介護を行う従業員が利用できる短時間勤務制度を除く以下の制度のうち、いくつの制度を定めていますか。
D34: □ | E34: ①フレックスタイム制 | F34: □ | G34: ②始業・終業時刻の繰上げ・繰下げ （１日の所定労働時間は変わらない）
E35: （該当条文： ） | G35: （該当条文： ）
D36: □ | E36: ③介護サービス費用を補助する制度 （ホームヘルパーや介護サービスの利用料補助等）
E37: （該当条文： ）
D38: □ | E38: ④その他これに準ずる制度（ ）
E39: （該当条文： ）
B41: Q5 | C41: Q4で定めているとした制度について、当てはまるものにチェックをしてください。（定めている制度のうち、一つでも当てはまる制度があればチェックをしてください。）
D42: □ | E42: ①介護休業とは別に、利用開始から３年を超える期間で２回の利用を可能としている。
E43: （該当条文： ）
D44: □ | E44: ②介護休業とは別に、利用開始から３年の間で３回以上の利用を可能としている。
E45: （該当条文： ）
D46: □ | E46: ③介護休業とは別に、利用開始から３年を超える期間で３回以上の利用を可能としている。
E47: （該当条文： ）
D48: □ | E48: ④その他
E49: （該当条文： ）
B51: =$B$1&" "&$B$2 -> （様式-１１） 評価項目（３）-② | F51: =IF(F2="","",F2) -> △△建設
B52: 【法定を超える内容チェック表２】 各Ｑの「はい」または「いいえ」、「該当項目」に■ をご記入下さい。
B54: Q6 | C54: 小学生以上の子を持つ従業員が利用できる以下の制度のうち、いくつの制度がありますか。
D55: □ | E55: ①短時間勤務制度 | F55: □ | G55: ②テレワーク等
E56: （該当条文： ） | G56: （該当条文： ）
D57: □ | E57: ③フレックスタイム制 | F57: □ | G57: ④始業・終業時刻の繰上げ・繰下げ （１日の所定労働時間は変わらない）
E58: （該当条文： ） | G58: （該当条文： ）
D59: □ | E59: ⑤所定外労働をさせない制度 | F59: □ | G59: ⑥事業所内託児施設の運営 （共同運営や保育施設と契約している場合も含む）
E60: （該当条文： ） | G60: （該当条文： ）
D61: □ | E61: ⑦養育両立支援休暇の付与（子の看護等休暇を除く）
E62: （該当条文： ）
B64: Q7 | C64: 子の看護休暇について、従業員に対する次の配慮のうち、何項目実施していますか。
D65: □ | E65: ①小学校４年生以上の子についても、別に子の看護休暇が取得できる。 | F65: □ | G65: ②取得可能日数が、年５日（小学校３年生修了までの子が2人以上であれば年10日）を超える
E66: （該当条文： ） | G66: （該当条文： ）
B68: Q8 | C68: 介護休暇について、従業員に対する次の配慮のうち、何項目実施していますか。
D69: □ | E69: ①取得可能日数が、年5日（対象家族が2人以上であれば年10日）を超える。 | F69: □ | G69: ②法で定める「対象家族」を超える範囲も対象。 （対象家族：配偶者、父母・子・祖父母・兄弟姉妹及び孫、配偶者の父母）
E70: （該当条文： ） | G70: （該当条文： ）
B72: Q９ | C72: 子供が生まれる際の父親の休暇制度がある。
D73: □ | E73: はい | F73: □ | G73: いいえ
E74: （内容 ）
E75: （該当条文： ）
B77: Q10 | C77: 前々年（度）に残った年次有給休暇の積立制度を設けている。
D78: □ | E78: はい | F78: □ | G78: いいえ
E79: （内容 ）
E80: （該当条文： ）
B82: Q11 | C82: 妊娠、出産、育児、介護を理由に退職した従業員を対象とした再雇用制度がある。
D83: □ | E83: はい | F83: □ | G83: いいえ
E84: （内容 ）
E85: （該当条文： ）
B87: Q12 | C87: 次の制度等のうち、有給としているものが、いくつありますか。（一部支給でも可）
D88: □ | E88: ①産前産後休業（支給割合： ） | F88: □ | G88: ②育児時間 （支給割合： ）
E89: （該当条文： ） | G89: （該当条文： ）
D90: □ | E90: ③育児休業 （支給割合： ） | F90: □ | G90: ④介護休業 （支給割合： ）
E91: （該当条文： ） | G91: （該当条文： ）
D92: □ | E92: ⑤子の看護休暇 （支給割合： ） | F92: □ | G92: ⑥介護休暇 （支給割合： ）
E93: （該当条文： ） | G93: （該当条文： ）
D94: □ | E94: ⑦独自の有給休暇制度 （休暇名： ）
E95: （該当条文： ）
D96: ②「育児時間」：出産後１歳未満の子どもを育てる女性から請求があった場合、1日2回それぞれ30分以上、育児のための時間を与えなければなりません。（労働基準法第67条）
B98: =$B$1&" "&$B$2 -> （様式-１１） 評価項目（３）-② | F98: =IF(F2="","",F2) -> △△建設
B99: 【法定を超える内容チェック表３】 各Ｑの「はい」または「いいえ」、「該当項目」に■ をご記入下さい。
B101: Q13 | C101: その他、上記以外で育児・介護休業法の規定を超える取組の実施があれば、法律条文を記入、該当部分を下線明示した上で、就業規則等を記入、法律を超える内容を具体的に下線明示してください。
D102: □ | E102: （育児・介護休業法）第○○条第○○項 ○○○○○○○○○ … ○○○○○○○○○○○○○○○○○○ ……………
E103: （就業規則）第○○条第○○項 ○○○○○○○○ … ○○○○○○○○○○○○○○○○○○○○ ……………
E105: 法定内 判 定 | F105: ＯＫ！
D107: ★ | E107: 総合評価（Ｑ1～Ｑ13） 加 算 | F107: =IF(F105="ＯＫ！",IF((COUNTIF(D10,"■")+COUNTIF(D17:F21,"■")+COUNTIF(D27,"■")+COUNTIF(D34:F48,"■")+COUNTIF(D55:F69,"■")+COUNTIF(D72:D83,"■")+COUNTIF(D88:F94,"■")+COUNTIF(D102,"■"))>=1,"ＯＫ！","ＮＯ！"),"ＮＯ！") -> ＮＯ！
E108: ★総合評価（Ｑ1～Ｑ13）加算欄が「ＯＫ！」となる場合でも、就業規則等の添付資料により上記記載内容が確認できなければ、総合評価方式の加算点を認めません。

Sheet 育児介護チェック表（第3G用）
B1: =CONCATENATE("（様式-",INDEX(発注者入力シート!$B$37:$G$46,MATCH(発注者入力シート!N13,発注者入力シート!$C$37:$C$46,0),4),"）") -> （様式-１１） | F1: 特別共同企業体の代表者以外の構成員（第３グループ）用
B2: =CONCATENATE("評価項目",INDEX(発注者入力シート!$B$37:$G$46,MATCH(発注者入力シート!N13,発注者入力シート!$C$37:$C$46,0),5),"-",INDEX(発注者入力シート!$B$37:$G$46,MATCH(発注者入力シート!N13,発注者入力シート!$C$37:$C$46,0),6)) -> 評価項目（３）-② | F2: =IF(企業入力シート!C77="","",企業入力シート!C77) -> □□建設
B3: 育児・介護休業に関する制度 チェック表 育児・介護休業法（R7.10.1施行）対応版
E4: 企業体名： | F4: =IF(企業入力シート!C5="","",企業入力シート!C5)
B5: 【法定を超える内容チェック表１】 各Ｑの「はい」または「いいえ」、「該当項目」に■ をご記入下さい。
C7: ★Ｑ1～13の「はい」または「該当項目」に１つでも■がある場合、総合評価の加点対象となります。 ★ 記載内容については、就業規則等により確認できるよう必ず該当条文を記入願います。
B9: Q1 | C9: 育児休業制度の対象となる子の上限年齢を、法定を超えた年齢までとしている。
D10: □ | E10: はい | F10: □ | G10: いいえ
E11: （上限年齢 ＝ 歳 か月まで）
E12: （該当条文： ）
D14: ○法律では１歳まで、両親ともに育児休業を取得する場合は１歳２ヶ月まで、または、一定の事情がある場合は２歳までとされています。 ○一定の事情の有無に関わらず、２歳まで育児休業をとることができる場合は、法定を超える内容となります。
B16: Q2 | C16: 法定基準の制度とは別に、３歳未満の子を養育する従業員が利用できる以下の制度のうち、いずれか１つ以上の制度を定めている。
D17: □ | E17: ①短時間勤務制度（5時間45分から6時間以外の制度等の実施） | F17: □ | G17: ②テレワーク等
E18: （該当条文： ） | G18: （該当条文： ）
D19: □ | E19: ③フレックスタイム制 | F19: □ | G19: ④始業・終業時刻の繰上げ・繰下げ （１日の所定労働時間は変わらない）
E20: （該当条文： ） | G20: （該当条文： ）
D21: □ | E21: ⑤事業所内保育施設の運営 （共同運営や保育施設と契約している場合も含む） | F21: □ | G21: ⑥育児サービス費用を補助する制度 （ベビーシッターや保育施設の利用料補助等）
E22: （該当条文： ） | G22: （該当条文： ）
D24: ①育児・介護休業法では、短時間勤務制度は、原則として6時間（5時間45分から６時間まで）とする措置を含むものとなっているので、それ以外の短時間勤務制度の実施。
B26: Q3 | C26: 介護休業の取得可能期間を、法定を超える日数や回数としている。
D27: □ | E27: はい | F27: □ | G27: いいえ
E28: （上限期間 ＝ 以内）
E29: （該当条文： ）
D31: 育児・介護休業法では、労働者は、要介護状態にある対象家族１人につき、のべ93日間までの範囲内で３回を上限として介護休業を取得することができるとしています。
B33: Q4 | C33: 要介護状態にある対象家族の介護を行う従業員が利用できる短時間勤務制度を除く以下の制度のうち、いくつの制度を定めていますか。
D34: □ | E34: ①フレックスタイム制 | F34: □ | G34: ②始業・終業時刻の繰上げ・繰下げ （１日の所定労働時間は変わらない）
E35: （該当条文： ） | G35: （該当条文： ）
D36: □ | E36: ③介護サービス費用を補助する制度 （ホームヘルパーや介護サービスの利用料補助等）
E37: （該当条文： ）
D38: □ | E38: ④その他これに準ずる制度（ ）
E39: （該当条文： ）
B41: Q5 | C41: Q4で定めているとした制度について、当てはまるものにチェックをしてください。（定めている制度のうち、一つでも当てはまる制度があればチェックをしてください。）
D42: □ | E42: ①介護休業とは別に、利用開始から３年を超える期間で２回の利用を可能としている。
E43: （該当条文： ）
D44: □ | E44: ②介護休業とは別に、利用開始から３年の間で３回以上の利用を可能としている。
E45: （該当条文： ）
D46: □ | E46: ③介護休業とは別に、利用開始から３年を超える期間で３回以上の利用を可能としている。
E47: （該当条文： ）
D48: □ | E48: ④その他
E49: （該当条文： ）
B51: =$B$1&" "&$B$2 -> （様式-１１） 評価項目（３）-② | F51: =IF(F2="","",F2) -> □□建設
B52: 【法定を超える内容チェック表２】 各Ｑの「はい」または「いいえ」、「該当項目」に■ をご記入下さい。
B54: Q6 | C54: 小学生以上の子を持つ従業員が利用できる以下の制度のうち、いくつの制度がありますか。
D55: □ | E55: ①短時間勤務制度 | F55: □ | G55: ②テレワーク等
E56: （該当条文： ） | G56: （該当条文： ）
D57: □ | E57: ③フレックスタイム制 | F57: □ | G57: ④始業・終業時刻の繰上げ・繰下げ （１日の所定労働時間は変わらない）
E58: （該当条文： ） | G58: （該当条文： ）
D59: □ | E59: ⑤所定外労働をさせない制度 | F59: □ | G59: ⑥事業所内託児施設の運営 （共同運営や保育施設と契約している場合も含む）
E60: （該当条文： ） | G60: （該当条文： ）
D61: □ | E61: ⑦養育両立支援休暇の付与（子の看護等休暇を除く）
E62: （該当条文： ）
B64: Q7 | C64: 子の看護休暇について、従業員に対する次の配慮のうち、何項目実施していますか。
D65: □ | E65: ①小学校４年生以上の子についても、別に子の看護休暇が取得できる。 | F65: □ | G65: ②取得可能日数が、年５日（小学校３年生修了までの子が2人以上であれば年10日）を超える
E66: （該当条文： ） | G66: （該当条文： ）
B68: Q8 | C68: 介護休暇について、従業員に対する次の配慮のうち、何項目実施していますか。
D69: □ | E69: ①取得可能日数が、年5日（対象家族が2人以上であれば年10日）を超える。 | F69: □ | G69: ②法で定める「対象家族」を超える範囲も対象。 （対象家族：配偶者、父母・子・祖父母・兄弟姉妹及び孫、配偶者の父母）
E70: （該当条文： ） | G70: （該当条文： ）
B72: Q９ | C72: 子供が生まれる際の父親の休暇制度がある。
D73: □ | E73: はい | F73: □ | G73: いいえ
E74: （内容 ）
E75: （該当条文： ）
B77: Q10 | C77: 前々年（度）に残った年次有給休暇の積立制度を設けている。
D78: □ | E78: はい | F78: □ | G78: いいえ
E79: （内容 ）
E80: （該当条文： ）
B82: Q11 | C82: 妊娠、出産、育児、介護を理由に退職した従業員を対象とした再雇用制度がある。
D83: □ | E83: はい | F83: □ | G83: いいえ
E84: （内容 ）
E85: （該当条文： ）
B87: Q12 | C87: 次の制度等のうち、有給としているものが、いくつありますか。（一部支給でも可）
D88: □ | E88: ①産前産後休業（支給割合： ） | F88: □ | G88: ②育児時間 （支給割合： ）
E89: （該当条文： ） | G89: （該当条文： ）
D90: □ | E90: ③育児休業 （支給割合： ） | F90: □ | G90: ④介護休業 （支給割合： ）
E91: （該当条文： ） | G91: （該当条文： ）
D92: □ | E92: ⑤子の看護休暇 （支給割合： ） | F92: □ | G92: ⑥介護休暇 （支給割合： ）
E93: （該当条文： ） | G93: （該当条文： ）
D94: □ | E94: ⑦独自の有給休暇制度 （休暇名： ）
E95: （該当条文： ）
D96: ②「育児時間」：出産後１歳未満の子どもを育てる女性から請求があった場合、1日2回それぞれ30分以上、育児のための時間を与えなければなりません。（労働基準法第67条） ⑦独自の有給休暇制度の例：生理休暇、妊婦検診のための休暇、家族記念日休暇、バースディ休暇など（本人の結婚、妻の出産、忌引きによる休暇を除く）
B98: =$B$1&" "&$B$2 -> （様式-１１） 評価項目（３）-② | F98: =IF(F2="","",F2) -> □□建設
B99: 【法定を超える内容チェック表３】 各Ｑの「はい」または「いいえ」、「該当項目」に■ をご記入下さい。
B101: Q13 | C101: その他、上記以外で育児・介護休業法の規定を超える取組の実施があれば、法律条文を記入、該当部分を下線明示した上で、就業規則等を記入、法律を超える内容を具体的に下線明示してください。
D102: □ | E102: （育児・介護休業法）第○○条第○○項 ○○○○○○○○○ … ○○○○○○○○○○○○○○○○○○ ……………
E103: （就業規則）第○○条第○○項 ○○○○○○○○ … ○○○○○○○○○○○○○○○○○○○○ ……………
E105: 法定内 判 定 | F105: ＯＫ！
D107: ★ | E107: 総合評価（Ｑ1～Ｑ13） 加 算 | F107: =IF(F105="ＯＫ！",IF((COUNTIF(D10,"■")+COUNTIF(D17:F21,"■")+COUNTIF(D27,"■")+COUNTIF(D34:F48,"■")+COUNTIF(D55:F69,"■")+COUNTIF(D72:D83,"■")+COUNTIF(D88:F94,"■")+COUNTIF(D102,"■"))>=1,"ＯＫ！","ＮＯ！"),"ＮＯ！") -> ＮＯ！
E108: ★総合評価（Ｑ1～Ｑ13）加算欄が「ＯＫ！」となる場合でも、就業規則等の添付資料により上記記載内容が確認できなければ、総合評価方式の加算点を認めません。

Sheet 登録基幹技能者
A1: =CONCATENATE("（様式-",INDEX(発注者入力シート!$B$37:$G$46,MATCH(発注者入力シート!N14,発注者入力シート!$C$37:$C$46,0),4),"）") -> （様式-１２） | S1: 着色セルの凡例
A2: =CONCATENATE("評価項目",INDEX(発注者入力シート!$B$37:$G$46,MATCH(発注者入力シート!N14,発注者入力シート!$C$37:$C$46,0),5),"-",INDEX(発注者入力シート!$B$37:$G$46,MATCH(発注者入力シート!N14,発注者入力シート!$C$37:$C$46,0),6)) -> 評価項目（３）-③ | S2: （企業）
T3: ：「企業入力シート」、一覧表（別紙）で入力（数式リンク有）
A4: 登録基幹技能者の配置 | T4: ：リストから選択が必要な箇所
D6: 企業体名： | F6: =IF(企業入力シート!C5="","",企業入力シート!C5) | S6: （発注者）
T7: ：「発注者入力シート」で入力（数式リンク有）
T8: ：セルに直接入力が必要な箇所
A9: 対象： | B9: 登録電気工事基幹技能者の現場への配置
A10: 現場への配置 | S10: 【印刷について】
A11: (1) | B11: 現場に配置する登録基幹技能者は、主任技術者（下請企業も含む）及び監理技術者（監理技術者補佐を含む）以外の技術者を対象する。 | S11: このシートは「ページ設定」で「白黒印刷」と「印刷範囲」が設定されています。
S12: 様式内の吹出しコメントは印刷されません。

Sheet 【建築】応急復旧相談員
A1: =CONCATENATE("（様式-",INDEX(発注者入力シート!$B$37:$G$46,MATCH(発注者入力シート!N24,発注者入力シート!$C$37:$C$46,0),4),"）") -> （様式-１３） | V1: 着色セルの凡例
A2: =CONCATENATE("評価項目",INDEX(発注者入力シート!$B$37:$G$46,MATCH(発注者入力シート!N24,発注者入力シート!$C$37:$C$46,0),5),"-",INDEX(発注者入力シート!$B$37:$G$46,MATCH(発注者入力シート!N24,発注者入力シート!$C$37:$C$46,0),6)) -> 評価項目（３）-④ | V2: （企業）
W3: ：「企業入力シートで入力（数式リンク有）
A4: 島根県被災住宅応急復旧相談員の登録 | W4: ：セルに直接入力が必要な箇所
D6: 企業体名： | G6: =IF([6]企業入力シート!C5="","",[6]企業入力シート!C5) | V6: （発注者）
W7: ：「発注者入力シート」で入力（数式リンク有）
A8: 島根県建築住宅施策推進協議会 会員団体への所属 | L8: 第１グループ | O8: 第２グループ | R8: 第３グループ | W8: ：セルに直接入力が必要な箇所
V10: 【印刷について】
A11: 登録者氏名 | I11: 有効期限（年月日） | O11: 登録番号 | V11: このシートは「ページ設定」で「白黒印刷」と「印刷範囲」が設定されています。
A12: 1
A13: 2
A14: 3
A15: 4
A16: 5
A17: 6
A18: 7
A19: 8
A20: 9
A21: 10
A22: 11
A23: 12
... A29: 18
A30: (1) | B30: 各登録者の「応急復旧相談員証」の写し（表）を添付すること。
A31: (2) | B31: 各登録者の雇用関係が証明できる書類の写しを添付すること。
A32: (3) | B32: １８名以上登録している場合は、代表者１８名について記入すること。
A33: (4) | B33: =CONCATENATE("入札公告日前日時点（令和",(YEAR(発注者入力シート!H7)-2018),"年",MONTH(発注者入力シート!H7),"月",DAY(発注者入力シート!H7),"日時点）での状況について記載すること。") -> 入札公告日前日時点（令和8年10月14日時点）での状況について記載すること。
A34: ※ | B34: 雇用関係を確認できる資料(例)
B35: 監理技術者資格者証の写し、市町村が作成する住民税特別徴収税額通知書の写し、
B36: 健康保険・厚生年金被保険者標準報酬決定通知書の写し、所属会社の雇用証明書等

Sheet 若手技術者・従業員新規雇用（JV)
A1: =CONCATENATE("（様式-",INDEX(発注者入力シート!$B$37:$G$46,MATCH(発注者入力シート!N15,発注者入力シート!$C$37:$C$46,0),4),"）") -> （様式-１４） | S1: 着色セルの凡例
A2: =CONCATENATE("評価項目",INDEX(発注者入力シート!$B$37:$G$46,MATCH(発注者入力シート!N15,発注者入力シート!$C$37:$C$46,0),5),"-",INDEX(発注者入力シート!$B$37:$G$46,MATCH(発注者入力シート!N15,発注者入力シート!$C$37:$C$46,0),6)) -> 評価項目（３）-⑤ | S2: （企業）
A3: 若手技術者・若手従業員の新規雇用 | T3: ：「企業入力シートで入力（数式リンク有）
T4: ：セルに直接入力もしくはリストから選択が必要な箇所
D5: 企業体名： | F5: =IF(企業入力シート!C5="","",企業入力シート!C5)
S6: （発注者）
A7: 対象： | B7: 令和６年4月1日以降に、若手技術者・若手従業員（３０歳未満の者）の１人以上の新規雇用があること。 | T7: ：「発注者入力シート」で入力（数式リンク有）
T8: ：セルに直接入力が必要な箇所
B9: ただし、入札参加希望者と直接的かつ恒常的な雇用関係にあること。 | S9: 【印刷について】
S10: このシートは「ページ設定」で「白黒印刷」と「印刷範囲」が設定されています。
A11: ○若手技術者・若手従業員の新規雇用があれば、下表を記載すること。 | S11: 様式内の吹出しコメントは印刷されません。
A12: 特別共同企業体の代表者（第１グループ）の実績 | K12: =IF(企業入力シート!C14="","",企業入力シート!C14) -> ○○建設
A13: 新規雇用の内容 | H13: 新規雇用① | M13: 新規雇用②
A14: 新規雇用した若手技術者・若手従業員の氏名
A15: 生年月日
A16: 新規雇用年月日
A17: 新規雇用時の年齢 | H17: =IF(OR(H15="",H16=""),"-",DATEDIF(H15,H16,"Y")) -> - | M17: =IF(OR(M15="",M16=""),"-",DATEDIF(M15,M16,"Y")) -> -
A18: （a）.建設業法第７条第１項第２号イで定める学校の建設業法施行規則第１条に定める学科（国土交通省令で定める学科）を卒業した者等。 なお、国土交通省令で定める学科に記載の、許可を受けようとする建設業欄の許可業種毎の区分はない。 または、旧建設業法施行令第36条第１項第１号及び第２号並びに旧令第37条第２項第１号イ(１)及び(２)並びに第２号イ(１)で定める学校の施工技術検定規則第2条に定める学科を修めた者等。
A30: （b）.当該工事種別に該当する建設業法第７条第１項第２号ハに示す資格を有する者
A32: （c）.上記（a）、（b）以外の若手従業員
A35: 特別共同企業体の代表者以外の構成員（第２グループ）の実績 | K35: =IF(企業入力シート!C48="","",企業入力シート!C48) -> △△建設
A36: 新規雇用の内容 | H36: 新規雇用① | M36: 新規雇用②
A37: 新規雇用した若手技術者の氏名
A38: 生年月日
A39: 新規雇用年月日
A40: 新規雇用時の年齢 | H40: =IF(OR(H38="",H39=""),"-",DATEDIF(H38,H39,"Y")) -> - | M40: =IF(OR(M38="",M39=""),"-",DATEDIF(M38,M39,"Y")) -> -
A41: （a）.建設業法第７条第１項第２号イで定める学校の建設業法施行規則第１条に定める学科（国土交通省令で定める学科）を卒業した者等。 なお、国土交通省令で定める学科に記載の、許可を受けようとする建設業欄の許可業種毎の区分はない。 または、旧建設業法施行令第36条第１項第１号及び第２号並びに旧令第37条第２項第１号イ(１)及び(２)並びに第２号イ(１)で定める学校の施工技術検定規則第2条に定める学科を修めた者等。
A53: （b）.当該工事種別に該当する建設業法第７条第１項第２号ハに示す資格を有する者
A55: （c）.上記（a）、（b）以外の若手従業員
A58: 特別共同企業体の代表者以外の構成員（第３グループ）の実績 | K58: =IF(企業入力シート!C77="","",企業入力シート!C77) -> □□建設
A59: 新規雇用の内容 | H59: 新規雇用① | M59: 新規雇用②
A60: 新規雇用した若手技術者の氏名
A61: 生年月日
A62: 新規雇用年月日
A63: 新規雇用時の年齢 | H63: =IF(OR(H61="",H62=""),"-",DATEDIF(H61,H62,"Y")) -> - | M63: =IF(OR(M61="",M62=""),"-",DATEDIF(M61,M62,"Y")) -> -
A64: （a）.建設業法第７条第１項第２号イで定める学校の建設業法施行規則第１条に定める学科（国土交通省令で定める学科）を卒業した者等。 なお、国土交通省令で定める学科に記載の、許可を受けようとする建設業欄の許可業種毎の区分はない。 または、旧建設業法施行令第36条第１項第１号及び第２号並びに旧令第37条第２項第１号イ(１)及び(２)並びに第２号イ(１)で定める学校の施工技術検定規則第2条に定める学科を修めた者等。
A76: （b）.当該工事種別に該当する建設業法第７条第１項第２号ハに示す資格を有する者
A78: （c）.上記（a）、（b）以外の若手従業員
A80: (1) | B80: 新規雇用した日における年齢が３０歳以下である者を記載すること。
A81: (2) | B81: 新規雇用した日及び直接的かつ恒常的な雇用関係を確認できる書類を添付すること。
A82: (3) | B82: （a）に該当する場合、指定学校・学科を卒業したことがわかる証明書の写しを添付すること。
B83: （学科名だけでは判断できない学科の場合は専攻等まで記載のある証明書とすること。）
A84: (4) | B84: （b）に該当する場合、資格者証の写しを添付すること。
A85: (5) | B85: =CONCATENATE("入札公告日前日時点（令和",(YEAR(発注者入力シート!H7)-2018),"年",MONTH(発注者入力シート!H7),"月",DAY(発注者入力シート!H7),"日時点）での状況について記載すること。") -> 入札公告日前日時点（令和8年10月14日時点）での状況について記載すること。
A87: ※ | B87: 雇用関係確認書類
B88: （１）所属会社の雇用証明書（参考様式HP掲載）
B89: （２）雇用保険被保険者資格取得等確認通知書（事業主通知用）及び監理技術者資格者証
B90: （３）その他上記に準ずる資料（所属会社名及び３ヶ月以上の雇用関係が確認できるもの
B91: （２つの書類を提出しても可）に限る)
B92: ○詳細は島根県土木部土木総務課建設産業対策室ホームページ参照
B93: URL: | C93: https://www.pref.shimane.lg.jp/admin/bid/seido/seido_doboku/jyoukinseikakuninsiryou.html

Sheet 消防団
A1: =CONCATENATE("（様式-",INDEX(発注者入力シート!$B$37:$G$46,MATCH(発注者入力シート!N16,発注者入力シート!$C$37:$C$46,0),4),"）") -> #N/A | S1: 着色セルの凡例
A2: =CONCATENATE("評価項目",INDEX(発注者入力シート!$B$37:$G$46,MATCH(発注者入力シート!N16,発注者入力シート!$C$37:$C$46,0),5),"-",INDEX(発注者入力シート!$B$37:$G$46,MATCH(発注者入力シート!N16,発注者入力シート!$C$37:$C$46,0),6)) -> #N/A | S2: （企業）
T3: ：「企業入力シートで入力（数式リンク有）
A4: 消防団協力事業所の認定 | T4: ：リストから選択が必要な箇所
D6: 企業体名： | F6: =IF(企業入力シート!C5="","",企業入力シート!C5) | S6: （発注者）
T7: ：「発注者入力シート」で入力（数式リンク有）
T8: ：セルに直接入力が必要な箇所
A9: 対象： | B9: =CONCATENATE("入札公告日前日時点（令和",(YEAR(発注者入力シート!H7)-2018),"年",MONTH(発注者入力シート!H7),"月",DAY(発注者入力シート!H7),"日時点）での消防団協力事業所の認定状況") -> 入札公告日前日時点（令和8年10月14日時点）での消防団協力事業所の認定状況
A10: 消防団協力事業所の認定の有無 | S10: 【印刷について】
S11: このシートは「ページ設定」で「白黒印刷」と「印刷範囲」が設定されています。
A12: (1) | B12: 消防団協力事業所の認定を証明する書類の写しを添付すること。この書類は「事業者名」、「認定日」そして「認定の有効期限」のいずれもが記載してあり、市町村長が発行したものであること。 | S12: 様式内の吹出しコメントは印刷されません。

Sheet 【建築】応急危険度判定士
A1: =CONCATENATE("（様式-",INDEX(発注者入力シート!$B$37:$G$46,MATCH(発注者入力シート!N17,発注者入力シート!$C$37:$C$46,0),4),"）") -> #N/A | S1: 着色セルの凡例
A2: =CONCATENATE("評価項目",INDEX(発注者入力シート!$B$37:$G$46,MATCH(発注者入力シート!N17,発注者入力シート!$C$37:$C$46,0),5),"-",INDEX(発注者入力シート!$B$37:$G$46,MATCH(発注者入力シート!N17,発注者入力シート!$C$37:$C$46,0),6)) -> #N/A | S2: （企業）
T3: ：「企業入力シートで入力（数式リンク有）
A4: 島根県地震被災建築物応急危険度判定士の登録 | T4: ：セルに直接入力が必要な箇所
D6: 企業体名： | F6: =IF(企業入力シート!C5="","",企業入力シート!C5) | S6: （発注者）
T7: ：「発注者入力シート」で入力（数式リンク有）
T8: ：セルに直接入力が必要な箇所
A9: 登録者氏名 | G9: 最新登録（更新）年月日 | L9: 交付番号
S10: 【印刷について】
S11: このシートは「ページ設定」で「白黒印刷」と「印刷範囲」が設定されています。
A24: (1) | B24: 各登録者の『応急危険度判定士登録証」の写し（表裏共）を添付すること。
A25: (2) | B25: 各登録者の雇用関係が証明できる書類を添付すること。
A26: (3) | B26: ○名以上登録している場合は、代表者○名について記入すること。
A27: (4) | B27: =CONCATENATE("入札公告日前日時点（令和",(YEAR(発注者入力シート!H7)-2018),"年",MONTH(発注者入力シート!H7),"月",DAY(発注者入力シート!H7),"日時点）での状況について記載すること。") -> 入札公告日前日時点（令和8年10月14日時点）での状況について記載すること。

Sheet 建設キャリアアップシステム(CCUS)
A1: =CONCATENATE("（様式-",INDEX(発注者入力シート!$B$37:$G$46,MATCH(発注者入力シート!N18,発注者入力シート!$C$37:$C$46,0),4),"）") -> #N/A | S1: 着色セルの凡例
A2: =CONCATENATE("評価項目",INDEX(発注者入力シート!$B$37:$G$46,MATCH(発注者入力シート!N18,発注者入力シート!$C$37:$C$46,0),5),"-",INDEX(発注者入力シート!$B$37:$G$46,MATCH(発注者入力シート!N18,発注者入力シート!$C$37:$C$46,0),6)) -> #N/A | S2: （企業）
T3: ：「企業入力シート」、一覧表（別紙）で入力（数式リンク有）
A4: 建設キャリアアップシステム（CCUS）の活用 | T4: ：セルに直接入力もしくはリストから選択が必要な箇所
H6: 会社（企業体）名： | K6: =IF(企業入力シート!C5="","",企業入力シート!C5) | S6: （発注者）
T7: ：「発注者入力シート」で入力（数式リンク有）
A8: 対象： | B8: 当該工事における建設キャリアアップシステム（CCUS）の活用することの確約 | T8: ：セルに直接入力が必要な箇所
B9: ※活用とは、建設現場にカードリーダーを設置するなどして、技能労働者の就業履歴を蓄積することをいう
A11: 確約の有無
B12: ※記入がない場合は「無」と判断する。
B13: ※「有」の場合は、建設キャリアアップシステム活用確約書を提出すること。 | S13: 【印刷について】
S14: このシートは「ページ設定」で「白黒印刷」と「印刷範囲」が設定されています。
S15: 様式内の吹出しコメントは印刷されません。
A16: 建設キャリアアップシステム活用確約書
M19: =IF(E11="有",企業入力シート!C11,"")
B21: =IF(E11="有",発注者入力シート!C6&"長 様","")
F24: 共同企業体名 | I24: =IF(E11="有",企業入力シート!C5,"")
I26: （代表者）
H28: 住 所 | K28: =IF(E11="有",企業入力シート!C13,"")
H29: 商号又は名称 | K29: =IF(E11="有",企業入力シート!C14,"")
H30: 代 表 者 名 | K30: =IF(E11="有",企業入力シート!C15,"")
B33: 下記工事の施工にあたり、建設キャリアアップシステムを活用することを確約します。
H35: 記
