Workbook

Sheet 質問書
A1: 質 問 書
I2: 令和 年 月 日
A3: 清 須 市 長 様
H4: 住所
H5: 商号又は名称
H6: 代表者氏名
A7: 下記の入札について質問します。
A8: 記
A10: 工事名 | E10: ネギヤ保育園始め３施設照明LED化改修工事（週休２日）
A12: 工事場所 | E12: 清須市春日須ケ田２１番地 ほか
A14: 番号 | B14: 図面番号等 | C14: 質 問 欄 | G14: 回 答 欄

Sheet 入力表
B3: 担当課長 | AT3: 土木管理課長
B4: 工事名 | K4: =+質問書!E10 -> ネギヤ保育園始め３施設照明LED化改修工事（週休２日） | AT4: 道路建設課長
B5: 路線等の名称 | K5: =+質問書!E11 -> 0 | AT5: 雨水対策課長
B6: 工事場所 | K6: =+質問書!E12 -> 清須市春日須ケ田２１番地 ほか | AT6: 土地改良事業室
B7: 質問者 | K7: =+質問書!I5 -> 0 | AT7: 建築課長
B8: 起案者 | AN8: 中村直哉 | AT8: 下水道管理課長
B9: 起案年度 | K9: 26 | X9: 年 | AN9: 江川幸一 | AT9: 下水道建設課長
B10: 完結年度 | K10: 26 | X10: 年度 | AN10: 伊藤大輔 | AT10: まちづくり推進課長
AT11: 公園緑地課長
AT12: 都市交通課長
AT13: 区画整理課長
AT14: 水道課長
AT15: 土地改良区
AT16: 教育総務課長

Sheet 依頼書起案
B1: 起案 | F1: 平 | G1: 成 | H1: =入力表!K9 -> 26 | I1: 年 | K1: 月 | M1: 日 | N1: 市長 | R1: 副市長
B2: 決裁 | F2: 平 | G2: 成 | H2: =H1 -> 26 | I2: 年 | J2: =+J1 -> 0 | K2: 月 | M2: 日
B3: 施行 | F3: 平 | G3: 成 | H3: =H2 -> 26 | I3: 年 | J3: =+J2 -> 0 | K3: 月 | M3: 日 | N3: 部長 | R3: 課長 | V3: 課長補佐 | Z3: 係長
B4: 完結年度 | G4: 平成 | J4: =+入力表!K10 -> 26 | K4: 年度 | N4: 専 決
B5: 文書記号 | G5: Ｄ ・ ５ ・２
B6: 文書番号 | G6: 第 ― 号 | N6: 合議
B7: 保存期間 | G7: ５年
B8: 公印使用
B11: 契約検査室 | N11: 起案者氏名
B12: 検査係 | O12: =+入力表!K8 -> 0 | W12: 内線（２２３２）
F13: 一般競争入札に係る質問書の回答について（伺い）
D14: このことについて質問書が提出されましたので、別紙案のとおり | W14: =+入力表!K3 -> 0
C15: あて回答を依頼してよろしいか。
B17: 記
D18: 工事名 | I18: =+入力表!K4 -> ネギヤ保育園始め３施設照明LED化改修工事（週休２日）
D19: 路線等の名称 | I19: =+入力表!K5 -> 0
D20: 工事場所 | I20: =+入力表!K6 -> 清須市春日須ケ田２１番地 ほか
D21: 質問者 | I21: =+入力表!K7 -> 0

Sheet 依頼
T2: 平成 | V2: =入力表!K9 -> 26 | W2: 年 | Y2: 月 | AA2: 日
B3: =+入力表!K3 -> 0
W5: 契約検査室長
F6: 一般競争入札に係る質問書の回答について（依頼）
B7: このことについて別紙のとおり質問書が届きましたので回答をお願いします。
O10: 記
D12: 工事名 | I12: =+入力表!K4 -> ネギヤ保育園始め３施設照明LED化改修工事（週休２日）
D13: 路線等の名称 | I13: =+入力表!K5 -> 0
D14: 工事場所 | I14: =+入力表!K6 -> 清須市春日須ケ田２１番地 ほか
B28: 連絡先 契約検査室検査係 内線２２３２

Sheet 回答書起案
B1: 起案 | F1: 平 | G1: 成 | H1: =入力表!K9 -> 26 | I1: 年 | K1: 月 | M1: 日 | N1: 市長 | R1: 副市長
B2: 決裁 | F2: 平 | G2: 成 | H2: =H1 -> 26 | I2: 年 | J2: =+J1 -> 0 | K2: 月 | M2: 日
B3: 施行 | F3: 平 | G3: 成 | H3: =H2 -> 26 | I3: 年 | J3: =+J2 -> 0 | K3: 月 | M3: 日 | N3: 部長 | R3: 課長 | V3: 課長補佐 | Z3: 係長
B4: 完結年度 | G4: 平成 | J4: =+依頼書起案!J4 -> 26 | K4: 年度 | N4: 専 決
B5: 文書記号 | G5: Ｄ ・ ５ ・２
B6: 文書番号 | G6: 第 ― 号 | N6: 合議
B7: 保存期間 | G7: ５年
B8: 公印使用
B11: 契約検査室 | N11: 起案者氏名
B12: 検査係 | O12: =+入力表!K8 -> 0 | W12: 内線（２２３２）
F13: 一般競争入札に係る質問書の回答について（伺い）
D14: このことについて | I14: =+入力表!K3 -> 0 | M14: より回答がありましたので、別紙のとおり質問者宛
C15: 回答書の送付及びホームページに掲載してよろしいか。
B17: 記
D18: 工事名 | I18: =+入力表!K4 -> ネギヤ保育園始め３施設照明LED化改修工事（週休２日）
D19: 路線等の名称 | I19: =+入力表!K5 -> 0
D20: 工事場所 | I20: =+入力表!K6 -> 清須市春日須ケ田２１番地 ほか
D21: 質問者 | I21: =+入力表!K7 -> 0

Sheet 回答書
A1: 回 答 書
H2: 41640
A3: =質問書!I5 -> 0
A4: =質問書!I6 -> 0 | C4: 様
G6: 刈谷市長 竹 中 良 則
A10: 下記のとおり回答します。
D11: 記
A12: 工 事 名 | C12: =入力表!K4 -> ネギヤ保育園始め３施設照明LED化改修工事（週休２日）
A13: 路 線 名 | C13: =入力表!K5 -> 0
A14: 工 事 場 所 | C14: =入力表!K6 -> 清須市春日須ケ田２１番地 ほか
A15: 質 問 欄 | E15: 回 答 欄
A16: =質問書!A15 -> 0 | F16: =質問書!H15 -> 0
A17: =質問書!A16 -> 0 | F17: =質問書!H16 -> 0
A18: =質問書!A17 -> 0 | F18: =質問書!H17 -> 0
A19: =質問書!A18 -> 0 | F19: =質問書!H18 -> 0
A20: =質問書!A19 -> 0 | F20: =質問書!H19 -> 0
A21: =質問書!A20 -> 0 | F21: =質問書!H20 -> 0
A22: =質問書!A21 -> 0 | F22: =質問書!H21 -> 0
A23: =質問書!A22 -> 0 | F23: =質問書!H22 -> 0
A24: =質問書!A23 -> 0 | F24: =質問書!H23 -> 0
A25: =質問書!A24 -> 0 | F25: =質問書!H24 -> 0
A26: =質問書!A25 -> 0 | F26: =質問書!H25 -> 0
A27: =質問書!A26 -> 0 | F27: =質問書!H26 -> 0
A28: =質問書!#REF! -> #REF! | F28: =質問書!#REF! -> #REF!
A29: =質問書!A27 -> 0 | F29: =質問書!H27 -> 0
A30: =質問書!A28 -> 0 | F30: =質問書!H28 -> 0
A31: =質問書!#REF! -> #REF! | F31: =質問書!#REF! -> #REF!
A32: =質問書!#REF! -> #REF! | F32: =質問書!#REF! -> #REF!
A33: =質問書!#REF! -> #REF! | F33: =質問書!#REF! -> #REF!
A34: =質問書!#REF! -> #REF! | F34: =質問書!#REF! -> #REF!
A35: 質 問 欄 | E35: 回 答 欄
A36: =質問書!#REF! -> #REF! | F36: =質問書!#REF! -> #REF!
A37: =質問書!#REF! -> #REF! | F37: =質問書!#REF! -> #REF!
A38: =質問書!#REF! -> #REF! | F38: =質問書!#REF! -> #REF!
A39: =質問書!#REF! -> #REF! | F39: =質問書!#REF! -> #REF!
A40: =質問書!#REF! -> #REF! | F40: =質問書!#REF! -> #REF!
A41: =質問書!#REF! -> #REF! | F41: =質問書!#REF! -> #REF!
A42: =質問書!#REF! -> #REF! | F42: =質問書!#REF! -> #REF!
A43: =質問書!#REF! -> #REF! | F43: =質問書!#REF! -> #REF!
A44: =質問書!#REF! -> #REF! | F44: =質問書!#REF! -> #REF!
A45: =質問書!#REF! -> #REF! | F45: =質問書!#REF! -> #REF!
A46: =質問書!#REF! -> #REF! | F46: =質問書!#REF! -> #REF!
A47: =質問書!#REF! -> #REF! | F47: =質問書!#REF! -> #REF!
... A65: =質問書!#REF! -> #REF! | F65: =質問書!#REF! -> #REF!
A66: 質 問 欄 | E66: 回 答 欄
A67: =質問書!#REF! -> #REF! | F67: =質問書!#REF! -> #REF!
A68: =質問書!#REF! -> #REF! | F68: =質問書!#REF! -> #REF!
A69: =質問書!#REF! -> #REF! | F69: =質問書!#REF! -> #REF!
A70: =質問書!#REF! -> #REF! | F70: =質問書!#REF! -> #REF!
A71: =質問書!#REF! -> #REF! | F71: =質問書!#REF! -> #REF!
A72: =質問書!#REF! -> #REF! | F72: =質問書!#REF! -> #REF!
A73: =質問書!#REF! -> #REF! | F73: =質問書!#REF! -> #REF!
A74: =質問書!#REF! -> #REF! | F74: =質問書!#REF! -> #REF!
A75: =質問書!#REF! -> #REF! | F75: =質問書!#REF! -> #REF!
A76: =質問書!#REF! -> #REF! | F76: =質問書!#REF! -> #REF!
A77: =質問書!#REF! -> #REF! | F77: =質問書!#REF! -> #REF!
A78: =質問書!#REF! -> #REF! | F78: =質問書!#REF! -> #REF!
... A96: =質問書!#REF! -> #REF! | F96: =質問書!#REF! -> #REF!
A97: 質 問 欄 | E97: 回 答 欄
A98: =質問書!#REF! -> #REF! | F98: =質問書!#REF! -> #REF!
A99: =質問書!#REF! -> #REF! | F99: =質問書!#REF! -> #REF!
A100: =質問書!#REF! -> #REF! | F100: =質問書!#REF! -> #REF!
A101: =質問書!#REF! -> #REF! | F101: =質問書!#REF! -> #REF!
A102: =質問書!#REF! -> #REF! | F102: =質問書!#REF! -> #REF!
A103: =質問書!#REF! -> #REF! | F103: =質問書!#REF! -> #REF!
A104: =質問書!#REF! -> #REF! | F104: =質問書!#REF! -> #REF!
A105: =質問書!#REF! -> #REF! | F105: =質問書!#REF! -> #REF!
A106: =質問書!#REF! -> #REF! | F106: =質問書!#REF! -> #REF!
A107: =質問書!#REF! -> #REF! | F107: =質問書!#REF! -> #REF!
A108: =質問書!#REF! -> #REF! | F108: =質問書!#REF! -> #REF!
A109: =質問書!#REF! -> #REF! | F109: =質問書!#REF! -> #REF!
... A127: =質問書!#REF! -> #REF! | F127: =質問書!#REF! -> #REF!
A128: 質 問 欄 | E128: 回 答 欄
A129: =質問書!#REF! -> #REF! | F129: =質問書!#REF! -> #REF!
A130: =質問書!#REF! -> #REF! | F130: =質問書!#REF! -> #REF!
A131: =質問書!#REF! -> #REF! | F131: =質問書!#REF! -> #REF!
A132: =質問書!#REF! -> #REF! | F132: =質問書!#REF! -> #REF!
A133: =質問書!#REF! -> #REF! | F133: =質問書!#REF! -> #REF!
A134: =質問書!#REF! -> #REF! | F134: =質問書!#REF! -> #REF!
A135: =質問書!#REF! -> #REF! | F135: =質問書!#REF! -> #REF!
A136: =質問書!#REF! -> #REF! | F136: =質問書!#REF! -> #REF!
A137: =質問書!#REF! -> #REF! | F137: =質問書!#REF! -> #REF!
A138: =質問書!#REF! -> #REF! | F138: =質問書!#REF! -> #REF!
A139: =質問書!#REF! -> #REF! | F139: =質問書!#REF! -> #REF!
A140: =質問書!#REF! -> #REF! | F140: =質問書!#REF! -> #REF!
... A158: =質問書!#REF! -> #REF! | F158: =質問書!#REF! -> #REF!
A159: 質 問 欄 | E159: 回 答 欄
A160: =質問書!#REF! -> #REF! | F160: =質問書!#REF! -> #REF!
A161: =質問書!#REF! -> #REF! | F161: =質問書!#REF! -> #REF!
A162: =質問書!#REF! -> #REF! | F162: =質問書!#REF! -> #REF!
A163: =質問書!#REF! -> #REF! | F163: =質問書!#REF! -> #REF!
A164: =質問書!#REF! -> #REF! | F164: =質問書!#REF! -> #REF!
A165: =質問書!#REF! -> #REF! | F165: =質問書!#REF! -> #REF!
A166: =質問書!#REF! -> #REF! | F166: =質問書!#REF! -> #REF!
A167: =質問書!#REF! -> #REF! | F167: =質問書!#REF! -> #REF!
A168: =質問書!#REF! -> #REF! | F168: =質問書!#REF! -> #REF!
A169: =質問書!#REF! -> #REF! | F169: =質問書!#REF! -> #REF!
A170: =質問書!#REF! -> #REF! | F170: =質問書!#REF! -> #REF!
A171: =質問書!#REF! -> #REF! | F171: =質問書!#REF! -> #REF!
... A189: =質問書!#REF! -> #REF! | F189: =質問書!#REF! -> #REF!
...
