Workbook

Sheet 提出要領
B2: 技術資料（技術評価項目申請書及び根拠資料） 提出要領

Sheet 鑑
P1: 提出日：
A2: 技術評価項目申請書
A3: 北海道建設部長 様
E4: 競争入札参加希望者
E5: ※共同企業体の場合はその組織体名（住所以下は代表窓口）について記入し、別紙１にすべての構成員を記入すること。
E6: 商号又は名称
E7: 建設工事等競争入札 参加資格者名簿登録番号
E8: 住所
E9: 代表者（役職・氏名）
E10: 連絡窓口（部署・氏名）
E11: 電話番号
E12: メールアドレス
A14: 次の工事について、技術評価項目申請書及び根拠資料を提出します。内容については事実と相違ないことを誓約します。
A15: なお、申請書及び根拠資料に錯誤又は遺漏がある場合、項目毎の評価点の上方修正はされず下方修正されることについて承諾いたします。
A16: また、「減点項目」に該当する場合、発注者による修正について承諾いたします。
B18: 工事番号： | E18: 30520
B19: 工事名： | E19: 北海道足寄高等学校大規模改造工事
A21: 自己採点表及び審査表 ※共同企業体の場合、別紙１の構成員別自己採点表を用い、評価点（自己採点）を記入すること。
A22: 技術評価項目 | J22: No. | K22: 配点 | L22: 評価点 （自己採点） | O22: 評価点 （審査結果） | R22: 様式 | T22: 根拠資料 | W22: 事前登録
R23: 提出（事前登録の場合は活用）の項目 にチェック「✓」してください。
A24: 1 | B24: 簡易な 施工計画 (Ⅰ・Ⅱ型) | D24: 工程管理に係る技術的所見 | J24: - | K24: 15 | L24: - | S24: 様式１ | U24: カタログ等資料 | W24: -
D25: 品質管理に係る技術的所見 | S25: 様式２ | W25: -
D26: 施工上の対処すべき技術的所見 | S26: 様式３ | W26: -
A27: 2 | B27: 企業の 施工能力 | D27: 工事施行成績評定 | J27: (1) | K27: 7.5 | S27: 様式４ | T27: - | U27: -
D28: 工事等優秀者表彰 | J28: (2) | K28: 0.5 | U28: 賞状
D29: ＩＳＯマネジメントシステム | J29: (3) | K29: 0.5 | U29: 登録証
D30: 地域精通度（施工実績） | J30: (4)
A31: 3 | B31: 配置予定技術者 | D31: 主任(監理)技術者の資格 | J31: (5) | K31: 2 | S31: 様式５ | U31: 資格証明資料 | W31: -
D32: 主任(監理)技術者の継続教育 | J32: (6) | K32: 0.5 | U32: CPD実績証明書 | W32: -
A33: 4 | B33: 担い手の 育成 ・ 確保 | D33: 技術者の追加配置 | J33: (7) | K33: 0.5 | S33: 様式 ６－１ | U33: 資格証明資料 | W33: -
D34: 技術職員の育成・確保 | J34: (8) | K34: 0.5 | U34: 経審結果通知書
D35: 新規の雇用 | J35: (9) | K35: 0.5 | U35: 証明書類 | W35: -
D36: 労働環境改善 | J36: (10) | K36: 1 | S36: 様式 ６－２ | U36: 証明書類
D37: 地域の技能士等の活用 | J37: (11) | K37: 0.5 | S37: 様式 ６－３ | T37: - | U37: - | W37: -
A38: 5 | B38: 地域の 守り手 確保 | D38: 主たる営業所 | J38: (12)
D39: 地域企業の活用 | J39: (13) | K39: 1 | S39: 様式 ７－１ | T39: - | U39: - | W39: -
D40: 地域資材の活用 | J40: (14) | K40: 0.75 | T40: - | U40: - | W40: -
D41: 多様な雇用への貢献 | J41: (15) | K41: 0.5 | U41: 証明書類
D42: 環境対策の認定制度等 | J42: (16) | K42: 0.25 | S42: 様式 ７－２ | U42: 証明書類
D43: 円滑な事業執行への貢献 | J43: (17)
A44: 6 | B44: 地域建設業経営環境評価 | J44: (18)
A45: 7 | B45: その他 | J45: (19)
A46: 8 | B46: 減点 | J46: (20) | L46: - | R46: - | S46: - | T46: - | U46: - | W46: -
A47: 技術評価点合計 | K47: =SUM(K24:K35,K36:K46) -> 31.5 | L47: =ROUNDDOWN(SUM(L24:L46),2) -> 0
A49: 注１ | B49: 電子入札システムなどの電子申請の場合については、押印を不要とする。
A50: 注２ | B50: 事前登録済みの場合は、確認済事前登録票（建築局計画管理課長確認）の写しを提出することで、根拠資料を省略することができます。
B51: ただし、事前登録の内容に変更が生じている場合は、申請内容を証する資料を添付してください。
B52: また、上記の評価点（自己採点）欄及び各様式の入力欄に必ず記入すること。
B53: （事前登録とは、一部の評価項目について、事前に入札参加者が申請し、発注者により審査の上、登録票を発行するもの）
X57: 別紙１
A58: 構成員別自己採点表 （共同企業体の場合のみ提出してください） ※この採点表で算出した評価点を、１ページ目の申請書の評価点欄に入力してください。 | N58: 構成員 | Q58: 構成員１ （代表） | S58: 構成員２ | U58: 構成員３ | W58: 構成員の数
N59: 商号又は名称 ※必ず入力 | W59: =COUNTA(Q59:V59) -> 0
N60: 有資格者名簿登録番号
A61: 評価項目 | C61: 評価基準 | N61: 点数 | Q61: 評価点 （自己採点） | S61: 評価点 （自己採点） | U61: 評価点 （自己採点） | W61: 共同企業体の算定方法 | Z61: ※各構成員の「商号又は名称」を必ず入力してください。未入力の場合、計算されません。
A62: No. | N62: Ⅰ型 | O62: Ⅱ型 | P62: 実績 | Z62: この列（Z列）は、「共同企業体の算定方法」に基づきそれぞれの評価項目を計算しています。
A63: 1 | B63: - | N63: 15 | O63: 10 | P63: - | Q63: - | S63: - | U63: - | W63: 代表 | Z63: 計算結果を参考として、１ページ目の技術評価項目申請書に点数をご記入ください。
A64: 2 | B64: (1) | C64: 過去８年間の北海道建設部建築局発注工事の当該工事と同じ入札参加資格の種類による工事施行成績の平均点 ※外構工事（土木・造園・舗装等）の評価点については、右表（）内の平均点 ※実績がない場合は、65点とする | H64: 85(93)点≦ 平均点 | N64: 7.5 | O64: 7.5 | P64: 7.5 | Q64: 施工成績の平均点 | R64: ='様式4～8'!$H$15 -> 0 | S64: 施工成績の平均点 | T64: ='様式4～8'!$M$15 -> 0 | U64: 施工成績の平均点 | V64: ='様式4～8'!$R$15 -> 0 | W64: 全社の 施工成績の 平均点から 左表の区分 に応じた 評価点
H65: 83(91)点≦ 平均点 ＜85(93)点 | N65: 7 | O65: 7 | P65: 7 | Y65: ← | Z65: 各構成員の「施行成績の平均点」は、様式４を入力すると、反映され、企業体の平均点が計算されます。
H66: 81(89)点≦ 平均点 ＜83(91)点 | N66: 6.5 | O66: 6.5 | P66: 6.5
H67: 79(87)点≦ 平均点 ＜81(89)点 | N67: 6 | O67: 6 | P67: 6
H68: 77(85)点≦ 平均点 ＜79(87)点 | N68: 5.5 | O68: 5.5 | P68: 5.5 | Q68: 企業体の平均点： | T68: =ROUNDDOWN((R64+T64+V64)/W59,1) -> #DIV/0!
H69: 75(83)点≦ 平均点 ＜77(85)点 | N69: 5 | O69: 5 | P69: 5
H70: 73(81)点≦ 平均点 ＜75(83)点 | N70: 4.5 | O70: 4.5 | P70: 4.5
H71: 71(79)点≦ 平均点 ＜73(81)点 | N71: 4 | O71: 4 | P71: 4 | Q71: 評価点： | Z71: =T71 -> 0
H72: 69(77)点≦ 平均点 ＜71(79)点 | N72: 3.5 | O72: 3.5 | P72: 3.5
H73: 平均点 ＜69(77)点 | N73: 3 | O73: 3 | P73: 3
B74: (2) | C74: 北海道建設部工事等優秀者表彰、道新技術・新製品開発賞 | H74: 過去１～３年間に表彰あり | N74: 0.5 | O74: 0.5 | P74: 0.5 | W74: 最高点 | Z74: =MAX(Q74:V74) -> 0
H75: 過去４～８年間に表彰あり | N75: 0.25 | O75: 0.25 | P75: 0.25
H76: なし | N76: 0 | O76: 0 | P76: 0
B77: (3) | C77: ISO9001を取得 | N77: 0.5 | O77: 0.5 | P77: 0.5 | W77: 平均点 | Z77: =ROUNDDOWN(SUM(Q77:V77)/$W$59,2) -> #DIV/0!
C78: 上記以外 | N78: 0 | O78: 0 | P78: 0
B79: (4) | C79: 過去15年間の工事箇所と同じ地域での施工実績 | H79: 同じ市町村 | N79: - | O79: 1.5 | P79: 1.5 | W79: 平均点
H80: 同じ振興局 | N80: - | O80: 0.75 | P80: 0.75
H81: なし | N81: - | O81: 0 | P81: 0
A82: 3 | B82: (5) | C82: 一級施工管理技士（有資格期間５年以上）を保有し、かつ一級建築士等を保有 | N82: 2 | O82: 2 | P82: 2 | W82: 最高点 | Z82: =MAX(Q82:V82) -> 0
C83: 一級施工管理技士（有資格期間５年以上）を保有又は、一級建築士等を保有 | N83: 1.5 | O83: 1.5 | P83: 1.5
C84: 一級施工管理技士（有資格期間５年未満）を保有 | N84: 1 | O84: 1 | P84: 1
C85: 二級施工管理技士（有資格期間５年以上）を保有 | N85: 0.5 | O85: 0.5 | P85: 0.5
C86: 上記以外 | N86: 0 | O86: 0 | P86: 0
B87: (6) | C87: ＣＰＤの証明あり（推奨単位以上取得） | N87: 0.5 | O87: 0.5 | P87: 0.5 | W87: 最高点 | Z87: =MAX(Q87:V87) -> 0
C88: なし | N88: 0 | O88: 0 | P88: 0
A89: 4 | B89: (7) | C89: 一級･二級施工管理技士又は一級施工管理技士補の追加配置あり | N89: 0.5 | O89: 0.5 | P89: 0.5 | W89: 最高点 | Z89: =MAX(Q89:V89) -> 0
C90: なし | N90: 0 | O90: 0 | P90: 0
B91: (8) | C91: ①又は② | D91: ① | E91: 技術職員の35歳未満の割合が15％以上、又は、新規技術者（35歳未満）が１%以上 | N91: 0.5 | O91: 0.5 | P91: 0.5 | W91: 平均点 | Z91: =ROUNDDOWN(SUM(Q91:V91)/$W$59,2) -> #DIV/0!
D92: ② | E92: 技術職員の総数が、同数以上 | N92: 0.5 | O92: 0.5 | P92: 0.5
E93: 技術職員の総数の減少が１～２人、又は、減少率が４％以下 | N93: 0.25 | O93: 0.25 | P93: 0.25
E94: 技術職員の総数の減少が３人、又は、減少率が６％以下 | N94: 0.1 | O94: 0.1 | P94: 0.1
C95: 該当なし | N95: 0 | O95: 0 | P95: 0
B96: (9) | C96: 過去５年間に新卒者、離職者の雇用実績あり | N96: 0.5 | O96: 0.5 | P96: 0.5 | W96: 最高点 | Z96: =MAX(Q96:V96) -> 0
C97: なし | N97: 0 | O97: 0 | P97: 0
B98: (10) | C98: ①～④のうち ２項目まで選択 | D98: ① | E98: 雇用環境への取組あり | N98: 0.5 | O98: 0.25 | P98: 0.25 | W98: 各構成員の 合計点の 平均点 | Z98: =ROUNDDOWN(SUM(Q106:V106)/$W$59,2) -> #DIV/0!
E99: なし | N99: 0 | O99: 0 | P99: 0 | Z99: ↑
D100: ② | E100: 次世代育成支援推進法の一般事業主行動計画の策定・届出あり | N100: 0.5 | O100: 0.25 | P100: 0.25 | Y100: ← | Z100: ①～④のうち、２項目まで選択して点数を記入してください。
E101: なし | N101: 0 | O101: 0 | P101: 0 | Z101: ※仕様上、４項目全てに点数を記入できてしまいが、
D102: ③ | E102: 女性活躍推進法の一般事業主行動計画の策定・届出あり | N102: 0.5 | O102: 0.25 | P102: 0.25 | Z102: 本項目の配点（１点）以上には評価しません。
E103: なし | N103: 0 | O103: 0 | P103: 0
D104: ④ | E104: 高年齢者継続雇用の取組あり（1年間の継続雇用を評価） | N104: 0.5 | O104: 0.25 | P104: 0.25
E105: なし | N105: 0 | O105: 0 | P105: 0
C106: 小計 | N106: 1 | O106: 0.5 | P106: 0.5 | Q106: =SUM(Q98:R105) -> 0 | S106: =SUM(S98:T105) -> 0 | U106: =SUM(U98:V105) -> 0
B107: (11) | C107: 地域技能士活用の計画あり | N107: 0.5 | O107: 0.5 | P107: 0.5 | S107: - | U107: - | W107: 代表 | Z107: =Q107 -> 0
...

Sheet 様式1～3
A1: （様式１）施工計画審査タイプⅠ・Ⅱ型
A3: 簡易な施工計画 【工程管理に係る技術的所見】
A5: 工事名： | E5: =IF(鑑!$E$19="","",鑑!$E$19) -> 北海道足寄高等学校大規模改造工事
A6: 商号又は名称： | E6: =IF(鑑!$J$6="","",鑑!$J$6)
A8: 事項 | E8: 所見の具体的内容 | S8: 評価 | U8: 履行 確認
AS9: 市街地における交通事情や周辺施設等への配慮を要する場合において、工程遅延防止のために、あらかじめ対処しておくべき技術的な工夫に関する事項 | AT9: 工事対象施設等を使用しながら行う工事において、工程遅延防止のために、あらかじめ対処しておくべき技術的な工夫に関する事項 | AU9: 工事を所定の工期内に完成させるために、最も重要な工程において、作業の効率化を図る技術的な工夫に関する事項 | AV9: 分離分割される他工事がある場合において、全体工程の遅延防止のために、あらかじめ対処しておくべき技術的な工夫に関する事項 | AW9: その他 | AY9: 品質の確保・向上を図るため、当該項目に係る工事の使用材料や機材又はそれらの施工等における技術的な工夫に関する事項 | AZ9: 品質の確保・向上を図るため、当該項目に係る工事で行う試験・検査方法等における品質管理に係る技術的な工夫に関する事項 | BA9: 品質の確保・向上を図るため、当該項目に係る工事の冬期養生における品質管理に係る技術的な工夫に関する事項 | BB9: 品質の確保・向上を図るため、狭あいな敷地における施工や分離・分割された工事等現場条件を踏まえた品質管理に係る技術的な工夫に関する事項 | BC9: その他 | BE9: 騒音、振動、粉じん、臭気等の周辺環境対策に係る技術的な工夫に関する事項 | BF9: 安全・安心な現場作業環境を確保するためのより効果的な事故防止対策に係る技術的な工夫に関する事項 | BG9: 工事対象施設や工事現場周辺の第三者への安全確保等のために行う、より効果的な事故防止対策に係る技術的な工夫に関する事項 | BH9: 分離分割される他工事がある場合において、他工区との連携を図り、より円滑かつ確実な施工を行うための技術的な工夫に関する事項 | BI9: その他
A10: 工事対象施設等を使用しながら行う工事において、工程遅延防止のために、あらかじめ対処しておくべき技術的な工夫に関する事項
AS11: ○ | AT11: － | AU11: ×
A27: 工事を所定の工期内に完成させるために、最も重要な工程において、作業の効率化を図る技術的な工夫に関する事項
A45: 注１ | B45: Ａ４用紙１枚以内にまとめること。（枠下の注記「注１～４」は削除してもよい。）
A46: 注２ | B46: フォントサイズは11ポイント以上とする。
A47: 注３ | B47: NETIS 掲載の新技術・新工法を記載する場合は、NETIS番号・特許番号を明記すること（資料の添付は不要）。また、NETIS 掲載以外の新技術・新工法（NETIS 掲載が終了した技術を含む）がある場合は、本様式とは別に、カタログ等の資料を添付すること（所見の補足説明や追記はしないこと）。 なお、NETIS 番号等の間違いなどにより、新技術が特定できない場合は評価しないこととする。 添付資料の枚数については、技術的所見ごとにA４用紙１枚までとする。
A52: 注４ | B52: 提出された所見の内容の確認が必要な場合、追加資料又はヒアリングを求める場合がある。 なお、差し替え及び再提出は認めない。
A54: （様式２）施工計画審査タイプⅠ・Ⅱ型
A56: 簡易な施工計画 【品質管理に係る技術的所見】
A58: 工事名： | E58: =IF(鑑!$E$19="","",鑑!$E$19) -> 北海道足寄高等学校大規模改造工事
A59: 商号又は名称： | E59: =IF(鑑!$J$6="","",鑑!$J$6)
A61: 事項 | E61: 所見の具体的内容 | S61: 評価 | U61: 履行 確認
A63: 品質の確保・向上を図るため、当該項目に係る工事の使用材料や機材又はそれらの施工等における技術的な工夫に関する事項
A80: 品質の確保・向上を図るため、当該項目に係る工事で行う試験・検査方法等における品質管理に係る技術的な工夫に関する事項
A98: 注１ | B98: Ａ４用紙１枚以内にまとめること。（枠下の注記「注１～４」は削除してもよい。）
A99: 注２ | B99: フォントサイズは11ポイント以上とする。
A100: 注３ | B100: NETIS 掲載の新技術・新工法を記載する場合は、NETIS番号・特許番号を明記すること（資料の添付は不要）。また、NETIS 掲載以外の新技術・新工法（NETIS 掲載が終了した技術を含む）がある場合は、本様式とは別に、カタログ等の資料を添付すること（所見の補足説明や追記はしないこと）。 なお、NETIS 番号等の間違いなどにより、新技術が特定できない場合は評価しないこととする。 添付資料の枚数については、技術的所見ごとにA４用紙１枚までとする。
A105: 注４ | B105: 提出された所見の内容の確認が必要な場合、追加資料又はヒアリングを求める場合がある。 なお、差し替え及び再提出は認めない。
A107: （様式３）施工計画審査タイプⅠ・Ⅱ型
A109: 簡易な施工計画 【施工上の対処すべき技術的所見】
A111: 工事名： | E111: =IF(鑑!$E$19="","",鑑!$E$19) -> 北海道足寄高等学校大規模改造工事
A112: 商号又は名称： | E112: =IF(鑑!$J$6="","",鑑!$J$6)
A114: 事項 | E114: 所見の具体的内容 | S114: 評価 | U114: 履行 確認
A116: 騒音、振動、粉じん、臭気等の周辺環境対策に係る技術的な工夫に関する事項
A133: 工事対象施設や工事現場周辺の第三者への安全確保等のために行う、より効果的な事故防止対策に係る技術的な工夫に関する事項
A151: 注１ | B151: Ａ４用紙１枚以内にまとめること。（枠下の注記「注１～４」は削除してもよい。）
A152: 注２ | B152: フォントサイズは11ポイント以上とする。
A153: 注３ | B153: NETIS 掲載の新技術・新工法を記載する場合は、NETIS番号・特許番号を明記すること（資料の添付は不要）。また、NETIS 掲載以外の新技術・新工法（NETIS 掲載が終了した技術を含む）がある場合は、本様式とは別に、カタログ等の資料を添付すること（所見の補足説明や追記はしないこと）。 なお、NETIS 番号等の間違いなどにより、新技術が特定できない場合は評価しないこととする。 添付資料の枚数については、技術的所見ごとにA４用紙１枚までとする。
A158: 注４ | B158: 提出された所見の内容の確認が必要な場合、追加資料又はヒアリングを求める場合がある。 なお、差し替え及び再提出は認めない。

Sheet 様式4～8
A1: （様式４） | H1: 構成員１（代表） | M1: 構成員２ | R1: 構成員３
D2: 商号又は名称：
A4: 企業の施工能力
B6: 枠内の着色したセルに記入してください。
B7: 記入にあたって、必ず落札者決定基準を参照の上、各評価項目の留意事項をご確認ください。
B8: この様式に関係する根拠資料は、この様式の後に綴じてください。
B9: 単体で申請する場合は、代表欄へ記入。共同企業体で申請する場合は、各構成員欄に記入してください。
A11: 【評価項目(1)】 工事施工成績評定
B12: 工事実績の有無（過去８年間） | H12: 構成員１（代表） | M12: 構成員２ | R12: 構成員３
B13: 該当欄に○ | D13: あり
D14: なし
B15: 平均点を記入
A18: 【評価項目(2)】 工事等優秀者表彰
B19: 受賞実績の有無 | H19: 構成員１（代表） | M19: 構成員２ | R19: 構成員３
B20: 該当欄に○ | D20: 過去１～３年間に表彰あり
D21: 過去４～８年間に表彰あり
D22: なし
B23: 受賞年月日を記入
B24: 〔根拠資料〕 | E24: 賞状の写しを添付してください。
B25: 〔留意事項〕 | E25: 北海道建設部工事等優秀者表彰（知事感謝状）又は、北海道新技術・新製品開発賞の受賞（表彰状）のいずれかを受賞した場合に評価します。
A29: 【評価項目(3)】 ＩＳＯマネジメントシステム
B30: 認証取得の有無 | H30: 構成員１（代表） | M30: 構成員２ | R30: 構成員３
B31: 該当欄に○ | D31: あり
D32: なし
B33: 有効期限を記入
B34: 〔根拠資料〕 | E34: 当該工事と同じ入札参加資格に関する「ISO9001」認証の登録証の写しを添付してください。
A37: 【評価項目(4)】 地域精通度（施工実績）
B38: 工事実績の有無 | H38: 構成員１（代表） | M38: 構成員２ | R38: 構成員３
B39: 該当欄に○ | D39: 同じ市町村内
D40: 同じ振興局管内
D41: なし
B42: 市町村名を記入
B43: 振興局名を記入
B44: 〔根拠資料〕 | E44: 工事実績を証するコリンズデータの写しを添付してください。 コリンズデータ以外で証明する場合は、契約書や図面等の写しを添付してください。 ※入札参加資格要件の類似工事施工実績として求める項目を満たす資料が必要です。
B47: 〔留意事項〕 | E47: 入札に参加する当該工事場所と同じ市町村又は同じ振興局の場合に評価します。
A50: （様式５） | H50: 構成員１（代表） | M50: 構成員２ | R50: 構成員３
D51: 商号又は名称： | H51: =IF($H$2="","",$H$2) | M51: =IF($M$2="","",$M$2) | R51: =IF($R$2="","",$R$2)
A53: 配置予定技術者
B55: 枠内の着色したセルに記入してください。
B56: 記入にあたって、必ず落札者決定基準を参照の上、各評価項目の留意事項をご確認ください。
B57: この様式に関係する根拠資料は、この様式の後に綴じてください。
B58: 単体で申請する場合は、代表欄へ記入。共同企業体で申請する場合は、各構成員欄に記入してください。
B59: 配置予定技術者は、１つの会社につき１名申請してください。
B60: （複数の予定技術者の中から評価が低い方を選定することで、履行確認によるペナルティを避けられます）
B62: 配置予定技術者 | H62: 構成員１（代表） | M62: 構成員２ | R62: 構成員３
B63: 氏名を記入（１名/１社）
A65: 【評価項目(5)】 主任(監理)技術者の資格
B66: 工事実績の有無 | H66: 構成員１（代表） | M66: 構成員２ | R66: 構成員３
B67: 該当欄に○ | C67: 一級建築士等
C68: 一級施工管理技士（５年以上）
C69: 一級施工管理技士（５年未満）
C70: 二級施工管理技士（５年以上）
C71: なし
B72: 資格（施工管理技士）取得年月日を記入
B73: 〔根拠資料〕 | E73: 資格を証明する書面（合格証・免許証の写し）を添付してください。
B74: 〔留意事項〕 | E74: 施工管理技士の場合には、資格取得年月日を記入してください。
E75: 一級建築士等については、下記の工事種別に応じた資格取得を評価します。
E76: 工事種別 | J76: 対象資格（一級建築士等）
E77: 建築 | J77: 一級建築士
E78: 電気 | J78: 技術士（電気電子部門）又は建築設備士
E79: 電気（電気通信） | J79: 技術士（電気電子部門）又は建築設備士
E80: 管 | J80: 技術士（衛生工学部門）又は建築設備士
E81: 外構工事 | J81: 技術士（建設部門）
A83: 【評価項目(6)】 主任(監理)技術者の継続教育
B84: 継続教育（CPD)の有無 | H84: 構成員１（代表） | M84: 構成員２ | R84: 構成員３
B85: 該当欄に○ | D85: あり
D86: なし
B87: 取得単位を記入
B88: 〔根拠資料〕 | E88: 証明（認定）機関が発行する証明書の写しを添付してください。
B89: 〔留意事項〕 | E89: 建築CPD運営会議加入団体のCPD（推奨単位以上取得）を評価します。 なお、令和２～４年度の取得単位については、推奨単位１／２以上取得した場合に評価します。
A100: （様式６-１） | H100: 構成員１（代表） | M100: 構成員２ | R100: 構成員３
D101: 商号又は名称： | H101: =IF($H$2="","",$H$2) | M101: =IF($M$2="","",$M$2) | R101: =IF($R$2="","",$R$2)
A103: 担い手の育成・確保
B105: 枠内の着色したセルに記入してください。
B106: 記入にあたって、必ず落札者決定基準を参照の上、各評価項目の留意事項をご確認ください。
B107: この様式に関係する根拠資料は、この様式の後に綴じてください。
B108: 共同企業体で申請する場合は、構成員ごとに提出してください。
A110: 【評価項目(7)】 技術者の追加配置
B111: 技術者（追加配置） | H111: 構成員１（代表） | M111: 構成員２ | R111: 構成員３
B112: 氏名を記入（１名/１社）
B113: 該当欄に○ | D113: 一級施工管理技士
D114: 二級施工管理技士
D115: 一級施工管理技士補
D116: なし
B117: 〔根拠資料〕 | E117: 資格を証明する書面（合格証・免許証の写し）を添付してください。
A119: 【評価項目(8)】 技術職員の育成・確保
B120: 技術職員の育成・確保状況 | H120: 構成員１（代表） | M120: 構成員２ | R120: 構成員３
B121: 該当欄に○ | C121: ① | D121: 若年技術職員（35歳未満）が15％以上
D122: 新規若年技術者（35歳未満）が１%以上
C123: ② | D123: 技術職員の総数が 同数又は、増加
D124: 総数が１～２人減少 又は、 割合が４％以下減少
D125: 総数が３人減少 又は、 割合が６％以下減少
C126: 上記該当なし
B127: ②の場合に記入 | D127: 直近の技術職員の 総数を記入
D128: 直近のその前の技術職員の総数を記入
B129: 〔根拠資料〕 | E129: 経営規模等評価結果通知書（総合評定値通知書）の写しを添付してください。 ※①の場合は１年分、②の場合は２年分を添付してください。
B131: 〔留意事項〕 | E131: ①か②のいずれか大きい方を評価点とします。
A133: 【評価項目(9)】 新規の雇用
B134: 採用実績の有無（過去５年間） | H134: 構成員１（代表） | M134: 構成員２ | R134: 構成員３
B135: 該当欄に○ | D135: 新卒者の雇用あり
...

Sheet 評価(1型)
B1: 技術評価点詳細（施工計画以外）※Ⅰ型版 | AA1: (1/3) | BD1: (2/3) | CK1: (3/3) | CN1: 0 | CO1: 0.5 | CP1: 1 | CQ1: 1.5 | CR1: 2 | CS1: 2.5 | CT1: 3 | CU1: 3.5 | CV1: 4 | CW1: 4.5 | CX1: 5 | CY1: 5.5 | CZ1: 6 | DA1: 6.5 | DB1: 7 | DC1: 7.5
B2: 工事名： | C2: =鑑!E19 -> 北海道足寄高等学校大規模改造工事 | AB2: =C2 -> 北海道足寄高等学校大規模改造工事 | BE2: =C2 -> 北海道足寄高等学校大規模改造工事 | CN2: 1 | CP2: －
A3: 整理 番号 | B3: 会社名又は共同企業体名 | C3: 単 体 会 社 名 又は 共同企業体構成員名 | D3: アドレス | E3: 企業の施工能力 | S3: 配置予定技術者 | AB3: 担い手の育成・確保 | BE3: 地域の守り手確保 | CA3: 地域建設業経営環境評価 | CF3: その他 | CH3: 減点項目 | CN3: 2 | CO3: 一級 建築士 | CP3: ○
E4: 施行成績 | H4: 工事表彰 | L4: ＩＳＯ | O4: 地域精通度（施工実績） | AB4: 技術追加配置 | AF4: 技術職員の育成・確保 | AM4: 新規の雇用 | AP4: 労働環境改善 ※2項目選択 | AZ4: 地域技能士等 活用 | BE4: 主たる営業所所在地 | BI4: 地域経済への波及 | BR4: 地域社会貢献 | BX4: その他 | CN4: 3 | CO4: 技術士・ 建築設備士
S5: 施工管理技士有資格期間・一級建築士等 | Y5: 継続教育 | AP5: （項目計） | AR5: ①雇用環境取組 | AT5: ②仕事と家庭の両立 | AV5: ③高年齢者継続雇用 | AX5: ④女性の活躍支援 | BI5: 地域企業活用 | BM5: 地域資材活用 | BR5: 多様な雇用貢献 | BU5: 環境対策認定制度等 | BX5: 円滑な事業執行への貢献 | CA5: 手持ち工事 件数 | CB5: 過去５年間の受注件数 | CC5: 補正値 | CD5: 評価 比率 | CE5: 配点 | CF5: ※今回配点なし | CH5: 過去６ヶ月の措置 | CN5: - | CO5: 技術士
E6: 構成員平均点 | F6: 平均点 | G6: 配点 | H6: １～３ 年間 | I6: ４～８ 年間 | J6: 構成員配点 | K6: 配点(最高) | L6: 9001 | M6: 構成員配点 | N6: 配点(平均) | O6: 市町 村内 | P6: 総合振興局管内 | Q6: 構成員配点 | R6: 配点(平均) | S6: 一級技士 5年以上 | T6: 一級技士 5年未満 | U6: 二級技士 5年以上 | V6: 一級 建築士 | W6: 構成員配点 | X6: 配点(最高) | Y6: ＣＰＤ | Z6: 構成員配点 | AA6: 配点(最高) | AB6: 一級技士 | AC6: 二級技士 | AD6: 構成員配点 | AE6: 配点(最高) | AF6: 35歳未満15%以上 | AG6: 新規(35歳未満)1%以上 | AH6: 技術職員総数同数以上 | AI6: １～２人減少又は減少率４％以下 | AJ6: ３人減少又は減少率６％以下 | AK6: 構成員配点 | AL6: 配点(平均) | AM6: 過去5年間の雇用実績 (35歳未満) | AN6: 構成員配点 | AO6: 配点(最高) | AP6: 構成員配点 | AQ6: 配点(平均) | AR6: 表彰等 有り | AS6: 構成員配点 | AT6: 一般事業主行動計画策定・届出 | AU6: 構成員配点 | AV6: 取組 有り | AW6: 構成員配点 | AX6: 一般事業主行動計画策定・届出 | AY6: 構成員配点 | AZ6: 計画 あり | BA6: 職種名 | BB6: 活用予定人数 | BC6: 構成員配点 | BD6: 配点(最高) | BE6: 市町 村内 | BF6: 総合振興局管内 | BG6: 構成員配点 | BH6: 配点(平均) | BI6: 計画 あり | BJ6: 企業名 | BK6: 構成員配点 | BL6: 配点(最高) | BM6: 計画 あり | BN6: 工事 資材 | BO6: 予定 価格 | BP6: 構成員配点 | BQ6: 配点(最高) | BR6: 該当 あり | BS6: 構成員配点 | BT6: 配点(平均) | BU6: 登録 認証 あり | BV6: 構成員配点 | BW6: 配点(平均) | BX6: 重点工事加点申請あり | BY6: 構成員配点 | BZ6: 配点(平均) | CG6: 配点 | CH6: 修補 請求 | CI6: 提案 不履行 | CJ6: 構成員配点 | CK6: 配点(最高)
B7: =鑑!J6 -> 0 | C7: =IF('様式4～8'!H2="","",'様式4～8'!H2) | D7: =鑑!J12 -> 0 | E7: =IF('様式4～8'!H15="","",'様式4～8'!H15) | F7: =IF(C7="","",ROUNDDOWN(AVERAGE(E7:E9),1)) | G7: =IF(C7="",0,IF(F7<69,3,IF(AND(69<=F7,F7<71),3.5,IF(AND(71<=F7,F7<73),4,IF(AND(73<=F7,F7<75),4.5,IF(AND(75<=F7,F7<77),5,IF(AND(77<=F7,F7<79),5.5,IF(AND(79<=F7,F7<81),6,IF(AND(81<=F7,F7<83),6.5,IF(AND(83<=F7,F7<85),7,IF(F7>=85,7.5,0))))))))))) -> 0 | H7: =IF('様式4～8'!H20="","",'様式4～8'!H20) | I7: =IF('様式4～8'!H21="","",'様式4～8'!H21) | J7: =IF($C7="","",IF(H7="○",0.5,IF(I7="○",0.25,0))) | K7: =MAX(J7:J9) -> 0 | L7: =IF('様式4～8'!H31="","",'様式4～8'!H31) | M7: =IF($C7="","",IF(L7="○",0.5,0)) | N7: =IF($C7="",0,ROUNDDOWN(AVERAGE(M7:M9),2)) -> 0 | O7: =IF('様式4～8'!H39="","",'様式4～8'!H39) | P7: =IF('様式4～8'!H40="","",'様式4～8'!H40) | Q7: =IF($C7="","",IF(O7="○",1.5,IF(P7="○",0.75,0))) | R7: =IF($C7="",0,ROUNDDOWN(AVERAGE(Q7:Q9),2)) -> 0 | S7: =IF('様式4～8'!H68="","",'様式4～8'!H68) | T7: =IF('様式4～8'!H69="","",'様式4～8'!H69) | U7: =IF('様式4～8'!H70="","",'様式4～8'!H70) | V7: =IF('様式4～8'!H67="","",'様式4～8'!H67) | W7: =IF($C7="","",IF(S7="○",IF(V7="○",2,1.5),IF(V7="○",1.5,(IF(T7="○",1,IF(U7="○",0.5,0)))))) | X7: =MAX(W7:W9) -> 0 | Y7: =IF('様式4～8'!H85="","",'様式4～8'!H85) | Z7: =IF($C7="","",IF(Y7="○",0.5,0)) | AA7: =MAX(Z7:Z9) -> 0 | AB7: =IF('様式4～8'!H113="","",'様式4～8'!H113) | AC7: =IF('様式4～8'!H114="","",'様式4～8'!H114) | AD7: =IF($C7="","",IF(AB7="○",0.5,IF(AC7="○",0.5,0))) | AE7: =MAX(AD7:AD9) -> 0 | AF7: =IF('様式4～8'!H121="","",'様式4～8'!H121) | AG7: =IF('様式4～8'!H122="","",'様式4～8'!H122) | AH7: =IF('様式4～8'!H123="","",'様式4～8'!H123) | AI7: =IF('様式4～8'!H124="","",'様式4～8'!H124) | AJ7: =IF('様式4～8'!H125="","",'様式4～8'!H125) | AK7: =IF($C7="","",IF(AF7="○",0.5,IF(AG7="○",0.5,IF(AH7="○",0.5,IF(AI7="○",0.25,IF(AJ7="○",0.1,0)))))) | AL7: =IF($C7="",0,ROUNDDOWN(AVERAGE(AK7:AK9),2)) -> 0 | AM7: =IF(OR('様式4～8'!H135="○",'様式4～8'!H136="○"),"○","") | AN7: =IF($C7="","",IF(AM7="○",0.5,0)) | AO7: =MAX(AN7:AN9) -> 0 | AP7: =IF($C7="","",IF(SUM(AS7,AU7,AW7,AY7)>=0.5,LARGE((AS7,AU7,AW7,AY7),1)+LARGE((AS7,AU7,AW7,AY7),2),SUM(AS7,AU7,AW7,AY7))) | AQ7: =IF($C7="",0,ROUNDDOWN(AVERAGE(AP7:AP9),2)) -> 0 | AR7: =IF('様式4～8'!H156="","",'様式4～8'!H156) | AS7: =IF($C7="","",IF(AR7="○",0.5,0)) | AT7: =IF('様式4～8'!I156="","",'様式4～8'!I156) | AU7: =IF($C7="","",IF(AT7="○",0.5,0)) | AV7: =IF('様式4～8'!J156="","",'様式4～8'!J156) | AW7: =IF($C7="","",IF(AV7="○",0.5,0)) | AX7: =IF('様式4～8'!K156="","",'様式4～8'!K156) | AY7: =IF($C7="","",IF(AX7="○",0.5,0)) | AZ7: =IF('様式4～8'!H198="","",'様式4～8'!H198) | BA7: =IF('様式4～8'!H200="","",'様式4～8'!H200) | BB7: =IF('様式4～8'!H201="","",'様式4～8'!H201) | BC7: =IF($C7="","",IF(AZ7="○",0.5,0)) | BD7: =MAX(BC7:BC9) -> 0 | BE7: =IF('様式4～8'!H229="","",'様式4～8'!H229) | BF7: =IF('様式4～8'!H230="","",'様式4～8'!H230) | BG7: =IF($C7="","",IF(BE7="○",1,IF(BF7="○",0.5,0))) | BH7: =IF($C7="",0,ROUNDDOWN(AVERAGE(BG7:BG9),2)) -> 0 | BI7: =IF('様式4～8'!H240="","",'様式4～8'!H240) | BJ7: =IF('様式4～8'!H242="","",'様式4～8'!H242) | BK7: =IF($C7="","",IF(BI7="○",1,0)) | BL7: =MAX(BK7:BK9) -> 0 | BM7: =IF('様式4～8'!H250="","",'様式4～8'!H250) | BN7: =IF('様式4～8'!H252="","",'様式4～8'!H252) | BO7: =IF('様式4～8'!H253="","",'様式4～8'!H253) | BP7: =IF($C7="","",IF(BM7="○",0.75,0)) | BQ7: =MAX(BP7:BP9) -> 0 | BR7: =IF(OR('様式4～8'!H260="○",'様式4～8'!H261="○"),"○","") | BS7: =IF($C7="","",IF(BR7="○",0.5,0)) | BT7: =IF($C7="",0,ROUNDDOWN(AVERAGE(BS7:BS9),2)) -> 0 | BU7: =IF(OR('様式4～8'!H272="○",'様式4～8'!H273="○",'様式4～8'!H274="○",'様式4～8'!H275="○",'様式4～8'!H276="○"),"○","") | BV7: =IF($C7="","",IF(BU7="○",0.25,0)) | BW7: =IF($C7="",0,ROUNDDOWN(AVERAGE(BV7:BV9),2)) -> 0 | BX7: =IF('様式4～8'!H284="","",'様式4～8'!H284) | BY7: =IF($C7="","",IF(BX7="○",0.25,0)) | BZ7: =IF($C7="",0,ROUNDDOWN(AVERAGE(BY7:BY9),2)) -> 0 | CA7: =IF('様式4～8'!H304="","",'様式4～8'!H304) | CB7: =IF('様式4～8'!H305="","",'様式4～8'!H305) | CC7: =COUNT(CB7:CB9) -> 0 | CD7: =IF($C7="","",IF(CA7="","",ROUNDDOWN(SUM(CA7:CA9)/((SUM(CB7:CB9)/5)+CC7),2))) | CE7: =IF(CD7="－","－",IF(CD7<0.25,3,IF(AND(0.25<=CD7,CD7<0.5),2.4,IF(AND(0.5<=CD7,CD7<0.75),1.8,IF(AND(0.75<=CD7,CD7<1),1.2,IF(AND(1<=CD7,CD7<1.25),0.6,0)))))) -> 0 | CG7: =IF(CF7="○",0.5,"－") -> － | CJ7: =IF($C7="","",IF(CH7="○",IF(CI7="○",-2,-1),IF(CI7="○",-1,0))) | CK7: =MIN(CJ7:CJ9) -> 0
C8: =IF('様式4～8'!M2="","",'様式4～8'!M2) | E8: =IF('様式4～8'!M15="","",'様式4～8'!M15) | F8: =IF(C8>0,ROUNDDOWN(AVERAGE(E8:E8),1),0) -> #DIV/0! | H8: =IF('様式4～8'!M20="","",'様式4～8'!M20) | I8: =IF('様式4～8'!M21="","",'様式4～8'!M21) | J8: =IF($C8="","",IF(H8="○",0.5,IF(I8="○",0.25,0))) | L8: =IF('様式4～8'!M31="","",'様式4～8'!M31) | M8: =IF($C8="","",IF(L8="○",0.5,0)) | O8: =IF('様式4～8'!M39="","",'様式4～8'!M39) | P8: =IF('様式4～8'!M40="","",'様式4～8'!M40) | Q8: =IF($C8="","",IF(O8="○",1.5,IF(P8="○",0.75,0))) | S8: =IF('様式4～8'!M68="","",'様式4～8'!M68) | T8: =IF('様式4～8'!M69="","",'様式4～8'!M69) | U8: =IF('様式4～8'!M70="","",'様式4～8'!M70) | V8: =IF('様式4～8'!M67="","",'様式4～8'!M67) | W8: =IF($C8="","",IF(S8="○",IF(V8="○",2,1.5),IF(V8="○",1.5,(IF(T8="○",1,IF(U8="○",0.5,0)))))) | Y8: =IF('様式4～8'!M85="","",'様式4～8'!M85) | Z8: =IF($C8="","",IF(Y8="○",0.5,0)) | AB8: =IF('様式4～8'!M113="","",'様式4～8'!M113) | AC8: =IF('様式4～8'!M114="","",'様式4～8'!M114) | AD8: =IF($C8="","",IF(AB8="○",0.5,IF(AC8="○",0.5,0))) | AF8: =IF('様式4～8'!M121="","",'様式4～8'!M121) | AG8: =IF('様式4～8'!M122="","",'様式4～8'!M122) | AH8: =IF('様式4～8'!M123="","",'様式4～8'!M123) | AI8: =IF('様式4～8'!M124="","",'様式4～8'!M124) | AJ8: =IF('様式4～8'!M125="","",'様式4～8'!M125) | AK8: =IF($C8="","",IF(AF8="○",0.5,IF(AG8="○",0.5,IF(AH8="○",0.5,IF(AI8="○",0.25,IF(AJ8="○",0.1,0)))))) | AM8: =IF(OR('様式4～8'!M135="○",'様式4～8'!M136="○"),"○","") | AN8: =IF($C8="","",IF(AM8="○",0.5,0)) | AP8: =IF($C8="","",IF(SUM(AS8,AU8,AW8,AY8)>=0.5,LARGE((AS8,AU8,AW8,AY8),1)+LARGE((AS8,AU8,AW8,AY8),2),SUM(AS8,AU8,AW8,AY8))) | AR8: =IF('様式4～8'!M156="","",'様式4～8'!M156) | AS8: =IF($C8="","",IF(AR8="○",0.5,0)) | AT8: =IF('様式4～8'!N156="","",'様式4～8'!N156) | AU8: =IF($C8="","",IF(AT8="○",0.5,0)) | AV8: =IF('様式4～8'!O156="","",'様式4～8'!O156) | AW8: =IF($C8="","",IF(AV8="○",0.5,0)) | AX8: =IF('様式4～8'!P156="","",'様式4～8'!P156) | AY8: =IF($C8="","",IF(AX8="○",0.5,0)) | AZ8: - | BC8: =IF($C8="","",IF(AZ8="○",0.5,"－")) | BE8: =IF('様式4～8'!M229="","",'様式4～8'!M229) | BF8: =IF('様式4～8'!M230="","",'様式4～8'!M230) | BG8: =IF($C8="","",IF(BE8="○",1,IF(BF8="○",0.5,0))) | BI8: - | BK8: =IF($C8="","",IF(BI8="○",0.25,"－")) | BM8: - | BP8: =IF($C8="","",IF(BM8="○",0.25,"－")) | BR8: =IF(OR('様式4～8'!M260="○",'様式4～8'!M261="○"),"○","") | BS8: =IF($C8="","",IF(BR8="○",0.25,0)) | BU8: =IF(OR('様式4～8'!M272="○",'様式4～8'!M273="○",'様式4～8'!M274="○",'様式4～8'!M275="○",'様式4～8'!M276="○"),"○","") | BV8: =IF($C8="","",IF(BU8="○",0.25,0)) | BX8: =IF('様式4～8'!M284="","",'様式4～8'!M284) | BY8: =IF($C8="","",IF(BX8="○",0.25,0)) | CA8: =IF('様式4～8'!M304="","",'様式4～8'!M304) | CB8: =IF('様式4～8'!M305="","",'様式4～8'!M305) | CJ8: =IF($C8="","",IF(CH8="○",IF(CI8="○",-2,-1),IF(CI8="○",-1,0)))
C9: =IF('様式4～8'!R2="","",'様式4～8'!R2) | E9: =IF('様式4～8'!R15="","",'様式4～8'!R15) | F9: =IF(C9>0,ROUNDDOWN(AVERAGE(E9:E9),1),0) -> #DIV/0! | H9: =IF('様式4～8'!R20="","",'様式4～8'!R20) | I9: =IF('様式4～8'!R21="","",'様式4～8'!R21) | J9: =IF($C9="","",IF(H9="○",0.5,IF(I9="○",0.25,0))) | L9: =IF('様式4～8'!R31="","",'様式4～8'!R31) | M9: =IF($C9="","",IF(L9="○",0.5,0)) | O9: =IF('様式4～8'!R39="","",'様式4～8'!R39) | P9: =IF('様式4～8'!R40="","",'様式4～8'!R40) | Q9: =IF($C9="","",IF(O9="○",1.5,IF(P9="○",0.75,0))) | S9: =IF('様式4～8'!R68="","",'様式4～8'!R68) | T9: =IF('様式4～8'!R69="","",'様式4～8'!R69) | U9: =IF('様式4～8'!R70="","",'様式4～8'!R70) | V9: =IF('様式4～8'!R67="","",'様式4～8'!R67) | W9: =IF($C9="","",IF(S9="○",IF(V9="○",2,1.5),IF(V9="○",1.5,(IF(T9="○",1,IF(U9="○",0.5,0)))))) | Y9: =IF('様式4～8'!R85="","",'様式4～8'!R85) | Z9: =IF($C9="","",IF(Y9="○",0.5,0)) | AB9: =IF('様式4～8'!R113="","",'様式4～8'!R113) | AC9: =IF('様式4～8'!R114="","",'様式4～8'!R114) | AD9: =IF($C9="","",IF(AB9="○",0.5,IF(AC9="○",0.5,0))) | AF9: =IF('様式4～8'!R121="","",'様式4～8'!R121) | AG9: =IF('様式4～8'!R122="","",'様式4～8'!R122) | AH9: =IF('様式4～8'!R123="","",'様式4～8'!R123) | AI9: =IF('様式4～8'!R124="","",'様式4～8'!R124) | AJ9: =IF('様式4～8'!R125="","",'様式4～8'!R125) | AK9: =IF($C9="","",IF(AF9="○",0.5,IF(AG9="○",0.5,IF(AH9="○",0.5,IF(AI9="○",0.25,IF(AJ9="○",0.1,0)))))) | AM9: =IF(OR('様式4～8'!R135="○",'様式4～8'!R136="○"),"○","") | AN9: =IF($C9="","",IF(AM9="○",0.5,0)) | AP9: =IF($C9="","",IF(SUM(AS9,AU9,AW9,AY9)>=0.5,LARGE((AS9,AU9,AW9,AY9),1)+LARGE((AS9,AU9,AW9,AY9),2),SUM(AS9,AU9,AW9,AY9))) | AR9: =IF('様式4～8'!R156="","",'様式4～8'!R156) | AS9: =IF($C9="","",IF(AR9="○",0.5,0)) | AT9: =IF('様式4～8'!S156="","",'様式4～8'!S156) | AU9: =IF($C9="","",IF(AT9="○",0.5,0)) | AV9: =IF('様式4～8'!T156="","",'様式4～8'!T156) | AW9: =IF($C9="","",IF(AV9="○",0.5,0)) | AX9: =IF('様式4～8'!U156="","",'様式4～8'!U156) | AY9: =IF($C9="","",IF(AX9="○",0.5,0)) | AZ9: - | BC9: =IF($C9="","",IF(AZ9="○",0.5,"－")) | BE9: =IF('様式4～8'!R229="","",'様式4～8'!R229) | BF9: =IF('様式4～8'!R230="","",'様式4～8'!R230) | BG9: =IF($C9="","",IF(BE9="○",1,IF(BF9="○",0.5,0))) | BI9: - | BK9: =IF($C9="","",IF(BI9="○",0.25,"－")) | BM9: - | BP9: =IF($C9="","",IF(BM9="○",0.25,"－")) | BR9: =IF(OR('様式4～8'!R260="○",'様式4～8'!R261="○"),"○","") | BS9: =IF($C9="","",IF(BR9="○",0.25,0)) | BU9: =IF(OR('様式4～8'!R272="○",'様式4～8'!R273="○",'様式4～8'!R274="○",'様式4～8'!R275="○",'様式4～8'!R276="○"),"○","") | BV9: =IF($C9="","",IF(BU9="○",0.25,0)) | BX9: =IF('様式4～8'!R284="","",'様式4～8'!R284) | BY9: =IF($C9="","",IF(BX9="○",0.25,0)) | CA9: =IF('様式4～8'!R304="","",'様式4～8'!R304) | CB9: =IF('様式4～8'!R305="","",'様式4～8'!R305) | CJ9: =IF($C9="","",IF(CH9="○",IF(CI9="○",-2,-1),IF(CI9="○",-1,0)))
