Workbook

Sheet 提出要領
B2: 技術資料（技術評価項目申請書及び根拠資料） 提出要領

Sheet 鑑
P1: 提出日：
A2: 技術評価項目申請書
A3: 北海道建設部長 様
E4: 競争入札参加希望者
E5: ※共同企業体の場合はその組織体名（住所以下は代表窓口）について記入し、別紙１にすべての構成員を記入すること。
E6: 商号又は名称
E7: 建設工事等競争入札 参加資格者名簿登録番号
E8: 住所
E9: 代表者（役職・氏名）
E10: 連絡窓口（部署・氏名）
E11: 電話番号
E12: メールアドレス
A14: 次の工事について、技術評価項目申請書及び根拠資料を提出します。内容については事実と相違ないことを誓約します。
A15: なお、申請書及び根拠資料に錯誤又は遺漏がある場合、項目毎の評価点の上方修正はされず下方修正されることについて承諾いたします。
A16: また、「減点項目」に該当する場合、発注者による修正について承諾いたします。
B18: 工事番号： | E18: 30520
B19: 工事名： | E19: 北海道足寄高等学校大規模改造工事
A21: 自己採点表及び審査表 ※共同企業体の場合、別紙１の構成員別自己採点表を用い、評価点（自己採点）を記入すること。
A22: 技術評価項目 | J22: No. | K22: 配点 | L22: 評価点 （自己採点） | O22: 評価点 （審査結果） | R22: 様式 | T22: 根拠資料 | W22: 事前登録
R23: 提出（事前登録の場合は活用）の項目 にチェック「✓」してください。
A24: 1 | B24: 簡易な 施工計画 (Ⅰ・Ⅱ型) | D24: 工程管理に係る技術的所見 | J24: - | K24: 15 | L24: - | S24: 様式１ | U24: カタログ等資料 | W24: -
D25: 品質管理に係る技術的所見 | S25: 様式２ | W25: -
D26: 施工上の対処すべき技術的所見 | S26: 様式３ | W26: -
A27: 2 | B27: 企業の 施工能力 | D27: 工事施行成績評定 | J27: (1) | K27: 7.5 | S27: 様式４ | T27: - | U27: -
D28: 工事等優秀者表彰 | J28: (2) | K28: 0.5 | U28: 賞状
D29: ＩＳＯマネジメントシステム | J29: (3) | K29: 0.5 | U29: 登録証
D30: 地域精通度（施工実績） | J30: (4)
A31: 3 | B31: 配置予定技術者 | D31: 主任(監理)技術者の資格 | J31: (5) | K31: 2 | S31: 様式５ | U31: 資格証明資料 | W31: -
D32: 主任(監理)技術者の継続教育 | J32: (6) | K32: 0.5 | U32: CPD実績証明書 | W32: -
A33: 4 | B33: 担い手の 育成 ・ 確保 | D33: 技術者の追加配置 | J33: (7) | K33: 0.5 | S33: 様式 ６－１ | U33: 資格証明資料 | W33: -
D34: 技術職員の育成・確保 | J34: (8) | K34: 0.5 | U34: 経審結果通知書
D35: 新規の雇用 | J35: (9) | K35: 0.5 | U35: 証明書類 | W35: -
D36: 労働環境改善 | J36: (10) | K36: 1 | S36: 様式 ６－２ | U36: 証明書類
D37: 地域の技能士等の活用 | J37: (11) | K37: 0.5 | S37: 様式 ６－３ | T37: - | U37: - | W37: -
A38: 5 | B38: 地域の 守り手 確保 | D38: 主たる営業所 | J38: (12)
D39: 地域企業の活用 | J39: (13) | K39: 1 | S39: 様式 ７－１ | T39: - | U39: - | W39: -
D40: 地域資材の活用 | J40: (14) | K40: 0.75 | T40: - | U40: - | W40: -
D41: 多様な雇用への貢献 | J41: (15) | K41: 0.5 | U41: 証明書類
D42: 環境対策の認定制度等 | J42: (16) | K42: 0.25 | S42: 様式 ７－２ | U42: 証明書類
D43: 円滑な事業執行への貢献 | J43: (17)
...

Sheet 様式1～3
A1: （様式１）施工計画審査タイプⅠ・Ⅱ型
A3: 簡易な施工計画 【工程管理に係る技術的所見】
A5: 工事名： | E5: =IF(鑑!$E$19="","",鑑!$E$19) -> 北海道足寄高等学校大規模改造工事
A6: 商号又は名称： | E6: =IF(鑑!$J$6="","",鑑!$J$6)
A8: 事項 | E8: 所見の具体的内容 | S8: 評価 | U8: 履行 確認
AS9: 市街地における交通事情や周辺施設等への配慮を要する場合において、工程遅延防止のために、あらかじめ対処しておくべき技術的な工夫に関する事項 | AT9: 工事対象施設等を使用しながら行う工事において、工程遅延防止のために、あらかじめ対処しておくべき技術的な工夫に関する事項 | AU9: 工事を所定の工期内に完成させるために、最も重要な工程において、作業の効率化を図る技術的な工夫に関する事項 | AV9: 分離分割される他工事がある場合において、全体工程の遅延防止のために、あらかじめ対処しておくべき技術的な工夫に関する事項 | AW9: その他 | AY9: 品質の確保・向上を図るため、当該項目に係る工事の使用材料や機材又はそれらの施工等における技術的な工夫に関する事項 | AZ9: 品質の確保・向上を図るため、当該項目に係る工事で行う試験・検査方法等における品質管理に係る技術的な工夫に関する事項 | BA9: 品質の確保・向上を図るため、当該項目に係る工事の冬期養生における品質管理に係る技術的な工夫に関する事項 | BB9: 品質の確保・向上を図るため、狭あいな敷地における施工や分離・分割された工事等現場条件を踏まえた品質管理に係る技術的な工夫に関する事項 | BC9: その他 | BE9: 騒音、振動、粉じん、臭気等の周辺環境対策に係る技術的な工夫に関する事項 | BF9: 安全・安心な現場作業環境を確保するためのより効果的な事故防止対策に係る技術的な工夫に関する事項 | BG9: 工事対象施設や工事現場周辺の第三者への安全確保等のために行う、より効果的な事故防止対策に係る技術的な工夫に関する事項 | BH9: 分離分割される他工事がある場合において、他工区との連携を図り、より円滑かつ確実な施工を行うための技術的な工夫に関する事項 | BI9: その他
A10: 工事対象施設等を使用しながら行う工事において、工程遅延防止のために、あらかじめ対処しておくべき技術的な工夫に関する事項
AS11: ○ | AT11: － | AU11: ×
A27: 工事を所定の工期内に完成させるために、最も重要な工程において、作業の効率化を図る技術的な工夫に関する事項
A45: 注１ | B45: Ａ４用紙１枚以内にまとめること。（枠下の注記「注１～４」は削除してもよい。）
A46: 注２ | B46: フォントサイズは11ポイント以上とする。
A47: 注３ | B47: NETIS 掲載の新技術・新工法を記載する場合は、NETIS番号・特許番号を明記すること（資料の添付は不要）。また、NETIS 掲載以外の新技術・新工法（NETIS 掲載が終了した技術を含む）がある場合は、本様式とは別に、カタログ等の資料を添付すること（所見の補足説明や追記はしないこと）。 なお、NETIS 番号等の間違いなどにより、新技術が特定できない場合は評価しないこととする。 添付資料の枚数については、技術的所見ごとにA４用紙１枚までとする。
A52: 注４ | B52: 提出された所見の内容の確認が必要な場合、追加資料又はヒアリングを求める場合がある。 なお、差し替え及び再提出は認めない。
A54: （様式２）施工計画審査タイプⅠ・Ⅱ型
A56: 簡易な施工計画 【品質管理に係る技術的所見】
A58: 工事名： | E58: =IF(鑑!$E$19="","",鑑!$E$19) -> 北海道足寄高等学校大規模改造工事
A59: 商号又は名称： | E59: =IF(鑑!$J$6="","",鑑!$J$6)
A61: 事項 | E61: 所見の具体的内容 | S61: 評価 | U61: 履行 確認
A63: 品質の確保・向上を図るため、当該項目に係る工事の使用材料や機材又はそれらの施工等における技術的な工夫に関する事項
A80: 品質の確保・向上を図るため、当該項目に係る工事で行う試験・検査方法等における品質管理に係る技術的な工夫に関する事項
A98: 注１ | B98: Ａ４用紙１枚以内にまとめること。（枠下の注記「注１～４」は削除してもよい。）
A99: 注２ | B99: フォントサイズは11ポイント以上とする。
A100: 注３ | B100: NETIS 掲載の新技術・新工法を記載する場合は、NETIS番号・特許番号を明記すること（資料の添付は不要）。また、NETIS 掲載以外の新技術・新工法（NETIS 掲載が終了した技術を含む）がある場合は、本様式とは別に、カタログ等の資料を添付すること（所見の補足説明や追記はしないこと）。 なお、NETIS 番号等の間違いなどにより、新技術が特定できない場合は評価しないこととする。 添付資料の枚数については、技術的所見ごとにA４用紙１枚までとする。
A105: 注４ | B105: 提出された所見の内容の確認が必要な場合、追加資料又はヒアリングを求める場合がある。 なお、差し替え及び再提出は認めない。
A107: （様式３）施工計画審査タイプⅠ・Ⅱ型
A109: 簡易な施工計画 【施工上の対処すべき技術的所見】
A111: 工事名： | E111: =IF(鑑!$E$19="","",鑑!$E$19) -> 北海道足寄高等学校大規模改造工事
A112: 商号又は名称： | E112: =IF(鑑!$J$6="","",鑑!$J$6)
A114: 事項 | E114: 所見の具体的内容 | S114: 評価 | U114: 履行 確認
A116: 騒音、振動、粉じん、臭気等の周辺環境対策に係る技術的な工夫に関する事項
A133: 工事対象施設や工事現場周辺の第三者への安全確保等のために行う、より効果的な事故防止対策に係る技術的な工夫に関する事項
A151: 注１ | B151: Ａ４用紙１枚以内にまとめること。（枠下の注記「注１～４」は削除してもよい。）
A152: 注２ | B152: フォントサイズは11ポイント以上とする。
A153: 注３ | B153: NETIS 掲載の新技術・新工法を記載する場合は、NETIS番号・特許番号を明記すること（資料の添付は不要）。また、NETIS 掲載以外の新技術・新工法（NETIS 掲載が終了した技術を含む）がある場合は、本様式とは別に、カタログ等の資料を添付すること（所見の補足説明や追記はしないこと）。 なお、NETIS 番号等の間違いなどにより、新技術が特定できない場合は評価しないこととする。 添付資料の枚数については、技術的所見ごとにA４用紙１枚までとする。
A158: 注４ | B158: 提出された所見の内容の確認が必要な場合、追加資料又はヒアリングを求める場合がある。 なお、差し替え及び再提出は認めない。

Sheet 様式4～8
A1: （様式４） | H1: 構成員１（代表） | M1: 構成員２ | R1: 構成員３
D2: 商号又は名称：
A4: 企業の施工能力
B6: 枠内の着色したセルに記入してください。
B7: 記入にあたって、必ず落札者決定基準を参照の上、各評価項目の留意事項をご確認ください。
B8: この様式に関係する根拠資料は、この様式の後に綴じてください。
B9: 単体で申請する場合は、代表欄へ記入。共同企業体で申請する場合は、各構成員欄に記入してください。
A11: 【評価項目(1)】 工事施工成績評定
B12: 工事実績の有無（過去８年間） | H12: 構成員１（代表） | M12: 構成員２ | R12: 構成員３
B13: 該当欄に○ | D13: あり
D14: なし
B15: 平均点を記入
A18: 【評価項目(2)】 工事等優秀者表彰
B19: 受賞実績の有無 | H19: 構成員１（代表） | M19: 構成員２ | R19: 構成員３
B20: 該当欄に○ | D20: 過去１～３年間に表彰あり
D21: 過去４～８年間に表彰あり
D22: なし
B23: 受賞年月日を記入
B24: 〔根拠資料〕 | E24: 賞状の写しを添付してください。
B25: 〔留意事項〕 | E25: 北海道建設部工事等優秀者表彰（知事感謝状）又は、北海道新技術・新製品開発賞の受賞（表彰状）のいずれかを受賞した場合に評価します。
A29: 【評価項目(3)】 ＩＳＯマネジメントシステム
B30: 認証取得の有無 | H30: 構成員１（代表） | M30: 構成員２ | R30: 構成員３
B31: 該当欄に○ | D31: あり
D32: なし
B33: 有効期限を記入
B34: 〔根拠資料〕 | E34: 当該工事と同じ入札参加資格に関する「ISO9001」認証の登録証の写しを添付してください。
A37: 【評価項目(4)】 地域精通度（施工実績）
B38: 工事実績の有無 | H38: 構成員１（代表） | M38: 構成員２ | R38: 構成員３
B39: 該当欄に○ | D39: 同じ市町村内
D40: 同じ振興局管内
D41: なし
B42: 市町村名を記入
B43: 振興局名を記入
B44: 〔根拠資料〕 | E44: 工事実績を証するコリンズデータの写しを添付してください。 コリンズデータ以外で証明する場合は、契約書や図面等の写しを添付してください。 ※入札参加資格要件の類似工事施工実績として求める項目を満たす資料が必要です。
B47: 〔留意事項〕 | E47: 入札に参加する当該工事場所と同じ市町村又は同じ振興局の場合に評価します。
A50: （様式５） | H50: 構成員１（代表） | M50: 構成員２ | R50: 構成員３
D51: 商号又は名称： | H51: =IF($H$2="","",$H$2) | M51: =IF($M$2="","",$M$2) | R51: =IF($R$2="","",$R$2)
A53: 配置予定技術者
B55: 枠内の着色したセルに記入してください。
B56: 記入にあたって、必ず落札者決定基準を参照の上、各評価項目の留意事項をご確認ください。
...

Sheet 評価(1型)
B1: 技術評価点詳細（施工計画以外）※Ⅰ型版 | AA1: (1/3) | BD1: (2/3) | CK1: (3/3) | CN1: 0 | CO1: 0.5 | CP1: 1 | CQ1: 1.5 | CR1: 2 | CS1: 2.5 | CT1: 3 | CU1: 3.5 | CV1: 4 | CW1: 4.5 | CX1: 5 | CY1: 5.5 | CZ1: 6 | DA1: 6.5 | DB1: 7 | DC1: 7.5
B2: 工事名： | C2: =鑑!E19 -> 北海道足寄高等学校大規模改造工事 | AB2: =C2 -> 北海道足寄高等学校大規模改造工事 | BE2: =C2 -> 北海道足寄高等学校大規模改造工事 | CN2: 1 | CP2: －
A3: 整理 番号 | B3: 会社名又は共同企業体名 | C3: 単 体 会 社 名 又は 共同企業体構成員名 | D3: アドレス | E3: 企業の施工能力 | S3: 配置予定技術者 | AB3: 担い手の育成・確保 | BE3: 地域の守り手確保 | CA3: 地域建設業経営環境評価 | CF3: その他 | CH3: 減点項目 | CN3: 2 | CO3: 一級 建築士 | CP3: ○
E4: 施行成績 | H4: 工事表彰 | L4: ＩＳＯ | O4: 地域精通度（施工実績） | AB4: 技術追加配置 | AF4: 技術職員の育成・確保 | AM4: 新規の雇用 | AP4: 労働環境改善 ※2項目選択 | AZ4: 地域技能士等 活用 | BE4: 主たる営業所所在地 | BI4: 地域経済への波及 | BR4: 地域社会貢献 | BX4: その他 | CN4: 3 | CO4: 技術士・ 建築設備士
S5: 施工管理技士有資格期間・一級建築士等 | Y5: 継続教育 | AP5: （項目計） | AR5: ①雇用環境取組 | AT5: ②仕事と家庭の両立 | AV5: ③高年齢者継続雇用 | AX5: ④女性の活躍支援 | BI5: 地域企業活用 | BM5: 地域資材活用 | BR5: 多様な雇用貢献 | BU5: 環境対策認定制度等 | BX5: 円滑な事業執行への貢献 | CA5: 手持ち工事 件数 | CB5: 過去５年間の受注件数 | CC5: 補正値 | CD5: 評価 比率 | CE5: 配点 | CF5: ※今回配点なし | CH5: 過去６ヶ月の措置 | CN5: - | CO5: 技術士
E6: 構成員平均点 | F6: 平均点 | G6: 配点 | H6: １～３ 年間 | I6: ４～８ 年間 | J6: 構成員配点 | K6: 配点(最高) | L6: 9001 | M6: 構成員配点 | N6: 配点(平均) | O6: 市町 村内 | P6: 総合振興局管内 | Q6: 構成員配点 | R6: 配点(平均) | S6: 一級技士 5年以上 | T6: 一級技士 5年未満 | U6: 二級技士 5年以上 | V6: 一級 建築士 | W6: 構成員配点 | X6: 配点(最高) | Y6: ＣＰＤ | Z6: 構成員配点 | AA6: 配点(最高) | AB6: 一級技士 | AC6: 二級技士 | AD6: 構成員配点 | AE6: 配点(最高) | AF6: 35歳未満15%以上 | AG6: 新規(35歳未満)1%以上 | AH6: 技術職員総数同数以上 | AI6: １～２人減少又は減少率４％以下 | AJ6: ３人減少又は減少率６％以下 | AK6: 構成員配点 | AL6: 配点(平均) | AM6: 過去5年間の雇用実績 (35歳未満) | AN6: 構成員配点 | AO6: 配点(最高) | AP6: 構成員配点 | AQ6: 配点(平均) | AR6: 表彰等 有り | AS6: 構成員配点 | AT6: 一般事業主行動計画策定・届出 | AU6: 構成員配点 | AV6: 取組 有り | AW6: 構成員配点 | AX6: 一般事業主行動計画策定・届出 | AY6: 構成員配点 | AZ6: 計画 あり | BA6: 職種名 | BB6: 活用予定人数 | BC6: 構成員配点 | BD6: 配点(最高) | BE6: 市町 村内 | BF6: 総合振興局管内 | BG6: 構成員配点 | BH6: 配点(平均) | BI6: 計画 あり | BJ6: 企業名 | BK6: 構成員配点 | BL6: 配点(最高) | BM6: 計画 あり | BN6: 工事 資材 | BO6: 予定 価格 | BP6: 構成員配点 | BQ6: 配点(最高) | BR6: 該当 あり | BS6: 構成員配点 | BT6: 配点(平均) | BU6: 登録 認証 あり | BV6: 構成員配点 | BW6: 配点(平均) | BX6: 重点工事加点申請あり | BY6: 構成員配点 | BZ6: 配点(平均) | CG6: 配点 | CH6: 修補 請求 | CI6: 提案 不履行 | CJ6: 構成員配点 | CK6: 配点(最高)
B7: =鑑!J6 -> 0 | C7: =IF('様式4～8'!H2="","",'様式4～8'!H2) | D7: =鑑!J12 -> 0 | E7: =IF('様式4～8'!H15="","",'様式4～8'!H15) | F7: =IF(C7="","",ROUNDDOWN(AVERAGE(E7:E9),1)) | G7: =IF(C7="",0,IF(F7<69,3,IF(AND(69<=F7,F7<71),3.5,IF(AND(71<=F7,F7<73),4,IF(AND(73<=F7,F7<75),4.5,IF(AND(75<=F7,F7<77),5,IF(AND(77<=F7,F7<79),5.5,IF(AND(79<=F7,F7<81),6,IF(AND(81<=F7,F7<83),6.5,IF(AND(83<=F7,F7<85),7,IF(F7>=85,7.5,0))))))))))) -> 0 | H7: =IF('様式4～8'!H20="","",'様式4～8'!H20) | I7: =IF('様式4～8'!H21="","",'様式4～8'!H21) | J7: =IF($C7="","",IF(H7="○",0.5,IF(I7="○",0.25,0))) | K7: =MAX(J7:J9) -> 0 | L7: =IF('様式4～8'!H31="","",'様式4～8'!H31) | M7: =IF($C7="","",IF(L7="○",0.5,0)) | N7: =IF($C7="",0,ROUNDDOWN(AVERAGE(M7:M9),2)) -> 0 | O7: =IF('様式4～8'!H39="","",'様式4～8'!H39) | P7: =IF('様式4～8'!H40="","",'様式4～8'!H40) | Q7: =IF($C7="","",IF(O7="○",1.5,IF(P7="○",0.75,0))) | R7: =IF($C7="",0,ROUNDDOWN(AVERAGE(Q7:Q9),2)) -> 0 | S7: =IF('様式4～8'!H68="","",'様式4～8'!H68) | T7: =IF('様式4～8'!H69="","",'様式4～8'!H69) | U7: =IF('様式4～8'!H70="","",'様式4～8'!H70) | V7: =IF('様式4～8'!H67="","",'様式4～8'!H67) | W7: =IF($C7="","",IF(S7="○",IF(V7="○",2,1.5),IF(V7="○",1.5,(IF(T7="○",1,IF(U7="○",0.5,0)))))) | X7: =MAX(W7:W9) -> 0 | Y7: =IF('様式4～8'!H85="","",'様式4～8'!H85) | Z7: =IF($C7="","",IF(Y7="○",0.5,0)) | AA7: =MAX(Z7:Z9) -> 0 | AB7: =IF('様式4～8'!H113="","",'様式4～8'!H113) | AC7: =IF('様式4～8'!H114="","",'様式4～8'!H114) | AD7: =IF($C7="","",IF(AB7="○",0.5,IF(AC7="○",0.5,0))) | AE7: =MAX(AD7:AD9) -> 0 | AF7: =IF('様式4～8'!H121="","",'様式4～8'!H121) | AG7: =IF('様式4～8'!H122="","",'様式4～8'!H122) | AH7: =IF('様式4～8'!H123="","",'様式4～8'!H123) | AI7: =IF('様式4～8'!H124="","",'様式4～8'!H124) | AJ7: =IF('様式4～8'!H125="","",'様式4～8'!H125) | AK7: =IF($C7="","",IF(AF7="○",0.5,IF(AG7="○",0.5,IF(AH7="○",0.5,IF(AI7="○",0.25,IF(AJ7="○",0.1,0)))))) | AL7: =IF($C7="",0,ROUNDDOWN(AVERAGE(AK7:AK9),2)) -> 0 | AM7: =IF(OR('様式4～8'!H135="○",'様式4～8'!H136="○"),"○","") | AN7: =IF($C7="","",IF(AM7="○",0.5,0)) | AO7: =MAX(AN7:AN9) -> 0 | AP7: =IF($C7="","",IF(SUM(AS7,AU7,AW7,AY7)>=0.5,LARGE((AS7,AU7,AW7,AY7),1)+LARGE((AS7,AU7,AW7,AY7),2),SUM(AS7,AU7,AW7,AY7))) | AQ7: =IF($C7="",0,ROUNDDOWN(AVERAGE(AP7:AP9),2)) -> 0 | AR7: =IF('様式4～8'!H156="","",'様式4～8'!H156) | AS7: =IF($C7="","",IF(AR7="○",0.5,0)) | AT7: =IF('様式4～8'!I156="","",'様式4～8'!I156) | AU7: =IF($C7="","",IF(AT7="○",0.5,0)) | AV7: =IF('様式4～8'!J156="","",'様式4～8'!J156) | AW7: =IF($C7="","",IF(AV7="○",0.5,0)) | AX7: =IF('様式4～8'!K156="","",'様式4～8'!K156) | AY7: =IF($C7="","",IF(AX7="○",0.5,0)) | AZ7: =IF('様式4～8'!H198="","",'様式4～8'!H198) | BA7: =IF('様式4～8'!H200="","",'様式4～8'!H200) | BB7: =IF('様式4～8'!H201="","",'様式4～8'!H201) | BC7: =IF($C7="","",IF(AZ7="○",0.5,0)) | BD7: =MAX(BC7:BC9) -> 0 | BE7: =IF('様式4～8'!H229="","",'様式4～8'!H229) | BF7: =IF('様式4～8'!H230="","",'様式4～8'!H230) | BG7: =IF($C7="","",IF(BE7="○",1,IF(BF7="○",0.5,0))) | BH7: =IF($C7="",0,ROUNDDOWN(AVERAGE(BG7:BG9),2)) -> 0 | BI7: =IF('様式4～8'!H240="","",'様式4～8'!H240) | BJ7: =IF('様式4～8'!H242="","",'様式4～8'!H242) | BK7: =IF($C7="","",IF(BI7="○",1,0)) | BL7: =MAX(BK7:BK9) -> 0 | BM7: =IF('様式4～8'!H250="","",'様式4～8'!H250) | BN7: =IF('様式4～8'!H252="","",'様式4～8'!H252) | BO7: =IF('様式4～8'!H253="","",'様式4～8'!H253) | BP7: =IF($C7="","",IF(BM7="○",0.75,0)) | BQ7: =MAX(BP7:BP9) -> 0 | BR7: =IF(OR('様式4～8'!H260="○",'様式4～8'!H261="○"),"○","") | BS7: =IF($C7="","",IF(BR7="○",0.5,0)) | BT7: =IF($C7="",0,ROUNDDOWN(AVERAGE(BS7:BS9),2)) -> 0 | BU7: =IF(OR('様式4～8'!H272="○",'様式4～8'!H273="○",'様式4～8'!H274="○",'様式4～8'!H275="○",'様式4～8'!H276="○"),"○","") | BV7: =IF($C7="","",IF(BU7="○",0.25,0)) | BW7: =IF($C7="",0,ROUNDDOWN(AVERAGE(BV7:BV9),2)) -> 0 | BX7: =IF('様式4～8'!H284="","",'様式4～8'!H284) | BY7: =IF($C7="","",IF(BX7="○",0.25,0)) | BZ7: =IF($C7="",0,ROUNDDOWN(AVERAGE(BY7:BY9),2)) -> 0 | CA7: =IF('様式4～8'!H304="","",'様式4～8'!H304) | CB7: =IF('様式4～8'!H305="","",'様式4～8'!H305) | CC7: =COUNT(CB7:CB9) -> 0 | CD7: =IF($C7="","",IF(CA7="","",ROUNDDOWN(SUM(CA7:CA9)/((SUM(CB7:CB9)/5)+CC7),2))) | CE7: =IF(CD7="－","－",IF(CD7<0.25,3,IF(AND(0.25<=CD7,CD7<0.5),2.4,IF(AND(0.5<=CD7,CD7<0.75),1.8,IF(AND(0.75<=CD7,CD7<1),1.2,IF(AND(1<=CD7,CD7<1.25),0.6,0)))))) -> 0 | CG7: =IF(CF7="○",0.5,"－") -> － | CJ7: =IF($C7="","",IF(CH7="○",IF(CI7="○",-2,-1),IF(CI7="○",-1,0))) | CK7: =MIN(CJ7:CJ9) -> 0
C8: =IF('様式4～8'!M2="","",'様式4～8'!M2) | E8: =IF('様式4～8'!M15="","",'様式4～8'!M15) | F8: =IF(C8>0,ROUNDDOWN(AVERAGE(E8:E8),1),0) -> #DIV/0! | H8: =IF('様式4～8'!M20="","",'様式4～8'!M20) | I8: =IF('様式4～8'!M21="","",'様式4～8'!M21) | J8: =IF($C8="","",IF(H8="○",0.5,IF(I8="○",0.25,0))) | L8: =IF('様式4～8'!M31="","",'様式4～8'!M31) | M8: =IF($C8="","",IF(L8="○",0.5,0)) | O8: =IF('様式4～8'!M39="","",'様式4～8'!M39) | P8: =IF('様式4～8'!M40="","",'様式4～8'!M40) | Q8: =IF($C8="","",IF(O8="○",1.5,IF(P8="○",0.75,0))) | S8: =IF('様式4～8'!M68="","",'様式4～8'!M68) | T8: =IF('様式4～8'!M69="","",'様式4～8'!M69) | U8: =IF('様式4～8'!M70="","",'様式4～8'!M70) | V8: =IF('様式4～8'!M67="","",'様式4～8'!M67) | W8: =IF($C8="","",IF(S8="○",IF(V8="○",2,1.5),IF(V8="○",1.5,(IF(T8="○",1,IF(U8="○",0.5,0)))))) | Y8: =IF('様式4～8'!M85="","",'様式4～8'!M85) | Z8: =IF($C8="","",IF(Y8="○",0.5,0)) | AB8: =IF('様式4～8'!M113="","",'様式4～8'!M113) | AC8: =IF('様式4～8'!M114="","",'様式4～8'!M114) | AD8: =IF($C8="","",IF(AB8="○",0.5,IF(AC8="○",0.5,0))) | AF8: =IF('様式4～8'!M121="","",'様式4～8'!M121) | AG8: =IF('様式4～8'!M122="","",'様式4～8'!M122) | AH8: =IF('様式4～8'!M123="","",'様式4～8'!M123) | AI8: =IF('様式4～8'!M124="","",'様式4～8'!M124) | AJ8: =IF('様式4～8'!M125="","",'様式4～8'!M125) | AK8: =IF($C8="","",IF(AF8="○",0.5,IF(AG8="○",0.5,IF(AH8="○",0.5,IF(AI8="○",0.25,IF(AJ8="○",0.1,0)))))) | AM8: =IF(OR('様式4～8'!M135="○",'様式4～8'!M136="○"),"○","") | AN8: =IF($C8="","",IF(AM8="○",0.5,0)) | AP8: =IF($C8="","",IF(SUM(AS8,AU8,AW8,AY8)>=0.5,LARGE((AS8,AU8,AW8,AY8),1)+LARGE((AS8,AU8,AW8,AY8),2),SUM(AS8,AU8,AW8,AY8))) | AR8: =IF('様式4～8'!M156="","",'様式4～8'!M156) | AS8: =IF($C8="","",IF(AR8="○",0.5,0)) | AT8: =IF('様式4～8'!N156="","",'様式4～8'!N156) | AU8: =IF($C8="","",IF(AT8="○",0.5,0)) | AV8: =IF('様式4～8'!O156="","",'様式4～8'!O156) | AW8: =IF($C8="","",IF(AV8="○",0.5,0)) | AX8: =IF('様式4～8'!P156="","",'様式4～8'!P156) | AY8: =IF($C8="","",IF(AX8="○",0.5,0)) | AZ8: - | BC8: =IF($C8="","",IF(AZ8="○",0.5,"－")) | BE8: =IF('様式4～8'!M229="","",'様式4～8'!M229) | BF8: =IF('様式4～8'!M230="","",'様式4～8'!M230) | BG8: =IF($C8="","",IF(BE8="○",1,IF(BF8="○",0.5,0))) | BI8: - | BK8: =IF($C8="","",IF(BI8="○",0.25,"－")) | BM8: - | BP8: =IF($C8="","",IF(BM8="○",0.25,"－")) | BR8: =IF(OR('様式4～8'!M260="○",'様式4～8'!M261="○"),"○","") | BS8: =IF($C8="","",IF(BR8="○",0.25,0)) | BU8: =IF(OR('様式4～8'!M272="○",'様式4～8'!M273="○",'様式4～8'!M274="○",'様式4～8'!M275="○",'様式4～8'!M276="○"),"○","") | BV8: =IF($C8="","",IF(BU8="○",0.25,0)) | BX8: =IF('様式4～8'!M284="","",'様式4～8'!M284) | BY8: =IF($C8="","",IF(BX8="○",0.25,0)) | CA8: =IF('様式4～8'!M304="","",'様式4～8'!M304) | CB8: =IF('様式4～8'!M305="","",'様式4～8'!M305) | CJ8: =IF($C8="","",IF(CH8="○",IF(CI8="○",-2,-1),IF(CI8="○",-1,0)))
C9: =IF('様式4～8'!R2="","",'様式4～8'!R2) | E9: =IF('様式4～8'!R15="","",'様式4～8'!R15) | F9: =IF(C9>0,ROUNDDOWN(AVERAGE(E9:E9),1),0) -> #DIV/0! | H9: =IF('様式4～8'!R20="","",'様式4～8'!R20) | I9: =IF('様式4～8'!R21="","",'様式4～8'!R21) | J9: =IF($C9="","",IF(H9="○",0.5,IF(I9="○",0.25,0))) | L9: =IF('様式4～8'!R31="","",'様式4～8'!R31) | M9: =IF($C9="","",IF(L9="○",0.5,0)) | O9: =IF('様式4～8'!R39="","",'様式4～8'!R39) | P9: =IF('様式4～8'!R40="","",'様式4～8'!R40) | Q9: =IF($C9="","",IF(O9="○",1.5,IF(P9="○",0.75,0))) | S9: =IF('様式4～8'!R68="","",'様式4～8'!R68) | T9: =IF('様式4～8'!R69="","",'様式4～8'!R69) | U9: =IF('様式4～8'!R70="","",'様式4～8'!R70) | V9: =IF('様式4～8'!R67="","",'様式4～8'!R67) | W9: =IF($C9="","",IF(S9="○",IF(V9="○",2,1.5),IF(V9="○",1.5,(IF(T9="○",1,IF(U9="○",0.5,0)))))) | Y9: =IF('様式4～8'!R85="","",'様式4～8'!R85) | Z9: =IF($C9="","",IF(Y9="○",0.5,0)) | AB9: =IF('様式4～8'!R113="","",'様式4～8'!R113) | AC9: =IF('様式4～8'!R114="","",'様式4～8'!R114) | AD9: =IF($C9="","",IF(AB9="○",0.5,IF(AC9="○",0.5,0))) | AF9: =IF('様式4～8'!R121="","",'様式4～8'!R121) | AG9: =IF('様式4～8'!R122="","",'様式4～8'!R122) | AH9: =IF('様式4～8'!R123="","",'様式4～8'!R123) | AI9: =IF('様式4～8'!R124="","",'様式4～8'!R124) | AJ9: =IF('様式4～8'!R125="","",'様式4～8'!R125) | AK9: =IF($C9="","",IF(AF9="○",0.5,IF(AG9="○",0.5,IF(AH9="○",0.5,IF(AI9="○",0.25,IF(AJ9="○",0.1,0)))))) | AM9: =IF(OR('様式4～8'!R135="○",'様式4～8'!R136="○"),"○","") | AN9: =IF($C9="","",IF(AM9="○",0.5,0)) | AP9: =IF($C9="","",IF(SUM(AS9,AU9,AW9,AY9)>=0.5,LARGE((AS9,AU9,AW9,AY9),1)+LARGE((AS9,AU9,AW9,AY9),2),SUM(AS9,AU9,AW9,AY9))) | AR9: =IF('様式4～8'!R156="","",'様式4～8'!R156) | AS9: =IF($C9="","",IF(AR9="○",0.5,0)) | AT9: =IF('様式4～8'!S156="","",'様式4～8'!S156) | AU9: =IF($C9="","",IF(AT9="○",0.5,0)) | AV9: =IF('様式4～8'!T156="","",'様式4～8'!T156) | AW9: =IF($C9="","",IF(AV9="○",0.5,0)) | AX9: =IF('様式4～8'!U156="","",'様式4～8'!U156) | AY9: =IF($C9="","",IF(AX9="○",0.5,0)) | AZ9: - | BC9: =IF($C9="","",IF(AZ9="○",0.5,"－")) | BE9: =IF('様式4～8'!R229="","",'様式4～8'!R229) | BF9: =IF('様式4～8'!R230="","",'様式4～8'!R230) | BG9: =IF($C9="","",IF(BE9="○",1,IF(BF9="○",0.5,0))) | BI9: - | BK9: =IF($C9="","",IF(BI9="○",0.25,"－")) | BM9: - | BP9: =IF($C9="","",IF(BM9="○",0.25,"－")) | BR9: =IF(OR('様式4～8'!R260="○",'様式4～8'!R261="○"),"○","") | BS9: =IF($C9="","",IF(BR9="○",0.25,0)) | BU9: =IF(OR('様式4～8'!R272="○",'様式4～8'!R273="○",'様式4～8'!R274="○",'様式4～8'!R275="○",'様式4～8'!R276="○"),"○","") | BV9: =IF($C9="","",IF(BU9="○",0.25,0)) | BX9: =IF('様式4～8'!R284="","",'様式4～8'!R284) | BY9: =IF($C9="","",IF(BX9="○",0.25,0)) | CA9: =IF('様式4～8'!R304="","",'様式4～8'!R304) | CB9: =IF('様式4～8'!R305="","",'様式4～8'!R305) | CJ9: =IF($C9="","",IF(CH9="○",IF(CI9="○",-2,-1),IF(CI9="○",-1,0)))
