Workbook
Name 管: [1]リスト!#REF!
Name 管: [2]リスト!#REF!
Name 管: [2]リスト!#REF!
Name 機械器具_機械器具設置: [1]リスト!#REF!
Name 機械器具_機械器具設置: [2]リスト!#REF!
Name 機械器具_機械器具設置: [2]リスト!#REF!
Name 機械器具_鋼構造物: [1]リスト!#REF!
Name 機械器具_鋼構造物: [2]リスト!#REF!
Name 機械器具_鋼構造物: [2]リスト!#REF!
Name 建築: [1]リスト!#REF!
Name 建築: [2]リスト!#REF!
Name 建築: [2]リスト!#REF!
Name 鋼橋上部: [1]リスト!#REF!
Name 鋼橋上部: [2]リスト!#REF!
Name 鋼橋上部: [2]リスト!#REF!
Name 造園: [1]リスト!#REF!
Name 造園: [2]リスト!#REF!
Name 造園: [2]リスト!#REF!
Name 電気: [1]リスト!#REF!
Name 電気: [2]リスト!#REF!
Name 電気: [2]リスト!#REF!
Name 電気通信: [1]リスト!#REF!
Name 電気通信: [2]リスト!#REF!
Name 電気通信: [2]リスト!#REF!
Name 塗装: [1]リスト!#REF!
Name 塗装: [2]リスト!#REF!
Name 塗装: [2]リスト!#REF!
Name 塗装_ライン: [1]リスト!#REF!
Name 塗装_ライン: [2]リスト!#REF!
Name 塗装_ライン: [2]リスト!#REF!

Sheet 別記様式
A1: 別記様式 | N1: ２文字抽出 | O1: ５文字抽出
M2: 0 | N2: =MID(M2,1,2) -> 0 | O2: =MID(M2,1,5) -> 0
H3: 令和 年 月 日
B5: 北海道空知総合振興局長 様
F7: 参加希望者
F8: 住 所
F9: 商号又は名称
F10: 代表者氏名
F11: （共同企業体の場合は企業体名を冠すること）
B13: 技術評価項目申請書
B16: 簡易型総合評価落札方式のための技術評価項目申請書を提出します。添付資料の内容については、事実に相違ないことを誓約します。 また、落札候補者となった際の発注者による確認において、申請した得点に錯誤があった場合は、その得点の上方修正は認められず、下方修正されることについて承諾いたします。 なお、「減点項目」に該当する場合に、発注者で減点項目欄に減ずる得点を記入し修正することについて承諾いたします。
B22: 記
B24: １ 工 事 名
B26: ２ 技術評価項目
B27: ・企業の施工能力 （様式－４－１～２） | L27: ←計画Ⅰ、Ⅱ、実績、舗装
B28: ・配置予定技術者 （様式－５） | L28: ←計画Ⅰ、Ⅱ、実績、舗装
B29: ・担い手の育成・確保（１）（技術者の追加配置）（様式－６－１） | L29: ←計画Ⅰ、Ⅱ、実績
B30: ・担い手の育成・確保（２） （様式－６－２） | L30: ←計画Ⅰ、Ⅱ、実績
B31: ・担い手の育成・確保（３） （様式－６－３） | L31: ←計画Ⅰ、Ⅱ、実績、舗装
B32: ・担い手の育成・確保（４） （様式－６－４） | L32: ←計画Ⅰ、Ⅱ、実績
B33: ・担い手の育成・確保（５） （様式－６－５） | L33: ←計画Ⅰ、Ⅱ、実績
B34: ・担い手の育成・確保（６） （様式－６－６） | L34: ←計画Ⅰ、Ⅱ、実績
B35: ・担い手の育成・確保（７） （様式－６－７） | L35: ←計画Ⅰ、Ⅱ、実績、舗装
B36: ・地域の守り手確保（１） （様式－７－１） | L36: ←計画Ⅰ、Ⅱ、実績、舗装
B37: ・地域の守り手確保（２） （様式－７－２） | L37: ←計画Ⅱ、実績
B38: ・地域の守り手確保（４） （様式－７－４） | L38: ←計画Ⅱ、実績、舗装
B39: ・地域建設業経営環境評価 （様式－８）
B40: ・評価事後審査方式 自己採点申請書 （様式－９）
B42: ３ 問い合わせ先
B43: 担 当 者：
B44: 部 署：
B45: 電話番号：
A47: 注１ 技術評価項目については、発注者から求められている事項以外は、適宜、削除すること。
A48: =IF(O3="計画審査Ⅰ","",IF(N3="計画"," ３ 地域建設業経営環境評価（様式-8）【別紙 留意事項】は提出不要とする。"," ２ 地域建設業経営環境評価（様式-8）【別紙 留意事項】は提出不要とする。")) -> ２ 地域建設業経営環境評価（様式-8）【別紙 留意事項】は提出不要とする。

Sheet 様式4-1
B1: 様式－４－１
C2: （※事前登録済みの会社は提出不要 ただし、事前登録内容に変更が生じた場合は、再度登録が必要）
B3: 企業の施工能力等調書
B5: 工 事 名 ： | P5: =別記様式!$D$24 -> 0
B6: 会社（構成員）名：
B7: ◎ 工事施行成績の評価対象は、全道における各建設管理部で、令和6年1月1日から令和7年12月31日までに完成し、その後 引渡が完了した工事とする。 （共同企業体の構成員としての実績は、出資比率20％以上の場合のものに限る。）
B10: ◎ 工事施行成績は、当該工事と同じ入札参加資格の工種による工事のものを対象とする。
B13: 合計件数 | R13: 件 | X13: 合 計 点 数
X14: 平 均 点
B15: ※ 平均点は、小数第２位を切り捨て１位止めとする。
B16: ※ 過去２年間に実績がないものは、「令和6年」を「令和4年」とすること。
B18: ＩＳＯマネジメントシステムの取得（登録）の有無 （ あり ・ なし ）
B19: ※取得（登録）している場合は、下欄に登録年月日、登録番号及び有効期限を記入し、登
B20: 録証書の写しを併せて提出する。
B21: 登 録 年 月 日 | N21: 年 月 日 | U21: 登 録 番 号
B22: 有 効 期 限 | N22: 年 月 日
B25: 地域精通度 （施工実績） | O25: 工事名 | AC25: ←計画Ⅱ、実績
O26: 受注者名 | X26: 受注形態 | Y26: 単体・ＪＶ（出資比率 %）
O27: 発注機関 | X27: 施工場所
O28: 契約金額 | X28: 工期 | Y28: ～
B29: ※ 過去15年間における当該工事箇所（地域）の施工実績を記入すること。ただし、各建設管理部発注の最終請負額 ５百万円以上で元請けとしての施工実績とする。（該当工事が複数ある場合は、評価が高くなると予想される工事１ 件を記入すること。） ※ 「受注者名」欄は、受注実績が共同企業体の構成員としてのものである場合は、当該共同企業体の名称を記載す ること。 ※ 施工実績を証明するものとして、契約書の写し並びに共同企業体協定書及び経常建設共同企業体附属協定書の写 し又はCORINS登録の写しを提出すること。（事前登録を行っている場合を除く。）
B34: 注１ 共同企業体で申請する場合は、構成員ごとに作成し提出すること。

Sheet 様式4-2
B1: 様式－４－２
C2: （※表彰等を申請する場合に提出すること）
B3: 企業の施工能力等調書
B5: 工 事 名 ： | P5: =別記様式!$D$24 -> 0
B6: 会社（構成員）名：
B9: ・ 北海道建設部工事等優秀者表彰（知事感謝状）申請の有無 （ 申請する ・ しない ）
B10: ・ 北海道新技術・新製品開発賞の受賞（表彰状）申請の有無 （ 申請する ・ しない ）
B11: ※ 申請する場合は、下欄に表彰年月日及び表彰の種類・部門を記入する。
B12: ※ 共同企業体の場合は、表彰がある会社名を記入するとともに、企業体名を記載すること。
B14: 表 彰 年 月 日 | N14: 年 月 日 | S14: 種類・部門 | W14: ○○表彰（賞）
W15: ○○部門
W16: 部門は北海道建設部工事等優秀者表彰の場合
B17: ※会社名 | V17: ※企業体名
B19: ※ 「申請」とは、年１回、各建設管理部において申請ができる０．５点をいう。 ※ 「申請あり」の場合には、感謝状、表彰状の写しを提出すること。
B22: ・ 札幌建設管理部工事優良企業表彰の申請の有無 （ 申請する ・ しない ）
B23: ※ 申請する場合は、下欄に表彰年月日を記入する。
B24: ※ 共同企業体の場合は、表彰がある会社名を記入するとともに、企業体名を記載すること。
B26: 表 彰 年 月 日 | N26: 年 月 日
B28: ※会社名 | V28: ※企業体名
B30: ※ 「申請」とは、年１回、各建設管理部において申請ができる０．５点をいう。 ※ 「申請あり」の場合には、表彰状の写しを提出すること。
B31: 注１ 共同企業体で申請する場合は、構成員ごとに作成し提出すること。

Sheet 様式５ 
C4: 様式－５
C5: 配置予定技術者調書（総合評価用）
C6: 工事名： | F6: =別記様式!D24 -> 0
C7: 会社(構成員)名：
C8: 氏名
C9: 生年月日 | J9: 年 月 日生
C10: 資格 | D10: 種類 | J10: 技術士（○○部門）
D11: 取得年月日 | J11: 年 月 日
D12: 登録番号
D13: 種類 | J13: 級 施工管理技士
D14: 取得年月日 | J14: 年 月 日
D15: 登録番号
D16: 種類
D17: 取得年月日 | J17: 年 月 日
D18: 登録番号
C19: 継続教育の 取得単位 | D19: 団 体 名 | F19: (一社)全国土木施工管理技士会連合会 | J19: 年間 | K19: ユニット
F20: (公社)土木学会 | K20: 単位
F21: (公社)日本技術士会 | J21: 年間 | K21: CPD時間
C22: 各建設管理 部優秀現場 代理人表彰 | D22: 申請の有無 | J22: 申請する ・ しない
E23: 他工事と兼任予定 | J23: あり・参加申請中・なし
E24: 兼任予定工事 | G24: 入札日
G25: 工事名
D26: 表彰年月日 | J26: 年 月 日
D27: 表彰機関名 | J27: ○○建設管理部
C29: 注１ 共同企業体で申請する場合は、構成員ごとに作成し提出すること。
C30: ２ 配置予定技術者を特定できない場合は、複数の候補者の中から、評価の合計が最も低いもの記入すること。
C31: （申請した配置予定技術者と実際の配置予定技術者が異なることは問題ないが、申請した配置予定技術者の評価より
C32: 実際の配置技術者の評価が下がる場合、減点の対象となるので注意すること。）
C33: ３ 記載内容を証明する資料として、資格を証する書面、ＣＰＤ受講証明書及び表彰状等の写しを併せて提出すること。
C34: ４ 優秀現場代理人表彰は、全道の建設管理部における表彰についても評価対象とする。（なお、他工事と兼任する場合
C35: において、当建設管理部発注の兼任する他工事の総合評価で評価されている場合、また、当工事の入札時点で他工事で
C36: 評価され落札予定者となった場合は、当工事では評価しない。）
C37: ５ 優秀現場代理人表彰を申請する場合、他工事との兼任、工事名、工期を記入すること。（当建設管理部発注の工事を
C38: 記入）
C39: なお、他工事と兼任予定欄の「あり」は既発注工事、「参加申請中」は本様式提出時点で他に兼任を予定している入
C40: 札参加申請中の工事がある場合。

Sheet 様式6-3
B1: 様式－６－３
B2: 担い手の育成・確保調書（３）
E3: )
B4: 工 事 名 ： | L4: =別記様式!D24 -> 0
B5: 会社（構成員）名：
B6: 新規の雇用の申請の有無 （ 申請する ・ しない ）
B7: ※ 申請とは、年１回、各建設管理部において申請ができることをいう。
B8: ※ 共同企業体の場合は、申請する会社名も記入。
B9: ※ 過去５年間において、学校教育法に定める高校、高専、大学、大学院、専修学校等や職業
B10: 能力開発促進法に基づく公共職業能力開発施設を卒業した者の雇用。また、過去５年間にお
B11: いて、建設業の許可を受けている企業に従事していた離職者の雇用がある場合は、下欄に雇
B12: 用者の氏名等を記入するとともに、雇用関係の判断できる資料を併せて提出する。
B13: 氏 名 | N13: 会 社 名
B14: 生 年 月 日 | L14: 年 月 日生 | N14: 採用年月日 | P14: 年 月 日
B15: 学卒者の雇用の場合 | L15: 卒業学校名
L16: 卒業年月日 | M16: 年 月 日卒業
L17: 【提出資料】
L18: ① 卒業証書又は卒業証明書の写し
L19: ② 雇用契約書の写しなど、雇用契約の内容がわかる書面
L20: ③ 健康保険加入者：健康保険厚生年金被保険者資格取得確認通知書の写し
L21: ＋ 健康保険厚生年金被保険者標準報酬決定通知書の写し
L22: ④ 健康保険未加入者：雇用保険被保険者資格取得等確認通知書の写し
L23: ＋ 源泉徴収簿の写し
L24: ⑤ ３か月を超える継続雇用をされていることがわかる書面 （賃金台帳の写しなど）
B25: 離職者の雇用の場合 | L25: 前会社名
L26: 【提出資料】
L27: ① 解雇通知書又は離職証明書の写し
L28: ② 雇用契約書の写しなど、雇用契約の内容がわかる書面
L29: ③ 健康保険加入者：健康保険厚生年金被保険者資格取得確認通知書の写し
L30: ＋ 健康保険厚生年金被保険者標準報酬決定通知書の写し
L31: ④ 健康保険未加入者：雇用保険被保険者資格取得等確認通知書の写し
L32: ＋ 源泉徴収簿の写し
L33: ⑤ ３か月を超える継続雇用をされていることがわかる書面 （賃金台帳の写しなど）
A34: 注１ 共同企業体で申請する場合は、構成員ごとに作成し提出すること。 | B34: 注１ 共同企業体で申請する場合は、構成員ごとに作成し提出すること。
B35: ２ 提出資料の③、④については、健康保険の加入状況に応じて、どちらか提出すること。
B36: 3 ３か月を超える継続雇用とは、基準日（令和7年度の場合は、令和7年４月１日）において３か月を超える雇用があること が必要なため、令和7年１月１日～４月１日まで雇用を継続していることを証する書類が必要となるので留意すること。
B37: ４ 申請する場合は様式6-3は必要。ただし事前登録を行っている場合は、添付資料は不要。

Sheet 様式6-7
B1: 様式－６－７ | P1: （※事前登録済みの会社は提出不要）
B2: 担い手の育成・確保調書（７）
B4: 工 事 名 ： | M4: =別記様式!D24 -> 0
B5: 会社（構成員）名：
B7: 人材育成への取組
B9: 次のいずれかによる
B10: ・令和7・8年度の北海道建設工事等競争入札参加資格審査における 「人材育成（技術者の育成）」の評価
P13: （ あり ・ なし ）
B16: ・北海道建設工事等競争入札参加資格審査における「人材育成（技術者の育成）」と 同様の取組を行った実績
P18: （ あり ・ なし ）
B21: 注１ 共同企業体で申請する場合は、構成員ごとに作成し提出すること。
B22: 2 「北海道建設工事等競争入札参加資格審査における「人材育成（技術者の育成）」と同様の取組を行っ た実績」による評価の場合は、実施内容が客観的に判断できる書類（開催案内、領収書等）の写しを提出 すること。

Sheet 様式7-1
B1: 様式－７－１ | S1: （※事前登録済みの会社は提出不要）
B2: 地域の守り手確保等調書（１）
B4: 工 事 名 ： | M4: ='様式6-7'!M4 -> 0
B5: 会社（構成員）名：
B7: 主たる営業所 の 所 在 地 | I7: 営業所名 | P7: 住所 | W7: ←計画Ⅱ、実績
B11: 舗装プラントの所有 （自社又は共同経営） | I11: プラントの | N11: あり ・ なし | P11: プラント名
I12: 有 無 | P12: 所在地
I13: プラント所有者
B14: 注１ 共同企業体で申請する場合は、構成員ごとに作成し提出すること。 ２ 共同所有の場合は、共有者全員の社名等を記載すること。

Sheet 様式8 
C3: 様式－８
D5: 地域建設業経営環境評価調書
C7: 工事名 | K7: ： | L7: =別記様式!D24 -> 0
C8: 会社（構成員）名 | K8: ：
D10: ◎ | E10: 当該年度の末完成工事受注額
E11: ※ | F11: 元請として、当該建設管理部と契約を締結している工事のうち、当該工事の入札参加資格審査申請書等の申請締切日の前日までに工事完成検査を実施していない工事（予定を含む。）の工事名、受注額等を下欄に記入する。なお、入札公告・契約等が年度末もしくは次年度当初となる工事においては、入札参加申請締切日前日時点の年度内完成予定の工事を当該年度の未完成工事から除外する。
C13: 工事 番号 | F13: 工 事 名 | U13: 受 注 者 名 （共同企業体名） | AA13: 工 期 | AI13: 共同企業体の場合の受注額（円） | AW13: 当該年度未完成工事 受注額（円） ※共同企業体の場合③を記入
AI14: 受注額（円） ① ※全体額を記入 | AN14: 出資比率 （請負比）② | AR14: 構成員としての受注額（円） ①×②＝③
AD15: ～
AD16: ～
AD17: ～
AD18: ～
AD19: ～
AD20: ～
AD21: ～
AD22: ～
D24: ◎ | E24: 過去5か年度平均受注額 | Q24: 対象期間： | X24: （ | Y24: 令和 | AA24: 3 | AC24: 年 | AD24: 4 | AF24: 月 | AG24: 1 | AI24: 日 | AJ24: ～ | AK24: 令和 | AM24: 8 | AO24: 年 | AP24: 3 | AR24: 月 | AS24: 31 | AU24: 日 | AV24: ）
C25: 過去５か年度平均受注額（円）
C27: 注 | D27: 1 | F27: 共同企業体で申請する場合は、構成員ごとに作成し提出すること。
D28: 2 | F28: 共同企業体で施工中の工事における受注額は、各構成員の出資比率（請負比）により算出した金額とする。
F29: なお、算出にあたり１円未満の端数が生じた場合は、その端数を切り捨て円止めとする。
D30: 3 | F30: 過去５か年度平均受注額の各年度別受注額で、債務負担工事等の年度を超える工事における受注額は、当該年度の最終支払額とする。
F31: ただし、2・3月入札で工期末が次年度となるゼロ国、ゼロ道、翌債などの工事については、契約年度の受注額を0円とし、完成年度の受注額はその工事の最終支払額を計上し、計算を行う。
D32: 4 | F32: 過去５か年度平均受注額の算出にあたり１円未満の端数が生じた場合は、その端数を切り捨て円止めとする。
D33: 5 | F33: 記入欄が不足する場合は、適宜、行を追加して作成することとし、用紙が複数枚になる場合は、用紙右上余白に「全○葉の内○号」と記入すること。

Sheet 様式8別紙
C2: 様式－８ 【別紙 留意事項】
D4: 地域建設業経営環境評価調書の記載上の留意事項
D5: 【分母＜過去５か年度平均受注額＞について】
F7: ① 対象期間
H8: 令和３年４月１日から令和８年３月31日
F10: ② 対象工事
H11: ①の期間に元請として、当該建設管理部と契約を締結した工事のうち、以下の工事を除く全ての工事を対象とする。
G12: ＜対象外工事＞
H13: ・建設指導課発注工事
H14: ・WTO対象工事
F16: ③ 債務負担工事等の年度を超える工事における受注額は、当該年度の最終支払額とする。
H17: ※ 実際の支払日（振込日）が事務処理上、新年度となっていても当該年度として計算する。
F19: ④ ③の工事のうち、２月～３月入札で工期末が次年度となる「ゼロ国」、「ゼロ道」、「翌債」などの工事は、以下のとおりとする。
H20: ・契約年度の受注額 ： ０円
H21: ・完成年度の受注額 ： 最終支払額
F23: ⑤ 平均受注額の算出で１円未満の端数が生じた場合は、その端数を切り捨て円止めとする。
D25: 【分子＜当該年度未完成工事受注額＞について】
F27: ① 対象期間
H28: 当該年度
F30: ② 対象工事
H31: 当該工事の入札参加資格審査申請書等の申請締切日の前日までに、元請けとして当該建設管理部と契約を締結している工事のうち、工事完成検査を実施し引渡を行っていない工事で、以下の工事を除く全ての工事のを対象とする。
G33: ＜対象外工事＞
H34: ・建設指導課発注工事
H35: ・WTO対象工事
F37: ③ 受注額
H38: ④、⑤以外は、当初契約額とする（契約変更があっても当初契約額）
F40: ④ 債務負担工事等の当初の工期設定が年度を超える工事における受注額は、当該年度の当初における支払予定額とする。
H41: ※ 契約変更で当初の支払予定額が変更になっていても、当初の支払予定額とする。
F43: ⑤ ④の工事のうち、３か年以上の工事において中間年にあたる場合は、当該年度の当初における最新支払限度額とする。
F45: ⑥ ④の工事のうち、２月～３月入札で工期末が次年度となる「ゼロ国」、「ゼロ道」、「翌債」などの工事は、以下のとおりとする。
H46: ・契約年度の受注額 ： 当初契約額
H47: ・完成年度の受注額 ： 当初契約額
F49: ⑦ 当初契約において、契約年度内の工期末を設定していた工事で、受注者の責めに帰さない要因による工期延期等に伴い、年度を超えることとなった場合については、以下のとおりとする。 | H49: 当初契約において、契約年度内の工期末を設定していた工事で、受注者の責めに帰さない要因による工期延期等に伴い、年度を超えることとなった場合については、以下のとおりとする。
H51: ・契約年度の受注額 ： 当初契約額
H52: ・完成年度の受注額 ： ０円
F54: ⑧ | G54: 入札公告・契約等が年度末もしくは次年度当初となる工事における分子の計算は、入札参加締切日前日時点の年度内完成予定の工事を分子から除外して計算を行い、申請締切日以降に手持ち工事が受注者の責めに帰さない要因により年度を超えることとなった場合においても、分子から除外して計算を行うこととする。
F58: ⑨ 共同企業体での未完成工事受注額については、出資比率により算出する。

Sheet 様式9
AN1: 舗装 | AP1: ＹＥＳ
AP2: NO
C3: 様式－９
D4: 評価点事後審査方式 自己採点申請書 | S4: 工事名 | X4: ='様式8 '!L7 -> 0
S5: 会社（企業体）名
D7: 当該工事に関する、総合評価・技術評価事後審査方式に伴う得点申請書を提出します。 なお、内容については事実と相違ないことを誓約します。
D8: また、落札候補者となった際の発注者による確認において、申請した得点に錯誤があった場合は、その得点の上方修正は認められず、下方修正されることについて承諾いたします。
D9: なお、「減点項目」に該当する場合に、発注者で減点項目欄に減ずる得点を記入し修正することについて承諾いたします。
C12: 評価項目 | D12: 企業の施工能力等 | I12: 配置予定技術者 | M12: 担い手の育成・確保 | W12: 地域の守り手確保 | AH12: 地域建設業経営環境評価 ※２ | AI12: 減点項目 | AK12: 技術点計
D13: 工事施行成績 | E13: 建設部工事等優秀業者表彰 | F13: 建設管理部優良企業表彰 | G13: ISOの取得 | H13: 地域精通度 | I13: 資格（配置予定技術者①）※１ | J13: =IF(AN1="舗装","","資格（配置予定技術者②／加点措置") | K13: CPDの取得 | L13: 現場代理人表彰 | M13: 技術者の追加配置 | N13: =IF(AN1="舗装","","技術職員の育成・確保") | O13: 新規の雇用 | P13: 選択項目 | W13: 地域の安全安心 | Z13: 地域経済 | AB13: 社会貢献 | AC13: その他 | AI13: 重要な契約不適合に伴う修補（損害賠償）請求 | AJ13: 技術評価項目の不履行 | AM13: 乙型 | AN13: NO
P14: =IF(AN1="舗装","","雇用環境取組") | Q14: =IF(AN1="舗装",""," ") | R14: =IF(AN1="舗装","","高年齢者継続雇用取組") | S14: =IF(AN1="舗装","","女性の活躍支援取組") | T14: =IF(AN1="舗装","","地域技能士の活用") | U14: =IF(AN1="舗装","","生産性向上の取組") | V14: 人材育成（技術者の育成）の取組 | W14: 主たる営業所 | X14: =IF(AN1="舗装","","災害時の協力") | AA14: =IF(AN1="舗装","","地域資材の活用") | AB14: =IF(AN1="舗装","","多様な雇用への貢献") | AC14: =IF(AN1="舗装","プラント所有"," ") -> プラント所有 | AD14: =IF(AN1="舗装","プラント場所","円滑な事業執行への貢献") -> プラント場所
AN15: ↑乙型か否かを入力
C27: 事前登録の有無 登録あり：○ 登録なし：ー | AM27: ←一部条件書式ではなく決め打ちで色づけしるので注意！
C28: 得 点 | AK28: =SUM(D28:AJ28) -> 0 | AM28: ←一部条件付書式で色つけしています。
E30: ※１ | H30: 配置予定技術者の氏名は以下のとおりです。 ※複数の候補者を想定している場合は、各候補者のうち評価の合計が最も低い者の得点及び名前を記載し、その他の候補者は 「外○名」と記載しています。
H31: 配置予定技術者①氏名
H32: 配置予定技術者②氏名 ※乙型JVの場合に記載しています。
E34: ※２ | H34: 経営環境評価の当該年度未完成工事受注額（分子）は、申請時点において、下記のとおりとして算出しています。なお、当該工事の開札までに、新たな受注があり、変更となる場合は、発注者が修正することに同意します。
H36: 当該年度未完成工事受注額（分子） | X36: 円 | Y36: 評価比率 | Z36: =ROUNDDOWN(O36/O37,2) -> #DIV/0!
H37: 過去5か年度平均受注額（分母） | X37: 円
C39: 注１ 共同企業体で申請する場合は、構成員ごとに作成するとともに、代表の構成員は、共同企業体の自己採点申請書を作成し提出すること。
C44: 項目判定 | N44: =IF(N13="","×","○") -> × | P44: =IF(P14="","×","○") -> × | Q44: =IF(Q14="","×","○") -> × | R44: =IF(R14="","×","○") -> × | S44: =IF(S14="","×","○") -> × | T44: =IF(T14="","×","○") -> × | V44: =IF(V14="","×","○") -> ○ | W44: =IF(W14="","×","○") -> ○ | X44: =IF(X14="","×","○") -> × | Y44: =IF(Y14="","×","○") -> × | Z44: =IF(Z14="","×","○") -> × | AA44: =IF(AA14="","×","○") -> × | AB44: =IF(AB14="","×","○") -> × | AC44: =IF(AC14="","×","○") -> ○ | ... AG44: =IF(AG14="","×","○") -> × | AH44: =IF(AH12="","×","○") -> ○
