Workbook

Sheet 入力表
A1: 申 請 書 類 入 力 表
H2: 【記入上の注意】
A3: 発注者名： | B3: 一宮市長 | H3: ・ | J3: 黄色着色のセルは直接入力をお願いします。 | P3: 一宮市長 | Q3: 一宮市水道事業等管理者 | R3: 一宮市病院事業管理者
A4: 事業課： | B4: 建設部道路課 | H4: ・ | J4: 橙色着色のセルは、セル中の選択肢から選択してください。 | P4: まちづくり部都市計画課 | Q4: まちづくり部公園緑地課 | R4: 建築部公共建築課 | S4: 建築部住宅政策課 | T4: 建設部維持課 | U4: 建設部道路課 | V4: 建設部治水課 | W4: 環境部施設管理課
A5: 業種： | B5: 舗装 | H5: ・ | J5: 水色着色のセルは、該当する項目1つをチェックしてください。
A6: 工事名： | B6: 道路第１３２号 市道０１０８号線幹線舗装改良工事（週休２日） | H6: ・ | I6: 加算点を過大に申告した場合、公告に記載の方法で減点しますので、 | P6: =LEFT(B6,FIND(" ",B6)-1) -> 道路第１３２号 | Q6: =RIGHT(B6,LEN(B6)-FIND("号 ",B6)-1) -> 市道０１０８号線幹線舗装改良工事（週休２日）
A7: 工事場所： | B7: 一宮市西萩原地内ほか | I7: ご注意ください。
A8: 入札日： | B8: 令和8年11月6日(金) 午前8時40分 | H8: ・ | I8: 評価項目及び評価基準の詳細については、公告で確認してください。 | P8: =DBCS(LEFT(B8,FIND(" ",B8)-4)) -> 令和８年１１月６日
B9: =IF(COUNTIF(N10:N82,"×")>0,"【注】未入力の項目があります。確認欄に×のあるところを入力してください。--------------------------→","") -> 【注】未入力の項目があります。確認欄に×のあるところを入力してください。--------------------------→ | N9: 確認欄
A10: 申請日： | C10: ←記入例 2024/4/3 | N10: =IF(B10="","×","") -> × | P10: =SUBSTITUTE(DBCS(TEXT(B10,"ggg")&TEXT(B10,"e年")&TEXT(MONTH(B10),"?月")&TEXT(DAY(B10),"?日")),"和１年","和元年") -> 明治３３年１月 日
A11: 企業名： | G11: ←記入例 ○○建設株式会社 | N11: =IF(B11="","×","") -> × | P11: =SUBSTITUTE(SUBSTITUTE(SUBSTITUTE(SUBSTITUTE(SUBSTITUTE(B11," ","")," ",""),"株式会社","㈱"),"有限会社","㈲"),"合資会社","㈾")
A12: 所在地： | G12: ←記入例 一宮市本町２－５－６ | N12: =IF(B12="","×","") -> ×
A13: 代表者職氏名： | G13: ←記入例 代表取締役 一宮 太郎 | N13: =IF(B13="","×","") -> ×
A14: 担当者名： | F14: ←記入例 一宮 花子 | N14: =IF(B14="","×","") -> ×
A15: 担当部署： | F15: ←記入例 営業課、営業担当 | N15: =IF(B15="","×","") -> ×
A16: 電話番号： | F16: ←記入例 (0586)28-8631 | N16: =IF(B16="","×","") -> × | P16: =DBCS(B16)
A18: 名簿に記載された格付 | E18: ↓記入例 土木一式 | N18: 確認欄
A19: 業種： | N19: =IF(C19="","×","") -> ×
A20: 総合評定値： | E20: ←記入例 1002 | N20: =IF(C20="","×","") -> ×
A21: 契約を締結する営業所等の所在地： | N21: =IF(C21="","×","") -> × | P21: 市内 | Q21: 県内 | R21: 県外
A22: 本市内における本支店、営業所等の所在地： | N22: =IF(C22="","×","") -> × | P22: 本店 | Q22: 本店以外
A24: 評価項目確認（配置予定技術者） | E24: ↓記入例 一宮 次郎 | N24: 確認欄
A25: 配置予定技術者の氏名： | N25: =IF(C25="","×","") -> ×
N26: 確認欄
A27: 同種工事の施工経験： | D27: 本市の発注した過去３年間の同種工事で監理技術者、監理技術者補佐、主任技術者 | N27: =IF(P27=0,"×","") -> × | P27: 0
A28: （過去３年間） | D28: 又は現場代理人
D29: 本市以外の官公庁等の発注した過去３年間の同種工事で監理技術者、監理技術者補佐、主任
D30: 技術者又は現場代理人
D31: 上記以外
N32: 確認欄
A33: 同種工事の工事成績： | D33: 本市の発注した過去３年間の同種工事の工事成績評定が８０点以上 | N33: =IF(P33=0,"×","") -> × | P33: 0
A34: （過去３年間の内１件） | D34: 本市の発注した過去３年間の同種工事の工事成績評定が７０点以上８０点未満
D35: 本市以外の官公庁等の発注した過去３年間の同種工事の工事成績評定が８０点以上
D36: 本市以外の官公庁等の発注した過去３年間の同種工事の工事成績評定が７０点以上８０点未満
D37: 上記以外
A39: 評価項目確認（企業の施工能力・社会貢献度・地域貢献度） | N39: 確認欄
A40: 同種工事の施工実績： | D40: 本市の発注工事で過去３年間に同種工事４件以上 | N40: =IF(P40=0,"×","") -> × | P40: 0
A41: （過去３年間） | D41: 本市の発注工事で過去３年間に同種工事２件以上
D42: 本市の発注工事で過去３年間に同種工事１件
D43: 本市以外の官公庁等の発注工事で、過去３年間に同種工事２件以上
D44: 上記以外
N45: 確認欄
A46: 同種工事の工事成績： | D46: 本市の発注工事で過去３年間に同種工事の工事成績評定８０点以上が３件以上 | N46: =IF(P46=0,"×","") -> × | P46: 0
A47: （過去３年間） | D47: 本市の発注工事で過去３年間に同種工事の工事成績評定８０点以上が２件以上
D48: 本市の発注工事で過去３年間に同種工事の工事成績評定８０点以上が１件、又は７５点以上８０点未満が２件以上
D49: 本市の発注工事で過去３年間に同種工事の工事成績評定７５点以上８０点未満が１件、又は７０点以上７５点未満が３件以上
D50: 本市の発注工事で過去３年間に同種工事の工事成績評定７０点以上７５点未満が１件以上
D51: 上記以外
N52: 確認欄
A53: 優良工事表彰： | D53: 本市で過去１０年間に２年以上連続優良工事表彰実績有 | N53: =IF(P53=0,"×","") -> × | P53: 0
A54: （過去１０年間） | D54: 本市で過去１０年間に優良工事表彰実績が２件以上有
D55: 本市で過去１０年間に優良工事表彰実績が１件有
D56: 上記以外
N57: 確認欄
A58: ISO9001の認証取得： | D58: ISO9001の認証有 | N58: =IF(P58=0,"×","") -> × | P58: 0
D59: 無
N60: 確認欄
A61: ISO14001の認証取得： | D61: ISO14001の認証有 | N61: =IF(P61=0,"×","") -> × | P61: 0
D62: 無
J63: 登録又は認定内容： | N63: 確認欄
A64: 男女共同参画社会実現 | D64: 男女共同参画について登録又は認定を受けている | J64: 愛知県ファミリーフレンドリー企業 | N64: =IF(P64=0,"×","") -> × | P64: 0 | Q64: 愛知県ファミリーフレンドリー企業 | R64: あいち女性輝きカンパニー | S64: えるぼし認定 | T64: くるみん認定
A65: への貢献： | D65: 上記以外
N66: 確認欄
A67: 障害者の雇用： | D67: 障害者を法に定める率以上に雇用している | N67: =IF(P67=0,"×","") -> × | P67: 0
D68: 上記以外
N69: 確認欄
A70: 保護観察所に更生保護の | D70: 保護観察所に更生保護の協力雇用主として登録有 | N70: =IF(P70=0,"×","") -> × | P70: 0
A71: 協力雇用主としての登録： | D71: 上記以外
N72: 確認欄
A73: 週休２日制工事： | D73: 過去１年間に契約金額１，０００万円以上の週休２日制工事で工事成績評定６０点以上の実績有 | N73: =IF(P73=0,"×","") -> × | P73: 0
A74: （過去１年間） | D74: 上記以外
N75: 確認欄
A76: 災害協定に基づく活動： | D76: 本市と災害協定を締結している | N76: =IF(P76=0,"×","") -> × | P76: 0
D77: 上記以外
N78: 確認欄
A79: 企業としてのボランティア活動： | D79: 本市内でボランティア活動をしている | H79: 活動内容： | N79: =IF(OR(P79=2,AND(P79=1,J79<>"")),"","×") -> × | P79: 0 | Q79: アダプト プログラム | R79: 川と海の クリーン大作戦 | S79: リバーサイド フェスティバル | T79: 一宮七夕まつり 清掃 | U79: 交通安全街頭 キャンペーン | V79: 平成ホタルの会 | W79: 浅野公園内の 樹木剪定
A80: （2ヵ年度以上継続） | D80: ボランティア活動なし | J80: ↑選択肢に該当する内容がない場合は
J81: 直接入力してください。 | N81: 確認欄
A82: 一宮市地域貢献企業 | D82: 本市から一宮市地域貢献企業として認定有 | N82: =IF(P82=0,"×","") -> × | P82: 0
A83: としての認定： | D83: 上記以外
N84: 確認欄
A85: 一宮市消防団協力事業所 | D85: 本市から一宮市消防団協力事業所として認定有 | N85: =IF(P85=0,"×","") -> × | P85: 0
A86: としての認定： | D86: 上記以外
A88: ※落札候補者となった場合は、以下の入力をお願いします。 | F88: =IF(COUNTIF(N89:N169,"×")>0," 【注】未入力の項目があります。確認欄に×のあるところを入力してください。→","") -> 【注】未入力の項目があります。確認欄に×のあるところを入力してください。→ | N88: 確認欄
A89: 申請書類提出日： | E89: ←記入例 2023/7/28 | N89: =IF(C89="","×","") -> × | P89: =SUBSTITUTE(DBCS(TEXT(C89,"ggg")&TEXT(C89,"e年")&TEXT(MONTH(C89),"?月")&TEXT(DAY(C89),"?日")),"和１年","和元年") -> 明治３３年１月 日
A90: 希望する契約方式： | D90: 電子契約 | N90: 確認欄
D91: 書面（紙）による契約 | N91: =IF(P91=0,"×","") -> × | P91: 0
A92: 希望する契約保証： | D92: 履行保証保険 | N92: 確認欄
D93: 公共工事履行保証証券（履行ボンド） | N93: =IF(P93=0,"×","") -> × | P93: 0
D94: 銀行保証
D95: 保証事業会社の保証（東日本建設業保証株式会社）
D96: 現金
A97: 入札に参加する者に必要な資格及び条件 | F97: ↓記入例 ◎◎第◎◎号 市道＊＊＊＊号線 ○○○○○○工事 | N97: 確認欄
A98: 施工実績 | B98: 工事名： | N98: =IF(OR(C98="",C99="",C100="",C101="",C102="",G102="",C104=""),"×","") -> ×
B99: 発注機関名： | F99: ←記入例 一宮市
B100: 工事場所： | K100: ←記入例 一宮市○○町△△△△地内
B101: 請負代金額： | F101: 円 | P101: ="金"&TEXT(C101,"#,##0円") -> 金0円
B102: 工期： | F102: ～ | K102: ←記入例 2016/8/4 | P102: =SUBSTITUTE(TEXT(C102,"ggg")&TEXT(C102,"e年")&TEXT(MONTH(C102),"?月")&TEXT(DAY(C102),"?日")&" ～ "&TEXT(G102,"ggg")&TEXT(G102,"e年")&TEXT(MONTH(G102),"?月")&TEXT(DAY(G102),"?日"),"和1年","和元年") -> 明治33年1月 日 ～ 明治33年1月 日
B103: CORINS登録の有無： | D103: 有の場合は CORINS登録番号： | K103: ←記入例 4020123456 | P103: 有 | Q103: 無
B104: 工事成績評定： | E104: ←記入例 75 | N104: 確認欄
...

Sheet 落札候補者申請書様式印刷用
A1: 様式第５ | DB1: =ASC(MID(入力表!B6,1,FIND("号 ",入力表!B6,1))) -> 道路第132号
A3: 総合評価落札方式 入札参加資格確認申請書
BZ6: =IF(入力表!C89="","令和 年 月 日",入力表!P89) -> 令和 年 月 日
A8: =" （あて先）"&入力表!B3 -> （あて先）一宮市長
AN11: 住所又は所在地 | BI11: =IF(入力表!B12="","",入力表!B12)
AN13: 商号又は名称 | BI13: =IF(入力表!B11="","",入力表!B11)
AN15: 代表者氏名 | BI15: =IF(入力表!B13="","",入力表!B13)
A18: 下記工事の総合評価落札方式の入札に参加を希望しますので、当該工事に係る入札参加資格の確認及
A20: び技術提案等に関する審査について必要書類を添えて申請します。
A22: なお、地方自治法施行令第167条の4に該当する者でないこと、及び書類の内容については事実と相違
A24: ないことを誓約します。
AY26: 記
A28: 入札参加を希望する工事
D31: １ | I31: 工事名 | AG31: =IF(入力表!B6="","",DBCS(入力表!B6)) -> 道路第１３２号 市道０１０８号線幹線舗装改良工事（週休２日）
D34: ２ | I34: 工事場所 | AG34: =IF(入力表!B7="","",DBCS(入力表!B7)) -> 一宮市西萩原地内ほか
A37: 入札に参加する者に必要な資格及び条件
BB39: =IF(入力表!C19=""," 工事",SUBSTITUTE(入力表!C19,"工事","")&"工事") -> 工事
D40: １ | I40: 名簿に記載された格付 | AN40: 業 種 | BU40: 総合評定値 | CM40: =IF(入力表!C20="","点",入力表!C20&"点") -> 点
BT41: =IF(MOD(YEAR(DATEVALUE(入力表!P8)+275)-2018,2)=1,"（※R"&YEAR(DATEVALUE(入力表!P8)+275)-2019&"・"&YEAR(DATEVALUE(入力表!P8)+275)-2018&"格付）","（※R"&YEAR(DATEVALUE(入力表!P8)+275)-2020&"・"&YEAR(DATEVALUE(入力表!P8)+275)-2019&"格付）") -> （※R8・9格付）
I43: 契約を締結する
D44: ２ | AL44: =IF(入力表!C21="県外","□市内 ・ □県内 ・ ■県外",IF(入力表!C21="県内","□市内 ・ ■県内 ・ □県外",IF(入力表!C21="市内","■市内 ・ □県内 ・ □県外","□市内 ・ □県内 ・ □県外"))) -> □市内 ・ □県内 ・ □県外
I45: 営業所等の所在地
O49: 工事名 | AK49: =IF(入力表!C98="","",DBCS(入力表!C98))
I50: 施工実績
O52: 発注機関名 | AK52: =IF(入力表!C99="","",入力表!C99)
O55: 工事場所 | AK55: =IF(入力表!C100="","",DBCS(入力表!C100))
D58: ３ | O58: 請負代金額 | AK58: =IF(入力表!C101="","",入力表!P101)
O61: 工期 | AK61: =IF(AND(入力表!C102<>"",入力表!G102<>""),入力表!P102,"令和 年 月 日 ～ 令和 年 月 日") -> 令和 年 月 日 ～ 令和 年 月 日
O64: CORINS登録の有無 | AK64: =IF(AND(入力表!C103="有",入力表!G103<>""),"■有（ CORINS登録番号","□有（ CORINS登録番号") -> □有（ CORINS登録番号 | BJ64: =IF(AND(入力表!C103="有",入力表!G103<>""),入力表!G103,"") | CM64: =IF(入力表!G103="","） ・ ■無","） ・ □無") -> ） ・ ■無
O67: 工事成績評定 | AK67: =IF(入力表!C104="","",DBCS(入力表!C104)&"点")
A70: 希望する契約方式・契約保証
D73: １ | I73: 希望する契約方式 | AG73: =IF(入力表!P91=0,"",IF(入力表!P91=1,"電子契約",IF(入力表!P91=2,"書面（紙）による契約")))
D76: ２ | I76: 希望する契約保証 | AG76: =IF(入力表!P93=0,"",IF(入力表!P93=1,"履行保証保険",IF(入力表!P93=2,"公共工事履行保証証券（履行ボンド）",IF(入力表!P93=3,"銀行保証",IF(入力表!P93=4,"保証事業会社の保証",IF(入力表!P93=5,"現金"))))))
B79: 注１）必ず公告において明示した資格があることを確認できる内容を記載する。
B81: 注２）契約締結する営業所との所在地について、該当する項目に「■」を付すこと。
B83: 注３）CORINS登録の区分いずれかに「■」を付すこと。「有」に「■」を付した場合は、CORINS登録番号を記
B85: 載する。
B87: 注４）CORINSに登録が無い工事及びCORINSにて工事内容が確認できない工事は、契約書の他に施工計画書など
B89: 当該工事の内容が証明できる書類を求めることがある。
B91: 注５）工事成績評定については、完成検査完了通知の写し等の工事成績が確認できる書類を添付する。
B93: 注６）一次下請の施工実績による場合は、一次下請としての契約金額のわかる書類（下請負契約書、請書等の
B95: 写し）及び同種工事としての施工内容がわかる書類（施工体制台帳又は施工体系図の写し）を添付する。
A98: 様式第６ | DB98: =ASC(MID(入力表!B6,1,FIND("号 ",入力表!B6,1))) -> 道路第132号
A100: 配置予定技術者の施工経験及び工事成績
G104: （ふりがな） | AA104: =IF(入力表!C106="","",入力表!C106) | BK104: 生年月日 | CD104: =IF(入力表!C107=""," 年 月 日",入力表!P107) -> 年 月 日
F107: 氏 名 | AA107: =IF(入力表!C25="","",入力表!C25)
AA110: =IF(入力表!P109=0,"",IF(入力表!P109=1,入力表!Q109,入力表!Q111))
C112: 法令による資格・免許等 | AA112: =入力表!Q110
AA114: =入力表!W110
C119: 同種工事の施工経験及び施工成績 | I119: 工事名 | AA119: =IF(入力表!P27=3,"該当なし",DBCS(入力表!C113))
I122: 発注機関名 | AA122: =IF(OR(入力表!P27=3,入力表!P27=0),"",入力表!C114)
I125: 工事場所 | AA125: =IF(OR(入力表!P27=3,入力表!P27=0),"",DBCS(入力表!C115))
I128: 請負代金額 | AA128: =IF(OR(入力表!P27=3,入力表!P27=0),"",入力表!Q116)
I131: 工期 | AA131: =IF(OR(入力表!P27=3,入力表!P27=0),"令和 年 月 日 ～ 令和 年 月 日",入力表!R117) -> 令和 年 月 日 ～ 令和 年 月 日
I134: 従事役職 | AA134: =IF(入力表!P27=3,"□監理技術者 ・ □監理技術者補佐 ・ □主任技術者 ・ □現場代理人",IF(入力表!C118="監理技術者","■監理技術者 ・ □監理技術者補佐 ・ □主任技術者 ・ □現場代理人",IF(入力表!C118="監理技術者補佐","□監理技術者 ・ ■監理技術者補佐 ・ □主任技術者 ・ □現場代理人",IF(入力表!C118="主任技術者","□監理技術者 ・ □監理技術者補佐 ・ ■主任技術者 ・ □現場代理人",IF(入力表!C118="現場代理人","□監理技術者 ・ □監理技術者補佐 ・ □主任技術者 ・ ■現場代理人","□監理技術者 ・ □監理技術者補佐 ・ □主任技術者 ・ □現場代理人"))))) -> □監理技術者 ・ □監理技術者補佐 ・ □主任技術者 ・ □現場代理人
I137: 受注形態 | AA137: =IF(AND(入力表!P27<>3,入力表!C119<>""),IF(入力表!I119="","■単体受注 ・ □ＪＶ受注（出資比率 ）","□単体受注 ・ ■ＪＶ受注（出資比率 "&入力表!I119&" ）"),"□単体受注 ・ □ＪＶ受注（出資比率 ）") -> □単体受注 ・ □ＪＶ受注（出資比率 ）
I140: CORINS登録の有無 | AA140: =IF(AND(入力表!P27<>3,入力表!C120<>""),IF(入力表!G120<>"","■有（CORINS登録番号 "&入力表!G120&" ） ・ □無","□有（CORINS登録番号 ） ・ ■無"),"□有（CORINS登録番号 ） ・ □無") -> □有（CORINS登録番号 ） ・ □無
I143: 工事成績評定 | AA143: =IF(OR(入力表!P27=3,入力表!P27=0),"",DBCS(入力表!C121)&"点")
C147: 同種工事の施工経験及び施工成績 | I147: 工事名 | AA147: =IF(AND(入力表!P33<>5,入力表!C121<70),DBCS(入力表!C123),"")
I150: 発注機関名 | AA150: =IF(AND(入力表!P33<>5,入力表!C121<70),DBCS(入力表!C124),"")
I153: 工事場所 | AA153: =IF(AND(入力表!P33<>5,入力表!C121<70),DBCS(入力表!C125),"")
I156: 請負代金額 | AA156: =IF(AND(入力表!P33<>5,入力表!C121<70,入力表!C128<>""),入力表!Q126,"")
I159: 工期 | AA159: =IF(AND(入力表!P33<>5,入力表!C121<70,入力表!C128<>""),入力表!R127,"令和 年 月 日 ～ 令和 年 月 日") -> 令和 年 月 日 ～ 令和 年 月 日
I162: 従事役職 | AA162: =IF(AND(入力表!P33<>5,入力表!C121<70,入力表!C128<>""),IF(入力表!C128="監理技術者","■監理技術者 ・ □監理技術者補佐 ・ □主任技術者 ・ □現場代理人",IF(入力表!C128="監理技術者補佐","□監理技術者 ・ ■監理技術者補佐 ・ □主任技術者 ・ □現場代理人",IF(入力表!C128="主任技術者","□監理技術者 ・ □監理技術者補佐 ・ ■主任技術者 ・ □現場代理人",IF(入力表!C128="現場代理人","□監理技術者 ・ □監理技術者補佐 ・ □主任技術者 ・ ■現場代理人","□監理技術者 ・ □監理技術者補佐 ・ □主任技術者 ・ □現場代理人")))),"□監理技術者 ・ □監理技術者補佐 ・ □主任技術者 ・ □現場代理人") -> □監理技術者 ・ □監理技術者補佐 ・ □主任技術者 ・ □現場代理人
I165: 受注形態 | AA165: =IF(AND(入力表!P33<>5,入力表!C121<70,入力表!C129<>""),IF(入力表!I129="","■単体受注 ・ □ＪＶ受注（出資比率 ）","□単体受注 ・ ■ＪＶ受注（出資比率 "&入力表!I129&" ）"),"□単体受注 ・ □ＪＶ受注（出資比率 ）") -> □単体受注 ・ □ＪＶ受注（出資比率 ）
I168: CORINS登録の有無 | AA168: =IF(AND(入力表!P33<>5,入力表!C121<70,入力表!C130<>""),IF(入力表!G130<>"","■有（CORINS登録番号 "&入力表!G130&" ） ・ □無","□有（CORINS登録番号 ） ・ ■無"),"□有（CORINS登録番号 ） ・ □無") -> □有（CORINS登録番号 ） ・ □無
I171: 工事成績評定 | AA171: =IF(AND(入力表!P33<>5,入力表!C121<70),DBCS(入力表!C131)&"点","") -> 点
A174: 注１）従事役職については、監理技術者、監理技術者補佐、主任技術者又は現場代理人に「■」を付す。
A176: 注２）受注形態については、単体受注又はＪＶ受注に「■」を付し、ＪＶ受注に「■」を付した場合は出資比率を記載する。
A178: 注３）CORINS登録の有無については、どちらかに「■」を付す。有に「■」を付した場合は、登録番号を記載する。
A180: CORINSに登録が無い工事及びCORINSにて工事内容が確認できない工事は、契約書の他に施工計画書など当該工事の内容
A182: が証明できる書類を求めることがある。
A184: 注４）配置予定技術者の直接的かつ恒常的な雇用関係が確認できる書類を添付する。
A186: 注５）工事成績評定については、完成検査完了通知の写し等の工事成績が確認できる書類を添付する。
A189: 様式第７ | DB189: =ASC(MID(入力表!B6,1,FIND("号 ",入力表!B6,1))) -> 道路第132号
A191: 企 業 の 施 工 実 績 及 び 工 事 成 績
I195: 工事名 | AA195: =IF(AND(入力表!P40<>5,入力表!C134<>""),DBCS(入力表!C134),"")
C198: 工事名等 | I198: 発注機関名 | AA198: =IF(AND(入力表!P40<>5,入力表!C135<>""),入力表!C135,"")
I201: 工事場所 | AA201: =IF(AND(入力表!P40<>5,入力表!C136<>""),DBCS(入力表!C136),"")
I204: 請負代金額 | AA204: =IF(AND(入力表!P40<>5,入力表!C137<>""),入力表!S137,"")
I207: 工期 | AA207: =IF(AND(入力表!P40<>5,入力表!C138<>"",入力表!G138<>""),入力表!V138,"令和 年 月 日 ～ 令和 年 月 日") -> 令和 年 月 日 ～ 令和 年 月 日
I210: 受注形態 | AA210: =IF(AND(入力表!P40<>5,入力表!C139<>""),IF(入力表!I139="","■単体受注 ・ □ＪＶ受注（出資比率 ）","□単体受注 ・ ■ＪＶ受注（出資比率 "&入力表!I139&" ）"),"□単体受注 ・ □ＪＶ受注（出資比率 ）") -> □単体受注 ・ □ＪＶ受注（出資比率 ）
I213: CORINS登録の有無 | AA213: =IF(AND(入力表!P40<>5,入力表!C140<>""),IF(入力表!G140<>"","■有（CORINS登録番号 "&入力表!G140&" ） ・ □無","□有（CORINS登録番号 ） ・ ■無"),"□有（CORINS登録番号 ） ・ □無") -> □有（CORINS登録番号 ） ・ □無
I216: 工事成績評定 | AA216: =IF(AND(入力表!P40<>5,入力表!C134<>""),DBCS(入力表!C141)&"点","")
I220: 工事名 | AA220: =IF(AND(入力表!P40<>5,入力表!C143<>""),DBCS(入力表!C143),"")
C223: 工事名等 | I223: 発注機関名 | AA223: =IF(AND(入力表!P40<>5,入力表!C144<>""),入力表!C144,"")
I226: 工事場所 | AA226: =IF(AND(入力表!P40<>5,入力表!C145<>""),DBCS(入力表!C145),"")
I229: 請負代金額 | AA229: =IF(AND(入力表!P40<>5,入力表!C146<>""),入力表!S146,"")
I232: 工期 | AA232: =IF(AND(入力表!P40<>5,入力表!C147<>"",入力表!G147<>""),入力表!V147,"令和 年 月 日 ～ 令和 年 月 日") -> 令和 年 月 日 ～ 令和 年 月 日
I235: 受注形態 | AA235: =IF(AND(入力表!P40<>5,入力表!C148<>""),IF(入力表!I148="","■単体受注 ・ □ＪＶ受注（出資比率 ）","□単体受注 ・ ■ＪＶ受注（出資比率 "&入力表!I148&" ）"),"□単体受注 ・ □ＪＶ受注（出資比率 ）") -> □単体受注 ・ □ＪＶ受注（出資比率 ）
I238: CORINS登録の有無 | AA238: =IF(AND(入力表!P40<>5,入力表!C149<>""),IF(入力表!G149<>"","■有（CORINS登録番号 "&入力表!G149&" ） ・ □無","□有（CORINS登録番号 ） ・ ■無"),"□有（CORINS登録番号 ） ・ □無") -> □有（CORINS登録番号 ） ・ □無
I241: 工事成績評定 | AA241: =IF(AND(入力表!P40<>5,入力表!C143<>""),DBCS(入力表!C150)&"点","")
I245: 工事名 | AA245: =IF(AND(入力表!P40<>5,入力表!C152<>""),DBCS(入力表!C152),"")
C248: 工事名等 | I248: 発注機関名 | AA248: =IF(AND(入力表!P40<>5,入力表!C153<>""),入力表!C153,"")
I251: 工事場所 | AA251: =IF(AND(入力表!P40<>5,入力表!C154<>""),DBCS(入力表!C154),"")
I254: 請負代金額 | AA254: =IF(AND(入力表!P40<>5,入力表!C155<>""),入力表!S155,"")
I257: 工期 | AA257: =IF(AND(入力表!P40<>5,入力表!C156<>"",入力表!G156<>""),入力表!V156,"令和 年 月 日 ～ 令和 年 月 日") -> 令和 年 月 日 ～ 令和 年 月 日
I260: 受注形態 | AA260: =IF(AND(入力表!P40<>5,入力表!C157<>""),IF(入力表!I157="","■単体受注 ・ □ＪＶ受注（出資比率 ）","□単体受注 ・ ■ＪＶ受注（出資比率 "&入力表!I157&" ）"),"□単体受注 ・ □ＪＶ受注（出資比率 ）") -> □単体受注 ・ □ＪＶ受注（出資比率 ）
I263: CORINS登録の有無 | AA263: =IF(AND(入力表!P40<>5,入力表!C158<>""),IF(入力表!G158<>"","■有（CORINS登録番号 "&入力表!G158&" ） ・ □無","□有（CORINS登録番号 ） ・ ■無"),"□有（CORINS登録番号 ） ・ □無") -> □有（CORINS登録番号 ） ・ □無
I266: 工事成績評定 | AA266: =IF(AND(入力表!P40<>5,入力表!C152<>""),DBCS(入力表!C159)&"点","")
...

Sheet 入札参加申出書
A1: 様式第１
A3: 総合評価落札方式 入札参加申出書
BZ9: =IF(入力表!B10="","令和 年 月 日",入力表!P10) -> 令和 年 月 日
A11: =" （あて先）"&入力表!B3 -> （あて先）一宮市長
AN14: 住所又は所在地 | BI14: =IF(入力表!B12="","",入力表!B12)
AN16: 商号又は名称 | BI16: =IF(入力表!B11="","",入力表!B11)
AN18: 代表者氏名 | BI18: =IF(入力表!B13="","",入力表!B13)
A28: 下記工事の一般競争入札（総合評価落札方式）に参加したいので、申し出します。
A30: なお、地方自治法施行令第167条の4に該当する者でないこと、及び書類の内容については事実と相違
A32: ないことを誓約します。
AY34: 記
I39: 工事番号 | AE39: =IF(入力表!B6="","",DBCS(入力表!P6)) -> 道路第１３２号
I42: 工事名 | AE42: =IF(入力表!B6="","",DBCS(入力表!Q6)) -> 市道０１０８号線幹線舗装改良工事（週休２日）
I45: 入札日 | AE45: =IF(入力表!B8="","令和 年 月 日",入力表!P8) -> 令和８年１１月６日
I48: 担当者名 | AE48: =IF(入力表!B14="","",入力表!B14)
I51: 担当部署 | AE51: =IF(入力表!B15="","",入力表!B15)
I54: 電話番号 | AE54: =入力表!P16

Sheet 評価項目加算点申告書
A1: 様式第２ 評価項目加算点申告書
A3: ="事業課："&入力表!B4 -> 事業課：建設部道路課
A4: ="工事名："&入力表!B6 -> 工事名：道路第１３２号 市道０１０８号線幹線舗装改良工事（週休２日）
A5: ="工事場所："&入力表!B7 -> 工事場所：一宮市西萩原地内ほか
A6: ="入札日："&入力表!B8 -> 入札日：令和8年11月6日(金) 午前8時40分
A7: 予定価格[税抜き](ｄ)：
A9: 業者名 | B9: 点数 | C9: 配置予定技術者の能力 | G9: 企業の施工能力 | O9: 社会貢献度 | Z9: 地域貢献度 | AI9: 加 算 点 合 計 (a)
B10: ="（工種）"&CHAR(10)&入力表!B5&"工事" -> （工種） 舗装工事 | C10: 同種工事の 施工経験 | E10: 同種工事の 工事成績 | G10: 同種工事の 施工実績 | I10: 同種工事の 工事成績 | K10: 優良工事表彰 | M10: ISO9001の 認証取得 | O10: ISO14001の 認証取得 | Q10: 男女共同参画社会実現への貢献 | T10: 障害者の雇用 | V10: 保護観察所に 更生保護の 協力雇用主 としての登録 | X10: 週休２日制 工事 | Z10: 災害協定に 基づく活動 | AB10: 企業としての ボランティア活動 | AE10: 一宮市地域 貢献企業 としての認定 | AG10: 一宮市消防団 協力事業所 としての認定
C11: 評価 基準 | D11: 加算点 | E11: 評価 基準 | F11: 加算点 | G11: 評価 基準 | H11: 加算点 | I11: 評価 基準 | J11: 加算点 | K11: 評価 基準 | L11: 加算点 | M11: 評価 基準 | N11: 加算点 | O11: 評価 基準 | P11: 加算点 | Q11: 評価 基準 | R11: 活動内容 | S11: 加算点 | T11: 評価 基準 | U11: 加算点 | V11: 評価 基準 | W11: 加算点 | X11: 評価 基準 | Y11: 加算点 | Z11: 評価 基準 | AA11: 加算点 | AB11: 評価 基準 | AC11: 活動内容 | AD11: 加算点 | AE11: 評価 基準 | AF11: 加算点 | AG11: 評価 基準 | AH11: 加算点
A12: =入力表!P11 | B12: =IF(入力表!C20="","",入力表!C20) | C12: =IF(入力表!P27=1,"本市",IF(入力表!P27=2,"本市以外","上記以外")) -> 上記以外 | D12: =IF(C12="本市",2,IF(C12="本市以外",1,0)) -> 0 | E12: =IF(入力表!P33=1,"本市 80点以上",IF(入力表!P33=2,"本市 70-79点",IF(入力表!P33=3,"本市以外 80点以上",IF(入力表!P33=4,"本市以外 70-79点","上記以外")))) -> 上記以外 | F12: =IF(E12="本市 80点以上",3,IF(E12="本市 70-79点",2,IF(E12="本市以外 80点以上",2,IF(E12="本市以外 70-79点",1,0)))) -> 0 | G12: =IF(入力表!P40=1,"本市4件以上",IF(入力表!P40=2,"本市2件以上",IF(入力表!P40=3,"本市1件",IF(入力表!P40=4,"本市以外2件以上","上記以外")))) -> 上記以外 | H12: =IF(G12="本市4件以上",3,IF(G12="本市2件以上",2,IF(G12="本市1件",1,IF(G12="本市以外2件以上",1,0)))) -> 0 | I12: =IF(入力表!P46=1," 80点以上が3件 以上",IF(入力表!P46=2," 80点以上が2件",IF(入力表!P46=3," 80点以上が1件 、又は75-79点 が2件以上",IF(入力表!P46=4," 75-79点が1件 、又は70-74点 が3件以上",IF(入力表!P46=5," 70-74点が1件 以上"," 上記以外"))))) -> 上記以外 | J12: =IF(I12=" 80点以上が3件 以上",5,IF(I12=" 80点以上が2件",4,IF(I12=" 80点以上が1件 、又は75-79点 が2件以上",3,IF(I12=" 75-79点が1件 、又は70-74点 が3件以上",2,IF(I12=" 70-74点が1件 以上",1,0))))) -> 0 | K12: =IF(入力表!P53=1,"2年以上有",IF(入力表!P53=2,"2件以上有",IF(入力表!P53=3,"1件有","上記以外"))) -> 上記以外 | L12: =IF(K12="2年以上有",3,IF(K12="2件以上有",2,IF(K12="1件有",1,0))) -> 0 | M12: =IF(入力表!P58=1,"有","無") -> 無 | N12: =IF(M12="有",1,0) -> 0 | O12: =IF(入力表!P61=1,"有","無") -> 無 | P12: =IF(O12="有",1,0) -> 0 | Q12: =IF(入力表!P64=1,"有","上記以外") -> 上記以外 | R12: =IF(Q12="有",入力表!J64,"") | S12: =IF(Q12="有",1,0) -> 0 | T12: =IF(入力表!P67=1,"有","上記以外") -> 上記以外 | U12: =IF(T12="有",1,0) -> 0 | V12: =IF(入力表!P70=1,"有","上記以外") -> 上記以外 | W12: =IF(V12="有",1,0) -> 0 | X12: =IF(入力表!P73=1,"有","上記以外") -> 上記以外 | Y12: =IF(X12="有",1,0) -> 0 | Z12: =IF(入力表!P76=1,"有","上記以外") -> 上記以外 | AA12: =IF(Z12="有",1,0) -> 0 | AB12: =IF(AND(入力表!P79=1,入力表!J79="アダプト"&CHAR(10)&"プログラム"),"アダプト",IF(入力表!P79=1,"有","ボランティア"&CHAR(10)&"活動なし")) -> ボランティア 活動なし | AC12: =IF(入力表!P79=1,入力表!J79,"") | AD12: =IF(AB12="アダプト",2,IF(AB12="有",1,0)) -> 0 | AE12: =IF(入力表!P82=1,"有","上記以外") -> 上記以外 | AF12: =IF(AE12="有",1,0) -> 0 | AG12: =IF(入力表!P85=1,"有","上記以外") -> 上記以外 | AH12: =IF(AG12="有",1,0) -> 0 | AI12: =D12+F12+H12+J12+L12+N12+P12+S12+U12+W12+Y12+AA12+AD12+AH12+AF12 -> 0
A13: 評価基準 | C13: 本市 | D13: 2 | E13: 本市80点以上 | F13: 3 | G13: 本市4件以上 | H13: 3 | I13: 80点以上が3件以上 | J13: 5 | K13: 2年以上有 | L13: 3 | M13: 有 | N13: 1 | O13: 有 | P13: 1 | Q13: 有 | S13: 1 | T13: 有 | U13: 1 | V13: 有 | W13: 1 | X13: 有 | Y13: 1 | Z13: 有 | AA13: 1 | AB13: アダプト | AD13: 2 | AE13: 有 | AF13: 1 | AG13: 有 | AH13: 1
C14: 本市以外 | D14: 1 | E14: 本市70-79点 | F14: 2 | G14: 本市2件以上 | H14: 2 | I14: 80点以上が2件 | J14: 4 | K14: 2件以上有 | L14: 2 | M14: 無 | N14: 0 | O14: 無 | P14: 0 | Q14: 上記以外 | S14: 0 | T14: 上記以外 | U14: 0 | V14: 上記以外 | W14: 0 | X14: 上記以外 | Y14: 0 | Z14: 上記以外 | AA14: 0 | AB14: 有 | AD14: 1 | AE14: 上記以外 | AF14: 0 | AG14: 上記以外 | AH14: 0
C15: 上記以外 | D15: 0 | E15: 本市以外80点以上 | F15: 2 | G15: 本市1件 | H15: 1 | I15: 80点以上が1件、又は | J15: 3 | K15: 1件有 | L15: 1 | AB15: ボランティア 活動なし | AD15: 0
E16: 本市以外70-79点 | F16: 1 | G16: 本市以外2件以上 | H16: 1 | I16: 75-79点が2件以上 | K16: 上記以外 | L16: 0
E17: 上記以外 | F17: 0 | G17: 上記以外 | H17: 0 | I17: 75-79点が1件、又は | J17: 2
I18: 70-74点が3件以上
I19: 70-74点が1件以上 | J19: 1
I20: 上記以外 | J20: 0
C21: 過去 3年間 | G21: 過去 3年間 | K21: 過去 10年間 | X21: 過去 1年間 | AB21: 2ヵ年度以上継続
A22: 注：評価項目欄については、当該工事で設定した評価項目について作成すること。
A23: 施工計画の評価理由が長くなる場合は、別紙にて表を作成するものとする。

Sheet 評価項目確認表
A1: 様式第３
A3: 評価項目確認表（配置予定技術者）
C7: 氏名 | O7: =IF(入力表!C25="","",入力表!C25)
C10: 評価項目 | AR10: 記載事項 | CH10: 備考（添付書類等）
C13: 同種工事の 施工経験 (過去3年間) | O13: =IF(入力表!P27=1,"■一宮市（以下「本市」という。）の発注した過去３年間の同種工事で監理技","□一宮市（以下「本市」という。）の発注した過去３年間の同種工事で監理技") -> □一宮市（以下「本市」という。）の発注した過去３年間の同種工事で監理技 | CH13: 様式第６及び完成検査完了通知の写し等 資格証明書の写し等
O15: 術者、監理技術者補佐、主任技術者又は現場代理人
O17: =IF(入力表!P27=2,"■国、県若しくは他市町村又はそれらの機関（以下「本市以外の官公庁等」とい","□国、県若しくは他市町村又はそれらの機関（以下「本市以外の官公庁等」とい") -> □国、県若しくは他市町村又はそれらの機関（以下「本市以外の官公庁等」とい
O19: う。）の発注した過去３年間の同種工事で監理技術者、監理技術者補佐、主
O21: 任技術者又は現場代理人
O24: =IF(入力表!P27=3,"■上記以外","□上記以外") -> □上記以外 | CH24: 様式第６
C27: 同種工事の 工事成績 (過去3年間 の内1件) | O27: =IF(入力表!P33=1,"■本市の発注した過去３年間の同種工事の工事成績評定が８０点以上","□本市の発注した過去３年間の同種工事の工事成績評定が８０点以上") -> □本市の発注した過去３年間の同種工事の工事成績評定が８０点以上 | CH27: 様式第６及び完成検査完了通知の写し等 資格証明書の写し等
O30: =IF(入力表!P33=2,"■本市の発注した過去３年間の同種工事の工事成績評定が７０点以上８０点未満","□本市の発注した過去３年間の同種工事の工事成績評定が７０点以上８０点未満") -> □本市の発注した過去３年間の同種工事の工事成績評定が７０点以上８０点未満
O33: =IF(入力表!P33=3,"■本市以外の官公庁等の発注した過去３年間の同種工事の工事成績評定が８０点以上","□本市以外の官公庁等の発注した過去３年間の同種工事の工事成績評定が８０点以上") -> □本市以外の官公庁等の発注した過去３年間の同種工事の工事成績評定が８０点以上
O36: =IF(入力表!P33=4,"■本市以外の官公庁等の発注した過去３年間の同種工事の工事成績評定が７０点以上","□本市以外の官公庁等の発注した過去３年間の同種工事の工事成績評定が７０点以上") -> □本市以外の官公庁等の発注した過去３年間の同種工事の工事成績評定が７０点以上
O38: ８０点未満
O41: =IF(入力表!P33=5,"■上記以外","□上記以外") -> □上記以外 | CH41: 様式第６
A46: 評価項目確認表（企業の施工能力・社会貢献度・地域貢献度）
E50: 評価項目 | AT50: 記載事項 | CH50: 備考（添付書類等）
C53: 同種工事の施工実績(過去3年間) | T53: =IF(入力表!P40=1,"■本市の発注工事で過去３年間に同種工事４件以上","□本市の発注工事で過去３年間に同種工事４件以上") -> □本市の発注工事で過去３年間に同種工事４件以上 | CH53: 様式第７及び完成検査完了通知の写し等
T56: =IF(入力表!P40=2,"■本市の発注工事で過去３年間に同種工事２件以上","□本市の発注工事で過去３年間に同種工事２件以上") -> □本市の発注工事で過去３年間に同種工事２件以上
T59: =IF(入力表!P40=3,"■本市の発注工事で過去３年間に同種工事１件","□本市の発注工事で過去３年間に同種工事１件") -> □本市の発注工事で過去３年間に同種工事１件
T62: =IF(入力表!P40=4,"■本市以外の官公庁等の発注工事で、過去３年間に同種工事２件以上","□本市以外の官公庁等の発注工事で、過去３年間に同種工事２件以上") -> □本市以外の官公庁等の発注工事で、過去３年間に同種工事２件以上
T65: =IF(入力表!P40=5,"■上記以外","□上記以外") -> □上記以外
C68: 同種工事の工事成績(過去3年間) | T68: =IF(入力表!P46=1,"■本市の発注工事で過去３年間に同種工事の工事成績評定８０点以上が３件以上","□本市の発注工事で過去３年間に同種工事の工事成績評定８０点以上が３件以上") -> □本市の発注工事で過去３年間に同種工事の工事成績評定８０点以上が３件以上 | CH68: 様式第７及び完成検査完了通知の写し等
T71: =IF(入力表!P46=2,"■本市の発注工事で過去３年間に同種工事の工事成績評定８０点以上が２件","□本市の発注工事で過去３年間に同種工事の工事成績評定８０点以上が２件") -> □本市の発注工事で過去３年間に同種工事の工事成績評定８０点以上が２件
T74: =IF(入力表!P46=3,"■本市の発注工事で過去３年間に同種工事の工事成績評定８０点以上が１件","□本市の発注工事で過去３年間に同種工事の工事成績評定８０点以上が１件") -> □本市の発注工事で過去３年間に同種工事の工事成績評定８０点以上が１件
T76: 又は７５点以上８０点未満が２件以上
T79: =IF(入力表!P46=4,"■本市の発注工事で過去３年間に同種工事の工事成績評定７５点以上８０点","□本市の発注工事で過去３年間に同種工事の工事成績評定７５点以上８０点") -> □本市の発注工事で過去３年間に同種工事の工事成績評定７５点以上８０点
T81: 未満が１件、又は７０点以上７５点未満が３件以上
T84: =IF(入力表!P46=5,"■本市の発注工事で過去３年間に同種工事の工事成績評定７０点以上７５点","□本市の発注工事で過去３年間に同種工事の工事成績評定７０点以上７５点") -> □本市の発注工事で過去３年間に同種工事の工事成績評定７０点以上７５点
T86: 未満が１件以上
T89: =IF(入力表!P46=6,"■上記以外","□上記以外") -> □上記以外
C92: 優良工事表彰 (過去10年間) | T92: =IF(入力表!P53=1,"■本市で過去１０年間に２年以上連続優良工事表彰実績有","□本市で過去１０年間に２年以上連続優良工事表彰実績有") -> □本市で過去１０年間に２年以上連続優良工事表彰実績有 | CH92: 表彰状の写し
T95: =IF(入力表!P53=2,"■本市で過去１０年間に優良工事表彰実績が２件以上有","□本市で過去１０年間に優良工事表彰実績が２件以上有") -> □本市で過去１０年間に優良工事表彰実績が２件以上有
T98: =IF(入力表!P53=3,"■本市で過去１０年間に優良工事表彰実績が１件有","□本市で過去１０年間に優良工事表彰実績が１件有") -> □本市で過去１０年間に優良工事表彰実績が１件有
T101: =IF(入力表!P53=4,"■上記以外","□上記以外") -> □上記以外
C108: ISO19001の認証 取得□□□□□ | T108: =IF(入力表!P58=1,"■ISO9001の認証有","□ISO9001の認証有") -> □ISO9001の認証有 | CH108: 認証機関の認定書の写し
T111: =IF(入力表!P58=2,"■無","□無") -> □無
C114: ISO14001の認証 取得□□□□□ | T114: =IF(入力表!P61=1,"■ISO14001の認証有","□ISO14001の認証有") -> □ISO14001の認証有 | CH114: 認証機関の認定書の写し
T117: =IF(入力表!P61=2,"■無","□無") -> □無
C120: 男女共同参画社会実現への貢献 | T120: =IF(入力表!P64=1,"■男女共同参画について登録又は認定を受けている","□男女共同参画について登録又は認定を受けている") -> □男女共同参画について登録又は認定を受けている | BM120: =IF(入力表!P64=1,"活動内容 "&入力表!J64,"") | CH120: 男女共同参画についての 登録証又は認定証の写し
T123: =IF(入力表!P64=2,"■上記以外","□上記以外") -> □上記以外
C126: 障害者の雇用 | T126: =IF(入力表!P67=1,"■障害者を法に定める率以上に雇用している","□障害者を法に定める率以上に雇用している") -> □障害者を法に定める率以上に雇用している | CH126: 雇用状況報告書の写し又は様式第８□□□□
T129: =IF(入力表!P67=2,"■上記以外","□上記以外") -> □上記以外
C132: 保護観察所に更生保護の協力雇用主としての登録□□ | T132: =IF(入力表!P70=1,"■保護観察所に更生保護の協力雇用主として登録有","□保護観察所に更生保護の協力雇用主として登録有") -> □保護観察所に更生保護の協力雇用主として登録有 | CH132: 様式第９
T135: =IF(入力表!P70=2,"■上記以外","□上記以外") -> □上記以外
C138: 週休２日制工事(過去1年間) | T138: =IF(入力表!P73=1,"■過去１年間に契約金額１,０００万円以上の週休２日制工事で","□過去１年間に契約金額１,０００万円以上の週休２日制工事で") -> □過去１年間に契約金額１,０００万円以上の週休２日制工事で | CH138: 取組証等の写し及び完成 検査完了通知の写し等
T140: 工事成績評定６０点以上の実績有
T143: =IF(入力表!P73=2,"■上記以外","□上記以外") -> □上記以外
C146: 災害協定に基づく活動□□□□ | T146: =IF(入力表!P76=1,"■本市と災害協定を締結している","□本市と災害協定を締結している") -> □本市と災害協定を締結している | CH146: 協定締結団体の証明書の写し□□□□□□□
T149: =IF(入力表!P76=2,"■上記以外","□上記以外") -> □上記以外
C152: 企業としてのボランティア活動 (2ヵ年度以上継続) | T152: =IF(AND(入力表!P79=1,入力表!J79="アダプト"&CHAR(10)&"プログラム"),"■本市内でアダプトプログラムに参加している","□本市内でアダプトプログラムに参加している") -> □本市内でアダプトプログラムに参加している | CH152: アダプトプログラム合意書の写しと年間活動報告書の写し□□□□ 他の活動は確認できる証明書等□□□□□□
T155: =IF(AND(入力表!P79=1,入力表!J79<>"アダプト"&CHAR(10)&"プログラム"),"■本市内でアダプトプログラム以外の活動をしている","□本市内でアダプトプログラム以外の活動をしている") -> □本市内でアダプトプログラム以外の活動をしている
T158: =IF(入力表!P79=2,"■ボランティア活動なし","□ボランティア活動なし") -> □ボランティア活動なし
C161: 一宮市地域貢献企業としての認定□ | T161: =IF(入力表!P82=1,"■本市から一宮市地域貢献企業として認定有","□本市から一宮市地域貢献企業として認定有") -> □本市から一宮市地域貢献企業として認定有 | CH161: 一宮市地域貢献企業認定証の写し□□□□□
T164: =IF(入力表!P82=2,"■上記以外","□上記以外") -> □上記以外
C167: 一宮市消防団協力事業所としての認定□□□□□ | T167: =IF(入力表!P85=1,"■本市から一宮市消防団協力事業所として認定有","□本市から一宮市消防団協力事業所として認定有") -> □本市から一宮市消防団協力事業所として認定有 | CH167: 一宮市消防団協力事業所認定証又は表示交付書の写し
T170: =IF(入力表!P85=2,"■上記以外","□上記以外") -> □上記以外

Sheet 監理技術者等の兼務予定届 (1)
A1: 様式第５の添付書類（その２）
A3: 監理技術者等の兼務予定届（専任特例１号）
A5: 下記のとおり、主任技術者又は監理技術者が２つの建設工事を兼務する場合の要件を
A6: 満たします。なお、２つの建設工事のいずれにおいても兼務する要件を満たします。
A8: 2つの建設工事を兼務する配置予定技術者氏名
A10: 【当該工事と兼務するもう一方の建設工事】
A11: 工 事 名
A12: 発 注 者
A13: 工 期
A14: 工事場所
A15: 技術者の従事役職
A17: (□にレ又は■を記入してください。)
... A37: □８ 兼務する建設工事の数は、２までである。

Sheet 監理技術者等の兼務予定届 (2)
A1: 様式第５の添付書類（その３）
A3: 監理技術者等の兼務予定届（専任特例２号）
A5: 下記のとおり、主任技術者又は監理技術者が２つの建設工事を兼務する場合の要件を
A6: 満たします。なお、２つの建設工事のいずれにおいても兼務する要件を満たします。
A8: 2つの建設工事を兼務する配置予定技術者氏名
A9: 監理技術者補佐の氏名
A11: 【当該工事と兼務するもう一方の建設工事】
A12: 工 事 名
A13: 発 注 者
A14: 工 期
A15: 工事場所
A16: 技術者の従事役職
... A20: ＊当該工事に配置予定の監理技術者補佐の直接的かつ恒常的な雇用関係が確認できる書類
