Workbook

Sheet 別記第１号（電子）
B1: 別記第１号様式 | AL1: 総合評価 あり・なし
AL2: なし
H3: 制限付一般競争入札参加資格審査申請書
U5: 令和８年(2026年) 月 日 | AL5: 令和８年(2026年) 月 日
C7: 北海道渡島総合振興局長 | L7: 様
O9: 申請者
O10: 住所
O11: 商号又は名称 | AK11: ※電子証明書により申請するため、
O12: 代表者氏名 | AK12: 「押印」は不要です。
Q13: (共同企業体の場合は企業体名を冠すること)
D15: 令和８年(2026年)10月16日 | N15: 付けで入札公告のありました次の工事に係る競争入札参加
D16: 資格について審査されたく、関係書類を添えて申請します。
D17: なお、入札参加希望者の要件をすべて満たしていること、並びに本申請書及び添付書類
D18: のすべての記載事項は、事実と相違ないことを誓約します。
R19: 記
I20: 138
D21: １ | F21: 工事名 | J21: 岩戸地区その２小規模治山工事
D23: ２ | F23: 添付書類
D24: （１）類似工事施工実績調書 | E24: （１） | G24: 類似工事施工実績調書 | AL24: 添付書類は、編集せずこのままの状態で提出願います。
D25: （２）類似工事施工実績を証明する書面 | E25: （２） | G25: 類似工事施工実績を証明する書面
D26: （３）特定関係調書 | E26: （３） | G26: 特定関係調書
E27: （４） | G27: 制限付一般競争入札応募要件確認表
E28: （５） | G28: 契約締結予定日において有効な経営事項審査結果の写し | AK28: (6) 総合評価 | AO28: （総合評価方式の場合）
AK29: =+AL2 -> なし | AM29: =IF(AK29="あり","（６）","") | AO29: =IF(AK29="あり","技術評価項目申請書","") | AQ29: （６） | AS29: 技術評価項目申請書
B32: 注１ | D32: この申請書には、返信用封筒として、表に申請書の住所・氏名を記載し、簡易書留料金分を
D33: 加えた料金の切手又はこれに類するものを貼った封筒を併せて提出すること。
B34: ２ | D34: 「印」は、法人にあっては代表取締役の印、個人にあっては代表者の印を押すこと。
W35: （用紙寸法 日本産業規格Ａ４）

Sheet 別記第２号
D3: 別記第２号様式
S4: 類似工事施工実績調書
AA7: 申請者
AF8: （共同企業体の場合は構成員名）
E10: 受注者名
E11: 工事名等 | H11: 工事名
H12: 発注機関名
H13: 施工場所 | P13: (市町村名)
H14: 契約金額 | AB14: 円
H15: 工期 | AA15: ～
H16: 受注形態 | P16: 単体 | T16: ／ | V16: 共同企業体 | AB16: （出資比率 | AM16: ％） | BN16: ←← | BQ16: ドラッグして使用してください。
E17: 工事概要
G33: 注１ | K33: 公告において明示した発注工事と類似する元請としての施工実績（工事が完成し、引渡済み
K34: のものに限る。）について記載すること。
L35: 本工事と同種で、かつ、おおむね同規模と認められる工事は、 | BN35: 面積 | BR35: 延長
M36: ・面積が１００m2以上の伏工の施工実績です。 | BN36: A | BO36: = | BQ36: ㎡ | BR36: L | BS36: = | BU36: m
BN37: ="1/2"&BN36 -> 1/2A | BO37: = | BP37: =IF(BP36*0.5>=10000,ROUNDDOWN(BP36*0.5,-3),IF(BP36*0.5>=1000,ROUNDDOWN(BP36*0.5,-2),IF(BP36*0.5>=10,ROUNDDOWN(BP36*0.5,-1),ROUNDDOWN(BP36*0.5,0)))) -> 0 | BQ37: =BQ36 -> ㎡ | BR37: ="1/2"&BR36 -> 1/2L | BS37: = | BT37: =IF(BT36*0.5>=10000,ROUNDDOWN(BT36*0.5,-3),IF(BT36*0.5>=1000,ROUNDDOWN(BT36*0.5,-2),IF(BT36*0.5>=10,ROUNDDOWN(BT36*0.5,-1),ROUNDDOWN(BT36*0.5,0)))) -> 0 | BU37: =BU36 -> m
G39: ２ | K39: この様式は、申請者が共同企業体の場合は、各構成員ごとに作成すること。
G40: ３ | K40: 「受注者名」欄は、受注実績が共同企業体の構成員としてのものである場合は、当該共同企
K41: 業体の名称を記載すること。
G42: ４ | K42: 類似工事施工実績を証明するものとして、工事実績証明書（別記第３号様式）又はこれに代
K43: わる書面（契約書等の写し）を添付すること。
G44: ５ | K44: 共同企業体としての実績がある場合は、当該共同企業体の協定書及び附属協定書のそれぞれ
K45: の写しを添付すること。
AO47: （用紙寸法 日本産業規格Ａ４）

Sheet 別記第３号
A1: 別記第３号様式
N3: 工事実績証明書
C7: （発注者 市町村長） | K7: 様
T9: 受注者
T10: 住所
T11: 商号又は名称
T12: 代表者氏名 | AK12: 印
C15: 次の工事を履行したことを証明願います。
C17: 事業 | F17: 工事名 | K17: 工事概要 | Q17: 施工場所 | U17: 契約金額 | Y17: 工期 | AC17: 契 約 | AF17: 完 成 | AI17: 履行状況
C18: 年度 | AC18: 年月日 | AF18: 年月日
C35: 上記工事を履行したことを証明します。（有効期限：発行年度内有効）
C36: 令和 年( 年) 月 日 | AP36: 令和８年(2026年) 月 日
U37: 発注者（証明者） | AK37: 印
C40: 注１ | E40: この様式は、類似工事施工実績を証明するために使用すること。
C41: ２ | E41: この様式は、申請者が共同企業体の場合は各構成員ごとに作成すること。
C42: ３ | E42: 「契約金額」欄は、受注実績が共同企業体の構成員としてのものである場合は、当該共同企業体としての
E43: 請負金額のほか構成員としての出資割合を記載すること。
B44: ※ | D44: 本様式は、市町村発注の工事を類似施工実績とする場合に提出してください。
AC45: （用紙寸法 日本産業規格Ａ４）

Sheet 別記第５号
B1: 別記第５号様式
S3: 特定関係調書
AK5: ='別記第１号（電子）'!$U$5 -> 令和８年(2026年) 月 日 | BH5: 令和８年(2026年) 月 日
D7: 北海道渡島総合振興局長 様
Z9: 申請者
AA10: 住所
AA11: 商号又は名称
AA12: 代表者名
AC13: (共同企業体の場合は企業体名を冠すること)
F15: 特定関係（資本関係又は人的関係）については、次のとおりです。
AA17: 記
C19: １ | E19: 発注工事に係る設計業務等の受託者との特定関係 | AL19: 〔 | AQ19: なし | AZ19: 〕 | BI19: ← 選択出来る様になっています。
C21: ２ | E21: 他の「北海道建設工事競争入札参加資格者」との間における特定関係 | AL21: 〔 | AN21: あり | AS21: ・ | AU21: なし | AZ21: 〕 | BP21: ← ドラッグして使用して下さい
AN22: (どちらかに○印)
C23: (1) | E23: 資本関係がある他の資格者
C24: ア | E24: 親会社の関係にある他の資格者
E25: 登録番号 | M25: 商号又は名称 | W25: 所在地(市町村名) | AJ25: 備考
C28: イ | E28: 子会社の関係にある他の資格者
E29: 登録番号 | M29: 商号又は名称 | W29: 所在地(市町村名) | AJ29: 備考
BL31: 記載時、下記参照 願います。
C33: ウ | E33: 親会社を同じくする子会社同士の関係にある他の資格者
E34: 登録番号 | M34: 商号又は名称 | W34: 所在地(市町村名) | AJ34: 備考
D38: ※ | G38: ウに係る親会社については建設業者・資格者に限らない
C40: (2) | E40: 人的関係がある他の資格者
E41: 登録番号 | M41: 商号又は名称 | W41: 所在地(市町村名) | AJ41: 基準に該当する者
AF42: 氏名 | AM42: 自社役職名 | AU42: 他社役職名
B47: 注１ | D47: １については、「発注工事に係る設計業務等の受託者と特定関係がない」ことが参加資格の要件となるため、特定関係
D48: がないことを確認の上、〔 〕に「なし」と記載し申告すること。
B49: ２ | D49: ２はどちらかを○印で囲み、「なし」の場合には(1)及び(2)の欄に記載する必要はない。
B50: ３ | D50: 資本等で関係がある他の資格者を記載するときは、本工事の入札説明書等で表示されている北海道の競争入札参加資格 | BI50: ←← | BL50: （１）資本関係がある他の資格者 ア～ウに記載する場合、
D51: の競争入札参加資格（格付のある資格の場合は、格付及びみなし格付を含む。）を有する者を記入すること。そのため、 | BL51: 備考欄に保有資格格付を記載願います。
D52: 本工事の入札説明書等で表示されている資格以外の資格を有する者については、記載する必要はない。 | BL52: （水産土木Ａ、水産土木Ｂ、水産土木Ｃ）
B53: ４ | D53: 資本等で関係がある他の資格者が、他の共同企業体を結成している場合についても同様に記載すること。
D54: ただし、申請者が共同企業体の代表者以外の構成員である場合は、他の共同企業体の代表者以外の構成員については記
D55: 載する必要はない。
B56: ５ | D56: 「所在地（市町村名）」について、道内の資格者は「主たる営業所が存する市町村名」を、道外の資格者は、「主たる
D57: 営業所が存する都府県名」を記載すること。
B58: ６ | D58: 当該調書提出後、入札執行までの間において、新たな資本関係又は人的関係が生じた場合には、その都度提出すること。
AP60: （用紙寸法 日本産業規格Ａ４）

Sheet 確認表
CC1: B又はC | CE1: 公募ランク | DT1: 1 | DU1: 2 | DV1: 3 | DW1: 4
F2: 制限付一般競争入札応募要件確認表 | DR2: =IF($CC$1=DT2,"○","") | DT2: A | DU2: Ａ | DV2: 建設業法第3条第1項第2号に規定する特定建設業者である。 | DW2: 渡島総合振興局又は檜山振興局管内に主たる営業所を有する。
DR3: =IF($CC$1=DT3,"○","") | DT3: A又はB | DU3: Ａ又はＢ | DV3: 建設業法第3条第1項第2号に規定する特定建設業者又は同法第３条第１項第１号に規定する一般建設業者である。 | DW3: 渡島総合振興局又は檜山振興局管内に主たる営業所を有する。
Z4: 申請者 | BJ4: （ 許可番号 | BX4: ） | CD4: 許可番号： | CJ4: 入札参加許可番号（例 15200○○○○等 9桁番号） | DR4: =IF($CC$1=DT4,"○","") | DT4: B | DU4: Ｂ | DV4: 建設業法第3条第1項第2号に規定する特定建設業者又は同法第３条第１項第１号に規定する一般建設業者である。 | DW4: 渡島総合振興局管内に主たる営業所を有する。
AD5: (代表者) | DR5: =IF($CC$1=DT5,"○","") -> ○ | DT5: B又はC | DU5: Ｂ又はＣ | DV5: 建設業法第3条第1項第2号に規定する特定建設業者又は同法第３条第１項第１号に規定する一般建設業者である。 | DW5: 渡島総合振興局管内に主たる営業所を有する。
Z6: TEL | AD6: ( | AJ6: ) | AP6: － | BA6: 担当者 | CD6: 担当者名： | CJ6: 修正依頼等の際に連絡の付く資料の作成者を記載願います。 | DR6: =IF($CC$1=DT6,"○","") | DT6: C | DU6: Ｃ | DV6: 建設業法第3条第1項第2号に規定する特定建設業者又は同法第３条第１項第１号に規定する一般建設業者である。 | DW6: 渡島総合振興局管内に主たる営業所を有する。
AI7: ※ (代表者)欄は、共同企業体での代表者を記入して下さい。(単体では記入不要)
I8: ・ | K8: 本応募要件確認表は、応募要件について双方で確認する資料です。申請書と併せて提出願います。
I9: ・ | K9: 各確認欄には、○印を記入し、内容欄の（ ）には、必要事項を記入して下さい。
E10: （１） 単体企業の要件
F11: 項目 | L11: 確認欄 | AG11: 内容 | BT11: 備考
H12: ア | Q12: 発注工事の対応する令和８年度に有効な道の競争入札参加資格のうち森林土木工事の資格、 及び建設業法（昭和24年法律第100号）における建設工事の種類ごとに定める許可を有する。
H14: イ | Q14: 競争入札参加資格確認申請書等の提出期限の日から開札の時(入札執行)までの間、北海道の競争入札参加資格者指名 停止事務処理要領の規定に基づく指名停止を受けていない。
H16: ウ | Q16: 暴力団関係事業者等であることにより、道が行う競争入札への参加を除外されていない。
H17: エ | Q17: 北海道競争入札参加資格 | AC17: （ | AE17: 森林土木工事 | AL17: ） | AN17: が | AQ17: （ | AS17: Ｂ又はＣ | AX17: ） | AZ17: 等級に格付されている。 | CD17: =VLOOKUP($CC$1,$DT$2:$DW$6,2,0) -> Ｂ又はＣ
H18: オ | Q18: 会社更生法の更生手続及び民事再生法の再生手続の開始の申立てをしている場合、再審査結果を有している。 | BT18: 該当者のみ
H19: カ | Q19: 建設業法第3条第1項第2号に規定する特定建設業者又は同法第３条第１項第１号に規定する一般建設業者である。 | CD19: =VLOOKUP($CC$1,$DT$2:$DW$6,3,0) -> 建設業法第3条第1項第2号に規定する特定建設業者又は同法第３条第１項第１号に規定する一般建設業者である。
H20: キ | Q20: 渡島総合振興局管内に主たる営業所を有する。 | AW20: 営業所所在地 | BE20: （ | BP20: ） | CC20: ←← 営業所所在地（市町村名）を記載
H21: ク | Q21: 過去15年間（平成23年度以降）に、本工事と同種で、かつ、おおむね同規模と認められる工事を元請として 施工した実績を有する。(※共同企業体としての施工実績は、構成員としての出資割合が20%以上である。) | CD21: =VLOOKUP($CC$1,$DT$2:$DW$6,4,0) -> 渡島総合振興局管内に主たる営業所を有する。
H23: ケ | Q23: 要件を満たす者を理技術者又は主任技術者として工事に専任で配置できる。ただし、「専任特例の場合の監理技術者 等」の配置を行う場合若しくは「営業所特例の場合の監理技術者等」の配置を行う場合は、専任を要しない。
H25: コ | Q25: 専任特例の場合の監理技術者等の配置を行う場合の要件を満たしていること。 | BT25: 該当者のみ
H26: サ | Q26: 営業所特例の場合の監理技術者等の配置を行う場合は、要件を満たしていること。 | BT26: 該当者のみ
H27: シ | Q27: 専任特例の場合の監理技術者等を活用する場合は営業所特例の場合の監理技術者等の活用をしない。 営業所特例の場合の監理技術者等を活用する場合にあっても、上記コ(ｱ)～(ｳ)の併用はしない。 | BT27: 該当者のみ
H29: ス | Q29: 現場代理人を工事現場に専任で配置できる。
H30: セ | Q30: 本工事に係る設計業務等の受託者ではない。又は当該受託者と資本関係若しくは人的関係はない。
H31: ソ | Q31: 入札に参加しようとする者の間に資本関係・人的関係等がない。
E33: （２） 共同企業体の要件 | DT33: 1 | DU33: 2 | DV33: 3 | DW33: 4 | DX33: 5
F34: 項 目 | L34: 確認欄 | AG34: 内容 | BT34: 備考 | DE34: =$DR$6 | DT34: A | DU34: Ａ | DV34: 構成員の全てが、建設業法第3条第1項第2号に規定する特定建設業者である。 | DW34: Ｂ等級
F35: 共同企業体 | H35: ア | J35: a | Q35: 北海道競争入札参加資格 | AC35: （ | AE35: 森林土木工事 | AL35: ） | AN35: が | AQ35: （ | AS35: Ｂ | AV35: ） | AX35: 等級に格付されている。 | CD35: =VLOOKUP($CC$1,$DT$34:$DX$38,2,0) -> Ｂ | DT35: A又はB | DU35: Ｂ | DV35: 建設業法第3条第1項第2号に規定する特定建設業者又は同法第３条第１項第１号に規定する一般建設業者である。 | DW35: Ｃ等級
J36: ｂ | Q36: 競争入札参加資格確認申請書等の提出期限の日から開札の時(入札執行)までの間、北海道の競争入札参加資格者指名 停止事務処理要領の規定に基づく指名停止を受けていない。 | BT36: (1)-イ | DT36: B | DU36: Ｂ | DV36: 建設業法第3条第1項第2号に規定する特定建設業者又は同法第３条第１項第１号に規定する一般建設業者である。 | DW36: Ｃ等級
J37: ｃ | Q37: 現場代理人を工事現場に専任で配置できる。 | BT37: (1)-サ | DT37: B又はC | DU37: Ｂ | DV37: 建設業法第3条第1項第2号に規定する特定建設業者又は同法第３条第１項第１号に規定する一般建設業者である。 | DW37: Ｃ等級
H38: イ | Q38: 構成員の数は２社または３社である。 | DT38: C | DU38: － | DW38: －
H39: ウ | Q39: 構成員の全てが、建設業法の許可業種につき、許可を受けてから2年以上の単体企業又は協業組合である。
H40: エ | J40: ｄ | Q40: 発注工事の対応する令和８年度に有効な道の競争入札参加資格のうち森林土木工事の資格、 及び建設業法（昭和24年法律第100号）における建設工事の種類ごとに定める許可を有する。 | BT40: (1)-ア
J41: ｅ | Q41: 構成員のすべてが、競争入札参加資格確認申請書等の提出期限の日から開札の時(入札執行)までの間、北海道の競争 入札参加資格者指名停止事務処理要領の規定に基づく指名停止を受けていない。 | BT41: (1)-イ
J42: f | Q42: 暴力団関係事業者等であることにより、道が行う競争入札への参加を除外されていない。 | BT42: (1)-ウ
F43: 共同企業体の構成員 | J43: ｇ | Q43: 構成員のいずれかが、会社更生法の更生手続又は民事再生法の再生手続の開始の申立てをしている場合、再審査結果 を有している。 | BT43: (1)-オ 該当者のみ
J44: ｈ | Q44: 建設業法第3条第1項第2号に規定する特定建設業者又は同法第３条第１項第１号に規定する一般建設業者である。 | BT44: (1)-カ | CD44: =VLOOKUP($CC$1,$DT$34:$DX$38,3,0) -> 建設業法第3条第1項第2号に規定する特定建設業者又は同法第３条第１項第１号に規定する一般建設業者である。
J45: ｉ | Q45: 構成員の全てが、北海道内に主たる営業所を有し､かつ､1社以上が渡島総合振興局管内に主たる営業所を有する。 | BT45: (1)-キ
R46: 営業所所在地 | Y46: 代表者: | AO46: 構成員1: | BE46: 構成員2:
...

Sheet 別記第１号（紙参加）
B1: 別記第１号様式
G3: 制限付一般競争入札参加資格審査申請書
U5: ='別記第１号（電子）'!$U$5 -> 令和８年(2026年) 月 日 | AL5: 令和 年( 年) 月 日
C7: 北海道渡島総合振興局長 | L7: 様
O9: 申請者
O10: 住所
O11: 商号又は名称
O12: 代表者氏名
Q13: (共同企業体の場合は企業体名を冠すること)
D15: ='別記第１号（電子）'!D15 -> 令和８年(2026年)10月16日 | N15: 付けで入札公告のありました次の工事に係る競争入札参加
D16: 資格について審査されたく、関係書類を添えて申請します。
D17: なお、入札参加希望者の要件をすべて満たしていること、並びに本申請書及び添付書類
D18: のすべての記載事項は、事実と相違ないことを誓約します。
R19: 記
D20: １ | F20: 工事名 | J20: ='別記第１号（電子）'!J21 -> 岩戸地区その２小規模治山工事
D22: ２ | F22: 添付書類
D23: （１）類似工事施工実績調書 | E23: （１） | G23: 類似工事施工実績調書
D24: （２）類似工事施工実績を証明する書面 | E24: （２） | G24: 類似工事施工実績を証明する書面
D25: （３）特定関係調書 | E25: （３） | G25: 特定関係調書
E26: （４） | G26: 制限付一般競争入札応募要件確認表
E27: =IF(G27=0,"","（５）") -> （５） | G27: ='別記第１号（電子）'!G28 -> 契約締結予定日において有効な経営事項審査結果の写し
E28: =IF(G28="","","（６）") | G28: ='別記第１号（電子）'!G29 | AM28: （６） | AO28: 技術評価項目申請書
B32: 注１ | D32: この申請書には、返信用封筒として、表に申請書の住所・氏名を記載し、簡易書留料金分を
D33: 加えた料金の切手又はこれに類するものを貼った封筒を併せて提出すること。
B34: ２ | D34: 「印」は、法人にあっては代表取締役の印、個人にあっては代表者の印を押すこと。
W35: （用紙寸法 日本産業規格Ａ４）

Sheet 紙様式３
B3: （紙様式３）
W4: 紙参加申込書
AM6: ='別記第１号（電子）'!$U$5 -> 令和８年(2026年) 月 日 | BJ6: 令和 年( 年) 月 日
C7: 北海道渡島総合振興局長 | R7: 様
U9: 申込者
V10: 住所 | AA10: 〒
V13: 名称又は商号
V15: 代表者 | BD15: 印
E17: 次のとおり、電子入札に紙により参加したいので、申し込みます。
AA18: 記
D19: 入札公告又は | L19: ='別記第１号（電子）'!D15 -> 令和８年(2026年)10月16日
D20: 指名通知の日
D21: 案件の名称 | M21: ='別記第１号（電子）'!J21 -> 岩戸地区その２小規模治山工事
L23: □ | O23: 地方公共団体の物品等又は特定役務の調達手続の特例を定める政令
O24: (平成７年政令第373号)の規定の適用を受ける調達案件に係る入札である場合
L25: □ | O25: 電子証明書の失効又はＩＣカードの破損等によりＩＣカードが使用できな
O26: くなり、ＩＣカード再発行手続中の場合
L27: □ | O27: ＩＣカードに格納された電子証明書の記載事項に変更があり、ＩＣカード
O28: 再発行手続中の場合
D29: 紙により参加 | L29: □ | O29: プロバイダ障害、電気通信事業者回線障害又は認証局障害の場合
D30: したい理由 | U30: ［障害発生日時 令和 年 月 日、午 時ころ］
L31: □ | O31: 天災、電力会社の原因による地域的な停電が発生した場合
U32: ［停電発生日時 令和 年 月 日、午 時ころ］
L33: □ | O33: 電子入札用パソコン等機器の導入準備を進めているが、当該電子入札案件
O34: への参加に間に合わない場合 | AD34: ［準備が完了する予定時期 令和 年 月ころ］
L35: □ | O35: その他(理由を記入してください)
O36: 〔 | BD36: 〕
L37: □ | O37: 一般競争入札参加確認申請、公募型指名競争入札参加申請等
D38: 紙参加を開始
D39: したい手続 | L39: □ | O39: 入札書提出 | X39: □ | AA39: その他 | AF39: （手続の内容）
M42: ※道側記入欄 | T42: 受理日時 | Z42: 令和 年 月 日 時 分 | AT42: 受理番号
D43: ※ | F43: 注意事項
E44: １ | G44: 申込者は、競争入札参加資格者名簿に登録された代表者（共同企業体にあっては、企業体名を冠した上で代表
G45: 事業者の代表者）又は権限を有する代理人（受任者）とすること。
E46: ２ | G46: 「案件の名称」の欄には、工事名、業務名、物品名、印刷物名等を記載すること。
E47: ３ | G47: 「紙入札を行う理由」の欄は、該当する理由いずれか一つのチェックボックスをチェック(レ)の上、必要事項を
G48: を記入すること。
E49: ４ | G49: 「紙参加を開始する手続」の欄は、該当するチェックボックスをチェック(レ)すること。
G50: 選択肢の「一般競争入札」には各種制限・限定型を含むものであること。
D52: ※ | F52: この紙入札参加申込書は、電子入札案件に対して電子的参加ができないことが判明次第速やかに持参（特定調達案件
...

Sheet 紙様式６
B2: （紙様式３）
V3: 持参添付書類内訳書
AM6: ='別記第１号（電子）'!$U$5 -> 令和８年(2026年) 月 日 | BK6: 令和 年( 年) 月 日
C7: 北海道渡島総合振興局長 | R7: 様
U9: 申込者
V10: 住所 | AA10: 〒
V13: 名称又は商号
V15: 代表者 | BD15: 印
G17: 北海道電子入札システムにより参加手続を進めている次の案件に係る添付書類を
G18: 次のとおり持参により提出します。
AD20: 記
G22: 入札公告日 | N22: ='別記第１号（電子）'!D15 -> 令和８年(2026年)10月16日
G23: 案件の名称 | N23: ='別記第１号（電子）'!J21 -> 岩戸地区その２小規模治山工事
W24: □工事等 | Z24: １ | AB24: 類似工事施工実績調書
Z25: ２ | AB25: 類似工事施工実績を証明する書面
Z26: ３ | AB26: 配置予定技術者調書（添付書類として指示のある場合）
Z27: ４ | AB27: その他支出負担行為担当者が必要と認めた書類
N28: 一般競争入札 | Z28: １ | AB28: 直近３ヶ月以内に発行された道税（道が賦課徴収する
N29: 参加資格審査 | AB29: ものに限る）に滞納がないことの証明書
G30: 提出する | N30: 申請書の添付 | W30: □物品等 | Z30: ２ | AB30: 官公庁の納入実績一覧表
G31: 添付書類 | N31: 書類一式 | Z31: ３ | AB31: 印刷物の製造に係る参加申込書及び添付資料
Z32: ４ | AB32: 測量法に基づく測量業者としての登録通知書等(写し)
Z33: ５ | AB33: 物品の購入等に係る競争入札等（取扱注意印刷物
AB34: ・特別管理印刷物）参加申込書
Z35: ６ | AB35: その他( )
N36: □ | P36: その他
F39: ※ | H39: 注意事項
G40: １ | I40: 申込者は、競争入札参加資格者名簿に登録された代表者（共同企業体にあっては、企業体名を冠した上で代表
I41: 事業者の代表者）又は権限を有する代理人（受任者）とすること。
G42: ２ | I42: 「案件の名称」の欄には、工事名、業務名、物品名、印刷物名等を記載すること。
G43: ３ | I43: 「提出する書類」の欄は、該当するチェックボックスをチェック【レ】し、その他の書類である場合には、書類名
I44: を記載すること。
I45: この場合の項目は、電子入札システムにより手続を行った際に添付して提出した「持参提出通知書」(電子様式１)
I46: による通知内容と一致するものであること。
G47: ４ | I47: 添付すべき書類及びその条件等については、公告した内容によるものであること。

Sheet 電子様式１（紙参加）
B2: （電子様式１）
AI5: 提出月日 | AO5: ='別記第１号（電子）'!$U$5 -> 令和８年(2026年) 月 日 | BN5: 令和 年( 年) 月 日
U6: 持参提出通知書
F7: 名称又は商号
F8: 案 件 の 名 称 | R8: ='別記第１号（電子）'!J21 -> 岩戸地区その２小規模治山工事
F9: 持参提出理由 | R9: 電子的に添付 | AE9: 電子ファイルの容量が３ＭＢを超える
R10: することが困難 | AE10: その他
R11: なため
V12: 発注機関から指示があったため
F13: 持参提出書類名 | V13: 一般競争入札参加資格審査申請書の添付書類一式
V14: その他
F15: 提出(予定)年月日 | R15: 年 月 日
D17: ※ | F17: 注意事項
E18: １ | G18: 「案件の名称」の欄には、工事名、業務名、物品名、印刷物名等を記載すること。
E19: ２ | G19: 持参提出理由は、該当するボタンをクリック(黒丸)すること。
G20: その他の理由の場合は、右欄にその理由の概要を記載すること。
E21: ３ | G21: 持参提出書類名は、該当書類のチェックボックスをチェック【レ】すること。
G22: その他の書類の場合は、右欄に書類名を記載すること。
E23: ４ | G23: 持参提出に当たっては、必ず「持参添付書類内訳書」(紙様式６)とともに添付書類一式を持参すること。
E24: ５ | G24: 工事（委託）費内訳書は、入札書提出と同時に、入札書と一体化して暗号化された電子ファイルとして
G25: 受け付けることとしているため、紙参加者を除いて持参提出は認められない。
D27: ※ | F27: この持参提出通知書は、電子入札システムで次の時に添付して提出すること。
F28: ・ | H28: 入札等参加申請書送信時
F29: ・ | H29: 入札書送信時
F30: なお、持参提出による場合であっても提出期限は変わらないので、添付電子ファイル
F31: の容量は早めに確認すること。
