Workbook

Sheet 評価項目(標準)
M1: 土木一式工事（若手技術者登用促進のための試行工事） 【令和８年６月版】
B2: 簡易型Ｂ | D2: 総合評価方式評価項目一覧 【土木一式工事】 除算方式 | G2: 工事名： | I2: 一般国道４２２号（新奥橋）ほか 橋梁修繕工事
B3: 大項目 | D3: 中項目 | E3: 小項目 | F3: 評価基準 | I3: 加算点 | L3: 様式 | M3: 評価内容等
I4: 配点 | J4: 小項目 配点 | K4: 大項目 配点
B5: 企 業 の 能 力 等 | C5: 地域精通度・貢献度 | D5: 地域精通度 | E5: 本店等所在地 | F5: 旧飯南郡内 | I5: 10 | J5: 10 | K5: =SUM(J5:J56) -> 110 | L5: 様式１ 様式２ | M5: 「本店及び建設業法上の主たる営業所」の所在地により評価します。 ・本店等の所在地を変更した場合、公告の前月から３６か月前までの期間の「１８か月以上連続した所在地」を評価の対象とします。
F6: 上記以外の松阪建設事務所管内 | I6: 0
E7: 施工箇所地域における工事実績 | F7: 旧飯南郡内における工事実績あり | I7: 5 | J7: 5 | M7: 旧飯南郡内において、単独又は共同企業体構成員（出資比率20％以上に限る）の元請として受注し、令和５年度以降に完成し、かつ、引渡しが済んでいる契約金額５百万円以上の工事の実績の有無により評価します。 ・評価対象の工事実績は１件とし、コリンズに登録された公共機関等発注の工事に限ります。
F8: 工事実績なし | I8: 0
D9: 地域貢献度 | E9: 地域維持型維持修繕業務委託（雪氷業務）元請実績 | F9: 有 | I9: 5 | J9: 5 | M9: 令和７年度又は令和８年度における松阪建設事務所発注の地域維持型維持修繕業務委託元請契約実績の有無により評価します。 ・地域維持型維持修繕業務委託元請契約実績は、建設共同企業体の代表者を含む全ての構成員を評価の対象とします。 ・ただし、乙型に関しては、地域維持型建設共同企業体協定書第８条に基づき、雪氷業務が分担する業務に含まれない場合は、評価の対象としません。
F10: 無 | I10: 0
E11: 地域維持型維持修繕業務委託（小規模業務）元請実績 | F11: 有 | I11: 5 | J11: 5 | M11: 令和７年度又は令和８年度における松阪建設事務所発注の地域維持型維持修繕業務委託元請契約実績の有無、もしくは令和７年度上半期～令和８年度下半期における宮川ダム公共土木施設小規模修繕業務委託元請契約実績の有無により評価します。 ・地域維持型維持修繕業務委託元請契約実績は、建設共同企業体の代表者を含む全ての構成員を評価の対象とします。 ・ただし、乙型に関しては、地域維持型建設共同企業体協定書第８条に基づき、小規模業務が分担する業務に含まれない場合は、評価の対象としません。
F12: 無 | I12: 0
E13: 公共施設美化活動実績 | F13: 有 | I13: 3 | J13: 3 | M13: 令和７年度又は令和８年度における松阪建設事務所管内の公共施設美化活動の活動実績の有無により評価します。 ・「公共施設美化活動」とは、三重県県土整備部が定める住民参加に係る事業（河川・海岸美化ボランティア活動推進事業、道路美化ボランティア活動助成事業、フラワーオアシス推進事業、ふれあいの道事業）を指します。
F14: 無 | I14: 0
E15: 災害協定の評価 | F15: 災害協定に基づく訓練１への参加実績あり | I15: 9 | J15: 9 | M15: 「災害協定に基づく訓練１への参加実績」又は「災害協定に基づく訓練２への参加実績」又は「防災協定の締結実績」の有無により評価します。 【災害協定に基づく訓練１】 ・「災害協定」とは、松阪建設事務所と締結した「地震・津波・風水害等の緊急時における運用協定」をいいます。 ・「災害協定に基づく訓練１の参加実績」は、「災害協定」に基づいた災害対応実動訓練及び情報伝達訓練への令和６年度又は令和７年度の参加実績を指します。 ・「災害対応実動訓練」は、以下の要件をすべて満たす場合に評価します。 ① 団体として５年以上継続した実動訓練実績があること。 ② 評価対象年度の実動訓練において、協定締結団体構成員のうち、松阪建設事務所管内の構成員の半数以上が参加していること。 ③ ②で評価する参加企業については、Ａランク企業では代表者と１名以上の技術者、Ｂランク企業等では、１名以上の技術者が参加していること。 ・「情報伝達訓練」は、団体として５年以上の継続した訓練の実績がある場合に評価します。 【災害協定に基づく訓練２】 ・「災害協定」とは、松阪建設事務所と締結した「地震・津波・風水害等の緊急時における運用協定」をいいます。 ・「災害協定に基づく訓練２の参加実績」は、「災害協定」に基づいた情報伝達訓練への令和６年度又は令和７年度の参加実績を指します。 ・「情報伝達訓練」は、団体として５年以上の継続した訓練の実績がある場合に評価します。 【防災協定の締結】 ・「防災協定」とは、「松阪建設事務所管内の市町との防災協定」又は「三重県との防災協定」をいいます。 ・「松阪建設事務所管内の市町との防災協定」については、「建設業のための広場」で公開している最新版の「経営事項審査申請の手引き」に記載された、協定書等に災害時の建設業者の活動義務が規定されている防災協定とします。 ・「三重県との防災協定」については、「技術資料作成上の留意事項」に記載した防災協定とします。 ・「防災協定の締結」は、令和６年度又は令和７年度の防災協定締結を評価の対象とします。対象期間以前の協定締結で、自動継続している協定は含みます。 ・「防災協定の締結」の評価は、松阪建設事務所管内に「本店及び建設業法上の主たる営業所」又は「建設業法上の営業所」を有する企業に限ります。 ※「災害協定に基づく訓練１への参加実績」と「災害協定に基づく訓練２への参加実績」と「防災協定の締結実績」は重複して評価しません。
F16: 災害協定に基づく訓練２への参加実績あり | I16: 7
F17: 防災協定の締結実績あり | I17: 3
F18: 実績なし | I18: 0
C19: 社会貢献度 | D19: 社会貢献度 | E19: ① 男女共同参画活動実績 ② 障がい者雇用実績 ③ 人権に関する取組実績 ④ 「みえる・わかる・つながる！職業ポータルサイト」 Webページへの登録 ⑤ 現場見学会等の開催実績 ⑥ 不当要求防止責任者講習の受講実績 ⑦ 職場環境づくりの実績 | F19: 左欄の①～⑦のうち、該当する項目により得られる合計点数 | J19: 4 | M19: 下記の実績の該当する項目により得られる合計点数により評価します。 ①男女共同参画活動実績 女性の職業生活における活躍の推進に関する法律に基づく一般事業主行動計画を策定している場合に評価します。（１点） ②障がい者雇用実績 障害者の雇用の促進等に関する法律に基づく障がい者雇用の有無により評価します。（１点） ・法律により障がい者雇用が義務付けられている企業は、法定雇用率を達成している場合に評価します。 ・法律により障がい者雇用が義務付けられていない企業は、障がい者を雇用している場合に評価します。 ③人権に関する取組実績 「三重県が開催する人権に関する研修の受講実績」又は「職業安定法に基づく公正採用選考人権啓発推進員の設置」のいずれかの取組実績の有無により評価します。（１点） なお、「三重県が開催する人権に関する研修の受講実績」は、令和７年度から令和８年度の受講実績を評価の対象とします。 ・「三重県が開催する人権に関する研修の受講実績」と「職業安定法に基づく公正採用選考人権啓発推進員の設置」は重複して評価しません。 ④「みえる・わかる・つながる！職業ポータルサイト」Webページへの登録 ・当該工事の入札に参加する者が、「みえる・わかる・つながる！職業ポータルサイト」Webぺージにインターンシップ受入情報を登録している場合に評価します。（１点） ・Webページ登録項目のうち「所在地、業種、職種、受入対象、受入時期、受入人数」の項目が全て記載されている場合に評価します。 ⑤現場見学会等の開催実績 ・当該工事の入札に参加する者が、単独又は共同企業体構成員として受注した三重県内の工事において、小学校、中学校、高等学校等の教育機関を対象に社会に貢献する建設業の役割の理解や次世代を支える若者たちの建設業への興味や関心を高めることを目的として現場見学会を開催した場合、及び、同目的で出前講座、実習授業のいずれかを開催した場合に評価します。（１点） ・現場見学会、出前講座、実習授業は１０名以上を対象とした場合に評価します。ただし、１０名以上の参加が見込めない場合（小規模な学校や学校側との調整の結果参加者が１０名未満となった場合）は、１０名未満でも評価します。 ・令和３年度から当該工事の入札公告日までの開催実績を評価の対象とします。 ・評価対象の現場見学会の実績は、官民の別は問いません。 ⑥不当要求防止責任者講習の受講実績 当該工事の入札に参加する者が、不当要求防止責任者を選任し、三重県公安委員会（(公財)暴力追放三重県民センター）が開催する不当要求防止責任者講習の受講実績のある場合に評価します。（１点） なお、「不当要求防止責任者講習の受講実績」は、令和５年度から入札公告日までの受講実績を評価の対象とします。 ⑦職場環境づくりの実績 下記のいずれかの実績により評価します。 （１） 令和４年度以降に「ユースエール認定制度」に認定されたことがある。（２点） （２）「みえの働き方改革推進企業登録制度」に登録されている。（１点） ※（１）と（２）は重複して評価しません。
F20: ４点 | I20: 4
F21: ３点 | I21: 3
F22: ２点 | I22: 2
F23: １点 | I23: 1
F24: 実績（取得点）なし | I24: 0
E25: 県内企業による施工 | F25: 県内企業による施工の割合 90 ％以上 | I25: 5 | J25: 5 | M25: 当該工事のうち、建設業法上の建設工事の県内企業による施工の割合により評価します。 ・県内企業とは、三重県内に「本店及び建設業法上の主たる営業所」を有する企業を指します。 ・元請直営施工、一次下請負及び二次下請負による施工を評価の対象とします。 県内企業による施工の割合 ＝ [ 契約金額(最終) － { 県外一次下請金額(最終) + 県外二次下請金額(最終) } ] ／ 契約金額(最終) ※当該工事を契約後、「建設工事請負契約書の特約事項」に基づき履行を確認します。
F26: 県内企業による施工の割合 70 ％以上 | I26: 3
F27: 上記以外 | I27: 0
C28: 企業の雇用に関する取組 | D28: 担い手確保・育成への取組 | E28: 建設業者団体の取組実績 | F28: 取組の実績あり | I28: 2 | J28: 2 | M28: ・「建設業者団体」による担い手確保・育成への取組実績は、令和７年度から入札公告日までの取組を公共事業運営課が証明した場合に評価します。 ※「建設業者団体」とは、建設業法第27条の37で規定する団体を指します。 ・評価対象となる企業は、団体に属する企業とします。 ・取組実績とは、下記①～④のすべての実績をいいます。 ①ＳＮＳ（X等）を活用した建設業の魅力発信（現場見学会や実習授業等、団体取組の発信） ※対象年度内に24回以上更新 ②高校等教員との交流会の開催 ※評価の対象は県内すべての工業系高校教員を対象とした交流会、又は県内５つの地域(北勢・中南勢・伊勢志摩・伊賀・東紀州）のうち、いずれかの地域の工業系高校以外の高校等教員を対象とした交流会とします。) ③生徒・学生と女性技術者との交流会の開催（高校等の生徒、短期大学または大学の学生と建設企業の女性技術者との交流会） ④入職前の職業教育及び入職後の教育訓練の実施（就職内定者研修、新入社員研修など） ※「高校等」とは、高等学校、中等教育学校、特別支援学校及び高等専門学校をいいます。
F29: 取組の実績なし | I29: 0
E30: 建設業者団体地域組織の取組実績 | F30: 取組の実績あり | I30: 1 | J30: 1 | M30: ・「建設業者団体」の各地域組織（支部、ブロック等）による担い手確保・育成への取組実績は、令和６年度から入札公告日までの取組を公共事業運営課が証明した場合に評価します。 ※「建設業者団体」とは、建設業法第27条の37で規定する団体を指します。 ・評価対象となる企業は、「建設業者団体」の地域組織に属する企業とします。 ・取組実績とは、下記①～③のいずれかの実績をいいます。 ①現場見学会（大学、短期大学、高校等、中学校、小学校）（発注者と共同開催したものは除く） ②出前授業（大学、短期大学、高校等、中学校、小学校） ③実習授業（大学、短期大学、高校等） ※「高校等」とは、高等学校、中等教育学校、特別支援学校及び高等専門学校をいいます。 ※10名以上を対象とした場合に評価。ただし、10名以上の参加が見込めない場合（小規模な学校や学校側との調整の結果）は、参加者が10名未満でも評価します。
F31: 取組の実績なし | I31: 0
E32: 建設企業の取組実績 | F32: 取組の実績あり | I32: 1 | J32: 1 | M32: ・「建設企業」による担い手確保・育成への取組実績を評価します。 ・取組実績とは、下記①～④の取組のうち２つの実績をいいます。 ・取組①～③は、公告時点で社則等に規定されている場合に評価します。 ・取組④は、令和６年度から入札公告日までの受講実績を評価の対象とします。 ①キャリアパスの策定 ※技術職、技能職、事務職別に策定 ※役職、経験年数（目標年齢）、職務内容、必要とする資格や能力が記載されていること ②キャリアアップの支援（資格取得の支援制度） ※資格取得のための試験・研修の費用負担、技能や資格取得に伴う一時金や手当の支給、職場内での学習制度 ③福利厚生の充実（社員の安定した生活環境を確保するため、企業型DC、職場iDeCo、NISA（企業がNISA取扱業者と契約したものに限る。）のいずれかの制度を導入） ※資産を形成する私的年金や投資を企業がサポート（掛金の企業負担、年金制度の情報提供、投資を学べる機会の提供、給料天引きなど） ④ハラスメント研修の開催 ※「フレンテみえ」等が実施している企業向け研修の受講 ※研修には、従業員の半数以上かつ役員の半数以上が出席
F33: 取組の実績なし | I33: 0
C34: 企業の技術力等 | D34: 工事実績 | E34: 企業の工事実績 | F34: 評価対象工事の実績あり | I34: 20 | J34: 20 | M34: 三重県内において、単独又は共同企業体構成員（出資比率20％以上に限る）の元請として受注し、平成２３年度以降に完成し、かつ、引渡しが済んでいる契約金額２千５百万円以上の評価対象工事の実績の有無により評価します。 ・「評価対象工事」とは、土木一式工事で発注された橋梁修繕工事又は橋梁耐震対策工事（橋梁補強工事を含む）を指します。 ・評価対象の工事実績は１件とし、コリンズに登録された公共機関等発注の工事に限ります。
F35: 評価対象工事の実績なし | I35: 0
D36: 工事成績 | E36: 申告工事成績点又は総合点 | F36: 申告工事成績点が８５点以上の場合 | I36: 20 | J36: 20 | M36: 【申告工事成績点】 次の①又は②を申告工事成績点とし、評価基準に記載の計算式１により評価します。ただし、申告工事成績点が８５点以上の場合は２０点、７５点未満の場合は１０点とします。 ①令和５年４月１日から当該工事の入札公告日までに三重県が通知（工事成績認定書）した土木一式工事の評定点のうち、申告された任意の件数（ｎ件）の合計に７５点を加え、ｎ＋１で割った値とする。ただし、申告できるのは10件までとします。 申告工事成績点 ＝（申告されたｎ件の評定点の合計＋７５）／（ｎ＋１）（小数第２位以下切り捨て） ②国土交通省中部地方整備局又は国土交通省近畿地方整備局が令和７年度に公表した工事成績評定平均点とします。 【総合点】 ①及び②が無い場合は、総合点を評価基準に記載の計算式２（小数第２位以下切り捨て）により評価します。ただし、総合点が９７０点以上の場合は１０点、８４０点未満の場合は０点とします。 ・総合点とは入札公告日において最新の三重県建設工事等入札参加資格者名簿に記載された総合点とします。 ・上記全てに該当がない場合の加算点は０点です。
F37: 申告工事成績点が７５点以上８５点未満の場合 計算式１ （申告工事成績点－７５点）＋１０点
I38: ～
F40: 申告工事成績点が７５点未満の場合 | I40: 10
F41: 総合点が９７０点以上の場合 | I41: 10
...

Sheet 届出書
AA3: 令和 年 月 日
A5: 技 術 資 料 届 出 書
B9: 三重県知事 | H9: あて
O11: 住 所
O13: 会社名
O15: 代表者氏名
E18: 工 事 名 | F18: ： | G18: 令和8年度 道路メンテ 第67-分0001号
G19: 一般国道４２２号（新奥橋）ほか 橋梁修繕工事
B25: 上記工事の技術資料を提出します。なお、地方自治法施行令（昭和22年政令第16号）
B26: 第167条の4の規定に該当する者でないこと並びに確認資料の内容は、事実と相違ない
B27: ことを誓約します。問い合わせ先は次のとおりです。
C30: 【問い合わせ先】
D31: 担当者 | G31: ： | H31: ○○ ○○
D32: 部 署 | G32: ： | H32: ○○本店 ○○部 ○○課
D33: 住 所 | G33: ： | H33: ○○県○○市○○
D34: 電話番号 | G34: ： | H34: ＊＊＊－＊＊＊＊－＊＊＊＊
D35: ＦＡＸ | G35: ： | H35: ＊＊＊－＊＊＊＊－＊＊＊＊
D36: Ｅ-mail | G36: ：

Sheet 様式１
B1: （様式１） 加算点申告書
F2: 会社名
B3: 大項目 | D3: 中項目 | E3: 小項目 | F3: 加算点 | G3: 評価基準 | J3: 各評価項目の 自己評価 | K3: 自己 加算点
G4: 配点 | H4: 基準
B5: =IF('評価項目(標準)'!B5="","",+'評価項目(標準)'!B5) -> 企 業 の 能 力 等 | C5: =IF(+'評価項目(標準)'!C5="","",+'評価項目(標準)'!C5) -> 地域精通度・貢献度 | D5: =IF(+'評価項目(標準)'!D5="","",+'評価項目(標準)'!D5) -> 地域精通度 | E5: =IF(+'評価項目(標準)'!E5="","",+'評価項目(標準)'!E5) -> 本店等所在地 | F5: =+IF(+'評価項目(標準)'!J5="","",+'評価項目(標準)'!J5) -> 10 | G5: =+IF(+'評価項目(標準)'!I5="","",+'評価項目(標準)'!I5) -> 10 | H5: =+IF(+'評価項目(標準)'!F5="","",+'評価項目(標準)'!F5) -> 旧飯南郡内 | K5: =IF(J5="","",VLOOKUP(J5,'評価項目(標準)'!F5:I6,4,FALSE))
G6: =+IF(+'評価項目(標準)'!I6="","",+'評価項目(標準)'!I6) -> 0 | H6: =+IF(+'評価項目(標準)'!F6="","",+'評価項目(標準)'!F6) -> 上記以外の松阪建設事務所管内
E7: =IF(+'評価項目(標準)'!E7="","",+'評価項目(標準)'!E7) -> 施工箇所地域における工事実績 | F7: =+IF(+'評価項目(標準)'!J7="","",+'評価項目(標準)'!J7) -> 5 | G7: =+IF(+'評価項目(標準)'!I7="","",+'評価項目(標準)'!I7) -> 5 | H7: =+IF(+'評価項目(標準)'!F7="","",+'評価項目(標準)'!F7) -> 旧飯南郡内における工事実績あり | K7: =IF(J7="","",IF(J7=H7,G7,IF(J7=H8,G8)))
G8: =+IF(+'評価項目(標準)'!I8="","",+'評価項目(標準)'!I8) -> 0 | H8: =+IF(+'評価項目(標準)'!F8="","",+'評価項目(標準)'!F8) -> 工事実績なし
D9: =IF(+'評価項目(標準)'!D9="","",+'評価項目(標準)'!D9) -> 地域貢献度 | E9: =IF(+'評価項目(標準)'!E9="","",+'評価項目(標準)'!E9) -> 地域維持型維持修繕業務委託（雪氷業務）元請実績 | F9: =+IF(+'評価項目(標準)'!J9="","",+'評価項目(標準)'!J9) -> 5 | G9: =+IF(+'評価項目(標準)'!I9="","",+'評価項目(標準)'!I9) -> 5 | H9: =+IF(+'評価項目(標準)'!F9="","",+'評価項目(標準)'!F9) -> 有 | K9: =IF(J9="","",IF(J9=H9,G9,IF(J9=H10,G10)))
G10: =+IF(+'評価項目(標準)'!I10="","",+'評価項目(標準)'!I10) -> 0 | H10: =+IF(+'評価項目(標準)'!F10="","",+'評価項目(標準)'!F10) -> 無
E11: =IF(+'評価項目(標準)'!E11="","",+'評価項目(標準)'!E11) -> 地域維持型維持修繕業務委託（小規模業務）元請実績 | F11: =+IF(+'評価項目(標準)'!J11="","",+'評価項目(標準)'!J11) -> 5 | G11: =+IF(+'評価項目(標準)'!I11="","",+'評価項目(標準)'!I11) -> 5 | H11: =+IF(+'評価項目(標準)'!F11="","",+'評価項目(標準)'!F11) -> 有 | K11: =IF(J11="","",IF(J11=H11,G11,IF(J11=H12,G12)))
G12: =+IF(+'評価項目(標準)'!I12="","",+'評価項目(標準)'!I12) -> 0 | H12: =+IF(+'評価項目(標準)'!F12="","",+'評価項目(標準)'!F12) -> 無
E13: =IF(+'評価項目(標準)'!E13="","",+'評価項目(標準)'!E13) -> 公共施設美化活動実績 | F13: =+IF(+'評価項目(標準)'!J13="","",+'評価項目(標準)'!J13) -> 3 | G13: =+IF(+'評価項目(標準)'!I13="","",+'評価項目(標準)'!I13) -> 3 | H13: =+IF(+'評価項目(標準)'!F13="","",+'評価項目(標準)'!F13) -> 有 | K13: =IF(J13="","",IF(J13=H13,G13,IF(J13=H14,G14)))
G14: =+IF(+'評価項目(標準)'!I14="","",+'評価項目(標準)'!I14) -> 0 | H14: =+IF(+'評価項目(標準)'!F14="","",+'評価項目(標準)'!F14) -> 無
E15: =IF(+'評価項目(標準)'!E15="","",+'評価項目(標準)'!E15) -> 災害協定の評価 | F15: =+IF(+'評価項目(標準)'!J15="","",+'評価項目(標準)'!J15) -> 9 | G15: =+IF(+'評価項目(標準)'!I15="","",+'評価項目(標準)'!I15) -> 9 | H15: =+IF(+'評価項目(標準)'!F15="","",+'評価項目(標準)'!F15) -> 災害協定に基づく訓練１への参加実績あり | K15: =IF(J15="","",VLOOKUP(J15,'評価項目(標準)'!F15:I18,4,FALSE))
G16: =+IF(+'評価項目(標準)'!I16="","",+'評価項目(標準)'!I16) -> 7 | H16: =+IF(+'評価項目(標準)'!F16="","",+'評価項目(標準)'!F16) -> 災害協定に基づく訓練２への参加実績あり
G17: =+IF(+'評価項目(標準)'!I17="","",+'評価項目(標準)'!I17) -> 3 | H17: =+IF(+'評価項目(標準)'!F17="","",+'評価項目(標準)'!F17) -> 防災協定の締結実績あり
G18: =+IF(+'評価項目(標準)'!I18="","",+'評価項目(標準)'!I18) -> 0 | H18: =+IF(+'評価項目(標準)'!F18="","",+'評価項目(標準)'!F18) -> 実績なし
C19: =IF(+'評価項目(標準)'!C19="","",+'評価項目(標準)'!C19) -> 社会貢献度 | D19: =IF(+'評価項目(標準)'!D19="","",+'評価項目(標準)'!D19) -> 社会貢献度 | E19: =IF(+'評価項目(標準)'!E19="","",+'評価項目(標準)'!E19) -> ① 男女共同参画活動実績 ② 障がい者雇用実績 ③ 人権に関する取組実績 ④ 「みえる・わかる・つながる！職業ポータルサイト」 Webページへの登録 ⑤ 現場見学会等の開催実績 ⑥ 不当要求防止責任者講習の受講実績 ⑦ 職場環境づくりの実績 | F19: =+IF(+'評価項目(標準)'!J19="","",+'評価項目(標準)'!J19) -> 4 | G19: 左欄の①～⑦のうち、該当する項目により得られる合計点数 | K19: =IF(J19="","",IF(J19=H20,G20,IF(J19=H21,G21,IF(J19=H22,G22,IF(J19=H23,G23,IF(J19=H24,G24))))))
G20: =+IF(+'評価項目(標準)'!I20="","",+'評価項目(標準)'!I20) -> 4 | H20: =+IF(+'評価項目(標準)'!F20="","",+'評価項目(標準)'!F20) -> ４点
G21: =+IF(+'評価項目(標準)'!I21="","",+'評価項目(標準)'!I21) -> 3 | H21: =+IF(+'評価項目(標準)'!F21="","",+'評価項目(標準)'!F21) -> ３点
G22: =+IF(+'評価項目(標準)'!I22="","",+'評価項目(標準)'!I22) -> 2 | H22: =+IF(+'評価項目(標準)'!F22="","",+'評価項目(標準)'!F22) -> ２点
G23: =+IF(+'評価項目(標準)'!I23="","",+'評価項目(標準)'!I23) -> 1 | H23: =+IF(+'評価項目(標準)'!F23="","",+'評価項目(標準)'!F23) -> １点
G24: =+IF(+'評価項目(標準)'!I24="","",+'評価項目(標準)'!I24) -> 0 | H24: =+IF(+'評価項目(標準)'!F24="","",+'評価項目(標準)'!F24) -> 実績（取得点）なし
E25: =IF(+'評価項目(標準)'!E25="","",+'評価項目(標準)'!E25) -> 県内企業による施工 | F25: =+IF(+'評価項目(標準)'!J25="","",+'評価項目(標準)'!J25) -> 5 | G25: =+IF(+'評価項目(標準)'!I25="","",+'評価項目(標準)'!I25) -> 5 | H25: =+IF(+'評価項目(標準)'!F25="","",+'評価項目(標準)'!F25) -> 県内企業による施工の割合 90 ％以上 | K25: =IF(J25="","",VLOOKUP(J25,'評価項目(標準)'!F25:I27,4,FALSE))
G26: =+IF(+'評価項目(標準)'!I26="","",+'評価項目(標準)'!I26) -> 3 | H26: =+IF(+'評価項目(標準)'!F26="","",+'評価項目(標準)'!F26) -> 県内企業による施工の割合 70 ％以上
G27: =+IF(+'評価項目(標準)'!I27="","",+'評価項目(標準)'!I27) -> 0 | H27: =+IF(+'評価項目(標準)'!F27="","",+'評価項目(標準)'!F27) -> 上記以外
C28: =IF(+'評価項目(標準)'!C28="","",+'評価項目(標準)'!C28) -> 企業の雇用に関する取組 | D28: =IF(+'評価項目(標準)'!D28="","",+'評価項目(標準)'!D28) -> 担い手確保・育成への取組 | E28: =IF(+'評価項目(標準)'!E28="","",+'評価項目(標準)'!E28) -> 建設業者団体の取組実績 | F28: =+IF(+'評価項目(標準)'!J28="","",+'評価項目(標準)'!J28) -> 2 | G28: =+IF(+'評価項目(標準)'!I28="","",+'評価項目(標準)'!I28) -> 2 | H28: =+IF(+'評価項目(標準)'!F28="","",+'評価項目(標準)'!F28) -> 取組の実績あり | K28: =IF(J28="","",IF(J28=H28,G28,IF(J28=H29,G29)))
G29: =+IF(+'評価項目(標準)'!I29="","",+'評価項目(標準)'!I29) -> 0 | H29: =+IF(+'評価項目(標準)'!F29="","",+'評価項目(標準)'!F29) -> 取組の実績なし
E30: =IF(+'評価項目(標準)'!E30="","",+'評価項目(標準)'!E30) -> 建設業者団体地域組織の取組実績 | F30: =+IF(+'評価項目(標準)'!J30="","",+'評価項目(標準)'!J30) -> 1 | G30: =+IF(+'評価項目(標準)'!I30="","",+'評価項目(標準)'!I30) -> 1 | H30: =+IF(+'評価項目(標準)'!F30="","",+'評価項目(標準)'!F30) -> 取組の実績あり | K30: =IF(J30="","",IF(J30=H30,G30,IF(J30=H31,G31)))
G31: =+IF(+'評価項目(標準)'!I31="","",+'評価項目(標準)'!I31) -> 0 | H31: =+IF(+'評価項目(標準)'!F31="","",+'評価項目(標準)'!F31) -> 取組の実績なし
E32: =IF(+'評価項目(標準)'!E32="","",+'評価項目(標準)'!E32) -> 建設企業の取組実績 | F32: =+IF(+'評価項目(標準)'!J32="","",+'評価項目(標準)'!J32) -> 1 | G32: =+IF(+'評価項目(標準)'!I32="","",+'評価項目(標準)'!I32) -> 1 | H32: =+IF(+'評価項目(標準)'!F32="","",+'評価項目(標準)'!F32) -> 取組の実績あり | K32: =IF(J32="","",IF(J32=H32,G32,IF(J32=H33,G33)))
G33: =+IF(+'評価項目(標準)'!I33="","",+'評価項目(標準)'!I33) -> 0 | H33: =+IF(+'評価項目(標準)'!F33="","",+'評価項目(標準)'!F33) -> 取組の実績なし
C34: =IF(+'評価項目(標準)'!C34="","",+'評価項目(標準)'!C34) -> 企業の技術力等 | D34: =IF(+'評価項目(標準)'!D34="","",+'評価項目(標準)'!D34) -> 工事実績 | E34: =IF(+'評価項目(標準)'!E34="","",+'評価項目(標準)'!E34) -> 企業の工事実績 | F34: =+IF(+'評価項目(標準)'!J34="","",+'評価項目(標準)'!J34) -> 20 | G34: =+IF(+'評価項目(標準)'!I34="","",+'評価項目(標準)'!I34) -> 20 | H34: =+IF(+'評価項目(標準)'!F34="","",+'評価項目(標準)'!F34) -> 評価対象工事の実績あり | K34: =IF(J34="","",VLOOKUP(J34,'評価項目(標準)'!F34:I35,4,FALSE))
G35: =+IF(+'評価項目(標準)'!I35="","",+'評価項目(標準)'!I35) -> 0 | H35: =+IF(+'評価項目(標準)'!F35="","",+'評価項目(標準)'!F35) -> 評価対象工事の実績なし
D36: =IF(+'評価項目(標準)'!D36="","",+'評価項目(標準)'!D36) -> 工事成績 | E36: =IF(+'評価項目(標準)'!E36="","",+'評価項目(標準)'!E36) -> 申告工事成績点又は総合点 | F36: =+IF(+'評価項目(標準)'!J36="","",+'評価項目(標準)'!J36) -> 20 | G36: =IF(+'評価項目(標準)'!I36="","",+'評価項目(標準)'!I36) -> 20 | H36: =IF(+'評価項目(標準)'!F36="","",+'評価項目(標準)'!F36) -> 申告工事成績点が８５点以上の場合 | J36: 【申告工事成績点】 | K36: =IF(COUNTA(J39,J42)=0,"",IF(COUNTA(J39,J42)=2,"入力は【申告工事成績点】、【総合点】のいずれかにして下さい",IF(AND(COUNTA(J39)=1,J37=""),"いずれの【申告工事成績点】なのか、「三重県、中部地整、近畿地整」より選択してください",IF(J42>=970,10,IF(AND(J42<970,J42>=840),ROUNDDOWN((J42-840)/(970-840)*10,1),IF(J42<840,0,)))+IF(J39>=85,F36,IF(AND(J39<75,J39>=1),10,IF(AND(J39<85,J39>=75),(J39-75)+10))))))
G37: =IF(+'評価項目(標準)'!I37="","",+'評価項目(標準)'!I37) | H37: =IF(+'評価項目(標準)'!F37="","",+'評価項目(標準)'!F37) -> 申告工事成績点が７５点以上８５点未満の場合 計算式１ （申告工事成績点－７５点）＋１０点
G38: =IF(+'評価項目(標準)'!I38="","",+'評価項目(標準)'!I38) -> ～
G39: =IF(+'評価項目(標準)'!I39="","",+'評価項目(標準)'!I39)
G40: =IF(+'評価項目(標準)'!I40="","",+'評価項目(標準)'!I40) -> 10 | H40: =IF(+'評価項目(標準)'!F40="","",+'評価項目(標準)'!F40) -> 申告工事成績点が７５点未満の場合
...

Sheet 様式１【経常ＪＶ用】
B2: （様式１） 加算点申告書
F3: 会社名
B4: 大項目 | D4: 中項目 | E4: 小項目 | F4: 加算点 | G4: 評価基準 | J4: 構成員Ａの評価 | L4: 構成員Ｂの評価 | N4: 経常ＪＶの評価
G5: 配点 | H5: 基準 | J5: 各評価項目の 自己評価 | K5: 自己 加算点 | L5: 各評価項目の 自己評価 | M5: 自己 加算点
B6: =IF('評価項目(標準)'!B5="","",+'評価項目(標準)'!B5) -> 企 業 の 能 力 等 | C6: =IF(+'評価項目(標準)'!C5="","",+'評価項目(標準)'!C5) -> 地域精通度・貢献度 | D6: =IF(+'評価項目(標準)'!D5="","",+'評価項目(標準)'!D5) -> 地域精通度 | E6: =IF(+'評価項目(標準)'!E5="","",+'評価項目(標準)'!E5) -> 本店等所在地 | F6: =+IF(+'評価項目(標準)'!J5="","",+'評価項目(標準)'!J5) -> 10 | G6: =+IF(+'評価項目(標準)'!I5="","",+'評価項目(標準)'!I5) -> 10 | H6: =+IF(+'評価項目(標準)'!F5="","",+'評価項目(標準)'!F5) -> 旧飯南郡内 | K6: =IF(J6="","",VLOOKUP(J6,'評価項目(標準)'!F5:I6,4,FALSE)) | L6: ― | M6: ― | N6: =K6
G7: =+IF(+'評価項目(標準)'!I6="","",+'評価項目(標準)'!I6) -> 0 | H7: =+IF(+'評価項目(標準)'!F6="","",+'評価項目(標準)'!F6) -> 上記以外の松阪建設事務所管内
E8: =IF(+'評価項目(標準)'!E7="","",+'評価項目(標準)'!E7) -> 施工箇所地域における工事実績 | F8: =+IF(+'評価項目(標準)'!J7="","",+'評価項目(標準)'!J7) -> 5 | G8: =+IF(+'評価項目(標準)'!I7="","",+'評価項目(標準)'!I7) -> 5 | H8: =+IF(+'評価項目(標準)'!F7="","",+'評価項目(標準)'!F7) -> 旧飯南郡内における工事実績あり | K8: =IF(J8="","",IF(J8=H8,G8,IF(J8=H9,G9))) | M8: =IF(L8="","",IF(L8=H8,G8,IF(L8=H9,G9))) | N8: =IF(K8="","",IF(M8="","",ROUNDUP(AVERAGE(K8,M8),1)))
G9: =+IF(+'評価項目(標準)'!I8="","",+'評価項目(標準)'!I8) -> 0 | H9: =+IF(+'評価項目(標準)'!F8="","",+'評価項目(標準)'!F8) -> 工事実績なし
D10: =IF(+'評価項目(標準)'!D9="","",+'評価項目(標準)'!D9) -> 地域貢献度 | E10: =IF(+'評価項目(標準)'!E9="","",+'評価項目(標準)'!E9) -> 地域維持型維持修繕業務委託（雪氷業務）元請実績 | F10: =+IF(+'評価項目(標準)'!J9="","",+'評価項目(標準)'!J9) -> 5 | G10: =+IF(+'評価項目(標準)'!I9="","",+'評価項目(標準)'!I9) -> 5 | H10: =+IF(+'評価項目(標準)'!F9="","",+'評価項目(標準)'!F9) -> 有 | K10: =IF(J10="","",IF(J10=H10,G10,IF(J10=H11,G11))) | M10: =IF(L10="","",IF(L10=H10,G10,IF(L10=H11,G11))) | N10: =IF(K10="","",IF(M10="","",ROUNDUP(AVERAGE(K10,M10),1)))
G11: =+IF(+'評価項目(標準)'!I10="","",+'評価項目(標準)'!I10) -> 0 | H11: =+IF(+'評価項目(標準)'!F10="","",+'評価項目(標準)'!F10) -> 無
E12: =IF(+'評価項目(標準)'!E11="","",+'評価項目(標準)'!E11) -> 地域維持型維持修繕業務委託（小規模業務）元請実績 | F12: =+IF(+'評価項目(標準)'!J11="","",+'評価項目(標準)'!J11) -> 5 | G12: =+IF(+'評価項目(標準)'!I11="","",+'評価項目(標準)'!I11) -> 5 | H12: =+IF(+'評価項目(標準)'!F11="","",+'評価項目(標準)'!F11) -> 有 | K12: =IF(J12="","",IF(J12=H12,G12,IF(J12=H13,G13))) | M12: =IF(L12="","",IF(L12=H12,G12,IF(L12=H13,G13))) | N12: =IF(K12="","",IF(M12="","",ROUNDUP(AVERAGE(K12,M12),1)))
G13: =+IF(+'評価項目(標準)'!I12="","",+'評価項目(標準)'!I12) -> 0 | H13: =+IF(+'評価項目(標準)'!F12="","",+'評価項目(標準)'!F12) -> 無
E14: =IF(+'評価項目(標準)'!E13="","",+'評価項目(標準)'!E13) -> 公共施設美化活動実績 | F14: =+IF(+'評価項目(標準)'!J13="","",+'評価項目(標準)'!J13) -> 3 | G14: =+IF(+'評価項目(標準)'!I13="","",+'評価項目(標準)'!I13) -> 3 | H14: =+IF(+'評価項目(標準)'!F13="","",+'評価項目(標準)'!F13) -> 有 | K14: =IF(J14="","",IF(J14=H14,G14,IF(J14=H15,G15))) | M14: =IF(L14="","",IF(L14=H14,G14,IF(L14=H15,G15))) | N14: =IF(K14="","",IF(M14="","",ROUNDUP(AVERAGE(K14,M14),1)))
G15: =+IF(+'評価項目(標準)'!I14="","",+'評価項目(標準)'!I14) -> 0 | H15: =+IF(+'評価項目(標準)'!F14="","",+'評価項目(標準)'!F14) -> 無
E16: =IF(+'評価項目(標準)'!E15="","",+'評価項目(標準)'!E15) -> 災害協定の評価 | F16: =+IF(+'評価項目(標準)'!J15="","",+'評価項目(標準)'!J15) -> 9 | G16: =+IF(+'評価項目(標準)'!I15="","",+'評価項目(標準)'!I15) -> 9 | H16: =+IF(+'評価項目(標準)'!F15="","",+'評価項目(標準)'!F15) -> 災害協定に基づく訓練１への参加実績あり | K16: =IF(J16="","",VLOOKUP(J16,'評価項目(標準)'!F15:I18,4,FALSE)) | M16: =IF(L16="","",VLOOKUP(L16,'評価項目(標準)'!F15:I18,4,FALSE)) | N16: =IF(K16="","",IF(M16="","",ROUNDUP(AVERAGE(K16,M16),1)))
G17: =+IF(+'評価項目(標準)'!I16="","",+'評価項目(標準)'!I16) -> 7 | H17: =+IF(+'評価項目(標準)'!F16="","",+'評価項目(標準)'!F16) -> 災害協定に基づく訓練２への参加実績あり
G18: =+IF(+'評価項目(標準)'!I17="","",+'評価項目(標準)'!I17) -> 3 | H18: =+IF(+'評価項目(標準)'!F17="","",+'評価項目(標準)'!F17) -> 防災協定の締結実績あり
G19: =+IF(+'評価項目(標準)'!I18="","",+'評価項目(標準)'!I18) -> 0 | H19: =+IF(+'評価項目(標準)'!F18="","",+'評価項目(標準)'!F18) -> 実績なし
C20: =IF(+'評価項目(標準)'!C19="","",+'評価項目(標準)'!C19) -> 社会貢献度 | D20: =IF(+'評価項目(標準)'!D19="","",+'評価項目(標準)'!D19) -> 社会貢献度 | E20: =IF(+'評価項目(標準)'!E19="","",+'評価項目(標準)'!E19) -> ① 男女共同参画活動実績 ② 障がい者雇用実績 ③ 人権に関する取組実績 ④ 「みえる・わかる・つながる！職業ポータルサイト」 Webページへの登録 ⑤ 現場見学会等の開催実績 ⑥ 不当要求防止責任者講習の受講実績 ⑦ 職場環境づくりの実績 | F20: =+IF(+'評価項目(標準)'!J19="","",+'評価項目(標準)'!J19) -> 4 | G20: 左欄の①～⑦のうち、該当する項目により得られる合計点数 | K20: =IF(J20="","",IF(J20=H21,G21,IF(J20=H22,G22,IF(J20=H23,G23,IF(J20=H24,G24,IF(J20=H25,G25)))))) | M20: =IF(L20="","",IF(L20=H21,G21,IF(L20=H22,G22,IF(L20=H23,G23,IF(L20=H24,G24,IF(L20=H25,G25)))))) | N20: =IF(K20="","",IF(M20="","",ROUNDUP(AVERAGE(K20,M20),1)))
G21: =+IF(+'評価項目(標準)'!I20="","",+'評価項目(標準)'!I20) -> 4 | H21: =+IF(+'評価項目(標準)'!F20="","",+'評価項目(標準)'!F20) -> ４点
G22: =+IF(+'評価項目(標準)'!I21="","",+'評価項目(標準)'!I21) -> 3 | H22: =+IF(+'評価項目(標準)'!F21="","",+'評価項目(標準)'!F21) -> ３点
G23: =+IF(+'評価項目(標準)'!I22="","",+'評価項目(標準)'!I22) -> 2 | H23: =+IF(+'評価項目(標準)'!F22="","",+'評価項目(標準)'!F22) -> ２点
G24: =+IF(+'評価項目(標準)'!I23="","",+'評価項目(標準)'!I23) -> 1 | H24: =+IF(+'評価項目(標準)'!F23="","",+'評価項目(標準)'!F23) -> １点
G25: =+IF(+'評価項目(標準)'!I24="","",+'評価項目(標準)'!I24) -> 0 | H25: =+IF(+'評価項目(標準)'!F24="","",+'評価項目(標準)'!F24) -> 実績（取得点）なし
E26: =IF(+'評価項目(標準)'!E25="","",+'評価項目(標準)'!E25) -> 県内企業による施工 | F26: =+IF(+'評価項目(標準)'!J25="","",+'評価項目(標準)'!J25) -> 5 | G26: =+IF(+'評価項目(標準)'!I25="","",+'評価項目(標準)'!I25) -> 5 | H26: =+IF(+'評価項目(標準)'!F25="","",+'評価項目(標準)'!F25) -> 県内企業による施工の割合 90 ％以上 | K26: =IF(J26="","",VLOOKUP(J26,'評価項目(標準)'!F25:I27,4,FALSE)) | L26: ― | M26: ― | N26: =K26
G27: =+IF(+'評価項目(標準)'!I26="","",+'評価項目(標準)'!I26) -> 3 | H27: =+IF(+'評価項目(標準)'!F26="","",+'評価項目(標準)'!F26) -> 県内企業による施工の割合 70 ％以上
G28: =+IF(+'評価項目(標準)'!I27="","",+'評価項目(標準)'!I27) -> 0 | H28: =+IF(+'評価項目(標準)'!F27="","",+'評価項目(標準)'!F27) -> 上記以外
C29: =IF(+'評価項目(標準)'!C28="","",+'評価項目(標準)'!C28) -> 企業の雇用に関する取組 | D29: =IF(+'評価項目(標準)'!D28="","",+'評価項目(標準)'!D28) -> 担い手確保・育成への取組 | E29: =IF(+'評価項目(標準)'!E28="","",+'評価項目(標準)'!E28) -> 建設業者団体の取組実績 | F29: =+IF(+'評価項目(標準)'!J28="","",+'評価項目(標準)'!J28) -> 2 | G29: =+IF(+'評価項目(標準)'!I28="","",+'評価項目(標準)'!I28) -> 2 | H29: =+IF(+'評価項目(標準)'!F28="","",+'評価項目(標準)'!F28) -> 取組の実績あり | K29: =IF(J29="","",IF(J29=H29,G29,IF(J29=H30,G30))) | M29: =IF(L29="","",IF(L29=H29,G29,IF(L29=H30,G30))) | N29: =IF(K29="","",IF(M29="","",ROUNDUP(AVERAGE(K29,M29),1)))
G30: =+IF(+'評価項目(標準)'!I29="","",+'評価項目(標準)'!I29) -> 0 | H30: =+IF(+'評価項目(標準)'!F29="","",+'評価項目(標準)'!F29) -> 取組の実績なし
E31: =IF(+'評価項目(標準)'!E30="","",+'評価項目(標準)'!E30) -> 建設業者団体地域組織の取組実績 | F31: =+IF(+'評価項目(標準)'!J30="","",+'評価項目(標準)'!J30) -> 1 | G31: =+IF(+'評価項目(標準)'!I30="","",+'評価項目(標準)'!I30) -> 1 | H31: =+IF(+'評価項目(標準)'!F30="","",+'評価項目(標準)'!F30) -> 取組の実績あり | K31: =IF(J31="","",IF(J31=H31,G31,IF(J31=H32,G32))) | M31: =IF(L31="","",IF(L31=H31,G31,IF(L31=H32,G32))) | N31: =IF(K31="","",IF(M31="","",ROUNDUP(AVERAGE(K31,M31),1)))
G32: =+IF(+'評価項目(標準)'!I31="","",+'評価項目(標準)'!I31) -> 0 | H32: =+IF(+'評価項目(標準)'!F31="","",+'評価項目(標準)'!F31) -> 取組の実績なし
E33: =IF(+'評価項目(標準)'!E32="","",+'評価項目(標準)'!E32) -> 建設企業の取組実績 | F33: =+IF(+'評価項目(標準)'!J32="","",+'評価項目(標準)'!J32) -> 1 | G33: =+IF(+'評価項目(標準)'!I32="","",+'評価項目(標準)'!I32) -> 1 | H33: =+IF(+'評価項目(標準)'!F32="","",+'評価項目(標準)'!F32) -> 取組の実績あり | K33: =IF(J33="","",IF(J33=H33,G33,IF(J33=H34,G34))) | M33: =IF(L33="","",IF(L33=H33,G33,IF(L33=H34,G34))) | N33: =IF(K33="","",IF(M33="","",ROUNDUP(AVERAGE(K33,M33),1)))
G34: =+IF(+'評価項目(標準)'!I33="","",+'評価項目(標準)'!I33) -> 0 | H34: =+IF(+'評価項目(標準)'!F33="","",+'評価項目(標準)'!F33) -> 取組の実績なし
C35: =IF(+'評価項目(標準)'!C34="","",+'評価項目(標準)'!C34) -> 企業の技術力等 | D35: =IF(+'評価項目(標準)'!D34="","",+'評価項目(標準)'!D34) -> 工事実績 | E35: =IF(+'評価項目(標準)'!E34="","",+'評価項目(標準)'!E34) -> 企業の工事実績 | F35: =+IF(+'評価項目(標準)'!J34="","",+'評価項目(標準)'!J34) -> 20 | G35: =+IF(+'評価項目(標準)'!I34="","",+'評価項目(標準)'!I34) -> 20 | H35: =+IF(+'評価項目(標準)'!F34="","",+'評価項目(標準)'!F34) -> 評価対象工事の実績あり | K35: =IF(J35="","",VLOOKUP(J35,'評価項目(標準)'!F34:I35,4,FALSE)) | M35: =IF(L35="","",VLOOKUP(L35,'評価項目(標準)'!F34:I35,4,FALSE)) | N35: =IF(K35="","",IF(M35="","",ROUNDUP(AVERAGE(K35,M35),1)))
G36: =+IF(+'評価項目(標準)'!I35="","",+'評価項目(標準)'!I35) -> 0 | H36: =+IF(+'評価項目(標準)'!F35="","",+'評価項目(標準)'!F35) -> 評価対象工事の実績なし
D37: =IF(+'評価項目(標準)'!D36="","",+'評価項目(標準)'!D36) -> 工事成績 | E37: =IF(+'評価項目(標準)'!E36="","",+'評価項目(標準)'!E36) -> 申告工事成績点又は総合点 | F37: =+IF(+'評価項目(標準)'!J36="","",+'評価項目(標準)'!J36) -> 20 | G37: =IF(+'評価項目(標準)'!I36="","",+'評価項目(標準)'!I36) -> 20 | H37: =IF(+'評価項目(標準)'!F36="","",+'評価項目(標準)'!F36) -> 申告工事成績点が８５点以上の場合 | J37: 【申告工事成績点】 | K37: =IF(COUNTA(J40,J43)=0,"",IF(COUNTA(J40,J43)=2,"入力は【申告工事成績点】、【総合点】のいずれかにして下さい",IF(AND(COUNTA(J40)=1,J38=""),"いずれの【申告工事成績点】なのか、「三重県、中部地整、近畿地整」より選択してください",IF(J43>=970,10,IF(AND(J43<970,J43>=840),ROUNDDOWN((J43-840)/(970-840)*10,1),IF(J43<840,0,)))+IF(J40>=85,F37,IF(AND(J40<75,J40>=1),10,IF(AND(J40<85,J40>=75),(J40-75)+10)))))) | L37: 【申告工事成績点】 | M37: =IF(COUNTA(L40,L43)=0,"",IF(COUNTA(L40,L43)=2,"入力は【申告工事成績点】、【総合点】のいずれかにして下さい",IF(AND(COUNTA(L40)=1,L38=""),"いずれの【申告工事成績点】なのか、「三重県、中部地整、近畿地整」より選択してください",IF(L43>=970,10,IF(AND(L43<970,L43>=840),ROUNDDOWN((L43-840)/(970-840)*10,1),IF(L43<840,0,)))+IF(L40>=85,F37,IF(AND(L40<75,L40>=1),10,IF(AND(L40<85,L40>=75),(L40-75)+10)))))) | N37: =IF(K37="","",IF(M37="","",ROUNDUP(AVERAGE(K37,M37),1)))
G38: =IF(+'評価項目(標準)'!I37="","",+'評価項目(標準)'!I37) | H38: =IF(+'評価項目(標準)'!F37="","",+'評価項目(標準)'!F37) -> 申告工事成績点が７５点以上８５点未満の場合 計算式１ （申告工事成績点－７５点）＋１０点
G39: =IF(+'評価項目(標準)'!I38="","",+'評価項目(標準)'!I38) -> ～ | N39: =K39 -> 0
G40: =IF(+'評価項目(標準)'!I39="","",+'評価項目(標準)'!I39)
G41: =IF(+'評価項目(標準)'!I40="","",+'評価項目(標準)'!I40) -> 10 | H41: =IF(+'評価項目(標準)'!F40="","",+'評価項目(標準)'!F40) -> 申告工事成績点が７５点未満の場合 | N41: =K41 -> 0
...

Sheet 様式２
A1: （様式２） 地域精通度・社会貢献度・企業の技術力等に関する技術資料 | AJ1: ※本頁は（様式２）の注意事項となっています。提出の必要はありません。
O2: 会社名
A3: 【地域精通度】 | AJ3: 【地域精通度の注意事項】
A5: 本店等所在地 | E5: 本店所在地 | AJ5: 注1： | AL5: 本店と建設業法上の主たる営業所の所在地が同じ場合は、本店所在地の入力は不要です。
E7: 所在地の変更日 | J7: 年 月 日 | AJ7: 注2： | AL7: 公告の前月から３６か月前までの期間に、本店及び建設業法上の主たる営業所の所在地を変更した場合は、旧所在地と変更日を入力して下さい。
E8: 旧所在地
E10: 営業所所在地 | AJ10: 注3： | AL10: 三重県内に建設業法上の営業所を有する県外業者は、営業所所在地を入力してください。
A12: 施工箇所地域 における 工事実績 | E12: コリンズ登録番号
E13: 工事名称
G16: 【社会貢献度】 | AJ16: 【社会貢献度の注意事項】
AD17: 評価対象 | AG17: 実績
A18: 社会貢献度 | E18: ① | F18: 男女共同参画活動実績の有無 | AJ18: 注1： | AL18: 評価対象として届け出る項目に「○」をプルダウンで選択してください。（最大４点）
E19: ② | F19: 障がい者雇用実績の有無
E20: ③ | F20: 人権に関する取組実績の有無（人権研修の受講実績又は公正採用選考人権啓発推進員の設置） | AJ20: 注2： | AL20: 各項目で実績の有無をプルダウンで選択してください。
E21: ④ | F21: 「みえる・わかる・つながる！職業ポータルサイト」Webページへの登録
E22: ⑤ | F22: 現場見学会等の開催実績
E23: ⑥ | F23: 不当要求防止責任者講習の受講実績
E24: ⑦ | F24: 「ユースエール認定制度」認定実績
F25: 「みえの働き方改革推進企業登録制度」登録実績
G26: 【企業の雇用に関する取組】 | AJ26: 【企業の雇用に関する取組】
AD27: 評価対象 | AG27: 実績
A28: 建設企業の 取組実績 | E28: ① | F28: キャリアパスの策定 | AJ28: 注1： | AL28: 評価対象として届け出る項目に「○」をプルダウンで選択してください。（最大２項目）
E29: ② | F29: キャリアアップの支援
E30: ③ | F30: 福利厚生の充実 | AJ30: 注2： | AL30: 各項目で実績の有無をプルダウンで選択してください。
E31: ④ | F31: ハラスメント研修の開催
A32: 【企業の技術力等】 | AJ32: 【企業の技術力等の注意事項】
A34: 工事実績 | E34: コリンズ登録番号
E35: 工事名称 | AL35: 企業の技術力等の着色部は、自動計算されます。
AJ37: 【工事成績】
A38: 工事成績 | E38: 三重県の 工事評定点 | H38: 令和５年４月１日以降に完成検査を行った 工事の評定点 | AD38: 申告工事成績点 | AJ38: 注1： | AL38: 令和５年４月１日から当該工事の入札公告日までに三重県が通知（工事成績認定書）した土木一式工事の評定点を、任意の件数だけ入力してください。 １０件まで申告できます。
AD39: =IF(COUNTA(T38:AC39)=0,"",ROUNDDOWN(((SUM(T38:AC39)+75))/(COUNTA(T38:AC39)+1),1)) | AI39: 点
A40: 受注工事高 １級技術者 １人あたりの 公共機関等の 契約金額 ２千５百万円 以上の 土木一式工事 | E40: 工事名称 | T40: 当初契約工期日数 | Z40: 当初契約金額 （円） | AD40: 計算式により算出 した額（Ｐ）（円） | AH40: 出資 比率
T41: 全体（日） | W41: 当該年度（日） | AL41: 記載例
AD42: =IF(Z42=0,"",ROUNDDOWN(Z42*W44/T44*IF(AH42=0,1,AH42/100),0))
T43: ～ | W43: ～
H44: ( | I44: □ | J44: 単独 | L44: ・ | M44: □ | N44: 共同企業体構成員 | S44: ) | T44: =IF(U43=0,"",U43-T42+1) | W44: =IF(X43=0,"",X43-W42+1)
AD45: =IF(Z45=0,"",ROUNDDOWN(Z45*W47/T47*IF(AH45=0,1,AH45/100),0))
T46: ～ | W46: ～
H47: ( | I47: □ | J47: 単独 | L47: ・ | M47: □ | N47: 共同企業体構成員 | S47: ) | T47: =IF(U46=0,"",U46-T45+1) | W47: =IF(X46=0,"",X46-W45+1)
AD48: =IF(Z48=0,"",ROUNDDOWN(Z48*W50/T50*IF(AH48=0,1,AH48/100),0))
...

Sheet 様式３
A1: （様式３） 技術者の能力に関する技術資料
N2: 会社名
A3: 【技術者の能力】
A5: 配置予定技術者 | C5: 氏名 | W5: 生年月日（西暦） | AB5: 年 月 日
C6: CPD取組実績 | E6: 取得単位認定団体 | N6: （例）○○技士会 | Y6: 推奨単位数 | AG6: 単位／年
N7: 取得単位数 | S7: 換算係数 | U7: 換算後単位数 | Y7: 換算後単位数の合計
E8: R8(2026)年度 | Q8: 単位 | S8: 1 | U8: =IF(N8="","",ROUNDDOWN(N8*S8,3)) | W8: 単位 | Y8: =IF(SUM(U8:V11)=0,"",SUM(U8:V11)) | AD8: 単 位
E9: R7(2025)年度 | Q9: 単位 | S9: 1 | U9: =IF(N9="","",ROUNDDOWN(N9*S9,3)) | W9: 単位
E10: R6(2024)年度 | Q10: 単位 | S10: 0.5 | U10: =IF(N10="","",ROUNDDOWN(N10*(1/2),3)) | W10: 単位
E11: R5(2023)年度 | Q11: 単位 | S11: 0.25 | U11: =IF(N11="","",ROUNDDOWN(N11*(1/4),3)) | W11: 単位
A14: 【技術者の能力の注意事項】
A16: 注1： | C16: 配置予定技術者の氏名は、必ず入力してください。
A18: 注2： | C18: 配置予定技術者に関する項目のうち、チェック欄は、該当する「□」をプルダウンで「■」に変更してください。
A20: 注3： | C20: CPDの取得単位認定団体で記入できる団体数は、１団体のみとします。 推奨単位数は、上記で記入した団体のR8.4.1時点の推奨単位数を入力してください。

Sheet 様式４（対策なし）
A1: （様式４） 技術提案に関する技術資料
A2: 工事名： | G2: 一般国道４２２号（新奥橋）ほか 橋梁修繕工事
A3: 会社名 | AQ3: ※本頁は、提出不要です。
A4: 特記課題 | AQ4: 【特記課題の注意事項】
A5: 項目１ | D5: 留意点① | AP5: 1 2 3 4 5 6 7 8 9 10 11 12 13 14 15 | AR5: ・ | AS5: 評価項目一覧に示す３項目について、工事を行ううえでの留意点とその理由をそれぞれ簡潔に記載してください。
AP6: 2
AP7: 3 | AR7: ・ | AS7: 具体的に実施する対策などを記載しても、その部分は評価しません。
AP8: 4 | AR8: ・ | AS8: 文字の大きさは、１０ポイントとします。
AP9: 5 | AR9: ・ | AS9: 行列の挿入及びセルサイズの変更は、不可とします。
D10: 留意点② | AP10: 1 | AR10: ・ | AS10: 各項目の留意点①～③は、それぞれ５行以内で記載するものとします。
AP11: 2 | AR11: ・ | AS11: ５行を超えて記載されている留意点は、評価しません。※例１、例２参照
AP12: 3 | AR12: ・ | AS12: 文字ポイントを小さくして、５行以内で記載されている留意点は、評価しません。※例３参照
AP13: 4 | AR13: ・ | AS13: 印刷した様式４で判断しますので、十分確認のうえ提出してください。
AP14: 5 | AS14: ※電子媒体で提出された場合でも、印刷して判断します。
D15: 留意点③ | AP15: 1 | AR15: ・ | AS15: 一括審査対象工事の場合、工事名には入札への参加を希望するすべての工事名を記載してください。
AP16: 2
AP17: 3
AP18: 4
AP19: 5
A20: 項目２ | D20: 留意点① | AP20: 1 2 3 4 5 6 7 8 9 10 11 12 13 14 15
AP21: 2
AP22: 3
AP23: 4
AP24: 5
D25: 留意点② | AP25: 1
AP26: 2
AP27: 3
AP28: 4
AP29: 5
D30: 留意点③ | AP30: 1
AP31: 2
AP32: 3
AP33: 4
AP34: 5
A35: 項目３ | D35: 留意点① | AP35: 1
AP36: 2
AP37: 3
AP38: 4
AP39: 5
D40: 留意点② | AP40: 1
...
