Workbook

Sheet 公告文
A1: 下記の建設工事について、一般競争入札を行いますので、磐田市契約規則(平成17年磐田市規則第32号）第8条
A2: の規定に基づき公告します。
B3: この入札は、静岡県共同利用電子入札システムにより執行する。
C5: 46303
Q6: 磐田市長 草 地 博 昭
A7: 記
A9: 1 | C9: 入札執行者 | L9: 磐 田 市 長 草 地 博 昭
A10: 2 | C10: 入札に付する事項
C11: 1 | E11: 入札番号 | L11: 5142 | M11: 耐震補強工事・老朽改修工事:屋内運動場 鉄骨造平屋建て 725㎡ | N11: 耐震補強工事・老朽改修工事:屋内運動場 鉄骨造平屋建て 725㎡ | O11: 耐震補強工事・老朽改修工事:屋内運動場 鉄骨造平屋建て 725㎡ | P11: 耐震補強工事・老朽改修工事:屋内運動場 鉄骨造平屋建て 725㎡
C12: 2 | E12: 建設工事名 | L12: 令和8年度 | P12: 下岡田鮫島線舗装改良工事
C13: 3 | E13: 建設工事箇所 | L13: 磐田市 | N13: 鮫島 | R13: 地内
C14: 4 | E14: 工事概要等 | L14: 設計図書参照
C15: 5 | E15: 工期 | L15: 46331 | R15: 46444
C16: 6 | E16: 落 札 方 式 | L16: 総合評価落札方式(簡易型Ⅱ）による落札方式
L17: 磐田市建設工事総合評価落札方式実施要綱（平成22年告示第40号。以下「評価
L18: 要綱」という。）に基づき、入札書に記載された金額（以下「入札価格」という。）以外
L19: に、企業および配置予定技術者の技術力等を総合的に勘案して落札者を決定する。
C20: 7 | E20: そ の 他 | L20: 本工事は週休2日推進工事(発注者指定型）とする。
L21: 磐田市週休2日推進工事(土木工事等）実施要領および特記仕様書を確認すること。
A23: 3 | C23: 予定価格（税抜き）
E24: 予定価格 | K24: 18180000
D26: 調査基準価格及び失格基準価格は、低入札価格調査制度実施要綱（平成22年磐田市告示
D27: 第37号）に基づき設定するが、事後公表とする。
D28: 総合評価の方法において、最低価格を設定する。（入札価格が調査基準価格を下回った場合
D29: は、調査基準価格で数値を算出する。）
A31: 4 | C31: 入札に参加する者に必要な資格に関する事項
C32: 磐田市における建設工事競争入札参加資格の認定を受けている者のうち、次に掲げる条件をすべて満たして
C33: いる者であること。
C34: 1 | E34: 地方自治法施行令（昭和22年政令第16号）第167条の4の規定に該当しない者であること。
C35: 2 | E35: 磐田市工事請負契約等に係る入札参加停止等措置要綱（平成21年磐田市告示第41号。「以下「要綱」と
E36: いう。」）に基づく入札参加停止を受けている期間中でないこと。
C37: 3 | E37: 磐田市発注公共工事等に係る暴力団排除措置要綱（平成25年磐田市告示第72号)
E38: に基づく入札排除措置を受けている期間中でないこと。
C39: 4 | E39: 工事の施工に対応して必要な建設業法（昭和24年法律第100号）第26条に規定する技術者を配置できる
E40: 者であること。
C41: 5 | E41: 会社更生法（平成14年法律第154号)に基づき更生手続開始の申立てが成されている者(更生手続開始の
E42: 決定を受けている者を除く。)または民事再生法(平成11年法律第225号)に基づき再生手続開始の申立て
E43: が成されている者(再生手続開始の決定を受けている者を除く。)でないこと。
C44: 6 | E44: 磐田市内に主たる営業所を有する者であることまたは特例市内業者の認定を受けた者であること。
C45: 7 | E45: (6)の営業所が磐田市の入札参加資格者名簿に契約営業所として登録されている者であること。
...

Sheet 様式第1号(申請書）
A1: 様式第1号（第5条関係） | M1: =+公告文!L11 -> 5142
A5: 入札参加資格確認申請書
H8: 令和 | J8: 年 | L8: 月 | N8: 日
A11: =+公告文!L9 -> 磐 田 市 長 草 地 博 昭 | F11: 様
E14: 所在地
E15: 商号又は名称
E16: 代表者氏名
B19: 下記の工事に係る入札に参加する資格について、確認されたく申請します。なお成年被後見人
A20: 若しくは被保佐人並びに破産者で復権を得ない者でないことを誓約します。
B23: 記
C25: 1 | D25: 公告日 | F25: =+公告文!C5 -> 46303
C27: 2 | D27: 建設工事名 | F27: =公告文!L12 -> 令和8年度
F28: =+公告文!P12 -> 下岡田鮫島線舗装改良工事
C30: 3 | D30: 建設工事箇所 | F30: 磐田市 | G30: =+公告文!N13 -> 鮫島 | I30: 地内

Sheet 内訳書書式
A1: 様式第1号 | M1: 入札番号 | O1: =公告文!L11 -> 5142
A4: 工 事 費 内 訳 書
J6: 令和 | L6: 年 | N6: 月 | P6: 日
H8: 住所
H9: 商号
H10: 氏名
A12: 1 | B12: 公告日 | F12: =公告文!C5 -> 46303
A14: 2 | B14: 建設工事名 | F14: 令和８年度 | H14: =公告文!P12 -> 下岡田鮫島線舗装改良工事
A16: 3 | B16: 建設工事箇所 | F16: 磐田市 | H16: =公告文!N13 -> 鮫島 | I16: 地内
A18: 4 | B18: 工事費内訳
B20: 工 種 | I20: 金 額
O21: 円
O22: 円
O23: 円
O24: 円
O25: 円
O26: 円
O27: 円
O28: 円
O29: 円
O30: 円
O31: 円
O32: 円
... O37: 円

Sheet 内訳書 記載例
A1: 様式第1号 | M1: 入札番号 | O1: =公告文!L11 -> 5142
A4: 工 事 費 内 訳 書
J6: 令和 | L6: 年 | N6: 月 | P6: 日
H8: 住所
H9: 商号
H10: 氏名
A12: 1 | B12: 公告日 | F12: =公告文!C5 -> 46303
A14: 2 | B14: 建設工事名 | F14: 令和８年度 | H14: =公告文!P12 -> 下岡田鮫島線舗装改良工事
A16: 3 | B16: 建設工事箇所 | F16: 磐田市 | H16: =公告文!N13 -> 鮫島 | I16: 地内
A18: 4 | B18: 工事費内訳
B20: 工 種 | I20: 金 額 | R20: ※注釈↓
B21: 直接工事費 計 | I21: 5000000 | O21: 円 | Q21: ①
B22: うち材料費 | I22: 3000000 | O22: 円 | R22: 材料費＋労務費 ≠ 直接工事費
B23: うち労務費 | I23: 1500000 | O23: 円
O24: 円
B25: 共通仮設費 計 | I25: 700000 | O25: 円 | Q25: ②
B26: 現場管理費 | I26: 1300000 | O26: 円 | Q26: ③
B27: うち建退共制度の掛金 | I27: 50000 | O27: 円 | R27: 建退共＋法定福利＋安全衛生≠現場管理費
B28: 工事原価のうち現場労働者の法定福利費 の事業主負担額 | I28: 1100000 | O28: 円
B29: 工事原価のうち安全衛生経費 | I29: 300000 | O29: 円
B30: 一般管理費 | I30: 600000 | O30: 円 | Q30: ④
O31: 円
B32: 工事価格計 | I32: 7600000 | O32: 円 | R32: ①＋②＋③＋④
O33: 円
O34: 円
O35: 円
O36: 円
O37: 円

Sheet 通知書（建設業法第２０条）
A2: 令和 年 月 日
A4: 磐田市長 草地 博昭 様
O6: 所在地
O8: 名称
O10: 代表者名
A12: 通 知 書
A15: 下記のとおり、建設業法第２０条の２第２項に基づき 、 発生するおそれがあると認める工期
A17: 又は請負代金の額 に影響を及ぼす事象に関する情報を通知します。
A19: 記
A21: 工事名：
A23: □ 主要な資機材の供給の不足若しくは遅延又は資機材の価格の高騰
A25: （建設業法施行規則第１３条の１４第２項第１号）
A27: 発生するおそれのある事象※：
B29: 上記事象の状況の把握のため必要な情報の入手先：
A31: ※天災その他自然的又は人為的な事象により生じる発注者と受注者の双方の責めに
A33: 帰することができない もの を記載
A35: □ 特定の建設工事の種類における労務の供給の不足又は価格の高騰
A37: （建設業法施行規則第１３条の１４第２項第２号）
A39: 発生するおそれのある事象※：
B41: 上記事象の状況の把握のため必要な情報の入手先：
A43: ※天災その他自然的又は人為的な事象により生じる発注者と受注者の双方の責めに
A45: 帰することができない もの を記載
A47: その他連絡事項（空欄可）
A53: （注） | C53: １. | D53: 本通知書については、建設業法施行規則第１３条の１４第２項に規定する事象が
D55: 発生するおそれがあると認めるときに提出するものであり、当該事象の発生する
D57: おそれが認められない場合は、提出を求めるものではない。
C60: ２． | D60: 本通知書を提出する場合は、落札決定 （随意契約の場合にあっては、契約の
D62: 相手方の決定） から契約締結までに提出するものとする。
C64: ３． | D64: 「上記事象の状況の把握のため必要な情報 の入手先 」欄においては、 受注予定者
D66: の通常の事業活動において把握でき、メディア記事、資材業者の記者発表あるいは
D68: 公的主体や業界団体などにより作成・更新された一定の客観性を有する統計資料等
D70: に裏付けられた情報を用いること。（一の資材業者の口頭のみによる情報など、
D72: 真偽を確認することが困難である情報は除かれることに留意すること。)
C74: ４． | D74: 本通知書により通知した 事象が契約締結後に顕在化した場合は、建設業法第２０条
D76: の２第３項により、請負契約の変更についての協議を受注者から発注者に対して
D78: 申し出ることができるが、当該協議については、本件工事の請負契約の規定等
D80: （スライド条項の運用基準等を含む。）に基づき対応を行うものであることに留意すること。
C83: ５． | D83: 本通知書を提出していない場合であっても、 本件工事の請負契約の規定に基づき、
D85: 請負契約の変更について発注者に対して受注者から協議を申し出ることができる。

Sheet 総合評価添付資料→

Sheet 添付書類確認書 
A1: 令和８年度 総合評価落札方式 添付書類確認書
A2: 入札番号 | D2: : | E2: =公告文!L11 -> 5142
A3: 工事名 | D3: : | E3: 令和８年度 | I3: =公告文!P12 -> 下岡田鮫島線舗装改良工事
K5: 所 在 地
K6: 商 号
K7: 代表者職・氏名
B9: 下記の該当する項目に「○」をつけること。
X10: 発注者 | Z10: 発注者
A11: ①企業の施工能力について | X11: 確認欄 | Z11: 確認欄
A12: 同種工事 | B12: 同種工事の施工実績 ※1 | I12: 「同種工事実績」あり ・ 「類似工事実績」あり ・ 実績なし
B14: ＣＯＲＩＮＳへの登録 ※2 | I14: あ り ・ な し
A16: 優良工事表彰の有無 ※3 | I16: あ り ・ な し
A18: 週休2日工事の実績 ※4 | I18: ４週８休複数件 ・ ４週８休 ・ なし
A20: ＩＳＯ認証取得状況 ※5 | I20: ISO9001 ・ ISO14001 ・ エコアクション21 ・ なし
B22: ※1 | C22: 過去15か年度(平成23年度～令和7年度）に同種工事又は類似工事を元請として施工した実績をいう。
B23: ※2 | C23: CORINSへの登録がある場合、工事カルテの添付により契約書の写しを省略することができる。
B24: ※3 | C24: 過去2か年度(令和6年度～令和7年度）に受賞をしたものを対象とする。
C25: 表彰日の対象期間は令和6年4月1日から令和8年3月31日とする。※工事名の年度ではない。
B26: ※4 | C26: 過去3か年度(令和5年度～令和7年度）の磐田市発注工事での週休2日推進工事の施工実績をいう。
C27: 週休2日実施工事の磐田市土木工事成績評定基準の項目別評定表（様式第3）を添付すること。
B28: ※5 | C28: ISO9001、14001又はエコアクション21の認証を取得している場合は、認証取得を証する書類の写しを
C29: 添付すること。 | X29: 発注者 | Z29: 発注者
A30: ②配置予定技術者の能力について | X30: 確認欄 | Z30: 確認欄
A31: 評価項目対象資格・免許 ※2 | I31: あ り （ ） ・ な し
A33: 工事経験※1 | B33: 従事役職と同種・類似の区別 | I33: 主任（監理）技術者又は監理技術者補佐として
I34: 「同種工事実績」あり ・ 「類似工事実績」あり ・ 実績なし
I36: 現場代理人として（※上記技術者としての実績がない場合）
I37: 「同種工事実績」あり ・ 「類似工事実績」あり ・ 実績なし
B39: 発注機関名 | I39: 磐田市発注 ・ その他機関の発注
B41: ＣＯＲＩＮＳへの登録 ※3 | I41: あ り （CORINS登録番号： ）・ な し
A43: 継続教育（CPＤ・CPDS）の取組状況※4 | I43: 「継続教育の証明」あり ・ 「継続教育の証明」なし
A45: 優良工事表彰の有無 ※5 | I45: あ り ・ な し
B47: ※1 | C47: 工事経験とは、過去15か年度(平成23年度～令和7年度）に同種工事又は類似工事を主任（監理）技術者・監理
C48: 技術者補佐又は現場代理人として施工した実績。様式第5号に複数の候補者を記載した場合は、資格等
C49: の評価が最も低い者を当該表に記載すること。
B50: ※2 | C50: 「あり」の場合は、その資格の種類を記載すること。
B51: ※3 | C51: CORINSへの登録がある場合は、その登録番号を記載すること。
B52: ※4 | C52: 過去2か年度(令和６年度～令和７年度）のうち任意の1年間とする。
B53: ※5 | C53: 過去5か年度(令和3年度～令和7年度）に受賞したものを対象とする。
C54: 表彰日の対象期間は令和3年4月1日から令和8年3月31日とする。※工事名の年度ではない。
...

Sheet 様式第4号
A1: 様式第4号 | E1: 入札番号 | F1: =公告文!L11 -> 5142
A3: 同種工事の施工実績
A6: 建設工事名
B7: =公告文!L12 -> 令和8年度 | C7: =公告文!P12 -> 下岡田鮫島線舗装改良工事 | E7: 会社名
A9: 項目 NO
B10: 建設工事名
A11: 工事名称等 | B11: 発注機関
B12: 建設工事箇所 | C12: (都道府県・市町村名）
B13: 契約金額
B14: 工期 | C14: 年 月 日～ 年 月 日
B15: 発注形態 | C15: 単体
B16: 規模・寸法
A17: 工事概要等 | B17: 構造形式
B18: 使用機材
B19: 設定条件
A21: （注）契約書の写しまたは発注機関の発注証明書を添付してください。
A22: ※公告において明示した当該工事と同種の工事の施工実績について、的確に判断できる必要最小限の具体的項目を設定する。

Sheet 様式第5号
A1: 様式第5号 | E1: 入札番号 | F1: =公告文!L11 -> 5142
A3: 配置予定技術者等の資格・工事経験
A6: 建設工事名
B7: =公告文!L12 -> 令和8年度 | C7: =公告文!P12 -> 下岡田鮫島線舗装改良工事 | E7: 会社名
A9: 項目 氏名 | C9: 〇〇〇〇
A10: 最 終 学 歴 | C10: 〇〇大学工学部土木工学科
C11: (例) 一級土木工事施工管理技士
C12: 一級建設機械施工技士
A13: 法 令 に よ る 免 許 | C13: 技術士（建設部門、農業土木、林業
C14: 部門の森林部門）
B16: 工事名
A17: 工事概要 | B17: 発注機関
B18: 建設工事箇所 | C18: （都道府県・市町村名）
B19: 契約金額
B20: 工期 | C20: 年 月 日～ 年 月 日
B21: 従事役職 | C21: 現場代理人・監理（主任）技術者
A23: 工 事 内 容
A25: （注）法令等による免許については、免許を証する書面の写しを添付してください。

Sheet 社員一覧表
A1: 社 員 一 覧 表
A4: １．入札番号 | D4: 第 | E4: =公告文!L11 -> 5142 | G4: 号
A5: ２．工 事 名 | D5: =公告文!L12 -> 令和8年度 | F5: =公告文!P12 -> 下岡田鮫島線舗装改良工事
B7: 社員総数 | E7: 人 | F7: 市民雇用数 | I7: 人 | J7: 市民雇用率 | L7: =IF(D7="","",H7/D7*100) | M7: ％
A9: No. | B9: 住 所 | G9: 氏 名 | J9: 市 民
A10: 1 | J10: 該 当 ・ 非該当
A11: 2 | J11: 該 当 ・ 非該当
A12: 3 | J12: 該 当 ・ 非該当
A13: 4 | J13: 該 当 ・ 非該当
A14: 5 | J14: 該 当 ・ 非該当
A15: 6 | J15: 該 当 ・ 非該当
A16: 7 | J16: 該 当 ・ 非該当
A17: 8 | J17: 該 当 ・ 非該当
A18: 9 | J18: 該 当 ・ 非該当
A19: 10 | J19: 該 当 ・ 非該当
A20: 11 | J20: 該 当 ・ 非該当
A21: ※１ 住所は大字までの記入とする。 例）磐田市二之宮
A22: ※２ 基準日は、令和６年４月１日とする。
A23: ※３ 個人情報保護について、今回の社員一覧表については、総合評価落札方式における 評価点を算出する場合にのみ使用し、他の目的では使用いたしません。
A27: No. | B27: 住 所 | G27: 氏 名 | J27: 市 民
J28: 該 当 ・ 非該当
J29: 該 当 ・ 非該当
J30: 該 当 ・ 非該当
J31: 該 当 ・ 非該当
J32: 該 当 ・ 非該当
J33: 該 当 ・ 非該当
J34: 該 当 ・ 非該当
J35: 該 当 ・ 非該当
J36: 該 当 ・ 非該当
J37: 該 当 ・ 非該当
J38: 該 当 ・ 非該当
J39: 該 当 ・ 非該当
... J49: 該 当 ・ 非該当

Sheet 配点表 
C1: 配点表 | D1: =公告文!L11 -> 5142 | F1: =公告文!L12 -> 令和8年度 | G1: =公告文!P12 -> 下岡田鮫島線舗装改良工事
C3: 評価項目・基準 | G3: 配点最大
C4: 過去15か年度の同種工事の施工実績 | D4: 1 | E4: 同種工事の実績あり | G4: 2
D5: 2 | E5: 類似工事の実績あり | G5: 1
D6: 3 | E6: その他 | G6: 0
C7: 過去３か年度における工事成績評定の平均点 | D7: 4 | E7: 83点以上 | G7: 3
D8: 5 | E8: 81点以上83点未満 | G8: 1.5
D9: 6 | E9: 81点未満 | G9: 0
D10: 7 | E10: 64点以下 | G10: -1
C11: 過去２か年度における磐田市優良表彰（請負者）の有無 | D11: 8 | E11: 表彰の実績あり | G11: 2
D12: 9 | E12: 表彰の実績なし | G12: 0
C13: 過去３か年度における週休2日推進工事の施工実績の有無 | D13: 10 | E13: ４週８休以上の実績が複数件あり | G13: 1
D14: 11 | E14: ４週８休以上の実績あり | G14: 0.5
D15: 12 | E15: 実績なし | G15: 0 | K15: 複数の配置技術者を記載する場合はこの表にも記入して下さい。 一番配点の低い技術者の点数を左記の表へ記載して下さい。
C16: 品質管理・環境マネジメントシステムの取り組み状況 | D16: 13 | E16: ISO9001若しくはISO14001、又はｴｺｱｸｼｮﾝの認証を取得済 | G16: 1
D17: 14 | E17: 該当なし | G17: 0 | K17: 氏名
C18: 配置予定技術者の資格 | D18: 15 | E18: 1級土木施工管理技士 その他監理技術者になりうる資格 | G18: 2 | K18: 左記の項目に合わせて点数を記載して下さい。
D19: 16 | E19: 2級土木施工管理技士 その他監理技術者になりうる資格 | G19: 1
D20: 17 | E20: その他 | G20: 0
D21: 18 | E21: １級舗装施工管理技術者 | G21: 1 | K21: 左記の項目に合わせて点数を記載して下さい。
D22: 19 | E22: ２級舗装施工管理技術者 | G22: 0.5
D23: 20 | E23: その他 | G23: 0
C24: 過去15か年度の主任（監理）技術者・監理技術者補佐又は現場代理人としての施工経験の有無（配置予定 技術者） | D24: 21 | E24: 主任（監理）技術者又は監理技術者補佐 | F24: 同種工事の実績あり | G24: 2 | K24: 左記の項目に合わせて点数を記載して下さい。
D25: 22 | F25: 類似工事の実績あり | G25: 1
D26: 23 | E26: 現場代理人 | F26: 同種工事の実績あり | G26: 1 | K26: 左記の項目に合わせて点数を記載して下さい。
D27: 24 | F27: 類似工事の実績あり | G27: 0.5
D28: 25 | E28: その他 | G28: 0
C29: 過去５か年度における磐田市優良表彰（技術者）の有無 | D29: 26 | E29: 表彰の実績あり | G29: 2 | K29: 左記の項目に合わせて点数を記載して下さい。
D30: 27 | E30: 表彰の実績なし | G30: 0
C31: 継続教育(CPD、CPDS）の取組み状況 | D31: 28 | E31: 継続教育の証明あり | G31: 1 | K31: 左記の項目に合わせて点数を記載して下さい。
D32: 29 | E32: 継続教育の証明なし | G32: 0
C33: 市内業者施工率 | D33: 30 | E33: 全て市内業者により施工する場合 | G33: 2 | K33: 合計点数 | L33: =SUM(L18:L32) -> 0 | M33: =SUM(M18:M32) -> 0 | N33: 0 | O33: 0
D34: 31 | E34: 自社施工分と市内業者への下請負額分の合計が請負金額の80%以上の場合 | G34: 1 | K34: 採用者 （最低点）
D35: 32 | E35: 自社施工分と市内業者への下請負額分の合計が請負金額の80%未満の場合 | G35: 0 | K35: ※合計点数が最低点の技術者 の配点を左記の表へ記載して下さい。
C36: 過去５か年度の災害協定等に基づく活動実績及び有事の際の構え | D36: 33 | E36: 災害協定・活動実績・建設機械所有 | G36: 1.5
D37: 34 | E37: 災害協定・活動実績あり | G37: 1
D38: 35 | E38: 災害協定・建設機械の所有 | G38: 1
D39: 36 | E39: 災害協定の締結のみ | G39: 0.5
D40: 37 | E40: 災害協定の締結なし | G40: 0
C41: 令和７年度の地域貢献 の有無 | D41: 38 | E41: 活動の実績あり | G41: 1
...

Sheet 配点表記入例
C1: 配点表 | D1: =公告文!L11 -> 5142 | F1: =公告文!L12 -> 令和8年度 | G1: =公告文!P12 -> 下岡田鮫島線舗装改良工事
C3: 評価項目・基準 | G3: 配点最大 | H3: （株）磐田建設
C4: 過去15か年度の同種工事の施工実績 | D4: 1 | E4: 同種工事の実績あり | G4: 2 | H4: 2
D5: 2 | E5: 類似工事の実績あり | G5: 1
D6: 3 | E6: その他 | G6: 0
C7: 過去３か年度における工事成績評定の平均点 | D7: 4 | E7: 83点以上 | G7: 3
D8: 5 | E8: 81点以上83点未満 | G8: 1.5 | H8: 1.5
D9: 6 | E9: 81点未満 | G9: 0
D10: 7 | E10: 64点以下 | G10: -1
C11: 過去２か年度における磐田市優良表彰（請負者）の有無 | D11: 8 | E11: 表彰の実績あり | G11: 2 | H11: 2
D12: 9 | E12: 表彰の実績なし | G12: 0
C13: 過去３か年度における週休2日推進工事の施工実績の有無 | D13: 10 | E13: ４週８休以上の実績が複数件あり | G13: 1
D14: 11 | E14: ４週８休以上の実績あり | G14: 0.5 | H14: 0.5
D15: 12 | E15: 実績なし | G15: 0 | K15: 複数の配置技術者を記載する場合はこの表にも記入して下さい。 一番配点の低い技術者の点数を左記の表へ記載して下さい。
C16: 品質管理・環境マネジメントシステムの取り組み状況 | D16: 13 | E16: ISO9001若しくはISO14001、又はｴｺｱｸｼｮﾝの認証を取得済 | G16: 1 | H16: 1
D17: 14 | E17: 該当なし | G17: 0 | K17: 氏名 | L17: A | M17: B
C18: 配置予定技術者の資格 | D18: 15 | E18: 1級土木施工管理技士 その他監理技術者になりうる資格 | G18: 2 | H18: 2 | K18: 左記の項目に合わせて点数を記載して下さい。 | L18: 2
D19: 16 | E19: 2級土木施工管理技士 その他監理技術者になりうる資格 | G19: 1 | M19: 1
D20: 17 | E20: その他 | G20: 0
D21: 18 | E21: １級舗装施工管理技術者 | G21: 1 | K21: 左記の項目に合わせて点数を記載して下さい。 | L21: 1
D22: 19 | E22: ２級舗装施工管理技術者 | G22: 0.5 | H22: 0.5 | M22: 0.5
D23: 20 | E23: その他 | G23: 0
C24: 過去15か年度の主任（監理）技術者・監理技術者補佐又は現場代理人としての施工経験の有無（配置予定 技術者） | D24: 21 | E24: 主任（監理）技術者又は監理技術者補佐 | F24: 同種工事の実績あり | G24: 2 | K24: 左記の項目に合わせて点数を記載して下さい。 | L24: 2
D25: 22 | F25: 類似工事の実績あり | G25: 1 | H25: 1 | M25: 1
D26: 23 | E26: 現場代理人 | F26: 同種工事の実績あり | G26: 1 | K26: 左記の項目に合わせて点数を記載して下さい。
D27: 24 | F27: 類似工事の実績あり | G27: 0.5
D28: 25 | E28: その他 | G28: 0
C29: 過去５か年度における磐田市優良表彰（技術者）の有無 | D29: 26 | E29: 表彰の実績あり | G29: 2 | K29: 左記の項目に合わせて点数を記載して下さい。
D30: 27 | E30: 表彰の実績なし | G30: 0 | H30: 0 | L30: 0 | M30: 0
C31: 継続教育(CPD、CPDS）の取組み状況 | D31: 28 | E31: 継続教育の証明あり | G31: 1 | H31: 1 | K31: 左記の項目に合わせて点数を記載して下さい。 | L31: 1 | M31: 1
D32: 29 | E32: 継続教育の証明なし | G32: 0
C33: 市内業者施工率 | D33: 30 | E33: 全て市内業者により施工する場合 | G33: 2 | H33: 2 | K33: 合計点数 | L33: =SUM(L18:L32) -> 6 | M33: =SUM(M18:M32) -> 3.5 | N33: 0 | O33: 0
D34: 31 | E34: 自社施工分と市内業者への下請負額分の合計が請負金額の80%以上の場合 | G34: 1 | K34: 採用者 （最低点） | M34: ○
D35: 32 | E35: 自社施工分と市内業者への下請負額分の合計が請負金額の80%未満の場合 | G35: 0 | K35: ※合計点数が最低点の技術者 の配点を左記の表へ記載して下さい。
C36: 過去５か年度の災害協定等に基づく活動実績及び有事の際の構え | D36: 33 | E36: 災害協定・活動実績・建設機械所有 | G36: 1.5
D37: 34 | E37: 災害協定・活動実績あり | G37: 1 | H37: 1
D38: 35 | E38: 災害協定・建設機械の所有 | G38: 1
D39: 36 | E39: 災害協定の締結のみ | G39: 0.5
D40: 37 | E40: 災害協定の締結なし | G40: 0
C41: 令和７年度の地域貢献 の有無 | D41: 38 | E41: 活動の実績あり | G41: 1
...

Sheet 技術者資格表
A1: 総合評価落札方式 加点対象技術者資格表
A2: 建設工事の種類 | B2: 配置予定技術者の資格要件
B3: 監理技術者になりうる資格 （技術者資格配点2.0点） | C3: 主任技術者になりうる資格 （技術者資格配点1.0点）
A4: 土木一式工事 （下水道工事） | B4: 1級土木施工管理技士 | C4: 2級土木施工管理技士（種別土木）
B5: 1級建設機械施工技士 | C5: 2級建設機械施工技士(第1種～第6種）
B6: 技術士建設部門(すべて）
B7: 技術士農業部門（農業農村工学）
B8: 技術士森林部門（森林土木）
B9: 技術士水産部門（水産土木）
B10: 技術士総合技術監理部門
B11: （建設）
B12: （農業-農業農村工学）
B13: （森林-森林土木）
B14: （水産-水産土木）
A15: 舗装工事 | B15: 1級土木施工管理技士 | C15: 2級土木施工管理技士（種別土木）
B16: 1級建設機械施工技士 | C16: 2級建設機械施工技士(第1種～第6種）
B17: 技術士建設部門(すべて） | C17: 登録運動施設基幹技能者
B18: 技術士総合技術監理部門（建設）
A19: 水道工事(管工事） | B19: 1級管工事施工管理技士 | C19: 2級管工事施工管理技士
B20: 技術士機械部門（熱・動力エネルギー機器・流体機器） | C20: 給水装置工事主任技術者（実務経験1年）
B21: 技術士上下水道部門(すべて） | C21: 登録配管基幹技能者
B22: 技術士衛生工学部門(すべて） | C22: 登録ダクト基幹技能者
B23: 技術士総合技術監理部門 | C23: 登録冷凍空調基幹技能者
B24: （機械-熱・動力エネルギー機器） | C24: 建築設備士（実務経験1年）
B25: （機械-流体機器） | C25: 計装士（実務経験1年）
B26: （上下水道）
B27: （衛生工学）
