Workbook

Sheet 表紙
A1: 総合評価（特別簡易型）技術資料
F3: 令和○○年○○月○○日
A5: 愛知県知事 殿
E8: 住所 | F8: ○○市○○町○番地
E9: 商号又は名称 | F9: （株）○○建設
E10: 代表者氏名 | F10: ○○○○
A12: １ 対象工事
A13: 公告年月日 | B13: 46314
A14: 工事名 | B14: 大脇住宅電気工事
A15: 路線等の名称 | B15: 大脇住宅
A16: 工事場所 | B16: 豊橋市大脇町地内
A18: ２ 記載責任者（記載内容について答えられる方）
A19: 氏名 | B19: ○○○○
A20: 電話番号 | B20: 0123-45-6789
A22: ３ 資料内容
A23: ・加算点申告表
A24: ・加算点算出チェックリスト

Sheet 加算点申告表
A1: 加算点申告表 | G1: 【記入上の注意】
A2: 【建築関係工事】（地域型Ⅰ） | G2: ・ | I2: 黄色着色のセルは直接入力をお願いします。
G3: ・ | I3: 橙色着色のセルは、セル中の選択項目から選択してください。加算点は選択した内容に応じて自動で表示されます。
A4: 企業名： | B4: =表紙!F9 -> （株）○○建設 | G4: ・ | H4: 加算点を過大に申告した場合、公告に記載の方法で減点しますので、ご注意ください。
A5: 工事名： | B5: =表紙!B14 -> 大脇住宅電気工事 | G5: ・ | H5: 評価項目及び評価基準の詳細については、公告で確認してください。
A6: 路線等の名称： | B6: =表紙!B15 -> 大脇住宅
A7: 参加企業 | C7: *1総合 点数 | D7: 企業の技術力 | P7: 配置予定技術者の能力 | V7: 地域精通度・地域貢献度 | AL7: 加 算 点 小 計
C8: 電気工事業 | D8: 評価対象工事の施工実績 | F8: 工事成績 評定点 | H8: 優良工事表彰の有無 | J8: 中長期的な担い手の確保 | L8: 国家資格等の取得者の有無 | N8: ＩＳＯ９００１認証取得の有無 | P8: 評価対象工事の施工実績 | R8: 最上位工事成績評定点 | T8: ＣＰＤ実績 | V8: 地域内での営業所の有無 | X8: 地域内での評価対象工事の施工実績 | Z8: 応急修理等に 関する協定等 | AB8: ボランティア活動実績の有無 | AD8: 愛知県被災建築物応急危険度判定士の登録者の有無 | AF8: 女性の活躍促進宣言の有無 | AH8: 休み方改革の取組実績 | AJ8: ＩＳＯ１４００１認証取得の有無
A9: 請負業者 番号※２ | B9: 企業名 | D9: 経験数 | E9: 加算点 | F9: 各年度最上位成績の平均点 | G9: 加算点 | H9: 件数 | I9: 加算点 | J9: 有無 | K9: 加算点 | L9: 有無 | M9: 加算点 | N9: 有無 | O9: 加算点 | P9: 経験数 | Q9: 加算点 | R9: 点数 | S9: 加算点 | T9: 点数 | U9: 加算点 | V9: 場所 | W9: 加算点 | X9: 場所 | Y9: 加算点 | Z9: 締結の状況 | AA9: 加算点 | AB9: 有無 | AC9: 加算点 | AD9: 有無 | AE9: 加算点 | AF9: 有無 | AG9: 加算点 | AH9: 実績 | AI9: 加算点 | AJ9: 有無 | AK9: 加算点
A10: 23046164 | B10: 株式会社◎◎建設 | C10: 1310 | D10: 実績なし | E10: =VLOOKUP(D10,$D$11:$E$13,2,FALSE) -> 0 | F10: 上記に該当しない | G10: =VLOOKUP(F10,$F$11:$G$15,2,FALSE) -> 0 | H10: 実績なし | I10: =VLOOKUP(H10,$H$11:$I$13,2,FALSE) -> 0 | J10: 無 | K10: =VLOOKUP(J10,$J$11:$K$12,2,FALSE) -> 0 | L10: 無 | M10: =VLOOKUP(L10,$L$11:$M$12,2,FALSE) -> 0 | N10: 無 | O10: =VLOOKUP(N10,$N$11:$O$12,2,FALSE) -> 0 | P10: 実績なし | Q10: =VLOOKUP(P10,$P$11:$Q$12,2,FALSE) -> 0 | R10: 上記に該当しない | S10: =VLOOKUP(R10,$R$11:$S$15,2,FALSE) -> 0 | T10: 上記に該当しない | U10: =VLOOKUP(T10,$T$11:$U$13,2,FALSE) -> 0 | V10: 該当なし | W10: =VLOOKUP(V10,$V$11:$W$13,2,FALSE) -> 0 | X10: 該当なし | Y10: =VLOOKUP(X10,$X$11:$Y$13,2,FALSE) -> 0 | Z10: 協定なし | AA10: =VLOOKUP(Z10,$Z$11:$AA$13,2,FALSE) -> 0 | AB10: 無 | AC10: =VLOOKUP(AB10,$AB$11:$AC$12,2,FALSE) -> 0 | AD10: 無 | AE10: =VLOOKUP(AD10,$AD$11:$AE$12,2,FALSE) -> 0 | AF10: 無 | AG10: =VLOOKUP(AF10,$AF$11:$AG$12,2,FALSE) -> 0 | AH10: 上記に該当しない | AI10: =VLOOKUP(AH10,AH11:AI14,2,FALSE) -> 0 | AJ10: 無 | AK10: =VLOOKUP(AJ10,$AJ$11:$AK$12,2,FALSE) -> 0 | AL10: =SUM(E10,G10,I10,K10,M10,O10,Q10,S10,U10,W10,Y10,AA10,AC10,AE10,AG10,AI10,AK10) -> 0
A11: 評価基準 | D11: 2件以上 | E11: 2 | F11: 81≦点 | G11: 2 | H11: 2件以上 | I11: 1 | J11: 有 | K11: 1 | L11: 有 | M11: 1 | N11: 有 | O11: 1 | P11: 実績あり | Q11: 1 | R11: 81≦点 | S11: 2 | T11: 12≦1年間の取得単位 | U11: 2 | V11: 豊橋市内 | W11: 2 | X11: 豊橋市内 | Y11: 2 | Z11: 前年度以前から継続して協定締結有 | AA11: 2 | AB11: 有 | AC11: 1 | AD11: 有 | AE11: 1 | AF11: 有 | AG11: 0.5 | AH11: 月単位の週休2日制工事の取組証2件あり | AI11: 2 | AJ11: 有 | AK11: 1
D12: 1件 | E12: 1 | F12: 79≦点＜81 | G12: 1.5 | H12: 1件 | I12: 0.5 | J12: 無 | K12: 0 | L12: 無 | M12: 0 | N12: 無 | O12: 0 | P12: 実績なし | Q12: 0 | R12: 79≦点＜81 | S12: 1.5 | T12: 6≦1年間の取得単位＜12 | U12: 1 | V12: 東三河建設事務所管内（豊橋市を除く） | W12: 1 | X12: 東三河建設事務所管内（豊橋市を除く） | Y12: 1 | Z12: 当該年度協定有 | AA12: 1 | AB12: 無 | AC12: 0 | AD12: 無 | AE12: 0 | AF12: 無 | AG12: 0 | AH12: 月単位の週休2日制工事の取組証1件あり | AI12: 1 | AJ12: 無 | AK12: 0
D13: 実績なし | E13: 0 | F13: 77≦点＜79 | G13: 1 | H13: 実績なし | I13: 0 | R13: 77≦点＜79 | S13: 1 | T13: 上記に該当しない | U13: 0 | V13: 該当なし | W13: 0 | X13: 該当なし | Y13: 0 | Z13: 協定なし | AA13: 0 | AH13: 愛知県休み方改革マイスター企業認定あり | AI13: 0.5
F14: 75≦点＜77 | G14: 0.5 | R14: 75≦点＜77 | S14: 0.5 | AH14: 上記に該当しない | AI14: 0
F15: 上記に該当しない | G15: 0 | R15: 上記に該当しない | S15: 0 | AH15: 加算点は個々の実績毎に算出し、合算はしない
A21: *1総合点数の欄には、入札参加における総合点数を記載してください。なお、特定JVは空欄で結構です。
A22: *2経常JVは請負業者番号を入力して下さい。なお、特定JVは空欄で結構です。

Sheet 加算点算出チェックリスト
A1: 地域型Ⅰ加算点算出チェックリスト【入札参加者用】
A2: 建築関係工事用
A3: 企業名： | B3: =表紙!F9 -> （株）○○建設
A4: 工事名： | B4: =表紙!B14 -> 大脇住宅電気工事
A5: 路線名： | B5: =表紙!B15 -> 大脇住宅
A6: ※下記のチェック欄に✓を入れてください。なお、評価項目で該当がない場合は空欄にしてください。
A7: 評 価 項 目 | C7: チェック欄 | D7: 確 認 項 目
A8: 企業の技術力 | B8: 施工実績 | D8: 対象工事の施工実績は公告文で設定された期間以内のものであるか？ | G8: FALSE
B9: 施工実績 | D9: 対象工事の施工実績は公告文で設定された工事規模のものであるか？ | G9: FALSE
B10: 施工実績 | D10: 対象工事の施工実績の添付資料の準備はできているか？ | G10: FALSE
B11: 施工実績 | D11: 加算点申告表で選択した加算点数は対象工事の施工実績の件数と合致しているか？ | G11: FALSE
B12: 工事成績 | D12: 工事成績点は公告文に記載されている業種のものであるか？ | G12: FALSE
B13: 工事成績 | D13: 工事成績点は公告文で設定された期間以内のものであるか？ | G13: FALSE
B14: 工事成績 | D14: 工事成績点の添付資料の準備はできているか？ | G14: FALSE
B15: 工事成績 | D15: 加算点申告表で過去３年間の各年度最上位成績の平均点による加算点数は平均点の算出に計算間違いはないか？ （成績点がない年度は、その年度の点を７4点とし、平均する） | G15: FALSE
B16: 優良工事表彰 | D16: 優良工事表彰は愛知県建設局、都市・交通局又は建築局発注工事のものであるか？ | G16: FALSE
B17: 優良工事表彰 | D17: 優良工事表彰は公告文で設定された期間以内のものであるか？ | G17: FALSE
B18: 優良工事表彰 | D18: 優良工事表彰の添付資料の準備はできているか？ | G18: FALSE
B19: 優良工事表彰 | D19: 加算点申告表で選択した加算点数は優良工事表彰の件数と合致しているか？ | G19: FALSE
B20: 中長期的な担い手の確保 | D20: 若手技術者の雇用実績は公告文に記載されている期間のものか？ | G20: FALSE
... B25: 国家資格等の取得者 | D25: 加算点申告表で選択した加算点数は間違っていないか？ | G25: FALSE
B26: IＳO９００１取得 | D26: IＳO９００１認定証の写しが準備できているか？ | G26: FALSE | AV26: TRUE
B27: IＳO９００１取得 | D27: 加算点申告表で選択した加算点数は間違っていないか？ | G27: FALSE | AV27: TRUE
A28: 技術者の能力 | B28: 施工実績 | D28: 対象工事の施工実績は公告文で設定された期間以内のものであるか？ | G28: FALSE
B29: 施工実績 | D29: 対象工事の施工実績は公告文で設定された工事規模のものであるか？ | G29: FALSE
B30: 施工実績 | D30: 対象工事の施工実績の添付資料の準備はできているか？ | G30: FALSE
B31: 施工実績 | D31: 加算点申告表で選択した加算点数は対象工事の施工実績の件数と合致しているか？ | G31: FALSE
B32: 工事成績 | D32: 工事成績点は公告文の記載されている業種のものであるか？ | G32: FALSE
B33: 工事成績 | D33: 工事成績点は公告文で設定された期間以内のものであるか？ | G33: FALSE
B34: 工事成績 | D34: 工事成績点の添付資料の準備はできているか？ | G34: FALSE
B35: 工事成績 | D35: 加算点申告表で選択した加算点数は間違っていないか？ | G35: FALSE
B36: ＣＰＤ実績 | D36: 証明書のＣＰＤ単位取得期間は公告文で設定された期間以内のものか？ | G36: FALSE
B37: ＣＰＤ実績 | D37: 建築ＣＰＤ運営会議が発行する証明書の写しは準備できているか？ | G37: FALSE
B38: ＣＰＤ実績 | D38: 加算点申告表で選択した加算点数は間違っていないか？ | G38: FALSE
A39: 地域精通度地域貢献度に関する事項 | B39: 営業所の所在の有無 | D39: 営業所は公告文に記載されている地域内であるか？ | G39: FALSE
B40: 営業所の所在の有無 | D40: 営業所が県の入札参加資格登録営業所以外の時は建設業許可申請書及び役員や営業所を記載した表の写しの準備はできているか？ | G40: FALSE
B41: 営業所の所在の有無 | D41: 加算点申告表で選択した加算点数は間違っていないか？ | G41: FALSE
B42: 地域内での施工実績 | D42: 対象工事の施工実績は公告文で設定された期間以内のものであるか？ | G42: FALSE
B43: 地域内での施工実績 | D43: 対象工事の施工実績は公告文で設定された工事規模のものであるか？ | G43: FALSE
B44: 地域内での施工実績 | D44: 対象工事の施工実績の添付資料の準備はできているか？ | G44: FALSE
...

Sheet 電子契約利用申込書【単体用】 
Z3: ＜単体用：建設部門用（R5.10.6版）＞
T5: 令和 年 月 日
C7: 愛知県知事 殿
L9: 住 所
L10: 商号又は名称
L11: 代表者職・氏名
C13: 管理番号 | I13: 2026-130039-000-15
C14: 工事名 （委託業務名） | I14: 大脇住宅電気工事
D17: 電子契約の利用
I18: ＜上記セルのチェックリストより希望の有無を選択してください。＞
C20: 電子契約利用申込書
C22: 愛知県と立会人型電子契約サービスを利用して行う契約において、契約締結に利用するメールアドレスは、以下のとおりとする。
C24: 担当者 | I24: 氏名 | R24: 電話
C25: メールアドレス１
C27: 契約締結承認者 | I27: 役職 | R27: 氏名
C28: メールアドレス２
C29: （メールアドレス記載の注意事項） ２段階認証とするため、メールアドレス１及び２については、それぞれ異なるメールアドレスを必ず記載してください（業務で使用する個人のメールアドレスだけでなく、会社や部署等のメールアドレスも可としますが、メールアドレス1と2は異なるアドレスを記載してください。）。 なお、メールアドレスが１つしかない場合は、契約締結承認者のみ記入してください。 フリーメールアドレス（Ｇmail等）利用不可です。
C31: ＜電子契約の留意事項＞
C32: 電子契約を希望する場合は、次の留意事項を了承したものとみなします。
C34: ・電子契約を希望した場合であっても、契約締結予定日までに電子契約サービスを利用した承認が困難な場合は、紙の契約書（印紙必要）に切り替える場合がありますので、ご了承願います。
C35: ・電子契約により変更契約ができる場合は、その都度、電子契約の利用希望を確認します（当初契約が電子契約であっても、変更契約が紙の契約書（印紙必要）となる場合がありますのでご了承願います。）。なお、電子契約により変更契約を行う場合の協議は、電子契約サービスを利用します。
C36: ・工期延長に伴う協議及び承諾については、従前どおり書面（承諾書に印紙必要）により行います。
C37: ・電子契約の利用状況について、愛知県からアンケート調査を依頼する場合があります。その際はご協力の程、よろしくお願いします。

Sheet 電子契約利用申込書【JV用】
Z3: ＜JV用：建設部門用（R5.10.6版）＞
T5: 令和 年 月 日
C7: 愛知県知事 殿
L8: 共同企業体名
L11: ＜代表構成員＞
L12: 住 所
L13: 商号又は名称
L14: 代表者職・氏名
C16: 管理番号 | I16: 2026-130039-000-15
C17: 工事名 （委託業務名） | I17: 大脇住宅電気工事
D20: 電子契約の利用
I21: ＜上記セルのチェックリストより希望の有無を選択してください。＞
C23: 電子契約利用申込書
C25: 愛知県と立会人型電子契約サービスを利用して行う契約において、契約締結に利用するメールアドレスは、以下のとおりとする。
C27: 担当者 | I27: 氏名 | R27: 電話
C28: メールアドレス１
C30: 契約締結承認者 | I30: 役職 | R30: 氏名
C31: メールアドレス２
C32: （メールアドレス記載の注意事項） 各社２段階認証とするため、メールアドレス１及び２については、それぞれ異なるメールアドレスを必ず記載してください（業務で使用する個人のメールアドレスだけでなく、会社や部署等のメールアドレスも可としますが、メールアドレス1と2は異なるアドレスを記載してください。）。 なお、メールアドレスが１つしかない場合は、契約締結承認者のみ記入してください。 フリーメールアドレス（Ｇmail等）利用不可です。
C34: ＜電子契約の留意事項＞
C35: 電子契約を希望する場合は、次の留意事項を了承したものとみなします。
C37: ・電子契約を希望した場合であっても、契約締結予定日までに電子契約サービスを利用した承認が困難な場合は、紙の契約書（印紙必要）に切り替える場合がありますので、ご了承願います。
C38: ・電子契約により変更契約ができる場合は、その都度、電子契約の利用希望を確認します（当初契約が電子契約であっても、変更契約が紙の契約書（印紙必要）となる場合がありますのでご了承願います。）。なお、電子契約により変更契約を行う場合の協議は、電子契約サービスを利用します。
C39: ・工期延長に伴う協議及び承諾については、従前どおり書面（承諾書に印紙必要）により行います。
C40: ・電子契約の利用状況について、愛知県からアンケート調査を依頼する場合があります。その際はご協力の程、よろしくお願いします。
C42: ※第２構成員、第３構成員の方は下記にご記入ください。
L45: ＜第２構成員＞
L46: 住 所
L47: 商号又は名称
L48: 代表者職・氏名
C50: 担当者 | I50: 氏名 | R50: 電話
C51: メールアドレス１
C53: 契約締結承認者 | I53: 役職 | R53: 氏名
C54: メールアドレス２
L56: ＜第３構成員＞
L57: 住 所
L58: 商号又は名称
L59: 代表者職・氏名
C61: 担当者 | I61: 氏名 | R61: 電話
C62: メールアドレス１
...
