Workbook

Sheet 第１号
A1: 別記第１号様式
C3: 制限付一般競争入札参加資格審査申請書
H5: 令和 年 月 日
B7: 渡島総合振興局長 様
F8: =IF(AND(ISBLANK(G9),ISBLANK(I9)),"[登録番号]","[ＪＶ登録番号]") -> [登録番号] | L8: （※９桁） | M8: 経常建設共同企業体
F9: =IF(AND(ISBLANK(G9),ISBLANK(G9)),"","申 請 者") | L9: （※ＪＶ使用欄） | M9: 特定建設工事共同企業体
F10: =IF(ISBLANK(G9),"申請者","") -> 申請者 | G10: =IF(AND(ISBLANK(G9),ISBLANK(G9)),"","［代表者登録番号］")
E11: =IF(AND(ISBLANK(G9),ISBLANK(G9)),"","代 表 者") | F11: 住所 | L11: （※市町村名からで構いません）
F12: 商号又は名称
F13: 代表者氏名
B16: 令和 年 月 日 | E16: 付けで入札公告のありました次の工事に係る競争入札参加資格について
B17: 審査されたく、関係書類を添えて申請します。
B18: なお、入札参加資格の要件すべてを満たしていること、並びに本申請書及び添付書類のすべての
B19: 記載事項は、事実と相違ないことを誓約します。
B21: 記
B22: [整理番号]
B23: １ 工事名
B25: ２ 添付書類
B26: =IF(ISBLANK(C26),"","（1）") -> （1） | C26: 類似工事施工実績登録書 | L26: 類似工事施工実績調書 | M26: ※「類似工事施工実績登録書」を添付する場合は不要
B27: =IF(ISBLANK(C27),"","（2）") -> （2） | C27: 経営規模等評価結果通知書の写し | L27: 類似工事施工実績を証明する書面 | M27: ※「類似工事施工実績登録書」を添付する場合は不要
B28: =IF(ISBLANK(C28),"","（3）") -> （3） | C28: 特定関係調書 | L28: 類似工事施工実績登録書
B29: =IF(ISBLANK(C29),"","（4）") | L29: 特定関係調書
B30: =IF(ISBLANK(C30),"","（5）") | L30: 経営規模等評価結果通知書の写し
B31: =IF(ISBLANK(C31),"","（6）") | L31: 配置予定技術者調書 | M31: ※大規模工事において提出指定した場合に必要
B32: =IF(ISBLANK(C32),"","（7）") | L32: その他支出負担行為担当者が必要と認めた書類
B33: =IF(ISBLANK(C33),"","（8）")
B34: =IF(ISBLANK(C34),"","（9）")
B35: =IF(ISBLANK(C35),"","（10）") | L35: 入札保証金免除関係書類
B38: 注 紙入札又は紙参加の場合には、次の事項を付すこと。
B39: １ この申請書には、返信用封筒として、表に申請書の住所・氏名を記載し、簡易書留料金分を加えた
B40: 料金の切手又はこれに類するものを貼った封筒を併せて提出すること。
B41: ２ 「,」は、法人にあっては代表取締役の印、個人にあっては代表者の印を押すこと。
B42: ※電子申請の場合、押印は必要ない。
B43: ３ 配置予定技術者調書については、公告の添付資料に記述ない場合は必要ない。

Sheet 第２号
A2: 別記第２号様式
B4: 類 似 工 事 施 行 実 績 調 書
F6: 申請者 （共同企業体の場合は構成員名）
C9: 受注者名
C10: 工事名等 | D10: 工事名
D11: 発注機関名
D12: 工事場所 | E12: （市町村名）
D13: 契約金額
D14: 工期 | E14: 年 月 日～ 年 月 日
D15: 受注形態 | E15: 単体／共同企業体（出資比率％）
C16: 工事概要
B28: 注１ 公告において明示した発注工事と類似する元請としての施工実績（工事が完成し、引渡済みのものに限る。）について記載すること。
B29: ２ この様式は、申請者が共同企業体の場合は、各構成員ごとに作成すること。
B30: ３ 「受注者名」欄は、受注実績が共同企業体の構成員としてのものである場合は、当該共同企業体の名称を記載すること。
B31: ４ 類似工事施工実績を証明するものとして、工事実績証明書（別記第３号様式）又はこれに代わる書面（契約書等の写し）を添付すること。
B32: ５ 共同企業体としての実績がある場合は、当該共同企業体の協定書及び附属協定書のそれぞれの写しを添付すること。

Sheet 新　第5号
A1: 別記第５号様式
B3: 特 定 関 係 調 書
H5: =+第１号!H5 -> 令和 年 月 日
B7: 渡島総合振興局長 様
H8: [登録番号] | I8: =+第１号!G8 -> 0
I9: =+第１号!G9 -> 0 | J9: =+第１号!I9 -> 0
J10: =IF(第１号!I10="","",第１号!I10)
H11: 申請者 | I11: =+第１号!G10
H12: 住所 | I12: =+第１号!G11 -> 0
H13: 商号又は名称 | I13: =+第１号!G12 -> 0
H14: 代表者氏名 | I14: =+第１号!G13 -> 0
H15: （共同企業体の場合は企業体名を冠すること）
B17: 特定関係（資本関係又は人的関係）については、次のとおりです。
B19: 記
B21: １ 発注工事に係る設計業務等の受託者との特定関係 | I21: 〔 | J21: なし | K21: 〕
B23: ２ 他の「北海道建設工事競争入札参加資格者」との間における特定関係 | I23: 〔 | J23: なし | K23: 〕
B25: (1) 資本関係がある他の資格者
B26: ア 親会社の関係にある他の資格者
C27: 登録番号 | D27: 商号又は名称 | F27: 所在地(市町村名) | H27: 備考
B30: イ 子会社の関係にある他の資格者
C31: 登録番号 | D31: 商号又は名称 | F31: 所在地(市町村名) | H31: 備考
B35: ウ 親会社を同じくする子会社同士の関係にある他の資格者
C36: 登録番号 | D36: 商号又は名称 | F36: 所在地(市町村名) | H36: 備考
C40: ※ウに係る親会社については建設業者・資格者に限らない
B42: (2) 人的関係がある他の資格者
C43: 登録番号 | D43: 商号又は名称 | F43: 所在地(市町村名) | H43: 基準に該当する者
H44: 氏名 | I44: 自社役職名 | J44: 他社役職名
B49: 注１ １については、「発注工事に係る設計業務等の受託者と特定関係がない」ことが参加資格の要件となるため、特定
B50: 関係がないことを確認の上、〔 〕に「なし」と記載し申告すること。
B51: ２ ２はどちらかを○印で囲み、「なし」の場合には(1)及び(2)の欄に記載する必要はない。
B52: ３ 資本等で関係がある他の資格者を記載するときは、本工事の入札説明書等で表示されている北海道の競争入札参加
B53: 資格（格付のある資格の場合は、格付及びみなし格付を含む。）を有する者を記入すること。そのため、本工事の入
B54: 札説明書等で表示されている資格以外の資格を有する者については、記載する必要はない。
B55: ４ 資本等で関係がある他の資格者が、他の共同企業体を結成している場合についても同様に記載すること。
B56: ただし、申請者が共同企業体の代表者以外の構成員である場合は、他の共同企業体の代表者以外の構成員については
B57: 記載する必要はない。
B58: ５ 「所在地（市町村名）」について、道内の資格者は「主たる営業所が存する市町村名」を、道外の資格者は、「主
B59: たる営業所が存する都府県名」を記載すること。
B60: ６ 当該調書提出後、入札執行までの間において、新たな資本関係又は人的関係が生じた場合には、その都度提出する
B61: こと。
A63: 別記第５号様式
B65: 特 定 関 係 調 書
H67: =+第１号!H5 -> 令和 年 月 日
B69: 渡島総合振興局長 様
H70: [登録番号] | I70: =+I8 -> 0
I71: =+I9 -> 0 | J71: =+J9 -> 0
H72: ［構成員登録番号］
H73: 申請者
H74: 住所
H75: 商号又は名称
H76: 代表者氏名
H77: （共同企業体の場合は企業体名を冠すること）
B79: 特定関係（資本関係又は人的関係）については、次のとおりです。
B81: 記
B83: １ 発注工事に係る設計業務等の受託者との特定関係 | I83: 〔 | K83: 〕
B85: ２ 他の「北海道建設工事競争入札参加資格者」との間における特定関係 | I85: 〔 | K85: 〕
B87: (1) 資本関係がある他の資格者
B88: ア 親会社の関係にある他の資格者
C89: 登録番号 | D89: 商号又は名称 | F89: 所在地(市町村名) | H89: 備考
B92: イ 子会社の関係にある他の資格者
C93: 登録番号 | D93: 商号又は名称 | F93: 所在地(市町村名) | H93: 備考
B97: ウ 親会社を同じくする子会社同士の関係にある他の資格者
C98: 登録番号 | D98: 商号又は名称 | F98: 所在地(市町村名) | H98: 備考
C102: ※ウに係る親会社については建設業者・資格者に限らない
B104: (2) 人的関係がある他の資格者
C105: 登録番号 | D105: 商号又は名称 | F105: 所在地(市町村名) | H105: 基準に該当する者
H106: 氏名 | I106: 自社役職名 | J106: 他社役職名
B111: 注１ １については、「発注工事に係る設計業務等の受託者と特定関係がない」ことが参加資格の要件となるため、特定
B112: 関係がないことを確認の上、〔 〕に「なし」と記載し申告すること。
B113: ２ ２はどちらかを○印で囲み、「なし」の場合には(1)及び(2)の欄に記載する必要はない。
B114: ３ 資本等で関係がある他の資格者を記載するときは、本工事の入札説明書等で表示されている北海道の競争入札参加
B115: 資格（格付のある資格の場合は、格付及びみなし格付を含む。）を有する者を記入すること。そのため、本工事の入
B116: 札説明書等で表示されている資格以外の資格を有する者については、記載する必要はない。
B117: ４ 資本等で関係がある他の資格者が、他の共同企業体を結成している場合についても同様に記載すること。
B118: ただし、申請者が共同企業体の代表者以外の構成員である場合は、他の共同企業体の代表者以外の構成員については
B119: 記載する必要はない。
B120: ５ 「所在地（市町村名）」について、道内の資格者は「主たる営業所が存する市町村名」を、道外の資格者は、「主
B121: たる営業所が存する都府県名」を記載すること。
B122: ６ 当該調書提出後、入札執行までの間において、新たな資本関係又は人的関係が生じた場合には、その都度提出する
B123: こと。
A125: 別記第５号様式
B127: 特 定 関 係 調 書
H129: =+第１号!H5 -> 令和 年 月 日
B131: 渡島総合振興局長 様
H132: [登録番号] | I132: =+I70 -> 0
H133: ［構成員登録番号］
H134: 申請者
H135: 住所
H136: 商号又は名称
H137: 代表者氏名
H138: （共同企業体の場合は企業体名を冠すること）
B140: 特定関係（資本関係又は人的関係）については、次のとおりです。
B142: 記
B144: １ 発注工事に係る設計業務等の受託者との特定関係 | I144: 〔 | K144: 〕
B146: ２ 他の「北海道建設工事競争入札参加資格者」との間における特定関係 | I146: 〔 | K146: 〕
B148: (1) 資本関係がある他の資格者
B149: ア 親会社の関係にある他の資格者
C150: 登録番号 | D150: 商号又は名称 | F150: 所在地(市町村名) | H150: 備考
B153: イ 子会社の関係にある他の資格者
C154: 登録番号 | D154: 商号又は名称 | F154: 所在地(市町村名) | H154: 備考
...

Sheet NEW！ＪＶの方へお願い
B3: お願い
F4: 函館建設管理部入札契約課
F5: ℡0138-47-9613・9614
C6: 経常建設共同企業体で落札された方へ
B14: 契約情報【速報】 | E14: 送付者 | J14: ←会社名、氏名を記入
E15: 連絡先 | J15: ←電話番号を記入
B16: 開札日 | J16: ←開札日を入力
B17: 整理番号 | C17: =第１号!D22 -> 0
B18: 工事名 | C18: =第１号!D23 -> 0
B19: 落札者 | C19: =第１号!G9 -> 0 | F19: 経常建設共同企業体
B20: 落札金額 | F20: 円（税抜き） | J20: ←落札金額を入力
B21: 契約金額 | E21: =ROUNDDOWN(E20*1.1,0) -> 0 | F21: 円（税込み）
C23: 会社名 | D23: 出資割合 （甲型のみ） | E23: 出資金額
B24: 代表者 | C24: =第１号!G12 -> 0 | E24: =IF(D24>0,D24*$E$21,"") | F24: 円 | J24: ←乙型の場合は出資金額のみ入力
B25: 構成員 | E25: =IF(D24>0,D25*$E$21,"") | F25: 円 | J25: ←乙型の場合は出資金額のみ入力
B26: 構成員 | E26: =IF(D24>0,D26*$E$21,"") | F26: 円 | J26: ←乙型の場合は出資金額のみ入力
B27: 合計 | D27: =SUM(D24:D26) -> 0 | E27: =SUM(E24:E26) -> 0 | F27: 円
E28: =IF(E21=E27,"","↑合計金額が合いません！")
B32: 送付先 | C32: ="函館建設管理部入札契約課 "&DBCS(MONTH(C16))&"月"&DBCS(DAY(C16))&"日"&" 開札担当者 行" -> 函館建設管理部入札契約課 １月０日 開札担当者 行
B33: ＦＡＸ | C33: ０１３８－４７－９２１７
B35: 凡例： | C35: 薄黄色：入力欄です
C36: （肌色）：場合により入力

Sheet 紙様式３
A1: （紙様式３）
A2: 紙参加届出書
AJ4: 令和 年 月 日
B6: =第１号!B7 -> 渡島総合振興局長 様
O8: 申込者
P9: 住 所 | U9: 〒
P12: 名称又は商号
P14: 代表者
A16: 次のとおり、電子入札に紙により参加します。
A17: 記
A19: 入札公告又は指名通知の日 | G19: =第１号!B16 -> 令和 年 月 日
A20: 案 件 の 名 称 | G20: =第１号!D23 -> 0
A21: 紙により参加 したい理由 | G21: □ 地方公共団体の物品等又は特定役務の調達手続の特例を定める政令 (平成７年政令第372号)の規定の適用を受ける調達案件に係る入札である場合
G22: □ 電子証明書の失効又はＩＣカードの破損等によりＩＣカードが使用できなくなり、ＩＣカード 再発行手続中の場合
G23: □ ＩＣカードに格納された電子証明書の記載事項に変更があり、ＩＣカード再発行手続中の場合
G24: □ プロバイダ障害、電気通信事業者回線障害又は認証局障害の場合 ［障害発生日時 令和 年 月 日、 午 時ころ］
G25: □ 天災、電力会社の原因による地域的な停電が発生した場合 ［停電発生日時 令和 年 月 日、 午 時ころ］
G26: □ 電子入札用パソコン等機器の導入準備を進めているが、当該電子入札案件への参加 に間に合わない場合 ［準備が完了する予定時期 令和 年 月ころ］
G27: □ その他(理由を記入してください)
A28: 紙参加を開始 したい手続 | G28: □ 一般競争入札参加確認申請、公募型指名競争入札参加申請等
G29: □ 入札書提出 | O29: □ その他 | V29: （手続の内容）
J31: ※道側記入欄 | Q31: 受理日時 | U31: 令和 年 月 日 時 分 | AH31: 受理番号
A32: ※ | B32: 注意事項
B33: １ 申込者は、競争入札参加資格者名簿に登録された代表者（共同企業体にあっては、企業体名を冠した上で代表事業者の代表 者）又は権限を有する代理人（受任者）とすること。
B34: ２ 「案件の名称」の欄には、工事名、業務名、物品名、印刷物名等を記載すること。
B35: ３ 「紙入札を行う理由」の欄は、該当する理由いずれか一つのチェックボックスをチェック(レ)の上、必要事項を記入すること。
B36: ４ 「紙参加を開始する手続」の欄は、該当するチェックボックスをチェック(レ)すること。 選択肢の「一般競争入札」には各種制限・限定型を含むものであること。
A37: ※ | B37: この紙入札参加届出書は、電子入札案件に対して電子的参加ができないことが判明次第速やかに提出すること。

Sheet 提出通知書
A1: （電子様式１） | AZ1: ○
X2: 提出月日 | AC2: 令和 | AH2: 年 | AL2: 月 | AP2: 日
A3: 送付・持参提出通知書
A4: 名称又は商号 | J4: =第１号!G12 -> 0
A5: 案 件 の 名 称 | J5: =第１号!D23 -> 0 | AH5: ="[整理番号] "&第１号!D22&"" -> [整理番号]
A6: 持参提出理由 | J6: 電子的に添付することが困難なため | S6: 電子ファイルの容量が３ＭＢを超える
S7: その他
L9: 発注機関から指示があったため
A10: 持参提出書類名 | L10: 一般競争入札参加資格審査申請書の添付書類一式
L11: その他
A12: 提出(予定)年月日 | J12: 令和 | R12: 年 | X12: 月 | AD12: 日
A14: ※ | B14: 注意事項
B15: １ 案件の名称は、「工事名」、「業務名」、「物品名」、「印刷物名」等を記載すること。
B16: ２ 提出理由は、該当するボタンをクリック(黒丸)すること。 その他の理由の場合は、右欄にその理由の概要を記載すること。
B17: ３ 提出書類名は、該当書類のチェックボックスをチェック(レ)すること。 その他の書類の場合は、右欄に書類名を記載すること。
B18: ４ 提出に当たっては、必ず「添付書類内訳書」（紙様式６）とともに添付書類一式を持参すること。
B19: ５ 工事（委託）費内訳書は、入札書提出と同時に、入札書と一体化して暗号化された電子ファイルとして 受け付けることこととしているため、紙参加者を除いて持参提出は認められない。
A21: ※ | B21: この送付・持参提出通知書は、電子入札システムで次の時に添付して提出すること。
B22: ・入札等参加申請書送信時 ・入札書送信時
B23: なお、送付又は持参する場合であっても提出期限は変わらないので、添付電子ファイルの容量は早めに確認すること。

Sheet 添付書類内訳書
A1: （紙様式６）
A2: 添付書類内訳書
AE4: 令和 年 月 日
B6: （支出負担行為担当者）
B7: 渡島総合振興局長 様
O9: 申込者
P10: 住 所 | U10: 〒
V11: =第１号!G11 -> 0
P13: 名称又は商号 | V13: =第１号!G12 -> 0
P15: 代表者 | V15: =第１号!G13 -> 0
A17: 北海道電子入札システムにより参加手続を進めている次の案件に係る添付書類を次のとおり提出します。
A18: 記
A20: 入札公告日 | G20: =第１号!B16 -> 令和 年 月 日
A21: 案件の名称 | G21: =第１号!D23 -> 0
A22: 提出する 添付書類 | G22: 一般競争入札参加資格審査申請書の添付書類一式 | N22: □工事等 | Q22: １ ２ ３ ４ | R22: 類似工事施工実績調書 類似工事施工実績を証明する書面 配置予定技術者調書 その他支出負担行為担当者が必要と認めた書類
N25: □物品等 | Q25: １ ２ ３ ４ ５ ６ | R25: 直近３ヶ月以内に発行された道税（道が賦課徴収するものに限る）に滞納がないことの証明書 官公庁の納入実績一覧表 印刷物の製造に係る参加申込書及び添付資料 測量法に基づく測量業者としての登録通知書等(写し) 物品の購入等に係る競争入札等（取扱注意印刷物・特別管理印刷物）参加申込書 その他（ ）
G27: □ | H27: その他
A29: ※ | B29: 注意事項
B30: １ 申込者は、競争入札参加資格者名簿に登録された代表者（共同企業体にあっては、企業体名を冠した上で代表事業者の代表 者）又は権限を有する代理人（受任者）とすること。
B31: ２ 「案件の名称」の欄には、工事名、業務名、物品名、印刷物名等を記載すること。
B32: ３ 「提出する添付書類」の欄は、該当するチェックボックスをチェック(レ)し、その他の書類である場合には、書類名を記載すること。 この場合の項目は、電子入札システムにより手続を行った際に添付して提出した「送付・持参提出通知書」（電子様式１）による通知 内容と一致するものであること。
B33: ４ 添付すべき書類及びその条件等については、公告した内容によるものであること。

Sheet 実績証明書
A1: 別記第３号様式
C3: 工 事 実 績 証 明 書
B7: (発注者) | F7: 様
G9: 受注者
G10: 住所 | H10: =第１号!G11 -> 0
G11: 商号又は名称 | H11: =第１号!G12 -> 0
G12: 代表者氏名 | H12: =第１号!G13 -> 0
B15: 次の工事を履行したことを証明願います。
C17: 事 業 年 度 | D17: 工 事 名 | E17: 工 事 概 要 | F17: 施 工 場 所 | G17: 契約金額 | H17: 工 期 | I17: 契 約 | J17: 完 成 | K17: 履行状況
I18: 年月日 | J18: 年月日
C36: 上記工事を履行したことを証明します。
C37: 令和 年 月 日
G39: 発注者（証明者）

Sheet 質問書
