Workbook
Name 【企業】評価項目: 発注者入力シート!$L$6:$L$13
Name 【技術者】評価項目: 発注者入力シート!$M$6:$M$12
Name 【地域貢献】評価項目: 発注者入力シート!$N$6:$N$29
Name 【地理的条件】評価項目: 発注者入力シート!$O$6:$O$11
Name 企業回答: 発注者入力シート!$Z$6:$Z$9
Name 企業回答1: 発注者入力シート!$V$6:$V$8
Name 企業回答10: 発注者入力シート!$AE$6:$AE$9
Name 企業回答11: 発注者入力シート!$AF$6:$AF$7
Name 企業回答12: 発注者入力シート!$AG$6:$AG$9
Name 企業回答13: 発注者入力シート!$AH$6:$AH$8
Name 企業回答14: 発注者入力シート!$AI$6:$AI$9
Name 企業回答2: 発注者入力シート!$W$6:$W$11
Name 企業回答3: 発注者入力シート!$X$6:$X$11
Name 企業回答4: 発注者入力シート!$Y$6:$Y$8
Name 企業回答5: 発注者入力シート!$Z$6:$Z$9
Name 企業回答6: 発注者入力シート!$AA$6:$AA$12
Name 企業回答7: 発注者入力シート!$AB$6:$AB$9
Name 企業回答8: 発注者入力シート!$AC$6:$AC$17
Name 企業回答9: 発注者入力シート!$AD$6:$AD$8
Name 建設工事の種類: 発注者入力シート!$U$6:$U$21
Name 工事種別: 発注者入力シート!$T$6:$T$22
Name 地域密着型: 発注者入力シート!$S$6:$S$7
Name 評価項目番号: 発注者入力シート!$Q$6:$Q$12
Name 評価項目番号_枝番: 発注者入力シート!$R$6:$R$16
Name 様式番号: 発注者入力シート!$P$6:$P$25

Sheet 発注者入力シート
A1: 発注までに必要な作業 | L1: 【表３】プルダウンリスト | AX1: 技術資料「企業の工事成績評定点」、「配置予定技術者の工事成績評定点」の表示
A2: （１）発注工事の基本情報 | L2: 【表３】を編集すると評価項目（C列）のリストが変更できます（原則、着色セル以外編集不可）。 | AX2: 入力状況 | AY2: =C8&C9 -> 造園工事造園工事
B3: １．【表１】のC列に基本情報を直接入力してください | L3: 表中の着色セルを予備欄です。項目が不足する場合ここに入力すれば、プルダウンリストを追加できます。 | AX3: 工事種別 | AY3: 建設工事の種類 | AZ3: 判定用 | BA3: 表示（工事種別） | BB3: 表示（建設工事の種類） | BC3: 工事成績評価対象期間
B4: 【表１】 | L4: 【表３】 | AX4: 一般土木工事 | AY4: 土木一式工事 | AZ4: =AX4&AY4 -> 一般土木工事土木一式工事 | BA4: 一般土木工事、維持修繕工事 | BB4: 土木一式工事、とび・土工・ｺﾝｸﾘｰﾄ工事、しゅんせつ工事 | BC4: 工事成績（過去3年間で評価）
B5: 入力項目名 | C5: 入力欄 | L5: 【企業】評価項目 | M5: 【技術者】評価項目 | N5: 【地域貢献・その他】評価項目 | O5: 【地理的条件】評価項目 | P5: 様式番号 | Q5: 評価項目番号 | R5: 評価項目番号（枝番） | S5: 地域設定 | T5: 工事種別 | U5: 建設工事の種類 | V5: 企業回答1 | W5: 企業回答2 | X5: 企業回答3 | Y5: 企業回答4 | Z5: 企業回答5 | AA5: 企業回答6 | AB5: 企業回答7 | AC5: 企業回答8 | AD5: 企業回答9 | AE5: 企業回答10 | AF5: 企業回答11 | AG5: 企業回答12 | AH5: 企業回答13 | AI5: 企業回答14 | AX5: 一般土木工事 | AY5: とび・土工・コンクリート工事 | AZ5: =AX5&AY5 -> 一般土木工事とび・土工・コンクリート工事 | BA5: 一般土木工事、維持修繕工事 | BB5: 土木一式工事、とび・土工・ｺﾝｸﾘｰﾄ工事、しゅんせつ工事 | BC5: 工事成績（過去3年間で評価）
B6: 発注事務所名 | C6: 東部農林水産振興センター | D6: ←直接入力 | G6: 手引き | L6: 工事成績 | M6: 保有資格 | N6: 防災協定 | O6: 近隣施工実績 | P6: ２ | Q6: （１） | R6: ① | S6: 【地域設定】 | T6: 一般土木工事 | U6: 土木一式工事 | V6: 有 | W6: 国局長 | X6: 国局長の表彰 | Y6: 契約工事名 | Z6: 単体 | AA6: 監理技術者 | AB6: 本店 | AC6: ｼｮﾍﾞﾙ系掘削機(ｼｮﾍﾞﾙ) | AD6: 保有 | AE6: 第1ｸﾞﾙｰﾌﾟ | AF6: □ | AG6: 2回 | AH6: 元請 | AI6: 除雪業務 | AX6: 一般土木工事 | AY6: しゅんせつ工事 | AZ6: =AX6&AY6 -> 一般土木工事しゅんせつ工事 | BA6: 一般土木工事、維持修繕工事 | BB6: 土木一式工事、とび・土工・ｺﾝｸﾘｰﾄ工事、しゅんせつ工事 | BC6: 工事成績（過去3年間で評価）
B7: 入札公告日 | C7: 46281 | D7: ←ｙｙｙｙ/m/dで入力【重要】 | G7: 入札公告日前日 | H7: =C7-1 -> 46280 | I7: ←削除厳禁 | L7: 同種工事実績 | M7: 同種工事経験 | N7: 家畜伝染病防疫協定 | O7: 会社所在地 | P7: ３ | Q7: （２） | R7: ② | T7: アスファルト舗装工事・特殊舗装工事（旧舗装工事） | U7: とび・土工・コンクリート工事 | V7: 無 | W7: 国整備局部長 | X7: 国整備局部長の表彰 | Y7: 表彰状記載工事名 | Z7: 特別（特定）JV | AA7: 主任技術者 | AB7: 支店 | AC7: ｼｮﾍﾞﾙ系掘削機(ﾊﾞｯｸﾎｳ) | AD7: リース契約 | AE7: 第2ｸﾞﾙｰﾌﾟ | AF7: ■ | AG7: 1回 | AH7: 下請 | AI7: 散布業務 | AK7: 技術資料の提出方法の表示 | AX7: 維持修繕工事 | AY7: 土木一式工事 | AZ7: =AX7&AY7 -> 維持修繕工事土木一式工事 | BA7: 一般土木工事、維持修繕工事 | BB7: 土木一式工事、とび・土工・ｺﾝｸﾘｰﾄ工事、しゅんせつ工事 | BC7: 工事成績（過去3年間で評価）
B8: 工事種別 | C8: 造園工事 | D8: ←必須【入力結果が技術資料(企業成績評定点、技術者成績評定点）シートの対象工事欄に反映される】 | L8: 優良工事表彰 | M8: 技術者の表彰 | N8: ボランティア活動又はハートフルしまね | O8: 工場・会社所在地 | P8: ４ | Q8: （３） | R8: ③ | T8: 鋼橋上部工事 | U8: 鋼構造物工事 | W8: 国事務所長 | X8: 国事務所長の表彰 | Z8: 一般（経常）JV | AA8: 現場代理人 | AB8: 営業所 | AC8: ｼｮﾍﾞﾙ系掘削機(ﾄﾞﾗｸﾞﾗｲﾝ) | AE8: 第3ｸﾞﾙｰﾌﾟ | AG8: 0回 | AI8: 除雪・散布業務 | AK8: 未記入 | AL8: 「企業入力シート」の「押印済資料での提出」欄が未記入ですので、リストから「有」、「無」どちらかを選択してください。 | AX8: 維持修繕工事 | AY8: とび・土工・コンクリート工事 | AZ8: =AX8&AY8 -> 維持修繕工事とび・土工・コンクリート工事 | BA8: 一般土木工事、維持修繕工事 | BB8: 土木一式工事、とび・土工・ｺﾝｸﾘｰﾄ工事、しゅんせつ工事 | BC8: 工事成績（過去3年間で評価）
B9: 建設工事の種類 | C9: 造園工事 | D9: =IF(INDEX(AX3:BC31,MATCH(AY2,AZ3:AZ31,0),3)=AY2,INDEX(AX3:BC31,MATCH(AY2,AZ3:AZ31,0),6),"err") -> 工事成績（過去5年間で評価） | G9: ←エラー表示の場合、工事種別と建設工事の種類を再確認 | L9: プラント保有 | M9: 継続学習 | N9: 維持管理業務 | O9: サポート拠点 | P9: ５ | Q9: （４） | R9: ④ | T9: ﾌﾟﾚｽﾄﾚｽﾄｺﾝｸﾘｰﾄ構造物工事 | U9: 舗装工事 | W9: 知事 | X9: 知事表彰該当工事の表彰 | AA9: 担当技術者 | AC9: ｼｮﾍﾞﾙ系掘削機(ｸﾗﾑｼｪﾙ) | AK9: 無 | AL9: 本技術資料により提出します。 | AX9: アスファルト舗装工事・特殊舗装工事（旧舗装工事） | AY9: 舗装工事 | AZ9: =AX9&AY9 -> アスファルト舗装工事・特殊舗装工事（旧舗装工事）舗装工事 | BA9: アスファルト舗装工事・特殊舗装工事（旧舗装工事）、維持修繕工事 | BB9: 舗装工事 | BC9: 工事成績（過去3年間で評価）
B10: 工事名 | C10: 大社漁港海岸 農山漁村地域整備交付金（海岸環境）工事（２工区）その５ | L10: 法面機械保有 | M10: 技術者の成績 | N10: 除雪業務 | O10: - | P10: ６ | Q10: （５） | R10: ⑤ | T10: 港湾工事 | U10: しゅんせつ工事 | W10: 県課長 | X10: 県課長表彰該当工事の表彰 | AA10: 監理技術者補佐 | AC10: ｼｮﾍﾞﾙ系掘削機(ｸﾚｰﾝ) | AK10: 有 | AL10: 事前審査・証明書、又は別添押印済資料により提出しますので、本書への記載は省略します。 | AX10: 維持修繕工事 | AY10: 舗装工事 | AZ10: =AX10&AY10 -> 維持修繕工事舗装工事 | BA10: アスファルト舗装工事・特殊舗装工事（旧舗装工事）、維持修繕工事 | BB10: 舗装工事 | BC10: 工事成績（過去3年間で評価）
B11: 押印済資料有効期限 | C11: ="令和"&F11+1&"年7月31日までに入札公告された工事 " -> 令和9年7月31日までに入札公告された工事 | E11: 手引き年度 | F11: 8 | G11: =F11-1 -> 7 | H11: =G11-1 -> 6 | I11: =H11-1 -> 5 | J11: ←削除しないでください | L11: OPD制度参加登録 | M11: - | N11: 労働福祉（障がい者雇用） | P11: ７ | Q11: （６） | R11: ⑥ | T11: 機械設備工事 | U11: 機械器具設置工事 | W11: 県事務所長 | X11: 県事務所長表彰該当工事の表彰 | AC11: ｼｮﾍﾞﾙ系掘削機(ﾊﾟｲﾙﾄﾞﾗｲﾊﾞｰ) | AK11: 配置なし | AL11: 申請する場合は、「企業入力シート」の「押印済資料での提出」欄で「有」を選択してください。 | AX11: 鋼橋上部工事 | AY11: 鋼構造物工事 | AZ11: =AX11&AY11 -> 鋼橋上部工事鋼構造物工事 | BA11: 鋼橋上部工事 | BB11: 鋼構造物工事 | BC11: 工事成績（過去3年間で評価）
A12: （２）総合評価方式の評価項目、技術資料様式の番号情報 | L12: - | N12: 労働福祉（育児介護制度） | P12: ８ | R12: ⑦ | T12: 塗装工事 | U12: 塗装工事 | AC12: ﾌﾞﾙﾄﾞｰｻﾞｰ | AX12: ﾌﾟﾚｽﾄﾚｽﾄｺﾝｸﾘｰﾄ構造物工事 | AY12: 土木一式工事 | AZ12: =AX12&AY12 -> ﾌﾟﾚｽﾄﾚｽﾄｺﾝｸﾘｰﾄ構造物工事土木一式工事 | BA12: ﾌﾟﾚｽﾄﾚｽﾄｺﾝｸﾘｰﾄ構造物工事（旧ﾌﾟﾚｽﾄﾚｽﾄｺﾝｸﾘｰﾄ工事） | BB12: 土木一式工事 | BC12: 工事成績（過去3年間で評価）
B13: １．【表２】C列に発注工事の評価項目を入力してください（プルダウンリストから選択） | N13: 育児介護チェック表 | P13: ９ | R13: ⑧ | T13: 造園工事 | U13: 造園工事 | AC13: ﾄﾗｸﾀｰｼｮﾍﾞﾙ | AX13: 港湾工事 | AY13: 土木一式工事 | AZ13: =AX13&AY13 -> 港湾工事土木一式工事 | BA13: 港湾工事 | BB13: 土木一式工事、しゅんせつ工事 | BC13: 工事成績（過去3年間で評価）
B14: （特殊な評価項目でプルダウンリストに項目がない場合は、【表３】で項目を追加してください） | N14: 労働福祉（若手技術者雇用） | P14: １０ | R14: ⑨ | T14: さく井工事 | U14: さく井工事 | AC14: ﾓｰﾀｰｸﾞﾚｰﾀﾞｰ | AX14: 港湾工事 | AY14: しゅんせつ工事 | AZ14: =AX14&AY14 -> 港湾工事しゅんせつ工事 | BA14: 港湾工事 | BB14: 土木一式工事、しゅんせつ工事 | BC14: 工事成績（過去3年間で評価）
B15: ２．【表２】E～G列に様式番号と評価項目の番号をプルダウンリストで選択してください。 | N15: 登録基幹技能者 | P15: １１ | R15: ⑩ | T15: 法面処理工事 | U15: 電気工事 | AC15: 移動式ｸﾚｰﾝ | AX15: 機械設備工事 | AY15: 機械器具設置工事 | AZ15: =AX15&AY15 -> 機械設備工事機械器具設置工事 | BA15: 機械設備工事 | BB15: 機械器具設置工事、鋼構造物工事 | BC15: 工事成績（過去5年間で評価）
B16: （様式番号は表紙が1になるため、2から始まります。評価項目の番号は、入札説明書に記載する見出し番号とあわせてください） | N16: 若手・中堅技術者配置 | P16: １２ | T16: 維持修繕工事 | U16: 管工事 | AC16: 大型ﾀﾞﾝﾌﾟ車 | AX16: 機械設備工事 | AY16: 鋼構造物工事 | AZ16: =AX16&AY16 -> 機械設備工事鋼構造物工事 | BA16: 機械設備工事 | BB16: 機械器具設置工事、鋼構造物工事 | BC16: 工事成績（過去5年間で評価）
B17: ３．地域条件を設定する評価項目は、【表２】D列で【地域設定】を選択してください | N17: 若手技術者・若手従業員の新規雇用 | P17: １３ | T17: グラウト工事 | U17: 水道施設工事 | AX17: 塗装工事 | AY17: 塗装工事 | AZ17: =AX17&AY17 -> 塗装工事塗装工事 | BA17: 塗装工事、維持修繕工事 | BB17: 塗装工事 | BC17: 工事成績（過去5年間で評価）
B18: 【表２】 | F18: 様式番号 | G18: 評価項目（１）－①（例） | N18: 建設機械保有状況 | P18: １４ | T18: 管工事 | U18: 消防施設工事 | AX18: 維持修繕工事 | AY18: 塗装工事 | AZ18: =AX18&AY18 -> 維持修繕工事塗装工事 | BA18: 塗装工事、維持修繕工事 | BB18: 塗装工事 | BC18: 工事成績（過去5年間で評価）
B19: 区分 | C19: 評価項目 | D19: 地域設定 | E19: 様式－○ | F19: 評価項目○－○ | H19: ↓押印済資料提出状況【削除厳禁】 | N19: 消防団協力事業所 | P19: １５ | T19: 電気工事 | U19: 電気通信工事 | AX19: 造園工事 | AY19: 造園工事 | AZ19: =AX19&AY19 -> 造園工事造園工事 | BA19: 造園工事 | BB19: 造園工事 | BC19: 工事成績（過去5年間で評価）
B20: 企業 | C20: 工事成績 | E20: ２ | F20: （１） | G20: ① | H20: =IF(企業入力シート!B45="","未記入",企業入力シート!B45) -> 未記入 | N20: 応急危険度判定士 | P20: １６ | T20: 通信設備工事 | AX20: さく井工事 | AY20: さく井工事 | AZ20: =AX20&AY20 -> さく井工事さく井工事 | BA20: さく井工事 | BB20: さく井工事 | BC20: 工事成績（過去5年間で評価）
B21: 企業 | C21: 同種工事実績 | E21: ３ | F21: （１） | G21: ② | H21: =IF(企業入力シート!B46="","未記入",企業入力シート!B46) -> 未記入 | N21: CCUSの活用 | P21: １７ | AX21: 法面処理工事 | AY21: とび・土工・コンクリート工事 | AZ21: =AX21&AY21 -> 法面処理工事とび・土工・コンクリート工事 | BA21: 法面処理工事 | BB21: とび・土工・コンクリート工事 | BC21: 工事成績（過去3年間で評価）
B22: 企業 | F22: （１） | G22: ③ | H22: =IF(企業入力シート!B47="","未記入",企業入力シート!B47) -> 未記入 | N22: ＩＣＴ活用工事施工実績 | P22: １８ | AX22: 電気工事 | AY22: 電気工事 | AZ22: =AX22&AY22 -> 電気工事電気工事 | BA22: 電気工事、維持修繕工事 | BB22: 電気工事 | BC22: 工事成績（過去5年間で評価）
B23: 企業 | F23: （１） | G23: ④ | H23: =IF(企業入力シート!B48="","未記入",企業入力シート!B48) -> 未記入 | N23: 災害復旧工事受注実績 | P23: １９ | AX23: 電気工事 | AY23: 消防施設工事 | AZ23: =AX23&AY23 -> 電気工事消防施設工事 | BA23: 電気工事、維持修繕工事 | BB23: 電気工事 | BC23: 工事成績（過去5年間で評価）
B24: 企業 | H24: =IF(企業入力シート!B49="","未記入",企業入力シート!B49) -> 未記入 | N24: 海上援助活動 | P24: ２０ | AX24: 維持修繕工事 | AY24: 電気工事 | AZ24: =AX24&AY24 -> 維持修繕工事電気工事 | BA24: 電気工事、維持修繕工事 | BB24: 電気工事 | BC24: 工事成績（過去5年間で評価）
B25: 配置予定技術者 | C25: 保有資格 | E25: ４ | F25: （２） | G25: ① | H25: =IF(企業入力シート!$C$18="","配置なし",IF(企業入力シート!B66="","未記入",企業入力シート!B66)) -> 配置なし | I25: =IF(企業入力シート!$C$19="","配置なし",IF(企業入力シート!B73="","未記入",企業入力シート!B73)) -> 配置なし | J25: =IF(企業入力シート!$C$20="","配置なし",IF(企業入力シート!B80="","未記入",企業入力シート!B80)) -> 配置なし | N25: 橋梁維持修繕工事実績 | AX25: グラウト工事 | AY25: 土木一式工事 | AZ25: =AX25&AY25 -> グラウト工事土木一式工事 | BA25: グラウト工事 | BB25: 土木一式工事、とび・土工・ｺﾝｸﾘｰﾄ工事 | BC25: 工事成績（過去5年間で評価）
B26: 配置予定技術者 | C26: 同種工事経験 | E26: ５ | F26: （２） | G26: ② | H26: =IF(企業入力シート!$C$18="","配置なし",IF(企業入力シート!B67="","未記入",企業入力シート!B67)) -> 配置なし | I26: =IF(企業入力シート!$C$19="","配置なし",IF(企業入力シート!B74="","未記入",企業入力シート!B74)) -> 配置なし | J26: =IF(企業入力シート!$C$20="","配置なし",IF(企業入力シート!B81="","未記入",企業入力シート!B81)) -> 配置なし | N26: BCP認定状況 | AX26: グラウト工事 | AY26: とび・土工・コンクリート工事 | AZ26: =AX26&AY26 -> グラウト工事とび・土工・コンクリート工事 | BA26: グラウト工事 | BB26: 土木一式工事、とび・土工・ｺﾝｸﾘｰﾄ工事 | BC26: 工事成績（過去5年間で評価）
B27: 配置予定技術者 | C27: 継続学習 | E27: ６ | F27: （２） | G27: ③ | H27: =IF(企業入力シート!$C$18="","配置なし",IF(企業入力シート!B68="","未記入",企業入力シート!B68)) -> 配置なし | I27: =IF(企業入力シート!$C$19="","配置なし",IF(企業入力シート!B75="","未記入",企業入力シート!B75)) -> 配置なし | J27: =IF(企業入力シート!$C$20="","配置なし",IF(企業入力シート!B82="","未記入",企業入力シート!B82)) -> 配置なし | N27: - | AX27: 管工事 | AY27: 管工事 | AZ27: =AX27&AY27 -> 管工事管工事 | BA27: 管工事 | BB27: 管工事、水道施設工事 | BC27: 工事成績（過去5年間で評価）
B28: 配置予定技術者 | F28: （２） | G28: ④ | H28: =IF(企業入力シート!$C$18="","配置なし",IF(企業入力シート!B69="","未記入",企業入力シート!B69)) -> 配置なし | I28: =IF(企業入力シート!$C$19="","配置なし",IF(企業入力シート!B76="","未記入",企業入力シート!B76)) -> 配置なし | J28: =IF(企業入力シート!$C$20="","配置なし",IF(企業入力シート!B83="","未記入",企業入力シート!B83)) -> 配置なし | N28: - | AX28: 管工事 | AY28: 水道施設工事 | AZ28: =AX28&AY28 -> 管工事水道施設工事 | BA28: 管工事 | BB28: 管工事、水道施設工事 | BC28: 工事成績（過去5年間で評価）
B29: 地域貢献・その他 | C29: 家畜伝染病防疫協定 | E29: ７ | F29: （３） | G29: ① | H29: =IF(企業入力シート!B53="","未記入",企業入力シート!B53) -> 未記入 | AX29: 通信設備工事 | AY29: 電気通信工事 | AZ29: =AX29&AY29 -> 通信設備工事電気通信工事 | BA29: 通信設備工事 | BB29: 電気通信工事 | BC29: 工事成績（過去5年間で評価）
B30: 地域貢献・その他 | C30: 維持管理業務 | E30: ８ | F30: （３） | G30: ② | H30: =IF(企業入力シート!B54="","未記入",企業入力シート!B54) -> 未記入 | AX30: 一般土木工事 | AY30: 鋼構造物工事 | AZ30: =AX30&AY30 -> 一般土木工事鋼構造物工事 | BC30: 評価対象工事は、個別判断
B31: 地域貢献・その他 | C31: ボランティア活動又はハートフルしまね | E31: ９ | F31: （３） | G31: ③ | H31: =IF(企業入力シート!B55="","未記入",企業入力シート!B55) -> 未記入 | AX31: 維持修繕工事 | AY31: 鋼構造物工事 | AZ31: =AX31&AY31 -> 維持修繕工事鋼構造物工事 | BC31: 評価対象工事は、個別判断
B32: 地域貢献・その他 | C32: 労働福祉（障がい者雇用） | E32: １０ | F32: （３） | G32: ④ | H32: =IF(企業入力シート!B56="","未記入",企業入力シート!B56) -> 未記入
B33: 地域貢献・その他 | C33: 労働福祉（育児介護制度） | E33: １１ | F33: （３） | G33: ⑤ | H33: =IF(企業入力シート!B57="","未記入",企業入力シート!B57) -> 未記入
B34: 地域貢献・その他 | C34: 育児介護チェック表 | E34: １２ | F34: （３） | G34: ⑥ | H34: =IF(企業入力シート!B58="","未記入",企業入力シート!B58) -> 未記入
B35: 地域貢献・その他 | C35: 若手技術者・若手従業員の新規雇用 | E35: １３ | F35: （３） | G35: ⑦ | H35: =IF(企業入力シート!B59="","未記入",企業入力シート!B59) -> 未記入 | L35: 【表４】表紙記載文リスト
B36: 地域貢献・その他 | C36: CCUSの活用 | E36: １４ | F36: （３） | G36: ⑧ | H36: =IF(企業入力シート!B60="","未記入",企業入力シート!B60) -> 未記入 | L36: 【表４】を編集すると技術資料（表紙）「2 提出書類（必要な項目について）」で記載する様式の名称変更ができます。
B37: 地域貢献・その他 | H37: =IF(企業入力シート!B61="","未記入",企業入力シート!B61) -> 未記入 | L37: （【隠岐】企業の法面機械保有は、機械名が○○になっていますので、必ず編集が必要です。）
B38: 地域貢献・その他 | H38: =IF(企業入力シート!B62="","未記入",企業入力シート!B62) -> 未記入 | L38: 【表４】
B39: 地理的条件 | F39: （１） | G39: ④ | L39: ↓【重要】表２のD列で項目を記載したもの以外は、エラー表示される【編集厳禁】
B40: 地理的条件 | L40: 様式番号 | M40: 区分 | N40: 評価項目名 | O40: 表紙記載文
...

Sheet 企業入力シート
A1: 1.企業情報
A2: 表のC列（赤枠内）に企業情報を入力してください。入力した情報は、各種様式に反映されます。
B3: 項目名 | C3: 企業情報記入欄
A4: 1 | B4: 提出日 | C4: 2026/ / | D4: ←ｙｙｙｙ/m/dで入力
A5: 2
A6: 3 | B6: 住所
A7: 4 | B7: 商号又は名称 | C7: ○○建設
A8: 5 | B8: 代表者 | C8: ○○ ○○
A9: 6 | B9: 担当者
A10: 7 | B10: 部署
A11: 8 | B11: 電話番号
A12: 9 | B12: ＦＡＸ番号
A13: 10 | B13: Ｅ－mail
A15: 2.配置予定技術者の氏名
A16: 表のC・D列（赤枠内）に配置予定技術者情報を入力してください。入力した情報は、各種様式に反映されます。
B17: 配置予定技術者 | C17: 氏名記入欄 | D17: 生年月日
A18: 1 | B18: 配置予定技術者① | E18: ←ｙｙｙｙ/m/dで入力
A19: 2 | B19: 配置予定技術者② | E19: ←ｙｙｙｙ/m/dで入力
A20: 3 | B20: 配置予定技術者③ | E20: ←ｙｙｙｙ/m/dで入力
B21: ※監理技術者補佐は除く。
A23: 3.事前審査・証明書による申請
A24: 事前審査・証明書で提出する評価項目がある場合、該当するものに「○」を入力してください。事前審査・証明書で提出する項目については、技術資料及び添付資料を提出する必要はありません。
A25: 下欄の入力内容は「表紙」シートに反映されます。
A26: =COUNTA(B27:B36) -> 0 | B26: 証明書での提出 | C26: 項目 | K26: ○
A27: =COUNTA(B27) -> 0 | C27: 【土木一式】企業の工事成績評定点（県）
A28: =COUNTA($B$27:B28) -> 0 | C28: 【舗装】企業の工事成績評定点（県）
A29: =COUNTA($B$27:B29) -> 0 | C29: 【法面】企業の工事成績評定点（県）
A30: =COUNTA($B$27:B30) -> 0 | C30: 【港湾】企業の工事成績評定点（県）
A31: =COUNTA($B$27:B31) -> 0 | C31: 防災協定の締結実績
A32: =COUNTA($B$27:B32) -> 0 | C32: 家畜伝染病防疫協定の締結実績
A33: =COUNTA($B$27:B33) -> 0 | C33: ボランティア活動又はハートフルしまねへの参加実績
A34: =COUNTA($B$27:B34) -> 0 | C34: 維持管理業務等の契約実績（県）
A35: =COUNTA($B$27:B35) -> 0 | C35: 除雪業務の契約実績（県）
A36: =COUNTA($B$27:B36) -> 0 | C36: 労働福祉関連（育児介護・こっころ）
A38: 4.押印済資料で提出する評価項目
A39: 発注者収受印欄に押印した技術資料の写し（以下「押印済資料」という。）で技術資料を提出する評価項目がある場合は、表のB列（赤枠）に「有」を、ない場合は「無」を選択してください。
A41: 「有」を選択した評価項目は、このファイルで技術資料を作成する必要はありません。押印済資料のみ提出してください。
A43: ＜企業＞
B44: 押印済資料での提出 | C44: 様式名
C45: =INDEX(発注者入力シート!$L$41:$T$48,MATCH(発注者入力シート!C20,発注者入力シート!$N$41:$N$48,0),4) -> ○企業の工事成績評定点 （様式-２-１、様式-２-２）
...

Sheet ファイル使用上の注意事項
A1: 技術資料作成用エクセル形式の電子ファイル使用上の注意事項
A3: ○技術資料【PDF形式】と参考資料【本エクセル形式】の位置づけについて
A4: (1) | B4: 本エクセル形式で作成したデータをPDF形式に変換したものを「技術資料」として、提出しなければなりません。 （提出：必須）
A6: (2) | B6: 本エクセル形式は、発注者が技術資料の審査を行う際に「参考資料」として使用しますので、提出の協力をお願いします。 本エクセル形式のみの提出をもって、技術資料を提出したことにはなりませんので、ご注意ください。
A11: ○エクセル形式使用時及び技術資料提出時の注意事項について
A12: (1) | B12: 行高・列幅不足により文字切れや「＃＃＃＃」表示で出力されていないか、提出する前に必ず印刷物で確認してください。
A14: (2) | B14: 文字切れや「＃＃＃＃」表示になっている場合、行高・列幅を広げる、文字を縮小して表示させるなど調整してください。
A16: (3) | B16: 発注者専用シート（シート名が赤色シート）には触れないでください。
A17: (4) | B17: 記入しない様式があっても、シートは絶対に削除しないでください。
A18: (5) | B18: 各様式の企業直接入力欄（青色着色セル）に記入する際、結合されたセルは絶対に解除しないでください。
A20: (6) | B20: 技術資料様式は、「ページ設定」で「白黒印刷」と「印刷範囲」を設定していますので、画面表示の着色セルも白色で印刷されます。
A23: ○数式に不具合があった場合の対応について
A24: (1) | B24: 本エクセル形式に設定されている数式に不具合があり、正しく表示されない場合がありましたら、直接セルに正しいものを記入してください。
A27: ○技術資料の審査について
A28: (1) | B28: 発注者は、技術資料【PDF形式】に記載された内容により審査しますので、提出書類に記載漏れ、添付漏れ、文字切れ等の不備がないか必ず確認してください。
A31: ○本エクセル形式のシート名着色の区分について
A32: シート名着色の区分は次のとおりです
B33: ：発注者専用シート（企業は入力厳禁です！！）
B34: ：企業専用シート（企業入力シート（申請企業の基本情報を入力）、質問書など）
B36: ：技術資料様式の表紙シート、ファイル使用上の注意事項シート
B37: ：「企業の評価」様式シート
B38: ：「配置予定技術者」様式シート
B39: ：「地域貢献・その他の評価」様式シート
B40: ：「地理的条件の評価」様式シート
A42: ○技術資料様式の凡例について
A43: 技術資料様式のセルの着色の凡例は次のとおりです
A44: 着色セルの凡例
A45: （企業）
B46: ：「企業入力シート」で入力した情報が表示される箇所（数式でリンク有）
B47: ：セルに直接入力が必要な箇所
A49: （発注者）
B50: ：「発注者入力シート」や他のシートで入力した情報が表示される箇所（数式でリンク有）
B51: ：セルに直接入力が必要な箇所
A53: （企業・発注者共通事項）
B54: ：同じシート内で入力した情報が表示される箇所（数式でリンク有）

Sheet 発注者設定内容確認シート
A1: 入札公告日： | E1: =発注者入力シート!C7 -> 46281
A2: 工事名： | E2: =発注者入力シート!C10 -> 大社漁港海岸 農山漁村地域整備交付金（海岸環境）工事（２工区）その５
A3: 不要な項目は、非表示にしてください（行の削除厳禁）
A4: 発注者入力シートで選択していない項目は、エラー表示になります
A5: 評価項目番号 | D5: 区分 | E5: 評価項目 | F5: 評価対象事項 | G5: 評価基準（様式記載内容）
A6: =INDEX(発注者入力シート!$B$20:$G$24,MATCH(発注者入力シート!L6,発注者入力シート!$C$20:$C$24,0),5) -> （１） | B6: - | C6: =INDEX(発注者入力シート!$B$20:$G$24,MATCH(発注者入力シート!L6,発注者入力シート!$C$20:$C$24,0),6) -> ① | D6: 企業 | E6: 工事成績(3年用) | F6: 完成年度 | G6: =IF(#REF!="","",#REF!) -> #REF!
A7: =A6 -> （１） | B7: - | C7: =C6 -> ① | F7: 発注機関 | G7: =IF(#REF!="","",#REF!) -> #REF!
A8: =A6 -> （１） | B8: - | C8: =C6 -> ① | F8: 工事種別 | G8: =IF(#REF!="","",#REF!) -> #REF!
A9: =A6 -> （１） | B9: - | C9: =C6 -> ① | F9: 建設工事の種類 | G9: =IF(#REF!="","",#REF!) -> #REF!
A10: =INDEX(発注者入力シート!$B$20:$G$24,MATCH(発注者入力シート!L6,発注者入力シート!$C$20:$C$24,0),5) -> （１） | B10: - | C10: =INDEX(発注者入力シート!$B$20:$G$24,MATCH(発注者入力シート!L6,発注者入力シート!$C$20:$C$24,0),6) -> ① | D10: 企業 | E10: 工事成績(5年用) | F10: 完成年度 | G10: =IF('企業成績評定点 (5年用)'!D7="","",'企業成績評定点 (5年用)'!D7) -> 令和3年度から令和7年度（完成及び引き渡しが完了）
A11: =A10 -> （１） | B11: - | C11: =C10 -> ① | F11: 発注機関 | G11: =IF('企業成績評定点 (5年用)'!D8="","",'企業成績評定点 (5年用)'!D8) -> 島根県（総務部、農林水産部、土木部）
A12: =A10 -> （１） | B12: - | C12: =C10 -> ① | F12: 工事種別 | G12: =IF('企業成績評定点 (5年用)'!D9="","",'企業成績評定点 (5年用)'!D9) -> 造園工事
A13: =A10 -> （１） | B13: - | C13: =C10 -> ① | F13: 建設工事の種類 | G13: =IF('企業成績評定点 (5年用)'!D10="","",'企業成績評定点 (5年用)'!D10) -> 造園工事
A14: =INDEX(発注者入力シート!$B$20:$G$24,MATCH(発注者入力シート!L7,発注者入力シート!$C$20:$C$24,0),5) -> （１） | B14: - | C14: =INDEX(発注者入力シート!$B$20:$G$24,MATCH(発注者入力シート!L7,発注者入力シート!$C$20:$C$24,0),6) -> ② | D14: 企業 | E14: =発注者入力シート!L7 -> 同種工事実績 | F14: 対象年度・機関等 | G14: =IF(同種工事施工実績!F6="","",同種工事施工実績!F6) -> 平成２８年度から入札公告日前日までに完成及び引き渡しが完了した島根県発注工事
A15: =A14 -> （１） | B15: - | C15: =C14 -> ② | F15: 同種工事 | G15: =IF(同種工事施工実績!F10="","",同種工事施工実績!F10) -> １契約で２，０００万円（税込）以上で植栽工（維持管理工事を除く）を含む完成及び引き渡しが完了した工事
A16: =A15 -> （１） | B16: - | C16: =C15 -> ② | F16: 工事種別 | G16: =IF(同種工事施工実績!F8="","",同種工事施工実績!F8) -> 造園工事
A17: =A16 -> （１） | B17: - | C17: =C16 -> ② | F17: 建設工事の種類 | G17: =IF(同種工事施工実績!F9="","",同種工事施工実績!F9) -> 造園工事
A18: =INDEX(発注者入力シート!$B$20:$G$24,MATCH(発注者入力シート!L8,発注者入力シート!$C$20:$C$24,0),5) -> #N/A | B18: - | C18: =INDEX(発注者入力シート!$B$20:$G$24,MATCH(発注者入力シート!L8,発注者入力シート!$C$20:$C$24,0),6) -> #N/A | D18: 企業 | E18: =発注者入力シート!L8 -> 優良工事表彰 | F18: 対象年度・機関等 | G18: =IF(#REF!="","",#REF!) -> #REF!
A19: =A18 -> #N/A | B19: - | C19: =C18 -> #N/A | F19: 工事種別 | G19: =IF(#REF!="","",#REF!) -> #REF!
A20: =A19 -> #N/A | B20: - | C20: =C19 -> #N/A | F20: 建設工事の種類 | G20: =IF(#REF!="","",#REF!) -> #REF!
A21: =INDEX(発注者入力シート!$B$20:$G$24,MATCH(発注者入力シート!L9,発注者入力シート!$C$20:$C$24,0),5) -> #N/A | B21: - | C21: =INDEX(発注者入力シート!$B$20:$G$24,MATCH(発注者入力シート!L9,発注者入力シート!$C$20:$C$24,0),6) -> #N/A | D21: 企業 | E21: =発注者入力シート!L9 -> プラント保有 | F21: 対象 | G21: =IF(#REF!="","",#REF!) -> #REF!
A22: =INDEX(発注者入力シート!$B$20:$G$24,MATCH(発注者入力シート!L10,発注者入力シート!$C$20:$C$24,0),5) -> #N/A | B22: - | C22: =INDEX(発注者入力シート!$B$20:$G$24,MATCH(発注者入力シート!L10,発注者入力シート!$C$20:$C$24,0),6) -> #N/A | D22: 企業 | E22: =発注者入力シート!L10 -> 法面機械保有 | F22: 対象 | G22: =IF(#REF!="","",#REF!) -> #REF!
A23: =INDEX(発注者入力シート!$B$25:$G$28,MATCH(発注者入力シート!M9,発注者入力シート!$C$25:$C$28,0),5) -> （２） | B23: - | C23: =INDEX(発注者入力シート!$B$25:$G$28,MATCH(発注者入力シート!M9,発注者入力シート!$C$25:$C$28,0),6) -> ③ | D23: 配置予定技術者 | E23: 継続学習
A24: =INDEX(発注者入力シート!$B$25:$G$28,MATCH(発注者入力シート!M6,発注者入力シート!$C$25:$C$28,0),5) -> （２） | B24: - | C24: =INDEX(発注者入力シート!$B$25:$G$28,MATCH(発注者入力シート!M6,発注者入力シート!$C$25:$C$28,0),6) -> ① | D24: 配置予定技術者 | E24: 資格 | F24: 対象資格 | G24: =IF(技術者資格!B9="","",技術者資格!B9) -> １級又は２級造園施工管理技士
A25: =INDEX(発注者入力シート!$B$25:$G$28,MATCH(発注者入力シート!M7,発注者入力シート!$C$25:$C$28,0),5) -> （２） | B25: - | C25: =INDEX(発注者入力シート!$B$25:$G$28,MATCH(発注者入力シート!M7,発注者入力シート!$C$25:$C$28,0),6) -> ② | D25: 配置予定技術者 | E25: 施工経験 | F25: 対象年度・機関等 | G25: =IF(同種工事施工経験!F6="","",同種工事施工経験!F6) -> 平成２８年度から入札公告日前日までに完成及び引き渡しが完了した島根県発注工事
A26: =A25 -> （２） | B26: - | C26: =C25 -> ② | F26: 同種工事 | G26: =IF(同種工事施工経験!F8="","",同種工事施工経験!F8) -> １契約で１，０００万円（税込）以上で植栽工（維持管理工事を除く）を含む完成及び引き渡しが完了した工事
A27: =A26 -> （２） | B27: - | C27: =C26 -> ② | F27: 工事種別 | G27: =IF(同種工事施工経験!F11="","",同種工事施工経験!F11) -> 造園工事
A28: =A27 -> （２） | B28: - | C28: =C27 -> ② | F28: 建設工事の種類 | G28: =IF(同種工事施工経験!F12="","",同種工事施工経験!F12) -> 造園工事
A29: =INDEX(発注者入力シート!$B$25:$G$28,MATCH(発注者入力シート!M8,発注者入力シート!$C$25:$C$28,0),5) -> #N/A | B29: - | C29: =INDEX(発注者入力シート!$B$25:$G$28,MATCH(発注者入力シート!M8,発注者入力シート!$C$25:$C$28,0),6) -> #N/A | D29: 配置予定技術者 | E29: 優秀建設技術者表彰 | F29: 対象年度・機関等 | G29: =IF(#REF!="","",#REF!) -> #REF!
A30: =A29 -> #N/A | B30: - | C30: =C29 -> #N/A | F30: 工事種別 | G30: =IF(#REF!="","",#REF!) -> #REF!
A31: =A30 -> #N/A | B31: - | C31: =C30 -> #N/A | F31: 建設工事の種類 | G31: =IF(#REF!="","",#REF!) -> #REF!
A32: =INDEX(発注者入力シート!$B$25:$G$28,MATCH(発注者入力シート!M10,発注者入力シート!$C$25:$C$28,0),5) -> #N/A | B32: - | C32: =INDEX(発注者入力シート!$B$25:$G$28,MATCH(発注者入力シート!M10,発注者入力シート!$C$25:$C$28,0),6) -> #N/A | D32: 配置予定技術者 | E32: 配置予定技術者の工事成績評定点 | F32: 完成年度 | G32: =IF(#REF!="","",#REF!) -> #REF!
A33: =A32 -> #N/A | B33: - | C33: =C32 -> #N/A | F33: 発注機関 | G33: =IF(#REF!="","",#REF!) -> #REF!
A34: =A32 -> #N/A | B34: - | C34: =C32 -> #N/A | F34: 工事種別 | G34: =IF(#REF!="","",#REF!) -> #REF!
A35: =A32 -> #N/A | B35: - | C35: =C32 -> #N/A | F35: 建設工事の種類 | G35: =IF(#REF!="","",#REF!) -> #REF!
A36: =INDEX(発注者入力シート!$B$29:$G$38,MATCH(発注者入力シート!N6,発注者入力シート!$C$29:$C$38,0),5) -> #N/A | B36: - | C36: =INDEX(発注者入力シート!$B$29:$G$38,MATCH(発注者入力シート!N6,発注者入力シート!$C$29:$C$38,0),6) -> #N/A | D36: 地域貢献・その他 | E36: 防災協定 | F36: 対象 | G36: =IF(防災協定・家畜伝染病防疫協定!T15=1,防災協定・家畜伝染病防疫協定!B8,"－") -> －
A37: =INDEX(発注者入力シート!$B$29:$G$38,MATCH(発注者入力シート!N7,発注者入力シート!$C$29:$C$38,0),5) -> （３） | B37: - | C37: =INDEX(発注者入力シート!$B$29:$G$38,MATCH(発注者入力シート!N7,発注者入力シート!$C$29:$C$38,0),6) -> ① | D37: 地域貢献・その他 | E37: 家畜伝染病防疫協定 | F37: 対象 | G37: =IF(防災協定・家畜伝染病防疫協定!T15=2,防災協定・家畜伝染病防疫協定!B8,"－") -> 令和6年度及び令和7年度における島根県との家畜伝染病防疫協定の締結実績
A38: =INDEX(発注者入力シート!$B$29:$G$38,MATCH(発注者入力シート!N8,発注者入力シート!$C$29:$C$38,0),5) -> （３） | B38: - | C38: =INDEX(発注者入力シート!$B$29:$G$38,MATCH(発注者入力シート!N8,発注者入力シート!$C$29:$C$38,0),6) -> ③ | D38: 地域貢献・その他 | E38: ボランティア | F38: 対象 | G38: =IF(ボランティア!B6="","",ボランティア!B6) -> 令和6年度及び令和7年度のボランティア活動又はハートフルしまねへの参加実績
A39: =A38 -> （３） | B39: - | C39: =C38 -> ③ | F39: 評価対象地域 | G39: =IF(ボランティア!D8="","",ボランティア!D8) -> 島根県内
A40: =INDEX(発注者入力シート!$B$29:$G$38,MATCH(発注者入力シート!N9,発注者入力シート!$C$29:$C$38,0),5) -> （３） | B40: - | C40: =INDEX(発注者入力シート!$B$29:$G$38,MATCH(発注者入力シート!N9,発注者入力シート!$C$29:$C$38,0),6) -> ② | D40: 地域貢献・その他 | E40: 維持管理業務 | F40: 対象 | G40: =IF(維持管理業務!B7="","",維持管理業務!B7) -> 令和6年度及び令和7年度の県管理公共土木施設に関する維持管理業務または海岸漂着物の回収業務の契約実績
...

Sheet 発注者審査作業用シート（提案以外）
A1: このシートは、「技術審査用ファイル」の「作業用シート」に一括コピー作業を行うためのものです
A2: ＜シートの説明＞
B3: ・「技術審査用ファイル」の「作業用シート」へ一括コピーするため、「コピー専用表」をこのシートに設定しています。
B4: ・コピーする範囲は、「コピー専用表」の薄オレンジ部分（評価項目：１９～２５行）と白色部分（企業申請内容：２６行～３３行）です。
B5: ・文字切れやフォントサイズの修正は、「技術審査用ファイル」で行いますので、このシートでは作業不要です。
B6: ・「コピー専用表」は、「技術審査用ファイル」の「技術審査用シート」で見えやすいように概ね書式調整しています。「技術審査用シート」で見えにくいときのみ、コピー専用表の書式を修正してください。
A7: ＜作業手順＞・・・・以下の作業は、必ず別ファイルとして公告用ファイルを作成し、公告用ファイルで作業してください（１回シートや列を削除すると元の状態に戻せなくなります）。
A8: 準備作業： | B8: 不要な評価項目の列全体をこのシートから削除。不要な様式も削除してください。
B9: 評価項目の列全体を削除する際、コピー先の配列（「技術審査用ファイル」）に合わせておく必要があります（「技術審査用ファイル」の自動集計に支障が生じるため）。
B10: 予備欄等を活用して配列を合わせてください。
B11: 「技術審査用ファイル」の固定配列（※１項目３列で設定してあります）
B12: 企業：４項目、配置予定技術者①：４項目、配置予定技術者②：４項目、配置予定技術者③：４項目、地域貢献・その他：7項目、地理的条件：２項目
A13: 手順①： | B13: 「コピー専用表」の薄オレンジ部分全体を指定しコピー後、「技術審査用ファイル」の「作業用シート」の「貼り付け箇所A」に、貼り付けオプションの「値」で貼り付け。
A14: 手順②： | B14: 手順①の後、同じ場所（貼り付け箇所A）に貼り付けオプションの「書式設定」で貼り付けると、コピー専用行で設定された書式でコピー可能。
A15: 手順③： | B15: 手順①、手順②の方法により、「コピー専用表」の白色部分全体を「技術審査用ファイル」の「作業用シート」の「貼り付け箇所B」に貼り付け。
A17: 以下、審査用ファイルの「作業用」シートへの「コピー専用表」 | I17: 審査用ファイルコピー先の列数と合わせるため削除× | U17: 審査用ファイルコピー先の列数と合わせるため削除× | AG17: 審査用ファイルコピー先の列数と合わせるため削除× | AS17: 審査用ファイルコピー先の列数と合わせるため削除× | BN17: 審査用ファイルコピー先の列数と合わせるための列 | BQ17: 審査用ファイルコピー先の列数と合わせるための列 | BT17: 審査用ファイルコピー先の列数と合わせるための列 | BW17: 審査用ファイルコピー先の列数と合わせるための列 | BZ17: 審査用ファイルコピー先の列数と合わせるための列
B18: 行番号 | C18: =CONCATENATE("様式-",INDEX(発注者入力シート!$B$20:$G$24,MATCH(発注者入力シート!L6,発注者入力シート!$C$20:$C$24,0),4)) -> 様式-２ | F18: =CONCATENATE("様式-",INDEX(発注者入力シート!$B$20:$G$24,MATCH(発注者入力シート!L7,発注者入力シート!$C$20:$C$24,0),4)) -> 様式-３ | I18: =CONCATENATE("様式-",INDEX(発注者入力シート!$B$20:$G$24,MATCH(発注者入力シート!L13,発注者入力シート!$C$20:$C$24,0),4)) -> #N/A | L18: =CONCATENATE("様式-",INDEX(発注者入力シート!$B$25:$G$28,MATCH(発注者入力シート!M9,発注者入力シート!$C$25:$C$28,0),4)) -> 様式-６ | O18: =CONCATENATE("様式-",INDEX(発注者入力シート!$B$25:$G$28,MATCH(発注者入力シート!M6,発注者入力シート!$C$25:$C$28,0),4)) -> 様式-４ | R18: =CONCATENATE("様式-",INDEX(発注者入力シート!$B$25:$G$28,MATCH(発注者入力シート!M7,発注者入力シート!$C$25:$C$28,0),4)) -> 様式-５ | U18: =CONCATENATE("様式-",INDEX(発注者入力シート!$B$25:$G$28,MATCH(発注者入力シート!M12,発注者入力シート!$C$25:$C$28,0),4)) -> #N/A | X18: =CONCATENATE("様式-",INDEX(発注者入力シート!$B$25:$G$28,MATCH(発注者入力シート!M9,発注者入力シート!$C$25:$C$28,0),4)) -> 様式-６ | AA18: =CONCATENATE("様式-",INDEX(発注者入力シート!$B$25:$G$28,MATCH(発注者入力シート!M6,発注者入力シート!$C$25:$C$28,0),4)) -> 様式-４ | AD18: =CONCATENATE("様式-",INDEX(発注者入力シート!$B$25:$G$28,MATCH(発注者入力シート!M7,発注者入力シート!$C$25:$C$28,0),4)) -> 様式-５ | AG18: =CONCATENATE("様式-",INDEX(発注者入力シート!$B$25:$G$28,MATCH(発注者入力シート!M12,発注者入力シート!$C$25:$C$28,0),4)) -> #N/A | AJ18: =CONCATENATE("様式-",INDEX(発注者入力シート!$B$25:$G$28,MATCH(発注者入力シート!M9,発注者入力シート!$C$25:$C$28,0),4)) -> 様式-６ | AM18: =CONCATENATE("様式-",INDEX(発注者入力シート!$B$25:$G$28,MATCH(発注者入力シート!M6,発注者入力シート!$C$25:$C$28,0),4)) -> 様式-４ | AP18: =CONCATENATE("様式-",INDEX(発注者入力シート!$B$25:$G$28,MATCH(発注者入力シート!M7,発注者入力シート!$C$25:$C$28,0),4)) -> 様式-５ | AS18: =CONCATENATE("様式-",INDEX(発注者入力シート!$B$25:$G$28,MATCH(発注者入力シート!M12,発注者入力シート!$C$25:$C$28,0),4)) -> #N/A | AV18: {=CONCATENATE("様式-",INDEX(発注者入力シート!$B$29:$G$38,MATCH(TRUE,(発注者入力シート!$C$29:$C$38=発注者入力シート!N6)+(発注者入力シート!$C$29:$C$38=発注者入力シート!N7)>0,0),4))} -> 様式-７ | AY18: =CONCATENATE("様式-",INDEX(発注者入力シート!$B$29:$G$38,MATCH(発注者入力シート!N8,発注者入力シート!$C$29:$C$38,0),4)) -> 様式-９ | BB18: =CONCATENATE("様式-",INDEX(発注者入力シート!$B$29:$G$38,MATCH(発注者入力シート!N9,発注者入力シート!$C$29:$C$38,0),4)) -> 様式-８ | BE18: =CONCATENATE("様式-",INDEX(発注者入力シート!$B$29:$G$38,MATCH(発注者入力シート!N12,発注者入力シート!$C$29:$C$38,0),4),"など") -> 様式-１１など | BH18: =CONCATENATE("様式-",INDEX(発注者入力シート!$B$29:$G$38,MATCH(発注者入力シート!N17,発注者入力シート!$C$29:$C$38,0),4)) -> 様式-１３ | BK18: =CONCATENATE("様式-",INDEX(発注者入力シート!$B$29:$G$38,MATCH(発注者入力シート!N21,発注者入力シート!$C$29:$C$38,0),4)) -> 様式-１４
A19: コピー専用行 | B19: a0 | C19: 企業 | F19: 企業 | I19: 企業 | L19: 配置予定技術者① | O19: 配置予定技術者① | R19: 配置予定技術者① | U19: 配置予定技術者① | X19: 配置予定技術者② | AA19: 配置予定技術者② | AD19: 配置予定技術者② | AG19: 配置予定技術者② | AJ19: 配置予定技術者③ | AM19: 配置予定技術者③ | AP19: 配置予定技術者③ | AS19: 配置予定技術者③ | AV19: 地域貢献・その他 | AY19: 地域貢献・その他 | BB19: 地域貢献・その他 | BE19: 地域貢献・その他 | BH19: 地域貢献・その他 | BK19: 地域貢献・その他 | BN19: 地域貢献・その他 | BQ19: 地域貢献・その他 | BT19: 地域貢献・その他 | BW19: 地域貢献・その他 | BZ19: 地理的条件
A20: コピー専用行 | B20: a1 | C20: 工事成績評定点(5年用) | F20: 施工実績 | I20: 予備欄 | L20: 継続学習 | O20: 資格 | R20: 施工経験 | U20: 予備欄 | X20: 継続学習 | AA20: 資格 | AD20: 施工経験 | AG20: 予備欄 | AJ20: 継続学習 | AM20: 資格 | AP20: 施工経験 | AS20: 予備欄 | AV20: =AV38 -> 家畜伝染病防疫協定 | AY20: ボランティア | BB20: 維持管理 | BE20: 労働福祉関連 | BH20: 若手技術者・従業員の新規雇用 | BK20: CCUSの活用 | BN20: 予備欄 | BQ20: 予備欄 | BT20: 予備欄 | BW20: 予備欄 | BZ20: 予備欄２
A21: コピー専用行 | B21: a | C21: =C39 -> 完成年度 | D21: =D39 -> 令和3年度から令和7年度（完成及び引き渡しが完了） | E21: =E39 -> 0 | F21: =F39 -> 対象期間等 | G21: =G39 -> 平成２８年度から入札公告日前日までに完成及び引き渡しが完了した島根県発注工事 | L21: =L39 -> 配置予定の主任（監理）技術者が保有するCPDSユニット | M21: =M39 -> 0 | N21: =N39 -> 0 | O21: =O39 -> 対象資格 | P21: =P39 -> １級又は２級造園施工管理技士 | Q21: =Q39 -> 0 | R21: =R39 -> 対象年度・機関等 | S21: =S39 -> 平成２８年度から入札公告日前日までに完成及び引き渡しが完了した島根県発注工事 | X21: =X39 -> 配置予定の主任（監理）技術者が保有するCPDSユニット | Y21: =Y39 -> 0 | Z21: =Z39 -> 0 | AA21: =AA39 -> 対象資格 | AB21: =AB39 -> １級又は２級造園施工管理技士 | AC21: =AC39 -> 0 | AD21: =AD39 -> 対象年度・機関等 | AE21: =AE39 -> 平成２８年度から入札公告日前日までに完成及び引き渡しが完了した島根県発注工事 | AJ21: =AJ39 -> 配置予定の主任（監理）技術者が保有するCPDSユニット | AK21: =AK39 -> 0 | AL21: =AL39 -> 0 | AM21: =AM39 -> 対象資格 | AN21: =AN39 -> １級又は２級造園施工管理技士 | AO21: =AO39 -> 0 | AP21: =AP39 -> 対象年度・機関等 | AQ21: =AQ39 -> 平成２８年度から入札公告日前日までに完成及び引き渡しが完了した島根県発注工事 | AV21: =AV39 -> 対象 | AW21: =AW39 -> 令和6年度及び令和7年度における島根県との家畜伝染病防疫協定の締結実績 | AX21: =AX39 -> 0 | AY21: =AY39 -> 対象 | AZ21: =AZ39 -> 令和6年度及び令和7年度のボランティア活動又はハートフルしまねへの参加実績 | BB21: =BB39 -> 対象 | BC21: =BC39 -> 令和6年度及び令和7年度の県管理公共土木施設に関する維持管理業務または海岸漂着物の回収業務の契約実績 | BE21: =BE39 -> 対象 | BF21: =BF39 -> 入札公告日前日時点での取り組み状況 | BG21: =BG39 -> 0 | BH21: =BH39 -> 対象 | BI21: =BI39 -> 令和6年4月1日以降に、若手技術者・若手従業員（３０歳未満の者）の１人以上の新規雇用があること。 | BJ21: =BJ39 -> 0 | BK21: =BK39 -> 対象 | BL21: =BL39 -> 当該工事での建設キャリアアップシステム（CCUS）の活用 | BM21: =BM39 -> 0
A22: コピー専用行 | B22: b | C22: =C40 -> 発注機関 | D22: =D40 -> 島根県（総務部、農林水産部、土木部） | E22: =E40 -> 0 | F22: =F40 -> 同種工事 | G22: =G40 -> １契約で２，０００万円（税込）以上で植栽工（維持管理工事を除く）を含む完成及び引き渡しが完了した工事 | L22: =L40 -> 0 | M22: =M40 -> 0 | N22: =N40 -> 0 | O22: =O40 -> 0 | P22: =P40 -> 0 | Q22: =Q40 -> 0 | R22: =R40 -> 同種工事 | S22: =S40 -> １契約で１，０００万円（税込）以上で植栽工（維持管理工事を除く）を含む完成及び引き渡しが完了した工事 | X22: =X40 -> 0 | Y22: =Y40 -> 0 | Z22: =Z40 -> 0 | AA22: =AA40 -> 0 | AB22: =AB40 -> 0 | AC22: =AC40 -> 0 | AD22: =AD40 -> 同種工事 | AE22: =AE40 -> １契約で１，０００万円（税込）以上で植栽工（維持管理工事を除く）を含む完成及び引き渡しが完了した工事 | AJ22: =AJ40 -> 0 | AK22: =AK40 -> 0 | AL22: =AL40 -> 0 | AM22: =AM40 -> 0 | AN22: =AN40 -> 0 | AO22: =AO40 -> 0 | AP22: =AP40 -> 同種工事 | AQ22: =AQ40 -> １契約で１，０００万円（税込）以上で植栽工（維持管理工事を除く）を含む完成及び引き渡しが完了した工事 | AV22: =AV40 -> 0 | AW22: =AW40 -> 0 | AX22: =AX40 -> 0 | BE22: =BE40 -> 0 | BF22: =BF40 -> 0 | BG22: =BG40 -> 0 | BH22: =BH40 -> 0 | BI22: =BI40 -> 0 | BJ22: =BJ40 -> 0 | BK22: =BK40 -> 0 | BL22: =BL40 -> 0 | BM22: =BM40 -> 0
A23: コピー専用行 | B23: c | C23: =C41 -> 工事種別 | D23: =D41 -> 造園工事 | E23: =E41 -> 0 | F23: =F41 -> 工事種別 | G23: =G41 -> 造園工事 | L23: =L41 -> 0 | M23: =M41 -> 0 | N23: =N41 -> 0 | O23: =O41 -> 0 | P23: =P41 -> 0 | Q23: =Q41 -> 0 | R23: =R41 -> 工事種別 | S23: =S41 -> 造園工事 | X23: =X41 -> 0 | Y23: =Y41 -> 0 | Z23: =Z41 -> 0 | AA23: =AA41 -> 0 | AB23: =AB41 -> 0 | AC23: =AC41 -> 0 | AD23: =AD41 -> 工事種別 | AE23: =AE41 -> 造園工事 | AJ23: =AJ41 -> 0 | AK23: =AK41 -> 0 | AL23: =AL41 -> 0 | AM23: =AM41 -> 0 | AN23: =AN41 -> 0 | AO23: =AO41 -> 0 | AP23: =AP41 -> 工事種別 | AQ23: =AQ41 -> 造園工事 | AV23: =AV41 -> 0 | AW23: =AW41 -> 0 | AX23: =AX41 -> 0 | BE23: =BE41 -> 0 | BF23: =BF41 -> 0 | BG23: =BG41 -> 0 | BH23: =BH41 -> 0 | BI23: =BI41 -> 0 | BJ23: =BJ41 -> 0 | BK23: =BK41 -> 0 | BL23: =BL41 -> 0 | BM23: =BM41 -> 0
A24: コピー専用行 | B24: d | C24: =C42 -> 建設工事の種類 | D24: =D42 -> 造園工事 | E24: =E42 -> 0 | F24: =F42 -> 建設工事の種類 | G24: =G42 -> 造園工事 | L24: =L42 -> 0 | M24: =M42 -> 0 | N24: =N42 -> 0 | O24: =O42 -> 0 | P24: =P42 -> 0 | Q24: =Q42 -> 0 | R24: =R42 -> 建設工事の種類 | S24: =S42 -> 造園工事 | X24: =X42 -> 0 | Y24: =Y42 -> 0 | Z24: =Z42 -> 0 | AA24: =AA42 -> 0 | AB24: =AB42 -> 0 | AC24: =AC42 -> 0 | AD24: =AD42 -> 建設工事の種類 | AE24: =AE42 -> 造園工事 | AJ24: =AJ42 -> 0 | AK24: =AK42 -> 0 | AL24: =AL42 -> 0 | AM24: =AM42 -> 0 | AN24: =AN42 -> 0 | AO24: =AO42 -> 0 | AP24: =AP42 -> 建設工事の種類 | AQ24: =AQ42 -> 造園工事 | AV24: =AV42 -> 0 | AW24: =AW42 -> 0 | AX24: =AX42 -> 0 | AY24: =AY42 -> 評価地域 | AZ24: =AZ42 -> 島根県内 | BB24: =BB42 -> 評価地域 | BC24: =BC42 -> 島根県内 | BE24: =BE42 -> 0 | BF24: =BF42 -> 0 | BG24: =BG42 -> 0 | BH24: =BH42 -> 0 | BI24: =BI42 -> 0 | BJ24: =BJ42 -> 0 | BK24: =BK42 -> 0 | BL24: =BL42 -> 0 | BM24: =BM42 -> 0
A25: コピー専用行 | B25: e | C25: =C43 -> 該当件数 | D25: =D43 -> 平均点 | F25: =F43 -> 項目名 | G25: =G43 -> 工事① | H25: =H43 -> 工事② | L25: =L43 -> 項目名 | M25: =M43 -> ユニット数 | O25: =O43 -> 項目名 | P25: =P43 -> 状況 | R25: =R43 -> 項目名 | S25: =S43 -> 工事① | T25: =T43 -> 工事② | X25: =X43 -> 項目名 | Y25: =Y43 -> ユニット数 | AA25: =AA43 -> 項目名 | AB25: =AB43 -> 状況 | AD25: =AD43 -> 項目名 | AE25: =AE43 -> 工事① | AF25: =AF43 -> 工事② | AJ25: =AJ43 -> 項目名 | AK25: =AK43 -> ユニット数 | AM25: =AM43 -> 項目名 | AN25: =AN43 -> 状況 | AP25: =AP43 -> 項目名 | AQ25: =AQ43 -> 工事① | AR25: =AR43 -> 工事② | AV25: =AV43 -> 項目名 | AW25: =AW43 -> 6 | AX25: =AX43 -> 7 | AY25: =AY43 -> 項目名 | AZ25: =AZ43 -> 6 | BA25: =BA43 -> 7 | BB25: =BB43 -> 項目名 | BC25: =BC43 -> 6 | ... BF25: =BF43 -> 状況 | BH25: =BH43 -> 項目名 | BI25: =BI43 -> 雇用① | BJ25: =BJ43 -> 雇用② | BK25: =BK43 -> 項目名 | BL25: =BL43 -> 状況
A26: コピー専用行 | B26: 1 | C26: =C44 | D26: =D44 | F26: =F44 -> 工事名 | G26: =G44 -> 申請なし | H26: =H44 -> 申請なし | L26: =L44 -> 配置なし | M26: =M44 | O26: =O44 -> 配置なし | P26: =P44 | R26: =R44 -> 工事名 | S26: =S44 -> 配置なし | T26: =T44 | X26: =X44 -> 配置なし | Y26: =Y44 -> 配置なし | AA26: =AA44 -> 配置なし | AB26: =AB44 | AD26: =AD44 -> 工事名 | AE26: =AE44 -> 配置なし | AF26: =AF44 | AJ26: =AJ44 -> 配置なし | AK26: =AK44 | AM26: =AM44 -> 配置なし | AN26: =AN44 | AP26: =AP44 -> 工事名 | AQ26: =AQ44 -> 配置なし | AR26: =AR44 | AV26: =AV44 -> 協定実績 | AW26: =AW44 -> 申請なし | AX26: =AX44 -> 申請なし | AY26: =AY44 -> ボランティア活動内容 | AZ26: =AZ44 -> 申請なし | BA26: =BA44 -> 申請なし | BB26: =BB44 -> 業務名 | BC26: =BC44 -> 申請なし | BD26: =BD44 -> 申請なし | BH26: =BH44 -> 雇用の内容 | BI26: =BI44 -> 申請なし | BJ26: =BJ44 -> 申請なし | BK26: =BK44 -> 確約書の提出 | BL26: =BL44 -> 無
A27: コピー専用行 | B27: 2 | C27: =C45 | D27: =D45 | F27: =F45 -> 発注機関 | G27: =G45 | H27: =H45 | O27: =O45 | P27: =P45 | R27: =R45 -> 発注機関 | S27: =S45 | T27: =T45 | AA27: =AA45 | AB27: =AB45 | AD27: =AD45 -> 発注機関 | AE27: =AE45 | AF27: =AF45 | AM27: =AM45 | AN27: =AN45 | AP27: =AP45 -> 発注機関 | AQ27: =AQ45 | AR27: =AR45 | AY27: =AY45 | AZ27: =AZ45 | BA27: =BA45 | BE27: =BE47 -> 障がい者 | BF27: =BF47 -> 障がい者雇用数 | BG27: =BG47 -> 0 | BH27: =BH45 | BI27: =BI45 | BJ27: =BJ45
A28: コピー専用行 | B28: 3 | C28: =C46 | F28: =F48 -> 施工場所 | G28: =G48 | H28: =H48 | R28: =R46 -> 施工場所 | S28: =S46 | T28: =T46 | AD28: =AD46 -> 施工場所 | AE28: =AE46 | AF28: =AF46 | AP28: =AP46 -> 施工場所 | AQ28: =AQ46 | AR28: =AR46 | AY28: =AY47&CHAR(10)&AY48 | AZ28: =IF(OR(AZ44="",AZ44="審査済・詳細省略",AZ44="申請なし"),"","参加"&AZ47&"人"&CHAR(10)&"従業員"&AZ48&"人") | BA28: =IF(OR(企業入力シート!B33="○",BA44="",BA44="申請なし"),"","参加"&BA47&"人"&CHAR(10)&"従業員"&BA48&"人") | BF28: =BF48 -> 法定雇用義務数 | BG28: =BG48 -> 法定雇用義務なし | BH28: =BH46 | BI28: =BI46 | BJ28: =BJ46
A29: コピー専用行 | B29: 4 | F29: =F49 -> 請負金額 | G29: =G49 | H29: =H49 | R29: =R47 -> 請負金額 | S29: =S47 | T29: =T47 | AD29: =AD47 -> 請負金額 | AE29: =AE47 | AF29: =AF47 | AP29: =AP47 -> 請負金額 | AQ29: =AQ47 | AR29: =AR47 | AY29: =AY46 | AZ29: =AZ46 | BA29: =BA46 | BB29: =BB45 -> 発注機関 | BC29: =BC45 | BD29: =BD45 | BE29: =BE50 -> 育児介護 | BF29: =IF(企業入力シート!B36="○","事前審査・証明書提出：取組有",IF(BG34="有","押印済資料提出：取組有",IF(AND(BG50="",BG51=""),"申請なし",IF(BG50="有",BF50,IF(BG51="有",BF51,"無"))))) -> 申請なし
A30: コピー専用行 | B30: 5 | F30: 工期 | G30: =G50&CHAR(10)&G51 | H30: =H50&CHAR(10)&H51 | R30: 工期（従事期間） | S30: =S48&CHAR(10)&"("&S49&")" -> () | T30: =T48&CHAR(10)&"("&T49&")" -> () | AD30: 工期（従事期間） | AE30: =AE48&CHAR(10)&"("&AE49&")" -> () | AF30: =AF48&CHAR(10)&"("&AF49&")" -> () | AP30: 工期（従事期間） | AQ30: =AQ48&CHAR(10)&"("&AQ49&")" -> () | AR30: =AR48&CHAR(10)&"("&AR49&")" -> () | AY30: =AY49 -> ﾊｰﾄﾌﾙ活動 | AZ30: =AZ49 -> 申請なし | BA30: =BA49 -> 申請なし | BB30: =BB46 -> 委託月数 | BC30: =BC46 -> 0 | BD30: =BD46 -> 0 | BF30: =IF(BG51="有",BF52,"") | BG30: =IF(BG51="有",BG52,"")
A31: コピー専用行 | B31: 6 | F31: 施工規模／形式 | G31: =G52&"／"&G53&" "&G54&" "&G55&" "&G56 -> ／ | H31: =H52&"／"&H53&" "&H54&" "&H55&" "&H56 -> ／ | R31: 工事種別／建設工事の種類 | S31: =S50&"／"&S51 -> ／ | T31: =T50&"／"&T51 -> ／ | AD31: 工事種別／建設工事の種類 | AE31: =AE50&"／"&AE51 -> ／ | AF31: =AF50&"／"&AF51 -> ／ | AP31: 工事種別／建設工事の種類 | AQ31: =AQ50&"／"&AQ51 -> ／ | AR31: =AR50&"／"&AR51 -> ／ | AY31: =AY51&CHAR(10)&AY52 | AZ31: =IF(AZ50="","","参加"&AZ51&"人"&CHAR(10)&"従業員"&AZ52&"人") | BA31: =IF(BA50="","","参加"&BA51&"人"&CHAR(10)&"従業員"&BA52&"人") | BB31: =BB47 -> 契約(始) | BC31: =BC47 | BD31: =BD47
A32: コピー専用行 | B32: 7 | F32: =F57 -> 工事成績 | G32: =G57 | H32: =H57 | R32: 役職 工事成績 | S32: =IF(S52="","",S52&CHAR(10)&"("&S57&"点)") | T32: =IF(T52="","",T52&CHAR(10)&"("&T57&"点)") | AD32: 役職 工事成績 | AE32: =IF(AE52="","",AE52&CHAR(10)&"("&AE57&"点)") | AF32: =IF(AF52="","",AF52&CHAR(10)&"("&AF57&"点)") | AP32: 役職 工事成績 | AQ32: =IF(AQ52="","",AQ52&CHAR(10)&"("&AQ57&"点)") | AR32: =IF(AR52="","",AR52&CHAR(10)&"("&AR57&"点)") | AY32: =AY50 | AZ32: =AZ50 | BA32: =BA50 | BB32: =BB48 -> 契約(終) | BC32: =BC48 | BD32: =BD48
A33: コピー専用行 | B33: 8 | F33: 工事種別／建設工事の種類 | G33: =G46&"／"&G47 -> ／ | H33: =H46&"／"&H47 -> ／ | R33: 施工規模／形式 | S33: =S53&"／"&S54&" "&S55&" "&S56 -> ／ | T33: =T53&"／"&T54&" "&T55&" "&T56 -> ／ | AD33: 施工規模／形式 | AE33: =AE53&"／"&AE54&" "&AE55&" "&AE56 -> ／ | AF33: =AF53&"／"&AF54&" "&AF55&" "&AF56 -> ／ | AP33: 施工規模／形式 | AQ33: =AQ53&"／"&AQ54&" "&AQ55&" "&AQ56 -> ／ | AR33: =AR53&"／"&AR54&" "&AR55&" "&AR56 -> ／ | BB33: =BB49 -> 施工箇所 | BC33: =BC49 | BD33: =BD49
C34: 今回、押印済資料（収受印）での提出の有無 | D34: =INDEX(発注者入力シート!$B$20:$J$24,MATCH(発注者入力シート!L6,発注者入力シート!$C$20:$C$24,0),7) -> 未記入 | L34: 今回、押印済資料（収受印）での提出の有無 | M34: =INDEX(発注者入力シート!$B$25:$J$28,MATCH(発注者入力シート!M9,発注者入力シート!$C$25:$C$28,0),7) -> 配置なし | N34: =IF(企業入力シート!C18="","配置なし","配置あり") -> 配置なし | O34: 今回、押印済資料（収受印）での提出の有無 | P34: =INDEX(発注者入力シート!$B$25:$J$28,MATCH(発注者入力シート!M6,発注者入力シート!$C$25:$C$28,0),7) -> 配置なし | Q34: =IF(企業入力シート!C18="","配置なし","配置あり") -> 配置なし | T34: =IF(企業入力シート!C18="","配置なし","配置あり") -> 配置なし | X34: 今回、押印済資料（収受印）での提出の有無 | Y34: =INDEX(発注者入力シート!$B$25:$J$28,MATCH(発注者入力シート!M9,発注者入力シート!$C$25:$C$28,0),8) -> 配置なし | Z34: =IF(企業入力シート!C19="","配置なし","配置あり") -> 配置なし | AA34: 今回、押印済資料（収受印）での提出の有無 | AB34: =INDEX(発注者入力シート!$B$25:$J$28,MATCH(発注者入力シート!M6,発注者入力シート!$C$25:$C$28,0),8) -> 配置なし | AC34: =IF(企業入力シート!C19="","配置なし","配置あり") -> 配置なし | AF34: =IF(企業入力シート!C19="","配置なし","配置あり") -> 配置なし | AJ34: 今回、押印済資料（収受印）での提出の有無 | AK34: =INDEX(発注者入力シート!$B$25:$J$28,MATCH(発注者入力シート!M9,発注者入力シート!$C$25:$C$28,0),9) -> 配置なし | AL34: =IF(企業入力シート!C20="","配置なし","配置あり") -> 配置なし | AM34: 今回、押印済資料（収受印）での提出の有無 | AN34: =INDEX(発注者入力シート!$B$25:$J$28,MATCH(発注者入力シート!M6,発注者入力シート!$C$25:$C$28,0),9) -> 配置なし | AO34: =IF(企業入力シート!C20="","配置なし","配置あり") -> 配置なし | AR34: =IF(企業入力シート!C20="","配置なし","配置あり") -> 配置なし | AY34: 今回、押印済資料（収受印）での提出の有無 | AZ34: =INDEX(発注者入力シート!$B$29:$J$38,MATCH(発注者入力シート!N8,発注者入力シート!$C$29:$C$38,0),7) -> 未記入 | BB34: 今回、押印済資料（収受印）での提出の有無 | BC34: =INDEX(発注者入力シート!$B$29:$J$38,MATCH(発注者入力シート!N9,発注者入力シート!$C$29:$C$38,0),7) -> 未記入 | BE34: 今回、押印済資料（収受印）での提出の有無 | BF34: =INDEX(発注者入力シート!$B$29:$J$38,MATCH(発注者入力シート!N11,発注者入力シート!$C$29:$C$38,0),7) -> 未記入 | BG34: =INDEX(発注者入力シート!$B$29:$J$38,MATCH(発注者入力シート!N12,発注者入力シート!$C$29:$C$38,0),7) -> 未記入
A36: 以下、集計専用表（コピー箇所ではありません）
B37: a0 | C37: 企業 | F37: 企業 | I37: 企業 | L37: 配置予定技術者① | O37: 配置予定技術者① | R37: 配置予定技術者① | U37: 配置予定技術者① | X37: 配置予定技術者② | AA37: 配置予定技術者② | AD37: 配置予定技術者② | AG37: 配置予定技術者② | AJ37: 配置予定技術者③ | AM37: 配置予定技術者③ | AP37: 配置予定技術者③ | AS37: 配置予定技術者③ | AV37: 地域貢献・その他 | AY37: 地域貢献・その他 | BB37: 地域貢献・その他 | BE37: 地域貢献・その他 | BH37: 地域貢献・その他 | BK37: 地域貢献・その他 | BN37: 地域貢献・その他 | BQ37: 地域貢献・その他 | BT37: 地域貢献・その他 | BW37: 地域貢献・その他 | BZ37: 地理的条件
B38: a1 | C38: 工事成績評定点(5年用) | F38: 施工実績 | I38: 予備欄 | L38: 継続学習 | O38: 資格 | R38: 施工経験 | U38: 予備欄 | X38: 継続学習 | AA38: 資格 | AD38: 施工経験 | AG38: 予備欄 | AJ38: 継続学習 | AM38: 資格 | AP38: 施工経験 | AS38: 予備欄 | AV38: =IF(防災協定・家畜伝染病防疫協定!T15=1,"防災",IF(防災協定・家畜伝染病防疫協定!T15=2,"家畜伝染病防疫","防災協定・家畜伝染病防疫"))&"協定" -> 家畜伝染病防疫協定 | AY38: ボランティア | BB38: 維持管理業務 | BE38: 労働福祉関連 | BH38: 若手技術者・従業員の新規雇用 | BK38: CCUSの活用 | BN38: 予備欄 | BQ38: 予備欄 | BT38: 予備欄 | BW38: 予備欄
B39: a | C39: 完成年度 | D39: =IF('企業成績評定点 (5年用)'!D7="","",'企業成績評定点 (5年用)'!D7) -> 令和3年度から令和7年度（完成及び引き渡しが完了） | F39: 対象期間等 | G39: =IF(同種工事施工実績!F6="","",同種工事施工実績!F6) -> 平成２８年度から入札公告日前日までに完成及び引き渡しが完了した島根県発注工事 | L39: =IF(技術者継続学習!B8="","",技術者継続学習!B8) -> 配置予定の主任（監理）技術者が保有するCPDSユニット | O39: 対象資格 | P39: =IF(技術者資格!B9="","",技術者資格!B9) -> １級又は２級造園施工管理技士 | R39: 対象年度・機関等 | S39: =IF(同種工事施工経験!F6="","",同種工事施工経験!F6) -> 平成２８年度から入札公告日前日までに完成及び引き渡しが完了した島根県発注工事 | X39: =IF(技術者継続学習!B8="","",技術者継続学習!B8) -> 配置予定の主任（監理）技術者が保有するCPDSユニット | AA39: 対象資格 | AB39: =IF(技術者資格!B9="","",技術者資格!B9) -> １級又は２級造園施工管理技士 | AD39: 対象年度・機関等 | AE39: =IF(同種工事施工経験!F6="","",同種工事施工経験!F6) -> 平成２８年度から入札公告日前日までに完成及び引き渡しが完了した島根県発注工事 | AJ39: =IF(技術者継続学習!B8="","",技術者継続学習!B8) -> 配置予定の主任（監理）技術者が保有するCPDSユニット | AM39: 対象資格 | AN39: =IF(技術者資格!B9="","",技術者資格!B9) -> １級又は２級造園施工管理技士 | AP39: 対象年度・機関等 | AQ39: =IF(同種工事施工経験!F6="","",同種工事施工経験!F6) -> 平成２８年度から入札公告日前日までに完成及び引き渡しが完了した島根県発注工事 | AV39: 対象 | AW39: =IF(防災協定・家畜伝染病防疫協定!B8="","",防災協定・家畜伝染病防疫協定!B8) -> 令和6年度及び令和7年度における島根県との家畜伝染病防疫協定の締結実績 | AY39: 対象 | AZ39: =IF(ボランティア!B6="","",ボランティア!B6) -> 令和6年度及び令和7年度のボランティア活動又はハートフルしまねへの参加実績 | BB39: 対象 | BC39: =IF(維持管理業務!B7="","",維持管理業務!B7) -> 令和6年度及び令和7年度の県管理公共土木施設に関する維持管理業務または海岸漂着物の回収業務の契約実績 | BE39: 対象 | BF39: 入札公告日前日時点での取り組み状況 | BH39: 対象 | BI39: =IF(若手技術者・従業員新規雇用!B8="","",若手技術者・従業員新規雇用!B8) -> 令和6年4月1日以降に、若手技術者・若手従業員（３０歳未満の者）の１人以上の新規雇用があること。 | BK39: 対象 | BL39: 当該工事での建設キャリアアップシステム（CCUS）の活用
B40: b | C40: 発注機関 | D40: =IF('企業成績評定点 (5年用)'!D8="","",'企業成績評定点 (5年用)'!D8) -> 島根県（総務部、農林水産部、土木部） | F40: 同種工事 | G40: =IF(同種工事施工実績!F10="","",同種工事施工実績!F10) -> １契約で２，０００万円（税込）以上で植栽工（維持管理工事を除く）を含む完成及び引き渡しが完了した工事 | R40: 同種工事 | S40: =IF(同種工事施工経験!F8="","",同種工事施工経験!F8) -> １契約で１，０００万円（税込）以上で植栽工（維持管理工事を除く）を含む完成及び引き渡しが完了した工事 | AD40: 同種工事 | AE40: =IF(同種工事施工経験!F8="","",同種工事施工経験!F8) -> １契約で１，０００万円（税込）以上で植栽工（維持管理工事を除く）を含む完成及び引き渡しが完了した工事 | AP40: 同種工事 | AQ40: =IF(同種工事施工経験!F8="","",同種工事施工経験!F8) -> １契約で１，０００万円（税込）以上で植栽工（維持管理工事を除く）を含む完成及び引き渡しが完了した工事
B41: c | C41: 工事種別 | D41: =IF('企業成績評定点 (5年用)'!D9="","",'企業成績評定点 (5年用)'!D9) -> 造園工事 | F41: 工事種別 | G41: =IF(同種工事施工実績!F8="","",同種工事施工実績!F8) -> 造園工事 | R41: 工事種別 | S41: =IF(同種工事施工経験!F11="","",同種工事施工経験!F11) -> 造園工事 | AD41: 工事種別 | AE41: =IF(同種工事施工経験!F11="","",同種工事施工経験!F11) -> 造園工事 | AP41: 工事種別 | AQ41: =IF(同種工事施工経験!F11="","",同種工事施工経験!F11) -> 造園工事
B42: d | C42: 建設工事の種類 | D42: =IF('企業成績評定点 (5年用)'!D10="","",'企業成績評定点 (5年用)'!D10) -> 造園工事 | F42: 建設工事の種類 | G42: =IF(同種工事施工実績!F9="","",同種工事施工実績!F9) -> 造園工事 | R42: 建設工事の種類 | S42: =IF(同種工事施工経験!F12="","",同種工事施工経験!F12) -> 造園工事 | AD42: 建設工事の種類 | AE42: =IF(同種工事施工経験!F12="","",同種工事施工経験!F12) -> 造園工事 | AP42: 建設工事の種類 | AQ42: =IF(同種工事施工経験!F12="","",同種工事施工経験!F12) -> 造園工事 | AY42: 評価地域 | AZ42: =IF(ボランティア!D8="","",ボランティア!D8) -> 島根県内 | BB42: 評価地域 | BC42: =IF(維持管理業務!D10="","",維持管理業務!D10) -> 島根県内
...

Sheet 表紙
A1: 様式－ | B1: 1 | S1: 着色セルの凡例
M2: 提出日 | N2: =IF(企業入力シート!C4="","",企業入力シート!C4) -> 2026/ / | S2: （企業）
T3: ：「企業入力シート」で入力（数式リンク有）
A4: （特別簡易型 総合評価方式） | T4: ：セルに直接入力が必要な箇所
A5: 総 合 評 価 技 術 資 料
S6: （発注者）
A7: 発注者 | T7: ：「発注者入力シート」で入力（数式リンク有）
A8: =CONCATENATE(" ",発注者入力シート!C6,IF(COUNTIF(発注者入力シート!C6,"*センター*"),"所長","長")," ","様") -> 東部農林水産振興センター所長 様 | T8: ：セルに直接入力が必要な箇所
S10: 【印刷について】
H11: 住所 | J11: =IF(企業入力シート!C6="","",企業入力シート!C6) | S11: このシートは「ページ設定」で「白黒印刷」と「印刷範囲」が設定されています。
G13: 商号又は名称 | J13: =IF(企業入力シート!C7="","",企業入力シート!C7) -> ○○建設
G14: 代表者氏名 | J14: =IF(企業入力シート!C8="","",企業入力シート!C8) -> ○○ ○○
A17: =CONCATENATE(" ","令和",(YEAR(発注者入力シート!C7)-2018),"年",MONTH(発注者入力シート!C7),"月",DAY(発注者入力シート!C7),"日付けで入札公告のありました下記工事について、別添のとおり書類を添えて提出いたします。") -> 令和8年9月16日付けで入札公告のありました下記工事について、別添のとおり書類を添えて提出いたします。
A20: １ 工事名 | C20: =発注者入力シート!C10 -> 大社漁港海岸 農山漁村地域整備交付金（海岸環境）工事（２工区）その５
A22: ２ 提出書類（下記項目の該当するもの）
A23: =IF(AND(IFERROR(OR(発注者入力シート!$L$62="２",発注者入力シート!$L$63="２"),FALSE),企業入力シート!$B$36="○"),"",IF(COUNTIF($A$44:$A$50,"*"&VLOOKUP("２",発注者入力シート!$L$41:$N$79,3,FALSE)&"*")>=1,"",INDEX(発注者入力シート!$L$40:$O$85,MATCH("２",発注者入力シート!$L$40:$L$85,0),4))) -> ○企業の工事成績評定点 （様式-２-１、様式-２-２）
A24: =IF(AND(IFERROR(OR(発注者入力シート!$L$62="３",発注者入力シート!$L$63="３"),FALSE),企業入力シート!$B$36="○"),"",IF(COUNTIF($A$44:$A$50,"*"&VLOOKUP("３",発注者入力シート!$L$41:$N$79,3,FALSE)&"*")>=1,"",INDEX(発注者入力シート!$L$40:$O$85,MATCH("３",発注者入力シート!$L$40:$L$85,0),4))) -> ○企業の同種工事の施工実績 （様式-３）
A25: =IF(AND(IFERROR(OR(発注者入力シート!$L$62="４",発注者入力シート!$L$63="４"),FALSE),企業入力シート!$B$36="○"),"",IF(COUNTIF($A$44:$A$50,"*"&VLOOKUP("４",発注者入力シート!$L$41:$N$79,3,FALSE)&"*")>=1,"",INDEX(発注者入力シート!$L$40:$O$85,MATCH("４",発注者入力シート!$L$40:$L$85,0),4))) -> ○配置予定技術者の資格 （様式-４）
A26: =IF(AND(IFERROR(OR(発注者入力シート!$L$62="５",発注者入力シート!$L$63="５"),FALSE),企業入力シート!$B$36="○"),"",IF(COUNTIF($A$44:$A$50,"*"&VLOOKUP("５",発注者入力シート!$L$41:$N$79,3,FALSE)&"*")>=1,"",INDEX(発注者入力シート!$L$40:$O$85,MATCH("５",発注者入力シート!$L$40:$L$85,0),4))) -> ○配置予定技術者の同種工事の施工経験 （様式-５）
A27: =IF(AND(IFERROR(OR(発注者入力シート!$L$62="６",発注者入力シート!$L$63="６"),FALSE),企業入力シート!$B$36="○"),"",IF(COUNTIF($A$44:$A$50,"*"&VLOOKUP("６",発注者入力シート!$L$41:$N$79,3,FALSE)&"*")>=1,"",INDEX(発注者入力シート!$L$40:$O$85,MATCH("６",発注者入力シート!$L$40:$L$85,0),4))) -> ○配置予定技術者の継続学習 （様式-６）
A28: =IF(AND(IFERROR(OR(発注者入力シート!$L$62="７",発注者入力シート!$L$63="７"),FALSE),企業入力シート!$B$36="○"),"",IF(COUNTIF($A$44:$A$50,"*"&VLOOKUP("７",発注者入力シート!$L$41:$N$79,3,FALSE)&"*")>=1,"",INDEX(発注者入力シート!$L$40:$O$85,MATCH("７",発注者入力シート!$L$40:$L$85,0),4))) -> ○家畜伝染病防疫協定の締結実績 （様式-７）
A29: =IF(AND(IFERROR(OR(発注者入力シート!$L$62="８",発注者入力シート!$L$63="８"),FALSE),企業入力シート!$B$36="○"),"",IF(COUNTIF($A$44:$A$50,"*"&VLOOKUP("８",発注者入力シート!$L$41:$N$79,3,FALSE)&"*")>=1,"",INDEX(発注者入力シート!$L$40:$O$85,MATCH("８",発注者入力シート!$L$40:$L$85,0),4))) -> ○県管理公共土木施設に関する維持管理業務または海岸漂着物の回収業務の契約実績 （様式-８）
A30: =IF(AND(IFERROR(OR(発注者入力シート!$L$62="９",発注者入力シート!$L$63="９"),FALSE),企業入力シート!$B$36="○"),"",IF(COUNTIF($A$44:$A$50,"*"&VLOOKUP("９",発注者入力シート!$L$41:$N$79,3,FALSE)&"*")>=1,"",INDEX(発注者入力シート!$L$40:$O$85,MATCH("９",発注者入力シート!$L$40:$L$85,0),4))) -> ○ボランティア活動又はハートフルしまねへの参加実績 （様式-９）
A31: =IF(AND(IFERROR(OR(発注者入力シート!$L$62="１０",発注者入力シート!$L$63="１０"),FALSE),企業入力シート!$B$36="○"),"",IF(COUNTIF($A$44:$A$50,"*"&VLOOKUP("１０",発注者入力シート!$L$41:$N$79,3,FALSE)&"*")>=1,"",INDEX(発注者入力シート!$L$40:$O$85,MATCH("１０",発注者入力シート!$L$40:$L$85,0),4))) -> ○労働福祉関連の状況(a 障がい者雇用の実態) （様式-１０）
A32: =IF(AND(IFERROR(OR(発注者入力シート!$L$62="１１",発注者入力シート!$L$63="１１"),FALSE),企業入力シート!$B$36="○"),"",IF(COUNTIF($A$44:$A$50,"*"&VLOOKUP("１１",発注者入力シート!$L$41:$N$79,3,FALSE)&"*")>=1,"",INDEX(発注者入力シート!$L$40:$O$85,MATCH("１１",発注者入力シート!$L$40:$L$85,0),4))) -> ○労働福祉関連の状況(b 育児・介護休業に関する制度) （様式-１１）
A33: =IF(AND(IFERROR(OR(発注者入力シート!$L$62="１２",発注者入力シート!$L$63="１２"),FALSE),企業入力シート!$B$36="○"),"",IF(COUNTIF($A$44:$A$50,"*"&VLOOKUP("１２",発注者入力シート!$L$41:$N$79,3,FALSE)&"*")>=1,"",INDEX(発注者入力シート!$L$40:$O$85,MATCH("１２",発注者入力シート!$L$40:$L$85,0),4))) -> ○育児・介護休業に関する制度 チェック表 （様式-１２）
A34: =IF(AND(IFERROR(OR(発注者入力シート!$L$62="１３",発注者入力シート!$L$63="１３"),FALSE),企業入力シート!$B$36="○"),"",IF(COUNTIF($A$44:$A$50,"*"&VLOOKUP("１３",発注者入力シート!$L$41:$N$79,3,FALSE)&"*")>=1,"",INDEX(発注者入力シート!$L$40:$O$85,MATCH("１３",発注者入力シート!$L$40:$L$85,0),4))) -> ○若手技術者・若手従業員の新規雇用 （様式-１３）
A35: =IF(AND(IFERROR(OR(発注者入力シート!$L$62="１４",発注者入力シート!$L$63="１４"),FALSE),企業入力シート!$B$36="○"),"",IF(COUNTIF($A$44:$A$50,"*"&VLOOKUP("１４",発注者入力シート!$L$41:$N$79,3,FALSE)&"*")>=1,"",INDEX(発注者入力シート!$L$40:$O$85,MATCH("１４",発注者入力シート!$L$40:$L$85,0),4))) -> ○建設キャリアアップシステム（CCUS）の活用 （様式-１４）
A36: =IF(AND(IFERROR(OR(発注者入力シート!$L$62="１５",発注者入力シート!$L$63="１５"),FALSE),企業入力シート!$B$36="○"),"",IF(COUNTIF($A$44:$A$50,"*"&VLOOKUP("１５",発注者入力シート!$L$41:$N$79,3,FALSE)&"*")>=1,"",INDEX(発注者入力シート!$L$40:$O$85,MATCH("１５",発注者入力シート!$L$40:$L$85,0),4))) -> #N/A
A37: =IF(AND(IFERROR(OR(発注者入力シート!$L$62="１６",発注者入力シート!$L$63="１６"),FALSE),企業入力シート!$B$36="○"),"",IF(COUNTIF($A$44:$A$50,"*"&VLOOKUP("１６",発注者入力シート!$L$41:$N$79,3,FALSE)&"*")>=1,"",INDEX(発注者入力シート!$L$40:$O$85,MATCH("１６",発注者入力シート!$L$40:$L$85,0),4))) -> #N/A
A38: =IF(AND(IFERROR(OR(発注者入力シート!$L$62="１７",発注者入力シート!$L$63="１７"),FALSE),企業入力シート!$B$36="○"),"",IF(COUNTIF($A$44:$A$50,"*"&VLOOKUP("１７",発注者入力シート!$L$41:$N$79,3,FALSE)&"*")>=1,"",INDEX(発注者入力シート!$L$40:$O$85,MATCH("１７",発注者入力シート!$L$40:$L$85,0),4))) -> #N/A
A39: =IF(AND(IFERROR(OR(発注者入力シート!$L$62="１８",発注者入力シート!$L$63="１８"),FALSE),企業入力シート!$B$36="○"),"",IF(COUNTIF($A$44:$A$50,"*"&VLOOKUP("１８",発注者入力シート!$L$41:$N$79,3,FALSE)&"*")>=1,"",INDEX(発注者入力シート!$L$40:$O$85,MATCH("１８",発注者入力シート!$L$40:$L$85,0),4))) -> #N/A
A40: =IF(AND(IFERROR(OR(発注者入力シート!$L$62="１９",発注者入力シート!$L$63="１９"),FALSE),企業入力シート!$B$36="○"),"",IF(COUNTIF($A$44:$A$50,"*"&VLOOKUP("１９",発注者入力シート!$L$41:$N$79,3,FALSE)&"*")>=1,"",INDEX(発注者入力シート!$L$40:$O$85,MATCH("１９",発注者入力シート!$L$40:$L$85,0),4))) -> #N/A
A41: =IF(AND(IFERROR(OR(発注者入力シート!$L$62="２０",発注者入力シート!$L$63="２０"),FALSE),企業入力シート!$B$36="○"),"",IF(COUNTIF($A$44:$A$50,"*"&VLOOKUP("２０",発注者入力シート!$L$41:$N$79,3,FALSE)&"*")>=1,"",INDEX(発注者入力シート!$L$40:$O$85,MATCH("２０",発注者入力シート!$L$40:$L$85,0),4))) -> #N/A
A43: =IF(企業入力シート!A26=0,"","※事前審査・証明書による提出（技術資料及び添付資料省略）")
A44: =IF(企業入力シート!$A$26>0," ・"&VLOOKUP(1,企業入力シート!$A$27:$I$36,3,FALSE),"")
A45: =IF(企業入力シート!A26>1," ・"&VLOOKUP(2,企業入力シート!$A$27:$I$36,3,FALSE),"")
A46: =IF(企業入力シート!A26>2," ・"&VLOOKUP(3,企業入力シート!$A$27:$I$36,3,FALSE),"")
A47: =IF(企業入力シート!A26>3," ・"&VLOOKUP(4,企業入力シート!$A$27:$I$36,3,FALSE),"")
A48: =IF(企業入力シート!A26>4," ・"&VLOOKUP(5,企業入力シート!$A$27:$I$36,3,FALSE),"")
...

Sheet 企業成績評定点 (5年用)
A1: =CONCATENATE("（様式-",INDEX(発注者入力シート!$B$20:$G$24,MATCH(発注者入力シート!L6,発注者入力シート!$C$20:$C$24,0),4),"-１）") -> （様式-２-１） | P1: 【5年用】 | R1: 着色セルの凡例
A2: =CONCATENATE("評価項目",INDEX(発注者入力シート!$B$20:$G$24,MATCH(発注者入力シート!L6,発注者入力シート!$C$20:$C$24,0),5),"-",INDEX(発注者入力シート!$B$20:$G$24,MATCH(発注者入力シート!L6,発注者入力シート!$C$20:$C$24,0),6)) -> 評価項目（１）-① | R2: （企業）
A3: 企業の工事成績評定点 | S3: ：「企業入力シート」で入力（数式リンク有）
C4: 会社（企業体）名： | F4: =IF(企業入力シート!C7="","",企業入力シート!C7) -> ○○建設 | S4: ：リストから選択が必要な箇所
A6: 対象工事 | R6: （発注者）
A7: 完成年度 | D7: ="令和"&発注者入力シート!F11-5&"年度から令和"&発注者入力シート!F11-1&"年度（完成及び引き渡しが完了）" -> 令和3年度から令和7年度（完成及び引き渡しが完了） | S7: ：「発注者入力シート」で入力（数式リンク有）
A8: 発注機関 | D8: 島根県（総務部、農林水産部、土木部） | S8: ：セルに直接入力が必要な箇所
A9: 工事種別 | D9: =INDEX(発注者入力シート!$AX$3:$BC$31,MATCH(発注者入力シート!$AY$2,発注者入力シート!$AZ$3:$AZ$31,0),4) -> 造園工事
A10: 建設工事の種類 | D10: =INDEX(発注者入力シート!$AX$3:$BC$31,MATCH(発注者入力シート!$AY$2,発注者入力シート!$AZ$3:$AZ$31,0),5) -> 造園工事
A13: 各工事成績評定点 | D13: 平成３０年度 | G13: =IF('評定点一覧(5年用) '!P8="","",'評定点一覧(5年用) '!P8) | H13: =IF('評定点一覧(5年用) '!$P9="","",'評定点一覧(5年用) '!$P9) | I13: =IF('評定点一覧(5年用) '!$P10="","",'評定点一覧(5年用) '!$P10) | J13: =IF('評定点一覧(5年用) '!$P11="","",'評定点一覧(5年用) '!$P11) | K13: =IF('評定点一覧(5年用) '!$P12="","",'評定点一覧(5年用) '!$P12) | L13: =IF('評定点一覧(5年用) '!$P13="","",'評定点一覧(5年用) '!$P13) | M13: =IF('評定点一覧(5年用) '!$P14="","",'評定点一覧(5年用) '!$P14) | N13: =IF('評定点一覧(5年用) '!$P15="","",'評定点一覧(5年用) '!$P15) | O13: =IF('評定点一覧(5年用) '!$P16="","",'評定点一覧(5年用) '!$P16) | P13: =IF('評定点一覧(5年用) '!$P17="","",'評定点一覧(5年用) '!$P17)
D14: 令和元年度 | G14: =IF('評定点一覧(5年用) '!$P21="","",'評定点一覧(5年用) '!$P21) | H14: =IF('評定点一覧(5年用) '!$P22="","",'評定点一覧(5年用) '!$P22) | I14: =IF('評定点一覧(5年用) '!$P23="","",'評定点一覧(5年用) '!$P23) | J14: =IF('評定点一覧(5年用) '!$P24="","",'評定点一覧(5年用) '!$P24) | K14: =IF('評定点一覧(5年用) '!$P25="","",'評定点一覧(5年用) '!$P25) | L14: =IF('評定点一覧(5年用) '!$P26="","",'評定点一覧(5年用) '!$P26) | M14: =IF('評定点一覧(5年用) '!$P27="","",'評定点一覧(5年用) '!$P27) | N14: =IF('評定点一覧(5年用) '!$P28="","",'評定点一覧(5年用) '!$P28) | O14: =IF('評定点一覧(5年用) '!$P29="","",'評定点一覧(5年用) '!$P29) | P14: =IF('評定点一覧(5年用) '!$P30="","",'評定点一覧(5年用) '!$P30)
D15: 令和２年度 | G15: =IF('評定点一覧(5年用) '!$P34="","",'評定点一覧(5年用) '!$P34) | H15: =IF('評定点一覧(5年用) '!$P35="","",'評定点一覧(5年用) '!$P35) | I15: =IF('評定点一覧(5年用) '!$P36="","",'評定点一覧(5年用) '!$P36) | J15: =IF('評定点一覧(5年用) '!$P37="","",'評定点一覧(5年用) '!$P37) | K15: =IF('評定点一覧(5年用) '!$P38="","",'評定点一覧(5年用) '!$P38) | L15: =IF('評定点一覧(5年用) '!$P39="","",'評定点一覧(5年用) '!$P39) | M15: =IF('評定点一覧(5年用) '!$P40="","",'評定点一覧(5年用) '!$P40) | N15: =IF('評定点一覧(5年用) '!$P41="","",'評定点一覧(5年用) '!$P41) | O15: =IF('評定点一覧(5年用) '!$P42="","",'評定点一覧(5年用) '!$P42) | P15: =IF('評定点一覧(5年用) '!$P43="","",'評定点一覧(5年用) '!$P43)
D16: 令和３年度 | G16: =IF('評定点一覧(5年用) '!$P47="","",'評定点一覧(5年用) '!$P47) | H16: =IF('評定点一覧(5年用) '!$P48="","",'評定点一覧(5年用) '!$P48) | I16: =IF('評定点一覧(5年用) '!$P49="","",'評定点一覧(5年用) '!$P49) | J16: =IF('評定点一覧(5年用) '!$P50="","",'評定点一覧(5年用) '!$P50) | K16: =IF('評定点一覧(5年用) '!$P51="","",'評定点一覧(5年用) '!$P51) | L16: =IF('評定点一覧(5年用) '!$P52="","",'評定点一覧(5年用) '!$P52) | M16: =IF('評定点一覧(5年用) '!$P53="","",'評定点一覧(5年用) '!$P53) | N16: =IF('評定点一覧(5年用) '!$P54="","",'評定点一覧(5年用) '!$P54) | O16: =IF('評定点一覧(5年用) '!$P55="","",'評定点一覧(5年用) '!$P55) | P16: =IF('評定点一覧(5年用) '!$P56="","",'評定点一覧(5年用) '!$P56)
D17: 令和４年度 | G17: =IF('評定点一覧(5年用) '!$P60="","",'評定点一覧(5年用) '!$P60) | H17: =IF('評定点一覧(5年用) '!$P61="","",'評定点一覧(5年用) '!$P61) | I17: =IF('評定点一覧(5年用) '!$P62="","",'評定点一覧(5年用) '!$P62) | J17: =IF('評定点一覧(5年用) '!$P63="","",'評定点一覧(5年用) '!$P63) | K17: =IF('評定点一覧(5年用) '!$P64="","",'評定点一覧(5年用) '!$P64) | L17: =IF('評定点一覧(5年用) '!$P65="","",'評定点一覧(5年用) '!$P65) | M17: =IF('評定点一覧(5年用) '!$P66="","",'評定点一覧(5年用) '!$P66) | N17: =IF('評定点一覧(5年用) '!$P67="","",'評定点一覧(5年用) '!$P67) | O17: =IF('評定点一覧(5年用) '!$P68="","",'評定点一覧(5年用) '!$P68) | P17: =IF('評定点一覧(5年用) '!$P69="","",'評定点一覧(5年用) '!$P69)
A18: 工事成績評定点の平均 | G18: =IF((COUNTA(G13:P17)-COUNTBLANK(G13:P17))=0,"",COUNTA(G13:P17)-COUNTBLANK(G13:P17)) | I18: 件 | J18: =IF(OR(G18="",G18=0),"",ROUND(AVERAGE(G13:P17),1)) | M18: 点 | R18: 【印刷について】
A19: （小数第２位を四捨五入） | R19: このシートは「ページ設定」で「白黒印刷」と「印刷範囲」が設定されています。
A20: (1) | B20: 対象工事の工事成績評定点一覧表（別紙）を添付すること。 | R20: 様式内の吹出しコメントは印刷されません。
A21: (2) | B21: 工事種別については、各工事の契約時における「島根県土木工事仕様書」等において確認すること。
A23: (3) | B23: 単年度の対象工事件数が１０件を超える場合、「工事成績評定点の平均」欄の「件数」及び「平均点」は、自動計算されないため、直接記入すること。
A25: (4) | B25: 上記事項の外、入札説明書本文にある要件を必ず確認すること。
A27: ※必要に応じて設定する事項
B28: 島根県（総務部、農林水産部、土木部）発注工事以外の工事を評価対象にする場合は、各工事の工事成績評定書の写し及び工事種別・種類を証明する資料を添付すること。また、島根県発注工事以外の工事で成績評定対象外工事がある場合、成績評定対象外であることを確認するための発注者の証明書の写しを添付すること。
A33: 技術資料提出工事名： | E33: =IF(発注者入力シート!C10="","",発注者入力シート!C10) -> 大社漁港海岸 農山漁村地域整備交付金（海岸環境）工事（２工区）その５
A35: 提出事務所名： | E35: =IF(発注者入力シート!C6="","",発注者入力シート!C6) -> 東部農林水産振興センター
A37: 有効範囲： | E37: =+発注者入力シート!$C$11 -> 令和9年7月31日までに入札公告された工事
A39: =CONCATENATE(" 今後、",発注者入力シート!C6,"が発注する工事においては、本書の写し（※）をもって「企業の工事成績評定点」の貴社技術資料とみなし、その他添付資料の提出は不要とする。 ※本書の写しとは、収受印欄に収受の押印がある資料をいう。") -> 今後、東部農林水産振興センターが発注する工事においては、本書の写し（※）をもって「企業の工事成績評定点」の貴社技術資料とみなし、その他添付資料の提出は不要とする。 ※本書の写しとは、収受印欄に収受の押印がある資料をいう。
M42: （収受印）
B44: 技術資料の提出方法
B45: =IF(COUNTIF(企業入力シート!B27:B30,"○")>0,発注者入力シート!AL10,IF(INDEX(発注者入力シート!$B$20:$J$24,MATCH(発注者入力シート!L6,発注者入力シート!$C$20:$C$24,0),7)="未記入",発注者入力シート!$AL$8,IF(INDEX(発注者入力シート!$B$20:$J$24,MATCH(発注者入力シート!L6,発注者入力シート!$C$20:$C$24,0),7)="無",発注者入力シート!$AL$9,IF(INDEX(発注者入力シート!$B$20:$J$24,MATCH(発注者入力シート!L6,発注者入力シート!$C$20:$C$24,0),7)="有",発注者入力シート!$AL$10)))) -> 「企業入力シート」の「押印済資料での提出」欄が未記入ですので、リストから「有」、「無」どちらかを選択してください。
A53: 【注】
B54: ・押印済資料で提出する場合、押印済資料で評価する。
B55: ・対象工事が異なる押印済資料を提出した場合、当該評価項目の加算点はゼロとする。
B56: =CONCATENATE("・収受印欄に収受印と併せて全県適用 の押印があれば、上記に",発注者入力シート!$C$6,"が発注する工事と記載があっても、本書の写しをもって島根県総務部、防災部、農林水産部及び土木部の事業課、関係地方機関が発注する工事において、その他添付資料の提出は不要とする。") -> ・収受印欄に収受印と併せて全県適用 の押印があれば、上記に東部農林水産振興センターが発注する工事と記載があっても、本書の写しをもって島根県総務部、防災部、農林水産部及び土木部の事業課、関係地方機関が発注する工事において、その他添付資料の提出は不要とする。

Sheet 評定点一覧(5年用) 
A1: =CONCATENATE("（様式-",INDEX(発注者入力シート!$B$20:$G$24,MATCH(発注者入力シート!L6,発注者入力シート!$C$20:$C$24,0),4),"-２）") -> （様式-２-２） | H1: 工事成績評定点一覧表(別紙) | Q1: 【5年用】
A2: =CONCATENATE("評価項目",INDEX(発注者入力シート!$B$20:$G$24,MATCH(発注者入力シート!L6,発注者入力シート!$C$20:$C$24,0),5),"-",INDEX(発注者入力シート!$B$20:$G$24,MATCH(発注者入力シート!L6,発注者入力シート!$C$20:$C$24,0),6)) -> 評価項目（１）-① | H2: 会社（企業体）名： | K2: =IF(企業入力シート!C7="","",企業入力シート!C7) -> ○○建設
A4: 工事種別 | D4: =IF('企業成績評定点 (5年用)'!D9="","",'企業成績評定点 (5年用)'!D9) -> 造園工事 | I4: 建設工事の種類 | L4: =IF('企業成績評定点 (5年用)'!D10="","",'企業成績評定点 (5年用)'!D10) -> 造園工事
A6: =発注者入力シート!$F$11-5 -> 3 | S6: 着色セルの凡例
A7: 番号 | B7: 発注機関名 | E7: 工事名 | P7: 評定点 | S7: （企業）
A8: 1 | Q8: 点 | T8: ：「企業入力シート」、一覧表（別紙）で入力（数式リンク有）
A9: 2 | Q9: 点 | T9: ：セルに直接入力が必要な箇所
A10: 3 | Q10: 点
A11: 4 | Q11: 点 | S11: （発注者）
A12: 5 | Q12: 点 | T12: ：「発注者入力シート」で入力（数式リンク有）
A13: 6 | Q13: 点 | T13: ：セルに直接入力が必要な箇所
A14: 7 | Q14: 点
A15: 8 | Q15: 点 | S15: 【印刷について】
A16: 9 | Q16: 点 | S16: このシートは「ページ設定」で「白黒印刷」と「印刷範囲」が設定されています。
A17: 10 | Q17: 点 | S17: 様式内の吹出しコメントは印刷されません。
A19: =発注者入力シート!$F$11-4 -> 4
A20: 番号 | B20: 発注機関名 | E20: 工事名 | P20: 評定点
A21: 1 | Q21: 点
A22: 2 | Q22: 点
A23: 3 | Q23: 点
A24: 4 | Q24: 点
A25: 5 | Q25: 点
A26: 6 | Q26: 点
A27: 7 | Q27: 点
A28: 8 | Q28: 点
A29: 9 | Q29: 点
A30: 10 | Q30: 点
A32: =発注者入力シート!$F$11-3 -> 5
A33: 番号 | B33: 発注機関名 | E33: 工事名 | P33: 評定点
A34: 1 | Q34: 点
A35: 2 | Q35: 点
A36: 3 | Q36: 点
A37: 4 | Q37: 点
A38: 5 | Q38: 点
A39: 6 | Q39: 点
A40: 7 | Q40: 点
A41: 8 | Q41: 点
A42: 9 | Q42: 点
A43: 10 | Q43: 点
A45: =発注者入力シート!$F$11-2 -> 6
...

Sheet 同種工事施工実績
A1: =CONCATENATE("（様式-",INDEX(発注者入力シート!$B$20:$G$24,MATCH(発注者入力シート!L7,発注者入力シート!$C$20:$C$24,0),4),"）") -> （様式-３） | Q1: =IF(INDEX(発注者入力シート!$B$20:$G$40,MATCH(発注者入力シート!L7,発注者入力シート!$C$20:$C$40,0),3)="","",INDEX(発注者入力シート!$B$20:$G$40,MATCH(発注者入力シート!L7,発注者入力シート!$C$20:$C$40,0),3)) | V1: 着色セルの凡例
A2: =CONCATENATE("評価項目",INDEX(発注者入力シート!$B$20:$G$24,MATCH(発注者入力シート!L7,発注者入力シート!$C$20:$C$24,0),5),"-",INDEX(発注者入力シート!$B$20:$G$24,MATCH(発注者入力シート!L7,発注者入力シート!$C$20:$C$24,0),6)) -> 評価項目（１）-② | V2: （企業）
A3: 企業の同種工事の施工実績 | W3: ：「企業入力シート」、一覧表（別紙）で入力（数式リンク有）
H4: 会社（企業体）名： | L4: =IF(企業入力シート!C7="","",企業入力シート!C7) -> ○○建設 | W4: ：セルに直接入力もしくはリストから選択が必要な箇所
A6: 対象工事 | B6: 対象期間・対象機関 | F6: 平成２８年度から入札公告日前日までに完成及び引き渡しが完了した島根県発注工事 | V6: （発注者）
W7: ：「発注者入力シート」で入力（数式リンク有）
B8: 工事種別 | F8: =INDEX(発注者入力シート!$AX$3:$BC$31,MATCH(発注者入力シート!$AY$2,発注者入力シート!$AZ$3:$AZ$31,0),4) -> 造園工事 | W8: ：セルに直接入力が必要な箇所
B9: 建設工事の種類 | F9: =INDEX(発注者入力シート!$AX$3:$BC$31,MATCH(発注者入力シート!$AY$2,発注者入力シート!$AZ$3:$AZ$31,0),5) -> 造園工事
B10: 同種工事の定義 | F10: １契約で２，０００万円（税込）以上で植栽工（維持管理工事を除く）を含む完成及び引き渡しが完了した工事
V11: 【印刷について】
V12: このシートは「ページ設定」で「白黒印刷」と「印刷範囲」が設定されています。
A13: 工事内容 | F13: 施工実績① | M13: 施工実績② | V13: 様式内の吹出しコメントは印刷されません。
A14: 工事名称等 | B14: 工 事 名
B18: コリンズ登録番号
B19: 発注機関名 | U19: ← | V19: ○○県土整備事務所など発注機関名を記入（略名可）
B20: 工事種別
B21: 建設工事の種類
B22: 施工場所
V23: （チェック用）
B24: 請負金額（最終・税込） | L24: 円 | S24: 円 | V24: 西暦
B25: 契約上の工期 | E25: （始） | H25: 年 | J25: 月 | L25: 日 | O25: 年 | Q25: 月 | S25: 日 | V25: 46235 | W25: ←西暦を入力すると下の欄に和暦が表示 | AA25: 平成
E26: （終） | H26: 年 | J26: 月 | L26: 日 | O26: 年 | Q26: 月 | S26: 日 | V26: 和暦 | AA26: 令和
B27: 受注形態 | V27: =V25 -> 46235
B28: 特別（特定）ＪＶの場合、出資比率
A29: 工事成績評定点 | L29: 点 | S29: 点
A30: 工事概要
A42: (1) | B42: 施工実績（上表記載内容）全てが確認できるよう下表を参考に資料①～⑨を組み合せて提出すること。
B43: ① | C43: コリンズの「登録内容確認書」の写し。（竣工登録に限る。）
B44: ② | C44: 最終の見積参考資料（設計の変更回数が確認できる総括情報表と工事内訳表）。ただし、必ず当初、変更を含む契約書全ての写し（資料③）＋項目別評定点表（資料④）もしくは竣工検査済証の写し（資料⑤）を追加添付すること。
B47: ③ | C47: 当初、変更を含む契約書全ての写し。
B48: ④ | C48: 項目別評定点表。（島根県発注工事に限る。）
B49: ⑤ | C49: 竣工検査済証の写し。
B50: ⑥ | C50: 工事成績評定通知書の写し。ただし、工事成績評定対象外工事の場合は、「成績評定対象外」である旨を「工事成績評定点」欄に記載すること。（島根県以外の発注工事は、成績評定対象外であることを確認するための発注者の証明書の写し（資料⑧）も追加添付すること。）
B53: ⑦ | C53: 資料①または資料②のみでは同種工事の施工実績（工事概要）が確認できない場合は、確認できる資料（工事名と設計の変更回数が確認できる最終図面等）。ただし、必ず当初、変更を含む契約書全ての写し（資料③）＋項目別評定点表（資料④）もしくは竣工検査済証の写し（資料⑤）を追加添付すること。
B57: ⑧ | C57: 発注者の証明書の写し。（上記資料①～⑦で確認できない記載内容（コリンズ登録番号を除く。）を全て証明してあるもの。）
B59: ⑨ | C59: 施工実績として提出する工事の「工事種別」及び「建設工事の種類」が確認できる資料
A60: 資料①～⑨で確認できる内容
A61: 項目名 | H61: 資料番号 | Q61: 備考
H62: ① | I62: ② | J62: ③ | K62: ④ | L62: ⑤ | M62: ⑥ | N62: ⑦ | O62: ⑧ | P62: ⑨
A63: 工事名称等 | B63: 工事名 | H63: ○ | I63: ○ | J63: ○ | K63: ○ | L63: ○ | M63: ○ | N63: ○ | O63: ○ | P63: ○
...

Sheet 技術者継続学習
A1: =CONCATENATE("（様式-",INDEX(発注者入力シート!$B$25:$G$28,MATCH(発注者入力シート!M9,発注者入力シート!$C$25:$C$28,0),4),"）") -> （様式-６） | Q1: 配置予定技術者①、②、③共通 | S1: 着色セルの凡例
A2: =CONCATENATE("評価項目",INDEX(発注者入力シート!$B$25:$G$28,MATCH(発注者入力シート!M9,発注者入力シート!$C$25:$C$28,0),5),"-",INDEX(発注者入力シート!$B$25:$G$28,MATCH(発注者入力シート!M9,発注者入力シート!$C$25:$C$28,0),6)) -> 評価項目（２）-③ | S2: （企業）
A3: 配置予定技術者の継続学習 | T3: ：「企業入力シート」、一覧表（別紙）で入力（数式リンク有）
T4: ：セルに直接入力が必要な箇所
H5: 会社（企業体）名： | K5: =IF(企業入力シート!C7="","",企業入力シート!C7) -> ○○建設
S6: （発注者）
T7: ：「発注者入力シート」で入力（数式リンク有）
A8: 対象： | B8: 配置予定の主任（監理）技術者が保有するCPDSユニット | T8: ：セルに直接入力が必要な箇所
A9: 配置予定技術者氏名 | F9: 保有するCPDSユニット | L9: ※評価結果
L10: （発注者記載欄） | S10: 【印刷について】
A11: ① | B11: =IF(企業入力シート!C18="","",企業入力シート!C18) | J11: ユニット | S11: このシートは「ページ設定」で「白黒印刷」と「印刷範囲」が設定されています。
A13: ② | B13: =IF(企業入力シート!C19="","",企業入力シート!C19) | J13: ユニット
A15: ③ | B15: =IF(企業入力シート!C20="","",企業入力シート!C20) | J15: ユニット
A17: (1) | B17: 保有CPDSユニットが確認できる資料として、一般社団法人 全国土木施工管理技士会連合会が発行した「継続学習制度（CPDS）学習履歴証明書」の写しを添付すること。
S18: 開始年度
A19: (2) | B19: =CONCATENATE("「継続学習制度（CPDS）学習履歴証明書」は、令和",S19,"年度から入札公告日前日時点（令和",(YEAR(発注者入力シート!H7)-2018),"年",MONTH(発注者入力シート!H7),"月",DAY(発注者入力シート!H7),"日時点）までに取得している保有CPDSユニットが確認できるものを添付すること。") -> 「継続学習制度（CPDS）学習履歴証明書」は、令和2年度から入札公告日前日時点（令和8年9月15日時点）までに取得している保有CPDSユニットが確認できるものを添付すること。 | S19: =発注者入力シート!F11-6 -> 2
A21: (3) | B21: 技術資料提出時に配置予定技術者が特定できない場合は、複数の候補者を記入できる。その場合、審査は候補者のうち配置予定技術者の評価点合計が最も低い者で評価する。
A23: (4) | B23: 上記事項の外、入札説明書本文にある要件を必ず確認すること。
A28: 技術資料提出工事名： | E28: =IF(発注者入力シート!C10="","",発注者入力シート!C10) -> 大社漁港海岸 農山漁村地域整備交付金（海岸環境）工事（２工区）その５
A30: 提出事務所名： | E30: =IF(発注者入力シート!C6="","",発注者入力シート!C6) -> 東部農林水産振興センター
A32: 有効範囲： | E32: =+発注者入力シート!$C$11 -> 令和9年7月31日までに入札公告された工事
A34: 対象技術者： | E34: 上記①～③の配置予定技術者のうち、評価結果が「◯」の者
A37: =CONCATENATE(" 今後、",+発注者入力シート!C6,"が発注する工事においては、本書の写し（※）をもって「配置予定技術者の継続学習」の貴社技術資料とみなし、その他添付資料の提出は不要とする。 ※本書の写しとは、収受印欄に収受の押印がある資料をいう。") -> 今後、東部農林水産振興センターが発注する工事においては、本書の写し（※）をもって「配置予定技術者の継続学習」の貴社技術資料とみなし、その他添付資料の提出は不要とする。 ※本書の写しとは、収受印欄に収受の押印がある資料をいう。
A39: ただし、上記配置予定技術者のうち、必要ユニット数未満の者が新たに評価基準以上のユニット数を取得した場合は、技術資料及び必要な添付資料を再提出すること。
A42: ="①"&"配置予定技術者："&B11&" 技術資料の提出方法" -> ①配置予定技術者： 技術資料の提出方法 | N42: （収受印）
A43: =IF(B11="",発注者入力シート!$AL$11,IF(INDEX(発注者入力シート!$B$25:$J$28,MATCH(発注者入力シート!M9,発注者入力シート!$C$25:$C$28,0),7)="未記入",発注者入力シート!$AL$8,IF(INDEX(発注者入力シート!$B$25:$J$28,MATCH(発注者入力シート!M9,発注者入力シート!$C$25:$C$28,0),7)="無",発注者入力シート!$AL$9,IF(INDEX(発注者入力シート!$B$25:$J$28,MATCH(発注者入力シート!M9,発注者入力シート!$C$25:$C$28,0),7)="有",発注者入力シート!$AL$10)))) -> 申請する場合は、「企業入力シート」の「押印済資料での提出」欄で「有」を選択してください。
A45: ="②"&"配置予定技術者："&B13&" 技術資料の提出方法" -> ②配置予定技術者： 技術資料の提出方法
A46: =IF(B13="",発注者入力シート!$AL$11,IF(INDEX(発注者入力シート!$B$25:$J$28,MATCH(発注者入力シート!M9,発注者入力シート!$C$25:$C$28,0),8)="未記入",発注者入力シート!$AL$8,IF(INDEX(発注者入力シート!$B$25:$J$28,MATCH(発注者入力シート!M9,発注者入力シート!$C$25:$C$28,0),8)="無",発注者入力シート!$AL$9,IF(INDEX(発注者入力シート!$B$25:$J$28,MATCH(発注者入力シート!M9,発注者入力シート!$C$25:$C$28,0),8)="有",発注者入力シート!$AL$10)))) -> 申請する場合は、「企業入力シート」の「押印済資料での提出」欄で「有」を選択してください。
A48: ="③"&"配置予定技術者："&B15&" 技術資料の提出方法" -> ③配置予定技術者： 技術資料の提出方法
A49: =IF(B15="",発注者入力シート!$AL$11,IF(INDEX(発注者入力シート!$B$25:$J$28,MATCH(発注者入力シート!M9,発注者入力シート!$C$25:$C$28,0),9)="未記入",発注者入力シート!$AL$8,IF(INDEX(発注者入力シート!$B$25:$J$28,MATCH(発注者入力シート!M9,発注者入力シート!$C$25:$C$28,0),9)="無",発注者入力シート!$AL$9,IF(INDEX(発注者入力シート!$B$25:$J$28,MATCH(発注者入力シート!M9,発注者入力シート!$C$25:$C$28,0),9)="有",発注者入力シート!$AL$10)))) -> 申請する場合は、「企業入力シート」の「押印済資料での提出」欄で「有」を選択してください。
A52: 【注】
B53: ・押印済資料で提出する場合、押印済資料で評価する。
B54: ・対象ユニット数が異なる押印済資料を提出した場合、当該評価項目の加算点はゼロとする。
