Workbook
Name 【企業】評価項目: 発注者入力シート!$L$6:$L$13
Name 【技術者】評価項目: 発注者入力シート!$M$6:$M$12
Name 【地域貢献】評価項目: 発注者入力シート!$N$6:$N$29
Name 【地理的条件】評価項目: 発注者入力シート!$O$6:$O$11
Name 企業回答: 発注者入力シート!$Z$6:$Z$9
Name 企業回答1: 発注者入力シート!$V$6:$V$8
Name 企業回答10: 発注者入力シート!$AE$6:$AE$9
Name 企業回答11: 発注者入力シート!$AF$6:$AF$7
Name 企業回答12: 発注者入力シート!$AG$6:$AG$9
Name 企業回答13: 発注者入力シート!$AH$6:$AH$8
Name 企業回答14: 発注者入力シート!$AI$6:$AI$9
Name 企業回答2: 発注者入力シート!$W$6:$W$11
Name 企業回答3: 発注者入力シート!$X$6:$X$11
Name 企業回答4: 発注者入力シート!$Y$6:$Y$8
Name 企業回答5: 発注者入力シート!$Z$6:$Z$9
Name 企業回答6: 発注者入力シート!$AA$6:$AA$12
Name 企業回答7: 発注者入力シート!$AB$6:$AB$9
Name 企業回答8: 発注者入力シート!$AC$6:$AC$17
Name 企業回答9: 発注者入力シート!$AD$6:$AD$8
Name 建設工事の種類: 発注者入力シート!$U$6:$U$21
Name 工事種別: 発注者入力シート!$T$6:$T$22
Name 地域密着型: 発注者入力シート!$S$6:$S$7
Name 評価項目番号: 発注者入力シート!$Q$6:$Q$12
Name 評価項目番号_枝番: 発注者入力シート!$R$6:$R$16
Name 様式番号: 発注者入力シート!$P$6:$P$25

Sheet 発注者入力シート
A1: 発注までに必要な作業 | L1: 【表３】プルダウンリスト | AX1: 技術資料「企業の工事成績評定点」、「配置予定技術者の工事成績評定点」の表示
A2: （１）発注工事の基本情報 | L2: 【表３】を編集すると評価項目（C列）のリストが変更できます（原則、着色セル以外編集不可）。 | AX2: 入力状況 | AY2: =C8&C9 -> 造園工事造園工事
B3: １．【表１】のC列に基本情報を直接入力してください | L3: 表中の着色セルを予備欄です。項目が不足する場合ここに入力すれば、プルダウンリストを追加できます。 | AX3: 工事種別 | AY3: 建設工事の種類 | AZ3: 判定用 | BA3: 表示（工事種別） | BB3: 表示（建設工事の種類） | BC3: 工事成績評価対象期間
B4: 【表１】 | L4: 【表３】 | AX4: 一般土木工事 | AY4: 土木一式工事 | AZ4: =AX4&AY4 -> 一般土木工事土木一式工事 | BA4: 一般土木工事、維持修繕工事 | BB4: 土木一式工事、とび・土工・ｺﾝｸﾘｰﾄ工事、しゅんせつ工事 | BC4: 工事成績（過去3年間で評価）
B5: 入力項目名 | C5: 入力欄 | L5: 【企業】評価項目 | M5: 【技術者】評価項目 | N5: 【地域貢献・その他】評価項目 | O5: 【地理的条件】評価項目 | P5: 様式番号 | Q5: 評価項目番号 | R5: 評価項目番号（枝番） | S5: 地域設定 | T5: 工事種別 | U5: 建設工事の種類 | V5: 企業回答1 | W5: 企業回答2 | X5: 企業回答3 | Y5: 企業回答4 | Z5: 企業回答5 | AA5: 企業回答6 | AB5: 企業回答7 | AC5: 企業回答8 | AD5: 企業回答9 | AE5: 企業回答10 | AF5: 企業回答11 | AG5: 企業回答12 | AH5: 企業回答13 | AI5: 企業回答14 | AX5: 一般土木工事 | AY5: とび・土工・コンクリート工事 | AZ5: =AX5&AY5 -> 一般土木工事とび・土工・コンクリート工事 | BA5: 一般土木工事、維持修繕工事 | BB5: 土木一式工事、とび・土工・ｺﾝｸﾘｰﾄ工事、しゅんせつ工事 | BC5: 工事成績（過去3年間で評価）
B6: 発注事務所名 | C6: 東部農林水産振興センター | D6: ←直接入力 | G6: 手引き | L6: 工事成績 | M6: 保有資格 | N6: 防災協定 | O6: 近隣施工実績 | P6: ２ | Q6: （１） | R6: ① | S6: 【地域設定】 | T6: 一般土木工事 | U6: 土木一式工事 | V6: 有 | W6: 国局長 | X6: 国局長の表彰 | Y6: 契約工事名 | Z6: 単体 | AA6: 監理技術者 | AB6: 本店 | AC6: ｼｮﾍﾞﾙ系掘削機(ｼｮﾍﾞﾙ) | AD6: 保有 | AE6: 第1ｸﾞﾙｰﾌﾟ | AF6: □ | AG6: 2回 | AH6: 元請 | AI6: 除雪業務 | AX6: 一般土木工事 | AY6: しゅんせつ工事 | AZ6: =AX6&AY6 -> 一般土木工事しゅんせつ工事 | BA6: 一般土木工事、維持修繕工事 | BB6: 土木一式工事、とび・土工・ｺﾝｸﾘｰﾄ工事、しゅんせつ工事 | BC6: 工事成績（過去3年間で評価）
B7: 入札公告日 | C7: 46281 | D7: ←ｙｙｙｙ/m/dで入力【重要】 | G7: 入札公告日前日 | H7: =C7-1 -> 46280 | I7: ←削除厳禁 | L7: 同種工事実績 | M7: 同種工事経験 | N7: 家畜伝染病防疫協定 | O7: 会社所在地 | P7: ３ | Q7: （２） | R7: ② | T7: アスファルト舗装工事・特殊舗装工事（旧舗装工事） | U7: とび・土工・コンクリート工事 | V7: 無 | W7: 国整備局部長 | X7: 国整備局部長の表彰 | Y7: 表彰状記載工事名 | Z7: 特別（特定）JV | AA7: 主任技術者 | AB7: 支店 | AC7: ｼｮﾍﾞﾙ系掘削機(ﾊﾞｯｸﾎｳ) | AD7: リース契約 | AE7: 第2ｸﾞﾙｰﾌﾟ | AF7: ■ | AG7: 1回 | AH7: 下請 | AI7: 散布業務 | AK7: 技術資料の提出方法の表示 | AX7: 維持修繕工事 | AY7: 土木一式工事 | AZ7: =AX7&AY7 -> 維持修繕工事土木一式工事 | BA7: 一般土木工事、維持修繕工事 | BB7: 土木一式工事、とび・土工・ｺﾝｸﾘｰﾄ工事、しゅんせつ工事 | BC7: 工事成績（過去3年間で評価）
B8: 工事種別 | C8: 造園工事 | D8: ←必須【入力結果が技術資料(企業成績評定点、技術者成績評定点）シートの対象工事欄に反映される】 | L8: 優良工事表彰 | M8: 技術者の表彰 | N8: ボランティア活動又はハートフルしまね | O8: 工場・会社所在地 | P8: ４ | Q8: （３） | R8: ③ | T8: 鋼橋上部工事 | U8: 鋼構造物工事 | W8: 国事務所長 | X8: 国事務所長の表彰 | Z8: 一般（経常）JV | AA8: 現場代理人 | AB8: 営業所 | AC8: ｼｮﾍﾞﾙ系掘削機(ﾄﾞﾗｸﾞﾗｲﾝ) | AE8: 第3ｸﾞﾙｰﾌﾟ | AG8: 0回 | AI8: 除雪・散布業務 | AK8: 未記入 | AL8: 「企業入力シート」の「押印済資料での提出」欄が未記入ですので、リストから「有」、「無」どちらかを選択してください。 | AX8: 維持修繕工事 | AY8: とび・土工・コンクリート工事 | AZ8: =AX8&AY8 -> 維持修繕工事とび・土工・コンクリート工事 | BA8: 一般土木工事、維持修繕工事 | BB8: 土木一式工事、とび・土工・ｺﾝｸﾘｰﾄ工事、しゅんせつ工事 | BC8: 工事成績（過去3年間で評価）
B9: 建設工事の種類 | C9: 造園工事 | D9: =IF(INDEX(AX3:BC31,MATCH(AY2,AZ3:AZ31,0),3)=AY2,INDEX(AX3:BC31,MATCH(AY2,AZ3:AZ31,0),6),"err") -> 工事成績（過去5年間で評価） | G9: ←エラー表示の場合、工事種別と建設工事の種類を再確認 | L9: プラント保有 | M9: 継続学習 | N9: 維持管理業務 | O9: サポート拠点 | P9: ５ | Q9: （４） | R9: ④ | T9: ﾌﾟﾚｽﾄﾚｽﾄｺﾝｸﾘｰﾄ構造物工事 | U9: 舗装工事 | W9: 知事 | X9: 知事表彰該当工事の表彰 | AA9: 担当技術者 | AC9: ｼｮﾍﾞﾙ系掘削機(ｸﾗﾑｼｪﾙ) | AK9: 無 | AL9: 本技術資料により提出します。 | AX9: アスファルト舗装工事・特殊舗装工事（旧舗装工事） | AY9: 舗装工事 | AZ9: =AX9&AY9 -> アスファルト舗装工事・特殊舗装工事（旧舗装工事）舗装工事 | BA9: アスファルト舗装工事・特殊舗装工事（旧舗装工事）、維持修繕工事 | BB9: 舗装工事 | BC9: 工事成績（過去3年間で評価）
B10: 工事名 | C10: 大社漁港海岸 農山漁村地域整備交付金（海岸環境）工事（２工区）その５ | L10: 法面機械保有 | M10: 技術者の成績 | N10: 除雪業務 | O10: - | P10: ６ | Q10: （５） | R10: ⑤ | T10: 港湾工事 | U10: しゅんせつ工事 | W10: 県課長 | X10: 県課長表彰該当工事の表彰 | AA10: 監理技術者補佐 | AC10: ｼｮﾍﾞﾙ系掘削機(ｸﾚｰﾝ) | AK10: 有 | AL10: 事前審査・証明書、又は別添押印済資料により提出しますので、本書への記載は省略します。 | AX10: 維持修繕工事 | AY10: 舗装工事 | AZ10: =AX10&AY10 -> 維持修繕工事舗装工事 | BA10: アスファルト舗装工事・特殊舗装工事（旧舗装工事）、維持修繕工事 | BB10: 舗装工事 | BC10: 工事成績（過去3年間で評価）
B11: 押印済資料有効期限 | C11: ="令和"&F11+1&"年7月31日までに入札公告された工事 " -> 令和9年7月31日までに入札公告された工事 | E11: 手引き年度 | F11: 8 | G11: =F11-1 -> 7 | H11: =G11-1 -> 6 | I11: =H11-1 -> 5 | J11: ←削除しないでください | L11: OPD制度参加登録 | M11: - | N11: 労働福祉（障がい者雇用） | P11: ７ | Q11: （６） | R11: ⑥ | T11: 機械設備工事 | U11: 機械器具設置工事 | W11: 県事務所長 | X11: 県事務所長表彰該当工事の表彰 | AC11: ｼｮﾍﾞﾙ系掘削機(ﾊﾟｲﾙﾄﾞﾗｲﾊﾞｰ) | AK11: 配置なし | AL11: 申請する場合は、「企業入力シート」の「押印済資料での提出」欄で「有」を選択してください。 | AX11: 鋼橋上部工事 | AY11: 鋼構造物工事 | AZ11: =AX11&AY11 -> 鋼橋上部工事鋼構造物工事 | BA11: 鋼橋上部工事 | BB11: 鋼構造物工事 | BC11: 工事成績（過去3年間で評価）
A12: （２）総合評価方式の評価項目、技術資料様式の番号情報 | L12: - | N12: 労働福祉（育児介護制度） | P12: ８ | R12: ⑦ | T12: 塗装工事 | U12: 塗装工事 | AC12: ﾌﾞﾙﾄﾞｰｻﾞｰ | AX12: ﾌﾟﾚｽﾄﾚｽﾄｺﾝｸﾘｰﾄ構造物工事 | AY12: 土木一式工事 | AZ12: =AX12&AY12 -> ﾌﾟﾚｽﾄﾚｽﾄｺﾝｸﾘｰﾄ構造物工事土木一式工事 | BA12: ﾌﾟﾚｽﾄﾚｽﾄｺﾝｸﾘｰﾄ構造物工事（旧ﾌﾟﾚｽﾄﾚｽﾄｺﾝｸﾘｰﾄ工事） | BB12: 土木一式工事 | BC12: 工事成績（過去3年間で評価）
B13: １．【表２】C列に発注工事の評価項目を入力してください（プルダウンリストから選択） | N13: 育児介護チェック表 | P13: ９ | R13: ⑧ | T13: 造園工事 | U13: 造園工事 | AC13: ﾄﾗｸﾀｰｼｮﾍﾞﾙ | AX13: 港湾工事 | AY13: 土木一式工事 | AZ13: =AX13&AY13 -> 港湾工事土木一式工事 | BA13: 港湾工事 | BB13: 土木一式工事、しゅんせつ工事 | BC13: 工事成績（過去3年間で評価）
B14: （特殊な評価項目でプルダウンリストに項目がない場合は、【表３】で項目を追加してください） | N14: 労働福祉（若手技術者雇用） | P14: １０ | R14: ⑨ | T14: さく井工事 | U14: さく井工事 | AC14: ﾓｰﾀｰｸﾞﾚｰﾀﾞｰ | AX14: 港湾工事 | AY14: しゅんせつ工事 | AZ14: =AX14&AY14 -> 港湾工事しゅんせつ工事 | BA14: 港湾工事 | BB14: 土木一式工事、しゅんせつ工事 | BC14: 工事成績（過去3年間で評価）
B15: ２．【表２】E～G列に様式番号と評価項目の番号をプルダウンリストで選択してください。 | N15: 登録基幹技能者 | P15: １１ | R15: ⑩ | T15: 法面処理工事 | U15: 電気工事 | AC15: 移動式ｸﾚｰﾝ | AX15: 機械設備工事 | AY15: 機械器具設置工事 | AZ15: =AX15&AY15 -> 機械設備工事機械器具設置工事 | BA15: 機械設備工事 | BB15: 機械器具設置工事、鋼構造物工事 | BC15: 工事成績（過去5年間で評価）
B16: （様式番号は表紙が1になるため、2から始まります。評価項目の番号は、入札説明書に記載する見出し番号とあわせてください） | N16: 若手・中堅技術者配置 | P16: １２ | T16: 維持修繕工事 | U16: 管工事 | AC16: 大型ﾀﾞﾝﾌﾟ車 | AX16: 機械設備工事 | AY16: 鋼構造物工事 | AZ16: =AX16&AY16 -> 機械設備工事鋼構造物工事 | BA16: 機械設備工事 | BB16: 機械器具設置工事、鋼構造物工事 | BC16: 工事成績（過去5年間で評価）
B17: ３．地域条件を設定する評価項目は、【表２】D列で【地域設定】を選択してください | N17: 若手技術者・若手従業員の新規雇用 | P17: １３ | T17: グラウト工事 | U17: 水道施設工事 | AX17: 塗装工事 | AY17: 塗装工事 | AZ17: =AX17&AY17 -> 塗装工事塗装工事 | BA17: 塗装工事、維持修繕工事 | BB17: 塗装工事 | BC17: 工事成績（過去5年間で評価）
B18: 【表２】 | F18: 様式番号 | G18: 評価項目（１）－①（例） | N18: 建設機械保有状況 | P18: １４ | T18: 管工事 | U18: 消防施設工事 | AX18: 維持修繕工事 | AY18: 塗装工事 | AZ18: =AX18&AY18 -> 維持修繕工事塗装工事 | BA18: 塗装工事、維持修繕工事 | BB18: 塗装工事 | BC18: 工事成績（過去5年間で評価）
B19: 区分 | C19: 評価項目 | D19: 地域設定 | E19: 様式－○ | F19: 評価項目○－○ | H19: ↓押印済資料提出状況【削除厳禁】 | N19: 消防団協力事業所 | P19: １５ | T19: 電気工事 | U19: 電気通信工事 | AX19: 造園工事 | AY19: 造園工事 | AZ19: =AX19&AY19 -> 造園工事造園工事 | BA19: 造園工事 | BB19: 造園工事 | BC19: 工事成績（過去5年間で評価）
B20: 企業 | C20: 工事成績 | E20: ２ | F20: （１） | G20: ① | H20: =IF(企業入力シート!B45="","未記入",企業入力シート!B45) -> 未記入 | N20: 応急危険度判定士 | P20: １６ | T20: 通信設備工事 | AX20: さく井工事 | AY20: さく井工事 | AZ20: =AX20&AY20 -> さく井工事さく井工事 | BA20: さく井工事 | BB20: さく井工事 | BC20: 工事成績（過去5年間で評価）
B21: 企業 | C21: 同種工事実績 | E21: ３ | F21: （１） | G21: ② | H21: =IF(企業入力シート!B46="","未記入",企業入力シート!B46) -> 未記入 | N21: CCUSの活用 | P21: １７ | AX21: 法面処理工事 | AY21: とび・土工・コンクリート工事 | AZ21: =AX21&AY21 -> 法面処理工事とび・土工・コンクリート工事 | BA21: 法面処理工事 | BB21: とび・土工・コンクリート工事 | BC21: 工事成績（過去3年間で評価）
B22: 企業 | F22: （１） | G22: ③ | H22: =IF(企業入力シート!B47="","未記入",企業入力シート!B47) -> 未記入 | N22: ＩＣＴ活用工事施工実績 | P22: １８ | AX22: 電気工事 | AY22: 電気工事 | AZ22: =AX22&AY22 -> 電気工事電気工事 | BA22: 電気工事、維持修繕工事 | BB22: 電気工事 | BC22: 工事成績（過去5年間で評価）
B23: 企業 | F23: （１） | G23: ④ | H23: =IF(企業入力シート!B48="","未記入",企業入力シート!B48) -> 未記入 | N23: 災害復旧工事受注実績 | P23: １９ | AX23: 電気工事 | AY23: 消防施設工事 | AZ23: =AX23&AY23 -> 電気工事消防施設工事 | BA23: 電気工事、維持修繕工事 | BB23: 電気工事 | BC23: 工事成績（過去5年間で評価）
B24: 企業 | H24: =IF(企業入力シート!B49="","未記入",企業入力シート!B49) -> 未記入 | N24: 海上援助活動 | P24: ２０ | AX24: 維持修繕工事 | AY24: 電気工事 | AZ24: =AX24&AY24 -> 維持修繕工事電気工事 | BA24: 電気工事、維持修繕工事 | BB24: 電気工事 | BC24: 工事成績（過去5年間で評価）
B25: 配置予定技術者 | C25: 保有資格 | E25: ４ | F25: （２） | G25: ① | H25: =IF(企業入力シート!$C$18="","配置なし",IF(企業入力シート!B66="","未記入",企業入力シート!B66)) -> 配置なし | I25: =IF(企業入力シート!$C$19="","配置なし",IF(企業入力シート!B73="","未記入",企業入力シート!B73)) -> 配置なし | J25: =IF(企業入力シート!$C$20="","配置なし",IF(企業入力シート!B80="","未記入",企業入力シート!B80)) -> 配置なし | N25: 橋梁維持修繕工事実績 | AX25: グラウト工事 | AY25: 土木一式工事 | AZ25: =AX25&AY25 -> グラウト工事土木一式工事 | BA25: グラウト工事 | BB25: 土木一式工事、とび・土工・ｺﾝｸﾘｰﾄ工事 | BC25: 工事成績（過去5年間で評価）
B26: 配置予定技術者 | C26: 同種工事経験 | E26: ５ | F26: （２） | G26: ② | H26: =IF(企業入力シート!$C$18="","配置なし",IF(企業入力シート!B67="","未記入",企業入力シート!B67)) -> 配置なし | I26: =IF(企業入力シート!$C$19="","配置なし",IF(企業入力シート!B74="","未記入",企業入力シート!B74)) -> 配置なし | J26: =IF(企業入力シート!$C$20="","配置なし",IF(企業入力シート!B81="","未記入",企業入力シート!B81)) -> 配置なし | N26: BCP認定状況 | AX26: グラウト工事 | AY26: とび・土工・コンクリート工事 | AZ26: =AX26&AY26 -> グラウト工事とび・土工・コンクリート工事 | BA26: グラウト工事 | BB26: 土木一式工事、とび・土工・ｺﾝｸﾘｰﾄ工事 | BC26: 工事成績（過去5年間で評価）
B27: 配置予定技術者 | C27: 継続学習 | E27: ６ | F27: （２） | G27: ③ | H27: =IF(企業入力シート!$C$18="","配置なし",IF(企業入力シート!B68="","未記入",企業入力シート!B68)) -> 配置なし | I27: =IF(企業入力シート!$C$19="","配置なし",IF(企業入力シート!B75="","未記入",企業入力シート!B75)) -> 配置なし | J27: =IF(企業入力シート!$C$20="","配置なし",IF(企業入力シート!B82="","未記入",企業入力シート!B82)) -> 配置なし | N27: - | AX27: 管工事 | AY27: 管工事 | AZ27: =AX27&AY27 -> 管工事管工事 | BA27: 管工事 | BB27: 管工事、水道施設工事 | BC27: 工事成績（過去5年間で評価）
B28: 配置予定技術者 | F28: （２） | G28: ④ | H28: =IF(企業入力シート!$C$18="","配置なし",IF(企業入力シート!B69="","未記入",企業入力シート!B69)) -> 配置なし | I28: =IF(企業入力シート!$C$19="","配置なし",IF(企業入力シート!B76="","未記入",企業入力シート!B76)) -> 配置なし | J28: =IF(企業入力シート!$C$20="","配置なし",IF(企業入力シート!B83="","未記入",企業入力シート!B83)) -> 配置なし | N28: - | AX28: 管工事 | AY28: 水道施設工事 | AZ28: =AX28&AY28 -> 管工事水道施設工事 | BA28: 管工事 | BB28: 管工事、水道施設工事 | BC28: 工事成績（過去5年間で評価）
B29: 地域貢献・その他 | C29: 家畜伝染病防疫協定 | E29: ７ | F29: （３） | G29: ① | H29: =IF(企業入力シート!B53="","未記入",企業入力シート!B53) -> 未記入 | AX29: 通信設備工事 | AY29: 電気通信工事 | AZ29: =AX29&AY29 -> 通信設備工事電気通信工事 | BA29: 通信設備工事 | BB29: 電気通信工事 | BC29: 工事成績（過去5年間で評価）
B30: 地域貢献・その他 | C30: 維持管理業務 | E30: ８ | F30: （３） | G30: ② | H30: =IF(企業入力シート!B54="","未記入",企業入力シート!B54) -> 未記入 | AX30: 一般土木工事 | AY30: 鋼構造物工事 | AZ30: =AX30&AY30 -> 一般土木工事鋼構造物工事 | BC30: 評価対象工事は、個別判断
B31: 地域貢献・その他 | C31: ボランティア活動又はハートフルしまね | E31: ９ | F31: （３） | G31: ③ | H31: =IF(企業入力シート!B55="","未記入",企業入力シート!B55) -> 未記入 | AX31: 維持修繕工事 | AY31: 鋼構造物工事 | AZ31: =AX31&AY31 -> 維持修繕工事鋼構造物工事 | BC31: 評価対象工事は、個別判断
B32: 地域貢献・その他 | C32: 労働福祉（障がい者雇用） | E32: １０ | F32: （３） | G32: ④ | H32: =IF(企業入力シート!B56="","未記入",企業入力シート!B56) -> 未記入
B33: 地域貢献・その他 | C33: 労働福祉（育児介護制度） | E33: １１ | F33: （３） | G33: ⑤ | H33: =IF(企業入力シート!B57="","未記入",企業入力シート!B57) -> 未記入
B34: 地域貢献・その他 | C34: 育児介護チェック表 | E34: １２ | F34: （３） | G34: ⑥ | H34: =IF(企業入力シート!B58="","未記入",企業入力シート!B58) -> 未記入
B35: 地域貢献・その他 | C35: 若手技術者・若手従業員の新規雇用 | E35: １３ | F35: （３） | G35: ⑦ | H35: =IF(企業入力シート!B59="","未記入",企業入力シート!B59) -> 未記入 | L35: 【表４】表紙記載文リスト
B36: 地域貢献・その他 | C36: CCUSの活用 | E36: １４ | F36: （３） | G36: ⑧ | H36: =IF(企業入力シート!B60="","未記入",企業入力シート!B60) -> 未記入 | L36: 【表４】を編集すると技術資料（表紙）「2 提出書類（必要な項目について）」で記載する様式の名称変更ができます。
B37: 地域貢献・その他 | H37: =IF(企業入力シート!B61="","未記入",企業入力シート!B61) -> 未記入 | L37: （【隠岐】企業の法面機械保有は、機械名が○○になっていますので、必ず編集が必要です。）
B38: 地域貢献・その他 | H38: =IF(企業入力シート!B62="","未記入",企業入力シート!B62) -> 未記入 | L38: 【表４】
B39: 地理的条件 | F39: （１） | G39: ④ | L39: ↓【重要】表２のD列で項目を記載したもの以外は、エラー表示される【編集厳禁】
B40: 地理的条件 | L40: 様式番号 | M40: 区分 | N40: 評価項目名 | O40: 表紙記載文
B41: その他様式 | C41: 設計図書、技術資料質問書 | E41: １５ | L41: =INDEX($B$20:$G$40,MATCH(N41,$C$20:$C$40,0),4) -> ２ | M41: 企業 | N41: =L6 -> 工事成績 | O41: =CONCATENATE(" ○企業の工事成績評定点 （様式-",L41,"-１、様式-",L41,"-２）") -> ○企業の工事成績評定点 （様式-２-１、様式-２-２）
B42: その他様式 | C42: 設計図書、技術資料回答書 | E42: １６ | L42: =INDEX($B$20:$G$40,MATCH(N42,$C$20:$C$40,0),4) -> ３ | N42: =L7 -> 同種工事実績 | O42: =CONCATENATE(" ○企業の同種工事の施工実績 （様式-",L42,"）") -> ○企業の同種工事の施工実績 （様式-３）
B43: その他様式 | C43: 評価内容説明要求書 | E43: １７ | L43: =INDEX($B$20:$G$40,MATCH(N43,$C$20:$C$40,0),4) -> #N/A | N43: =L8 -> 優良工事表彰 | O43: =CONCATENATE(" ○企業の優良工事表彰（優良工事施工団体表彰） （様式-",L43,"）") -> #N/A
B44: その他様式 | C44: 評価内容回答書 | E44: １８ | L44: =INDEX($B$20:$G$40,MATCH(N44,$C$20:$C$40,0),4) -> #N/A | N44: =L9 -> プラント保有 | O44: =CONCATENATE(" ○アスファルト合材プラント保有の有無 （様式-",L44,"）") -> #N/A
L45: =INDEX($B$20:$G$24,MATCH(N45,$C$20:$C$24,0),4) -> #N/A | N45: =L10 -> 法面機械保有 | O45: =CONCATENATE(" ○企業の○○機の保有の有無 （様式-",L45,"）") -> #N/A
A46: （３）確認・修正作業【重要】 | L46: =INDEX($B$20:$G$40,MATCH(N46,$C$20:$C$40,0),4) -> #N/A | N46: =L11 -> OPD制度参加登録 | O46: =CONCATENATE(" ○企業の継続能力（CPD）制度の参加登録 （様式-",L46,"）") -> #N/A
A47: １．【技術資料（表紙）の確認・修正事項】 | L47: =INDEX($B$20:$G$40,MATCH(N47,$C$20:$C$40,0),4) -> #N/A | N47: =L12 -> - | O47: 対象外
B48: ①「2 提出書類（必要な項目について）」を確認してください。記載文の修正が必要な場合、【表４】O列数式内の記載文を編集してください。 | L48: =INDEX($B$20:$G$40,MATCH(N48,$C$20:$C$40,0),4) -> #N/A | N48: =L13 -> 0 | O48: 表３【企業】評価項目の着色セルに項目を記入した場合、ここに記載文を直接入力！
B49: （【隠岐】企業の法面機械保有は、機械名が○○になっていますので、必ず編集が必要です。） | L49: =INDEX($B$20:$G$40,MATCH(N49,$C$20:$C$40,0),4) -> ４ | M49: 技術者 | N49: =M6 -> 保有資格 | O49: =CONCATENATE(" ○配置予定技術者の資格 （様式-",L49,"）") -> ○配置予定技術者の資格 （様式-４）
B50: ②エラー表示がでている行を非表示にしてください（行の削除厳禁）。 | L50: =INDEX($B$20:$G$40,MATCH(N50,$C$20:$C$40,0),4) -> ５ | N50: =M7 -> 同種工事経験 | O50: =CONCATENATE(" ○配置予定技術者の同種工事の施工経験 （様式-",L50,"）") -> ○配置予定技術者の同種工事の施工経験 （様式-５）
L51: =INDEX($B$20:$G$40,MATCH(N51,$C$20:$C$40,0),4) -> #N/A | N51: =M8 -> 技術者の表彰 | O51: =CONCATENATE(" ○配置予定技術者の優秀建設技術者表彰 （様式-",L51,"）") -> #N/A
A52: ２．【技術資料（各種様式）の確認・修正事項】 | L52: =INDEX($B$20:$G$40,MATCH(N52,$C$20:$C$40,0),4) -> ６ | N52: =M9 -> 継続学習 | O52: =CONCATENATE(" ○配置予定技術者の継続学習 （様式-",L52,"）") -> ○配置予定技術者の継続学習 （様式-６）
B53: ①技術資料の緑着色セルに正しく情報が転記されているか確認してください | L53: =INDEX($B$20:$G$40,MATCH(N53,$C$20:$C$40,0),4) -> #N/A | N53: =M10 -> 技術者の成績 | O53: =CONCATENATE(" ○配置予定技術者の工事成績評定点 （様式-",L53,"-１、様式-",L53,"-２）") -> #N/A | Y53: =VLOOKUP("４",L56:N79,3,FALSE) -> #N/A
B54: （転記されていない場合は、もう一度【表１～４】の入力条件を確認後、必要に応じ緑着色セルを直接入力により修正してください） | L54: =INDEX($B$20:$G$40,MATCH(N54,$C$20:$C$40,0),4) -> #N/A | N54: =M11 -> - | O54: 対象外 | Y54: =COUNTIF(O56:V79,"*"&VLOOKUP("４",L56:N79,3,FALSE)&"*") -> 13
B55: ②技術資料の黄色着色セルに必要な情報を直接入力してください | L55: =INDEX($B$20:$G$40,MATCH(N55,$C$20:$C$40,0),4) -> #N/A | N55: =M12 -> 0 | O55: 表３【技術者】評価項目の着色セルに項目を記入した場合、ここに記載文を直接入力！ | Y55: =COUNTIF(O56:V79,"*防災協定*") -> 0
B56: ③その他箇所の記載文や文字切れなど不備がないか確認し、必要に応じて修正してください | L56: =INDEX($B$20:$G$40,MATCH(N56,$C$20:$C$40,0),4) -> #N/A | M56: 地域貢献・その他 | N56: =N6 -> 防災協定 | O56: =CONCATENATE(" ○防災協定の締結実績 （様式-",L56,"）") -> #N/A
L57: =INDEX($B$20:$G$40,MATCH(N57,$C$20:$C$40,0),4) -> ７ | N57: =N7 -> 家畜伝染病防疫協定 | O57: =CONCATENATE(" ○家畜伝染病防疫協定の締結実績 （様式-",L57,"）") -> ○家畜伝染病防疫協定の締結実績 （様式-７）
A58: ３．【評価基準の確認】 | L58: =INDEX($B$20:$G$40,MATCH(N58,$C$20:$C$40,0),4) -> ９ | N58: =N8 -> ボランティア活動又はハートフルしまね | O58: =CONCATENATE(" ○ボランティア活動又はハートフルしまねへの参加実績 （様式-",L58,"）") -> ○ボランティア活動又はハートフルしまねへの参加実績 （様式-９）
B59: ①「発注者設定内容確認シート」で入札説明書に記載した内容と様式に記載した内容が一致しているか確認してください | L59: =INDEX($B$20:$G$40,MATCH(N59,$C$20:$C$40,0),4) -> ８ | N59: =N9 -> 維持管理業務 | O59: =CONCATENATE(" ○県管理公共土木施設に関する維持管理業務または海岸漂着物の回収業務の契約実績 （様式-",L59,"）") -> ○県管理公共土木施設に関する維持管理業務または海岸漂着物の回収業務の契約実績 （様式-８）
L60: =INDEX($B$20:$G$40,MATCH(N60,$C$20:$C$40,0),4) -> #N/A | N60: =N10 -> 除雪業務 | O60: =CONCATENATE(" ○県管理道路・空港を含む除雪業務の契約実績 （様式-",L60,"）") -> #N/A
A61: ４．【PPI掲載用ファイルの作成】 | L61: =INDEX($B$20:$G$40,MATCH(N61,$C$20:$C$40,0),4) -> １０ | N61: =N11 -> 労働福祉（障がい者雇用） | O61: =CONCATENATE(" ○労働福祉関連の状況(a 障がい者雇用の実態) （様式-",L61,"）") -> ○労働福祉関連の状況(a 障がい者雇用の実態) （様式-１０）
B62: ①PPI掲載用ファイルを別ファイルで作成してください（シート削除するとシートの復活できないので、必ず削除作業前に別ファイルを作成してください） | L62: =INDEX($B$20:$G$40,MATCH(N62,$C$20:$C$40,0),4) -> １１ | N62: =N12 -> 労働福祉（育児介護制度） | O62: =CONCATENATE(" ○労働福祉関連の状況(b 育児・介護休業に関する制度) （様式-",L62,"）") -> ○労働福祉関連の状況(b 育児・介護休業に関する制度) （様式-１１）
B63: ②不要な技術資料様式は、シート毎削除してください | L63: =INDEX($B$20:$G$40,MATCH(N63,$C$20:$C$40,0),4) -> １２ | N63: =N13 -> 育児介護チェック表 | O63: =CONCATENATE(" ○育児・介護休業に関する制度 チェック表 （様式-",L63,"）") -> ○育児・介護休業に関する制度 チェック表 （様式-１２）
B64: ③収受印を発行しない様式は、破線以下を全て削除してください | L64: =INDEX($B$20:$G$40,MATCH(N64,$C$20:$C$40,0),4) -> #N/A | N64: =N14 -> 労働福祉（若手技術者雇用） | O64: =CONCATENATE(" ○労働福祉関連の状況(d 若手技術者の新規雇用) （様式-",L64,"）") -> #N/A
B65: ④「企業入力シート」の「３提出資料確認欄」について、不要項目などを削除・修正してください | L65: =INDEX($B$20:$G$40,MATCH(N65,$C$20:$C$40,0),4) -> #N/A | N65: =N15 -> 登録基幹技能者 | O65: =CONCATENATE(" ○登録基幹技能者の配置 （様式-",L65,"）") -> #N/A
B66: （収受印を発行しない発注機関は、「３提出資料確認欄」を全て削除） | L66: =INDEX($B$20:$G$40,MATCH(N66,$C$20:$C$40,0),4) -> #N/A | N66: =N16 -> 若手・中堅技術者配置 | O66: =CONCATENATE(" ○若手・中堅技術者の配置 （様式-",L66,"）") -> #N/A
L67: =INDEX($B$20:$G$40,MATCH(N67,$C$20:$C$40,0),4) -> １３ | N67: =N17 -> 若手技術者・若手従業員の新規雇用 | O67: =CONCATENATE(" ○若手技術者・若手従業員の新規雇用 （様式-",L67,"）") -> ○若手技術者・若手従業員の新規雇用 （様式-１３）
A68: ５．【技術審査（競争参加資格委員会）の準備作業】 | L68: =INDEX($B$20:$G$40,MATCH(N68,$C$20:$C$40,0),4) -> #N/A | N68: =N18 -> 建設機械保有状況 | O68: =CONCATENATE(" ○建設機械の保有状況 （様式-",L68,"）") -> #N/A
B69: ①「発注者審査作業用」シートに記載されている表中の不要な項目の列全体を削除してください | L69: =INDEX($B$20:$G$40,MATCH(N69,$C$20:$C$40,0),4) -> #N/A | N69: =N19 -> 消防団協力事業所 | O69: =CONCATENATE(" ○消防団協力事業所の認定 （様式-",L69,"）") -> #N/A
B70: （文字のサイズ、セルの結合、列幅の調整などは、「技術審査用ファイル」で行うため、「発注者作業用シート」では、体裁を整える必要はありません） | L70: =INDEX($B$20:$G$40,MATCH(N70,$C$20:$C$40,0),4) -> #N/A | N70: =N20 -> 応急危険度判定士 | O70: =CONCATENATE(" ○島根県地震被災建築物応急危険度判定士の登録 （様式-",L70,"）") -> #N/A
L71: =INDEX($B$20:$G$40,MATCH(N71,$C$20:$C$40,0),4) -> １４ | N71: =N21 -> CCUSの活用 | O71: =CONCATENATE(" ○建設キャリアアップシステム（CCUS）の活用 （様式-",L71,"）") -> ○建設キャリアアップシステム（CCUS）の活用 （様式-１４）
B72: ※「発注者審査作業用」シート | L72: =INDEX($B$25:$G$40,MATCH(N72,$C$25:$C$40,0),4) -> #N/A | N72: =N22 -> ＩＣＴ活用工事施工実績 | O72: =CONCATENATE(" ○ＩＣＴ活用工事の施工実績 （様式-",L72,"）") -> #N/A
B73: 企業の申請内容を数式でリンクさせて評価項目毎に一覧表で整理。指定された範囲を「技術審査用ファイル」の「作業用シート」に一括コピーすることで、 | L73: =INDEX($B$20:$G$40,MATCH(N73,$C$20:$C$40,0),4) -> #N/A | N73: =N23 -> 災害復旧工事受注実績 | O73: =CONCATENATE(" ○災害復旧工事の受注実績 （様式-",L73,"）") -> #N/A
B74: 技術審査（競争参加資格委員会）や入札結果調書を簡単に作成することが可能 | L74: =INDEX($B$20:$G$40,MATCH(N74,$C$20:$C$40,0),4) -> #N/A | N74: =N24 -> 海上援助活動 | O74: =CONCATENATE(" ○海上援助活動の実績 （様式-",L74,"）") -> #N/A
L75: =INDEX($B$20:$G$40,MATCH(N75,$C$20:$C$40,0),4) -> #N/A | N75: =N25 -> 橋梁維持修繕工事実績 | O75: =CONCATENATE(" ○橋梁の維持修繕工事の施工実績 （様式-",L75,"）") -> #N/A
L76: =INDEX($B$20:$G$40,MATCH(N76,$C$20:$C$40,0),4) -> #N/A | N76: =N26 -> BCP認定状況 | O76: =CONCATENATE(" ○BCPの認定状況 （様式-",L76,"）") -> #N/A
L77: =INDEX($B$20:$G$40,MATCH(N77,$C$20:$C$40,0),4) -> #N/A | N77: =N27 -> - | O77: 対象外
L78: =INDEX($B$20:$G$40,MATCH(N78,$C$20:$C$40,0),4) -> #N/A | N78: =N28 -> - | O78: 対象外
L79: =INDEX($B$20:$G$40,MATCH(N79,$C$20:$C$40,0),4) -> #N/A | N79: =N29 -> 0 | O79: 表３【地域貢献・その他】評価項目の着色セルに項目を記入した場合、ここに記載文を直接入力！
B80: ※技術審査用ファイル | L80: =INDEX($B$20:$G$40,MATCH(N80,$C$20:$C$40,0),4) -> #N/A | M80: 地理的条件 | N80: =O6 -> 近隣施工実績 | O80: =CONCATENATE(" ○地理的条件（近隣地域での施工実績） （様式-",L80,"）") -> #N/A
B81: このファイルの「発注者作業用シート」から各企業の申請内容を一括コピーし、「技術審査用ファイル」で集計することで、技術審査（競争参加資格委員会） | L81: =INDEX($B$20:$G$40,MATCH(N81,$C$20:$C$40,0),4) -> #N/A | N81: =O7 -> 会社所在地 | O81: =CONCATENATE(" ○地理的条件（会社所在地） （様式-",L81,"）") -> #N/A
B82: 用の資料や入札結果調書が簡単に作成可能 | L82: =INDEX($B$20:$G$40,MATCH(N82,$C$20:$C$40,0),4) -> #N/A | N82: =O8 -> 工場・会社所在地 | O82: =CONCATENATE(" ○地理的条件（橋梁用桁製作の機能を有する工場及び建設業法上の営業所所在地） （様式-",L82,"）") -> #N/A
A83: ＜発注準備から入札結果調書作成までの全体イメージ＞ | L83: =INDEX($B$20:$G$40,MATCH(N83,$C$20:$C$40,0),4) -> #N/A | N83: =O9 -> サポート拠点 | O83: =CONCATENATE(" ○地理的条件（サポート拠点の所在地及び技術者の在籍） （様式-",L83,"）") -> #N/A
L84: =INDEX($B$20:$G$40,MATCH(N84,$C$20:$C$40,0),4) -> #N/A | N84: =O10 -> - | O84: 対象外
L85: =INDEX($B$20:$G$40,MATCH(N85,$C$20:$C$40,0),4) -> #N/A | N85: =O11 -> 0 | O85: 表３【地理的条件】評価項目の着色セルに項目を記入した場合、ここに記載文を直接入力！

Sheet 企業入力シート
A1: 1.企業情報
A2: 表のC列（赤枠内）に企業情報を入力してください。入力した情報は、各種様式に反映されます。
B3: 項目名 | C3: 企業情報記入欄
A4: 1 | B4: 提出日 | C4: 2026/ / | D4: ←ｙｙｙｙ/m/dで入力
A5: 2
A6: 3 | B6: 住所
A7: 4 | B7: 商号又は名称 | C7: ○○建設
A8: 5 | B8: 代表者 | C8: ○○ ○○
A9: 6 | B9: 担当者
A10: 7 | B10: 部署
A11: 8 | B11: 電話番号
A12: 9 | B12: ＦＡＸ番号
A13: 10 | B13: Ｅ－mail
A15: 2.配置予定技術者の氏名
A16: 表のC・D列（赤枠内）に配置予定技術者情報を入力してください。入力した情報は、各種様式に反映されます。
B17: 配置予定技術者 | C17: 氏名記入欄 | D17: 生年月日
A18: 1 | B18: 配置予定技術者① | E18: ←ｙｙｙｙ/m/dで入力
A19: 2 | B19: 配置予定技術者② | E19: ←ｙｙｙｙ/m/dで入力
A20: 3 | B20: 配置予定技術者③ | E20: ←ｙｙｙｙ/m/dで入力
B21: ※監理技術者補佐は除く。
A23: 3.事前審査・証明書による申請
A24: 事前審査・証明書で提出する評価項目がある場合、該当するものに「○」を入力してください。事前審査・証明書で提出する項目については、技術資料及び添付資料を提出する必要はありません。
A25: 下欄の入力内容は「表紙」シートに反映されます。
A26: =COUNTA(B27:B36) -> 0 | B26: 証明書での提出 | C26: 項目 | K26: ○
A27: =COUNTA(B27) -> 0 | C27: 【土木一式】企業の工事成績評定点（県）
A28: =COUNTA($B$27:B28) -> 0 | C28: 【舗装】企業の工事成績評定点（県）
A29: =COUNTA($B$27:B29) -> 0 | C29: 【法面】企業の工事成績評定点（県）
A30: =COUNTA($B$27:B30) -> 0 | C30: 【港湾】企業の工事成績評定点（県）
A31: =COUNTA($B$27:B31) -> 0 | C31: 防災協定の締結実績
A32: =COUNTA($B$27:B32) -> 0 | C32: 家畜伝染病防疫協定の締結実績
A33: =COUNTA($B$27:B33) -> 0 | C33: ボランティア活動又はハートフルしまねへの参加実績
A34: =COUNTA($B$27:B34) -> 0 | C34: 維持管理業務等の契約実績（県）
A35: =COUNTA($B$27:B35) -> 0 | C35: 除雪業務の契約実績（県）
A36: =COUNTA($B$27:B36) -> 0 | C36: 労働福祉関連（育児介護・こっころ）
A38: 4.押印済資料で提出する評価項目
A39: 発注者収受印欄に押印した技術資料の写し（以下「押印済資料」という。）で技術資料を提出する評価項目がある場合は、表のB列（赤枠）に「有」を、ない場合は「無」を選択してください。
A41: 「有」を選択した評価項目は、このファイルで技術資料を作成する必要はありません。押印済資料のみ提出してください。
A43: ＜企業＞
B44: 押印済資料での提出 | C44: 様式名
C45: =INDEX(発注者入力シート!$L$41:$T$48,MATCH(発注者入力シート!C20,発注者入力シート!$N$41:$N$48,0),4) -> ○企業の工事成績評定点 （様式-２-１、様式-２-２）
C46: =INDEX(発注者入力シート!$L$41:$T$48,MATCH(発注者入力シート!C21,発注者入力シート!$N$41:$N$48,0),4) -> ○企業の同種工事の施工実績 （様式-３）
C47: =INDEX(発注者入力シート!$L$41:$T$48,MATCH(発注者入力シート!C22,発注者入力シート!$N$41:$N$48,0),4) -> 表３【企業】評価項目の着色セルに項目を記入した場合、ここに記載文を直接入力！
C48: =INDEX(発注者入力シート!$L$41:$T$48,MATCH(発注者入力シート!C23,発注者入力シート!$N$41:$N$48,0),4) -> 表３【企業】評価項目の着色セルに項目を記入した場合、ここに記載文を直接入力！
C49: =INDEX(発注者入力シート!$L$41:$T$48,MATCH(発注者入力シート!C24,発注者入力シート!$N$41:$N$48,0),4) -> 表３【企業】評価項目の着色セルに項目を記入した場合、ここに記載文を直接入力！
A51: ＜地域貢献・その他＞
B52: 押印済資料での提出 | C52: 様式名
C53: =INDEX(発注者入力シート!$L$56:$T$79,MATCH(発注者入力シート!C29,発注者入力シート!$N$56:$N$79,0),4) -> ○家畜伝染病防疫協定の締結実績 （様式-７）
C54: =INDEX(発注者入力シート!$L$56:$T$79,MATCH(発注者入力シート!C30,発注者入力シート!$N$56:$N$79,0),4) -> ○県管理公共土木施設に関する維持管理業務または海岸漂着物の回収業務の契約実績 （様式-８）
C55: =INDEX(発注者入力シート!$L$56:$T$79,MATCH(発注者入力シート!C31,発注者入力シート!$N$56:$N$79,0),4) -> ○ボランティア活動又はハートフルしまねへの参加実績 （様式-９）
C56: =INDEX(発注者入力シート!$L$56:$T$79,MATCH(発注者入力シート!C32,発注者入力シート!$N$56:$N$79,0),4) -> ○労働福祉関連の状況(a 障がい者雇用の実態) （様式-１０）
C57: =INDEX(発注者入力シート!$L$56:$T$79,MATCH(発注者入力シート!C33,発注者入力シート!$N$56:$N$79,0),4) -> ○労働福祉関連の状況(b 育児・介護休業に関する制度) （様式-１１）
C58: =INDEX(発注者入力シート!$L$56:$T$79,MATCH(発注者入力シート!C34,発注者入力シート!$N$56:$N$79,0),4) -> ○育児・介護休業に関する制度 チェック表 （様式-１２）
C59: =INDEX(発注者入力シート!$L$56:$T$79,MATCH(発注者入力シート!C35,発注者入力シート!$N$56:$N$79,0),4) -> ○若手技術者・若手従業員の新規雇用 （様式-１３）
C60: =INDEX(発注者入力シート!$L$56:$T$79,MATCH(発注者入力シート!C36,発注者入力シート!$N$56:$N$79,0),4) -> ○建設キャリアアップシステム（CCUS）の活用 （様式-１４）
C61: =INDEX(発注者入力シート!$L$56:$T$79,MATCH(発注者入力シート!C37,発注者入力シート!$N$56:$N$79,0),4) -> 表３【地域貢献・その他】評価項目の着色セルに項目を記入した場合、ここに記載文を直接入力！
C62: =INDEX(発注者入力シート!$L$56:$T$79,MATCH(発注者入力シート!C38,発注者入力シート!$N$56:$N$79,0),4) -> 表３【地域貢献・その他】評価項目の着色セルに項目を記入した場合、ここに記載文を直接入力！
A64: =CONCATENATE("＜配置予定技術者① ：",C18,">""") -> ＜配置予定技術者① ：>"
B65: 押印済資料での提出 | C65: 様式名
C66: =INDEX(発注者入力シート!$L$49:$T$55,MATCH(発注者入力シート!C25,発注者入力シート!$N$49:$N$55,0),4) -> ○配置予定技術者の資格 （様式-４）
C67: =INDEX(発注者入力シート!$L$49:$T$55,MATCH(発注者入力シート!C26,発注者入力シート!$N$49:$N$55,0),4) -> ○配置予定技術者の同種工事の施工経験 （様式-５）
C68: =INDEX(発注者入力シート!$L$49:$T$55,MATCH(発注者入力シート!C27,発注者入力シート!$N$49:$N$55,0),4) -> ○配置予定技術者の継続学習 （様式-６）
C69: =INDEX(発注者入力シート!$L$49:$T$55,MATCH(発注者入力シート!C28,発注者入力シート!$N$49:$N$55,0),4) -> 表３【技術者】評価項目の着色セルに項目を記入した場合、ここに記載文を直接入力！
A71: =CONCATENATE("＜配置予定技術者② ：",C19,">""") -> ＜配置予定技術者② ：>"
B72: 押印済資料での提出 | C72: 様式名
C73: =C66 -> ○配置予定技術者の資格 （様式-４）
C74: =C67 -> ○配置予定技術者の同種工事の施工経験 （様式-５）
C75: =C68 -> ○配置予定技術者の継続学習 （様式-６）
C76: =C69 -> 表３【技術者】評価項目の着色セルに項目を記入した場合、ここに記載文を直接入力！
A78: =CONCATENATE("＜配置予定技術者③ ：",C20,">""") -> ＜配置予定技術者③ ：>"
B79: 押印済資料での提出 | C79: 様式名
C80: =C73 -> ○配置予定技術者の資格 （様式-４）
C81: =C74 -> ○配置予定技術者の同種工事の施工経験 （様式-５）
C82: =C75 -> ○配置予定技術者の継続学習 （様式-６）
C83: =C76 -> 表３【技術者】評価項目の着色セルに項目を記入した場合、ここに記載文を直接入力！

Sheet ファイル使用上の注意事項
A1: 技術資料作成用エクセル形式の電子ファイル使用上の注意事項
A3: ○技術資料【PDF形式】と参考資料【本エクセル形式】の位置づけについて
A4: (1) | B4: 本エクセル形式で作成したデータをPDF形式に変換したものを「技術資料」として、提出しなければなりません。 （提出：必須）
A6: (2) | B6: 本エクセル形式は、発注者が技術資料の審査を行う際に「参考資料」として使用しますので、提出の協力をお願いします。 本エクセル形式のみの提出をもって、技術資料を提出したことにはなりませんので、ご注意ください。
A11: ○エクセル形式使用時及び技術資料提出時の注意事項について
A12: (1) | B12: 行高・列幅不足により文字切れや「＃＃＃＃」表示で出力されていないか、提出する前に必ず印刷物で確認してください。
A14: (2) | B14: 文字切れや「＃＃＃＃」表示になっている場合、行高・列幅を広げる、文字を縮小して表示させるなど調整してください。
A16: (3) | B16: 発注者専用シート（シート名が赤色シート）には触れないでください。
A17: (4) | B17: 記入しない様式があっても、シートは絶対に削除しないでください。
A18: (5) | B18: 各様式の企業直接入力欄（青色着色セル）に記入する際、結合されたセルは絶対に解除しないでください。
A20: (6) | B20: 技術資料様式は、「ページ設定」で「白黒印刷」と「印刷範囲」を設定していますので、画面表示の着色セルも白色で印刷されます。
A23: ○数式に不具合があった場合の対応について
A24: (1) | B24: 本エクセル形式に設定されている数式に不具合があり、正しく表示されない場合がありましたら、直接セルに正しいものを記入してください。
A27: ○技術資料の審査について
A28: (1) | B28: 発注者は、技術資料【PDF形式】に記載された内容により審査しますので、提出書類に記載漏れ、添付漏れ、文字切れ等の不備がないか必ず確認してください。
A31: ○本エクセル形式のシート名着色の区分について
A32: シート名着色の区分は次のとおりです
B33: ：発注者専用シート（企業は入力厳禁です！！）
B34: ：企業専用シート（企業入力シート（申請企業の基本情報を入力）、質問書など）
B36: ：技術資料様式の表紙シート、ファイル使用上の注意事項シート
B37: ：「企業の評価」様式シート
B38: ：「配置予定技術者」様式シート
B39: ：「地域貢献・その他の評価」様式シート
B40: ：「地理的条件の評価」様式シート
A42: ○技術資料様式の凡例について
A43: 技術資料様式のセルの着色の凡例は次のとおりです
A44: 着色セルの凡例
A45: （企業）
B46: ：「企業入力シート」で入力した情報が表示される箇所（数式でリンク有）
B47: ：セルに直接入力が必要な箇所
A49: （発注者）
B50: ：「発注者入力シート」や他のシートで入力した情報が表示される箇所（数式でリンク有）
B51: ：セルに直接入力が必要な箇所
A53: （企業・発注者共通事項）
B54: ：同じシート内で入力した情報が表示される箇所（数式でリンク有）

Sheet 発注者設定内容確認シート
A1: 入札公告日： | E1: =発注者入力シート!C7 -> 46281
A2: 工事名： | E2: =発注者入力シート!C10 -> 大社漁港海岸 農山漁村地域整備交付金（海岸環境）工事（２工区）その５
A3: 不要な項目は、非表示にしてください（行の削除厳禁）
A4: 発注者入力シートで選択していない項目は、エラー表示になります
A5: 評価項目番号 | D5: 区分 | E5: 評価項目 | F5: 評価対象事項 | G5: 評価基準（様式記載内容）
A6: =INDEX(発注者入力シート!$B$20:$G$24,MATCH(発注者入力シート!L6,発注者入力シート!$C$20:$C$24,0),5) -> （１） | B6: - | C6: =INDEX(発注者入力シート!$B$20:$G$24,MATCH(発注者入力シート!L6,発注者入力シート!$C$20:$C$24,0),6) -> ① | D6: 企業 | E6: 工事成績(3年用) | F6: 完成年度 | G6: =IF(#REF!="","",#REF!) -> #REF!
A7: =A6 -> （１） | B7: - | C7: =C6 -> ① | F7: 発注機関 | G7: =IF(#REF!="","",#REF!) -> #REF!
A8: =A6 -> （１） | B8: - | C8: =C6 -> ① | F8: 工事種別 | G8: =IF(#REF!="","",#REF!) -> #REF!
A9: =A6 -> （１） | B9: - | C9: =C6 -> ① | F9: 建設工事の種類 | G9: =IF(#REF!="","",#REF!) -> #REF!
A10: =INDEX(発注者入力シート!$B$20:$G$24,MATCH(発注者入力シート!L6,発注者入力シート!$C$20:$C$24,0),5) -> （１） | B10: - | C10: =INDEX(発注者入力シート!$B$20:$G$24,MATCH(発注者入力シート!L6,発注者入力シート!$C$20:$C$24,0),6) -> ① | D10: 企業 | E10: 工事成績(5年用) | F10: 完成年度 | G10: =IF('企業成績評定点 (5年用)'!D7="","",'企業成績評定点 (5年用)'!D7) -> 令和3年度から令和7年度（完成及び引き渡しが完了）
A11: =A10 -> （１） | B11: - | C11: =C10 -> ① | F11: 発注機関 | G11: =IF('企業成績評定点 (5年用)'!D8="","",'企業成績評定点 (5年用)'!D8) -> 島根県（総務部、農林水産部、土木部）
A12: =A10 -> （１） | B12: - | C12: =C10 -> ① | F12: 工事種別 | G12: =IF('企業成績評定点 (5年用)'!D9="","",'企業成績評定点 (5年用)'!D9) -> 造園工事
A13: =A10 -> （１） | B13: - | C13: =C10 -> ① | F13: 建設工事の種類 | G13: =IF('企業成績評定点 (5年用)'!D10="","",'企業成績評定点 (5年用)'!D10) -> 造園工事
A14: =INDEX(発注者入力シート!$B$20:$G$24,MATCH(発注者入力シート!L7,発注者入力シート!$C$20:$C$24,0),5) -> （１） | B14: - | C14: =INDEX(発注者入力シート!$B$20:$G$24,MATCH(発注者入力シート!L7,発注者入力シート!$C$20:$C$24,0),6) -> ② | D14: 企業 | E14: =発注者入力シート!L7 -> 同種工事実績 | F14: 対象年度・機関等 | G14: =IF(同種工事施工実績!F6="","",同種工事施工実績!F6) -> 平成２８年度から入札公告日前日までに完成及び引き渡しが完了した島根県発注工事
A15: =A14 -> （１） | B15: - | C15: =C14 -> ② | F15: 同種工事 | G15: =IF(同種工事施工実績!F10="","",同種工事施工実績!F10) -> １契約で２，０００万円（税込）以上で植栽工（維持管理工事を除く）を含む完成及び引き渡しが完了した工事
A16: =A15 -> （１） | B16: - | C16: =C15 -> ② | F16: 工事種別 | G16: =IF(同種工事施工実績!F8="","",同種工事施工実績!F8) -> 造園工事
A17: =A16 -> （１） | B17: - | C17: =C16 -> ② | F17: 建設工事の種類 | G17: =IF(同種工事施工実績!F9="","",同種工事施工実績!F9) -> 造園工事
A18: =INDEX(発注者入力シート!$B$20:$G$24,MATCH(発注者入力シート!L8,発注者入力シート!$C$20:$C$24,0),5) -> #N/A | B18: - | C18: =INDEX(発注者入力シート!$B$20:$G$24,MATCH(発注者入力シート!L8,発注者入力シート!$C$20:$C$24,0),6) -> #N/A | D18: 企業 | E18: =発注者入力シート!L8 -> 優良工事表彰 | F18: 対象年度・機関等 | G18: =IF(#REF!="","",#REF!) -> #REF!
A19: =A18 -> #N/A | B19: - | C19: =C18 -> #N/A | F19: 工事種別 | G19: =IF(#REF!="","",#REF!) -> #REF!
A20: =A19 -> #N/A | B20: - | C20: =C19 -> #N/A | F20: 建設工事の種類 | G20: =IF(#REF!="","",#REF!) -> #REF!
A21: =INDEX(発注者入力シート!$B$20:$G$24,MATCH(発注者入力シート!L9,発注者入力シート!$C$20:$C$24,0),5) -> #N/A | B21: - | C21: =INDEX(発注者入力シート!$B$20:$G$24,MATCH(発注者入力シート!L9,発注者入力シート!$C$20:$C$24,0),6) -> #N/A | D21: 企業 | E21: =発注者入力シート!L9 -> プラント保有 | F21: 対象 | G21: =IF(#REF!="","",#REF!) -> #REF!
A22: =INDEX(発注者入力シート!$B$20:$G$24,MATCH(発注者入力シート!L10,発注者入力シート!$C$20:$C$24,0),5) -> #N/A | B22: - | C22: =INDEX(発注者入力シート!$B$20:$G$24,MATCH(発注者入力シート!L10,発注者入力シート!$C$20:$C$24,0),6) -> #N/A | D22: 企業 | E22: =発注者入力シート!L10 -> 法面機械保有 | F22: 対象 | G22: =IF(#REF!="","",#REF!) -> #REF!
A23: =INDEX(発注者入力シート!$B$25:$G$28,MATCH(発注者入力シート!M9,発注者入力シート!$C$25:$C$28,0),5) -> （２） | B23: - | C23: =INDEX(発注者入力シート!$B$25:$G$28,MATCH(発注者入力シート!M9,発注者入力シート!$C$25:$C$28,0),6) -> ③ | D23: 配置予定技術者 | E23: 継続学習
A24: =INDEX(発注者入力シート!$B$25:$G$28,MATCH(発注者入力シート!M6,発注者入力シート!$C$25:$C$28,0),5) -> （２） | B24: - | C24: =INDEX(発注者入力シート!$B$25:$G$28,MATCH(発注者入力シート!M6,発注者入力シート!$C$25:$C$28,0),6) -> ① | D24: 配置予定技術者 | E24: 資格 | F24: 対象資格 | G24: =IF(技術者資格!B9="","",技術者資格!B9) -> １級又は２級造園施工管理技士
A25: =INDEX(発注者入力シート!$B$25:$G$28,MATCH(発注者入力シート!M7,発注者入力シート!$C$25:$C$28,0),5) -> （２） | B25: - | C25: =INDEX(発注者入力シート!$B$25:$G$28,MATCH(発注者入力シート!M7,発注者入力シート!$C$25:$C$28,0),6) -> ② | D25: 配置予定技術者 | E25: 施工経験 | F25: 対象年度・機関等 | G25: =IF(同種工事施工経験!F6="","",同種工事施工経験!F6) -> 平成２８年度から入札公告日前日までに完成及び引き渡しが完了した島根県発注工事
A26: =A25 -> （２） | B26: - | C26: =C25 -> ② | F26: 同種工事 | G26: =IF(同種工事施工経験!F8="","",同種工事施工経験!F8) -> １契約で１，０００万円（税込）以上で植栽工（維持管理工事を除く）を含む完成及び引き渡しが完了した工事
A27: =A26 -> （２） | B27: - | C27: =C26 -> ② | F27: 工事種別 | G27: =IF(同種工事施工経験!F11="","",同種工事施工経験!F11) -> 造園工事
A28: =A27 -> （２） | B28: - | C28: =C27 -> ② | F28: 建設工事の種類 | G28: =IF(同種工事施工経験!F12="","",同種工事施工経験!F12) -> 造園工事
A29: =INDEX(発注者入力シート!$B$25:$G$28,MATCH(発注者入力シート!M8,発注者入力シート!$C$25:$C$28,0),5) -> #N/A | B29: - | C29: =INDEX(発注者入力シート!$B$25:$G$28,MATCH(発注者入力シート!M8,発注者入力シート!$C$25:$C$28,0),6) -> #N/A | D29: 配置予定技術者 | E29: 優秀建設技術者表彰 | F29: 対象年度・機関等 | G29: =IF(#REF!="","",#REF!) -> #REF!
A30: =A29 -> #N/A | B30: - | C30: =C29 -> #N/A | F30: 工事種別 | G30: =IF(#REF!="","",#REF!) -> #REF!
A31: =A30 -> #N/A | B31: - | C31: =C30 -> #N/A | F31: 建設工事の種類 | G31: =IF(#REF!="","",#REF!) -> #REF!
A32: =INDEX(発注者入力シート!$B$25:$G$28,MATCH(発注者入力シート!M10,発注者入力シート!$C$25:$C$28,0),5) -> #N/A | B32: - | C32: =INDEX(発注者入力シート!$B$25:$G$28,MATCH(発注者入力シート!M10,発注者入力シート!$C$25:$C$28,0),6) -> #N/A | D32: 配置予定技術者 | E32: 配置予定技術者の工事成績評定点 | F32: 完成年度 | G32: =IF(#REF!="","",#REF!) -> #REF!
A33: =A32 -> #N/A | B33: - | C33: =C32 -> #N/A | F33: 発注機関 | G33: =IF(#REF!="","",#REF!) -> #REF!
A34: =A32 -> #N/A | B34: - | C34: =C32 -> #N/A | F34: 工事種別 | G34: =IF(#REF!="","",#REF!) -> #REF!
A35: =A32 -> #N/A | B35: - | C35: =C32 -> #N/A | F35: 建設工事の種類 | G35: =IF(#REF!="","",#REF!) -> #REF!
A36: =INDEX(発注者入力シート!$B$29:$G$38,MATCH(発注者入力シート!N6,発注者入力シート!$C$29:$C$38,0),5) -> #N/A | B36: - | C36: =INDEX(発注者入力シート!$B$29:$G$38,MATCH(発注者入力シート!N6,発注者入力シート!$C$29:$C$38,0),6) -> #N/A | D36: 地域貢献・その他 | E36: 防災協定 | F36: 対象 | G36: =IF(防災協定・家畜伝染病防疫協定!T15=1,防災協定・家畜伝染病防疫協定!B8,"－") -> －
A37: =INDEX(発注者入力シート!$B$29:$G$38,MATCH(発注者入力シート!N7,発注者入力シート!$C$29:$C$38,0),5) -> （３） | B37: - | C37: =INDEX(発注者入力シート!$B$29:$G$38,MATCH(発注者入力シート!N7,発注者入力シート!$C$29:$C$38,0),6) -> ① | D37: 地域貢献・その他 | E37: 家畜伝染病防疫協定 | F37: 対象 | G37: =IF(防災協定・家畜伝染病防疫協定!T15=2,防災協定・家畜伝染病防疫協定!B8,"－") -> 令和6年度及び令和7年度における島根県との家畜伝染病防疫協定の締結実績
A38: =INDEX(発注者入力シート!$B$29:$G$38,MATCH(発注者入力シート!N8,発注者入力シート!$C$29:$C$38,0),5) -> （３） | B38: - | C38: =INDEX(発注者入力シート!$B$29:$G$38,MATCH(発注者入力シート!N8,発注者入力シート!$C$29:$C$38,0),6) -> ③ | D38: 地域貢献・その他 | E38: ボランティア | F38: 対象 | G38: =IF(ボランティア!B6="","",ボランティア!B6) -> 令和6年度及び令和7年度のボランティア活動又はハートフルしまねへの参加実績
A39: =A38 -> （３） | B39: - | C39: =C38 -> ③ | F39: 評価対象地域 | G39: =IF(ボランティア!D8="","",ボランティア!D8) -> 島根県内
A40: =INDEX(発注者入力シート!$B$29:$G$38,MATCH(発注者入力シート!N9,発注者入力シート!$C$29:$C$38,0),5) -> （３） | B40: - | C40: =INDEX(発注者入力シート!$B$29:$G$38,MATCH(発注者入力シート!N9,発注者入力シート!$C$29:$C$38,0),6) -> ② | D40: 地域貢献・その他 | E40: 維持管理業務 | F40: 対象 | G40: =IF(維持管理業務!B7="","",維持管理業務!B7) -> 令和6年度及び令和7年度の県管理公共土木施設に関する維持管理業務または海岸漂着物の回収業務の契約実績
A41: =A40 -> （３） | B41: - | C41: =C40 -> ② | F41: 評価対象地域 | G41: =IF(維持管理業務!D10="","",維持管理業務!D10) -> 島根県内
A42: =INDEX(発注者入力シート!$B$29:$G$38,MATCH(発注者入力シート!N10,発注者入力シート!$C$29:$C$38,0),5) -> #N/A | B42: - | C42: =INDEX(発注者入力シート!$B$29:$G$38,MATCH(発注者入力シート!N10,発注者入力シート!$C$29:$C$38,0),6) -> #N/A | D42: 地域貢献・その他 | E42: 除雪業務 | F42: 対象 | G42: =IF(#REF!="","",#REF!) -> #REF!
A43: =A42 -> #N/A | B43: - | C43: =C42 -> #N/A | F43: 評価対象地域 | G43: =IF(#REF!="","",#REF!) -> #REF!
A44: =INDEX(発注者入力シート!$B$29:$G$38,MATCH(発注者入力シート!N11,発注者入力シート!$C$29:$C$38,0),5) -> （３） | B44: - | C44: =INDEX(発注者入力シート!$B$29:$G$38,MATCH(発注者入力シート!N11,発注者入力シート!$C$29:$C$38,0),6) -> ④ | D44: 地域貢献・その他 | E44: 労働福祉関連 | F44: 障がい者雇用
A45: =INDEX(発注者入力シート!$B$29:$G$38,MATCH(発注者入力シート!N12,発注者入力シート!$C$29:$C$38,0),5) -> （３） | B45: - | C45: =INDEX(発注者入力シート!$B$29:$G$38,MATCH(発注者入力シート!N12,発注者入力シート!$C$29:$C$38,0),6) -> ⑤ | F45: 育児・介護休業制度
A46: =INDEX(発注者入力シート!$B$29:$G$38,MATCH(発注者入力シート!N15,発注者入力シート!$C$29:$C$38,0),5) -> #N/A | B46: - | C46: =INDEX(発注者入力シート!$B$29:$G$38,MATCH(発注者入力シート!N15,発注者入力シート!$C$29:$C$38,0),6) -> #N/A | D46: 地域貢献・その他 | E46: 登録基幹技能者 | F46: 対象 | G46: =IF(#REF!="","",#REF!) -> #REF!
A47: =INDEX(発注者入力シート!$B$29:$G$38,MATCH(発注者入力シート!N16,発注者入力シート!$C$29:$C$38,0),5) -> #N/A | B47: - | C47: =INDEX(発注者入力シート!$B$29:$G$38,MATCH(発注者入力シート!N16,発注者入力シート!$C$29:$C$38,0),6) -> #N/A | D47: 地域貢献・その他 | E47: 若手・中堅技術者配置 | F47: 対象 | G47: =IF(#REF!="","",#REF!) -> #REF!
A48: =INDEX(発注者入力シート!$B$29:$G$38,MATCH(発注者入力シート!N17,発注者入力シート!$C$29:$C$38,0),5) -> （３） | B48: - | C48: =INDEX(発注者入力シート!$B$29:$G$38,MATCH(発注者入力シート!N17,発注者入力シート!$C$29:$C$38,0),6) -> ⑦ | D48: 地域貢献・その他 | E48: 若手技術者・若手従業員の新規雇用 | F48: 対象 | G48: =IF(若手技術者・従業員新規雇用!B8="","",若手技術者・従業員新規雇用!B8) -> 令和6年4月1日以降に、若手技術者・若手従業員（３０歳未満の者）の１人以上の新規雇用があること。
A49: =INDEX(発注者入力シート!$B$29:$G$38,MATCH(発注者入力シート!N18,発注者入力シート!$C$29:$C$38,0),5) -> #N/A | B49: - | C49: =INDEX(発注者入力シート!$B$29:$G$38,MATCH(発注者入力シート!N18,発注者入力シート!$C$29:$C$38,0),6) -> #N/A | D49: 地域貢献・その他 | E49: 建設機械保有状況（土木一式用） | F49: 対象 | G49: =IF(#REF!="","",#REF!) -> #REF!
A50: =INDEX(発注者入力シート!$B$29:$G$38,MATCH(発注者入力シート!N18,発注者入力シート!$C$29:$C$38,0),5) -> #N/A | B50: - | C50: =INDEX(発注者入力シート!$B$29:$G$38,MATCH(発注者入力シート!N18,発注者入力シート!$C$29:$C$38,0),6) -> #N/A | D50: 地域貢献・その他 | E50: 建設機械保有状況（舗装用） | F50: 対象 | G50: =IF(#REF!="","",#REF!) -> #REF!
A51: =INDEX(発注者入力シート!$B$29:$G$38,MATCH(発注者入力シート!N19,発注者入力シート!$C$29:$C$38,0),5) -> #N/A | B51: - | C51: =INDEX(発注者入力シート!$B$29:$G$38,MATCH(発注者入力シート!N19,発注者入力シート!$C$29:$C$38,0),6) -> #N/A | D51: 地域貢献・その他 | E51: 消防団協力事業所
A52: =INDEX(発注者入力シート!$B$29:$G$38,MATCH(発注者入力シート!N21,発注者入力シート!$C$29:$C$38,0),5) -> （３） | B52: - | C52: =INDEX(発注者入力シート!$B$29:$G$38,MATCH(発注者入力シート!N21,発注者入力シート!$C$29:$C$38,0),6) -> ⑧ | D52: 地域貢献・その他 | E52: CCUSの活用 | F52: 対象 | G52: =IF('建設キャリアアップシステム(CCUS)'!B8="","",'建設キャリアアップシステム(CCUS)'!B8) -> 当該工事における建設キャリアアップシステム（CCUS）の活用することの確約
A53: =INDEX(発注者入力シート!$B$29:$G$38,MATCH(発注者入力シート!N22,発注者入力シート!$C$29:$C$38,0),5) -> #N/A | B53: - | C53: =INDEX(発注者入力シート!$B$29:$G$38,MATCH(発注者入力シート!N22,発注者入力シート!$C$29:$C$38,0),6) -> #N/A | D53: 地域貢献・その他 | E53: ＩＣＴ活用工事施工実績 | F53: 対象 | G53: =IF(#REF!="","",#REF!) -> #REF!
A54: =A53 -> #N/A | B54: - | C54: =C53 -> #N/A | F54: 対象ＩＣＴ工種 | G54: =IF(#REF!="","",#REF!) -> #REF!
A55: =INDEX(発注者入力シート!$B$29:$G$38,MATCH(発注者入力シート!N23,発注者入力シート!$C$29:$C$38,0),5) -> #N/A | B55: - | C55: =INDEX(発注者入力シート!$B$29:$G$38,MATCH(発注者入力シート!N23,発注者入力シート!$C$29:$C$38,0),6) -> #N/A | D55: 地域貢献・その他 | E55: 災害復旧工事受注実績 | F55: 対象 | G55: =IF(#REF!="","",#REF!) -> #REF!
A56: =A55 -> #N/A | B56: - | C56: =C55 -> #N/A | F56: 評価対象地域 | G56: =IF(#REF!="","",#REF!) -> #REF!
A57: =INDEX(発注者入力シート!$B$29:$G$38,MATCH(発注者入力シート!N24,発注者入力シート!$C$29:$C$38,0),5) -> #N/A | B57: - | C57: =INDEX(発注者入力シート!$B$29:$G$38,MATCH(発注者入力シート!N24,発注者入力シート!$C$29:$C$38,0),6) -> #N/A | D57: 地域貢献・その他 | E57: 海上援助活動の実績 | F57: 対象 | G57: =IF(#REF!="","",#REF!) -> #REF!
A58: =INDEX(発注者入力シート!$B$29:$G$38,MATCH(発注者入力シート!N25,発注者入力シート!$C$29:$C$38,0),5) -> #N/A | B58: - | C58: =INDEX(発注者入力シート!$B$29:$G$38,MATCH(発注者入力シート!N25,発注者入力シート!$C$29:$C$38,0),6) -> #N/A | D58: 地域貢献・その他 | E58: 橋梁の維持修繕工事の契約実績 | F58: 対象 | G58: =IF(#REF!="","",#REF!) -> #REF!
A59: =INDEX(発注者入力シート!$B$39:$G$40,MATCH(発注者入力シート!O6,発注者入力シート!$C$39:$C$40,0),5) -> #N/A | B59: - | C59: =INDEX(発注者入力シート!$B$39:$G$40,MATCH(発注者入力シート!O6,発注者入力シート!$C$39:$C$40,0),6) -> #N/A | D59: 地理的条件 | E59: 近隣地域での施工実績 | F59: 対象年度・機関等 | G59: =IF(#REF!="","",#REF!) -> #REF!
A60: =A59 -> #N/A | B60: - | C60: =C59 -> #N/A | F60: 対象工事 | G60: =IF(#REF!="","",#REF!) -> #REF!
A61: =A60 -> #N/A | B61: - | C61: =C60 -> #N/A | F61: 工事種別 | G61: =IF(#REF!="","",#REF!) -> #REF!
A62: =A61 -> #N/A | B62: - | C62: =C61 -> #N/A | F62: 建設工事の種類 | G62: =IF(#REF!="","",#REF!) -> #REF!
A63: =INDEX(発注者入力シート!$B$39:$G$40,MATCH(発注者入力シート!O7,発注者入力シート!$C$39:$C$40,0),5) -> #N/A | B63: - | C63: =INDEX(発注者入力シート!$B$39:$G$40,MATCH(発注者入力シート!O7,発注者入力シート!$C$39:$C$40,0),6) -> #N/A | D63: 地理的条件 | E63: 会社所在地 | F63: 対象 | G63: =IF(#REF!="","",#REF!) -> #REF!
A64: =A63 -> #N/A | B64: - | C64: =C63 -> #N/A | F64: 評価対象地域 | G64: =IF(#REF!="","",#REF!) -> #REF!
A65: =INDEX(発注者入力シート!$B$39:$G$40,MATCH(発注者入力シート!O8,発注者入力シート!$C$39:$C$40,0),5) -> #N/A | B65: - | C65: =INDEX(発注者入力シート!$B$39:$G$40,MATCH(発注者入力シート!O8,発注者入力シート!$C$39:$C$40,0),6) -> #N/A | D65: 地理的条件 | E65: 工場・会社所在地 | F65: 対象 | G65: =IF(#REF!="","",#REF!) -> #REF!
A66: =INDEX(発注者入力シート!$B$39:$G$40,MATCH(発注者入力シート!O9,発注者入力シート!$C$39:$C$40,0),5) -> #N/A | B66: - | C66: =INDEX(発注者入力シート!$B$39:$G$40,MATCH(発注者入力シート!O9,発注者入力シート!$C$39:$C$40,0),6) -> #N/A | D66: 地理的条件 | E66: サポート拠点 | F66: 対象 | G66: =IF(#REF!="","",#REF!) -> #REF!

Sheet 発注者審査作業用シート（提案以外）
A1: このシートは、「技術審査用ファイル」の「作業用シート」に一括コピー作業を行うためのものです
A2: ＜シートの説明＞
B3: ・「技術審査用ファイル」の「作業用シート」へ一括コピーするため、「コピー専用表」をこのシートに設定しています。
B4: ・コピーする範囲は、「コピー専用表」の薄オレンジ部分（評価項目：１９～２５行）と白色部分（企業申請内容：２６行～３３行）です。
B5: ・文字切れやフォントサイズの修正は、「技術審査用ファイル」で行いますので、このシートでは作業不要です。
B6: ・「コピー専用表」は、「技術審査用ファイル」の「技術審査用シート」で見えやすいように概ね書式調整しています。「技術審査用シート」で見えにくいときのみ、コピー専用表の書式を修正してください。
A7: ＜作業手順＞・・・・以下の作業は、必ず別ファイルとして公告用ファイルを作成し、公告用ファイルで作業してください（１回シートや列を削除すると元の状態に戻せなくなります）。
A8: 準備作業： | B8: 不要な評価項目の列全体をこのシートから削除。不要な様式も削除してください。
B9: 評価項目の列全体を削除する際、コピー先の配列（「技術審査用ファイル」）に合わせておく必要があります（「技術審査用ファイル」の自動集計に支障が生じるため）。
B10: 予備欄等を活用して配列を合わせてください。
B11: 「技術審査用ファイル」の固定配列（※１項目３列で設定してあります）
B12: 企業：４項目、配置予定技術者①：４項目、配置予定技術者②：４項目、配置予定技術者③：４項目、地域貢献・その他：7項目、地理的条件：２項目
A13: 手順①： | B13: 「コピー専用表」の薄オレンジ部分全体を指定しコピー後、「技術審査用ファイル」の「作業用シート」の「貼り付け箇所A」に、貼り付けオプションの「値」で貼り付け。
A14: 手順②： | B14: 手順①の後、同じ場所（貼り付け箇所A）に貼り付けオプションの「書式設定」で貼り付けると、コピー専用行で設定された書式でコピー可能。
A15: 手順③： | B15: 手順①、手順②の方法により、「コピー専用表」の白色部分全体を「技術審査用ファイル」の「作業用シート」の「貼り付け箇所B」に貼り付け。
A17: 以下、審査用ファイルの「作業用」シートへの「コピー専用表」 | I17: 審査用ファイルコピー先の列数と合わせるため削除× | U17: 審査用ファイルコピー先の列数と合わせるため削除× | AG17: 審査用ファイルコピー先の列数と合わせるため削除× | AS17: 審査用ファイルコピー先の列数と合わせるため削除× | BN17: 審査用ファイルコピー先の列数と合わせるための列 | BQ17: 審査用ファイルコピー先の列数と合わせるための列 | BT17: 審査用ファイルコピー先の列数と合わせるための列 | BW17: 審査用ファイルコピー先の列数と合わせるための列 | BZ17: 審査用ファイルコピー先の列数と合わせるための列
B18: 行番号 | C18: =CONCATENATE("様式-",INDEX(発注者入力シート!$B$20:$G$24,MATCH(発注者入力シート!L6,発注者入力シート!$C$20:$C$24,0),4)) -> 様式-２ | F18: =CONCATENATE("様式-",INDEX(発注者入力シート!$B$20:$G$24,MATCH(発注者入力シート!L7,発注者入力シート!$C$20:$C$24,0),4)) -> 様式-３ | I18: =CONCATENATE("様式-",INDEX(発注者入力シート!$B$20:$G$24,MATCH(発注者入力シート!L13,発注者入力シート!$C$20:$C$24,0),4)) -> #N/A | L18: =CONCATENATE("様式-",INDEX(発注者入力シート!$B$25:$G$28,MATCH(発注者入力シート!M9,発注者入力シート!$C$25:$C$28,0),4)) -> 様式-６ | O18: =CONCATENATE("様式-",INDEX(発注者入力シート!$B$25:$G$28,MATCH(発注者入力シート!M6,発注者入力シート!$C$25:$C$28,0),4)) -> 様式-４ | R18: =CONCATENATE("様式-",INDEX(発注者入力シート!$B$25:$G$28,MATCH(発注者入力シート!M7,発注者入力シート!$C$25:$C$28,0),4)) -> 様式-５ | U18: =CONCATENATE("様式-",INDEX(発注者入力シート!$B$25:$G$28,MATCH(発注者入力シート!M12,発注者入力シート!$C$25:$C$28,0),4)) -> #N/A | X18: =CONCATENATE("様式-",INDEX(発注者入力シート!$B$25:$G$28,MATCH(発注者入力シート!M9,発注者入力シート!$C$25:$C$28,0),4)) -> 様式-６ | AA18: =CONCATENATE("様式-",INDEX(発注者入力シート!$B$25:$G$28,MATCH(発注者入力シート!M6,発注者入力シート!$C$25:$C$28,0),4)) -> 様式-４ | AD18: =CONCATENATE("様式-",INDEX(発注者入力シート!$B$25:$G$28,MATCH(発注者入力シート!M7,発注者入力シート!$C$25:$C$28,0),4)) -> 様式-５ | AG18: =CONCATENATE("様式-",INDEX(発注者入力シート!$B$25:$G$28,MATCH(発注者入力シート!M12,発注者入力シート!$C$25:$C$28,0),4)) -> #N/A | AJ18: =CONCATENATE("様式-",INDEX(発注者入力シート!$B$25:$G$28,MATCH(発注者入力シート!M9,発注者入力シート!$C$25:$C$28,0),4)) -> 様式-６ | AM18: =CONCATENATE("様式-",INDEX(発注者入力シート!$B$25:$G$28,MATCH(発注者入力シート!M6,発注者入力シート!$C$25:$C$28,0),4)) -> 様式-４ | AP18: =CONCATENATE("様式-",INDEX(発注者入力シート!$B$25:$G$28,MATCH(発注者入力シート!M7,発注者入力シート!$C$25:$C$28,0),4)) -> 様式-５ | AS18: =CONCATENATE("様式-",INDEX(発注者入力シート!$B$25:$G$28,MATCH(発注者入力シート!M12,発注者入力シート!$C$25:$C$28,0),4)) -> #N/A | AV18: {=CONCATENATE("様式-",INDEX(発注者入力シート!$B$29:$G$38,MATCH(TRUE,(発注者入力シート!$C$29:$C$38=発注者入力シート!N6)+(発注者入力シート!$C$29:$C$38=発注者入力シート!N7)>0,0),4))} -> 様式-７ | AY18: =CONCATENATE("様式-",INDEX(発注者入力シート!$B$29:$G$38,MATCH(発注者入力シート!N8,発注者入力シート!$C$29:$C$38,0),4)) -> 様式-９ | BB18: =CONCATENATE("様式-",INDEX(発注者入力シート!$B$29:$G$38,MATCH(発注者入力シート!N9,発注者入力シート!$C$29:$C$38,0),4)) -> 様式-８ | BE18: =CONCATENATE("様式-",INDEX(発注者入力シート!$B$29:$G$38,MATCH(発注者入力シート!N12,発注者入力シート!$C$29:$C$38,0),4),"など") -> 様式-１１など | BH18: =CONCATENATE("様式-",INDEX(発注者入力シート!$B$29:$G$38,MATCH(発注者入力シート!N17,発注者入力シート!$C$29:$C$38,0),4)) -> 様式-１３ | BK18: =CONCATENATE("様式-",INDEX(発注者入力シート!$B$29:$G$38,MATCH(発注者入力シート!N21,発注者入力シート!$C$29:$C$38,0),4)) -> 様式-１４
A19: コピー専用行 | B19: a0 | C19: 企業 | F19: 企業 | I19: 企業 | L19: 配置予定技術者① | O19: 配置予定技術者① | R19: 配置予定技術者① | U19: 配置予定技術者① | X19: 配置予定技術者② | AA19: 配置予定技術者② | AD19: 配置予定技術者② | AG19: 配置予定技術者② | AJ19: 配置予定技術者③ | AM19: 配置予定技術者③ | AP19: 配置予定技術者③ | AS19: 配置予定技術者③ | AV19: 地域貢献・その他 | AY19: 地域貢献・その他 | BB19: 地域貢献・その他 | BE19: 地域貢献・その他 | BH19: 地域貢献・その他 | BK19: 地域貢献・その他 | BN19: 地域貢献・その他 | BQ19: 地域貢献・その他 | BT19: 地域貢献・その他 | BW19: 地域貢献・その他 | BZ19: 地理的条件
A20: コピー専用行 | B20: a1 | C20: 工事成績評定点(5年用) | F20: 施工実績 | I20: 予備欄 | L20: 継続学習 | O20: 資格 | R20: 施工経験 | U20: 予備欄 | X20: 継続学習 | AA20: 資格 | AD20: 施工経験 | AG20: 予備欄 | AJ20: 継続学習 | AM20: 資格 | AP20: 施工経験 | AS20: 予備欄 | AV20: =AV38 -> 家畜伝染病防疫協定 | AY20: ボランティア | BB20: 維持管理 | BE20: 労働福祉関連 | BH20: 若手技術者・従業員の新規雇用 | BK20: CCUSの活用 | BN20: 予備欄 | BQ20: 予備欄 | BT20: 予備欄 | BW20: 予備欄 | BZ20: 予備欄２
A21: コピー専用行 | B21: a | C21: =C39 -> 完成年度 | D21: =D39 -> 令和3年度から令和7年度（完成及び引き渡しが完了） | E21: =E39 -> 0 | F21: =F39 -> 対象期間等 | G21: =G39 -> 平成２８年度から入札公告日前日までに完成及び引き渡しが完了した島根県発注工事 | L21: =L39 -> 配置予定の主任（監理）技術者が保有するCPDSユニット | M21: =M39 -> 0 | N21: =N39 -> 0 | O21: =O39 -> 対象資格 | P21: =P39 -> １級又は２級造園施工管理技士 | Q21: =Q39 -> 0 | R21: =R39 -> 対象年度・機関等 | S21: =S39 -> 平成２８年度から入札公告日前日までに完成及び引き渡しが完了した島根県発注工事 | X21: =X39 -> 配置予定の主任（監理）技術者が保有するCPDSユニット | Y21: =Y39 -> 0 | Z21: =Z39 -> 0 | AA21: =AA39 -> 対象資格 | AB21: =AB39 -> １級又は２級造園施工管理技士 | AC21: =AC39 -> 0 | AD21: =AD39 -> 対象年度・機関等 | AE21: =AE39 -> 平成２８年度から入札公告日前日までに完成及び引き渡しが完了した島根県発注工事 | AJ21: =AJ39 -> 配置予定の主任（監理）技術者が保有するCPDSユニット | AK21: =AK39 -> 0 | AL21: =AL39 -> 0 | AM21: =AM39 -> 対象資格 | AN21: =AN39 -> １級又は２級造園施工管理技士 | AO21: =AO39 -> 0 | AP21: =AP39 -> 対象年度・機関等 | AQ21: =AQ39 -> 平成２８年度から入札公告日前日までに完成及び引き渡しが完了した島根県発注工事 | AV21: =AV39 -> 対象 | AW21: =AW39 -> 令和6年度及び令和7年度における島根県との家畜伝染病防疫協定の締結実績 | AX21: =AX39 -> 0 | AY21: =AY39 -> 対象 | AZ21: =AZ39 -> 令和6年度及び令和7年度のボランティア活動又はハートフルしまねへの参加実績 | BB21: =BB39 -> 対象 | BC21: =BC39 -> 令和6年度及び令和7年度の県管理公共土木施設に関する維持管理業務または海岸漂着物の回収業務の契約実績 | BE21: =BE39 -> 対象 | BF21: =BF39 -> 入札公告日前日時点での取り組み状況 | BG21: =BG39 -> 0 | BH21: =BH39 -> 対象 | BI21: =BI39 -> 令和6年4月1日以降に、若手技術者・若手従業員（３０歳未満の者）の１人以上の新規雇用があること。 | BJ21: =BJ39 -> 0 | BK21: =BK39 -> 対象 | BL21: =BL39 -> 当該工事での建設キャリアアップシステム（CCUS）の活用 | BM21: =BM39 -> 0
A22: コピー専用行 | B22: b | C22: =C40 -> 発注機関 | D22: =D40 -> 島根県（総務部、農林水産部、土木部） | E22: =E40 -> 0 | F22: =F40 -> 同種工事 | G22: =G40 -> １契約で２，０００万円（税込）以上で植栽工（維持管理工事を除く）を含む完成及び引き渡しが完了した工事 | L22: =L40 -> 0 | M22: =M40 -> 0 | N22: =N40 -> 0 | O22: =O40 -> 0 | P22: =P40 -> 0 | Q22: =Q40 -> 0 | R22: =R40 -> 同種工事 | S22: =S40 -> １契約で１，０００万円（税込）以上で植栽工（維持管理工事を除く）を含む完成及び引き渡しが完了した工事 | X22: =X40 -> 0 | Y22: =Y40 -> 0 | Z22: =Z40 -> 0 | AA22: =AA40 -> 0 | AB22: =AB40 -> 0 | AC22: =AC40 -> 0 | AD22: =AD40 -> 同種工事 | AE22: =AE40 -> １契約で１，０００万円（税込）以上で植栽工（維持管理工事を除く）を含む完成及び引き渡しが完了した工事 | AJ22: =AJ40 -> 0 | AK22: =AK40 -> 0 | AL22: =AL40 -> 0 | AM22: =AM40 -> 0 | AN22: =AN40 -> 0 | AO22: =AO40 -> 0 | AP22: =AP40 -> 同種工事 | AQ22: =AQ40 -> １契約で１，０００万円（税込）以上で植栽工（維持管理工事を除く）を含む完成及び引き渡しが完了した工事 | AV22: =AV40 -> 0 | AW22: =AW40 -> 0 | AX22: =AX40 -> 0 | BE22: =BE40 -> 0 | BF22: =BF40 -> 0 | BG22: =BG40 -> 0 | BH22: =BH40 -> 0 | BI22: =BI40 -> 0 | BJ22: =BJ40 -> 0 | BK22: =BK40 -> 0 | BL22: =BL40 -> 0 | BM22: =BM40 -> 0
A23: コピー専用行 | B23: c | C23: =C41 -> 工事種別 | D23: =D41 -> 造園工事 | E23: =E41 -> 0 | F23: =F41 -> 工事種別 | G23: =G41 -> 造園工事 | L23: =L41 -> 0 | M23: =M41 -> 0 | N23: =N41 -> 0 | O23: =O41 -> 0 | P23: =P41 -> 0 | Q23: =Q41 -> 0 | R23: =R41 -> 工事種別 | S23: =S41 -> 造園工事 | X23: =X41 -> 0 | Y23: =Y41 -> 0 | Z23: =Z41 -> 0 | AA23: =AA41 -> 0 | AB23: =AB41 -> 0 | AC23: =AC41 -> 0 | AD23: =AD41 -> 工事種別 | AE23: =AE41 -> 造園工事 | AJ23: =AJ41 -> 0 | AK23: =AK41 -> 0 | AL23: =AL41 -> 0 | AM23: =AM41 -> 0 | AN23: =AN41 -> 0 | AO23: =AO41 -> 0 | AP23: =AP41 -> 工事種別 | AQ23: =AQ41 -> 造園工事 | AV23: =AV41 -> 0 | AW23: =AW41 -> 0 | AX23: =AX41 -> 0 | BE23: =BE41 -> 0 | BF23: =BF41 -> 0 | BG23: =BG41 -> 0 | BH23: =BH41 -> 0 | BI23: =BI41 -> 0 | BJ23: =BJ41 -> 0 | BK23: =BK41 -> 0 | BL23: =BL41 -> 0 | BM23: =BM41 -> 0
A24: コピー専用行 | B24: d | C24: =C42 -> 建設工事の種類 | D24: =D42 -> 造園工事 | E24: =E42 -> 0 | F24: =F42 -> 建設工事の種類 | G24: =G42 -> 造園工事 | L24: =L42 -> 0 | M24: =M42 -> 0 | N24: =N42 -> 0 | O24: =O42 -> 0 | P24: =P42 -> 0 | Q24: =Q42 -> 0 | R24: =R42 -> 建設工事の種類 | S24: =S42 -> 造園工事 | X24: =X42 -> 0 | Y24: =Y42 -> 0 | Z24: =Z42 -> 0 | AA24: =AA42 -> 0 | AB24: =AB42 -> 0 | AC24: =AC42 -> 0 | AD24: =AD42 -> 建設工事の種類 | AE24: =AE42 -> 造園工事 | AJ24: =AJ42 -> 0 | AK24: =AK42 -> 0 | AL24: =AL42 -> 0 | AM24: =AM42 -> 0 | AN24: =AN42 -> 0 | AO24: =AO42 -> 0 | AP24: =AP42 -> 建設工事の種類 | AQ24: =AQ42 -> 造園工事 | AV24: =AV42 -> 0 | AW24: =AW42 -> 0 | AX24: =AX42 -> 0 | AY24: =AY42 -> 評価地域 | AZ24: =AZ42 -> 島根県内 | BB24: =BB42 -> 評価地域 | BC24: =BC42 -> 島根県内 | BE24: =BE42 -> 0 | BF24: =BF42 -> 0 | BG24: =BG42 -> 0 | BH24: =BH42 -> 0 | BI24: =BI42 -> 0 | BJ24: =BJ42 -> 0 | BK24: =BK42 -> 0 | BL24: =BL42 -> 0 | BM24: =BM42 -> 0
A25: コピー専用行 | B25: e | C25: =C43 -> 該当件数 | D25: =D43 -> 平均点 | F25: =F43 -> 項目名 | G25: =G43 -> 工事① | H25: =H43 -> 工事② | L25: =L43 -> 項目名 | M25: =M43 -> ユニット数 | O25: =O43 -> 項目名 | P25: =P43 -> 状況 | R25: =R43 -> 項目名 | S25: =S43 -> 工事① | T25: =T43 -> 工事② | X25: =X43 -> 項目名 | Y25: =Y43 -> ユニット数 | AA25: =AA43 -> 項目名 | AB25: =AB43 -> 状況 | AD25: =AD43 -> 項目名 | AE25: =AE43 -> 工事① | AF25: =AF43 -> 工事② | AJ25: =AJ43 -> 項目名 | AK25: =AK43 -> ユニット数 | AM25: =AM43 -> 項目名 | AN25: =AN43 -> 状況 | AP25: =AP43 -> 項目名 | AQ25: =AQ43 -> 工事① | AR25: =AR43 -> 工事② | AV25: =AV43 -> 項目名 | AW25: =AW43 -> 6 | AX25: =AX43 -> 7 | AY25: =AY43 -> 項目名 | AZ25: =AZ43 -> 6 | BA25: =BA43 -> 7 | BB25: =BB43 -> 項目名 | BC25: =BC43 -> 6 | ... BF25: =BF43 -> 状況 | BH25: =BH43 -> 項目名 | BI25: =BI43 -> 雇用① | BJ25: =BJ43 -> 雇用② | BK25: =BK43 -> 項目名 | BL25: =BL43 -> 状況
A26: コピー専用行 | B26: 1 | C26: =C44 | D26: =D44 | F26: =F44 -> 工事名 | G26: =G44 -> 申請なし | H26: =H44 -> 申請なし | L26: =L44 -> 配置なし | M26: =M44 | O26: =O44 -> 配置なし | P26: =P44 | R26: =R44 -> 工事名 | S26: =S44 -> 配置なし | T26: =T44 | X26: =X44 -> 配置なし | Y26: =Y44 -> 配置なし | AA26: =AA44 -> 配置なし | AB26: =AB44 | AD26: =AD44 -> 工事名 | AE26: =AE44 -> 配置なし | AF26: =AF44 | AJ26: =AJ44 -> 配置なし | AK26: =AK44 | AM26: =AM44 -> 配置なし | AN26: =AN44 | AP26: =AP44 -> 工事名 | AQ26: =AQ44 -> 配置なし | AR26: =AR44 | AV26: =AV44 -> 協定実績 | AW26: =AW44 -> 申請なし | AX26: =AX44 -> 申請なし | AY26: =AY44 -> ボランティア活動内容 | AZ26: =AZ44 -> 申請なし | BA26: =BA44 -> 申請なし | BB26: =BB44 -> 業務名 | BC26: =BC44 -> 申請なし | BD26: =BD44 -> 申請なし | BH26: =BH44 -> 雇用の内容 | BI26: =BI44 -> 申請なし | BJ26: =BJ44 -> 申請なし | BK26: =BK44 -> 確約書の提出 | BL26: =BL44 -> 無
A27: コピー専用行 | B27: 2 | C27: =C45 | D27: =D45 | F27: =F45 -> 発注機関 | G27: =G45 | H27: =H45 | O27: =O45 | P27: =P45 | R27: =R45 -> 発注機関 | S27: =S45 | T27: =T45 | AA27: =AA45 | AB27: =AB45 | AD27: =AD45 -> 発注機関 | AE27: =AE45 | AF27: =AF45 | AM27: =AM45 | AN27: =AN45 | AP27: =AP45 -> 発注機関 | AQ27: =AQ45 | AR27: =AR45 | AY27: =AY45 | AZ27: =AZ45 | BA27: =BA45 | BE27: =BE47 -> 障がい者 | BF27: =BF47 -> 障がい者雇用数 | BG27: =BG47 -> 0 | BH27: =BH45 | BI27: =BI45 | BJ27: =BJ45
A28: コピー専用行 | B28: 3 | C28: =C46 | F28: =F48 -> 施工場所 | G28: =G48 | H28: =H48 | R28: =R46 -> 施工場所 | S28: =S46 | T28: =T46 | AD28: =AD46 -> 施工場所 | AE28: =AE46 | AF28: =AF46 | AP28: =AP46 -> 施工場所 | AQ28: =AQ46 | AR28: =AR46 | AY28: =AY47&CHAR(10)&AY48 | AZ28: =IF(OR(AZ44="",AZ44="審査済・詳細省略",AZ44="申請なし"),"","参加"&AZ47&"人"&CHAR(10)&"従業員"&AZ48&"人") | BA28: =IF(OR(企業入力シート!B33="○",BA44="",BA44="申請なし"),"","参加"&BA47&"人"&CHAR(10)&"従業員"&BA48&"人") | BF28: =BF48 -> 法定雇用義務数 | BG28: =BG48 -> 法定雇用義務なし | BH28: =BH46 | BI28: =BI46 | BJ28: =BJ46
A29: コピー専用行 | B29: 4 | F29: =F49 -> 請負金額 | G29: =G49 | H29: =H49 | R29: =R47 -> 請負金額 | S29: =S47 | T29: =T47 | AD29: =AD47 -> 請負金額 | AE29: =AE47 | AF29: =AF47 | AP29: =AP47 -> 請負金額 | AQ29: =AQ47 | AR29: =AR47 | AY29: =AY46 | AZ29: =AZ46 | BA29: =BA46 | BB29: =BB45 -> 発注機関 | BC29: =BC45 | BD29: =BD45 | BE29: =BE50 -> 育児介護 | BF29: =IF(企業入力シート!B36="○","事前審査・証明書提出：取組有",IF(BG34="有","押印済資料提出：取組有",IF(AND(BG50="",BG51=""),"申請なし",IF(BG50="有",BF50,IF(BG51="有",BF51,"無"))))) -> 申請なし
A30: コピー専用行 | B30: 5 | F30: 工期 | G30: =G50&CHAR(10)&G51 | H30: =H50&CHAR(10)&H51 | R30: 工期（従事期間） | S30: =S48&CHAR(10)&"("&S49&")" -> () | T30: =T48&CHAR(10)&"("&T49&")" -> () | AD30: 工期（従事期間） | AE30: =AE48&CHAR(10)&"("&AE49&")" -> () | AF30: =AF48&CHAR(10)&"("&AF49&")" -> () | AP30: 工期（従事期間） | AQ30: =AQ48&CHAR(10)&"("&AQ49&")" -> () | AR30: =AR48&CHAR(10)&"("&AR49&")" -> () | AY30: =AY49 -> ﾊｰﾄﾌﾙ活動 | AZ30: =AZ49 -> 申請なし | BA30: =BA49 -> 申請なし | BB30: =BB46 -> 委託月数 | BC30: =BC46 -> 0 | BD30: =BD46 -> 0 | BF30: =IF(BG51="有",BF52,"") | BG30: =IF(BG51="有",BG52,"")
A31: コピー専用行 | B31: 6 | F31: 施工規模／形式 | G31: =G52&"／"&G53&" "&G54&" "&G55&" "&G56 -> ／ | H31: =H52&"／"&H53&" "&H54&" "&H55&" "&H56 -> ／ | R31: 工事種別／建設工事の種類 | S31: =S50&"／"&S51 -> ／ | T31: =T50&"／"&T51 -> ／ | AD31: 工事種別／建設工事の種類 | AE31: =AE50&"／"&AE51 -> ／ | AF31: =AF50&"／"&AF51 -> ／ | AP31: 工事種別／建設工事の種類 | AQ31: =AQ50&"／"&AQ51 -> ／ | AR31: =AR50&"／"&AR51 -> ／ | AY31: =AY51&CHAR(10)&AY52 | AZ31: =IF(AZ50="","","参加"&AZ51&"人"&CHAR(10)&"従業員"&AZ52&"人") | BA31: =IF(BA50="","","参加"&BA51&"人"&CHAR(10)&"従業員"&BA52&"人") | BB31: =BB47 -> 契約(始) | BC31: =BC47 | BD31: =BD47
A32: コピー専用行 | B32: 7 | F32: =F57 -> 工事成績 | G32: =G57 | H32: =H57 | R32: 役職 工事成績 | S32: =IF(S52="","",S52&CHAR(10)&"("&S57&"点)") | T32: =IF(T52="","",T52&CHAR(10)&"("&T57&"点)") | AD32: 役職 工事成績 | AE32: =IF(AE52="","",AE52&CHAR(10)&"("&AE57&"点)") | AF32: =IF(AF52="","",AF52&CHAR(10)&"("&AF57&"点)") | AP32: 役職 工事成績 | AQ32: =IF(AQ52="","",AQ52&CHAR(10)&"("&AQ57&"点)") | AR32: =IF(AR52="","",AR52&CHAR(10)&"("&AR57&"点)") | AY32: =AY50 | AZ32: =AZ50 | BA32: =BA50 | BB32: =BB48 -> 契約(終) | BC32: =BC48 | BD32: =BD48
A33: コピー専用行 | B33: 8 | F33: 工事種別／建設工事の種類 | G33: =G46&"／"&G47 -> ／ | H33: =H46&"／"&H47 -> ／ | R33: 施工規模／形式 | S33: =S53&"／"&S54&" "&S55&" "&S56 -> ／ | T33: =T53&"／"&T54&" "&T55&" "&T56 -> ／ | AD33: 施工規模／形式 | AE33: =AE53&"／"&AE54&" "&AE55&" "&AE56 -> ／ | AF33: =AF53&"／"&AF54&" "&AF55&" "&AF56 -> ／ | AP33: 施工規模／形式 | AQ33: =AQ53&"／"&AQ54&" "&AQ55&" "&AQ56 -> ／ | AR33: =AR53&"／"&AR54&" "&AR55&" "&AR56 -> ／ | BB33: =BB49 -> 施工箇所 | BC33: =BC49 | BD33: =BD49
C34: 今回、押印済資料（収受印）での提出の有無 | D34: =INDEX(発注者入力シート!$B$20:$J$24,MATCH(発注者入力シート!L6,発注者入力シート!$C$20:$C$24,0),7) -> 未記入 | L34: 今回、押印済資料（収受印）での提出の有無 | M34: =INDEX(発注者入力シート!$B$25:$J$28,MATCH(発注者入力シート!M9,発注者入力シート!$C$25:$C$28,0),7) -> 配置なし | N34: =IF(企業入力シート!C18="","配置なし","配置あり") -> 配置なし | O34: 今回、押印済資料（収受印）での提出の有無 | P34: =INDEX(発注者入力シート!$B$25:$J$28,MATCH(発注者入力シート!M6,発注者入力シート!$C$25:$C$28,0),7) -> 配置なし | Q34: =IF(企業入力シート!C18="","配置なし","配置あり") -> 配置なし | T34: =IF(企業入力シート!C18="","配置なし","配置あり") -> 配置なし | X34: 今回、押印済資料（収受印）での提出の有無 | Y34: =INDEX(発注者入力シート!$B$25:$J$28,MATCH(発注者入力シート!M9,発注者入力シート!$C$25:$C$28,0),8) -> 配置なし | Z34: =IF(企業入力シート!C19="","配置なし","配置あり") -> 配置なし | AA34: 今回、押印済資料（収受印）での提出の有無 | AB34: =INDEX(発注者入力シート!$B$25:$J$28,MATCH(発注者入力シート!M6,発注者入力シート!$C$25:$C$28,0),8) -> 配置なし | AC34: =IF(企業入力シート!C19="","配置なし","配置あり") -> 配置なし | AF34: =IF(企業入力シート!C19="","配置なし","配置あり") -> 配置なし | AJ34: 今回、押印済資料（収受印）での提出の有無 | AK34: =INDEX(発注者入力シート!$B$25:$J$28,MATCH(発注者入力シート!M9,発注者入力シート!$C$25:$C$28,0),9) -> 配置なし | AL34: =IF(企業入力シート!C20="","配置なし","配置あり") -> 配置なし | AM34: 今回、押印済資料（収受印）での提出の有無 | AN34: =INDEX(発注者入力シート!$B$25:$J$28,MATCH(発注者入力シート!M6,発注者入力シート!$C$25:$C$28,0),9) -> 配置なし | AO34: =IF(企業入力シート!C20="","配置なし","配置あり") -> 配置なし | AR34: =IF(企業入力シート!C20="","配置なし","配置あり") -> 配置なし | AY34: 今回、押印済資料（収受印）での提出の有無 | AZ34: =INDEX(発注者入力シート!$B$29:$J$38,MATCH(発注者入力シート!N8,発注者入力シート!$C$29:$C$38,0),7) -> 未記入 | BB34: 今回、押印済資料（収受印）での提出の有無 | BC34: =INDEX(発注者入力シート!$B$29:$J$38,MATCH(発注者入力シート!N9,発注者入力シート!$C$29:$C$38,0),7) -> 未記入 | BE34: 今回、押印済資料（収受印）での提出の有無 | BF34: =INDEX(発注者入力シート!$B$29:$J$38,MATCH(発注者入力シート!N11,発注者入力シート!$C$29:$C$38,0),7) -> 未記入 | BG34: =INDEX(発注者入力シート!$B$29:$J$38,MATCH(発注者入力シート!N12,発注者入力シート!$C$29:$C$38,0),7) -> 未記入
A36: 以下、集計専用表（コピー箇所ではありません）
B37: a0 | C37: 企業 | F37: 企業 | I37: 企業 | L37: 配置予定技術者① | O37: 配置予定技術者① | R37: 配置予定技術者① | U37: 配置予定技術者① | X37: 配置予定技術者② | AA37: 配置予定技術者② | AD37: 配置予定技術者② | AG37: 配置予定技術者② | AJ37: 配置予定技術者③ | AM37: 配置予定技術者③ | AP37: 配置予定技術者③ | AS37: 配置予定技術者③ | AV37: 地域貢献・その他 | AY37: 地域貢献・その他 | BB37: 地域貢献・その他 | BE37: 地域貢献・その他 | BH37: 地域貢献・その他 | BK37: 地域貢献・その他 | BN37: 地域貢献・その他 | BQ37: 地域貢献・その他 | BT37: 地域貢献・その他 | BW37: 地域貢献・その他 | BZ37: 地理的条件
B38: a1 | C38: 工事成績評定点(5年用) | F38: 施工実績 | I38: 予備欄 | L38: 継続学習 | O38: 資格 | R38: 施工経験 | U38: 予備欄 | X38: 継続学習 | AA38: 資格 | AD38: 施工経験 | AG38: 予備欄 | AJ38: 継続学習 | AM38: 資格 | AP38: 施工経験 | AS38: 予備欄 | AV38: =IF(防災協定・家畜伝染病防疫協定!T15=1,"防災",IF(防災協定・家畜伝染病防疫協定!T15=2,"家畜伝染病防疫","防災協定・家畜伝染病防疫"))&"協定" -> 家畜伝染病防疫協定 | AY38: ボランティア | BB38: 維持管理業務 | BE38: 労働福祉関連 | BH38: 若手技術者・従業員の新規雇用 | BK38: CCUSの活用 | BN38: 予備欄 | BQ38: 予備欄 | BT38: 予備欄 | BW38: 予備欄
B39: a | C39: 完成年度 | D39: =IF('企業成績評定点 (5年用)'!D7="","",'企業成績評定点 (5年用)'!D7) -> 令和3年度から令和7年度（完成及び引き渡しが完了） | F39: 対象期間等 | G39: =IF(同種工事施工実績!F6="","",同種工事施工実績!F6) -> 平成２８年度から入札公告日前日までに完成及び引き渡しが完了した島根県発注工事 | L39: =IF(技術者継続学習!B8="","",技術者継続学習!B8) -> 配置予定の主任（監理）技術者が保有するCPDSユニット | O39: 対象資格 | P39: =IF(技術者資格!B9="","",技術者資格!B9) -> １級又は２級造園施工管理技士 | R39: 対象年度・機関等 | S39: =IF(同種工事施工経験!F6="","",同種工事施工経験!F6) -> 平成２８年度から入札公告日前日までに完成及び引き渡しが完了した島根県発注工事 | X39: =IF(技術者継続学習!B8="","",技術者継続学習!B8) -> 配置予定の主任（監理）技術者が保有するCPDSユニット | AA39: 対象資格 | AB39: =IF(技術者資格!B9="","",技術者資格!B9) -> １級又は２級造園施工管理技士 | AD39: 対象年度・機関等 | AE39: =IF(同種工事施工経験!F6="","",同種工事施工経験!F6) -> 平成２８年度から入札公告日前日までに完成及び引き渡しが完了した島根県発注工事 | AJ39: =IF(技術者継続学習!B8="","",技術者継続学習!B8) -> 配置予定の主任（監理）技術者が保有するCPDSユニット | AM39: 対象資格 | AN39: =IF(技術者資格!B9="","",技術者資格!B9) -> １級又は２級造園施工管理技士 | AP39: 対象年度・機関等 | AQ39: =IF(同種工事施工経験!F6="","",同種工事施工経験!F6) -> 平成２８年度から入札公告日前日までに完成及び引き渡しが完了した島根県発注工事 | AV39: 対象 | AW39: =IF(防災協定・家畜伝染病防疫協定!B8="","",防災協定・家畜伝染病防疫協定!B8) -> 令和6年度及び令和7年度における島根県との家畜伝染病防疫協定の締結実績 | AY39: 対象 | AZ39: =IF(ボランティア!B6="","",ボランティア!B6) -> 令和6年度及び令和7年度のボランティア活動又はハートフルしまねへの参加実績 | BB39: 対象 | BC39: =IF(維持管理業務!B7="","",維持管理業務!B7) -> 令和6年度及び令和7年度の県管理公共土木施設に関する維持管理業務または海岸漂着物の回収業務の契約実績 | BE39: 対象 | BF39: 入札公告日前日時点での取り組み状況 | BH39: 対象 | BI39: =IF(若手技術者・従業員新規雇用!B8="","",若手技術者・従業員新規雇用!B8) -> 令和6年4月1日以降に、若手技術者・若手従業員（３０歳未満の者）の１人以上の新規雇用があること。 | BK39: 対象 | BL39: 当該工事での建設キャリアアップシステム（CCUS）の活用
B40: b | C40: 発注機関 | D40: =IF('企業成績評定点 (5年用)'!D8="","",'企業成績評定点 (5年用)'!D8) -> 島根県（総務部、農林水産部、土木部） | F40: 同種工事 | G40: =IF(同種工事施工実績!F10="","",同種工事施工実績!F10) -> １契約で２，０００万円（税込）以上で植栽工（維持管理工事を除く）を含む完成及び引き渡しが完了した工事 | R40: 同種工事 | S40: =IF(同種工事施工経験!F8="","",同種工事施工経験!F8) -> １契約で１，０００万円（税込）以上で植栽工（維持管理工事を除く）を含む完成及び引き渡しが完了した工事 | AD40: 同種工事 | AE40: =IF(同種工事施工経験!F8="","",同種工事施工経験!F8) -> １契約で１，０００万円（税込）以上で植栽工（維持管理工事を除く）を含む完成及び引き渡しが完了した工事 | AP40: 同種工事 | AQ40: =IF(同種工事施工経験!F8="","",同種工事施工経験!F8) -> １契約で１，０００万円（税込）以上で植栽工（維持管理工事を除く）を含む完成及び引き渡しが完了した工事
B41: c | C41: 工事種別 | D41: =IF('企業成績評定点 (5年用)'!D9="","",'企業成績評定点 (5年用)'!D9) -> 造園工事 | F41: 工事種別 | G41: =IF(同種工事施工実績!F8="","",同種工事施工実績!F8) -> 造園工事 | R41: 工事種別 | S41: =IF(同種工事施工経験!F11="","",同種工事施工経験!F11) -> 造園工事 | AD41: 工事種別 | AE41: =IF(同種工事施工経験!F11="","",同種工事施工経験!F11) -> 造園工事 | AP41: 工事種別 | AQ41: =IF(同種工事施工経験!F11="","",同種工事施工経験!F11) -> 造園工事
B42: d | C42: 建設工事の種類 | D42: =IF('企業成績評定点 (5年用)'!D10="","",'企業成績評定点 (5年用)'!D10) -> 造園工事 | F42: 建設工事の種類 | G42: =IF(同種工事施工実績!F9="","",同種工事施工実績!F9) -> 造園工事 | R42: 建設工事の種類 | S42: =IF(同種工事施工経験!F12="","",同種工事施工経験!F12) -> 造園工事 | AD42: 建設工事の種類 | AE42: =IF(同種工事施工経験!F12="","",同種工事施工経験!F12) -> 造園工事 | AP42: 建設工事の種類 | AQ42: =IF(同種工事施工経験!F12="","",同種工事施工経験!F12) -> 造園工事 | AY42: 評価地域 | AZ42: =IF(ボランティア!D8="","",ボランティア!D8) -> 島根県内 | BB42: 評価地域 | BC42: =IF(維持管理業務!D10="","",維持管理業務!D10) -> 島根県内
B43: e | C43: 該当件数 | D43: 平均点 | F43: 項目名 | G43: 工事① | H43: 工事② | L43: 項目名 | M43: ユニット数 | O43: 項目名 | P43: 状況 | R43: 項目名 | S43: 工事① | T43: 工事② | X43: 項目名 | Y43: ユニット数 | AA43: 項目名 | AB43: 状況 | AD43: 項目名 | AE43: 工事① | AF43: 工事② | AJ43: 項目名 | AK43: ユニット数 | AM43: 項目名 | AN43: 状況 | AP43: 項目名 | AQ43: 工事① | AR43: 工事② | AV43: 項目名 | AW43: =発注者入力シート!H11 -> 6 | AX43: =発注者入力シート!G11 -> 7 | AY43: 項目名 | AZ43: =発注者入力シート!H11 -> 6 | BA43: =発注者入力シート!G11 -> 7 | BB43: 項目名 | BC43: =発注者入力シート!H11 -> 6 | BD43: =発注者入力シート!G11 -> 7 | BE43: 項目名 | BF43: 状況 | BH43: 項目名 | BI43: 雇用① | BJ43: 雇用② | BK43: 項目名 | BL43: 状況
B44: 1 | C44: =IF(OR(COUNTIF(企業入力シート!B27:B30,"○")>0,D34="有"),"",IF('企業成績評定点 (5年用)'!G18="","",'企業成績評定点 (5年用)'!G18)) | D44: =IF(OR(COUNTIF(企業入力シート!B27:B30,"○")>0,D34="有"),"",IF('企業成績評定点 (5年用)'!J18="","",'企業成績評定点 (5年用)'!J18)) | F44: 工事名 | G44: =IF(同種工事施工実績!F14="","申請なし",同種工事施工実績!F14) -> 申請なし | H44: =IF(同種工事施工実績!M14="","申請なし",同種工事施工実績!M14) -> 申請なし | L44: =IF(M34="有","押印済資料提出",IF(N34="配置なし","配置なし",IF(M44="","申請なし","ﾕﾆｯﾄ数"))) -> 配置なし | M44: =IF(M34="有","審査済・詳細省略",IF(N34="配置なし","",IF(技術者継続学習!F11="","",技術者継続学習!F11))) | O44: =IF(P34="有","押印済資料提出",IF(Q34="配置なし","配置なし",IF(P44="","申請なし","名称"))) -> 配置なし | P44: =IF(P34="有","審査済・詳細省略",IF(Q34="配置なし","",IF(技術者資格!F12="","",技術者資格!F12))) | R44: 工事名 | S44: =IF(T34="配置なし","配置なし",IF(同種工事施工経験!F16="","申請なし",同種工事施工経験!F16)) -> 配置なし | T44: =IF(T34="配置なし","",IF(同種工事施工経験!M16="","申請なし",同種工事施工経験!M16)) | X44: =IF(Y34="有","押印済資料提出",IF(Z34="配置なし","配置なし",IF(Y44="","申請なし","ﾕﾆｯﾄ数"))) -> 配置なし | Y44: =IF(Y34="有","審査済・詳細省略",IF(Z34="配置なし","配置なし",IF(技術者継続学習!F13="","",技術者継続学習!F13))) -> 配置なし | AA44: =IF(AB34="有","押印済資料提出",IF(AC34="配置なし","配置なし",IF(AB44="","申請なし","名称"))) -> 配置なし | AB44: =IF(AB34="有","審査済・詳細省略",IF(AC34="配置なし","",IF(技術者資格!F14="","",技術者資格!F14))) | AD44: 工事名 | AE44: =IF(AF34="配置なし","配置なし",IF(同種工事施工経験!F146="","申請なし",同種工事施工経験!F146)) -> 配置なし | AF44: =IF(AF34="配置なし","",IF(同種工事施工経験!M146="","申請なし",同種工事施工経験!M146)) | AJ44: =IF(AK34="有","押印済資料提出",IF(AL34="配置なし","配置なし",IF(AK44="","申請なし","ﾕﾆｯﾄ数"))) -> 配置なし | AK44: =IF(AK34="有","審査済・詳細省略",IF(AL34="配置なし","",IF(技術者継続学習!F15="","",技術者継続学習!F15))) | AM44: =IF(AN34="有","押印済資料提出",IF(AO34="配置なし","配置なし",IF(AN44="","申請なし","名称"))) -> 配置なし | AN44: =IF(AN34="有","審査済・詳細省略",IF(AO34="配置なし","",IF(技術者資格!F16="","",技術者資格!F16))) | AP44: 工事名 | AQ44: =IF(AR34="配置なし","配置なし",IF(同種工事施工経験!F198="","申請なし",同種工事施工経験!F198)) -> 配置なし | AR44: =IF(AR34="配置なし","",IF(同種工事施工経験!M198="","申請なし",同種工事施工経験!M198)) | AV44: 協定実績 | AW44: =IF(COUNTIF(企業入力シート!B31:B32,"○")>0,"事前審査・証明書提出",IF(防災協定・家畜伝染病防疫協定!G10="","申請なし",防災協定・家畜伝染病防疫協定!G10)) -> 申請なし | AX44: =IF(COUNTIF(企業入力シート!B31:B32,"○")>0,"事前審査・証明書提出",IF(防災協定・家畜伝染病防疫協定!G11="","申請なし",防災協定・家畜伝染病防疫協定!G11)) -> 申請なし | AY44: =IF(企業入力シート!B33="○","事前審査・証明書提出",IF(AZ34="有","押印済資料提出","ボランティア活動内容")) -> ボランティア活動内容 | AZ44: =IF(OR(企業入力シート!B33="○",AZ34="有"),"審査済・詳細省略",IF(AZ46="","申請なし",IF(ボランティア!F12="","",ボランティア!F12))) -> 申請なし | BA44: =IF(OR(企業入力シート!B33="○",AZ34="有"),"審査済・詳細省略",IF(BA46="","申請なし",IF(ボランティア!F15="","",ボランティア!F15))) -> 申請なし | BB44: =IF(企業入力シート!B34="○","事前審査・証明書提出",IF(BC34="有","押印済資料提出","業務名")) -> 業務名 | BC44: =IF(OR(企業入力シート!B34="○",BC34="有"),"審査済・詳細省略",IF(維持管理業務!I15="","申請なし",維持管理業務!I15)) -> 申請なし | BD44: =IF(OR(企業入力シート!B34="○",BC34="有"),"審査済・詳細省略",IF(維持管理業務!I20="","申請なし",維持管理業務!I20)) -> 申請なし | BH44: 雇用の内容 | BI44: =IF(若手技術者・従業員新規雇用!H14="","申請なし",IF(若手技術者・従業員新規雇用!H18="有","若手技術者(指定学科卒)",IF(若手技術者・従業員新規雇用!H28="有","若手技術者(資格有)",IF(若手技術者・従業員新規雇用!H33="有","若手従業員","無")))) -> 申請なし | BJ44: =IF(若手技術者・従業員新規雇用!M14="","申請なし",IF(若手技術者・従業員新規雇用!M18="有","若手技術者(指定学科卒)",IF(若手技術者・従業員新規雇用!M28="有","若手技術者(資格有)",IF(若手技術者・従業員新規雇用!M33="有","若手従業員","無")))) -> 申請なし | BK44: 確約書の提出 | BL44: =IF('建設キャリアアップシステム(CCUS)'!E11="","無",'建設キャリアアップシステム(CCUS)'!E11) -> 無
B45: 2 | C45: =IF(OR(COUNTIF(企業入力シート!B27:B30,"○")>0,D34="有"),"↑件数直接入力",IF(D34="無","申請あり","")) | D45: =IF(OR(COUNTIF(企業入力シート!B27:B30,"○")>0,D34="有"),"↑平均点直接入力","") | F45: 発注機関 | G45: =IF(G44="申請なし","",IF(同種工事施工実績!F19="","",同種工事施工実績!F19)) | H45: =IF(H44="申請なし","",IF(同種工事施工実績!M19="","",同種工事施工実績!M19)) | O45: =IF(OR(P34="有",Q34="配置なし",P44=""),"","有効期限") | P45: =IF(OR(P34="有",Q34="配置なし",P44=""),"",IF(技術者資格!J12="","",技術者資格!J12)) | R45: 発注機関 | S45: =IF(OR(S44="配置なし",S44="申請なし"),"",IF(同種工事施工経験!F21="","",同種工事施工経験!F21)) | T45: =IF(OR(T44="",T44="申請なし"),"",IF(同種工事施工経験!M21="","",同種工事施工経験!M21)) | AA45: =IF(OR(AB34="有",AC34="配置なし",AB44=""),"","有効期限") | AB45: =IF(OR(AB34="有",AC34="配置なし",AB44=""),"",IF(技術者資格!J14="","",技術者資格!J14)) | AD45: 発注機関 | AE45: =IF(OR(AE44="配置なし",AE44="申請なし"),"",IF(同種工事施工経験!F151="","",同種工事施工経験!F151)) | AF45: =IF(OR(AF44="",AF44="申請なし"),"",IF(同種工事施工経験!M151="","",同種工事施工経験!M151)) | AM45: =IF(OR(AN34="有",AO34="配置なし",AN44=""),"","有効期限") | AN45: =IF(OR(AN34="有",AO34="配置なし",AN44=""),"",IF(技術者資格!J16="","",技術者資格!J16)) | AP45: 発注機関 | AQ45: =IF(OR(AQ44="配置なし",AQ44="申請なし"),"",IF(同種工事施工経験!F203="","",同種工事施工経験!F203)) | AR45: =IF(OR(AR44="",AR44="申請なし"),"",IF(同種工事施工経験!M203="","",同種工事施工経験!M203)) | AY45: =IF(OR(企業入力シート!B33="○",AZ34="有"),"",IF(AND(AZ46="",BA46=""),"","活動日")) | AZ45: =IF(OR(企業入力シート!B33="○",AZ34="有",AZ46=""),"",IF(ボランティア!C12="","",ボランティア!C12)) | BA45: =IF(OR(企業入力シート!B33="○",AZ34="有",BA46=""),"",IF(ボランティア!C15="","",ボランティア!C15)) | BB45: =IF(OR(企業入力シート!B34="○",BC34="有"),"","発注機関") -> 発注機関 | BC45: =IF(OR(企業入力シート!B34="○",BC34="有"),"",IF(維持管理業務!A15="","",維持管理業務!A15)) | BD45: =IF(OR(企業入力シート!B34="○",BC34="有"),"",IF(維持管理業務!A20="","",維持管理業務!A20)) | BH45: =IF(AND(BI44="申請なし",BJ44="申請なし"),"","生年月日") | BI45: =IF(OR(BI44="申請なし",BI44="無"),"",若手技術者・従業員新規雇用!H15) | BJ45: =IF(OR(BJ44="申請なし",BJ44="無"),"",若手技術者・従業員新規雇用!M15)
B46: 3 | C46: =IF(COUNTIF(企業入力シート!B27:B30,"○")>0,"事前審査・証明書提出",IF(D34="有","押印済資料提出","")) | F46: 工事種別 | G46: =IF(G44="申請なし","",IF(同種工事施工実績!F20="","",同種工事施工実績!F20)) | H46: =IF(H44="申請なし","",IF(同種工事施工実績!M20="","",同種工事施工実績!M20)) | R46: 施工場所 | S46: =IF(OR(S44="配置なし",S44="申請なし"),"",IF(同種工事施工経験!F22="","",同種工事施工経験!F22)) | T46: =IF(OR(T44="",T44="申請なし"),"",IF(同種工事施工経験!M22="","",同種工事施工経験!M22)) | AD46: 施工場所 | AE46: =IF(OR(AE44="配置なし",AE44="申請なし"),"",IF(同種工事施工経験!F152="","",同種工事施工経験!F152)) | AF46: =IF(OR(AF44="",AF44="申請なし"),"",IF(同種工事施工経験!M152="","",同種工事施工経験!M152)) | AP46: 施工場所 | AQ46: =IF(OR(AQ44="配置なし",AQ44="申請なし"),"",IF(同種工事施工経験!F204="","",同種工事施工経験!F204)) | AR46: =IF(OR(AR44="",AR44="申請なし"),"",IF(同種工事施工経験!M204="","",同種工事施工経験!M204)) | AY46: =IF(OR(企業入力シート!B33="○",AZ34="有"),"",IF(AND(AZ46="",BA46=""),"","活動箇所")) | AZ46: =IF(OR(企業入力シート!B33="○",AZ34="有"),"",IF(ボランティア!K12="","",ボランティア!K12)) | BA46: =IF(OR(企業入力シート!B33="○",AZ34="有"),"",IF(ボランティア!K15="","",ボランティア!K15)) | BB46: =IF(OR(企業入力シート!B34="○",BC34="有"),"","委託月数") -> 委託月数 | BC46: =IF(OR(企業入力シート!B34="○",BC34="有"),"",IF(維持管理業務!D15="","",維持管理業務!D15)) -> 0 | BD46: =IF(OR(企業入力シート!B34="○",BC34="有"),"",IF(維持管理業務!D20="","",維持管理業務!D20)) -> 0 | BH46: =IF(AND(BI44="申請なし",BJ44="申請なし"),"","雇用年月日") | BI46: =IF(OR(BI44="申請なし",BI44="無"),"",若手技術者・従業員新規雇用!H16) | BJ46: =IF(OR(BJ44="申請なし",BJ44="無"),"",若手技術者・従業員新規雇用!M16)
B47: 4 | F47: 建設工事の種類 | G47: =IF(G44="申請なし","",IF(同種工事施工実績!F21="","",同種工事施工実績!F21)) | H47: =IF(H44="申請なし","",IF(同種工事施工実績!M21="","",同種工事施工実績!M21)) | R47: 請負金額 | S47: =IF(OR(S44="配置なし",S44="申請なし"),"",IF(同種工事施工経験!F24="","",同種工事施工経験!F24)) | T47: =IF(OR(T44="",T44="申請なし"),"",IF(同種工事施工経験!M24="","",同種工事施工経験!M24)) | AD47: 請負金額 | AE47: =IF(OR(AE44="配置なし",AE44="申請なし"),"",IF(同種工事施工経験!F154="","",同種工事施工経験!F154)) | AF47: =IF(OR(AF44="",AF44="申請なし"),"",IF(同種工事施工経験!M154="","",同種工事施工経験!M154)) | AP47: 請負金額 | AQ47: =IF(OR(AQ44="配置なし",AQ44="申請なし"),"",IF(同種工事施工経験!F206="","",同種工事施工経験!F206)) | AR47: =IF(OR(AR44="",AR44="申請なし"),"",IF(同種工事施工経験!M206="","",同種工事施工経験!M206)) | AY47: =IF(OR(企業入力シート!B33="○",AZ34="有"),"",IF(AND(AZ46="",BA46=""),"","参加人数")) | AZ47: =IF(OR(企業入力シート!B33="○",AZ34="有",AZ46=""),"",IF(ボランティア!O12="","",ボランティア!O12)) | BA47: =IF(OR(企業入力シート!B33="○",AZ34="有",BA46=""),"",IF(ボランティア!O15="","",ボランティア!O15)) | BB47: =IF(OR(企業入力シート!B34="○",BC34="有"),"","契約(始)") -> 契約(始) | BC47: =IF(OR(企業入力シート!B34="○",BC34="有"),"",IF(維持管理業務!F15="","",維持管理業務!F15)) | BD47: =IF(OR(企業入力シート!B34="○",BC34="有"),"",IF(維持管理業務!F20="","",維持管理業務!F20)) | BE47: 障がい者 | BF47: 障がい者雇用数 | BG47: =障がい者雇用!M54 -> 0
B48: 5 | F48: 施工場所 | G48: =IF(G44="申請なし","",IF(同種工事施工実績!F22="","",同種工事施工実績!F22)) | H48: =IF(H44="申請なし","",IF(同種工事施工実績!M22="","",同種工事施工実績!M22)) | R48: 工期 | S48: =IF(OR(S44="配置なし",S44="申請なし"),"",IF(同種工事施工経験!G25="","",同種工事施工経験!F25&同種工事施工経験!G25&同種工事施工経験!H25&同種工事施工経験!I25&同種工事施工経験!J25&同種工事施工経験!K25&同種工事施工経験!L25&"～"))&IF(OR(S44="配置なし",S44="申請なし"),"",IF(同種工事施工経験!G26="","",同種工事施工経験!F26&同種工事施工経験!G26&同種工事施工経験!H26&同種工事施工経験!I26&同種工事施工経験!J26&同種工事施工経験!K26&同種工事施工経験!L26)) | T48: =IF(OR(T44="",T44="申請なし"),"",IF(同種工事施工経験!N25="","",同種工事施工経験!M25&同種工事施工経験!N25&同種工事施工経験!O25&同種工事施工経験!P25&同種工事施工経験!Q25&同種工事施工経験!R25&同種工事施工経験!S25&"～"))&IF(OR(T44="",T44="申請なし"),"",IF(同種工事施工経験!N26="","",同種工事施工経験!M26&同種工事施工経験!N26&同種工事施工経験!O26&同種工事施工経験!P26&同種工事施工経験!Q26&同種工事施工経験!R26&同種工事施工経験!S26)) | AD48: 工期 | AE48: =IF(OR(AE44="配置なし",AE44="申請なし"),"",IF(OR(同種工事施工経験!G155="",同種工事施工経験!G155="○"),"",同種工事施工経験!F155&同種工事施工経験!G155&同種工事施工経験!H155&同種工事施工経験!I155&同種工事施工経験!J155&同種工事施工経験!K155&同種工事施工経験!L155&"～"))&IF(OR(AE44="配置なし",AE44="申請なし"),"",IF(同種工事施工経験!G156="","",同種工事施工経験!F156&同種工事施工経験!G156&同種工事施工経験!H156&同種工事施工経験!I156&同種工事施工経験!J156&同種工事施工経験!K156&同種工事施工経験!L156)) | AF48: =IF(OR(AF44="",AF44="申請なし"),"",IF(同種工事施工経験!N155="","",同種工事施工経験!M155&同種工事施工経験!N155&同種工事施工経験!O155&同種工事施工経験!P155&同種工事施工経験!Q155&同種工事施工経験!R155&同種工事施工経験!S155&"～"))&IF(OR(AF44="",AF44="申請なし"),"",IF(同種工事施工経験!N156="","",同種工事施工経験!M156&同種工事施工経験!N156&同種工事施工経験!O156&同種工事施工経験!P156&同種工事施工経験!Q156&同種工事施工経験!R156&同種工事施工経験!S156)) | AP48: 工期 | AQ48: =IF(OR(AQ44="配置なし",AQ44="申請なし"),"",IF(同種工事施工経験!G207="","",同種工事施工経験!F207&同種工事施工経験!G207&同種工事施工経験!H207&同種工事施工経験!I207&同種工事施工経験!J207&同種工事施工経験!K207&同種工事施工経験!L207&"～"))&IF(OR(AQ44="配置なし",AQ44="申請なし"),"",IF(同種工事施工経験!G208="","",同種工事施工経験!F208&同種工事施工経験!G208&同種工事施工経験!H208&同種工事施工経験!I208&同種工事施工経験!J208&同種工事施工経験!K208&同種工事施工経験!L208)) | AR48: =IF(OR(AR44="",AR44="申請なし"),"",IF(同種工事施工経験!N207="","",同種工事施工経験!M207&同種工事施工経験!N207&同種工事施工経験!O207&同種工事施工経験!P207&同種工事施工経験!Q207&同種工事施工経験!R207&同種工事施工経験!S207&"～"))&IF(OR(AR44="",AR44="申請なし"),"",IF(同種工事施工経験!N208="","",同種工事施工経験!M208&同種工事施工経験!N208&同種工事施工経験!O208&同種工事施工経験!P208&同種工事施工経験!Q208&同種工事施工経験!R208&同種工事施工経験!S208)) | AY48: =IF(OR(企業入力シート!B33="○",AZ34="有"),"",IF(AND(AZ46="",BA46=""),"","従業員数")) | AZ48: =IF(OR(企業入力シート!B33="○",AZ34="有",AZ46=""),"",IF(ボランティア!Q12="","",ボランティア!Q12)) | BA48: =IF(OR(企業入力シート!B33="○",AZ34="有",BA46=""),"",IF(ボランティア!Q15="","",ボランティア!Q15)) | BB48: =IF(OR(企業入力シート!B34="○",BC34="有"),"","契約(終)") -> 契約(終) | BC48: =IF(OR(企業入力シート!B34="○",BC34="有"),"",IF(維持管理業務!F16="","",維持管理業務!F16)) | BD48: =IF(OR(企業入力シート!B34="○",BC34="有"),"",IF(維持管理業務!F21="","",維持管理業務!F21)) | BF48: 法定雇用義務数 | BG48: =障がい者雇用!M52 -> 法定雇用義務なし
B49: 6 | F49: 請負金額 | G49: =IF(G44="申請なし","",IF(同種工事施工実績!F24="","",同種工事施工実績!F24)) | H49: =IF(H44="申請なし","",IF(同種工事施工実績!M24="","",同種工事施工実績!M24)) | R49: 従事 | S49: =IF(OR(S44="配置なし",S44="申請なし"),"",IF(同種工事施工経験!G27="","",同種工事施工経験!F27&同種工事施工経験!G27&同種工事施工経験!H27&同種工事施工経験!I27&同種工事施工経験!J27&同種工事施工経験!K27&同種工事施工経験!L27&"～"))&IF(OR(S44="配置なし",S44="申請なし"),"",IF(同種工事施工経験!G28="","",同種工事施工経験!F28&同種工事施工経験!G28&同種工事施工経験!H28&同種工事施工経験!I28&同種工事施工経験!J28&同種工事施工経験!K28&同種工事施工経験!L28)) | T49: =IF(OR(T44="",T44="申請なし"),"",IF(同種工事施工経験!N27="","",同種工事施工経験!M27&同種工事施工経験!N27&同種工事施工経験!O27&同種工事施工経験!P27&同種工事施工経験!Q27&同種工事施工経験!R27&同種工事施工経験!S27&"～"))&IF(OR(T44="",T44="申請なし"),"",IF(同種工事施工経験!N28="","",同種工事施工経験!M28&同種工事施工経験!N28&同種工事施工経験!O28&同種工事施工経験!P28&同種工事施工経験!Q28&同種工事施工経験!R28&同種工事施工経験!S28)) | AD49: 従事 | AE49: =IF(OR(AE44="配置なし",AE44="申請なし"),"",IF(同種工事施工経験!G157="","",同種工事施工経験!F157&同種工事施工経験!G157&同種工事施工経験!H157&同種工事施工経験!I157&同種工事施工経験!J157&同種工事施工経験!K157&同種工事施工経験!L157&"～"))&IF(OR(AE44="配置なし",AE44="申請なし"),"",IF(同種工事施工経験!G158="","",同種工事施工経験!F158&同種工事施工経験!G158&同種工事施工経験!H158&同種工事施工経験!I158&同種工事施工経験!J158&同種工事施工経験!K158&同種工事施工経験!L158)) | AF49: =IF(OR(AF44="",AF44="申請なし"),"",IF(同種工事施工経験!N157="","",同種工事施工経験!M157&同種工事施工経験!N157&同種工事施工経験!O157&同種工事施工経験!P157&同種工事施工経験!Q157&同種工事施工経験!R157&同種工事施工経験!S157&"～"))&IF(OR(AF44="",AF44="申請なし"),"",IF(同種工事施工経験!N158="","",同種工事施工経験!M158&同種工事施工経験!N158&同種工事施工経験!O158&同種工事施工経験!P158&同種工事施工経験!Q158&同種工事施工経験!R158&同種工事施工経験!S158)) | AP49: 従事 | AQ49: =IF(OR(AQ44="配置なし",AQ44="申請なし"),"",IF(同種工事施工経験!G209="","",同種工事施工経験!F209&同種工事施工経験!G209&同種工事施工経験!H209&同種工事施工経験!I209&同種工事施工経験!J209&同種工事施工経験!K209&同種工事施工経験!L209&"～"))&IF(OR(AQ44="配置なし",AQ44="申請なし"),"",IF(同種工事施工経験!G210="","",同種工事施工経験!F210&同種工事施工経験!G210&同種工事施工経験!H210&同種工事施工経験!I210&同種工事施工経験!J210&同種工事施工経験!K210&同種工事施工経験!L210)) | AR49: =IF(OR(AR44="",AR44="申請なし"),"",IF(同種工事施工経験!N209="","",同種工事施工経験!M209&同種工事施工経験!N209&同種工事施工経験!O209&同種工事施工経験!P209&同種工事施工経験!Q209&同種工事施工経験!R209&同種工事施工経験!S209&"～"))&IF(OR(AR44="",AR44="申請なし"),"",IF(同種工事施工経験!N210="","",同種工事施工経験!M210&同種工事施工経験!N210&同種工事施工経験!O210&同種工事施工経験!P210&同種工事施工経験!Q210&同種工事施工経験!R210&同種工事施工経験!S210)) | AY49: =IF(OR(企業入力シート!B33="○",AZ34="有"),"","ﾊｰﾄﾌﾙ活動") -> ﾊｰﾄﾌﾙ活動 | AZ49: =IF(OR(企業入力シート!B33="○",AZ34="有"),"",IF(AZ50="","申請なし","")) -> 申請なし | BA49: =IF(OR(企業入力シート!B33="○",AZ34="有"),"",IF(BA50="","申請なし","")) -> 申請なし | BB49: =IF(OR(企業入力シート!B34="○",BC34="有"),"","施工箇所") -> 施工箇所 | BC49: =IF(OR(企業入力シート!B34="○",BC34="有"),"",IF(維持管理業務!N15="","",維持管理業務!N15)) | BD49: =IF(OR(企業入力シート!B34="○",BC34="有"),"",IF(維持管理業務!N20="","",維持管理業務!N20)) | BF49: 法定雇用義務数の算出の基礎となる労働者数 | BG49: =障がい者雇用!M47 -> 0
B50: 7 | F50: 工期(始) | G50: =IF(G44="申請なし","",IF(同種工事施工実績!G25="","",同種工事施工実績!F25&同種工事施工実績!G25&同種工事施工実績!H25&同種工事施工実績!I25&同種工事施工実績!J25&同種工事施工実績!K25&同種工事施工実績!L25&"～")) | H50: =IF(H44="申請なし","",IF(同種工事施工実績!N25="","",同種工事施工実績!M25&同種工事施工実績!N25&同種工事施工実績!O25&同種工事施工実績!P25&同種工事施工実績!Q25&同種工事施工実績!R25&同種工事施工実績!S25&"～")) | R50: 工事種別 | S50: =IF(OR(S44="配置なし",S44="申請なし"),"",IF(同種工事施工経験!F32="","",同種工事施工経験!F32)) | T50: =IF(OR(T44="",T44="申請なし"),"",IF(同種工事施工経験!M32="","",同種工事施工経験!M32)) | AD50: 工事種別 | AE50: =IF(OR(AE44="配置なし",AE44="申請なし"),"",IF(同種工事施工経験!F162="","",同種工事施工経験!F162)) | AF50: =IF(OR(AF44="",AF44="申請なし"),"",IF(同種工事施工経験!M162="","",同種工事施工経験!M162)) | AP50: 工事種別 | AQ50: =IF(OR(AQ44="配置なし",AQ44="申請なし"),"",IF(同種工事施工経験!F214="","",同種工事施工経験!F214)) | AR50: =IF(OR(AR44="",AR44="申請なし"),"",IF(同種工事施工経験!M214="","",同種工事施工経験!M214)) | AY50: =IF(OR(企業入力シート!B33="○",AZ34="有"),"",IF(AND(AZ50="",BA50=""),"","活動箇所")) | AZ50: =IF(OR(企業入力シート!B33="○",AZ34="有"),"",IF(ボランティア!C26="","",ボランティア!C26)) | BA50: =IF(OR(企業入力シート!B33="○",AZ34="有"),"",IF(ボランティア!C27="","",ボランティア!C27)) | BE50: 育児介護 | BF50: 法律超える制度 | BG50: =IF(OR(企業入力シート!B36="○",BG34="有"),"",IF(育児・介護休業!K12="","",育児・介護休業!K12))
B51: 8 | F51: 工期(終) | G51: =IF(G44="申請なし","",IF(同種工事施工実績!G26="","",同種工事施工実績!F26&同種工事施工実績!G26&同種工事施工実績!H26&同種工事施工実績!I26&同種工事施工実績!J26&同種工事施工実績!K26&同種工事施工実績!L26)) | H51: =IF(H44="申請なし","",IF(同種工事施工実績!N26="","",同種工事施工実績!M26&同種工事施工実績!N26&同種工事施工実績!O26&同種工事施工実績!P26&同種工事施工実績!Q26&同種工事施工実績!R26&同種工事施工実績!S26)) | R51: 建設工事の種類 | S51: =IF(OR(S44="配置なし",S44="申請なし"),"",IF(同種工事施工経験!F33="","",同種工事施工経験!F33)) | T51: =IF(OR(T44="",T44="申請なし"),"",IF(同種工事施工経験!M33="","",同種工事施工経験!M33)) | AD51: 建設工事の種類 | AE51: =IF(OR(AE44="配置なし",AE44="申請なし"),"",IF(同種工事施工経験!F163="","",同種工事施工経験!F163)) | AF51: =IF(OR(AF44="",AF44="申請なし"),"",IF(同種工事施工経験!M163="","",同種工事施工経験!M163)) | AP51: 建設工事の種類 | AQ51: =IF(OR(AQ44="配置なし",AQ44="申請なし"),"",IF(同種工事施工経験!F215="","",同種工事施工経験!F215)) | AR51: =IF(OR(AR44="",AR44="申請なし"),"",IF(同種工事施工経験!M215="","",同種工事施工経験!M215)) | AY51: =IF(OR(企業入力シート!B33="○",AZ34="有"),"",IF(AND(AZ50="",BA50=""),"","参加人数")) | AZ51: =IF(OR(企業入力シート!B33="○",AZ34="有",AZ50=""),"",IF(ボランティア!J26="","",ボランティア!J26)) | BA51: =IF(OR(企業入力シート!B33="○",AZ34="有",BA50=""),"",IF(ボランティア!J27="","",ボランティア!J27)) | BF51: こっころ認定 | BG51: =IF(OR(企業入力シート!B36="○",BG34="有"),"",IF(育児・介護休業!K10="","",育児・介護休業!K10))
B52: 9 | F52: 施工規模 | G52: =IF(G44="申請なし","",IF(同種工事施工実績!F30="","",同種工事施工実績!F30)) | H52: =IF(H44="申請なし","",IF(同種工事施工実績!M30="","",同種工事施工実績!M30)) | R52: 役職 | S52: =IF(OR(S44="配置なし",S44="申請なし"),"",IF(同種工事施工経験!F29="","",同種工事施工経験!F29)) | T52: =IF(OR(T44="",T44="申請なし"),"",IF(同種工事施工経験!M29="","",同種工事施工経験!M29)) | AD52: 役職 | AE52: =IF(OR(AE44="配置なし",AE44="申請なし"),"",IF(同種工事施工経験!F159="","",同種工事施工経験!F159)) | AF52: =IF(OR(AF44="",AF44="申請なし"),"",IF(同種工事施工経験!M159="","",同種工事施工経験!M159)) | AP52: 役職 | AQ52: =IF(OR(AQ44="配置なし",AQ44="申請なし"),"",IF(同種工事施工経験!F211="","",同種工事施工経験!F211)) | AR52: =IF(OR(AR44="",AR44="申請なし"),"",IF(同種工事施工経験!M211="","",同種工事施工経験!M211)) | AY52: =IF(OR(企業入力シート!B33="○",AZ34="有"),"",IF(AND(AZ50="",BA50=""),"","従業員数")) | AZ52: =IF(OR(企業入力シート!B33="○",AZ34="有",AZ50=""),"",IF(ボランティア!M26="","",ボランティア!M26)) | BA52: =IF(OR(企業入力シート!B33="○",AZ34="有",BA50=""),"",IF(ボランティア!M27="","",ボランティア!M27)) | BF52: こっころ認定期間 | BG52: =IF(OR(企業入力シート!B36="○",BG34="有"),"",IF(育児・介護休業!N10="","",育児・介護休業!N10&"まで"))
B53: 10 | F53: 型式 | G53: =IF(G44="申請なし","",IF(同種工事施工実績!F32="","",同種工事施工実績!F32)) | H53: =IF(H44="申請なし","",IF(同種工事施工実績!M32="","",同種工事施工実績!M32)) | R53: 施工規模 | S53: =IF(OR(S44="配置なし",S44="申請なし"),"",IF(同種工事施工経験!F35="","",同種工事施工経験!F35)) | T53: =IF(OR(T44="",T44="申請なし"),"",IF(同種工事施工経験!M35="","",同種工事施工経験!M35)) | AD53: 施工規模 | AE53: =IF(OR(AE44="配置なし",AE44="申請なし"),"",IF(同種工事施工経験!F165="","",同種工事施工経験!F165)) | AF53: =IF(OR(AF44="",AF44="申請なし"),"",IF(同種工事施工経験!M165="","",同種工事施工経験!M165)) | AP53: 施工規模 | AQ53: =IF(OR(AQ44="配置なし",AQ44="申請なし"),"",IF(同種工事施工経験!F217="","",同種工事施工経験!F217)) | AR53: =IF(OR(AR44="",AR44="申請なし"),"",IF(同種工事施工経験!M217="","",同種工事施工経験!M217))
B54: 11 | G54: =IF(G44="申請なし","",IF(同種工事施工実績!F34="","",同種工事施工実績!F34)) | H54: =IF(H44="申請なし","",IF(同種工事施工実績!M34="","",同種工事施工実績!M34)) | R54: 型式 | S54: =IF(OR(S44="配置なし",S44="申請なし"),"",IF(同種工事施工経験!F37="","",同種工事施工経験!F37)) | T54: =IF(OR(T44="",T44="申請なし"),"",IF(同種工事施工経験!M37="","",同種工事施工経験!M37)) | AD54: 型式 | AE54: =IF(OR(AE44="配置なし",AE44="申請なし"),"",IF(同種工事施工経験!F167="","",同種工事施工経験!F167)) | AF54: =IF(OR(AF44="",AF44="申請なし"),"",IF(同種工事施工経験!M167="","",同種工事施工経験!M167)) | AP54: 型式 | AQ54: =IF(OR(AQ44="配置なし",AQ44="申請なし"),"",IF(同種工事施工経験!F219="","",同種工事施工経験!F219)) | AR54: =IF(OR(AR44="",AR44="申請なし"),"",IF(同種工事施工経験!M219="","",同種工事施工経験!M219))
B55: 12 | G55: =IF(G44="申請なし","",IF(同種工事施工実績!F36="","",同種工事施工実績!F36)) | H55: =IF(H44="申請なし","",IF(同種工事施工実績!M36="","",同種工事施工実績!M36)) | S55: =IF(OR(S44="配置なし",S44="申請なし"),"",IF(同種工事施工経験!F39="","",同種工事施工経験!F39)) | T55: =IF(OR(T44="",T44="申請なし"),"",IF(同種工事施工経験!M39="","",同種工事施工経験!M39)) | AE55: =IF(OR(AE44="配置なし",AE44="申請なし"),"",IF(同種工事施工経験!F169="","",同種工事施工経験!F169)) | AF55: =IF(OR(AF44="",AF44="申請なし"),"",IF(同種工事施工経験!M169="","",同種工事施工経験!M169)) | AQ55: =IF(OR(AQ44="配置なし",AQ44="申請なし"),"",IF(同種工事施工経験!F221="","",同種工事施工経験!F221)) | AR55: =IF(OR(AR44="",AR44="申請なし"),"",IF(同種工事施工経験!M221="","",同種工事施工経験!M221))
B56: 13 | G56: =IF(G44="申請なし","",IF(同種工事施工実績!F38="","",同種工事施工実績!F38)) | H56: =IF(H44="申請なし","",IF(同種工事施工実績!M38="","",同種工事施工実績!M38)) | S56: =IF(OR(S44="配置なし",S44="申請なし"),"",IF(同種工事施工経験!F41="","",同種工事施工経験!F41)) | T56: =IF(OR(T44="",T44="申請なし"),"",IF(同種工事施工経験!M41="","",同種工事施工経験!M41)) | AE56: =IF(OR(AE44="配置なし",AE44="申請なし"),"",IF(同種工事施工経験!F171="","",同種工事施工経験!F171)) | AF56: =IF(OR(AF44="",AF44="申請なし"),"",IF(同種工事施工経験!M171="","",同種工事施工経験!M171)) | AQ56: =IF(OR(AQ44="配置なし",AQ44="申請なし"),"",IF(同種工事施工経験!F223="","",同種工事施工経験!F223)) | AR56: =IF(OR(AR44="",AR44="申請なし"),"",IF(同種工事施工経験!M223="","",同種工事施工経験!M223))
B57: 14 | F57: 工事成績 | G57: =IF(G44="申請なし","",IF(同種工事施工実績!F29="","",同種工事施工実績!F29)) | H57: =IF(H44="申請なし","",IF(同種工事施工実績!M29="","",同種工事施工実績!M29)) | R57: 工事成績 | S57: =IF(OR(S44="配置なし",S44="申請なし"),"",IF(同種工事施工経験!F34="","",同種工事施工経験!F34)) | T57: =IF(OR(T44="",T44="申請なし"),"",IF(同種工事施工経験!M34="","",同種工事施工経験!M34)) | AD57: 工事成績 | AE57: =IF(OR(AE44="配置なし",AE44="申請なし"),"",IF(同種工事施工経験!F164="","",同種工事施工経験!F164)) | AF57: =IF(OR(AF44="",AF44="申請なし"),"",IF(同種工事施工経験!M164="","",同種工事施工経験!M164)) | AP57: 工事成績 | AQ57: =IF(OR(AQ44="配置なし",AQ44="申請なし"),"",IF(同種工事施工経験!F216="","",同種工事施工経験!F216)) | AR57: =IF(OR(AR44="",AR44="申請なし"),"",IF(同種工事施工経験!M216="","",同種工事施工経験!M216))
B58: 15 | F58: 受注形態 | G58: =IF(G44="申請なし","",IF(同種工事施工実績!F27="","",同種工事施工実績!F27)) | H58: =IF(H44="申請なし","",IF(同種工事施工実績!M27="","",同種工事施工実績!M27)) | R58: 受注形態 | S58: =IF(OR(S44="配置なし",S44="申請なし"),"",IF(同種工事施工経験!F30="","",同種工事施工経験!F30)) | T58: =IF(OR(T44="",T44="申請なし"),"",IF(同種工事施工経験!M30="","",同種工事施工経験!M30)) | AD58: 受注形態 | AE58: =IF(OR(AE44="配置なし",AE44="申請なし"),"",IF(同種工事施工経験!F160="","",同種工事施工経験!F160)) | AF58: =IF(OR(AF44="",AF44="申請なし"),"",IF(同種工事施工経験!M160="","",同種工事施工経験!M160)) | AP58: 受注形態 | AQ58: =IF(OR(AQ44="配置なし",AQ44="申請なし"),"",IF(同種工事施工経験!F212="","",同種工事施工経験!F212)) | AR58: =IF(OR(AR44="",AR44="申請なし"),"",IF(同種工事施工経験!M212="","",同種工事施工経験!M212))
B59: 16 | F59: 出資比率 | G59: =IF(G44="申請なし","",IF(同種工事施工実績!F28="","",同種工事施工実績!F28)) | H59: =IF(H44="申請なし","",IF(同種工事施工実績!M28="","",同種工事施工実績!M28)) | R59: 出資比率 | S59: =IF(OR(S44="配置なし",S44="申請なし"),"",IF(同種工事施工経験!F31="","",同種工事施工経験!F31)) | T59: =IF(OR(T44="",T44="申請なし"),"",IF(同種工事施工経験!M31="","",同種工事施工経験!M31)) | AD59: 出資比率 | AE59: =IF(OR(AE44="配置なし",AE44="申請なし"),"",IF(同種工事施工経験!F161="","",同種工事施工経験!F161)) | AF59: =IF(OR(AF44="",AF44="申請なし"),"",IF(同種工事施工経験!M161="","",同種工事施工経験!M161)) | AP59: 出資比率 | AQ59: =IF(OR(AQ44="配置なし",AQ44="申請なし"),"",IF(同種工事施工経験!F213="","",同種工事施工経験!F213)) | AR59: =IF(OR(AR44="",AR44="申請なし"),"",IF(同種工事施工経験!M213="","",同種工事施工経験!M213))
B60: 17 | F60: コリンズ | G60: =IF(G44="申請なし","",IF(同種工事施工実績!F18="","",同種工事施工実績!F18)) | H60: =IF(H44="申請なし","",IF(同種工事施工実績!M18="","",同種工事施工実績!M18)) | R60: コリンズ | S60: =IF(OR(S44="配置なし",S44="申請なし"),"",IF(同種工事施工経験!F20="","",同種工事施工経験!F20)) | T60: =IF(OR(T44="",T44="申請なし"),"",IF(同種工事施工経験!M20="","",同種工事施工経験!M20)) | AD60: コリンズ | AE60: =IF(OR(AE44="配置なし",AE44="申請なし"),"",IF(同種工事施工経験!F150="","",同種工事施工経験!F150)) | AF60: =IF(OR(AF44="",AF44="申請なし"),"",IF(同種工事施工経験!M150="","",同種工事施工経験!M150)) | AP60: コリンズ | AQ60: =IF(OR(AQ44="配置なし",AQ44="申請なし"),"",IF(同種工事施工経験!F202="","",同種工事施工経験!F202)) | AR60: =IF(OR(AR44="",AR44="申請なし"),"",IF(同種工事施工経験!M202="","",同種工事施工経験!M202))
B62: ・各様式に記載された内容をこのシートの集計専用表で数式によりリンクさせています。
B63: ・集計専用表で集計した内容をコピー専用表で再集計していますので、企業申請内容の行数は１７行から８行に減っています。

Sheet 表紙
A1: 様式－ | B1: 1 | S1: 着色セルの凡例
M2: 提出日 | N2: =IF(企業入力シート!C4="","",企業入力シート!C4) -> 2026/ / | S2: （企業）
T3: ：「企業入力シート」で入力（数式リンク有）
A4: （特別簡易型 総合評価方式） | T4: ：セルに直接入力が必要な箇所
A5: 総 合 評 価 技 術 資 料
S6: （発注者）
A7: 発注者 | T7: ：「発注者入力シート」で入力（数式リンク有）
A8: =CONCATENATE(" ",発注者入力シート!C6,IF(COUNTIF(発注者入力シート!C6,"*センター*"),"所長","長")," ","様") -> 東部農林水産振興センター所長 様 | T8: ：セルに直接入力が必要な箇所
S10: 【印刷について】
H11: 住所 | J11: =IF(企業入力シート!C6="","",企業入力シート!C6) | S11: このシートは「ページ設定」で「白黒印刷」と「印刷範囲」が設定されています。
G13: 商号又は名称 | J13: =IF(企業入力シート!C7="","",企業入力シート!C7) -> ○○建設
G14: 代表者氏名 | J14: =IF(企業入力シート!C8="","",企業入力シート!C8) -> ○○ ○○
A17: =CONCATENATE(" ","令和",(YEAR(発注者入力シート!C7)-2018),"年",MONTH(発注者入力シート!C7),"月",DAY(発注者入力シート!C7),"日付けで入札公告のありました下記工事について、別添のとおり書類を添えて提出いたします。") -> 令和8年9月16日付けで入札公告のありました下記工事について、別添のとおり書類を添えて提出いたします。
A20: １ 工事名 | C20: =発注者入力シート!C10 -> 大社漁港海岸 農山漁村地域整備交付金（海岸環境）工事（２工区）その５
A22: ２ 提出書類（下記項目の該当するもの）
A23: =IF(AND(IFERROR(OR(発注者入力シート!$L$62="２",発注者入力シート!$L$63="２"),FALSE),企業入力シート!$B$36="○"),"",IF(COUNTIF($A$44:$A$50,"*"&VLOOKUP("２",発注者入力シート!$L$41:$N$79,3,FALSE)&"*")>=1,"",INDEX(発注者入力シート!$L$40:$O$85,MATCH("２",発注者入力シート!$L$40:$L$85,0),4))) -> ○企業の工事成績評定点 （様式-２-１、様式-２-２）
A24: =IF(AND(IFERROR(OR(発注者入力シート!$L$62="３",発注者入力シート!$L$63="３"),FALSE),企業入力シート!$B$36="○"),"",IF(COUNTIF($A$44:$A$50,"*"&VLOOKUP("３",発注者入力シート!$L$41:$N$79,3,FALSE)&"*")>=1,"",INDEX(発注者入力シート!$L$40:$O$85,MATCH("３",発注者入力シート!$L$40:$L$85,0),4))) -> ○企業の同種工事の施工実績 （様式-３）
A25: =IF(AND(IFERROR(OR(発注者入力シート!$L$62="４",発注者入力シート!$L$63="４"),FALSE),企業入力シート!$B$36="○"),"",IF(COUNTIF($A$44:$A$50,"*"&VLOOKUP("４",発注者入力シート!$L$41:$N$79,3,FALSE)&"*")>=1,"",INDEX(発注者入力シート!$L$40:$O$85,MATCH("４",発注者入力シート!$L$40:$L$85,0),4))) -> ○配置予定技術者の資格 （様式-４）
A26: =IF(AND(IFERROR(OR(発注者入力シート!$L$62="５",発注者入力シート!$L$63="５"),FALSE),企業入力シート!$B$36="○"),"",IF(COUNTIF($A$44:$A$50,"*"&VLOOKUP("５",発注者入力シート!$L$41:$N$79,3,FALSE)&"*")>=1,"",INDEX(発注者入力シート!$L$40:$O$85,MATCH("５",発注者入力シート!$L$40:$L$85,0),4))) -> ○配置予定技術者の同種工事の施工経験 （様式-５）
A27: =IF(AND(IFERROR(OR(発注者入力シート!$L$62="６",発注者入力シート!$L$63="６"),FALSE),企業入力シート!$B$36="○"),"",IF(COUNTIF($A$44:$A$50,"*"&VLOOKUP("６",発注者入力シート!$L$41:$N$79,3,FALSE)&"*")>=1,"",INDEX(発注者入力シート!$L$40:$O$85,MATCH("６",発注者入力シート!$L$40:$L$85,0),4))) -> ○配置予定技術者の継続学習 （様式-６）
A28: =IF(AND(IFERROR(OR(発注者入力シート!$L$62="７",発注者入力シート!$L$63="７"),FALSE),企業入力シート!$B$36="○"),"",IF(COUNTIF($A$44:$A$50,"*"&VLOOKUP("７",発注者入力シート!$L$41:$N$79,3,FALSE)&"*")>=1,"",INDEX(発注者入力シート!$L$40:$O$85,MATCH("７",発注者入力シート!$L$40:$L$85,0),4))) -> ○家畜伝染病防疫協定の締結実績 （様式-７）
A29: =IF(AND(IFERROR(OR(発注者入力シート!$L$62="８",発注者入力シート!$L$63="８"),FALSE),企業入力シート!$B$36="○"),"",IF(COUNTIF($A$44:$A$50,"*"&VLOOKUP("８",発注者入力シート!$L$41:$N$79,3,FALSE)&"*")>=1,"",INDEX(発注者入力シート!$L$40:$O$85,MATCH("８",発注者入力シート!$L$40:$L$85,0),4))) -> ○県管理公共土木施設に関する維持管理業務または海岸漂着物の回収業務の契約実績 （様式-８）
A30: =IF(AND(IFERROR(OR(発注者入力シート!$L$62="９",発注者入力シート!$L$63="９"),FALSE),企業入力シート!$B$36="○"),"",IF(COUNTIF($A$44:$A$50,"*"&VLOOKUP("９",発注者入力シート!$L$41:$N$79,3,FALSE)&"*")>=1,"",INDEX(発注者入力シート!$L$40:$O$85,MATCH("９",発注者入力シート!$L$40:$L$85,0),4))) -> ○ボランティア活動又はハートフルしまねへの参加実績 （様式-９）
A31: =IF(AND(IFERROR(OR(発注者入力シート!$L$62="１０",発注者入力シート!$L$63="１０"),FALSE),企業入力シート!$B$36="○"),"",IF(COUNTIF($A$44:$A$50,"*"&VLOOKUP("１０",発注者入力シート!$L$41:$N$79,3,FALSE)&"*")>=1,"",INDEX(発注者入力シート!$L$40:$O$85,MATCH("１０",発注者入力シート!$L$40:$L$85,0),4))) -> ○労働福祉関連の状況(a 障がい者雇用の実態) （様式-１０）
A32: =IF(AND(IFERROR(OR(発注者入力シート!$L$62="１１",発注者入力シート!$L$63="１１"),FALSE),企業入力シート!$B$36="○"),"",IF(COUNTIF($A$44:$A$50,"*"&VLOOKUP("１１",発注者入力シート!$L$41:$N$79,3,FALSE)&"*")>=1,"",INDEX(発注者入力シート!$L$40:$O$85,MATCH("１１",発注者入力シート!$L$40:$L$85,0),4))) -> ○労働福祉関連の状況(b 育児・介護休業に関する制度) （様式-１１）
A33: =IF(AND(IFERROR(OR(発注者入力シート!$L$62="１２",発注者入力シート!$L$63="１２"),FALSE),企業入力シート!$B$36="○"),"",IF(COUNTIF($A$44:$A$50,"*"&VLOOKUP("１２",発注者入力シート!$L$41:$N$79,3,FALSE)&"*")>=1,"",INDEX(発注者入力シート!$L$40:$O$85,MATCH("１２",発注者入力シート!$L$40:$L$85,0),4))) -> ○育児・介護休業に関する制度 チェック表 （様式-１２）
A34: =IF(AND(IFERROR(OR(発注者入力シート!$L$62="１３",発注者入力シート!$L$63="１３"),FALSE),企業入力シート!$B$36="○"),"",IF(COUNTIF($A$44:$A$50,"*"&VLOOKUP("１３",発注者入力シート!$L$41:$N$79,3,FALSE)&"*")>=1,"",INDEX(発注者入力シート!$L$40:$O$85,MATCH("１３",発注者入力シート!$L$40:$L$85,0),4))) -> ○若手技術者・若手従業員の新規雇用 （様式-１３）
A35: =IF(AND(IFERROR(OR(発注者入力シート!$L$62="１４",発注者入力シート!$L$63="１４"),FALSE),企業入力シート!$B$36="○"),"",IF(COUNTIF($A$44:$A$50,"*"&VLOOKUP("１４",発注者入力シート!$L$41:$N$79,3,FALSE)&"*")>=1,"",INDEX(発注者入力シート!$L$40:$O$85,MATCH("１４",発注者入力シート!$L$40:$L$85,0),4))) -> ○建設キャリアアップシステム（CCUS）の活用 （様式-１４）
A36: =IF(AND(IFERROR(OR(発注者入力シート!$L$62="１５",発注者入力シート!$L$63="１５"),FALSE),企業入力シート!$B$36="○"),"",IF(COUNTIF($A$44:$A$50,"*"&VLOOKUP("１５",発注者入力シート!$L$41:$N$79,3,FALSE)&"*")>=1,"",INDEX(発注者入力シート!$L$40:$O$85,MATCH("１５",発注者入力シート!$L$40:$L$85,0),4))) -> #N/A
A37: =IF(AND(IFERROR(OR(発注者入力シート!$L$62="１６",発注者入力シート!$L$63="１６"),FALSE),企業入力シート!$B$36="○"),"",IF(COUNTIF($A$44:$A$50,"*"&VLOOKUP("１６",発注者入力シート!$L$41:$N$79,3,FALSE)&"*")>=1,"",INDEX(発注者入力シート!$L$40:$O$85,MATCH("１６",発注者入力シート!$L$40:$L$85,0),4))) -> #N/A
A38: =IF(AND(IFERROR(OR(発注者入力シート!$L$62="１７",発注者入力シート!$L$63="１７"),FALSE),企業入力シート!$B$36="○"),"",IF(COUNTIF($A$44:$A$50,"*"&VLOOKUP("１７",発注者入力シート!$L$41:$N$79,3,FALSE)&"*")>=1,"",INDEX(発注者入力シート!$L$40:$O$85,MATCH("１７",発注者入力シート!$L$40:$L$85,0),4))) -> #N/A
A39: =IF(AND(IFERROR(OR(発注者入力シート!$L$62="１８",発注者入力シート!$L$63="１８"),FALSE),企業入力シート!$B$36="○"),"",IF(COUNTIF($A$44:$A$50,"*"&VLOOKUP("１８",発注者入力シート!$L$41:$N$79,3,FALSE)&"*")>=1,"",INDEX(発注者入力シート!$L$40:$O$85,MATCH("１８",発注者入力シート!$L$40:$L$85,0),4))) -> #N/A
A40: =IF(AND(IFERROR(OR(発注者入力シート!$L$62="１９",発注者入力シート!$L$63="１９"),FALSE),企業入力シート!$B$36="○"),"",IF(COUNTIF($A$44:$A$50,"*"&VLOOKUP("１９",発注者入力シート!$L$41:$N$79,3,FALSE)&"*")>=1,"",INDEX(発注者入力シート!$L$40:$O$85,MATCH("１９",発注者入力シート!$L$40:$L$85,0),4))) -> #N/A
A41: =IF(AND(IFERROR(OR(発注者入力シート!$L$62="２０",発注者入力シート!$L$63="２０"),FALSE),企業入力シート!$B$36="○"),"",IF(COUNTIF($A$44:$A$50,"*"&VLOOKUP("２０",発注者入力シート!$L$41:$N$79,3,FALSE)&"*")>=1,"",INDEX(発注者入力シート!$L$40:$O$85,MATCH("２０",発注者入力シート!$L$40:$L$85,0),4))) -> #N/A
A43: =IF(企業入力シート!A26=0,"","※事前審査・証明書による提出（技術資料及び添付資料省略）")
A44: =IF(企業入力シート!$A$26>0," ・"&VLOOKUP(1,企業入力シート!$A$27:$I$36,3,FALSE),"")
A45: =IF(企業入力シート!A26>1," ・"&VLOOKUP(2,企業入力シート!$A$27:$I$36,3,FALSE),"")
A46: =IF(企業入力シート!A26>2," ・"&VLOOKUP(3,企業入力シート!$A$27:$I$36,3,FALSE),"")
A47: =IF(企業入力シート!A26>3," ・"&VLOOKUP(4,企業入力シート!$A$27:$I$36,3,FALSE),"")
A48: =IF(企業入力シート!A26>4," ・"&VLOOKUP(5,企業入力シート!$A$27:$I$36,3,FALSE),"")
A49: =IF(企業入力シート!A26>5," ・"&VLOOKUP(6,企業入力シート!$A$27:$I$36,3,FALSE),"")
A50: =IF(企業入力シート!A26>6," ・"&VLOOKUP(7,企業入力シート!$A$27:$I$36,3,FALSE),"")
A52: ３ 問い合わせ先
B53: 担当者 | D53: =IF(企業入力シート!C9="","",企業入力シート!C9)
B54: 部署 | D54: =IF(企業入力シート!C10="","",企業入力シート!C10)
B55: 電話番号 | D55: =IF(企業入力シート!C11="","",企業入力シート!C11)
B56: FAX番号 | D56: =IF(企業入力シート!C12="","",企業入力シート!C12)
B57: Ｅ－ｍａｉｌ | D57: =IF(企業入力シート!C13="","",企業入力シート!C13)

Sheet 企業成績評定点 (5年用)
A1: =CONCATENATE("（様式-",INDEX(発注者入力シート!$B$20:$G$24,MATCH(発注者入力シート!L6,発注者入力シート!$C$20:$C$24,0),4),"-１）") -> （様式-２-１） | P1: 【5年用】 | R1: 着色セルの凡例
A2: =CONCATENATE("評価項目",INDEX(発注者入力シート!$B$20:$G$24,MATCH(発注者入力シート!L6,発注者入力シート!$C$20:$C$24,0),5),"-",INDEX(発注者入力シート!$B$20:$G$24,MATCH(発注者入力シート!L6,発注者入力シート!$C$20:$C$24,0),6)) -> 評価項目（１）-① | R2: （企業）
A3: 企業の工事成績評定点 | S3: ：「企業入力シート」で入力（数式リンク有）
C4: 会社（企業体）名： | F4: =IF(企業入力シート!C7="","",企業入力シート!C7) -> ○○建設 | S4: ：リストから選択が必要な箇所
A6: 対象工事 | R6: （発注者）
A7: 完成年度 | D7: ="令和"&発注者入力シート!F11-5&"年度から令和"&発注者入力シート!F11-1&"年度（完成及び引き渡しが完了）" -> 令和3年度から令和7年度（完成及び引き渡しが完了） | S7: ：「発注者入力シート」で入力（数式リンク有）
A8: 発注機関 | D8: 島根県（総務部、農林水産部、土木部） | S8: ：セルに直接入力が必要な箇所
A9: 工事種別 | D9: =INDEX(発注者入力シート!$AX$3:$BC$31,MATCH(発注者入力シート!$AY$2,発注者入力シート!$AZ$3:$AZ$31,0),4) -> 造園工事
A10: 建設工事の種類 | D10: =INDEX(発注者入力シート!$AX$3:$BC$31,MATCH(発注者入力シート!$AY$2,発注者入力シート!$AZ$3:$AZ$31,0),5) -> 造園工事
A13: 各工事成績評定点 | D13: 平成３０年度 | G13: =IF('評定点一覧(5年用) '!P8="","",'評定点一覧(5年用) '!P8) | H13: =IF('評定点一覧(5年用) '!$P9="","",'評定点一覧(5年用) '!$P9) | I13: =IF('評定点一覧(5年用) '!$P10="","",'評定点一覧(5年用) '!$P10) | J13: =IF('評定点一覧(5年用) '!$P11="","",'評定点一覧(5年用) '!$P11) | K13: =IF('評定点一覧(5年用) '!$P12="","",'評定点一覧(5年用) '!$P12) | L13: =IF('評定点一覧(5年用) '!$P13="","",'評定点一覧(5年用) '!$P13) | M13: =IF('評定点一覧(5年用) '!$P14="","",'評定点一覧(5年用) '!$P14) | N13: =IF('評定点一覧(5年用) '!$P15="","",'評定点一覧(5年用) '!$P15) | O13: =IF('評定点一覧(5年用) '!$P16="","",'評定点一覧(5年用) '!$P16) | P13: =IF('評定点一覧(5年用) '!$P17="","",'評定点一覧(5年用) '!$P17)
D14: 令和元年度 | G14: =IF('評定点一覧(5年用) '!$P21="","",'評定点一覧(5年用) '!$P21) | H14: =IF('評定点一覧(5年用) '!$P22="","",'評定点一覧(5年用) '!$P22) | I14: =IF('評定点一覧(5年用) '!$P23="","",'評定点一覧(5年用) '!$P23) | J14: =IF('評定点一覧(5年用) '!$P24="","",'評定点一覧(5年用) '!$P24) | K14: =IF('評定点一覧(5年用) '!$P25="","",'評定点一覧(5年用) '!$P25) | L14: =IF('評定点一覧(5年用) '!$P26="","",'評定点一覧(5年用) '!$P26) | M14: =IF('評定点一覧(5年用) '!$P27="","",'評定点一覧(5年用) '!$P27) | N14: =IF('評定点一覧(5年用) '!$P28="","",'評定点一覧(5年用) '!$P28) | O14: =IF('評定点一覧(5年用) '!$P29="","",'評定点一覧(5年用) '!$P29) | P14: =IF('評定点一覧(5年用) '!$P30="","",'評定点一覧(5年用) '!$P30)
D15: 令和２年度 | G15: =IF('評定点一覧(5年用) '!$P34="","",'評定点一覧(5年用) '!$P34) | H15: =IF('評定点一覧(5年用) '!$P35="","",'評定点一覧(5年用) '!$P35) | I15: =IF('評定点一覧(5年用) '!$P36="","",'評定点一覧(5年用) '!$P36) | J15: =IF('評定点一覧(5年用) '!$P37="","",'評定点一覧(5年用) '!$P37) | K15: =IF('評定点一覧(5年用) '!$P38="","",'評定点一覧(5年用) '!$P38) | L15: =IF('評定点一覧(5年用) '!$P39="","",'評定点一覧(5年用) '!$P39) | M15: =IF('評定点一覧(5年用) '!$P40="","",'評定点一覧(5年用) '!$P40) | N15: =IF('評定点一覧(5年用) '!$P41="","",'評定点一覧(5年用) '!$P41) | O15: =IF('評定点一覧(5年用) '!$P42="","",'評定点一覧(5年用) '!$P42) | P15: =IF('評定点一覧(5年用) '!$P43="","",'評定点一覧(5年用) '!$P43)
D16: 令和３年度 | G16: =IF('評定点一覧(5年用) '!$P47="","",'評定点一覧(5年用) '!$P47) | H16: =IF('評定点一覧(5年用) '!$P48="","",'評定点一覧(5年用) '!$P48) | I16: =IF('評定点一覧(5年用) '!$P49="","",'評定点一覧(5年用) '!$P49) | J16: =IF('評定点一覧(5年用) '!$P50="","",'評定点一覧(5年用) '!$P50) | K16: =IF('評定点一覧(5年用) '!$P51="","",'評定点一覧(5年用) '!$P51) | L16: =IF('評定点一覧(5年用) '!$P52="","",'評定点一覧(5年用) '!$P52) | M16: =IF('評定点一覧(5年用) '!$P53="","",'評定点一覧(5年用) '!$P53) | N16: =IF('評定点一覧(5年用) '!$P54="","",'評定点一覧(5年用) '!$P54) | O16: =IF('評定点一覧(5年用) '!$P55="","",'評定点一覧(5年用) '!$P55) | P16: =IF('評定点一覧(5年用) '!$P56="","",'評定点一覧(5年用) '!$P56)
D17: 令和４年度 | G17: =IF('評定点一覧(5年用) '!$P60="","",'評定点一覧(5年用) '!$P60) | H17: =IF('評定点一覧(5年用) '!$P61="","",'評定点一覧(5年用) '!$P61) | I17: =IF('評定点一覧(5年用) '!$P62="","",'評定点一覧(5年用) '!$P62) | J17: =IF('評定点一覧(5年用) '!$P63="","",'評定点一覧(5年用) '!$P63) | K17: =IF('評定点一覧(5年用) '!$P64="","",'評定点一覧(5年用) '!$P64) | L17: =IF('評定点一覧(5年用) '!$P65="","",'評定点一覧(5年用) '!$P65) | M17: =IF('評定点一覧(5年用) '!$P66="","",'評定点一覧(5年用) '!$P66) | N17: =IF('評定点一覧(5年用) '!$P67="","",'評定点一覧(5年用) '!$P67) | O17: =IF('評定点一覧(5年用) '!$P68="","",'評定点一覧(5年用) '!$P68) | P17: =IF('評定点一覧(5年用) '!$P69="","",'評定点一覧(5年用) '!$P69)
A18: 工事成績評定点の平均 | G18: =IF((COUNTA(G13:P17)-COUNTBLANK(G13:P17))=0,"",COUNTA(G13:P17)-COUNTBLANK(G13:P17)) | I18: 件 | J18: =IF(OR(G18="",G18=0),"",ROUND(AVERAGE(G13:P17),1)) | M18: 点 | R18: 【印刷について】
A19: （小数第２位を四捨五入） | R19: このシートは「ページ設定」で「白黒印刷」と「印刷範囲」が設定されています。
A20: (1) | B20: 対象工事の工事成績評定点一覧表（別紙）を添付すること。 | R20: 様式内の吹出しコメントは印刷されません。
A21: (2) | B21: 工事種別については、各工事の契約時における「島根県土木工事仕様書」等において確認すること。
A23: (3) | B23: 単年度の対象工事件数が１０件を超える場合、「工事成績評定点の平均」欄の「件数」及び「平均点」は、自動計算されないため、直接記入すること。
A25: (4) | B25: 上記事項の外、入札説明書本文にある要件を必ず確認すること。
A27: ※必要に応じて設定する事項
B28: 島根県（総務部、農林水産部、土木部）発注工事以外の工事を評価対象にする場合は、各工事の工事成績評定書の写し及び工事種別・種類を証明する資料を添付すること。また、島根県発注工事以外の工事で成績評定対象外工事がある場合、成績評定対象外であることを確認するための発注者の証明書の写しを添付すること。
A33: 技術資料提出工事名： | E33: =IF(発注者入力シート!C10="","",発注者入力シート!C10) -> 大社漁港海岸 農山漁村地域整備交付金（海岸環境）工事（２工区）その５
A35: 提出事務所名： | E35: =IF(発注者入力シート!C6="","",発注者入力シート!C6) -> 東部農林水産振興センター
A37: 有効範囲： | E37: =+発注者入力シート!$C$11 -> 令和9年7月31日までに入札公告された工事
A39: =CONCATENATE(" 今後、",発注者入力シート!C6,"が発注する工事においては、本書の写し（※）をもって「企業の工事成績評定点」の貴社技術資料とみなし、その他添付資料の提出は不要とする。 ※本書の写しとは、収受印欄に収受の押印がある資料をいう。") -> 今後、東部農林水産振興センターが発注する工事においては、本書の写し（※）をもって「企業の工事成績評定点」の貴社技術資料とみなし、その他添付資料の提出は不要とする。 ※本書の写しとは、収受印欄に収受の押印がある資料をいう。
M42: （収受印）
B44: 技術資料の提出方法
B45: =IF(COUNTIF(企業入力シート!B27:B30,"○")>0,発注者入力シート!AL10,IF(INDEX(発注者入力シート!$B$20:$J$24,MATCH(発注者入力シート!L6,発注者入力シート!$C$20:$C$24,0),7)="未記入",発注者入力シート!$AL$8,IF(INDEX(発注者入力シート!$B$20:$J$24,MATCH(発注者入力シート!L6,発注者入力シート!$C$20:$C$24,0),7)="無",発注者入力シート!$AL$9,IF(INDEX(発注者入力シート!$B$20:$J$24,MATCH(発注者入力シート!L6,発注者入力シート!$C$20:$C$24,0),7)="有",発注者入力シート!$AL$10)))) -> 「企業入力シート」の「押印済資料での提出」欄が未記入ですので、リストから「有」、「無」どちらかを選択してください。
A53: 【注】
B54: ・押印済資料で提出する場合、押印済資料で評価する。
B55: ・対象工事が異なる押印済資料を提出した場合、当該評価項目の加算点はゼロとする。
B56: =CONCATENATE("・収受印欄に収受印と併せて全県適用 の押印があれば、上記に",発注者入力シート!$C$6,"が発注する工事と記載があっても、本書の写しをもって島根県総務部、防災部、農林水産部及び土木部の事業課、関係地方機関が発注する工事において、その他添付資料の提出は不要とする。") -> ・収受印欄に収受印と併せて全県適用 の押印があれば、上記に東部農林水産振興センターが発注する工事と記載があっても、本書の写しをもって島根県総務部、防災部、農林水産部及び土木部の事業課、関係地方機関が発注する工事において、その他添付資料の提出は不要とする。

Sheet 評定点一覧(5年用) 
A1: =CONCATENATE("（様式-",INDEX(発注者入力シート!$B$20:$G$24,MATCH(発注者入力シート!L6,発注者入力シート!$C$20:$C$24,0),4),"-２）") -> （様式-２-２） | H1: 工事成績評定点一覧表(別紙) | Q1: 【5年用】
A2: =CONCATENATE("評価項目",INDEX(発注者入力シート!$B$20:$G$24,MATCH(発注者入力シート!L6,発注者入力シート!$C$20:$C$24,0),5),"-",INDEX(発注者入力シート!$B$20:$G$24,MATCH(発注者入力シート!L6,発注者入力シート!$C$20:$C$24,0),6)) -> 評価項目（１）-① | H2: 会社（企業体）名： | K2: =IF(企業入力シート!C7="","",企業入力シート!C7) -> ○○建設
A4: 工事種別 | D4: =IF('企業成績評定点 (5年用)'!D9="","",'企業成績評定点 (5年用)'!D9) -> 造園工事 | I4: 建設工事の種類 | L4: =IF('企業成績評定点 (5年用)'!D10="","",'企業成績評定点 (5年用)'!D10) -> 造園工事
A6: =発注者入力シート!$F$11-5 -> 3 | S6: 着色セルの凡例
A7: 番号 | B7: 発注機関名 | E7: 工事名 | P7: 評定点 | S7: （企業）
A8: 1 | Q8: 点 | T8: ：「企業入力シート」、一覧表（別紙）で入力（数式リンク有）
A9: 2 | Q9: 点 | T9: ：セルに直接入力が必要な箇所
A10: 3 | Q10: 点
A11: 4 | Q11: 点 | S11: （発注者）
A12: 5 | Q12: 点 | T12: ：「発注者入力シート」で入力（数式リンク有）
A13: 6 | Q13: 点 | T13: ：セルに直接入力が必要な箇所
A14: 7 | Q14: 点
A15: 8 | Q15: 点 | S15: 【印刷について】
A16: 9 | Q16: 点 | S16: このシートは「ページ設定」で「白黒印刷」と「印刷範囲」が設定されています。
A17: 10 | Q17: 点 | S17: 様式内の吹出しコメントは印刷されません。
A19: =発注者入力シート!$F$11-4 -> 4
A20: 番号 | B20: 発注機関名 | E20: 工事名 | P20: 評定点
A21: 1 | Q21: 点
A22: 2 | Q22: 点
A23: 3 | Q23: 点
A24: 4 | Q24: 点
A25: 5 | Q25: 点
A26: 6 | Q26: 点
A27: 7 | Q27: 点
A28: 8 | Q28: 点
A29: 9 | Q29: 点
A30: 10 | Q30: 点
A32: =発注者入力シート!$F$11-3 -> 5
A33: 番号 | B33: 発注機関名 | E33: 工事名 | P33: 評定点
A34: 1 | Q34: 点
A35: 2 | Q35: 点
A36: 3 | Q36: 点
A37: 4 | Q37: 点
A38: 5 | Q38: 点
A39: 6 | Q39: 点
A40: 7 | Q40: 点
A41: 8 | Q41: 点
A42: 9 | Q42: 点
A43: 10 | Q43: 点
A45: =発注者入力シート!$F$11-2 -> 6
A46: 番号 | B46: 発注機関名 | E46: 工事名 | P46: 評定点
A47: 1 | Q47: 点
A48: 2 | Q48: 点
A49: 3 | Q49: 点
A50: 4 | Q50: 点
A51: 5 | Q51: 点
A52: 6 | Q52: 点
A53: 7 | Q53: 点
A54: 8 | Q54: 点
A55: 9 | Q55: 点
A56: 10 | Q56: 点
A58: =発注者入力シート!$F$11-1 -> 7
A59: 番号 | B59: 発注機関名 | E59: 工事名 | P59: 評定点
A60: 1 | Q60: 点
A61: 2 | Q61: 点
A62: 3 | Q62: 点
A63: 4 | Q63: 点
A64: 5 | Q64: 点
A65: 6 | Q65: 点
A66: 7 | Q66: 点
A67: 8 | Q67: 点
A68: 9 | Q68: 点
A69: 10 | Q69: 点
A70: (1) | B70: 記入欄が足りない場合は欄を追加して記入すること。

Sheet 同種工事施工実績
A1: =CONCATENATE("（様式-",INDEX(発注者入力シート!$B$20:$G$24,MATCH(発注者入力シート!L7,発注者入力シート!$C$20:$C$24,0),4),"）") -> （様式-３） | Q1: =IF(INDEX(発注者入力シート!$B$20:$G$40,MATCH(発注者入力シート!L7,発注者入力シート!$C$20:$C$40,0),3)="","",INDEX(発注者入力シート!$B$20:$G$40,MATCH(発注者入力シート!L7,発注者入力シート!$C$20:$C$40,0),3)) | V1: 着色セルの凡例
A2: =CONCATENATE("評価項目",INDEX(発注者入力シート!$B$20:$G$24,MATCH(発注者入力シート!L7,発注者入力シート!$C$20:$C$24,0),5),"-",INDEX(発注者入力シート!$B$20:$G$24,MATCH(発注者入力シート!L7,発注者入力シート!$C$20:$C$24,0),6)) -> 評価項目（１）-② | V2: （企業）
A3: 企業の同種工事の施工実績 | W3: ：「企業入力シート」、一覧表（別紙）で入力（数式リンク有）
H4: 会社（企業体）名： | L4: =IF(企業入力シート!C7="","",企業入力シート!C7) -> ○○建設 | W4: ：セルに直接入力もしくはリストから選択が必要な箇所
A6: 対象工事 | B6: 対象期間・対象機関 | F6: 平成２８年度から入札公告日前日までに完成及び引き渡しが完了した島根県発注工事 | V6: （発注者）
W7: ：「発注者入力シート」で入力（数式リンク有）
B8: 工事種別 | F8: =INDEX(発注者入力シート!$AX$3:$BC$31,MATCH(発注者入力シート!$AY$2,発注者入力シート!$AZ$3:$AZ$31,0),4) -> 造園工事 | W8: ：セルに直接入力が必要な箇所
B9: 建設工事の種類 | F9: =INDEX(発注者入力シート!$AX$3:$BC$31,MATCH(発注者入力シート!$AY$2,発注者入力シート!$AZ$3:$AZ$31,0),5) -> 造園工事
B10: 同種工事の定義 | F10: １契約で２，０００万円（税込）以上で植栽工（維持管理工事を除く）を含む完成及び引き渡しが完了した工事
V11: 【印刷について】
V12: このシートは「ページ設定」で「白黒印刷」と「印刷範囲」が設定されています。
A13: 工事内容 | F13: 施工実績① | M13: 施工実績② | V13: 様式内の吹出しコメントは印刷されません。
A14: 工事名称等 | B14: 工 事 名
B18: コリンズ登録番号
B19: 発注機関名 | U19: ← | V19: ○○県土整備事務所など発注機関名を記入（略名可）
B20: 工事種別
B21: 建設工事の種類
B22: 施工場所
V23: （チェック用）
B24: 請負金額（最終・税込） | L24: 円 | S24: 円 | V24: 西暦
B25: 契約上の工期 | E25: （始） | H25: 年 | J25: 月 | L25: 日 | O25: 年 | Q25: 月 | S25: 日 | V25: 46235 | W25: ←西暦を入力すると下の欄に和暦が表示 | AA25: 平成
E26: （終） | H26: 年 | J26: 月 | L26: 日 | O26: 年 | Q26: 月 | S26: 日 | V26: 和暦 | AA26: 令和
B27: 受注形態 | V27: =V25 -> 46235
B28: 特別（特定）ＪＶの場合、出資比率
A29: 工事成績評定点 | L29: 点 | S29: 点
A30: 工事概要
A42: (1) | B42: 施工実績（上表記載内容）全てが確認できるよう下表を参考に資料①～⑨を組み合せて提出すること。
B43: ① | C43: コリンズの「登録内容確認書」の写し。（竣工登録に限る。）
B44: ② | C44: 最終の見積参考資料（設計の変更回数が確認できる総括情報表と工事内訳表）。ただし、必ず当初、変更を含む契約書全ての写し（資料③）＋項目別評定点表（資料④）もしくは竣工検査済証の写し（資料⑤）を追加添付すること。
B47: ③ | C47: 当初、変更を含む契約書全ての写し。
B48: ④ | C48: 項目別評定点表。（島根県発注工事に限る。）
B49: ⑤ | C49: 竣工検査済証の写し。
B50: ⑥ | C50: 工事成績評定通知書の写し。ただし、工事成績評定対象外工事の場合は、「成績評定対象外」である旨を「工事成績評定点」欄に記載すること。（島根県以外の発注工事は、成績評定対象外であることを確認するための発注者の証明書の写し（資料⑧）も追加添付すること。）
B53: ⑦ | C53: 資料①または資料②のみでは同種工事の施工実績（工事概要）が確認できない場合は、確認できる資料（工事名と設計の変更回数が確認できる最終図面等）。ただし、必ず当初、変更を含む契約書全ての写し（資料③）＋項目別評定点表（資料④）もしくは竣工検査済証の写し（資料⑤）を追加添付すること。
B57: ⑧ | C57: 発注者の証明書の写し。（上記資料①～⑦で確認できない記載内容（コリンズ登録番号を除く。）を全て証明してあるもの。）
B59: ⑨ | C59: 施工実績として提出する工事の「工事種別」及び「建設工事の種類」が確認できる資料
A60: 資料①～⑨で確認できる内容
A61: 項目名 | H61: 資料番号 | Q61: 備考
H62: ① | I62: ② | J62: ③ | K62: ④ | L62: ⑤ | M62: ⑥ | N62: ⑦ | O62: ⑧ | P62: ⑨
A63: 工事名称等 | B63: 工事名 | H63: ○ | I63: ○ | J63: ○ | K63: ○ | L63: ○ | M63: ○ | N63: ○ | O63: ○ | P63: ○
B64: コリンズ登録番号 | H64: ○ | Q64: ①のみ対象
B65: 発注機関名 | H65: ○ | I65: ○ | J65: ○ | K65: ○ | L65: ○ | M65: ○ | O65: ○ | P65: ○
B66: 工事種別、建設工事の種類 | H66: ○ | O66: ○ | P66: ○
B67: 施工場所 | H67: ○ | J67: ○ | L67: ○ | O67: ○ | P67: ○
B68: 請負金額（最終・税込） | H68: ○ | J68: ○ | K68: ○ | L68: ○ | O68: ○
B69: 契約上の工期 | H69: ○ | J69: ○ | K69: ○ | L69: ○ | M69: ○ | O69: ○
B70: 受注形態 | H70: ○ | J70: ○ | K70: ○ | L70: ○ | M70: ○ | O70: ○
B71: 特別（特定）JVの場合、出資比率 | H71: ○ | O71: ○ | Q71: JV工事のみ対象
A72: 工事成績評定点 | K72: ○ | M72: ○ | O72: ○ | Q72: 成績評定対象外工事の場合、⑧が必須（島根県発注工事以外）
A76: 工事概要 | H76: ○ or △ | I76: ○ or △ | N76: ○ or △ | O76: ○ | Q76: ②、③、④、⑤を必要に応じて追加添付
B80: ※１：上表の「○」は資料で確認ができるもの、「△」は全ては確認できないもの。
B81: ※２：上表の資料②、③、④、⑤、⑥の「○」と「△」は、島根県発注工事の場合。
B83: （参考）代表的な提出資料の組合せ
B84: パターン名 | D84: 条件１ | I84: 条件２ | P84: 提出資料の組合せ
B85: パターン１ | D85: ・コリンズと別資料を提出する場合 | I85: コリンズのみで工事概要が確認可能。 | P85: ①+④
P86: ①+⑥
B87: パターン２ | I87: コリンズのみで工事概要が確認できない。最終の見積参考資料を追加添付。 | P87: ①+②+③+④
P88: ①+②+③+⑤+⑥
B90: パターン３ | I90: コリンズのみで工事概要が確認できない。最終図面等を追加添付。 | P90: ①+③+④+⑦
P91: ①+③+⑤+⑥+⑦
B93: パターン４ | I93: コリンズのみで工事概要が確認できない。発注者の証明書を追加添付。 | P93: ①+⑧
B96: パターン５ | D96: ・別資料のみを提出する場合 | I96: 最終の見積参考資料で工事概要が確認可能。 | P96: ②+③+④+⑨
P97: ②+③+⑤+⑥+⑨
B98: パターン６ | I98: 最終の見積参考資料で工事概要が確認できない。最終図面等を追加添付。 | P98: ②+③+④+⑦+⑨
P99: ②+③+⑤+⑥+⑦+⑨
B101: パターン７ | I101: 発注者の証明書等、必要な資料を添付。 | P101: ⑧
P102: ⑧+⑨
A103: (2) | B103: 施工実績が２回以上ある場合は、代表的なもの２回分の提出でよい。
A104: (3) | B104: 特別（特定）ＪＶで施工した工事については、出資比率２０％以上の場合にのみ施工実績として認める。
A105: (4) | B105: 上記事項の外、入札説明書本文にある要件を必ず確認すること。

Sheet 技術者継続学習
A1: =CONCATENATE("（様式-",INDEX(発注者入力シート!$B$25:$G$28,MATCH(発注者入力シート!M9,発注者入力シート!$C$25:$C$28,0),4),"）") -> （様式-６） | Q1: 配置予定技術者①、②、③共通 | S1: 着色セルの凡例
A2: =CONCATENATE("評価項目",INDEX(発注者入力シート!$B$25:$G$28,MATCH(発注者入力シート!M9,発注者入力シート!$C$25:$C$28,0),5),"-",INDEX(発注者入力シート!$B$25:$G$28,MATCH(発注者入力シート!M9,発注者入力シート!$C$25:$C$28,0),6)) -> 評価項目（２）-③ | S2: （企業）
A3: 配置予定技術者の継続学習 | T3: ：「企業入力シート」、一覧表（別紙）で入力（数式リンク有）
T4: ：セルに直接入力が必要な箇所
H5: 会社（企業体）名： | K5: =IF(企業入力シート!C7="","",企業入力シート!C7) -> ○○建設
S6: （発注者）
T7: ：「発注者入力シート」で入力（数式リンク有）
A8: 対象： | B8: 配置予定の主任（監理）技術者が保有するCPDSユニット | T8: ：セルに直接入力が必要な箇所
A9: 配置予定技術者氏名 | F9: 保有するCPDSユニット | L9: ※評価結果
L10: （発注者記載欄） | S10: 【印刷について】
A11: ① | B11: =IF(企業入力シート!C18="","",企業入力シート!C18) | J11: ユニット | S11: このシートは「ページ設定」で「白黒印刷」と「印刷範囲」が設定されています。
A13: ② | B13: =IF(企業入力シート!C19="","",企業入力シート!C19) | J13: ユニット
A15: ③ | B15: =IF(企業入力シート!C20="","",企業入力シート!C20) | J15: ユニット
A17: (1) | B17: 保有CPDSユニットが確認できる資料として、一般社団法人 全国土木施工管理技士会連合会が発行した「継続学習制度（CPDS）学習履歴証明書」の写しを添付すること。
S18: 開始年度
A19: (2) | B19: =CONCATENATE("「継続学習制度（CPDS）学習履歴証明書」は、令和",S19,"年度から入札公告日前日時点（令和",(YEAR(発注者入力シート!H7)-2018),"年",MONTH(発注者入力シート!H7),"月",DAY(発注者入力シート!H7),"日時点）までに取得している保有CPDSユニットが確認できるものを添付すること。") -> 「継続学習制度（CPDS）学習履歴証明書」は、令和2年度から入札公告日前日時点（令和8年9月15日時点）までに取得している保有CPDSユニットが確認できるものを添付すること。 | S19: =発注者入力シート!F11-6 -> 2
A21: (3) | B21: 技術資料提出時に配置予定技術者が特定できない場合は、複数の候補者を記入できる。その場合、審査は候補者のうち配置予定技術者の評価点合計が最も低い者で評価する。
A23: (4) | B23: 上記事項の外、入札説明書本文にある要件を必ず確認すること。
A28: 技術資料提出工事名： | E28: =IF(発注者入力シート!C10="","",発注者入力シート!C10) -> 大社漁港海岸 農山漁村地域整備交付金（海岸環境）工事（２工区）その５
A30: 提出事務所名： | E30: =IF(発注者入力シート!C6="","",発注者入力シート!C6) -> 東部農林水産振興センター
A32: 有効範囲： | E32: =+発注者入力シート!$C$11 -> 令和9年7月31日までに入札公告された工事
A34: 対象技術者： | E34: 上記①～③の配置予定技術者のうち、評価結果が「◯」の者
A37: =CONCATENATE(" 今後、",+発注者入力シート!C6,"が発注する工事においては、本書の写し（※）をもって「配置予定技術者の継続学習」の貴社技術資料とみなし、その他添付資料の提出は不要とする。 ※本書の写しとは、収受印欄に収受の押印がある資料をいう。") -> 今後、東部農林水産振興センターが発注する工事においては、本書の写し（※）をもって「配置予定技術者の継続学習」の貴社技術資料とみなし、その他添付資料の提出は不要とする。 ※本書の写しとは、収受印欄に収受の押印がある資料をいう。
A39: ただし、上記配置予定技術者のうち、必要ユニット数未満の者が新たに評価基準以上のユニット数を取得した場合は、技術資料及び必要な添付資料を再提出すること。
A42: ="①"&"配置予定技術者："&B11&" 技術資料の提出方法" -> ①配置予定技術者： 技術資料の提出方法 | N42: （収受印）
A43: =IF(B11="",発注者入力シート!$AL$11,IF(INDEX(発注者入力シート!$B$25:$J$28,MATCH(発注者入力シート!M9,発注者入力シート!$C$25:$C$28,0),7)="未記入",発注者入力シート!$AL$8,IF(INDEX(発注者入力シート!$B$25:$J$28,MATCH(発注者入力シート!M9,発注者入力シート!$C$25:$C$28,0),7)="無",発注者入力シート!$AL$9,IF(INDEX(発注者入力シート!$B$25:$J$28,MATCH(発注者入力シート!M9,発注者入力シート!$C$25:$C$28,0),7)="有",発注者入力シート!$AL$10)))) -> 申請する場合は、「企業入力シート」の「押印済資料での提出」欄で「有」を選択してください。
A45: ="②"&"配置予定技術者："&B13&" 技術資料の提出方法" -> ②配置予定技術者： 技術資料の提出方法
A46: =IF(B13="",発注者入力シート!$AL$11,IF(INDEX(発注者入力シート!$B$25:$J$28,MATCH(発注者入力シート!M9,発注者入力シート!$C$25:$C$28,0),8)="未記入",発注者入力シート!$AL$8,IF(INDEX(発注者入力シート!$B$25:$J$28,MATCH(発注者入力シート!M9,発注者入力シート!$C$25:$C$28,0),8)="無",発注者入力シート!$AL$9,IF(INDEX(発注者入力シート!$B$25:$J$28,MATCH(発注者入力シート!M9,発注者入力シート!$C$25:$C$28,0),8)="有",発注者入力シート!$AL$10)))) -> 申請する場合は、「企業入力シート」の「押印済資料での提出」欄で「有」を選択してください。
A48: ="③"&"配置予定技術者："&B15&" 技術資料の提出方法" -> ③配置予定技術者： 技術資料の提出方法
A49: =IF(B15="",発注者入力シート!$AL$11,IF(INDEX(発注者入力シート!$B$25:$J$28,MATCH(発注者入力シート!M9,発注者入力シート!$C$25:$C$28,0),9)="未記入",発注者入力シート!$AL$8,IF(INDEX(発注者入力シート!$B$25:$J$28,MATCH(発注者入力シート!M9,発注者入力シート!$C$25:$C$28,0),9)="無",発注者入力シート!$AL$9,IF(INDEX(発注者入力シート!$B$25:$J$28,MATCH(発注者入力シート!M9,発注者入力シート!$C$25:$C$28,0),9)="有",発注者入力シート!$AL$10)))) -> 申請する場合は、「企業入力シート」の「押印済資料での提出」欄で「有」を選択してください。
A52: 【注】
B53: ・押印済資料で提出する場合、押印済資料で評価する。
B54: ・対象ユニット数が異なる押印済資料を提出した場合、当該評価項目の加算点はゼロとする。
B55: =CONCATENATE("・収受印欄に収受印と併せて全県適用 の押印があれば、上記に",発注者入力シート!$C$6,"が発注する工事と記載があっても、本書の写しをもって島根県総務部、防災部、農林水産部及び土木部の事業課、関係地方機関が発注する工事において、その他添付資料の提出は不要とする。") -> ・収受印欄に収受印と併せて全県適用 の押印があれば、上記に東部農林水産振興センターが発注する工事と記載があっても、本書の写しをもって島根県総務部、防災部、農林水産部及び土木部の事業課、関係地方機関が発注する工事において、その他添付資料の提出は不要とする。

Sheet 技術者資格
A1: =CONCATENATE("（様式-",INDEX(発注者入力シート!$B$25:$G$28,MATCH(発注者入力シート!M6,発注者入力シート!$C$25:$C$28,0),4),"）") -> （様式-４） | Q1: 配置予定技術者①、②、③共通 | S1: 着色セルの凡例
A2: =CONCATENATE("評価項目",INDEX(発注者入力シート!$B$25:$G$28,MATCH(発注者入力シート!M6,発注者入力シート!$C$25:$C$28,0),5),"-",INDEX(発注者入力シート!$B$25:$G$28,MATCH(発注者入力シート!M6,発注者入力シート!$C$25:$C$28,0),6)) -> 評価項目（２）-① | S2: （企業）
T3: ：「企業入力シート」、一覧表（別紙）で入力（数式リンク有）
A4: 配置予定技術者の資格 | T4: ：セルに直接入力もしくはリストから選択が必要な箇所
H6: 会社（企業体）名： | K6: =IF(企業入力シート!C7="","",企業入力シート!C7) -> ○○建設 | S6: （発注者）
T7: ：「発注者入力シート」で入力（数式リンク有）
A8: 対象：配置予定の主任（監理）技術者が保有する次の資格 | T8: ：セルに直接入力が必要な箇所
B9: １級又は２級造園施工管理技士
A10: 配置予定技術者氏名 | F10: 保有する資格名称 | J10: 最新の有効期限 (有効期限のない 資格は記入不要) | S10: 【印刷について】
S11: このシートは「ページ設定」で「白黒印刷」と「印刷範囲」が設定されています。
A12: ① | B12: =IF(企業入力シート!C18="","",企業入力シート!C18) | S12: 様式内の吹出しコメントは印刷されません。
A14: ② | B14: =IF(企業入力シート!C19="","",企業入力シート!C19)
A16: ③ | B16: =IF(企業入力シート!C20="","",企業入力シート!C20)
A18: (1) | B18: 資格・有効期限の確認できる証明書、資格証等の写しを添付すること。
A19: (2) | B19: =CONCATENATE("資格は入札公告日前日時点（令和",(YEAR(発注者入力シート!H7)-2018),"年",MONTH(発注者入力シート!H7),"月",DAY(発注者入力シート!H7),"日時点）で保有する資格とする。") -> 資格は入札公告日前日時点（令和8年9月15日時点）で保有する資格とする。
A20: (3) | B20: 技術資料提出時に配置予定技術者が特定できない場合は、複数の候補者を記入できる。その場合、審査は候補者のうち配置予定技術者の評価点合計が最も低い者で評価する。
A22: (4) | B22: 上記事項の外、入札説明書本文にある要件を必ず確認すること。
A26: 技術資料提出工事名： | E26: =IF(発注者入力シート!C10="","",発注者入力シート!C10) -> 大社漁港海岸 農山漁村地域整備交付金（海岸環境）工事（２工区）その５
A28: 提出事務所名： | E28: =IF(発注者入力シート!C6="","",発注者入力シート!C6) -> 東部農林水産振興センター
A30: 有効範囲： | E30: =+発注者入力シート!$C$11 -> 令和9年7月31日までに入札公告された工事
E31: （ただし、資格の有効期限が令和9年7月31日以前までのものは、その期日までとする）
A33: 対象技術者： | E33: 上記①～③の配置予定技術者のうち、上記資格保有者
A35: =CONCATENATE(" 今後、",発注者入力シート!C6,"が発注する工事においては、本書の写し（※）をもって「配置予定技術者の資格」の 貴社技術資料とみなし、その他添付資料の提出は不要とする。 ※本書の写しとは、収受印欄に収受の押印がある資料をいう。") -> 今後、東部農林水産振興センターが発注する工事においては、本書の写し（※）をもって「配置予定技術者の資格」の 貴社技術資料とみなし、その他添付資料の提出は不要とする。 ※本書の写しとは、収受印欄に収受の押印がある資料をいう。
A37: ただし、資格を新たに取得し、加算点に変更が生じた場合は、技術資料及び必要な添付資料を再提出すること。
A40: ="①"&"配置予定技術者："&B12&" 技術資料の提出方法" -> ①配置予定技術者： 技術資料の提出方法 | N40: （収受印）
A41: =IF(B12="",発注者入力シート!$AL$11,IF(INDEX(発注者入力シート!$B$25:$J$28,MATCH(発注者入力シート!M6,発注者入力シート!$C$25:$C$28,0),7)="未記入",発注者入力シート!$AL$8,IF(INDEX(発注者入力シート!$B$25:$J$28,MATCH(発注者入力シート!M6,発注者入力シート!$C$25:$C$28,0),7)="無",発注者入力シート!$AL$9,IF(INDEX(発注者入力シート!$B$25:$J$28,MATCH(発注者入力シート!M6,発注者入力シート!$C$25:$C$28,0),7)="有",発注者入力シート!$AL$10)))) -> 申請する場合は、「企業入力シート」の「押印済資料での提出」欄で「有」を選択してください。
A43: ="②"&"配置予定技術者："&B14&" 技術資料の提出方法" -> ②配置予定技術者： 技術資料の提出方法
A44: =IF(B14="",発注者入力シート!$AL$11,IF(INDEX(発注者入力シート!$B$25:$J$28,MATCH(発注者入力シート!M6,発注者入力シート!$C$25:$C$28,0),8)="未記入",発注者入力シート!$AL$8,IF(INDEX(発注者入力シート!$B$25:$J$28,MATCH(発注者入力シート!M6,発注者入力シート!$C$25:$C$28,0),8)="無",発注者入力シート!$AL$9,IF(INDEX(発注者入力シート!$B$25:$J$28,MATCH(発注者入力シート!M6,発注者入力シート!$C$25:$C$28,0),8)="有",発注者入力シート!$AL$10)))) -> 申請する場合は、「企業入力シート」の「押印済資料での提出」欄で「有」を選択してください。
A46: ="③"&"配置予定技術者："&B16&" 技術資料の提出方法" -> ③配置予定技術者： 技術資料の提出方法
A47: =IF(B16="",発注者入力シート!$AL$11,IF(INDEX(発注者入力シート!$B$25:$J$28,MATCH(発注者入力シート!M6,発注者入力シート!$C$25:$C$28,0),9)="未記入",発注者入力シート!$AL$8,IF(INDEX(発注者入力シート!$B$25:$J$28,MATCH(発注者入力シート!M6,発注者入力シート!$C$25:$C$28,0),9)="無",発注者入力シート!$AL$9,IF(INDEX(発注者入力シート!$B$25:$J$28,MATCH(発注者入力シート!M6,発注者入力シート!$C$25:$C$28,0),9)="有",発注者入力シート!$AL$10)))) -> 申請する場合は、「企業入力シート」の「押印済資料での提出」欄で「有」を選択してください。
A50: 【注】
B51: ・押印済資料で提出する場合、押印済資料で評価する。
B52: ・対象資格が異なる押印済資料を提出した場合、当該評価項目の加算点はゼロとする。
B53: =CONCATENATE("・収受印欄に収受印と併せて全県適用 の押印があれば、上記に",発注者入力シート!$C$6,"が発注する工事と記載があっても、本書の写しをもって島根県総務部、防災部、農林水産部及び土木部の事業課、関係地方機関が発注する工事において、その他添付資料の提出は不要とする。") -> ・収受印欄に収受印と併せて全県適用 の押印があれば、上記に東部農林水産振興センターが発注する工事と記載があっても、本書の写しをもって島根県総務部、防災部、農林水産部及び土木部の事業課、関係地方機関が発注する工事において、その他添付資料の提出は不要とする。

Sheet 同種工事施工経験
A1: =CONCATENATE("（様式-",INDEX(発注者入力シート!$B$25:$G$28,MATCH(発注者入力シート!M7,発注者入力シート!$C$25:$C$28,0),4),"）") -> （様式-５） | S1: 配置予定技術者①用 | U1: 着色セルの凡例
A2: =CONCATENATE("評価項目",INDEX(発注者入力シート!$B$25:$G$28,MATCH(発注者入力シート!M7,発注者入力シート!$C$25:$C$28,0),5),"-",INDEX(発注者入力シート!$B$25:$G$28,MATCH(発注者入力シート!M7,発注者入力シート!$C$25:$C$28,0),6)) -> 評価項目（２）-② | Q2: =IF(INDEX(発注者入力シート!$B$20:$G$40,MATCH(発注者入力シート!M7,発注者入力シート!$C$20:$C$40,0),3)="","",INDEX(発注者入力シート!$B$20:$G$40,MATCH(発注者入力シート!M7,発注者入力シート!$C$20:$C$40,0),3)) | U2: （企業）
A3: 配置予定技術者の同種工事の施工経験 | V3: ：「企業入力シート」、一覧表（別紙）で入力（数式リンク有）
H4: 会社（企業体）名： | L4: =IF(企業入力シート!C7="","",企業入力シート!C7) -> ○○建設 | V4: ：セルに直接入力もしくはリストから選択が必要な箇所
A6: 対象工事 | B6: 対象期間・対象機関 | F6: 平成２８年度から入札公告日前日までに完成及び引き渡しが完了した島根県発注工事 | U6: （発注者）
V7: ：「発注者入力シート」で入力（数式リンク有）
B8: 同種工事の定義 | F8: １契約で１，０００万円（税込）以上で植栽工（維持管理工事を除く）を含む完成及び引き渡しが完了した工事 | V8: ：セルに直接入力が必要な箇所
V9: ：配置予定技術者①のシートとリンク
B11: 工事種別 | F11: =INDEX(発注者入力シート!$AX$3:$BC$31,MATCH(発注者入力シート!$AY$2,発注者入力シート!$AZ$3:$AZ$31,0),4) -> 造園工事 | U11: 【印刷について】
B12: 建設工事の種類 | F12: =INDEX(発注者入力シート!$AX$3:$BC$31,MATCH(発注者入力シート!$AY$2,発注者入力シート!$AZ$3:$AZ$31,0),5) -> 造園工事 | U12: このシートは「ページ設定」で「白黒印刷」と「印刷範囲」が設定されています。
A14: 配置予定技術者 氏名 | F14: ① | G14: =IF(企業入力シート!C18="","",企業入力シート!C18) | U14: 様式内の吹出しコメントは印刷されません。
A15: 工事内容 | F15: 施工経験① | M15: 施工経験②
A16: 工事名称等 | B16: 工 事 名
B20: コリンズ登録番号
B21: 発注機関名 | T21: ← | U21: ○○県土整備事務所など発注機関名を記入（略名可）
B22: 施工場所
U23: （チェック用）
B24: 請負金額（最終・税込） | L24: 円 | S24: 円 | U24: 西暦
B25: 契約上の工期 | E25: （始） | H25: 年 | J25: 月 | L25: 日 | O25: 年 | Q25: 月 | S25: 日 | U25: 46235 | V25: ←西暦を入力すると下の欄に和暦が表示 | Z25: 平成
E26: （終） | H26: 年 | J26: 月 | L26: 日 | O26: 年 | Q26: 月 | S26: 日 | U26: 和暦 | Z26: 令和
B27: 従事期間 | E27: （始） | H27: 年 | J27: 月 | L27: 日 | O27: 年 | Q27: 月 | S27: 日 | U27: =U25 -> 46235
E28: （終） | H28: 年 | J28: 月 | L28: 日 | O28: 年 | Q28: 月 | S28: 日
B29: 従事時の役職
B30: 受注形態
B31: 特別（特定）ＪＶの場合、出資比率
B32: 工事種別
B33: 建設工事の種類
A34: 工事成績評定点 | L34: 点 | S34: 点
A35: 工事概要
A45: (1) | B45: 施工経験（上表記載内容）全てが確認できるよう下表を参考に資料①～⑪を組み合せて提出すること。
B47: ① | C47: コリンズの「登録内容確認書」の写し。（竣工登録に限る。）
B48: ② | C48: 最終の見積参考資料（設計の変更回数が確認できる総括情報表と工事内訳表）。ただし、必ず当初、変更を含む契約書全ての写し（資料③）＋項目別評定点表（資料④）もしくは竣工検査済証の写し（資料⑤）＋技術者の従事期間が確認できる資料（資料⑧及び資料⑨）を追加添付すること。
B52: ③ | C52: 当初、変更を含む契約書全ての写し。
B53: ④ | C53: 項目別評定点表。（島根県発注工事に限る。）
B54: ⑤ | C54: 竣工検査済証の写し。
B55: ⑥ | C55: 工事成績評定通知書の写し。ただし、工事成績評定対象外工事の場合は、「成績評定対象外」である旨を「工事成績評定点」欄に記載すること。（島根県以外の発注工事は、成績評定対象外であることを確認するための発注者の証明書の写し（資料⑩）も追加添付すること。）
B58: ⑦ | C58: 資料①または資料②のみでは同種工事の施工実績（工事概要）が確認できない場合は、確認できる資料（工事名と設計の変更回数が確認できる最終図面等）。ただし、必ず当初、変更を含む契約書全ての写し（資料③）＋項目別評定点表（資料④）もしくは竣工検査済証の写し（資料⑤）を追加添付すること。
B62: ⑧ | C62: 技術者の従事期間（始）と従事時の役職が確認できる資料（契約時の技術者が確認できるコリンズの「登録内容確認書」の写し等）。
B64: ⑨ | C64: 技術者の従事期間（終）と従事時の役職が確認できる資料（最終の計画工程表兼工事履行報告書等）。
B66: ⑩ | C66: 発注者の証明書の写し。（上記資料①～⑨で確認できない記載内容（コリンズ登録番号を除く。）を全て証明してあるもの。）
B68: ⑪ | C68: 施工経験として提出する工事の「工事種別」および「建設工事の種類」が確認できる資料
A70: 資料①～⑪で確認できる内容
A71: 項目名 | F71: 資料番号 | Q71: 備考
F72: ① | G72: ② | H72: ③ | I72: ④ | J72: ⑤ | K72: ⑥ | L72: ⑦ | M72: ⑧ | N72: ⑨ | O72: ⑩ | P72: ⑪
A73: 工事名称等 | B73: 工事名 | F73: ○ | G73: ○ | H73: ○ | I73: ○ | J73: ○ | K73: ○ | L73: ○ | M73: ○ | N73: ○ | O73: ○ | P73: ○
B74: コリンズ登録番号 | F74: ○ | Q74: ①のみ対象
B75: 発注機関名 | F75: ○ | G75: ○ | H75: ○ | I75: ○ | J75: ○ | K75: ○ | M75: ○ | N75: ○ | O75: ○ | P75: ○
B76: 施工場所 | F76: ○ | H76: ○ | J76: ○ | M76: ○ | N76: ○ | O76: ○ | P76: ○
B77: 請負金額（最終・税込） | F77: ○ | H77: ○ | I77: ○ | J77: ○ | N77: ○ | O77: ○
B78: 契約上の工期 | F78: ○ | H78: ○ | I78: ○ | J78: ○ | K78: ○ | M78: △ | N78: ○ | O78: ○ | Q78: ⑧の場合、始期のみ
B79: 従事期間 | F79: ○ | M79: △ | N79: △ | O79: ○ | Q79: ⑧、⑨は両方必要
B80: 従事時の役職 | F80: ○ | M80: △ | N80: △ | O80: ○
B81: 受注形態 | F81: ○ | H81: ○ | I81: ○ | J81: ○ | K81: ○ | M81: ○ | N81: ○ | O81: ○
B82: 特別（特定）JVの場合、出資比率 | F82: ○ | O82: ○ | Q82: JV工事のみ対象
B83: 工事種別 | F83: ○ | O83: ○ | P83: ○
B84: 建設工事の種類 | F84: ○ | O84: ○ | P84: ○
A85: 工事成績評定点 | I85: ○ | K85: ○ | O85: ○ | Q85: 成績評定対象外工事の場合、⑩が必須（島根県発注工事以外）
A89: 工事概要 | F89: ○ or △ | G89: ○ or △ | L89: ○ or △ | O89: ○ | Q89: ②、③、④、⑤を必要に応じて追加添付
A92: ※１：上表の「○」は資料で確認ができるもの、「△」は全ては確認できないもの。
A93: ※２：上表の資料②、③、④、⑤、⑥の「○」と「△」は、島根県発注工事の場合。
A95: （参考）代表的な提出資料の組合せ
A96: パターン名 | C96: 条件１ | E96: 条件２ | K96: 条件３ | O96: 提出資料の組合せ
A97: パターン１ | C97: ・コリンズと別資料を提出する場合 | E97: コリンズのみで工事概要が確認可能。 | K97: 契約工期と技術者の従事期間が同じ。 | O97: ①+④
O98: ①+⑥
A99: パターン２ | E99: コリンズのみで工事概要が確認できない。最終の見積参考資料を追加添付。 | O99: ①+②+③+④
O100: ①+②+③+⑤+⑥
A102: パターン３ | E102: コリンズのみで工事概要が確認できない。最終図面等を追加添付。 | O102: ①+③+④+⑦
O103: ①+③+⑤+⑥+⑦
A105: パターン４ | E105: 上記パターン１～３のいずれかに該当。 | K105: 契約工期と技術者の従事期間が異なる。 | O105: パターン１+⑧+⑨
O106: パターン２+⑧+⑨
O107: パターン３+⑧+⑨
A108: パターン５ | C108: ・別資料のみを提出する場合 | E108: 最終の見積参考資料で工事概要が確認可能。 | K108: 技術者の従事期間を確認できる資料の追加添付が必要。 | O108: ②+③+④+⑧+⑨+⑪
O109: ②+③+⑤+⑥+⑧+⑨+⑪
A110: パターン６ | E110: 最終の見積参考資料で工事概要が確認できない。最終図面等を追加添付。 | O110: ②+③+④+⑦+⑧+⑨+⑪
O111: ②+③+⑤+⑥+⑦+⑧+⑨+⑪
A113: パターン７ | E113: 最終の見積参考資料等、必要な資料を追加添付。 | O113: ⑩
O114: ⑩+⑪
A115: パターン８ | K115: 技術者の従事期間を確認できる資料が準備できない。 | O115: ⑩
O116: ⑩+⑪
A119: (2) | B119: 施工経験が２回以上ある場合は、代表的なもの２回分の提出でよい。
A120: (3) | B120: 技術資料提出時に配置予定技術者が特定できない場合は、複数の候補者を記入できる。その場合、審査は候補者のうち配置予定技術者の評価点合計が最も低い者で評価する。
A122: (4) | B122: 同種工事施工経験時の所属会社は問わない。（現在の所属会社以外のものも記載できる。）
A123: (5) | B123: 特別（特定）ＪＶで施工した工事については、出資比率２０％以上の場合にのみ施工実績として認める。
A125: (6) | B125: 担当技術者としての同種工事の施工経験はコリンズの登録（竣工登録に限る。）がなければ申請できない。（担当技術者の施工経験が評価対象として入札説明書に記載されている工事のみに適用）
A127: (7) | B127: 上記事項の外、入札説明書本文にある要件を必ず確認すること。
A131: =CONCATENATE("（様式-",INDEX(発注者入力シート!$B$25:$G$28,MATCH(発注者入力シート!M7,発注者入力シート!$C$25:$C$28,0),4),"）") -> （様式-５） | S131: 配置予定技術者②用 | U131: 着色セルの凡例
A132: =CONCATENATE("評価項目",INDEX(発注者入力シート!$B$25:$G$28,MATCH(発注者入力シート!M7,発注者入力シート!$C$25:$C$28,0),5),"-",INDEX(発注者入力シート!$B$25:$G$28,MATCH(発注者入力シート!M7,発注者入力シート!$C$25:$C$28,0),6)) -> 評価項目（２）-② | Q132: =IF(INDEX(発注者入力シート!$B$20:$G$40,MATCH(発注者入力シート!M7,発注者入力シート!$C$20:$C$40,0),3)="","",INDEX(発注者入力シート!$B$20:$G$40,MATCH(発注者入力シート!M7,発注者入力シート!$C$20:$C$40,0),3)) | U132: （企業）
A133: 配置予定技術者の同種工事の施工経験 | V133: ：「企業入力シート」、一覧表（別紙）で入力（数式リンク有）
H134: 会社（企業体）名： | L134: =IF(企業入力シート!C7="","",企業入力シート!C7) -> ○○建設 | V134: ：セルに直接入力もしくはリストから選択が必要な箇所
A136: 対象工事 | B136: 対象期間・対象機関 | F136: =+$F$6 -> 平成２８年度から入札公告日前日までに完成及び引き渡しが完了した島根県発注工事 | U136: （発注者）
V137: ：「発注者入力シート」で入力（数式リンク有）
B138: 同種工事の定義 | F138: =+$F$8 -> １契約で１，０００万円（税込）以上で植栽工（維持管理工事を除く）を含む完成及び引き渡しが完了した工事 | V138: ：セルに直接入力が必要な箇所
V139: ：配置予定技術者①のシートとリンク
B141: 工事種別 | F141: =+$F$11 -> 造園工事
B142: 建設工事の種類 | F142: =+$F$12 -> 造園工事
A144: 配置予定技術者 氏名 | F144: ② | G144: =IF(企業入力シート!C19="","",企業入力シート!C19)
A145: 工事内容 | F145: 施工経験① | M145: 施工経験②
A146: 工事名称等 | B146: 工 事 名
U147: 【印刷について】
U148: このシートは「ページ設定」で「白黒印刷」と「印刷範囲」が設定されています。
...

Sheet 防災協定・家畜伝染病防疫協定
A1: =IF(T15=1,CONCATENATE("（様式-",INDEX(発注者入力シート!$B$29:$G$38,MATCH(発注者入力シート!N6,発注者入力シート!$C$29:$C$38,0),4),"）"),CONCATENATE("（様式-",INDEX(発注者入力シート!$B$29:$G$38,MATCH(発注者入力シート!N7,発注者入力シート!$C$29:$C$38,0),4),"）")) -> （様式-７） | S1: 着色セルの凡例
A2: =IF(T15=1,CONCATENATE("評価項目",INDEX(発注者入力シート!$B$29:$G$38,MATCH(発注者入力シート!N6,発注者入力シート!$C$29:$C$38,0),5),"-",INDEX(発注者入力シート!$B$29:$G$38,MATCH(発注者入力シート!N6,発注者入力シート!$C$29:$C$38,0),6)),CONCATENATE("評価項目",INDEX(発注者入力シート!$B$29:$G$38,MATCH(発注者入力シート!N7,発注者入力シート!$C$29:$C$38,0),5),"-",INDEX(発注者入力シート!$B$29:$G$38,MATCH(発注者入力シート!N7,発注者入力シート!$C$29:$C$38,0),6))) -> 評価項目（３）-① | S2: （企業）
T3: ：「企業入力シートで入力（数式リンク有）
A4: =IF(T15=1,"防災",IF(T15=2,"家畜伝染病防疫","防災協定・家畜伝染病防疫"))&"協定の締結実績" -> 家畜伝染病防疫協定の締結実績 | T4: ：セルに直接入力もしくはリストから選択が必要な箇所
G6: 会社（企業体）名： | K6: =IF(企業入力シート!C7="","",企業入力シート!C7) -> ○○建設 | S6: （発注者）
T7: ：「発注者入力シート」で入力（数式リンク有）
A8: 対象： | B8: ="令和"&発注者入力シート!H11&"年度及び令和"&発注者入力シート!G11&"年度における島根県との"&A4 -> 令和6年度及び令和7年度における島根県との家畜伝染病防疫協定の締結実績 | T8: ：セルに直接入力が必要な箇所
A10: ="令和"&発注者入力シート!H11&"年度の協定締結実績の有無" -> 令和6年度の協定締結実績の有無 | S10: 【印刷について】
A11: ="令和"&発注者入力シート!G11&"年度の協定締結実績の有無" -> 令和7年度の協定締結実績の有無 | S11: このシートは「ページ設定」で「白黒印刷」と「印刷範囲」が設定されています。
S12: 様式内の吹出しコメントは印刷されません。
A13: (1) | B13: ="対象年度において、島根県との"&A4&"の有無を記載すること。" -> 対象年度において、島根県との家畜伝染病防疫協定の締結実績の有無を記載すること。
A14: (2) | B14: 協定を締結した団体の構成員はもとより、協定に参加している協力企業等も対象とする。ただし、評価の対象者は、団体が所管する地域内に建設業法に規定する営業所を有する者に限る。また、年度途中で脱退した場合、年度途中から加入した場合はその年度の契約締結実績として認めない。
T15: =IF(COUNTIF(発注者入力シート!C20:C44,発注者入力シート!N6),1,IF(COUNTIF(発注者入力シート!C20:C44,発注者入力シート!N7),2,0)) -> 2
T16: ↑判定式：防災協定なら「１」、家畜伝染病防疫協定なら「２」が表示されます。
A18: (3) | B18: 協力企業等の場合、企業名が明示された協定書等の写しや団体の代表者の証明書など、協定に参加している企業であることがわかる資料を添付すること。

Sheet ボランティア
A1: =CONCATENATE("（様式-",INDEX(発注者入力シート!$B$29:$G$38,MATCH(発注者入力シート!N8,発注者入力シート!$C$29:$C$38,0),4),"）") -> （様式-９） | P1: =IF(INDEX(発注者入力シート!$B$20:$G$40,MATCH(発注者入力シート!N8,発注者入力シート!$C$20:$C$40,0),3)="","",INDEX(発注者入力シート!$B$20:$G$40,MATCH(発注者入力シート!N8,発注者入力シート!$C$20:$C$40,0),3)) | U1: 着色セルの凡例
A2: =CONCATENATE("評価項目",INDEX(発注者入力シート!$B$29:$G$38,MATCH(発注者入力シート!N8,発注者入力シート!$C$29:$C$38,0),5),"-",INDEX(発注者入力シート!$B$29:$G$38,MATCH(発注者入力シート!N8,発注者入力シート!$C$29:$C$38,0),6)) -> 評価項目（３）-③ | U2: （企業）
A3: ボランティア活動又はハートフルしまねへの参加実績 | V3: ：「企業入力シートで入力（数式リンク有）
G4: 会社（企業体）名： | K4: =IF(企業入力シート!C7="","",企業入力シート!C7) -> ○○建設 | V4: ：セルに直接入力もしくはリストから選択が必要な箇所
A6: 対象： | B6: ="令和"&発注者入力シート!$F$11-2&"年度及び令和"&発注者入力シート!$F$11-1&"年度のボランティア活動又はハートフルしまねへの参加実績" -> 令和6年度及び令和7年度のボランティア活動又はハートフルしまねへの参加実績 | U6: （発注者）
V7: ：「発注者入力シート」で入力（数式リンク有）
A8: 評価対象地域 | D8: 島根県内 | V8: ：セルに直接入力が必要な箇所
A10: ○企業としてのボランティア活動への参加実績 | U10: 【印刷について】
A11: 対象年度 | C11: 活動年月日 | F11: 活動内容 | K11: 活動箇所 | O11: 年度間延べ参加人数 | Q11: 従業員数 | U11: このシートは「ページ設定」で「白黒印刷」と「印刷範囲」が設定されています。
A12: =発注者入力シート!$H$11 -> 6 | U12: 様式内の吹出しコメントは印刷されません。
A15: =発注者入力シート!$G$11 -> 7
A18: (1) | B18: 活動したことを証明する資料と活動箇所が確認できる資料を添付すること。
A19: (2) | B19: 参加人数が１０名未満の場合、従業員数の欄に当該活動時点の常用雇用労働者と短時間労働者の合計人数を記載すること。
A20: (3) | B20: 入札説明書本文にある要件を必ず確認すること。
A21: (4) | B21: ボランティア活動を複数日で行った場合、参加実績は重複者を含んだ合計人数とする（延べ人数）。従業員数は当該活動時点のものとする。
A24: ○企業としてのハートフルしまねの参加実績
A25: 対象年度 | C25: 活動箇所 | J25: 年度間延べ参加人数 | M25: 従業員数 | U25: 活動期間中に従業員数の変動があった場合は、最大時の人数を記載してください
A26: =発注者入力シート!$H$11 -> 6
A27: =発注者入力シート!$G$11 -> 7
A28: 登録団体名
A29: (1) | B29: 活動箇所が確認できる資料を添付すること。
A30: (2) | B30: 参加人数が１０名未満の場合、従業員数の欄に当該活動時点の常用雇用労働者と短時間労働者の合計人数を記載すること。
A31: (3) | B31: 入札説明書本文にある要件を必ず確認すること。
A32: (4) | B32: 従業員数は当該活動時点のものとする。
A35: 技術資料提出工事名： | E35: =IF(発注者入力シート!C10="","",発注者入力シート!C10) -> 大社漁港海岸 農山漁村地域整備交付金（海岸環境）工事（２工区）その５
A37: 提出事務所名： | E37: =IF(発注者入力シート!C6="","",発注者入力シート!C6) -> 東部農林水産振興センター
A39: 有効範囲： | E39: =+発注者入力シート!$C$11 -> 令和9年7月31日までに入札公告された工事
A41: =CONCATENATE(" 今後、",発注者入力シート!C6,"が発注する工事においては、本書の写し（※）をもって「ボランティア活動等への参加実績」の貴社技術資料とみなし、その他添付資料の提出は不要とする。 ※本書の写しとは、収受印欄に収受の押印がある資料をいう。") -> 今後、東部農林水産振興センターが発注する工事においては、本書の写し（※）をもって「ボランティア活動等への参加実績」の貴社技術資料とみなし、その他添付資料の提出は不要とする。 ※本書の写しとは、収受印欄に収受の押印がある資料をいう。
A43: ただし、本提出書類では契約実績が確認できない（評価対象となる施工範囲を満足していないなど）場合、再度、技術資料及び必要な添付資料の提出が必要である。
N45: （収受印）
B46: 技術資料の提出方法
B47: =IF(COUNTIF(企業入力シート!B33,"○")>0,発注者入力シート!AL10,IF(INDEX(発注者入力シート!$B$29:$J$38,MATCH(発注者入力シート!N8,発注者入力シート!$C$29:$C$38,0),7)="未記入",発注者入力シート!$AL$8,IF(INDEX(発注者入力シート!$B$29:$J$38,MATCH(発注者入力シート!N8,発注者入力シート!$C$29:$C$38,0),7)="無",発注者入力シート!$AL$9,IF(INDEX(発注者入力シート!$B$29:$J$38,MATCH(発注者入力シート!N8,発注者入力シート!$C$29:$C$38,0),7)="有",発注者入力シート!$AL$10)))) -> 「企業入力シート」の「押印済資料での提出」欄が未記入ですので、リストから「有」、「無」どちらかを選択してください。
A54: 【注】
B55: ・押印済資料で提出する場合、押印済資料で評価する。
B56: =CONCATENATE("・収受印欄に収受印と併せて全県適用 の押印があれば、上記に",発注者入力シート!$C$6,"が発注する工事と記載があっても、本書の写しをもって島根県総務部、防災部、農林水産部及び土木部の事業課、関係地方機関が発注する工事において、その他添付資料の提出は不要とする。") -> ・収受印欄に収受印と併せて全県適用 の押印があれば、上記に東部農林水産振興センターが発注する工事と記載があっても、本書の写しをもって島根県総務部、防災部、農林水産部及び土木部の事業課、関係地方機関が発注する工事において、その他添付資料の提出は不要とする。

Sheet 維持管理業務
A1: =CONCATENATE("（様式-",INDEX(発注者入力シート!$B$29:$G$38,MATCH(発注者入力シート!N9,発注者入力シート!$C$29:$C$38,0),4),"）") -> （様式-８） | O1: =IF(INDEX(発注者入力シート!$B$20:$G$40,MATCH(発注者入力シート!N9,発注者入力シート!$C$20:$C$40,0),3)="","",INDEX(発注者入力シート!$B$20:$G$40,MATCH(発注者入力シート!N9,発注者入力シート!$C$20:$C$40,0),3)) | S1: 着色セルの凡例
A2: =CONCATENATE("評価項目",INDEX(発注者入力シート!$B$29:$G$38,MATCH(発注者入力シート!N9,発注者入力シート!$C$29:$C$38,0),5),"-",INDEX(発注者入力シート!$B$29:$G$38,MATCH(発注者入力シート!N9,発注者入力シート!$C$29:$C$38,0),6)) -> 評価項目（３）-② | S2: （企業）
T3: ：「企業入力シートで入力（数式リンク有）
A4: 県管理公共土木施設に関する維持管理業務または海岸漂着物の回収業務の契約実績 | T4: ：セルに直接入力もしくはリストから選択が必要な箇所
H5: 会社（企業体）名： | K5: =IF(企業入力シート!C7="","",企業入力シート!C7) -> ○○建設
S6: （発注者）
A7: 対象： | B7: ="令和"&発注者入力シート!$F$11-2&"年度及び令和"&発注者入力シート!$F$11-1&"年度の県管理公共土木施設に関する維持管理業務または海岸漂着物の回収業務の契約実績" -> 令和6年度及び令和7年度の県管理公共土木施設に関する維持管理業務または海岸漂着物の回収業務の契約実績 | T7: ：「発注者入力シート」で入力（数式リンク有）
T8: ：セルに直接入力が必要な箇所
A10: 評価対象地域 | D10: 島根県内
S11: 【印刷について】
A12: =発注者入力シート!$H$11 -> 6 | S12: このシートは「ページ設定」で「白黒印刷」と「印刷範囲」が設定されています。
A13: 発注機関 | D13: 委託月数 （自動計算） | F13: 委託期間 | I13: 業務名 | N13: 施工箇所(旧市町村名) | S13: 様式内の吹出しコメントは印刷されません。
F14: 上段：着手日/下段：完了日
D15: =(DATEDIF(F15,F16+1,"m")+ROUNDDOWN(DATEDIF(F15,F16+1,"md")/TEXT(EOMONTH(F16,0),"d"),1)) -> 0 | S15: 注意！
S16: 下請契約で申請する場合、「発注機関」欄は元請企業名ではありません。
A17: =発注者入力シート!$G$11 -> 7
A18: 発注機関 | D18: 委託月数 （自動計算） | F18: 委託期間 | I18: 業務名 | N18: 施工箇所(旧市町村名)
F19: 上段：着手日/下段：完了日
D20: =(DATEDIF(F20,F21+1,"m")+ROUNDDOWN(DATEDIF(F20,F21+1,"md")/TEXT(EOMONTH(F21,0),"d"),1)) -> 0
A22: (1) | B22: 対象年度において、県管理公共土木施設に関する維持管理業務（発注機関は問わない。島根県発注業務においては県が認めた下請け業務も含む。）または島根県発注の海岸漂着物の回収業務の契約実績（県が認めた下請け業務も含む。）のうち、１回の契約期間が5ヶ月以上のものについて記入すること。
A26: (2) | B26: １回の契約期間が両年度にわたるものは、契約期間の長い方の年度に契約実績を記入すること。
A27: (3) | B27: １回の契約期間が１年5ヶ月以上の場合、両年度とも契約実績として記入する。
A28: (4) | B28: 契約実績を確認する資料として、当該年度の業務内容の分かる資料（契約書、下請負人通知書、施工体制台帳、下請契約書、注文書・請書、発注者の実績証明証等の写し）を添付すること。
A30: (5) | B30: 上記（４）の資料で評価対象地域が確認できない場合は、確認できる資料（位置図）を追加添付すること。
A32: (6) | B32: 上記事項の外、入札説明書本文にある要件を必ず確認すること。
A35: 技術資料提出工事名： | E35: =IF(発注者入力シート!C10="","",発注者入力シート!C10) -> 大社漁港海岸 農山漁村地域整備交付金（海岸環境）工事（２工区）その５
A37: 提出事務所名： | E37: =IF(発注者入力シート!C6="","",発注者入力シート!C6) -> 東部農林水産振興センター
A39: 有効範囲： | E39: =+発注者入力シート!$C$11 -> 令和9年7月31日までに入札公告された工事
A41: =CONCATENATE(" 今後、",発注者入力シート!C6,"が発注する工事においては、本書の写し（※）をもって「県管理公共土木施設に関する維持管理業務または海岸漂着物の回収業務の契約実績」の貴社技術資料とみなし、その他添付資料の提出は不要とする。 ※本書の写しとは、収受印欄に収受の押印がある資料をいう。") -> 今後、東部農林水産振興センターが発注する工事においては、本書の写し（※）をもって「県管理公共土木施設に関する維持管理業務または海岸漂着物の回収業務の契約実績」の貴社技術資料とみなし、その他添付資料の提出は不要とする。 ※本書の写しとは、収受印欄に収受の押印がある資料をいう。
A44: ただし、本提出書類では契約実績が確認できない（評価対象となる施工範囲を満足していないなど）場合、再度、技術資料及び必要な添付資料の提出が必要である。
B47: 技術資料の提出方法 | N47: （収受印）
B48: =IF(COUNTIF(企業入力シート!B34,"○")>0,発注者入力シート!AL10,IF(INDEX(発注者入力シート!$B$29:$J$38,MATCH(発注者入力シート!N9,発注者入力シート!$C$29:$C$38,0),7)="未記入",発注者入力シート!$AL$8,IF(INDEX(発注者入力シート!$B$29:$J$38,MATCH(発注者入力シート!N9,発注者入力シート!$C$29:$C$38,0),7)="無",発注者入力シート!$AL$9,IF(INDEX(発注者入力シート!$B$29:$J$38,MATCH(発注者入力シート!N9,発注者入力シート!$C$29:$C$38,0),7)="有",発注者入力シート!$AL$10)))) -> 「企業入力シート」の「押印済資料での提出」欄が未記入ですので、リストから「有」、「無」どちらかを選択してください。
A54: 【注】
B55: ・押印済資料で提出する場合、押印済資料で評価する。

Sheet 障がい者雇用
A1: =CONCATENATE("（様式-",INDEX(発注者入力シート!$B$29:$G$38,MATCH(発注者入力シート!N11,発注者入力シート!$C$29:$C$38,0),4),"）") -> （様式-１０） | W1: 着色セルの凡例
A2: =CONCATENATE("評価項目",INDEX(発注者入力シート!$B$29:$G$38,MATCH(発注者入力シート!N11,発注者入力シート!$C$29:$C$38,0),5),"-",INDEX(発注者入力シート!$B$29:$G$38,MATCH(発注者入力シート!N11,発注者入力シート!$C$29:$C$38,0),6)) -> 評価項目（３）-④ | W2: （企業）
A3: 労働福祉関連の状況(a 障がい者雇用の実態) | X3: ：「企業入力シートで入力（数式リンク有）
X4: ：セルに直接入力もしくはリストから選択が必要な箇所
H5: 会社（企業体）名： | K5: =IF(企業入力シート!C7="","",企業入力シート!C7) -> ○○建設
W6: （発注者）
A7: a 障がい者雇用の実態 | X7: ：「発注者入力シート」で入力（数式リンク有）
A8: 下記の①及び②のどちらかの方法で提出すること。 | X8: ：セルに直接入力が必要な箇所
A9: ① | B9: 本様式による提出。
A10: ② | B10: =CONCATENATE("「障がい者雇用の促進等に関する法律施行規則」第８条で定められた様式（障害者雇用状況報告書）による提出。なお、提出にあたっては入札公告日前日時点（令和",(YEAR(発注者入力シート!H7)-2018),"年",MONTH(発注者入力シート!H7),"月",DAY(発注者入力シート!H7),"日時点）の状況と相異ないことを代表者名で証明すること。(押印のこと)") -> 「障がい者雇用の促進等に関する法律施行規則」第８条で定められた様式（障害者雇用状況報告書）による提出。なお、提出にあたっては入札公告日前日時点（令和8年9月15日時点）の状況と相異ないことを代表者名で証明すること。(押印のこと) | W10: 【印刷について】
W11: このシートは「ページ設定」で「白黒印刷」と「印刷範囲」が設定されています。
W12: 様式内の吹出しコメントは印刷されません。
A13: 従業員の雇用状況 | J13: 短時間以外の常用雇用労働者数 （人） | N13: 短時間労働者数 （人） | R13: 特定短時間労働者数 （人）
J15: １週間の所定労働時間が30時間以上 | N15: １週間の所定労働時間が20時間以上30時間未満 | R15: １週間の所定労働時間が10時間以上20時間未満
J17: 0 | N17: 0 | R17: 0
A19: 障がい者の雇用状況 | J19: 短時間以外の常用雇用労働者数 | N19: 短時間労働者数 | R19: 特定短時間労働者数
J20: （人） | L20: 換算値 | N20: （人） | P20: 換算値 | R20: （人） | T20: 換算値
A21: 身体障がい者 | B21: １級 | I21: 重度 | L21: 2 | P21: 1 | T21: 0.5
B22: ２級 | I22: 重度 | L22: 2 | P22: 1 | T22: 0.5
B23: ３級 | C23: （３級の障がいを２つ以上重複して有する方） | I23: 重度 | L23: 2 | P23: 1 | T23: 0.5
C24: （単一障がいの方） | L24: 1 | P24: 0.5 | T24: -
B25: ４級 | L25: 1 | P25: 0.5 | T25: -
B26: ５級 | L26: 1 | P26: 0.5 | T26: -
B27: ６級 | C27: （７級の障がいを重複している方も含む） | L27: 1 | P27: 0.5 | T27: -
A28: 知的障がい者 | B28: 療育手帳 ： 「Ａ」の方 | I28: 重度 | L28: 2 | P28: 1 | T28: 0.5
B30: 療育手帳 ： 「Ｂ」の方 | L30: 1 | P30: 0.5 | T30: -
A32: 精神障がい者 | B32: 精神障がい者保健福祉手帳所持者 | L32: 1 | P32: 0.5 | T32: 0.5
B34: 精神障がい者保健福祉手帳を所持していない方 | J34: 障がい者雇用率の算定対象外
A37: （a） | C37: 短時間以外の常用雇用労働者数 | M37: =J17 -> 0 | T37: 人
A39: （b） | C39: 短時間労働者数 | M39: =N17 -> 0 | T39: 人
A41: （c） | C41: 特定短時間労働者数 | M41: =R17 -> 0 | T41: 人
A43: （d） | C43: 常用雇用労働者の総数 | M43: =M37+M39*0.5 -> 0 | T43: 人
C44: (d)＝(a)＋(b)×0.5
A45: （e） | C45: 除外率 | M45: 10 | T45: ％
W46: ※ 建設業の除外率10.0％（R7年4月1日施行）
A47: （f） | C47: 法定雇用義務数の算出の基礎となる労働者数 | M47: =M43-INT(M43*M45/100) -> 0 | T47: 人
C48: （f）＝(d)- (d)×(e)/100
C49: （下線部分は小数点以下切捨て）
A50: （g） | C50: 障がい者の法定雇用率 （※ 民間企業の法定雇用率2.7％） | M50: 2.7 | T50: ％ | W50: 今後の法定雇用率の設定
Y51: R6年4月 | Z51: R8年7月
A52: (h) | C52: 法定雇用義務数 | M52: =IF(M47<37.5,"法定雇用義務なし",INT(M47*M50/100)) -> 法定雇用義務なし | T52: =IF(M47<37.5,"37.5人未満("&M47&"人)","人") -> 37.5人未満(0人) | W52: 法定雇用率 | Y52: 0.025 | Z52: 0.027
C53: （h） ＝ （f）×（g） （小数点以下切捨て） | W53: 対象事業主の範囲 | Y53: 40 | Z53: 37.5
A54: (i) | C54: 雇用している障がい者数 | M54: =(J21+J22+J23+J28)*2+(J24+J25+J26+J27+J30+J32+N21+N22+N23+N28)*1+(N24+N25+N26+N27+N30+N32+R21+R22+R23+R28+R32)*0.5 -> 0 | T54: 人
A56: 判定 ： （h）と（i）を比較し、 「（h）＜（i）」のときに評価する | M56: =IF(M43=0,"error",IF(M47<37.5,IF(M54>0,"○","×"),IF(M52<M54,"○","×"))) -> error | O56: =IF(M56="error","必要事項が未入力です",IF(M47<37.5,IF(M54>0,"法定雇用義務数を超えている","法定雇用義務数を超えていない"),IF(M52<M54,"法定雇用義務数を超えている","法定雇用義務数を超えていない"))) -> 必要事項が未入力です
A58: (1) | B58: =CONCATENATE("入札公告日前日時点（令和",(YEAR(発注者入力シート!H7)-2018),"年",MONTH(発注者入力シート!H7),"月",DAY(発注者入力シート!H7),"日時点）での状況について記載すること。") -> 入札公告日前日時点（令和8年9月15日時点）での状況について記載すること。
A59: (2) | B59: 身体障がい者手帳、療育手帳、精神障がい者保健福祉手帳の写しは添付不要。

Sheet 育児・介護休業
A1: =CONCATENATE("（様式-",INDEX(発注者入力シート!$B$29:$G$38,MATCH(発注者入力シート!N12,発注者入力シート!$C$29:$C$38,0),4),"）") -> （様式-１１） | S1: 着色セルの凡例
A2: =CONCATENATE("評価項目",INDEX(発注者入力シート!$B$29:$G$38,MATCH(発注者入力シート!N12,発注者入力シート!$C$29:$C$38,0),5),"-",INDEX(発注者入力シート!$B$29:$G$38,MATCH(発注者入力シート!N12,発注者入力シート!$C$29:$C$38,0),6)) -> 評価項目（３）-⑤ | S2: （企業）
T3: ：「企業入力シートで入力（数式リンク有）
A4: 労働福祉関連の状況(b 育児・介護休業に関する制度) | T4: ：セルに直接入力もしくはリストから選択が必要な箇所
H6: 会社（企業体）名： | K6: =IF(企業入力シート!C7="","",企業入力シート!C7) -> ○○建設 | S6: （発注者）
T7: ：「発注者入力シート」で入力（数式リンク有）
A8: b 育児・介護休業に関する制度（下表のいずれかの取組みが評価対象） | T8: ：セルに直接入力が必要な箇所
A9: 育児・介護休業に関する制度の評価基準 | K9: 取組みの有無 | N9: 認定期間
A10: こっころカンパニー(しまね子育て応援企業)に認定されていること | Q10: まで
A12: 「育児休業・介護休業等育児又は家族介護を行う労働者の福祉に関する法律」（令和７年１０月1日施行、以下「育児・介護休業法」という。）で定める制度を超える内容を含む制度を規定していること | N12: ←“こっころカンパニーの認定”で申請する場合は入力不要です。 | S12: 【印刷について】
S13: このシートは「ページ設定」で「白黒印刷」と「印刷範囲」が設定されています。
S14: 様式内の吹出しコメントは印刷されません。
A15: ※“こっころカンパニーの認定”で申請する場合
A16: (1) | B16: こっころカンパニーについては、「こっころカンパニー認定書」の写しを添付すること。
A18: ※“育児・介護休業法で定める制度を超える制度”で申請する場合
A19: (1) | B19: 企業の育児・介護休業に関する制度の概要が分かる資料（就業規則等）のうち「育児・介護休業法」に関係する部分を添付資料として提出すること。その際、法定の制度を超える箇所にアンダーライン明示すること。なお、明示が無い場合は、評価の対象としない。
A23: (2) | B23: 育児・介護休業に関する制度の内容を確認するため、必ず別紙「育児・介護休業に関する制度 チェック表」を記入し、添付すること。
A25: (3) | B25: 就業規則等は、原本と相異ないことを代表者名で証明すること。
A27: 【共通事項】
A28: (1) | B28: =CONCATENATE("入札公告日前日時点（令和",(YEAR(発注者入力シート!H7)-2018),"年",MONTH(発注者入力シート!H7),"月",DAY(発注者入力シート!H7),"日時点）での状況について記載すること。") -> 入札公告日前日時点（令和8年9月15日時点）での状況について記載すること。
A31: 技術資料提出工事名： | E31: =IF(発注者入力シート!C10="","",発注者入力シート!C10) -> 大社漁港海岸 農山漁村地域整備交付金（海岸環境）工事（２工区）その５
A33: 提出事務所名： | E33: =IF(発注者入力シート!C6="","",発注者入力シート!C6) -> 東部農林水産振興センター
A35: 有効範囲： | E35: =+発注者入力シート!$C$11 -> 令和9年7月31日までに入札公告された工事
E36: ="（ただし、こっころカンパニーに認定されている場合、認定期間が令和"&発注者入力シート!$F$11+1&"年3月31日以前までのものは、その期日までとする）" -> （ただし、こっころカンパニーに認定されている場合、認定期間が令和9年3月31日以前までのものは、その期日までとする）
A39: =CONCATENATE(" 今後、",発注者入力シート!C6,"が発注する工事においては、本書の写し（※）をもって「労働福祉関連の状況(b 育児・介護休業に関する制度)」の貴社技術資料とみなし、その他添付資料の提出は不要とする。 ※本書の写しとは、収受印欄に収受の押印がある資料をいう。") -> 今後、東部農林水産振興センターが発注する工事においては、本書の写し（※）をもって「労働福祉関連の状況(b 育児・介護休業に関する制度)」の貴社技術資料とみなし、その他添付資料の提出は不要とする。 ※本書の写しとは、収受印欄に収受の押印がある資料をいう。
N44: （収受印）
B45: 技術資料の提出方法
B46: =IF(COUNTIF(企業入力シート!B36,"○")>0,発注者入力シート!AL10,IF(INDEX(発注者入力シート!$B$29:$J$38,MATCH(発注者入力シート!N12,発注者入力シート!$C$29:$C$38,0),7)="未記入",発注者入力シート!$AL$8,IF(INDEX(発注者入力シート!$B$29:$J$38,MATCH(発注者入力シート!N12,発注者入力シート!$C$29:$C$38,0),7)="無",発注者入力シート!$AL$9,IF(INDEX(発注者入力シート!$B$29:$J$38,MATCH(発注者入力シート!N12,発注者入力シート!$C$29:$C$38,0),7)="有",発注者入力シート!$AL$10)))) -> 「企業入力シート」の「押印済資料での提出」欄が未記入ですので、リストから「有」、「無」どちらかを選択してください。
A53: 【注】
B54: ・押印済資料で提出する場合、押印済資料で評価する。
B55: =CONCATENATE("・収受印欄に収受印と併せて全県適用 の押印があれば、上記に",発注者入力シート!$C$6,"が発注する工事と記載があっても、本書の写しをもって島根県総務部、防災部、農林水産部及び土木部の事業課、関係地方機関が発注する工事において、その他添付資料の提出は不要とする。") -> ・収受印欄に収受印と併せて全県適用 の押印があれば、上記に東部農林水産振興センターが発注する工事と記載があっても、本書の写しをもって島根県総務部、防災部、農林水産部及び土木部の事業課、関係地方機関が発注する工事において、その他添付資料の提出は不要とする。

Sheet 育児介護チェック表
B1: =CONCATENATE("（様式-",INDEX(発注者入力シート!$B$29:$G$38,MATCH(発注者入力シート!N13,発注者入力シート!$C$29:$C$38,0),4),"）") -> （様式-１２）
B2: =CONCATENATE("評価項目",INDEX(発注者入力シート!$B$29:$G$38,MATCH(発注者入力シート!N13,発注者入力シート!$C$29:$C$38,0),5),"-",INDEX(発注者入力シート!$B$29:$G$38,MATCH(発注者入力シート!N13,発注者入力シート!$C$29:$C$38,0),6)) -> 評価項目（３）-⑥
B3: 育児・介護休業に関する制度 チェック表 育児・介護休業法（R7.10.1施行）対応版
E4: 会社（企業体）名： | F4: =IF(企業入力シート!C7="","",企業入力シート!C7) -> ○○建設
B5: 【法定を超える内容チェック表１】 各Ｑの「はい」または「いいえ」、「該当項目」に■ をご記入下さい。
C7: ★Ｑ1～13の「はい」または「該当項目」に１つでも■がある場合、総合評価の加点対象となります。 ★ 記載内容については、就業規則等により確認できるよう必ず該当条文を記入願います。
B9: Q1 | C9: 育児休業制度の対象となる子の上限年齢を、法定を超えた年齢までとしている。
D10: □ | E10: はい | F10: □ | G10: いいえ
E11: （上限年齢 ＝ 歳 か月まで）
E12: （該当条文： ）
D14: ○法律では１歳まで、両親ともに育児休業を取得する場合は１歳２ヶ月まで、または、一定の事情がある場合は２歳までとされています。 ○一定の事情の有無に関わらず、２歳まで育児休業をとることができる場合は、法定を超える内容となります。
B16: Q2 | C16: 法定基準の制度とは別に、３歳未満の子を養育する従業員が利用できる以下の制度のうち、いずれか１つ以上の制度を定めている。
D17: □ | E17: ①短時間勤務制度（5時間45分から6時間以外の制度等の実施） | F17: □ | G17: ②テレワーク等
E18: （該当条文： ） | G18: （該当条文： ）
D19: □ | E19: ③フレックスタイム制 | F19: □ | G19: ④始業・終業時刻の繰上げ・繰下げ （１日の所定労働時間は変わらない）
E20: （該当条文： ） | G20: （該当条文： ）
D21: □ | E21: ⑤事業所内保育施設の運営 （共同運営や保育施設と契約している場合も含む） | F21: □ | G21: ⑥育児サービス費用を補助する制度 （ベビーシッターや保育施設の利用料補助等）
E22: （該当条文： ） | G22: （該当条文： ）
D24: ①育児・介護休業法では、短時間勤務制度は、原則として6時間（5時間45分から６時間まで）とする措置を含むものとなっているので、それ以外の短時間勤務制度の実施。
B26: Q3 | C26: 介護休業の取得可能期間を、法定を超える日数や回数としている。
D27: □ | E27: はい | F27: □ | G27: いいえ
E28: （上限期間 ＝ 以内）
E29: （該当条文： ）
D31: 育児・介護休業法では、労働者は、要介護状態にある対象家族１人につき、のべ93日間までの範囲内で３回を上限として介護休業を取得することができるとしています。
B33: Q4 | C33: 要介護状態にある対象家族の介護を行う従業員が利用できる短時間勤務制度を除く以下の制度のうち、いくつの制度を定めていますか。
D34: □ | E34: ①フレックスタイム制 | F34: □ | G34: ②始業・終業時刻の繰上げ・繰下げ （１日の所定労働時間は変わらない）
E35: （該当条文： ） | G35: （該当条文： ）
D36: □ | E36: ③介護サービス費用を補助する制度 （ホームヘルパーや介護サービスの利用料補助等）
E37: （該当条文： ）
D38: □ | E38: ④その他これに準ずる制度（ ）
E39: （該当条文： ）
B41: Q5 | C41: Q4で定めているとした制度について、当てはまるものにチェックをしてください。（定めている制度のうち、一つでも当てはまる制度があればチェックをしてください。）
D42: □ | E42: ①介護休業とは別に、利用開始から３年を超える期間で２回の利用を可能としている。
E43: （該当条文： ）
D44: □ | E44: ②介護休業とは別に、利用開始から３年の間で３回以上の利用を可能としている。
E45: （該当条文： ）
D46: □ | E46: ③介護休業とは別に、利用開始から３年を超える期間で３回以上の利用を可能としている。
E47: （該当条文： ）
D48: □ | E48: ④その他
E49: （該当条文： ）
B51: =$B$1&" "&$B$2 -> （様式-１２） 評価項目（３）-⑥ | F51: =IF(企業入力シート!C7="","",企業入力シート!C7) -> ○○建設
B52: 【法定を超える内容チェック表２】 各Ｑの「はい」または「いいえ」、「該当項目」に■ をご記入下さい。
B54: Q6 | C54: 小学生以上の子を持つ従業員が利用できる以下の制度のうち、いくつの制度がありますか。
D55: □ | E55: ①短時間勤務制度 | F55: □ | G55: ②テレワーク等
E56: （該当条文： ） | G56: （該当条文： ）
D57: □ | E57: ③フレックスタイム制 | F57: □ | G57: ④始業・終業時刻の繰上げ・繰下げ （１日の所定労働時間は変わらない）
E58: （該当条文： ） | G58: （該当条文： ）
D59: □ | E59: ⑤所定外労働をさせない制度 | F59: □ | G59: ⑥事業所内託児施設の運営 （共同運営や保育施設と契約している場合も含む）
E60: （該当条文： ） | G60: （該当条文： ）
D61: □ | E61: ⑦養育両立支援休暇の付与（子の看護等休暇を除く）
E62: （該当条文： ）
B64: Q7 | C64: 子の看護休暇について、従業員に対する次の配慮のうち、何項目実施していますか。
D65: □ | E65: ①小学校４年生以上の子についても、別に子の看護休暇が取得できる。 | F65: □ | G65: ②取得可能日数が、年５日（小学校３年生修了までの子が2人以上であれば年10日）を超える
E66: （該当条文： ） | G66: （該当条文： ）
B68: Q8 | C68: 介護休暇について、従業員に対する次の配慮のうち、何項目実施していますか。
D69: □ | E69: ①取得可能日数が、年5日（対象家族が2人以上であれば年10日）を超える。 | F69: □ | G69: ②法で定める「対象家族」を超える範囲も対象。 （対象家族：配偶者、父母・子・祖父母・兄弟姉妹及び孫、配偶者の父母）
E70: （該当条文： ） | G70: （該当条文： ）
B72: Q９ | C72: 子供が生まれる際の父親の休暇制度がある。
D73: □ | E73: はい | F73: □ | G73: いいえ
E74: （内容 ）
E75: （該当条文： ）
B77: Q１０ | C77: 前々年（度）に残った年次有給休暇の積立制度を設けている。
D78: □ | E78: はい | F78: □ | G78: いいえ
E79: （内容 ）
E80: （該当条文： ）
B82: Q１１ | C82: 妊娠、出産、育児、介護を理由に退職した従業員を対象とした再雇用制度がある。
D83: □ | E83: はい | F83: □ | G83: いいえ
E84: （内容 ）
E85: （該当条文： ）
B87: Q１２ | C87: 次の制度等のうち、有給としているものが、いくつありますか。（一部支給でも可）
D88: □ | E88: ①産前産後休業（支給割合： ） | F88: □ | G88: ②育児時間 （支給割合： ）
E89: （該当条文： ） | G89: （該当条文： ）
D90: □ | E90: ③育児休業 （支給割合： ） | F90: □ | G90: ④介護休業 （支給割合： ）
E91: （該当条文： ） | G91: （該当条文： ）
D92: □ | E92: ⑤子の看護休暇 （支給割合： ） | F92: □ | G92: ⑥介護休暇 （支給割合： ）
E93: （該当条文： ） | G93: （該当条文： ）
D94: □ | E94: ⑦独自の有給休暇制度 （休暇名： ）
E95: （該当条文： ）
D96: ②「育児時間」：出産後１歳未満の子どもを育てる女性から請求があった場合、1日2回それぞれ30分以上、育児のための時間を与えなければなりません。（労働基準法第67条）
B98: =$B$1&" "&$B$2 -> （様式-１２） 評価項目（３）-⑥ | F98: =IF(企業入力シート!C7="","",企業入力シート!C7) -> ○○建設
B99: 【法定を超える内容チェック表３】 各Ｑの「はい」または「いいえ」、「該当項目」に■ をご記入下さい。
B101: Q１３ | C101: その他、上記以外で育児・介護休業法の規定を超える取組の実施があれば、法律条文を記入、該当部分を下線明示した上で、就業規則等を記入、法律を超える内容を具体的に下線明示してください。
D102: □ | E102: （育児・介護休業法）第○○条第○○項 ○○○○○○○○○ … ○○○○○○○○○○○○○○○○○○ ……………
E103: （就業規則）第○○条第○○項 ○○○○○○○○ … ○○○○○○○○○○○○○○○○○○○○ ……………
E105: 法定内 判 定 | F105: ＯＫ！
D107: ★ | E107: 総合評価（Ｑ1～Ｑ１３） 加 算 | F107: =IF(F105="ＯＫ！",IF((COUNTIF(D10,"■")+COUNTIF(D17:F21,"■")+COUNTIF(D27,"■")+COUNTIF(D34:F48,"■")+COUNTIF(D55:F69,"■")+COUNTIF(D72:D83,"■")+COUNTIF(D88:F94,"■")+COUNTIF(D102,"■"))>=1,"ＯＫ！","ＮＯ！"),"ＮＯ！") -> ＮＯ！
E108: ★総合評価（Ｑ1～Ｑ１３）加算欄が「ＯＫ！」となる場合でも、就業規則等の添付資料により上記記載内容が確認できなければ、総合評価方式の加算点を認めません。

Sheet 若手技術者・従業員新規雇用
A1: =CONCATENATE("（様式-",INDEX(発注者入力シート!$B$29:$G$38,MATCH(発注者入力シート!N17,発注者入力シート!$C$29:$C$38,0),4),"）") -> （様式-１３） | S1: 着色セルの凡例
A2: =CONCATENATE("評価項目",INDEX(発注者入力シート!$B$29:$G$38,MATCH(発注者入力シート!N17,発注者入力シート!$C$29:$C$38,0),5),"-",INDEX(発注者入力シート!$B$29:$G$38,MATCH(発注者入力シート!N17,発注者入力シート!$C$29:$C$38,0),6)) -> 評価項目（３）-⑦ | S2: （企業）
T3: ：「企業入力シートで入力（数式リンク有）
A4: 若手技術者・若手従業員の新規雇用 | T4: ：セルに直接入力もしくはリストから選択が必要な箇所
H6: 会社（企業体）名： | K6: =IF(企業入力シート!C7="","",企業入力シート!C7) -> ○○建設 | S6: （発注者）
T7: ：「発注者入力シート」で入力（数式リンク有）
A8: 対象： | B8: ="令和"&発注者入力シート!$H$11&"年4月1日以降に、若手技術者・若手従業員（３０歳未満の者）の１人以上の新規雇用があること。" -> 令和6年4月1日以降に、若手技術者・若手従業員（３０歳未満の者）の１人以上の新規雇用があること。 | T8: ：セルに直接入力が必要な箇所
B10: ただし、入札参加希望者と直接的かつ恒常的な雇用関係にあること。
A12: ○若手技術者・若手従業員の新規雇用があれば、下表を記載すること。
A13: 新規雇用の内容 | H13: 新規雇用① | M13: 新規雇用②
A14: 新規雇用した若手技術者・若手従業員の氏名
A15: 生年月日
A16: 新規雇用年月日
A17: 新規雇用時の年齢 | H17: =IF(OR(H15="",H16=""),"-",DATEDIF(H15,H16,"Y")) -> - | M17: =IF(OR(M15="",M16=""),"-",DATEDIF(M15,M16,"Y")) -> -
A18: （a）.建設業法第７条第１項第２号イで定める学校の建設業法施行規則第１条に定める学科（国土交通省令で定める学科）を卒業した者等。 なお、国土交通省令で定める学科に記載の、許可を受けようとする建設業欄の許可業種毎の区分はない。 または、旧建設業法施行令第36条第１項第１号及び第２号並びに旧令第37条第２項第１号イ(１)及び(２)並びに第２号イ(１)で定める学校の施工技術検定規則第2条に定める学科を修めた者等。
A28: （b）.当該工事種別に該当する建設業法第７条第１項第２号ハに示す資格を有する者
A33: （c）.上記（a）、（b）以外の若手従業員
A38: (1) | B38: 新規雇用した日における年齢が３０歳未満である者を記載すること。
A39: (2) | B39: 新規雇用した日及び直接的かつ恒常的な雇用関係を確認できる書類を添付すること。
A40: (3) | B40: （a）に該当する場合、指定学校・学科を卒業したことがわかる証明書の写しを添付すること。
B41: （学科名だけでは判断できない学科の場合は専攻等まで記載のある証明書とすること。）
A42: (4) | B42: （b）に該当する場合、資格者証の写しを添付すること。
A43: (５) | B43: =CONCATENATE("入札公告日前日時点（令和",(YEAR(発注者入力シート!H7)-2018),"年",MONTH(発注者入力シート!H7),"月",DAY(発注者入力シート!H7),"日時点）での状況について記載すること。") -> 入札公告日前日時点（令和8年9月15日時点）での状況について記載すること。
A45: ※ | B45: 雇用関係確認書類
B46: （１）所属会社の雇用証明書（参考様式HP掲載）
B47: （２）雇用保険被保険者資格取得等確認通知書（事業主通知用）及び監理技術者資格者証
B48: （３）その他上記に準ずる資料（所属会社名及び３ヶ月以上の雇用関係が確認できるもの
B49: （２つの書類を提出しても可）に限る)
B50: ○詳細は島根県土木部土木総務課建設産業対策室ホームページ参照
B51: URL: | C51: https://www.pref.shimane.lg.jp/admin/bid/seido/seido_doboku/jyoukinseikakuninsiryou.html

Sheet 建設キャリアアップシステム(CCUS)
A1: =CONCATENATE("（様式-",INDEX(発注者入力シート!$B$29:$G$38,MATCH(発注者入力シート!N21,発注者入力シート!$C$29:$C$38,0),4),"）") -> （様式-１４） | S1: 着色セルの凡例
A2: =CONCATENATE("評価項目",INDEX(発注者入力シート!$B$29:$G$38,MATCH(発注者入力シート!N21,発注者入力シート!$C$29:$C$38,0),5),"-",INDEX(発注者入力シート!$B$29:$G$38,MATCH(発注者入力シート!N21,発注者入力シート!$C$29:$C$38,0),6)) -> 評価項目（３）-⑧ | S2: （企業）
T3: ：「企業入力シート」、一覧表（別紙）で入力（数式リンク有）
A4: 建設キャリアアップシステム（CCUS）の活用 | T4: ：セルに直接入力もしくはリストから選択が必要な箇所
H6: 会社（企業体）名： | K6: =IF(企業入力シート!C7="","",企業入力シート!C7) -> ○○建設 | S6: （発注者）
T7: ：「発注者入力シート」で入力（数式リンク有）
A8: 対象： | B8: 当該工事における建設キャリアアップシステム（CCUS）の活用することの確約 | T8: ：セルに直接入力が必要な箇所
B9: ※活用とは、建設現場にカードリーダーを設置するなどして、技能労働者の就業履歴を蓄積することをいう。
A11: 確約の有無
B12: ※記入がない場合は「無」と判断する。
B13: ※「有」の場合は、以下の建設キャリアアップシステム活用確約書に必要事項を記入のうえ提出すること。 | S13: 【印刷について】
S14: このシートは「ページ設定」で「白黒印刷」と「印刷範囲」が設定されています。
S15: 様式内の吹出しコメントは印刷されません。
A16: 建設キャリアアップシステム活用確約書
M19: =IF(E11="有",企業入力シート!C4,"")
B21: =IF(E11="有",CONCATENATE(発注者入力シート!C6,IF(COUNTIF(発注者入力シート!C6,"*センター*"),"所長","長")," 様"),"")
H25: 住 所 | K25: =IF(E11="有",企業入力シート!C6,"")
H26: 商号又は名称 | K26: =IF(E11="有",企業入力シート!C7,"")
H27: 代 表 者 名 | K27: =IF(E11="有",企業入力シート!C8,"")
B30: 下記工事の施工にあたり、建設キャリアアップシステムを活用することを確約します。
H32: 記
B34: １ 工事名 | E34: =IF(E11="有",発注者入力シート!C10,"")
B37: ２ 確約内容
C38: 島根県建設キャリアアップシステム活用促進実施要領に基づき、建設現場にカードリーダーを設置するなどして、技能労働者の就業履歴を蓄積する。
B41: ３ 承諾事項
C42: ・工事完成後に実績確認のための証拠書類（ 「現場・契約情報」の出力帳票など）を発注者に提出し確認を受ける。
C44: ・確約した工事で活用しなかった場合は、工事成績評定で減点となる。

Sheet 質問書
A1: =CONCATENATE("（様式－",発注者入力シート!E41,"）") -> （様式－１５） | S1: 着色セルの凡例
A2: 令和 年 月 日 | S2: （企業）
T3: ：「企業入力シートで入力（数式リンク有）
A4: 設計図書、技術資料作成に対する質問書 | T4: ：セルに直接入力が必要な箇所
S6: （発注者）
T7: ：「発注者入力シート」で入力（数式リンク有）
A8: 令和 年 月 日付けで入札公告のありました下記工事について下記のとおり質問します。 | T8: ：セルに直接入力が必要な箇所
A9: 記
A10: 入札公告日 | E10: =IF(発注者入力シート!C7="","",発注者入力シート!C7) -> 46281 | S10: 【印刷について】
A11: 工事名 | E11: =IF(発注者入力シート!C10="","",発注者入力シート!C10) -> 大社漁港海岸 農山漁村地域整備交付金（海岸環境）工事（２工区）その５ | S11: このシートは「ページ設定」で「白黒印刷」と「印刷範囲」が設定されています。
A13: 質問事項 | E13: 要旨

Sheet 回答書
A1: =CONCATENATE("（様式－",発注者入力シート!E42,"）") -> （様式－１６） | S1: 着色セルの凡例
A2: 令和 年 月 日 | S2: （発注者）
T3: ：「発注者入力シート」で入力（数式リンク有）
A4: 設計図書、技術資料作成に対する質問の回答書 | T4: ：セルに直接入力が必要な箇所
A8: 令和 年 月 日付けでありました質問について下記のとおり回答します。
A9: 記
A10: 入札公告日 | E10: =IF(発注者入力シート!C7="","",発注者入力シート!C7) -> 46281 | S10: 【印刷について】
A11: 工事名 | E11: =IF(発注者入力シート!C10="","",発注者入力シート!C10) -> 大社漁港海岸 農山漁村地域整備交付金（海岸環境）工事（２工区）その５ | S11: このシートは「ページ設定」で「白黒印刷」と「印刷範囲」が設定されています。
A13: 質問事項 | E13: 回答

Sheet 評価内容説明要求
A1: =CONCATENATE("（様式－",発注者入力シート!E43,"）") -> （様式－１７） | S1: 着色セルの凡例
A2: 令和 年 月 日 | S2: （企業）
A3: 評価内容説明要求書 | T3: ：「企業入力シートで入力（数式リンク有）
T4: ：セルに直接入力が必要な箇所
A5: （発注者）
F6: 様 | S6: （発注者）
T7: ：「発注者入力シート」で入力（数式リンク有）
K8: （提案者） | T8: ：セルに直接入力が必要な箇所
S10: 【印刷について】
S11: このシートは「ページ設定」で「白黒印刷」と「印刷範囲」が設定されています。
A12: 令和 年 月 日付けで公表のありました入札結果調書において下記事項について評価内容の詳細な説明を求めます。
A15: 記
A17: 入札公告日 | E17: =発注者入力シート!C7 -> 46281
A18: 工事名 | E18: =発注者入力シート!C10 -> 大社漁港海岸 農山漁村地域整備交付金（海岸環境）工事（２工区）その５
A20: 評価内容の説明を求める項目及び要求の要旨
A21: 項目 | E21: 説明を求める要旨
A22: ①
A30: ②
A38: ③

Sheet 評価内容回答
A1: =CONCATENATE("（様式－",発注者入力シート!E44,"）") -> （様式－１８） | S1: 着色セルの凡例
A2: 令和 年 月 日 | S2: （企業）
A3: 評価内容回答書 | T3: ：「企業入力シートで入力（数式リンク有）
T4: ：セルに直接入力が必要な箇所
A5: （提案者）
F6: 様 | S6: （発注者）
T7: ：「発注者入力シート」で入力（数式リンク有）
K8: （発注者） | T8: ：セルに直接入力が必要な箇所
S10: 【印刷について】
S11: このシートは「ページ設定」で「白黒印刷」と「印刷範囲」が設定されています。
A12: 令和 年 月 日付けで通知のありました評価内容説明要求書について下記のとおり回答します。
A15: 記
A17: 入札公告日 | E17: =発注者入力シート!C7 -> 46281
A18: 工事名 | E18: =発注者入力シート!C10 -> 大社漁港海岸 農山漁村地域整備交付金（海岸環境）工事（２工区）その５
A20: 評価内容の説明要求に対する回答
A21: 項目 | E21: 回答
A22: ①
A30: ②
A38: ③
