Workbook

Sheet 注意事項等
A1: はじめにお読みください
A2: 本エクセルファイルは、旭市の電子入札案件に参加される際に必要となる書類様式となります。
A3: ただし、全てが必要な書類ではありませんので、必要となる様式のみご利用ください。
A4: シート保護パスワード：なし
A5: ■本ファイルは以下のシート構成となっています。
A6: 注意事項等 | B6: ・本ファイルの利用方法についての説明を記載しています
A7: 入力シート | B7: ・全てのシートへデータ連携されます。 ・入力作業は、全てこのシートで行い、その他のシートで入力はできません。 ※入札参加資格審査申請書と保証金免除申請書のみ、一部箇所（日付欄）入力が可能
A8: 紙入札参加届出書 | B8: ・電子入札案件に紙入札で参加する場合に使用します。 ・必ず事前に財政課契約検査班に電話連絡を行い、その指示に従ってください。 ・一旦紙入札により参加すると、その案件では理由を問わず電子入札に切替できません。 落札者が決定するまでの間は全て紙での手続きとなります。
A9: 紙入札書 | B9: ・電子入札案件に紙入札で参加する際の紙入札の様式となります。 ・「くじ番号」の記載漏れにご注意ください。任意の３桁の数字を記入してください。
A10: 封筒宛名印刷 | B10: ・上記紙入札書を所定の方法で封かんする説明、及び宛名等を印刷します。 ・封筒の宛名、案件名等の記載事項は、郵送・持参を問わず必須となります。 ・所定の記載内容のない入札書封筒は、入札無効として取り扱います。 ・１通の封筒には、１枚の入札書（内訳書の提出が必要な案件では、所定の内訳書を同封)のみを入れてください。 ※２枚以上の入札書が封入されている場合は、入札無効となります。
A11: 提出確認願 | B11: ・紙入札書を封入した封筒を持参する場合には、必ず本書類を添えて提出しなければなりません。 ・本書の添付がない場合は、受理しません。
A12: 資格審査申請書 | B12: ・落札候補者となった場合に提出する書類となります。 ・配置予定技術者欄のうち、現場代理人（担当者）は必須です（物品購入・賃貸借を除く）。 ・公告、仕様書等で資格を持った技術者の配置を求められている場合のみ、「技術者１・２」の欄に記入してください。欄が足りない場合は、申請書をもう1枚作成するか別紙にまとめる等により対応してください。 ・物品購入、賃貸借等に係る公告・仕様書で技術者の配置要件のない場合は、配置予定技術者欄は全て未記入で結構です。
A13: 営業所技術者等 兼任届出書 | B13: ・落札候補者となったときに、営業所技術者を専任を要する工事と兼任させる場合は、資格審査申請書と同時に提出してください。
A14: 監理技術者等 兼任届出書 | B14: ・落札候補者となったときに、監理技術者等を専任を要する工事と他の工事を兼任させる場合は、資格審査申請書と同時に提出してください。
A15: 契約保証金 免除申請書 | B15: ・落札候補者となったときに、契約保証金の免除を申請する場合は、資格審査申請書と同時に提出してください。 ・案件によっては最初から免除を認めていない場合もあります。詳細は個別案件ごとの公告でご確認ください。 ・落札金額欄は税込みの総額を記載してください。（複数年にわたる契約の場合は契約期間を通じた総額、単価契約の場合は単価に予定数量を乗じた見込み総額）
A16: 電子契約承諾書 | B16: ・電子契約は強制ではありません。承諾する場合は、上の資格審査申請書と同時に提出してください。
A17: 辞退届 | B17: ・電子入札システムで辞退届の提出ができないときや、紙入札参加申請後、入札書提出前に辞退する場合は、本書面で提出します。
A18: 紙入札書(白紙) | B18: ・手書き対応用の入札書になります。
A21: ■電子入札案件に紙入札参加しようとする場合
A22: 1.旭市財政課契約検査班に連絡し、その対応を確認します。 (TEL:0479-62-5394)
A23: 2.財政課契約検査班まで紙入札参加届出書を持参又は郵送します。
A24: 3.所定の様式で入札書、封筒を作成します。（くじ番号の記載漏れにご注意ください）
A25: 4.封かんした封筒を簡易書留で郵送するか、提出確認願と一緒に持参します。 ※普通郵便で到着した入札書は無効とします。必ず書留・簡易書留郵便としてください。 ※入札書の到着期限は、公告に記載の日時までとなります。郵送、持参を問わず必着でなければなりません。
A26: 5.再度入札となった場合は、財政課から直ちに電話連絡を行いますので、その指示に従ってください。

Sheet 入力シート
A1: 電子入札用様式入力シート
A3: ご使用にあたって
A4: ・提出する書類の入力は全てこのシートで行います。
A5: ・それぞれの提出書類は印刷のみに使用します。
A6: ・提出書類を印刷後、必要に応じて手書きでの対応も可能です。
A7: ・黄色の着色箇所以外入力できません。青字の箇所は選択式
A9: 紙入札で参加する場合の入力項目
A10: 事業者情報 | B10: 住所 | C10: 千葉県旭市●●****番地*
B11: 商号又は名称 | C11: 株式会社●●●●●商事
A12: ※代表者又は入札権限を委任された者の役職及び氏名 | B12: 入札権者 職・氏名 | C12: 代表取締役 山田太郎
A13: ※実際に入札・契約に携わる担当者の部署及び氏名 | B13: 入札担当者部署氏名 | C13: ●●部●●課 鈴木花子
B14: 連絡先電話番号 | C14: 0123-45-6789
A16: 入札案件情報 | B16: 入札件名 | C16: ●●●●●工事
B17: 工事(履行/納入)場所 | C17: 旭市●●●●●
B18: 開札日時 | C18: 46203 | D18: 時刻 | E18: 0.41666667
A20: 電子入札に参加できない理由(選択) | C20: （選択してください） | H20: ＩＣカードの新規取得手続き中
B21: その他の具体的内容 | C21: ※その他の場合の記入例 電子入札対応環境の整備中（令和○年○月頃対応予定）など | H21: 記載事項変更のため再取得手続き中
H22: 失効・破損等による再取得手続き中
H23: パソコン等のシステム障害
C24: 入札金額（税抜） | E24: くじ番号(３桁) | H24: その他（具体的に下欄に記載してください。）
A25: 入札金額情報 | C25: 98765432 | E25: 777
B26: ※必ず任意の３桁のくじ番号を入力してください。（必須項目)
B27: ※単価入札時において円未満の端数は、小数第2位までとする。
B28: ただし案件ごとに仕様書等に特に指定がある場合は、それに従う。
A30: 落札候補者になったときの入力項目
A31: 現場代理人(担当者) | B31: 氏名 | C31: 山田一郎
A32: ※物品の場合記載不要。 物品以外は記載必須 | B32: 住所 | C32: 旭市×××
B33: 生年月日 | C33: 29346
A34: 技術者１ | B34: 氏名 | C34: 山田二郎
A35: ※技術者の配置が必要な場合に記載(工事・委託・測量等) 物品の場合は記載不要 | B35: 住所
B36: 生年月日
B37: 法令による免許
A38: 技術者２ | B38: 氏名 | C38: 山田三郎
A39: ※２名以上の技術者の配置を求められている場合に記載 | B39: 住所
B40: 生年月日
B41: 法令による免許
A43: 対象工事名 | B43: 新たに配置する工事名 | C43: =$C$16 -> ●●●●●工事
B44: 発注者名 | C44: 旭市
B45: 工期 | C45: 46461 | E45: まで
B46: 請負金額（税込総額） | C46: 65000000
B47: 既に配置している工事名 | C47: ■■■■■工事
B48: 発注者名 | C48: ●●県
B49: 工期 | C49: 46113 | E49: から
C50: 46402 | E50: まで
B51: 請負金額（税込総額） | C51: 52000000
A52: 連絡員 | B52: 氏名 | C52: 山田四郎
B53: 兼務要件の確認
A54: ※監理技術者が、要件を満たす工事において技術者の兼任を行う工事の情報及び、必要となる連絡員を記載
A56: 連絡員 | B56: 氏名 | C56: 山田五郎
A57: ※入札金額＋消費税相当額 | B57: 落札金額（税込総額） | C57: 75000000
B58: 兼務要件の確認
A59: ※営業所技術者が、要件を満たす工事において技術者の兼任を行う際に、必要となる連絡員を記載
A61: 添付書類 | B61: ●●事業許可証
A62: ※公告において「落札候補者となった場合に提出する書類」とされているものを記載 | B62: ●●一級●●士免許状
B63: 雇用関係を証明する書類（保険証等）
B64: 契約の実績を証明する契約書
B65: 契約保証金免除申請書（※申請する場合のみ）
A68: 契約保証金免除申請 | B68: 落札金額（税込総額）が500万円未満の場合は申請不要で免除となります
A69: ※入札金額＋消費税相当額 | B69: 落札金額（税込総額） | H69: 第３号 | I69: 過去2年間に同種同規模の契約履行実績が2回以上ある
A70: ※契約保証金の免除を申請する場合のみ記入 | B70: 免除事由（選択） | C70: 過去2年間に同種同規模の契約履行実績が2回以上ある | H70: 第７号(申請不要) | I70: 契約金額が500万円未満
B71: 該当規定 | C71: 旭市財務規則第１４８条第４項 | E71: =IF(C70=I69,H69,IF(C70=I70,H70,H71)) -> 第３号 | H71: 第９号 | I71: その他、契約の目的又は性質的に不要と判断される場合
B72: その他（第９号） の場合の理由
A74: 電子契約承諾 | B74: 電子契約は強制ではありません。承諾する場合のみ記入してください
A75: 締結権限者 | B75: 部署名
A76: ※事務担当者と兼務可能 | B76: 役職・氏名
B77: 電話番号
B78: メールアドレス
A79: 事務担当者 | B79: 部署名
A80: ※兼務する場合でも記入 | B80: 役職・氏名
B81: 電話番号
B82: メールアドレス

Sheet 紙入札参加届出書
A1: 紙 入 札 参 加 届 出 書
A2: (電子入札案件 紙入札業者用)
K4: =NOW() -> 46210.681
A6: 旭市長
F8: 住所 | I8: =入力シート!$C$10 -> 千葉県旭市●●****番地*
F9: 商号又は 名称 | I9: =入力シート!$C$11 -> 株式会社●●●●●商事
F10: 職・氏名 | I10: =入力シート!$C$12 -> 代表取締役 山田太郎
B14: 下記案件について、電子入札システムによる電子入札に参加できないので、紙入札方式による参加を届け出ます。
B16: 記
B18: 1 入札件名 | E18: =入力シート!$C$16 -> ●●●●●工事
B19: 2 工事(履行/納入)場所 | E19: =入力シート!$C$17 -> 旭市●●●●●
B20: 3 電子入札システムに参加できない理由（□にチェックを入れてください。）
B21: =IF(C21=入力シート!$C$20,"■","□") -> □ | C21: ＩＣカードの新規取得手続き中
B22: =IF(C22=入力シート!$C$20,"■","□") -> □ | C22: 記載事項変更のため再取得手続き中
B23: =IF(C23=入力シート!$C$20,"■","□") -> □ | C23: 失効・破損等による再取得手続き中
B24: =IF(C24=入力シート!$C$20,"■","□") -> □ | C24: パソコン等のシステム障害
B25: =IF(C25=入力シート!$C$20,"■","□") -> □ | C25: その他（具体的に下欄に記載してください。）
C26: =IF(B25="■",入力シート!$C$21,"")
B29: 入札担当者 部署氏名： | E29: =入力シート!C13 -> ●●部●●課 鈴木花子
B30: 電話番号： | E30: =入力シート!C14 -> 0123-45-6789
B32: ※電子入札案件に紙入札で対応しようとする場合は、必ず事前に旭市財政課 契約検査班(TEL:0479-62-5394)へ連絡して対応方法等を確認してください。

Sheet 紙入札書
A1: 入 札 書
A2: （電子入札案件 紙入札業者用）
J4: =NOW() -> 46210.681
A6: 旭市長
E8: 住所 | H8: =入力シート!$C$10 -> 千葉県旭市●●****番地*
E9: 商号又は 名称 | H9: =入力シート!$C$11 -> 株式会社●●●●●商事
E10: 職・氏名 | H10: =入力シート!$C$12 -> 代表取締役 山田太郎
A14: 入札約款を遵守し、下記金額に消費税及び地方消費税相当額を加算した金額をもって請負いたします。
C16: =TEXT(ROUNDDOWN(入力シート!$C$25,0),"￥#,##0")&IF(入力シート!$C$25-INT(入力シート!$C$25/1)*1<>0,TEXT(入力シート!$C$25-INT(入力シート!$C$25/1)*1,".##"),"") -> ¥98,765,432 | J16: 円也
B18: くじ番号（任意の３桁の数字を記入する。＜必須＞）
C19: =INT(入力シート!$E$25/100) -> 7 | F19: =RIGHT(INT(入力シート!$E$25/10),1) -> 7 | I19: =RIGHT(入力シート!$E$25,1) -> 7
B21: 入札件名 | C21: =入力シート!$C$16 -> ●●●●●工事
B22: 工事(履行/納入)場所 | C22: =入力シート!$C$17 -> 旭市●●●●●
A25: 【注意事項】
A26: ①日付は、入札書作成日を記入してください。
A27: ②金額は算用数字で記入し、頭書を「￥」で止めてください。
A28: ③旭市競争入札参加資格審査申請時に、使用印鑑として届出をした印鑑を使用してください。
A29: ④郵送により提出する場合は、簡易書留で送付してください。
B30: 持参による場合は、「入札書提出確認願」を同時に提出（封筒には同封しない）してください。

Sheet 封筒宛名印刷
D3: 〒289-2595
F5: 旭市ニの２１３２番地
H7: 旭市役所 財政課 契約検査班 行
D9: 簡易書留
L10: 電子入札案件 入札書在中
C13: 入札件名 | K13: =入力シート!$C$16 -> ●●●●●工事
C14: 工事(履行/納入)場所 | K14: =入力シート!$C$17 -> 旭市●●●●●
C15: 開札日時 | K15: =入力シート!$C$18+入力シート!$E$18 -> 46203.417
C18: 商号又は名称 | K18: =入力シート!$C$11 -> 株式会社●●●●●商事
C19: 代表者職氏名 | K19: =入力シート!$C$12 -> 代表取締役 山田太郎
C20: 差出人住所 | K20: =入力シート!$C$10 -> 千葉県旭市●●****番地*
C22: 青線は切取り線です。封筒に切り貼りするなどして、活用してください。
C24: 封 筒 の 規 格
C25: 入札書及び内訳書を提出する場合 | Q25: 長型３号（１２０×２３５）
B27: ≪注意事項≫
B28: ○封筒表面の「電子入札案件 入札書 在中」の文字は、朱書きをしてください。
B29: ○封筒は必ず、封かん（のり付け）、封印（割印）してください。
B30: ○印鑑
B31: 旭市入札参加資格者名簿登載者：使用印鑑として届出をした印鑑を使用してください。
B32: ○郵送による場合は、必ず簡易書留としてください。
B33: ○封筒は、持参による場合であっても郵送と同様の記載内容が必要となります。

Sheet 提出確認願
A1: 入 札 書 提 出 確 認 願
A2: (持参による場合)
F4: =NOW() -> 46210.681
B6: 旭市長
D8: 住所 | E8: =入力シート!$C$10 -> 千葉県旭市●●****番地*
D9: 商号又は 名称 | E9: =入力シート!$C$11 -> 株式会社●●●●●商事
D10: 職・氏名 | E10: =入力シート!$C$12 -> 代表取締役 山田太郎
A13: 下記電子入札案件について、別添のとおり入札書を提出しますので確認願います。
B14: 記
B15: 入札件名 | C15: =入力シート!$C$16 -> ●●●●●工事
B16: 工事(履行/納入)場所 | C16: =入力シート!$C$17 -> 旭市●●●●●
B18: ［入札担当者］部署氏名： | D18: =入力シート!C13 -> ●●部●●課 鈴木花子
B19: 電話番号： | D19: =入力シート!C14 -> 0123-45-6789
B25: 上記入札書を確かに受領しました。
F27: 旭市長
G28: （公印省略）
B30: 財政課使用欄 | C30: 受付印
B31: ※財政課の受付印のないものは、無効とする。

Sheet 資格審査申請書
A1: 入札参加資格審査申請書
A2: (電子入札案件 事後審査方式制限付一般競争入札用)
J4: =NOW() -> 46210.681
A6: 旭市長
F8: 住所 | I8: =入力シート!$C$10 -> 千葉県旭市●●****番地*
F9: 商号又は 名称 | I9: =入力シート!$C$11 -> 株式会社●●●●●商事
F10: 職・氏名 | I10: =入力シート!$C$12 -> 代表取締役 山田太郎
A13: 下記工事（委託業務・物品購入）の落札候補者となったので、入札参加資格の審査を申請します。
B15: 記
B17: 入札件名 | E17: =入力シート!$C$16 -> ●●●●●工事
B18: 工事(履行/納入)場所 | E18: =入力シート!$C$17 -> 旭市●●●●●
B19: 配置予定技術者 | C19: 現場代理人 (担当者) | D19: 氏名 | E19: =入力シート!$C$31 -> 山田一郎
D20: 住所 | E20: =入力シート!$C$32 -> 旭市×××
D21: 生年月日 | E21: =入力シート!$C$33 -> 29346
C22: =入力シート!A34 -> 技術者１ | D22: 氏名 | E22: =入力シート!$C$34 -> 山田二郎
D23: 住所 | E23: =入力シート!$C$35 -> 0
D24: 生年月日 | E24: =入力シート!$C$36 -> 0
D25: 法令による免許 | E25: =入力シート!$C$37 -> 0
C26: =入力シート!A38 -> 技術者２ | D26: 氏名 | E26: =入力シート!$C$38 -> 山田三郎
D27: 住所 | E27: =入力シート!$C$39 -> 0
D28: 生年月日 | E28: =入力シート!$C$40 -> 0
D29: 法令による免許 | E29: =入力シート!$C$41 -> 0
B30: 添付書類
B31: ・ | C31: =IF(入力シート!$B$61="","",入力シート!$B$61) -> ●●事業許可証
B32: ・ | C32: =IF(入力シート!$B$62="","",入力シート!$B$62) -> ●●一級●●士免許状
B33: ・ | C33: =IF(入力シート!$B$63="","",入力シート!$B$63) -> 雇用関係を証明する書類（保険証等）
B34: ・ | C34: =IF(入力シート!$B$64="","",入力シート!$B$64) -> 契約の実績を証明する契約書
B35: ・ | C35: =IF(入力シート!$B$65="","",入力シート!$B$65) -> 契約保証金免除申請書（※申請する場合のみ）
B36: ・ | C36: =IF(入力シート!$B$66="","",入力シート!$B$66)
B37: 【注意事項】
B38: ①「法令による免許」欄には、公告で指定があった場合のみ、当該資格の名称、取得年月日、登録番号 を記入して下さい。
B39: ②添付書類欄は、公告で指定された書類名を記入して下さい。
B40: ③物品購入(賃貸借含む)の場合は、配置予定技術者の欄の記載は不要です。
B41: ④「技術者２」欄は複数の技術者配置を仕様書等で要求されている場合のみ記載してください。

Sheet 監理技術者等兼任届出書
A1: 監理技術者等兼任届出書
A2: (電子入札案件 事後審査方式制限付一般競争入札用)
L4: =NOW() -> 46210.681
A6: 旭市長
H8: 住所 | K8: =入力シート!$C$10 -> 千葉県旭市●●****番地*
H9: 商号又は 名称 | K9: =入力シート!$C$11 -> 株式会社●●●●●商事
H10: 職・氏名 | K10: =入力シート!$C$12 -> 代表取締役 山田太郎
A12: 工事現場ごとに主任技術者又は監理技術者（以下、監理技術者等という。）を専任で置くべき以下の対象工事においては、他の工事において配置している監理技術者等の兼任にあたり、以下の兼任要件をすべて満たしていますので、届け出ます。
B14: 記
B16: １ 対象工事について
E17: 新たに配置する工事 | K17: 既に配置している工事
B18: 発注者名 | E18: =入力シート!$C$44 -> 旭市 | K18: =入力シート!$C$48 -> ●●県
B19: 工事名 | E19: =入力シート!$C$43 -> ●●●●●工事 | K19: =入力シート!$C$47 -> ■■■■■工事
B20: 工期 | K20: =入力シート!$C$49 -> 46113 | O20: から
E21: =入力シート!$C$45 -> 46461 | I21: まで | K21: =入力シート!$C$50 -> 46402 | O21: まで
B22: 請負金額 （税込み） | E22: =入力シート!$C$46 -> 65000000 | K22: =入力シート!$C$51 -> 52000000
B24: ２ 兼任する監理技術者等について
B25: 氏名 | E25: =入力シート!$C$34 -> 山田二郎
B27: ３ 監理技術者等との連絡その他必要な措置を講ずるための者について
B28: 氏名 | E28: =入力シート!$C$52 -> 山田四郎
B30: ４ 兼任要件チェックリスト
B31: 要 件 | O31: 確認欄
B32: ① | C32: 兼務する各工事の請負代金が１億円未満（建築一式は２億円未満）であり、兼務する工事現場は合計２件以内である。 | O32: =IF(入力シート!$C$53="確認済","✅","□") -> □
B33: ② | C33: 兼務する工事現場間の距離が、一日の勤務時間内に巡回可能であり、かつ移動時間が概ね２時間以内である。 | O33: =IF(入力シート!$C$53="確認済","✅","□") -> □
B34: ③ | C34: 兼務する各工事の下請次数が３次までである。 | O34: =IF(入力シート!$C$53="確認済","✅","□") -> □
B35: ④ | C35: 監理技術者等との連絡その他必要な措置を講ずるための者（土木一式工事又は建築一式工事の場合は、当該建設工事の種類に関する実務経験を１年以上有する者）を工事現場に配置することができる。 | O35: =IF(入力シート!$C$53="確認済","✅","□") -> □
B36: ⑤ | C36: 兼務する各工事現場の施工体制を確認できる情報通信技術の措置を講じることができる。 | O36: =IF(入力シート!$C$53="確認済","✅","□") -> □
B37: ⑥ | C37: 人員配置の計画書を作成し、工事現場に備え置くと共に営業所において保存をすることができる（電子媒体による作成も可）。 | O37: =IF(入力シート!$C$53="確認済","✅","□") -> □
B38: ⑦ | C38: 工事現場以外の場所から現場状況を確認するための情報通信機器を設置し、かつ当該機器を利用可能な環境が確保されている。 | O38: =IF(入力シート!$C$53="確認済","✅","□") -> □
B39: ※兼任に関する違反が明らかとなった場合は、指名停止措置等を行うことがあります。

Sheet 営業所技術者等兼任届出書
A1: 営業所技術者等兼任届出書
A2: (電子入札案件 事後審査方式制限付一般競争入札用)
J4: =NOW() -> 46210.681
A6: 旭市長
F8: 住所 | I8: =入力シート!$C$10 -> 千葉県旭市●●****番地*
F9: 商号又は 名称 | I9: =入力シート!$C$11 -> 株式会社●●●●●商事
F10: 職・氏名 | I10: =入力シート!$C$12 -> 代表取締役 山田太郎
A13: 営業所技術者が、専任を要する以下の対象工事における技術者の兼任にあたり、以下の要件をすべて満たしていますので、届け出ます。
B15: 記
B17: １ 対象工事について
B18: 入札件名 | E18: =入力シート!$C$16 -> ●●●●●工事
B19: 請負金額（税込み） | E19: =入力シート!C57 -> 75000000
B21: ２ 兼任する営業所技術者等について
B22: 氏名 | E22: =入力シート!$C$34 -> 山田二郎
B24: ３ 営業所における専任の技術者との連絡その他必要な措置を講ずるための者について
B25: 氏名 | E25: =入力シート!$C$56 -> 山田五郎
B27: ４ 兼任要件チェックリスト
B28: 要 件 | M28: 確認欄
B29: ① | C29: 対象工事の請負代金が１億円未満（建築一式は２億円未満）であり、技術者として工事現場に配置されるのは当工事のみである。 | M29: =IF(入力シート!$C$58="確認済","✅","□") -> □
B30: ② | C30: 営業所と工事現場間の距離が、一日の勤務時間内に巡回可能であり、かつ移動時間が概ね２時間以内である。 | M30: =IF(入力シート!$C$58="確認済","✅","□") -> □
B31: ③ | C31: 対象工事の下請次数が３次までである。 | M31: =IF(入力シート!$C$58="確認済","✅","□") -> □
B32: ④ | C32: 営業所における専任の技術者との連絡その他必要な措置を講ずるための者（土木一式工事又は建築一式工事の場合は、当該建設工事の種類に関する実務経験を１年以上有する者）を工事現場に配置することができる。 | M32: =IF(入力シート!$C$58="確認済","✅","□") -> □
B33: ⑤ | C33: 工事現場の施工体制を確認できる情報通信技術の措置を講じることができる。 | M33: =IF(入力シート!$C$58="確認済","✅","□") -> □
B34: ⑥ | C34: 人員配置の計画書を作成し、工事現場に備え置くと共に営業所において保存をすることができる（電子媒体による作成も可）。 | M34: =IF(入力シート!$C$58="確認済","✅","□") -> □
B35: ⑦ | C35: 工事現場以外の場所から現場状況を確認するための情報通信機器を設置し、かつ当該機器を利用可能な環境が確保されている。 | M35: =IF(入力シート!$C$58="確認済","✅","□") -> □
B36: ※兼任に関する違反が明らかとなった場合は、指名停止措置等を行うことがあります。

Sheet 契約保証金免除申請書
F2: 契約保証金免除申請書
H4: =NOW() -> 46210.681
B5: 旭 市 長
E7: 住 所 | F7: ： | G7: =入力シート!C10 -> 千葉県旭市●●****番地*
E8: 商号又は名称 | F8: ： | G8: =入力シート!C11 -> 株式会社●●●●●商事
E9: 職・氏名 | F9: ： | G9: =入力シート!C12 -> 代表取締役 山田太郎
B11: 旭市財務規則第１４８条第４項の規定により、下記の契約に係る納付を免除され
B12: たく申請します。
B13: なお添付書類の内容、免除の理由が事実と異なっていた場合及び免除を受けたにも
B14: かかわらず、業務履行や物品納品の中断又は遅延があった場合は、いかなる処分を
B15: 受けても異議ありません。
F16: 記
B17: 1.入札件名 | E17: =入力シート!C16 -> ●●●●●工事
B19: 2.工事(履行/納入)場所 | E19: =入力シート!C17 -> 旭市●●●●●
B21: 3.落札金額 | E21: =入力シート!C69 -> 0
E22: （入札金額に消費税及び地方消費税相当額を加算した額）
B23: 4.添付書類
B24: =IF(入力シート!$E$71="第３号","☑","□") -> ☑ | C24: ３号：過去２年間に国又は地方公共団体と種類及び規模を同じくする契約を締結
C25: したことを証明する書類（契約書の写し等）を２件以上
C26: ※ 契約書の写しは履行が免除申請の日までに完了しているものであること。
B27: =IF(入力シート!$E$71="第９号","☑","□") -> □ | C27: ９号：免除の理由
D28: =IF(入力シート!E71="第９号",入力シート!C72,"")

Sheet 電子契約承諾書
A1: 別記様式(第8条関係)
G2: =NOW() -> 46210.681
B3: 旭 市 長
A4: 電子契約承諾書
D6: 住 所 | F6: ： | G6: =入力シート!C10 -> 千葉県旭市●●****番地*
D7: 商号又は名称 | F7: ： | G7: =入力シート!C11 -> 株式会社●●●●●商事
D8: 代表者職氏名 | F8: ： | G8: =入力シート!C12 -> 代表取締役 山田太郎
B10: 旭市と電子契約サービスを利用して、契約を締結することに同意します。
B11: なお、電子契約締結に利用するメールアドレスは、次のとおりとします。
B13: 【契約締結権限者】※事務担当者と兼務可能
B14: 部 署 名： | C14: =入力シート!C75 -> 0
B15: 役 職・氏 名： | C15: =入力シート!C76 -> 0
B16: 電 話 番 号： | C16: =入力シート!C77 -> 0
B17: メールアドレス： | C17: =入力シート!C78 -> 0
B19: 【事務担当者】※必ずご記入ください。
B20: 部 署 名： | C20: =入力シート!C79 -> 0
B21: 役 職・氏 名： | C21: =入力シート!C80 -> 0
B22: 電 話 番 号： | C22: =入力シート!C81 -> 0
B23: メールアドレス： | C23: =入力シート!C82 -> 0
B25: ※内容に変更があった場合は、速やかに報告してください。
B26: ※建設工事請負契約においては、次の条件に基づき、建設業法第１９条第１項及び第
B27: ２項の規定による書面の交付に代えて電磁的措置を講ずる方法により実施すること
B28: について相互に承諾するものとします。なお、本承諾後であっても、電磁的措置を
B29: 講ずる方法により実施することを撤回する旨の申出があった場合、申出以降の建設
B30: 工事の請負契約については書面を交付することとします。
B31: ①電磁的措置の種類
B32: コンピュータ・ネットワーク利用の措置
B33: ②電磁的措置の内容、ファイルへの記録の方式
B34: 電子契約サービスを通じて、送信者がPDFファイル形式の書類をアップロードし、
B35: 契約当事者が同意することにより、電子認証局サービスが提供する電子証明書を
B36: 利用した電子署名を付加し、電子メール、サーバー上からダウンロード等により
B37: 記録する方法等

Sheet 物品調達誓約書
A1: 物品調達誓約書
K4: =NOW() -> 46210.681
A6: 旭市長
F8: 住所 | I8: =入力シート!$C$10 -> 千葉県旭市●●****番地*
F9: 商号又は 名称 | I9: =入力シート!$C$11 -> 株式会社●●●●●商事
F10: 職・氏名 | I10: =入力シート!$C$12 -> 代表取締役 山田太郎
B14: 下記案件について、「3」のとおり調達することを誓約します。
B16: 記
B18: 1 入札件名 | E18: =入力シート!$C$16 -> ●●●●●工事
B19: 2 納入場所 | E19: =入力シート!$C$17 -> 旭市●●●●●
B20: 3 調達する物品（いずれか又は両方の□にチェックを入れてください。）
B21: =IF(C21=入力シート!$C$20,"■","□") -> □ | C21: 仕様書等に記載された物品を納入します
B22: =IF(C22=入力シート!$C$20,"■","□") -> □ | C22: 別添の確認票に記載された物品を納入します
C23: （同等品確認票等を提出する場合）
B25: 入札担当者 部署氏名： | E25: =入力シート!C13 -> ●●部●●課 鈴木花子
B26: 電話番号： | E26: =入力シート!C14 -> 0123-45-6789

Sheet 辞退届
A1: 入 札 辞 退 届
A2: (電子入札案件)
B6: 入札件名 | D6: =入力シート!$C$16 -> ●●●●●工事
A9: 上記について、別記理由により入札参加を辞退します。
A12: 年 月 日
A15: 旭市長
E18: 住所 | G18: =入力シート!$C$10 -> 千葉県旭市●●****番地*
A19: 住所 | E19: 商号又は 名称 | G19: =入力シート!$C$11 -> 株式会社●●●●●商事
A20: 商号又は名称 | E20: 職・氏名 | G20: =入力シート!$C$12 -> 代表取締役 山田太郎
A21: 氏名 ㊞
B23: 【注意】
B24: 1 この届は、入札執行前に、旭市財政課 契約検査班に直接持参してください。
B25: 2 入札を無断で辞退することがないよう十分に留意してください。
A27: 別記理由
A29: 入 札 辞 退 理 由
A31: １ 手持ち工事（委託業務・物品納入）が多く、さらに工事（委託業務・物品納入）を 受注することが困難である。（向こう か月程度）
A32: ２ この工事（委託業務・物品納入）を受注した場合、技術者（対象物品）の確保が困 難である。
A33: ３ 作業員の確保が困難である。
A34: ４ 会社（個人企業の場合には個人）の都合による。
A35: ５ その他（ ）
B37: 【注意】
B38: １ 辞退理由により、今後、不利益な取扱いを受けることはありません。
B39: ２ 辞退理由のうち、該当するものを○マルを付けてください。
B40: ３ 辞退理由１の場合には、受注困難である月数を記入してください。
B41: ４ 辞退理由５の場合には、簡潔に理由を記入してください。

Sheet 紙入札書(白紙)
A1: 入 札 書
A2: （電子入札案件 紙入札業者用）
H4: 令和 年 月 日
A6: 旭市長
E8: 住所
E9: 商号又は 名称
E10: 職・氏名
A14: 入札約款を遵守し、下記金額に消費税及び地方消費税相当額を加算した金額をもって請負いたします。
J16: 円也
B18: くじ番号（任意の３桁の数字を記入する。＜必須＞）
B21: 入札件名
B22: 工事(履行/納入)場所
A25: 【注意事項】
A26: ①日付は、入札書作成日を記入してください。
A27: ②金額は算用数字で記入し、頭書を「￥」で止めてください。
A28: ③旭市競争入札参加資格審査申請時に、使用印鑑として届出をした印鑑を使用してください。
A29: ④郵送により提出する場合は、簡易書留で送付してください。
B30: 持参による場合は、「入札書提出確認願」を同時に提出（封筒には同封しない）してください。
