Workbook

Sheet 別記様式（技術評価項目申請書表紙）
B1: 別記様式
M3: 令和 年 月 日
B5: 北海道オホーツク総合振興局長 様
F7: 競争入札参加希望者
F8: 住 所
F9: 商号又は名称
F10: 代表者氏名
F11: （共同企業体の場合は企業体名を冠にすること）
B14: 技術評価項目申請書
B16: 簡易型総合評価落札方式のための技術評価項目申請書を提出します。添付資料の内容については事実に相違ないことを誓約します。 また、落札候補者となった際の発注者による確認において、申請した得点に錯誤があった場合は、その得点の上方修正は認められず、下方修正されることについて承諾いたします。 なお、「減点項目」に該当する場合に、発注者で減点項目欄に減ずる得点を記入し修正することについて承諾いたします。
F18: 記
B20: １ 工事名
B22: ２ 技術評価項目
B23: （１） 企業の施工能力等 | F23: （様式－４ー１～２）
B24: （２） 地域精通度（施工実績） | F24: （コリンズの登録内容確認書の写し）
B25: （３） 配置予定技術者 | F25: （様式－５）
B26: （４） 担い手の育成・確保 | F26: （様式ー６－１～５）
B27: （５） 地域の守り手確保等 | F27: （様式ー７－１）
B28: （６） オホーツク総合振興局との災害協定 | P28: （協定書の写し）
B29: （７） 地域建設業経営環境評価 | F29: （様式－８ー１）
B30: （８） 地域建設業経営環境評価（過去５ヵ年度平均受注額内訳） （様式ー８－２）
B31: （９） 評価点事後審査方式 自己採点申請書 （様式－９）
B33: ３ 問い合わせ先
B34: 担 当 者 ：
B35: 部 署 ：
B36: 電話番号 ：
B38: 注 技術評価項目の(1)から(9)については、発注者から求められている事項以外は、適宜、削除すること。
B39: 注 地域建設業経営環境評価（様式－８）【別紙 留意事項】は提出不要とする。
B40: 注 事前登録の内容に変更が生じた場合は、事前登録の変更申請を行うこと。
Q41: （用紙寸法 日本工業規格Ａ４）

Sheet 様式-4-1（企業施工能力等調書）
B1: 様式－４－１
C2: （※事前登録済みの会社は提出不要）
B3: 企業の施工能力等調書（１）（施工成績・ISO・地域精通度）
B5: 工 事 名： | D5: ='別記様式（技術評価項目申請書表紙）'!C20 -> 0
B6: 会社(構成員)名：
B7: ◎工事施行成績の評価対象は、全道における各建設管理部発注工事で、令和６年１月１日から令和７年１２月３１日までに完成し、引渡が完了した工事とする。 （共同企業体の構成員としての実績は、出資比率20％以上の場合のものに限る。）
B10: ◎工事施行成績は、当該工事と同じ入札参加資格の工種による工事のものを対象とする。
B11: 工事番号 | C11: 工事名 | I11: 完成年 月 日 | J11: 受注者名 | K11: 工事施行 成績評定点
B22: 合計件数 | H22: =IF(COUNT(K13:K21)=0,"",COUNT(K13:K21)) | I22: 件 | J22: 合計点数 | K22: =IF(SUM(K13:K21)=0,"",SUM(K13:K21))
J23: 平 均 点 | K23: =IF(H22="","",ROUNDDOWN(K22/H22,1))
B24: ※ 平均点は、小数第２位を切り捨て１位止めとする。
B25: ※ 共同企業体の構成員としての実績の場合、受注者名欄は共同企業体の名称を記入する。
B26: ※ 乙型共同企業体（分担施工方式）の場合の工事施行成績は、分担する工事と同じ入札参加資格による 工事のものを対象とする。
B28: ※ 工事施行成績の記入欄が不足する場合は、適宜、行を追加して作成することとし、用紙が複数枚とな る場合は、用紙右上余白に「全○葉の内○号」と記入すること。
B32: ＩＳＯマネジメントシステムの取得（登録）の有無 （ あり ・ なし ）
B33: ※ 取得（登録）している場合は、下欄に登録年月日、登録番号及び有効期限を記入し、登録証書の写しを併せて提出する。
B35: 登録年月日 | H35: 登録番号
B36: 有効期限
B38: 地域精通度に係る施工実績の有無 （ あり（施工場所を記入） ・ なし ）
B39: 発注機関名 | C39: ○○建設管理部 | E39: 請負金額 | H39: 円 | I39: 工期 | J39: ～
B40: 工事名
B41: ※コリンズの登録内容確認書等の写しを添付すること。
B43: 注１ 共同企業体で申請する場合は、構成員ごとに作成し提出すること。
I44: （用紙寸法 日本工業規格Ａ４）

Sheet 様式-4-2（企業施工能力等調書） (2)
B1: 様式－４－２
C2: （※表彰等を申請する場合に提出すること）
B3: 企業の施工能力等調書（２）表彰関係
B5: 工 事 名： | D5: ='様式-4-1（企業施工能力等調書）'!D5 -> 0
B6: 会社(構成員)名： | D6: ='様式-4-1（企業施工能力等調書）'!D6 -> 0
B8: ・北海道建設部工事等優秀者表彰（知事感謝状）又は、
B9: 北海道新技術・新製品開発賞の受賞（表彰状）の申請の有無 （ 申請する ・ 申請しない ）
B10: ※ 申請しない場合は、当該表彰に係る以下の欄は記載不要
B11: ※ 表彰を申請する場合は、下欄に表彰年月日及び表彰の種類・部門を記入する。
B12: ※ 共同企業体の場合は、表彰がある会社名を記入するとともに申請を適用する企業体名を記載すること。
B14: 表彰年月日 | H14: 種類・部門
B15: ※会社名 | H15: 企業体名
B16: ※ 「申請」とは、年１回、各建設管理部において申請ができる０．５点をいう。
B18: ・建設管理部工事優良企業表彰の申請の有無 （ 申請する ・ 申請しない ）
B19: ※ 申請しない場合は、当該表彰に係る以下の欄は記載不要
B20: ※ 表彰がある場合は、下欄に表彰年月日を記入する。
B21: ※ 共同企業体の場合は、表彰がある会社名を記入するとともに申請を適用する企業体名を記載すること。
B22: 表彰年月日
B23: ※会社名 | H23: 企業体名
B24: ※ 「申請」とは、年１回、受賞した建設管理部において申請ができる０．５点をいう。
B27: 注１ 共同企業体で申請する場合は、構成員ごとに作成し提出すること。
I28: （用紙寸法 日本工業規格Ａ４）

Sheet 様式-5（配置予定技術者）
A1: 様式－５
A2: 配置予定技術者調書（総合評価用）
A4: 工 事 名： | C4: ='様式-4-1（企業施工能力等調書）'!D5 -> 0
A5: 会社(構成員)名： | C5: ='様式-4-1（企業施工能力等調書）'!D6 -> 0
A7: 氏 名
A8: 生年月日 | E8: 年 月 日生
A9: 資格 | B9: 種類 | E9: 級 施工管理技士
B10: 取得年月日 | E10: 年 月 日
B11: 登録番号
B12: 種類 | E12: 技術士（ 部門）
B13: 取得年月日 | E13: 年 月 日
B14: 登録番号
B15: 種類
B16: 取得年月日 | E16: 年 月 日
B17: 登録番号
A18: 継続教育の 取得単位 | B18: 団 体 名 | C18: (一社)全国土木施工管理技士会連合会 | E18: 年間 ユニット
C19: (公社)土木学会 | E19: 単位
C20: (公社)日本技術士会 | E20: 年間 ＣＰＤ時間
A21: 各建設管理部 優秀現場代理人表彰 | B21: 申請の有無 | E21: 申請する・申請しない ※申請しない場合、以下の欄は記載不要
C22: 他工事と兼任予定 | E22: あり・参加申請中・なし
C23: 兼任予定工事 | D23: 入札日
D24: 工事名
B25: 表彰年月日 | E25: 年 月 日
B26: 表彰機関名 | E26: 建設管理部
A28: 注１ 共同企業体で申請する場合は、構成員ごとに作成し提出すること。
A29: ２ 配置予定技術者を特定できない場合は、複数の候補者の中から、評価の合計が最も低い者を記入するこ と。（申請した配置予定技術者と実際の配置技術者が異なることは問題ないが、申請した配置予定技術者 の評価より実際の配置技術者の評価が下がる場合、減点の対象となるので注意すること。）
A32: ３ 記載内容を証明する資料として、資格を証する書面、ＣＰＤ受講証明書(学習履歴証明書等）及び表彰 状等の写しを併せて提出すること。
A34: ４ 優秀現場代理人表彰は、他の全道の建設管理部における表彰についても評価対象する。（なお、他工事
A35: と兼任する場合において、当建設管理部発注の兼任する他工事の総合評価で評価されている場合、また、
A36: 当工事の入札時点で他工事で評価され落札予定者となった場合は、当工事では評価しない。）
A37: ５ 優秀現場代理人表彰を申請する場合、他工事との兼任、工事名、工期を記入すること。（当建設管理部
A38: 発注の工事を記入） なお、他工事と兼任予定欄の「あり」は既発注工事、「参加申請中」は本様式提
A39: 出時点で他に兼任を予定している入札参加申請中の工事がある場合。
E41: （用紙寸法 日本工業規格Ａ４）

Sheet 様式-6-1（技術者の追加配置） 
A1: 様式－６－１
A2: 担い手の育成・確保調書（１）（技術者の追加配置）
A4: 工 事 名： | C4: ='様式-4-1（企業施工能力等調書）'!D5 -> 0
A5: 会社(構成員)名： | C5: ='様式-4-1（企業施工能力等調書）'!D6 -> 0
A7: 氏 名
A8: 生年月日 | E8: 年 月 日生
A9: 資格 | B9: 種類 | E9: 級 施工管理技士
B10: 取得年月日 | E10: 年 月 日
B11: 登録番号
B12: 種類
B13: 取得年月日 | E13: 年 月 日
B14: 登録番号
B15: 種類
B16: 取得年月日 | E16: 年 月 日
B17: 登録番号
A19: 注１ 共同企業体で申請する場合は、構成員ごとに作成し提出すること。
A20: ２ 追加技術者を特定できない場合や複数の場合は、複数の候補者の中から１名を記載すること。
A21: ３ 記載内容を証明する資料として、資格を証する書面の写しを提出すること。
A22: ４ 追加予定技術者を兼任させる（予定を含む）場合は、同一市町村に限って認めることとしているので、記載に当たっては留意すること。
E24: （用紙寸法 日本工業規格Ａ４）

Sheet 様式-6-2（担い手の育成・確保）（２）
B1: 様式－６－２ | M1: （※事前登録済みの会社（建設業の許可が大臣許可である場合を除く）は提出不要）
B3: 担い手の育成・確保調書（２）
B5: 工 事 名： | C5: ='様式-4-1（企業施工能力等調書）'!D5 -> 0
B6: 会社(構成員)名： | C6: ='様式-4-1（企業施工能力等調書）'!D6 -> 0
B8: ①若手職員の育成・確保
B10: ・技術者の３５歳未満の割合が１５％以上 | F10: （ 該当 | G10: ・ | H10: 非該当 | I10: ）
B11: ・３５歳未満の新規技術者の割合が１％以上 | F11: （ 該当 | G11: ・ | H11: 非該当 | I11: ）
B13: ※ 当該工事公告日時点で、直近の経営規模等評価結果通知書（総合評定値通知書）の写しを提出する。
B14: 上記通知書の記載
B16: ・若年技術職員の継続的な育成及び確保「該当」＝技術者の35歳未満の割合が15％以上
B17: ・新規若年技術職員の育成及び確保「該当」 ＝35歳未満の新規技術者の割合が1％以上
B19: ②技術職員総数の確保
B20: ・技術職員の総数の増減状況 | F20: １～２人減少 | H20: ３人減少
B21: （ | D21: 同数以上 | E21: ・ | F21: または | G21: ・ | H21: または | K21: ・ | L21: 左記非該当 | M21: ）
F22: 減少率 ４％以下 | H22: 減少率 ６％以下
B24: ※ 当該工事公告日時点で、直近の前の経営規模等評価結果通知書（総合評定値通知書）の写しを提出する。
B25: ・直近の前の経営規模等評価結果通知書（総合評定値通知書）と、①若手職員の育成・確保で提出された直近の経営 規模等評価結果通知書（総合評定値通知書）で確認する。
B28: （ア） 直近の経営規模等評価結果通知書 （総合評定値通知書）に記載されている技 術職員の総数 | E28: （イ） 直近の前の 経営規模等評価結果通知書（総合評定値通 知書）に記載されている技術職員の総数 | J28: （ウ）増減数 （増加･同数･減少 を囲み、 人数記入）
D30: 人 | H30: 人 | J30: 増加 | L30: =IF(AND(B30=0,E30=0),"",ABS(B30-E30)) | M30: 人
J31: 同数
J32: 減少
E33: (ウ)で減少の場合には、(エ)減少率を記入 ↓
F34: （エ）減少率 (ウ)／(イ) | L34: =IF(E30>B30,TRUNC(L30/E30*100),"") | M34: ％
F35: （パーセントの小数第一位を切り捨て、整数値を記入）
B36: 注１ 共同企業体で申請する場合は、構成員ごとに作成し提出すること。
B37: ２ 経営規模等評価結果通知書（総合評定値通知書）（以下「通知書」という。）に記載されて いる技術職員の総数は、通知書の「技術職員数」欄の最下段「合計」欄に記載された「一級、 監理補佐、基幹、二級、その他」の人数を集計した総数を記載すること。
B43: （用紙寸法 日本工業規格Ａ４）

Sheet 様式-6-3（担い手の育成・確保）（３）
B1: 様式－６－３ | G1: （※事前登録済みの会社は提出不要）
B3: 担い手の育成・確保調書（３）
B5: 工 事 名： | C5: ='様式-4-1（企業施工能力等調書）'!D5 -> 0
B6: 会社(構成員)名： | C6: ='様式-4-1（企業施工能力等調書）'!D6 -> 0
B9: 新規の雇用の申請の有無 （ 申請する ・ 申請しない ）
B10: ※申請とは、年１回、各建設管理部において申請ができることをいう。
B11: ※共同企業体の場合は、申請する会社名と適用する企業体名を記入。
B12: ※申請しない場合は、以下の欄は記載不要
B13: ※過去５年間において、学校教育法に定める高校、高専、大学、大学院、専修学校等や職業能力開発促進法に基づく公共職業能力開発施設を卒業・修了した者の雇用。また、過去５年間において、建設業の許可を受けている企業に従事していた離職者の雇用がある場合は、下欄に雇用者の氏名等を記入するとともに、雇用関係の判断できる資料を併せて提出する。
B17: 氏 名 | E17: 会 社 名
E18: 企業体名
B19: 生 年 月 日 | C19: 年 月 日生 | E19: 採用時点の年齢 | G19: 才
B20: 学卒者の雇用の場合 | C20: 卒業（修了） 学校名
C21: 卒業（修了）年月日 | D21: 年 月 日卒業（修了）
C22: 【提出資料】
C23: ①卒業（修了）証書又は卒業（修了）証明書の写し
C24: ②雇用契約書の写しなど、雇用契約の内容がわかる書面
C25: ③健康保険加入者：健康保険厚生年金被保険者資格取得確認通知書の写し＋健康保険厚生年金被保険者標準報酬決定通知書の写し
C27: ④健康保険未加入者：雇用保険被保険者資格取得等確認通知書の写し＋源泉徴収簿の写し
C29: ⑤３か月を超えて継続雇用されていることがわかる書面(賃金台帳の写しなど)注２
B30: 離職者の雇用の場合 | C30: 前会社名
C31: 【提出資料】
C32: ①解雇通知書又は離職証明書の写し
C33: ②雇用契約書の写しなど、雇用契約の内容がわかる書面
C34: ③健康保険加入者：健康保険厚生年金被保険者資格取得確認通知書の写し＋健康保険厚生年金被保険者標準報酬決定通知書の写し
C36: ④健康保険未加入者：雇用保険被保険者資格取得等確認通知書の写し＋源泉徴収簿の写し
C38: ⑤３か月を超えて継続雇用されていることがわかる書面(賃金台帳の写しなど)注２
B39: 注１ 共同企業体で申請する場合は、構成員ごとに作成し提出すること。
B40: ２ ３か月を超える継続雇用とは、基準日（令和８年度は、令和８年４月１日時点）において、３か月を超える雇用があることが必要なため、令和８年１月～３月の雇用継続ならびに基準日においても雇用を継続していることを証する書類が必要となるので、添付する書類に留意すること。
B41: （用紙寸法 日本工業規格Ａ４）

Sheet 様式-6-4（担い手の育成・確保）（４）
B1: 様式－６－４ | H1: （※事前登録済みの会社は提出不要）
B3: 担い手の育成・確保調書（４）
B5: 工 事 名： | C5: ='様式-4-1（企業施工能力等調書）'!D5 -> 0
B6: 会社(構成員)名： | C6: ='様式-4-1（企業施工能力等調書）'!D6 -> 0
B8: 雇用環境への取組の有無 （ あり ・ なし ）
B9: 種 類 | C9: ・｢建設雇用改善優良事業所表彰｣ ・｢通年雇用｣ ・｢奨学金に関する支援の取組｣
B12: ※北海道知事からの表彰がある場合は、下欄に表彰年月日を記入し、表彰を証明する資料（表彰状等の写し）を併せて提出する。
B14: ※｢通年雇用｣は「令和７・８年度の北海道建設工事等競争入札参加資格審査」における審査において評価された企業を評価。
B16: ※若年者雇用の取組として、職員の奨学金返還、又は学生等内定者へ奨学金給付の支援に取り組む企業を評価
B17: ①奨学金返還の支援(代理返還等)、又は奨学金支給（給付団体への出資を含む）を行っている、又は行う規定を設けていることが確認できる書類等(企業や奨学金給付団体等のホームページへの掲載、求人票、社内規定等)の写し（会社名の確認できない書類等は不可とする。）
B18: ②道内市町村の奨学金返還支援制度の認定(登録)企業となっていることが確認できる書類等(市町村のホームページへの掲載、市町村が発行する証明書(認定書、登録書)の写し
B19: ③独立行政法人日本学生支援機構(JASSO)のホームページの「企業の奨学金返還支援(代理返還)制度」に登載されていることが確認できる書類(HP の当該箇所等)の写し。
B20: 表彰年月日 | C20: 年 月 日 | F20: 表彰種別
B22: 仕事と家庭の両立支援の取組
B23: 種 類 | C23: ・「北海道働き方改革推進企業認定」の「仕事と子育て・介護等の両立」の取組
C24: （ あり ・ なし ）
C25: ・「北海道あったかファミリー応援企業」の認定 （ あり ・ なし ）
C26: ・次世代育成支援対策推進法に規定する「一般事業主行動計画」の策定
C27: （ あり ・ なし ）
B28: ※ 「北海道働き方改革推進企業認定」、｢北海道あったかファミリー応援企業｣による評価の場合は、認定
B29: 写しを提出すること。
B30: ※ 次世代育成支援対策推進法に基づく「一般事業主行動計画」による評価の場合は、策定届(変更届)の写
B31: しを提出すること。
B33: 注１ 共同企業体で申請する場合は、構成員ごとに作成し提出すること。
B35: （用紙寸法 日本工業規格Ａ４）

Sheet 様式-6-5（担い手の育成・確保）（5）
B1: 様式－６－５ | H1: （※事前登録済みの会社は提出不要）
B3: 担い手の育成・確保調書（５）
B5: 工 事 名： | C5: ='様式-4-1（企業施工能力等調書）'!D5 -> 0
B6: 会社(構成員)名： | C6: ='様式-4-1（企業施工能力等調書）'!D6 -> 0
B8: ＩＣＴ活用の取組
B9: 網走建設管理部発注の「ＩＣＴ活用モデル工事」を取組・完成した実績 （ あり ・ なし ）
B10: 入札年月日
B11: 工事番号
B12: 工事名
B13: 完成年月日
B15: 建設産業の普及啓発 | C15: （ あり ・ なし ）
B16: 令和７・８年度北海道建設工事等競争入札参加資格「建設産業の普及啓発」 （ あり ・ なし ）
B17: ※評価されている場合は下記の記入及び添付資料は不要とする。
B18: 就業体験等受入
B19: 学 校 名
B20: 現場見学会 建設工事 ＰＲイベント名 | C20: 現場見学会・建設工事ＰＲイベント
C21: （どちらかを○で囲んでください）
C22: 名称： △△工事現場見学会
C23: （主催者：赤レンガ建設（株））
B24: 実 施 期 間 | C24: 年 月 日 | E24: から | F24: 年 月 日 | G24: =IF(ISERROR(F24-C24>0),"まで（○日間）","まで（"&F24-C24&"日間）") -> まで（○日間）
B25: 説明者又はＰＲ | C25: 説明者：○名 （主な説明者氏名 ○○ ○○ ）
B26: イベント出席者 | C26: イベント出席者：○名
B27: ※実施内容が客観的に判断できる資料の写し（受入れ要望書、受入れ証明書、参加証明書など）
B29: 注１ 共同企業体で申請する場合は、構成員ごとに作成し提出すること。
B31: （用紙寸法 日本工業規格Ａ４）

Sheet 様式－７－１（地域の守り手確保等調書）
B1: 様式－７－１ | I1: （※事前登録済みの会社は提出不要）
B3: 地域の守り手確保等調書（１）
B5: 工 事 名： | C5: ='様式-4-1（企業施工能力等調書）'!D5 -> 0
B6: 会社(構成員)名： | C6: ='様式-4-1（企業施工能力等調書）'!D6 -> 0
B7: 主たる営業所の所在地 | C7: 営業所名 | F7: 住 所
B9: オホーツク総合振興局との災害協定の有無 （ あり ・ なし ）
B10: ※災害協定がある場合は協定書の写し及び建設業協会等の証明の写しを提出すること。
B12: 公共土木施設の維持管理の実績の有無
B13: （ 過去５年間にわたる実績 あり ・ なし ）
B14: 緊急時の応急措置の実績の有無
B15: （ 過去５年間の実績 あり ・ なし ）
B16: ※活動実績がある場合は、下欄にその内容を具体的に記入するとともに、活動内容及び活動時期が客観的に判断できる資料（契約書写し等)を併せて提出する。
C18: 年度 | D18: 業 務 名 | F18: 内 容
B19: 公共土木施設の 維持管理
B24: 緊急時の応急措置
B25: ※ 公共土木施設の維持管理の過去５年間にわたる実績は、年度ごとに記入する。
B27: 環境対策の認定制度等の有無 （ あり ・ なし ）
B28: ※認定（登録）を受けている場合は、下欄に種類、認定（登録）年月日及び認定（登録）期間の終了日を記入するとともに、認定（登録）を証明する資料（認定証書等の写し）を併せて提出する。（４種類のうちのいずれかで可）
C31: 「ＩＳＯ14001」・「北海道ｸﾞﾘｰﾝ･ﾋﾞｽﾞ認定制度「優良な取組」部門」・ＨＥＳ ・ ＥＡ２１
B32: 種類
B35: 認定(登録)年月日 | D35: 年 月 日 | E35: 期間の終了日 | G35: 年 月 日
B37: 技術者の技術力向上への取り組みの有無 （ あり ・ なし ）
B38: 令和７・８年度北海道建設工事等競争入札参加資格「技術者の育成」 （ あり ・ なし ）
B39: ※評価されている場合は下記の記入及び添付資料は不要とする。
B40: 講習・研修会等
B41: 実施年月日 | C41: 年 月 日
B42: 開催機関名
B43: 講習・研修内容（技術力向上のための研修等内容を具体的に記載すること）
B47: ※「平成３１・３２年度の北海道建設工事等競争入札参加資格審査」の審査において評価された企業を評価。
B48: ＊技術者の技術力向上への取り組み実績は、技術者の技術力向上目的とした技術講習会等の参加や資格の取得への企業のサポートについて、「人材育成確認申告書」（「平成３１・３２年度北海道建設工事等競争入札参加資格審査」の様式）にて確認（実績証明資料が必要）できた場合評価する。なお、評価対象期間は、２年前の４月１日から当該年申請直近までの実績とする。(平成３１年度の場合、平成２９年４月１日から平成３１年の申請締切まで)
B53: ※ 上記内容を確認できる書類の写しを添付
B55: 注１ 記入欄が不足する場合は、適宜、行を追加して作成することとし、用紙が複数枚となる場合は、用紙
B56: 右上余白に「全○葉の内○号」と記入すること。
B57: 注２ 共同企業体で申請する場合は、構成員ごとに作成し提出すること。
B58: （用紙寸法 日本工業規格Ａ４）

Sheet 様式－８（地域建設業経営環境評価調書）
C3: 様式－８
D5: 地域建設業経営環境評価調書
C7: 工事名 | K7: ： | L7: ='別記様式（技術評価項目申請書表紙）'!C20 -> 0
C8: 会社（構成員）名 | K8: ： | L8: ='様式-4-1（企業施工能力等調書）'!D6 -> 0
D10: ◎ | E10: 当該年度の末完成工事受注額
E11: ※ | F11: 元請として、当該建設管理部と契約を締結している工事のうち、当該工事の入札参加資格審査申請書等の申請書等の申請締切日の前日までに工事完成検査を実施していない工事（予定を含む。）の工事名、受注額等を下欄に記入する。なお、入札公告・契約等が年度末もしくは次年度当初となる工事においては、入札参加申請締切日前日時点の年度内完成予定の工事を当該年度の未完成工事から除外する。
C13: 工事 番号 | F13: 工 事 名 | U13: 受 注 者 名 （共同企業体名） | AA13: 工 期 | AI13: 共同企業体の場合の受注額（円） | AW13: 当該年度未完成工事 受注額（円） ※共同企業体の場合③を記入
AI14: 受注額（円） ① ※全体額を記入 | AN14: 出資比率 （請負比）② | AR14: 構成員としての受注額（円） ①×②＝③
AD15: ～ | AN15: =IF(ISERROR(AR15/AI15),"",AR15/AI15)
AD16: ～ | AN16: =IF(ISERROR(AR16/AI16),"",AR16/AI16)
AD17: ～ | AN17: =IF(ISERROR(AR17/AI17),"",AR17/AI17)
AD18: ～ | AN18: =IF(ISERROR(AR18/AI18),"",AR18/AI18)
AD19: ～ | AN19: =IF(ISERROR(AR19/AI19),"",AR19/AI19)
D21: ◎ | E21: 過去5か年度平均受注額 | Q21: 対象期間： | X21: （ | Y21: 令和 | AA21: 3 | AC21: 年 | AD21: 4 | AF21: 月 | AG21: 1 | AI21: 日 | AJ21: ～ | AK21: 令和 | AM21: 8 | AO21: 年 | AP21: 3 | AR21: 月 | AS21: 31 | AU21: 日 | AV21: ）
C22: 過去５か年度平均受注額（円） | T22: ='様式－８－２（過去５ヵ年度平均受注額内訳）'!L47 -> 0
C24: 注 | D24: 1 | F24: 共同企業体で申請する場合は、構成員ごとに作成し提出すること。
D25: 2 | F25: 共同企業体で施工中の工事における受注額は、各構成員の出資比率（請負比）により算出した金額とする。
F26: なお、算出にあたり１円未満の端数が生じた場合は、その端数を切り捨て円止めとする。
D27: 3 | F27: 過去５か年度平均受注額の各年度別受注額で、債務負担工事等の年度を超える工事における受注額は、当該年度の最終支払額とする。
F28: ただし、2・3月入札で工期末が次年度となるゼロ国、ゼロ道、翌債などの工事については、契約年度の受注額を0円とし、完成年度の受注額はその工事の最終支払額を計上し、計算を行う。
D29: 4 | F29: 過去５か年度平均受注額の算出にあたり１円未満の端数が生じた場合は、その端数を切り捨て円止めとする。
D30: 5 | F30: 記入欄が不足する場合は、適宜、行を追加して作成することとし、用紙が複数枚になる場合は、用紙右上余白に「全○葉の内○号」と記入すること。
D31: 6 | F31: 過去５か年度平均受注額の内訳を様式８－２に記載してください。
C32: （用紙寸法 日本工業規格Ａ４）

Sheet 様式－８－２（過去５ヵ年度平均受注額内訳）
A1: 様式－８－２ | K1: （※事前登録済みの会社は提出不要）
A2: 過去５か年度平均受注額内訳（R3.4.1～R8.3.31）
A4: 整理番号 | B4: 工事名 | C4: 工期 | J4: 最終請負金額 全体額（円） | K4: JV比率(%) | L4: 最終請負額 申請者分（円） | M4: 備考
A6: 1 | E6: 年 | G6: 月 | I6: 日から | L6: =J6*(K6/100) -> 0
E7: 年 | G7: 月 | I7: 日まで
A8: 2 | E8: 年 | G8: 月 | I8: 日から | L8: =J8*(K8/100) -> 0
E9: 年 | G9: 月 | I9: 日まで
A10: 3 | E10: 年 | G10: 月 | I10: 日から | L10: =J10*(K10/100) -> 0
E11: 年 | G11: 月 | I11: 日まで
A12: 4 | E12: 年 | G12: 月 | I12: 日から | L12: =J12*(K12/100) -> 0
E13: 年 | G13: 月 | I13: 日まで
A14: 5 | E14: 年 | G14: 月 | I14: 日から | L14: =J14*(K14/100) -> 0
E15: 年 | G15: 月 | I15: 日まで
A16: 6 | E16: 年 | G16: 月 | I16: 日から | L16: =J16*(K16/100) -> 0
E17: 年 | G17: 月 | I17: 日まで
A18: 7 | E18: 年 | G18: 月 | I18: 日から | L18: =J18*(K18/100) -> 0
E19: 年 | G19: 月 | I19: 日まで
A20: 8 | E20: 年 | G20: 月 | I20: 日から | L20: =J20*(K20/100) -> 0
E21: 年 | G21: 月 | I21: 日まで
A22: 9 | E22: 年 | G22: 月 | I22: 日から | L22: =J22*(K22/100) -> 0
E23: 年 | G23: 月 | I23: 日まで
A24: 10 | E24: 年 | G24: 月 | I24: 日から | L24: =J24*(K24/100) -> 0
E25: 年 | G25: 月 | I25: 日まで
A26: 11 | E26: 年 | G26: 月 | I26: 日から | L26: =J26*(K26/100) -> 0
E27: 年 | G27: 月 | I27: 日まで
A28: 12 | E28: 年 | G28: 月 | I28: 日から | L28: =J28*(K28/100) -> 0
E29: 年 | G29: 月 | I29: 日まで
A30: 13 | E30: 年 | G30: 月 | I30: 日から | L30: =J30*(K30/100) -> 0
E31: 年 | G31: 月 | I31: 日まで
A32: 14 | E32: 年 | G32: 月 | I32: 日から | L32: =J32*(K32/100) -> 0
E33: 年 | G33: 月 | I33: 日まで
A34: 15 | E34: 年 | G34: 月 | I34: 日から | L34: =J34*(K34/100) -> 0
E35: 年 | G35: 月 | I35: 日まで
A36: 16 | E36: 年 | G36: 月 | I36: 日から | L36: =J36*(K36/100) -> 0
E37: 年 | G37: 月 | I37: 日まで
A38: 17 | E38: 年 | G38: 月 | I38: 日から | L38: =J38*(K38/100) -> 0
E39: 年 | G39: 月 | I39: 日まで
A40: 18 | E40: 年 | G40: 月 | I40: 日から | L40: =J40*(K40/100) -> 0
E41: 年 | G41: 月 | I41: 日まで
A42: 19 | E42: 年 | G42: 月 | I42: 日から | L42: =J42*(K42/100) -> 0
...

Sheet 様式－９
C3: 様式－９
D4: 評価点事後審査方式 自己採点申請書 | S4: 工事名 | W4: ='別記様式（技術評価項目申請書表紙）'!C20 -> 0
S5: 会社（構成員）名
D7: 当該工事に関する、総合評価・技術評価事後審査方式に伴う得点申請書を提出します。 なお、内容については事実と相違ないことを誓約します。
D8: また、落札候補者となった際の発注者による確認において、申請した得点に錯誤があった場合は、その得点の上方修正は認められず、下方修正されることについて承諾いたします。
D9: なお、「減点項目」に該当する場合に、発注者で減点項目欄に減ずる得点を記入し修正することについて承諾いたします。
C12: 評価項目 | D12: 企業の施工能力 | I12: 配置予定技術者 | M12: 担い手の育成・確保 | U12: 地域の守り手確保 | AF12: 地域建設業経営環境評価 ※３ | AG12: 減点項目 | AI12: 技術点計
D13: 工事施行成績 ※１ | E13: 北海道建設部工事等優秀者表彰 | F13: 建設管理部優良企業表彰 | G13: ISOの取得 | H13: 地域精通度 | I13: 資格（配置予定技術者①）※２ | J13: 資格（配置予定技術者②／加点措置） | K13: CPDの取得 | L13: 現場代理人表彰 | M13: 技術者の追加配置 | N13: 技術職員の育成・確保 | O13: 選択項目 | U13: 地域の安全安心 | Y13: 地域経済 への波及 | AA13: 地域社会 貢献 | AC13: その他 | AG13: 重要な契約不適合に伴う修補（損害賠償）請求 | AH13: 技術評価項目の不履行
O14: 新規の雇用 | P14: 雇用環境取組 | Q14: 仕事と家庭の両立 | R14: 地域技能士 | S14: IＣＴ活用の取組 | T14: 建設産業への普及啓発の取り組み又は 生産性向上への取り組み | U14: 主たる営業所 | V14: 災害時の協力 | W14: 緊急時の応急 | X14: 公共土木施設の維持 | Y14: 地域企業活用 | Z14: 地域資材活用 | AA14: 多様な雇用 | AB14: 環境対策の認定 | AC14: 円滑な事業執行への貢献 | AD14: 人材確保又は育成への取り組み
C27: 得 点
F29: ※１ | H29: 工事施行成績の平均点は、次のとおりです。 | Q29: 点 | R29: （共同企業体の場合は、各構成員の工事施行成績平均点の単純平均とする。）
F30: ※２ | H30: 配置予定技術者の氏名は次のとおりです。 ※ 複数の候補者を想定している場合は、各候補者のうち評価の合計が最も低い者の得点及び名前を記載すること。
H31: 配置予定技術者①氏名
H32: 配置予定技術者②氏名 ※乙型JVの場合に記載しています。
F34: ※3 | H34: 経営環境評価の当該年度未完成工事受注額（分子）は、申請時点において、次により算出しています。なお、当該工事の開札までに、新たな受注があり、変更となる場合は、発注者が修正することに同意します。
H36: 当該年度未完成工事受注額（分子） | V36: 円 | W36: 評価比率
H37: 過去5か年度平均受注額（分母） | V37: 円
F38: （注） 共同企業体で申請する場合は、構成員ごとに製作するとともに、代表の構成員は、共同企業体の自己採点申請書を作成し提出すること。
AC39: （用紙寸法 日本工業規格Ａ４）

Sheet 様式ー８【別紙　留意事項】
A2: 様式－８ 【別紙 留意事項】
A4: 地域建設業経営環境評価調書の記載上の留意事項
A6: 【分母＜過去５か年度平均受注額＞について】
A7: ① 対象期間：令和3年4月1日から令和8年3月31日
A8: ② 対象工事： ①の期間に元請として、当該建設管理部と契約を締結した工事のうち、以下の工事を除く全ての工事を対象とする。
A9: ＜対象外工事＞ ・建設指導課発注工事、WTO対象工事
A10: ③ 債務負担工事等の年度を超える工事における受注額は、当該年度の最終支払額とする。
A11: ※ 実際の支払日（振込日）が事務処理上、新年度となっていても当該年度として計算する。
A12: ④ ③の工事のうち、2月～3月入札で工期末が次年度となる「ゼロ国」、「ゼロ道」、「翌債」などの工事は、以下のとおりとする。
A13: ・契約年度の受注額 ： 0円
A14: ・完成年度の受注額 ： 最終支払額
A15: ⑤ 平均受注額の算出で１円未満の端数が生じた場合は、その端数を切り捨て円止めとする。
... A32: ⑨ 共同企業体での未完成工事受注額については、出資比率により算出する。
