Workbook

Sheet 評価項目(標準)
M1: 土木一式工事（若手技術者登用促進のための試行工事） 【令和８年６月版】
B2: 簡易型Ｂ | D2: 総合評価方式評価項目一覧 【土木一式工事】 除算方式 | G2: 工事名： | I2: 主要地方道鈴鹿環状線（磯山バイパス）道路改良（側道・旧道処理）工事
B3: 大項目 | D3: 中項目 | E3: 小項目 | F3: 評価基準 | I3: 加算点 | L3: 様式 | M3: 評価内容等
I4: 配点 | J4: 小項目 配点 | K4: 大項目 配点
B5: 企 業 の 能 力 等 | C5: 地域精通度・貢献度 | D5: 地域精通度 | E5: 施工箇所地域における工事実績 | F5: 鈴鹿市内における工事実績あり | I5: 5 | J5: 5 | K5: =SUM(J5:J52) -> 98 | L5: 様式１ 様式２ | M5: 鈴鹿市内において、単独又は共同企業体構成員（出資比率20％以上に限る）の元請として受注し、令和５年度以降に完成し、かつ、引渡しが済んでいる契約金額５００万円以上の工事の実績の有無により評価します。 ・評価対象の工事実績は１件とし、コリンズに登録された公共機関等発注の工事に限ります。
F6: 工事実績なし | I6: 0
D7: 地域貢献度 | E7: 地域維持型維持修繕業務委託（雪氷業務）元請実績 | F7: 有 | I7: 5 | J7: 5 | M7: 令和６年度又は令和７年度における鈴鹿建設事務所発注の地域維持型維持修繕業務委託元請契約実績の有無により評価します。 ・地域維持型維持修繕業務委託元請契約実績は、建設共同企業体の代表者を含む全ての構成員を評価の対象とします。 ・ただし、乙型に関しては、地域維持型建設共同企業体協定書第８条に基づき、雪氷業務が分担する業務に含まれない場合は、評価の対象としません。
F8: 無 | I8: 0
E9: 地域維持型維持修繕業務委託（小規模業務）元請実績 | F9: 有 | I9: 5 | J9: 5 | M9: 令和６年度又は令和７年度における鈴鹿建設事務所発注の地域維持型維持修繕業務委託元請契約実績、または令和６年度下半期～令和８年度上半期における北勢流域下水道事務所発注の小規模修繕業務委託（鈴鹿管内）元請契約実績（土木系）の有無により評価します。 ・地域維持型維持修繕業務委託元請契約実績は、建設共同企業体の代表者を含む全ての構成員を評価の対象とします。 ・ただし、乙型に関しては、地域維持型建設共同企業体協定書第８条に基づき、小規模業務が分担する業務に含まれない場合は、評価の対象としません。
F10: 無 | I10: 0
E11: 公共施設美化活動実績 | F11: 有 | I11: 3 | J11: 3 | M11: 令和７年度又は令和８年度における鈴鹿建設事務所管内の公共施設美化活動の活動実績の有無により評価します。 ・「公共施設美化活動」とは、三重県県土整備部が定める住民参加に係る事業（河川・海岸美化ボランティア活動推進事業、道路美化ボランティア活動助成事業、フラワーオアシス推進事業、ふれあいの道事業）を指します。
F12: 無 | I12: 0
E13: 災害協定の評価 | F13: 災害協定に基づく訓練１への参加実績あり | I13: 9 | J13: 9 | M13: 「災害協定に基づく訓練１への参加実績」又は「災害協定に基づく訓練２への参加実績」又は「防災協定の締結実績」の有無により評価します。 【災害協定に基づく訓練１】 ・「災害協定」とは、鈴鹿建設事務所と締結した「地震・津波・風水害等の緊急時における運用協定」をいいます。 ・「災害協定に基づく訓練１の参加実績」は、「災害協定」に基づいた災害対応実動訓練及び情報伝達訓練への令和６年度又は令和７年度の参加実績を指します。 ・「災害対応実動訓練」は、以下の要件をすべて満たす場合に評価します。 ① 団体として５年以上継続した実動訓練実績があること。 ② 評価対象年度の実動訓練において、協定締結団体構成員のうち、鈴鹿建設事務所管内の構成員の半数以上が参加していること。 ③ ②で評価する参加企業については、Ａランク企業では代表者と１名以上の技術者、Ｂランク企業等では、１名以上の技術者が参加していること。 ・「情報伝達訓練」は、団体として５年以上の継続した訓練の実績がある場合に評価します。 【災害協定に基づく訓練２】 ・「災害協定」とは、鈴鹿建設事務所と締結した「地震・津波・風水害等の緊急時における運用協定」をいいます。 ・「災害協定に基づく訓練２の参加実績」は、「災害協定」に基づいた情報伝達訓練への令和６年度又は令和７年度の参加実績を指します。 ・「情報伝達訓練」は、団体として５年以上の継続した訓練の実績がある場合に評価します。 【防災協定の締結】 ・「防災協定」とは、「鈴鹿建設事務所管内の市町との防災協定」又は「三重県との防災協定」をいいます。 ・「鈴鹿建設事務所管内の市町との防災協定」については、「建設業のための広場」で公開している最新版の「経営事項審査申請の手引き」に記載された、協定書等に災害時の建設業者の活動義務が規定されている防災協定とします。 ・「三重県との防災協定」については、「技術資料作成上の留意事項」に記載した防災協定とします。 ・「防災協定の締結」は、令和６年度又は令和７年度の防災協定締結を評価の対象とします。対象期間以前の協定締結で、自動継続している協定は含みます。 ・「防災協定の締結」の評価は、鈴鹿建設事務所管内に「本店及び建設業法上の主たる営業所」又は「建設業法上の営業所」を有する企業に限ります。 ※「災害協定に基づく訓練１への参加実績」と「災害協定に基づく訓練２への参加実績」と「防災協定の締結実績」は重複して評価しません。
F14: 災害協定に基づく訓練２への参加実績あり | I14: 7
F15: 防災協定の締結実績あり | I15: 3
F16: 実績なし | I16: 0
C17: 社会貢献度 | D17: 社会貢献度 | E17: ① 男女共同参画活動実績 ② 障がい者雇用実績 ③ 人権に関する取組実績 ④ 「みえる・わかる・つながる！職業ポータルサイト」 Webページへの登録 ⑤ 現場見学会等の開催実績 ⑥ 不当要求防止責任者講習の受講実績 ⑦ 職場環境づくりの実績 | F17: 左欄の①～⑦のうち、該当する項目により得られる合計点数 | J17: 4 | M17: 下記の実績の該当する項目により得られる合計点数により評価します。 ①男女共同参画活動実績 女性の職業生活における活躍の推進に関する法律に基づく一般事業主行動計画を策定している場合に評価します。（１点） ②障がい者雇用実績 障害者の雇用の促進等に関する法律に基づく障がい者雇用の有無により評価します。（１点） ・法律により障がい者雇用が義務付けられている企業は、法定雇用率を達成している場合に評価します。 ・法律により障がい者雇用が義務付けられていない企業は、障がい者を雇用している場合に評価します。 ③人権に関する取組実績 「三重県が開催する人権に関する研修の受講実績」又は「職業安定法に基づく公正採用選考人権啓発推進員の設置」のいずれかの取組実績の有無により評価します。（１点） なお、「三重県が開催する人権に関する研修の受講実績」は、令和７年度から令和８年度の受講実績を評価の対象とします。 ・「三重県が開催する人権に関する研修の受講実績」と「職業安定法に基づく公正採用選考人権啓発推進員の設置」は重複して評価しません。 ④「みえる・わかる・つながる！職業ポータルサイト」Webページへの登録 ・当該工事の入札に参加する者が、「みえる・わかる・つながる！職業ポータルサイト」Webぺージにインターンシップ受入情報を登録している場合に評価します。（１点） ・Webページ登録項目のうち「所在地、業種、職種、受入対象、受入時期、受入人数」の項目が全て記載されている場合に評価します。 ⑤現場見学会等の開催実績 ・当該工事の入札に参加する者が、単独又は共同企業体構成員として受注した三重県内の工事において、小学校、中学校、高等学校等の教育機関を対象に社会に貢献する建設業の役割の理解や次世代を支える若者たちの建設業への興味や関心を高めることを目的として現場見学会を開催した場合、及び、同目的で出前講座、実習授業のいずれかを開催した場合に評価します。（１点） ・現場見学会、出前講座、実習授業は１０名以上を対象とした場合に評価します。ただし、１０名以上の参加が見込めない場合（小規模な学校や学校側との調整の結果参加者が１０名未満となった場合）は、１０名未満でも評価します。 ・令和３年度から当該工事の入札公告日までの開催実績を評価の対象とします。 ・評価対象の現場見学会の実績は、官民の別は問いません。 ⑥不当要求防止責任者講習の受講実績 当該工事の入札に参加する者が、不当要求防止責任者を選任し、三重県公安委員会（(公財)暴力追放三重県民センター）が開催する不当要求防止責任者講習の受講実績のある場合に評価します。（１点） なお、「不当要求防止責任者講習の受講実績」は、令和５年度から入札公告日までの受講実績を評価の対象とします。 ⑦職場環境づくりの実績 下記のいずれかの実績により評価します。 （１） 令和４年度以降に「ユースエール認定制度」に認定されたことがある。（２点） （２）「みえの働き方改革推進企業登録制度」に登録されている。（１点） ※（１）と（２）は重複して評価しません。
F18: ４点 | I18: 4
F19: ３点 | I19: 3
F20: ２点 | I20: 2
F21: １点 | I21: 1
F22: 実績（取得点）なし | I22: 0
E23: 県内企業による施工 | F23: 県内企業による施工の割合90％以上 | I23: 5 | J23: 5 | M23: 当該工事のうち、建設業法上の建設工事の県内企業による施工の割合により評価します。 ・県内企業とは、三重県内に「本店及び建設業法上の主たる営業所」を有する企業を指します。 ・元請直営施工、一次下請負及び二次下請負による施工を評価の対象とします。 県内企業による施工の割合 ＝ [ 契約金額(最終) － { 県外一次下請金額(最終) + 県外二次下請金額(最終) } ] ／ 契約金額(最終) ※当該工事を契約後、「建設工事請負契約書の特約事項」に基づき履行を確認します。
F24: 県内企業による施工の割合70％以上 | I24: 3
F25: 上記以外 | I25: 0
C26: 企業の雇用に関する取組 | D26: 担い手確保・育成への取組 | E26: 建設業者団体の取組実績 | F26: 取組の実績あり | I26: 2 | J26: 2 | M26: ・「建設業者団体」による担い手確保・育成への取組実績は、令和７年度から入札公告日までの取組を公共事業運営課が証明した場合に評価します。 ※「建設業者団体」とは、建設業法第27条の37で規定する団体を指します。 ・評価対象となる企業は、団体に属する企業とします。 ・取組実績とは、下記①～④のすべての実績をいいます。 ①ＳＮＳ（X等）を活用した建設業の魅力発信（現場見学会や実習授業等、団体取組の発信） ※対象年度内に24回以上更新 ②高校等教員との交流会の開催 ※評価の対象は県内すべての工業系高校教員を対象とした交流会、又は県内５つの地域(北勢・中南勢・伊勢志摩・伊賀・東紀州）のうち、いずれかの地域の工業系高校以外の高校等教員を対象とした交流会とします。) ③生徒・学生と女性技術者との交流会の開催（高校等の生徒、短期大学または大学の学生と建設企業の女性技術者との交流会） ④入職前の職業教育及び入職後の教育訓練の実施（就職内定者研修、新入社員研修など） ※「高校等」とは、高等学校、中等教育学校、特別支援学校及び高等専門学校をいいます。
F27: 取組の実績なし | I27: 0
E28: 建設業者団体地域組織の取組実績 | F28: 取組の実績あり | I28: 1 | J28: 1 | M28: ・「建設業者団体」の各地域組織（支部、ブロック等）による担い手確保・育成への取組実績は、令和６年度から入札公告日までの取組を公共事業運営課が証明した場合に評価します。 ※「建設業者団体」とは、建設業法第27条の37で規定する団体を指します。 ・評価対象となる企業は、「建設業者団体」の地域組織に属する企業とします。 ・取組実績とは、下記①～③のいずれかの実績をいいます。 ①現場見学会（大学、短期大学、高校等、中学校、小学校）（発注者と共同開催したものは除く） ②出前授業（大学、短期大学、高校等、中学校、小学校） ③実習授業（大学、短期大学、高校等） ※「高校等」とは、高等学校、中等教育学校、特別支援学校及び高等専門学校をいいます。 ※10名以上を対象とした場合に評価。ただし、10名以上の参加が見込めない場合（小規模な学校や学校側との調整の結果）は、参加者が10名未満でも評価します。
F29: 取組の実績なし | I29: 0
E30: 建設企業の取組実績 | F30: 取組の実績あり | I30: 1 | J30: 1 | M30: ・「建設企業」による担い手確保・育成への取組実績を評価します。 ・取組実績とは、下記①～④の取組のうち２つの実績をいいます。 ・取組①～③は、公告時点で社則等に規定されている場合に評価します。 ・取組④は、令和６年度から入札公告日までの受講実績を評価の対象とします。 ①キャリアパスの策定 ※技術職、技能職、事務職別に策定 ※役職、経験年数（目標年齢）、職務内容、必要とする資格や能力が記載されていること ②キャリアアップの支援（資格取得の支援制度） ※資格取得のための試験・研修の費用負担、技能や資格取得に伴う一時金や手当の支給、職場内での学習制度 ③福利厚生の充実（社員の安定した生活環境を確保するため、企業型DC、職場iDeCo、NISA（企業がNISA取扱業者と契約したものに限る。）のいずれかの制度を導入） ※資産を形成する私的年金や投資を企業がサポート（掛金の企業負担、年金制度の情報提供、投資を学べる機会の提供、給料天引きなど） ④ハラスメント研修の開催 ※「フレンテみえ」等が実施している企業向け研修の受講 ※研修には、従業員の半数以上かつ役員の半数以上が出席
F31: 取組の実績なし | I31: 0
C32: 企業の技術力等 | D32: 工事実績 | E32: 企業の工事実績 | F32: 評価対象工事①の実績あり | I32: 20 | J32: 20 | M32: 三重県内において、単独又は共同企業体構成員（出資比率20％以上に限る）の元請として受注し、平成２３年度以降に完成し、かつ、引渡しが済んでいる契約金額２，５００万円以上の評価対象工事の実績の有無により評価します。 ・「評価対象工事①」とは、土木一式工事で発注された、国道、県道、市町道の「道路改良工事」を指します。（農道、林道は含みません。） 「道路改良工事」には、歩道設置工事、交差点改良工事を含みますが、災害復旧工事及び維持修繕工事を除きます。 ・評価対象の工事実績は１件とし、コリンズに登録された公共機関等発注の工事に限ります。
F33: 評価対象工事の実績なし | I33: 0
D34: 工事成績 | E34: 申告工事成績点又は総合点 | F34: 申告工事成績点が８５点以上の場合 | I34: 20 | J34: 20 | M34: 【申告工事成績点】 次の①又は②を申告工事成績点とし、評価基準に記載の計算式１により評価します。ただし、申告工事成績点が８５点以上の場合は２０点、７５点未満の場合は１０点とします。 ①令和５年４月１日から当該工事の入札公告日までに三重県が通知（工事成績認定書）した土木一式工事の評定点のうち、申告された任意の件数（ｎ件）の合計に７５点を加え、ｎ＋１で割った値とする。ただし、申告できるのは10件までとします。 申告工事成績点 ＝（申告されたｎ件の評定点の合計＋７５）／（ｎ＋１）（小数第２位以下切り捨て） ②国土交通省中部地方整備局又は国土交通省近畿地方整備局が令和７年度に公表した工事成績評定平均点とします。 【総合点】 ①及び②が無い場合は、総合点を評価基準に記載の計算式２（小数第２位以下切り捨て）により評価します。ただし、総合点が９７０点以上の場合は１０点、８４０点未満の場合は０点とします。 ・総合点とは入札公告日において最新の三重県建設工事等入札参加資格者名簿に記載された総合点とします。 ・上記全てに該当がない場合の加算点は０点です。
F35: 申告工事成績点が７５点以上８５点未満の場合 計算式１ （申告工事成績点－７５点）＋１０点
I36: ～
F38: 申告工事成績点が７５点未満の場合 | I38: 10
F39: 総合点が９７０点以上の場合 | I39: 10
F40: 総合点が８４０点以上９７０点未満の場合 計算式２ （総合点－８４０）／（９７０－８４０）×１０
I41: ～
F43: 総合点が８４０点未満の場合 | I43: 0
D44: 品質 マネジメント | E44: 品質マネジメントシステムの認証 | F44: 有 | I44: 3 | J44: 3 | M44: 当該工事の入札に参加する者が、ISO9000Sの認証を取得している場合に評価します。
F45: 無 | I45: 0
D46: 労働安全 衛生管理 | E46: 労働安全衛生マネジメントシステムの認証 | F46: 有 | I46: 5 | J46: 5 | M46: 当該工事の入札に参加する者が、労働安全衛生マネジメントシステムガイドライン(建設業労働安全衛生マネジメントシステムガイドラインを含む）に沿った取組の認証を取得している場合に評価します。
F47: 無 | I47: 0
D48: 受注工事高 | E48: １級技術者１人あたりの公共機関等発注の 契約金額２千５百万円以上の土木一式工事の契約金額 | F48: ５千万円未満の場合 | I48: 10 | J48: 10 | M48: 受注工事高を評価基準に記載の計算式３により評価します。 ・受注工事高は、当初契約工期が当該年度の4月1日から当該工事の入札公告日までの期間を一部でも含む公共機関等発注の当初契約金額2千5百万円以上の土木一式工事を評価の対象とします。 受注工事高＝土木一式工事における契約金額／1級技術者数 （1円未満切り捨て） ・「土木一式工事」とはコリンズで土木一式工事として登録されている工事等をいいます。 ・「土木一式工事における契約金額」は、以下の計算式により算出した額（Ｐ）の合計とします。 Ｐ＝Ａ×Ｂ／Ｃ×Ｄ （1円未満切り捨て） Ａ：当初契約金額 Ｂ：当初契約における当該年度分の工期日数 Ｃ：当初契約における全体工期日数（受注した工事が余裕期間設定工事の場合、全体工期は契約工期（余裕期間も含めた工期）とします。） Ｄ：共同企業体工事の出資比率（単独工事の場合は、100%） ・「1級技術者数」は、当該業種（土木一式工事）に係る1級技術者とします。 ・三重県発注の小規模、雪氷、地域維持型維持修繕等の業務委託は、評価の対象としません。ただし、国土交通省発注の維持修繕工事や維持作業等、コリンズで土木一式工事として登録されている維持修繕工事は評価の対象とします。 ・加算点は、小数点以下切り捨てとします。 ・当該業種（土木一式工事）に係る1級技術者がいない場合の加算点は０点です。
F49: ５千万円以上１億５千万円未満の場合 計算式３ １０－〔受注工事高－５千万円〕×１０/１億円
I50: ～
F52: １億５千万円以上の場合 | I52: 0
B53: 技術者の能力 | C53: 技術者の能力 | D53: 配置予定技術者 のCPD （継続学習制度） 取組実績 | E53: 各団体が発行するCPDの取組実績 | F53: 換算後の単位数の合計が推奨単位以上 | I53: 5 | J53: 5 | K53: =SUM(J53) -> 5 | L53: 様式１ 様式３ | M53: 配置予定技術者が令和５年度から令和８年度に取得したＣＰＤ単位により評価します。 ・ＣＰＤ単位は、建設系ＣＰＤ協議会加盟団体で証明、認定されたものに限ります。ただし、当該工事が建築関係業種の場合は、建築ＣＰＤ運営会議の加盟団体を含みます。 ・申告は、加盟団体のうちいずれか１団体の取得単位に限ります。ただし、相互承認を受けたＣＰＤ単位は、申告する加盟団体以外であっても取得単位に含めることを可能とします。 ・１年間の推奨単位を設定していない団体のＣＰＤ単位は、評価の対象としません。 ・各年度の取得単位は、換算係数を乗じるものとします。（小数第４位以下切り捨て） ・換算係数は、令和５年度は１／４、令和６年度は１／２、令和７年度及び令和８年度は１とします。
F54: 換算後の単位数の合計が推奨単位の1/2以上 | I54: 3
F55: 換算後の単位数の合計が推奨単位の1/2未満 | I55: 0
B56: 技術提案等 | C56: 技術提案 (対策なし型) | D56: 特記課題 | E56: 工事を行ううえでの留意点 | F56: 各項目あたりの評価基準・加算点 | G56: 各項目 | I56: 60 (最大20点/項目×３項目) | J56: 60 | K56: =SUM(J56:J61) -> 60 | L56: 様式４ | M56: 当該工事は、主要地方道鈴鹿環状線（磯山バイパス）の側道整備及び旧道処理を行う工事です。 「項目１ 工程計画」、「項目２ 道路利用者の安全確保」、「項目３ 周辺環境への配慮」の３項目について、それぞれに工事を行ううえで考えられる留意点を３つ以内で、その理由を含めて記述してください。 ・これらの提案については、対策を求めていません。そのため履行義務はありません。
F57: 優れている | G57: 20
F58: 概ね優れている | G58: 15
F59: 良好である | G59: 10
F60: 概ね良好である | G60: 5
F61: 上記以外 | G61: 0
B62: 総合評価方式の不履行による 加算点の減点 | E62: 当該工事の入札公告日が、三重県が総合評価方式で発注した工事で不履行による減点措置が課されている期間内である場合、「技術提案等不履行確定通知書等」に記載した減点を行います。 | I62: △換算前 加算点満点 ×1割 ×件数 | L62: 様式１ | M62: 三重県が総合評価方式で発注した工事で、技術資料又は施工体制確認資料に記載された事項に不履行があった場合の減点は、次式により行います。 減点後の貴社の換算前加算点合計＝Ａ－（Ｂ×０．１×Ｃ） Ａ：貴社の換算前加算点合計 Ｂ：当該工事の換算前加算点満点 Ｃ：不履行工事件数 不履行工事件数とは、当該工事の入札公告日が「技術提案等不履行確定通知書」で通知された不履行による減点の対象となる期間内である工事の件数とします。
B63: 指名停止措置による 加算点の減点 | E63: 当該工事の入札公告日が、三重県発注工事にかかる贈賄、公契約関係競売等妨害又は談合により役員等又は使用人が逮捕、又は逮捕を経ないで公訴を提起されたことによる指名停止に伴う減点措置期間内である場合、減点を行います。 | I63: △換算前 加算点満点 ×1割 | L63: 様式１ | M63: 当該工事の入札公告日が、三重県発注工事にかかる贈賄、公契約関係競売等妨害又は談合により役員等又は使用人が逮捕、又は逮捕を経ないで公訴を提起されたことによる指名停止に伴う減点措置期間内である場合の減点は、次式により行います。 減点後の貴社の換算前加算点合計＝Ａ－（Ｂ×０．１） Ａ：貴社の換算前加算点合計 Ｂ：当該工事の換算前加算点満点 ※減点措置期間は指名停止期間の終了日の翌日から１年間とします。 なお、対象となる指名停止措置は、当該工事入札公告日の前年度４月１日から当該工事入札公告日までの期間に指名停止期間が１日でも重複するものとします。
I64: 換算前 加算点 満点 | J64: =SUM(K5:K61) -> 163 | M64: ※技術資料の作成方法及び提出資料は、「技術資料作成上の留意事項」を必ず確認してください。
I65: 加算点 満点 | J65: =IF(B2="簡易型Ａ",10,IF(B2="簡易型Ｂ",20,IF(B2="簡易型Ｃ",25,IF(B2="標準型",35,"型選択")))) -> 20
B67: 当該工事で、技術資料又は施工体制確認資料に記載の内容に不履行があった場合の取り扱い | E67: 当該工事の履行確認を伴う評価項目に不履行があった場合、「技術提案等不履行確定通知書」により不履行項目・不履行による減点の対象となる期間などを通知します。 「技術提案等不履行確定通知書」に記載した期間に三重県が総合評価方式で発注する工事（以下「発注工事」という。）で、「貴社の換算前加算点合計」から「発注工事の換算前加算点満点」の1割を減点します。 貴社が特定建設工事共同企業体又は経常建設共同企業体の構成員である場合も、「発注工事の換算前加算点満点」の１割を減点します。

Sheet 届出書
AA3: 令和 年 月 日
A5: 技 術 資 料 届 出 書
B9: 三重県知事 | H9: あて
O11: 住 所
O13: 会社名
O15: 代表者氏名
E18: 工 事 名 | F18: ： | G18: 令和8年度 防災安全・地 第 A010-38分0005号
G19: 主要地方道鈴鹿環状線（磯山バイパス）
G20: 道路改良（側道・旧道処理）工事
B25: 上記工事の技術資料を提出します。なお、地方自治法施行令（昭和22年政令第16号）
B26: 第167条の4の規定に該当する者でないこと並びに確認資料の内容は、事実と相違ない
B27: ことを誓約します。問い合わせ先は次のとおりです。
C30: 【問い合わせ先】
D31: 担当者 | G31: ： | H31: ○○ ○○
D32: 部 署 | G32: ： | H32: ○○本店 ○○部 ○○課
D33: 住 所 | G33: ： | H33: ○○県○○市○○
D34: 電話番号 | G34: ： | H34: ＊＊＊－＊＊＊＊－＊＊＊＊
D35: ＦＡＸ | G35: ： | H35: ＊＊＊－＊＊＊＊－＊＊＊＊
D36: Ｅ-mail | G36: ：

Sheet 様式１
B1: （様式１） 加算点申告書
F2: 会社名
B3: 大項目 | D3: 中項目 | E3: 小項目 | F3: 加算点 | G3: 評価基準 | J3: 各評価項目の 自己評価 | K3: 自己 加算点
G4: 配点 | H4: 基準
B5: 企 業 の 能 力 等 | C5: 地域精通度・貢献度 | D5: 地域精通度 | E5: =IF(+'評価項目(標準)'!E5="","",+'評価項目(標準)'!E5) -> 施工箇所地域における工事実績 | F5: =+IF(+'評価項目(標準)'!J5="","",+'評価項目(標準)'!J5) -> 5 | G5: =+IF(+'評価項目(標準)'!I5="","",+'評価項目(標準)'!I5) -> 5 | H5: =+IF(+'評価項目(標準)'!F5="","",+'評価項目(標準)'!F5) -> 鈴鹿市内における工事実績あり | K5: =IF(J5="","",IF(J5=H5,G5,IF(J5=H6,G6)))
G6: =+IF(+'評価項目(標準)'!I6="","",+'評価項目(標準)'!I6) -> 0 | H6: =+IF(+'評価項目(標準)'!F6="","",+'評価項目(標準)'!F6) -> 工事実績なし
D7: =IF(+'評価項目(標準)'!D7="","",+'評価項目(標準)'!D7) -> 地域貢献度 | E7: =IF(+'評価項目(標準)'!E7="","",+'評価項目(標準)'!E7) -> 地域維持型維持修繕業務委託（雪氷業務）元請実績 | F7: =+IF(+'評価項目(標準)'!J7="","",+'評価項目(標準)'!J7) -> 5 | G7: =+IF(+'評価項目(標準)'!I7="","",+'評価項目(標準)'!I7) -> 5 | H7: =+IF(+'評価項目(標準)'!F7="","",+'評価項目(標準)'!F7) -> 有 | K7: =IF(J7="","",IF(J7=H7,G7,IF(J7=H8,G8)))
G8: =+IF(+'評価項目(標準)'!I8="","",+'評価項目(標準)'!I8) -> 0 | H8: =+IF(+'評価項目(標準)'!F8="","",+'評価項目(標準)'!F8) -> 無
E9: =IF(+'評価項目(標準)'!E9="","",+'評価項目(標準)'!E9) -> 地域維持型維持修繕業務委託（小規模業務）元請実績 | F9: =+IF(+'評価項目(標準)'!J9="","",+'評価項目(標準)'!J9) -> 5 | G9: =+IF(+'評価項目(標準)'!I9="","",+'評価項目(標準)'!I9) -> 5 | H9: =+IF(+'評価項目(標準)'!F9="","",+'評価項目(標準)'!F9) -> 有 | K9: =IF(J9="","",IF(J9=H9,G9,IF(J9=H10,G10)))
G10: =+IF(+'評価項目(標準)'!I10="","",+'評価項目(標準)'!I10) -> 0 | H10: =+IF(+'評価項目(標準)'!F10="","",+'評価項目(標準)'!F10) -> 無
E11: =IF(+'評価項目(標準)'!E11="","",+'評価項目(標準)'!E11) -> 公共施設美化活動実績 | F11: =+IF(+'評価項目(標準)'!J11="","",+'評価項目(標準)'!J11) -> 3 | G11: =+IF(+'評価項目(標準)'!I11="","",+'評価項目(標準)'!I11) -> 3 | H11: =+IF(+'評価項目(標準)'!F11="","",+'評価項目(標準)'!F11) -> 有 | K11: =IF(J11="","",IF(J11=H11,G11,IF(J11=H12,G12)))
G12: =+IF(+'評価項目(標準)'!I12="","",+'評価項目(標準)'!I12) -> 0 | H12: =+IF(+'評価項目(標準)'!F12="","",+'評価項目(標準)'!F12) -> 無
E13: =IF(+'評価項目(標準)'!E13="","",+'評価項目(標準)'!E13) -> 災害協定の評価 | F13: =+IF(+'評価項目(標準)'!J13="","",+'評価項目(標準)'!J13) -> 9 | G13: =+IF(+'評価項目(標準)'!I13="","",+'評価項目(標準)'!I13) -> 9 | H13: =+IF(+'評価項目(標準)'!F13="","",+'評価項目(標準)'!F13) -> 災害協定に基づく訓練１への参加実績あり | K13: =IF(J13="","",VLOOKUP(J13,'評価項目(標準)'!F13:I16,4,FALSE))
G14: =+IF(+'評価項目(標準)'!I14="","",+'評価項目(標準)'!I14) -> 7 | H14: =+IF(+'評価項目(標準)'!F14="","",+'評価項目(標準)'!F14) -> 災害協定に基づく訓練２への参加実績あり
G15: =+IF(+'評価項目(標準)'!I15="","",+'評価項目(標準)'!I15) -> 3 | H15: =+IF(+'評価項目(標準)'!F15="","",+'評価項目(標準)'!F15) -> 防災協定の締結実績あり
G16: =+IF(+'評価項目(標準)'!I16="","",+'評価項目(標準)'!I16) -> 0 | H16: =+IF(+'評価項目(標準)'!F16="","",+'評価項目(標準)'!F16) -> 実績なし
C17: =IF(+'評価項目(標準)'!C17="","",+'評価項目(標準)'!C17) -> 社会貢献度 | D17: =IF(+'評価項目(標準)'!D17="","",+'評価項目(標準)'!D17) -> 社会貢献度 | E17: =IF(+'評価項目(標準)'!E17="","",+'評価項目(標準)'!E17) -> ① 男女共同参画活動実績 ② 障がい者雇用実績 ③ 人権に関する取組実績 ④ 「みえる・わかる・つながる！職業ポータルサイト」 Webページへの登録 ⑤ 現場見学会等の開催実績 ⑥ 不当要求防止責任者講習の受講実績 ⑦ 職場環境づくりの実績 | F17: =+IF(+'評価項目(標準)'!J17="","",+'評価項目(標準)'!J17) -> 4 | G17: 左欄の①～⑦のうち、該当する項目により得られる合計点数 | K17: =IF(J17="","",IF(J17=H18,G18,IF(J17=H19,G19,IF(J17=H20,G20,IF(J17=H21,G21,IF(J17=H22,G22))))))
G18: =+IF(+'評価項目(標準)'!I18="","",+'評価項目(標準)'!I18) -> 4 | H18: =+IF(+'評価項目(標準)'!F18="","",+'評価項目(標準)'!F18) -> ４点
G19: =+IF(+'評価項目(標準)'!I19="","",+'評価項目(標準)'!I19) -> 3 | H19: =+IF(+'評価項目(標準)'!F19="","",+'評価項目(標準)'!F19) -> ３点
G20: =+IF(+'評価項目(標準)'!I20="","",+'評価項目(標準)'!I20) -> 2 | H20: =+IF(+'評価項目(標準)'!F20="","",+'評価項目(標準)'!F20) -> ２点
G21: =+IF(+'評価項目(標準)'!I21="","",+'評価項目(標準)'!I21) -> 1 | H21: =+IF(+'評価項目(標準)'!F21="","",+'評価項目(標準)'!F21) -> １点
G22: =+IF(+'評価項目(標準)'!I22="","",+'評価項目(標準)'!I22) -> 0 | H22: =+IF(+'評価項目(標準)'!F22="","",+'評価項目(標準)'!F22) -> 実績（取得点）なし
E23: =IF(+'評価項目(標準)'!E23="","",+'評価項目(標準)'!E23) -> 県内企業による施工 | F23: =+IF(+'評価項目(標準)'!J23="","",+'評価項目(標準)'!J23) -> 5 | G23: =+IF(+'評価項目(標準)'!I23="","",+'評価項目(標準)'!I23) -> 5 | H23: =+IF(+'評価項目(標準)'!F23="","",+'評価項目(標準)'!F23) -> 県内企業による施工の割合90％以上 | K23: =IF(J23="","",VLOOKUP(J23,'評価項目(標準)'!F23:I25,4,FALSE))
G24: =+IF(+'評価項目(標準)'!I24="","",+'評価項目(標準)'!I24) -> 3 | H24: =+IF(+'評価項目(標準)'!F24="","",+'評価項目(標準)'!F24) -> 県内企業による施工の割合70％以上
G25: =+IF(+'評価項目(標準)'!I25="","",+'評価項目(標準)'!I25) -> 0 | H25: =+IF(+'評価項目(標準)'!F25="","",+'評価項目(標準)'!F25) -> 上記以外
C26: =IF(+'評価項目(標準)'!C26="","",+'評価項目(標準)'!C26) -> 企業の雇用に関する取組 | D26: =IF(+'評価項目(標準)'!D26="","",+'評価項目(標準)'!D26) -> 担い手確保・育成への取組 | E26: =IF(+'評価項目(標準)'!E26="","",+'評価項目(標準)'!E26) -> 建設業者団体の取組実績 | F26: =+IF(+'評価項目(標準)'!J26="","",+'評価項目(標準)'!J26) -> 2 | G26: =+IF(+'評価項目(標準)'!I26="","",+'評価項目(標準)'!I26) -> 2 | H26: =+IF(+'評価項目(標準)'!F26="","",+'評価項目(標準)'!F26) -> 取組の実績あり | K26: =IF(J26="","",IF(J26=H26,G26,IF(J26=H27,G27)))
G27: =+IF(+'評価項目(標準)'!I27="","",+'評価項目(標準)'!I27) -> 0 | H27: =+IF(+'評価項目(標準)'!F27="","",+'評価項目(標準)'!F27) -> 取組の実績なし
E28: =IF(+'評価項目(標準)'!E28="","",+'評価項目(標準)'!E28) -> 建設業者団体地域組織の取組実績 | F28: =+IF(+'評価項目(標準)'!J28="","",+'評価項目(標準)'!J28) -> 1 | G28: =+IF(+'評価項目(標準)'!I28="","",+'評価項目(標準)'!I28) -> 1 | H28: =+IF(+'評価項目(標準)'!F28="","",+'評価項目(標準)'!F28) -> 取組の実績あり | K28: =IF(J28="","",IF(J28=H28,G28,IF(J28=H29,G29)))
G29: =+IF(+'評価項目(標準)'!I29="","",+'評価項目(標準)'!I29) -> 0 | H29: =+IF(+'評価項目(標準)'!F29="","",+'評価項目(標準)'!F29) -> 取組の実績なし
E30: =IF(+'評価項目(標準)'!E30="","",+'評価項目(標準)'!E30) -> 建設企業の取組実績 | F30: =+IF(+'評価項目(標準)'!J30="","",+'評価項目(標準)'!J30) -> 1 | G30: =+IF(+'評価項目(標準)'!I30="","",+'評価項目(標準)'!I30) -> 1 | H30: =+IF(+'評価項目(標準)'!F30="","",+'評価項目(標準)'!F30) -> 取組の実績あり | K30: =IF(J30="","",IF(J30=H30,G30,IF(J30=H31,G31)))
G31: =+IF(+'評価項目(標準)'!I31="","",+'評価項目(標準)'!I31) -> 0 | H31: =+IF(+'評価項目(標準)'!F31="","",+'評価項目(標準)'!F31) -> 取組の実績なし
C32: =IF(+'評価項目(標準)'!C32="","",+'評価項目(標準)'!C32) -> 企業の技術力等 | D32: =IF(+'評価項目(標準)'!D32="","",+'評価項目(標準)'!D32) -> 工事実績 | E32: =IF(+'評価項目(標準)'!E32="","",+'評価項目(標準)'!E32) -> 企業の工事実績 | F32: =+IF(+'評価項目(標準)'!J32="","",+'評価項目(標準)'!J32) -> 20 | G32: =+IF(+'評価項目(標準)'!I32="","",+'評価項目(標準)'!I32) -> 20 | H32: =+IF(+'評価項目(標準)'!F32="","",+'評価項目(標準)'!F32) -> 評価対象工事①の実績あり | K32: =IF(J32="","",VLOOKUP(J32,'評価項目(標準)'!F32:I33,4,FALSE))
G33: =+IF(+'評価項目(標準)'!I33="","",+'評価項目(標準)'!I33) -> 0 | H33: =+IF(+'評価項目(標準)'!F33="","",+'評価項目(標準)'!F33) -> 評価対象工事の実績なし
D34: =IF(+'評価項目(標準)'!D34="","",+'評価項目(標準)'!D34) -> 工事成績 | E34: =IF(+'評価項目(標準)'!E34="","",+'評価項目(標準)'!E34) -> 申告工事成績点又は総合点 | F34: =+IF(+'評価項目(標準)'!J34="","",+'評価項目(標準)'!J34) -> 20 | G34: =IF(+'評価項目(標準)'!I34="","",+'評価項目(標準)'!I34) -> 20 | H34: =IF(+'評価項目(標準)'!F34="","",+'評価項目(標準)'!F34) -> 申告工事成績点が８５点以上の場合 | J34: 【申告工事成績点】 | K34: =IF(COUNTA(J37,J40)=0,"",IF(COUNTA(J37,J40)=2,"入力は【申告工事成績点】、【総合点】のいずれかにして下さい",IF(AND(COUNTA(J37)=1,J35=""),"いずれの【申告工事成績点】なのか、「三重県、中部地整、近畿地整」より選択してください",IF(J40>=970,10,IF(AND(J40<970,J40>=840),ROUNDDOWN((J40-840)/(970-840)*10,1),IF(J40<840,0,)))+IF(J37>=85,F34,IF(AND(J37<75,J37>=1),10,IF(AND(J37<85,J37>=75),(J37-75)+10))))))
G35: =IF(+'評価項目(標準)'!I35="","",+'評価項目(標準)'!I35) | H35: =IF(+'評価項目(標準)'!F35="","",+'評価項目(標準)'!F35) -> 申告工事成績点が７５点以上８５点未満の場合 計算式１ （申告工事成績点－７５点）＋１０点
G36: =IF(+'評価項目(標準)'!I36="","",+'評価項目(標準)'!I36) -> ～
G37: =IF(+'評価項目(標準)'!I37="","",+'評価項目(標準)'!I37)
G38: =IF(+'評価項目(標準)'!I38="","",+'評価項目(標準)'!I38) -> 10 | H38: =IF(+'評価項目(標準)'!F38="","",+'評価項目(標準)'!F38) -> 申告工事成績点が７５点未満の場合
D39: =IF(+'評価項目(標準)'!D44="","",+'評価項目(標準)'!D44) -> 品質 マネジメント | E39: =IF(+'評価項目(標準)'!E44="","",+'評価項目(標準)'!E44) -> 品質マネジメントシステムの認証 | G39: =IF(+'評価項目(標準)'!I39="","",+'評価項目(標準)'!I39) -> 10 | H39: =IF(+'評価項目(標準)'!F39="","",+'評価項目(標準)'!F39) -> 総合点が９７０点以上の場合 | J39: 【総合点】
G40: =IF(+'評価項目(標準)'!I40="","",+'評価項目(標準)'!I40) | H40: =IF(+'評価項目(標準)'!F40="","",+'評価項目(標準)'!F40) -> 総合点が８４０点以上９７０点未満の場合 計算式２ （総合点－８４０）／（９７０－８４０）×１０
G41: =IF(+'評価項目(標準)'!I41="","",+'評価項目(標準)'!I41) -> ～
G42: =IF(+'評価項目(標準)'!I42="","",+'評価項目(標準)'!I42)
G43: =IF(+'評価項目(標準)'!I43="","",+'評価項目(標準)'!I43) -> 0 | H43: =IF(+'評価項目(標準)'!F43="","",+'評価項目(標準)'!F43) -> 総合点が８４０点未満の場合
D44: =IF(+'評価項目(標準)'!D44="","",+'評価項目(標準)'!D44) -> 品質 マネジメント | E44: =IF(+'評価項目(標準)'!E44="","",+'評価項目(標準)'!E44) -> 品質マネジメントシステムの認証 | F44: =+IF(+'評価項目(標準)'!J44="","",+'評価項目(標準)'!J44) -> 3 | G44: =+IF(+'評価項目(標準)'!I44="","",+'評価項目(標準)'!I44) -> 3 | H44: =+IF(+'評価項目(標準)'!F44="","",+'評価項目(標準)'!F44) -> 有 | K44: =IF(J44="","",IF(J44=H44,G44,IF(J44=H45,G45)))
G45: =+IF(+'評価項目(標準)'!I45="","",+'評価項目(標準)'!I45) -> 0 | H45: =+IF(+'評価項目(標準)'!F45="","",+'評価項目(標準)'!F45) -> 無
D46: =IF(+'評価項目(標準)'!D46="","",+'評価項目(標準)'!D46) -> 労働安全 衛生管理 | E46: =IF(+'評価項目(標準)'!E46="","",+'評価項目(標準)'!E46) -> 労働安全衛生マネジメントシステムの認証 | F46: =+IF(+'評価項目(標準)'!J46="","",+'評価項目(標準)'!J46) -> 5 | G46: =+IF(+'評価項目(標準)'!I46="","",+'評価項目(標準)'!I46) -> 5 | H46: =IF(+'評価項目(標準)'!F46="","",+'評価項目(標準)'!F46) -> 有 | K46: =IF(J46="","",IF(J46=H46,G46,IF(J46=H47,G47)))
G47: =+IF(+'評価項目(標準)'!I47="","",+'評価項目(標準)'!I47) -> 0 | H47: =IF(+'評価項目(標準)'!F47="","",+'評価項目(標準)'!F47) -> 無
D48: =IF(+'評価項目(標準)'!D48="","",+'評価項目(標準)'!D48) -> 受注工事高 | E48: =IF(+'評価項目(標準)'!E48="","",+'評価項目(標準)'!E48) -> １級技術者１人あたりの公共機関等発注の 契約金額２千５百万円以上の土木一式工事の契約金額 | F48: =+IF(+'評価項目(標準)'!J48="","",+'評価項目(標準)'!J48) -> 10 | G48: =IF(+'評価項目(標準)'!I48="","",+'評価項目(標準)'!I48) -> 10 | H48: =IF(+'評価項目(標準)'!F48="","",+'評価項目(標準)'!F48) -> ５千万円未満の場合 | J48: 【受注工事高】 | K48: =IF(J49="","",IF(J49="－",0,IF(J49<50000000,F48,IF(J49<150000000,ROUNDDOWN(F48-((J49-50000000)*F48/100000000),0),IF(J49>=150000000,0)))))
G49: =IF(+'評価項目(標準)'!I49="","",+'評価項目(標準)'!I49) | H49: =IF(+'評価項目(標準)'!F49="","",+'評価項目(標準)'!F49) -> ５千万円以上１億５千万円未満の場合 計算式３ １０－〔受注工事高－５千万円〕×１０/１億円
G50: =IF(+'評価項目(標準)'!I50="","",+'評価項目(標準)'!I50) -> ～
G52: =IF(+'評価項目(標準)'!I51="","",+'評価項目(標準)'!I51)
G53: =IF(+'評価項目(標準)'!I52="","",+'評価項目(標準)'!I52) -> 0 | H53: =IF(+'評価項目(標準)'!F52="","",+'評価項目(標準)'!F52) -> １億５千万円以上の場合
B54: 技術者の能力 | C54: 技術者の能力 | D54: =IF(+'評価項目(標準)'!D53="","",+'評価項目(標準)'!D53) -> 配置予定技術者 のCPD （継続学習制度） 取組実績 | E54: =IF(+'評価項目(標準)'!E53="","",+'評価項目(標準)'!E53) -> 各団体が発行するCPDの取組実績 | F54: =+IF(+'評価項目(標準)'!J53="","",+'評価項目(標準)'!J53) -> 5 | G54: =+IF(+'評価項目(標準)'!I53="","",+'評価項目(標準)'!I53) -> 5 | H54: =+IF(+'評価項目(標準)'!F53="","",+'評価項目(標準)'!F53) -> 換算後の単位数の合計が推奨単位以上 | K54: =IF(J54="","",IF(J54=H54,G54,IF(J54=H55,G55,IF(J54=H56,G56))))
G55: =+IF(+'評価項目(標準)'!I54="","",+'評価項目(標準)'!I54) -> 3 | H55: =+IF(+'評価項目(標準)'!F54="","",+'評価項目(標準)'!F54) -> 換算後の単位数の合計が推奨単位の1/2以上
G56: =+IF(+'評価項目(標準)'!I55="","",+'評価項目(標準)'!I55) -> 0 | H56: =+IF(+'評価項目(標準)'!F55="","",+'評価項目(標準)'!F55) -> 換算後の単位数の合計が推奨単位の1/2未満
B57: =IF(+'評価項目(標準)'!B62="","",+'評価項目(標準)'!B62) -> 総合評価方式の不履行による 加算点の減点 | E57: =IF(+'評価項目(標準)'!E62="","",+'評価項目(標準)'!E62) -> 当該工事の入札公告日が、三重県が総合評価方式で発注した工事で不履行による減点措置が課されている期間内である場合、「技術提案等不履行確定通知書等」に記載した減点を行います。 | H57: =IF('評価項目(標準)'!I62="","",+'評価項目(標準)'!I62) -> △換算前 加算点満点 ×1割 ×件数 | K57: =IF(+J57="","",-(+'評価項目(標準)'!J64*0.1*J57))
B58: =IF(+'評価項目(標準)'!B63="","",+'評価項目(標準)'!B63) -> 指名停止措置による 加算点の減点 | E58: =IF(+'評価項目(標準)'!E63="","",+'評価項目(標準)'!E63) -> 当該工事の入札公告日が、三重県発注工事にかかる贈賄、公契約関係競売等妨害又は談合により役員等又は使用人が逮捕、又は逮捕を経ないで公訴を提起されたことによる指名停止に伴う減点措置期間内である場合、減点を行います。 | H58: =IF('評価項目(標準)'!I63="","",+'評価項目(標準)'!I63) -> △換算前 加算点満点 ×1割 | K58: =IF(+J58="","",-(+'評価項目(標準)'!J64*0.1))
J59: 合計 | K59: =SUM(K5:K58) -> 0
B61: 【記入上の注意】
B62: ・ | D62: 黄色着色のセルは、該当する数値を直接入力してください。加算点は、自動計算により表示されます。
B63: ・ | D63: 橙色着色のセルは、セル中から該当する項目を選択してください。加算点は、選択した内容に応じて自動で表示されます。
B64: ・ | C64: 評価項目及び評価基準の詳細については、「評価項目一覧」及び「技術資料作成上の留意事項」で確認してください。
B65: ・ | C65: このシートは「評価項目一覧」とリンクしています。自己加算点が表示されていない場合は評価しません。

Sheet 様式１【経常ＪＶ用】
B2: （様式１） 加算点申告書
F3: 会社名
B4: 大項目 | D4: 中項目 | E4: 小項目 | F4: 加算点 | G4: 評価基準 | J4: 構成員Ａの評価 | L4: 構成員Ｂの評価 | N4: 経常ＪＶの評価
G5: 配点 | H5: 基準 | J5: 各評価項目の 自己評価 | K5: 自己 加算点 | L5: 各評価項目の 自己評価 | M5: 自己 加算点
B6: 企 業 の 能 力 等 | C6: 地域精通度・貢献度 | D6: 地域精通度 | E6: =IF(+'評価項目(標準)'!E5="","",+'評価項目(標準)'!E5) -> 施工箇所地域における工事実績 | F6: =+IF(+'評価項目(標準)'!J5="","",+'評価項目(標準)'!J5) -> 5 | G6: =+IF(+'評価項目(標準)'!I5="","",+'評価項目(標準)'!I5) -> 5 | H6: =+IF(+'評価項目(標準)'!F5="","",+'評価項目(標準)'!F5) -> 鈴鹿市内における工事実績あり | K6: =IF(J6="","",IF(J6=H6,G6,IF(J6=H7,G7))) | M6: =IF(L6="","",IF(L6=H6,G6,IF(L6=H7,G7))) | N6: =IF(K6="","",IF(M6="","",ROUNDUP(AVERAGE(K6,M6),1)))
G7: =+IF(+'評価項目(標準)'!I6="","",+'評価項目(標準)'!I6) -> 0 | H7: =+IF(+'評価項目(標準)'!F6="","",+'評価項目(標準)'!F6) -> 工事実績なし
D8: =IF(+'評価項目(標準)'!D7="","",+'評価項目(標準)'!D7) -> 地域貢献度 | E8: =IF(+'評価項目(標準)'!E7="","",+'評価項目(標準)'!E7) -> 地域維持型維持修繕業務委託（雪氷業務）元請実績 | F8: =+IF(+'評価項目(標準)'!J7="","",+'評価項目(標準)'!J7) -> 5 | G8: =+IF(+'評価項目(標準)'!I7="","",+'評価項目(標準)'!I7) -> 5 | H8: =+IF(+'評価項目(標準)'!F7="","",+'評価項目(標準)'!F7) -> 有 | K8: =IF(J8="","",IF(J8=H8,G8,IF(J8=H9,G9))) | M8: =IF(L8="","",IF(L8=H8,G8,IF(L8=H9,G9))) | N8: =IF(K8="","",IF(M8="","",ROUNDUP(AVERAGE(K8,M8),1)))
G9: =+IF(+'評価項目(標準)'!I8="","",+'評価項目(標準)'!I8) -> 0 | H9: =+IF(+'評価項目(標準)'!F8="","",+'評価項目(標準)'!F8) -> 無
E10: =IF(+'評価項目(標準)'!E9="","",+'評価項目(標準)'!E9) -> 地域維持型維持修繕業務委託（小規模業務）元請実績 | F10: =+IF(+'評価項目(標準)'!J9="","",+'評価項目(標準)'!J9) -> 5 | G10: =+IF(+'評価項目(標準)'!I9="","",+'評価項目(標準)'!I9) -> 5 | H10: =+IF(+'評価項目(標準)'!F9="","",+'評価項目(標準)'!F9) -> 有 | K10: =IF(J10="","",IF(J10=H10,G10,IF(J10=H11,G11))) | M10: =IF(L10="","",IF(L10=H10,G10,IF(L10=H11,G11))) | N10: =IF(K10="","",IF(M10="","",ROUNDUP(AVERAGE(K10,M10),1)))
G11: =+IF(+'評価項目(標準)'!I10="","",+'評価項目(標準)'!I10) -> 0 | H11: =+IF(+'評価項目(標準)'!F10="","",+'評価項目(標準)'!F10) -> 無
E12: =IF(+'評価項目(標準)'!E11="","",+'評価項目(標準)'!E11) -> 公共施設美化活動実績 | F12: =+IF(+'評価項目(標準)'!J11="","",+'評価項目(標準)'!J11) -> 3 | G12: =+IF(+'評価項目(標準)'!I11="","",+'評価項目(標準)'!I11) -> 3 | H12: =+IF(+'評価項目(標準)'!F11="","",+'評価項目(標準)'!F11) -> 有 | K12: =IF(J12="","",IF(J12=H12,G12,IF(J12=H13,G13))) | M12: =IF(L12="","",IF(L12=H12,G12,IF(L12=H13,G13))) | N12: =IF(K12="","",IF(M12="","",ROUNDUP(AVERAGE(K12,M12),1)))
G13: =+IF(+'評価項目(標準)'!I12="","",+'評価項目(標準)'!I12) -> 0 | H13: =+IF(+'評価項目(標準)'!F12="","",+'評価項目(標準)'!F12) -> 無
E14: =IF(+'評価項目(標準)'!E13="","",+'評価項目(標準)'!E13) -> 災害協定の評価 | F14: =+IF(+'評価項目(標準)'!J13="","",+'評価項目(標準)'!J13) -> 9 | G14: =+IF(+'評価項目(標準)'!I13="","",+'評価項目(標準)'!I13) -> 9 | H14: =+IF(+'評価項目(標準)'!F13="","",+'評価項目(標準)'!F13) -> 災害協定に基づく訓練１への参加実績あり | K14: =IF(J14="","",VLOOKUP(J14,'評価項目(標準)'!F13:I16,4,FALSE)) | M14: =IF(L14="","",VLOOKUP(L14,'評価項目(標準)'!F13:I16,4,FALSE)) | N14: =IF(K14="","",IF(M14="","",ROUNDUP(AVERAGE(K14,M14),1)))
G15: =+IF(+'評価項目(標準)'!I14="","",+'評価項目(標準)'!I14) -> 7 | H15: =+IF(+'評価項目(標準)'!F14="","",+'評価項目(標準)'!F14) -> 災害協定に基づく訓練２への参加実績あり
G16: =+IF(+'評価項目(標準)'!I15="","",+'評価項目(標準)'!I15) -> 3 | H16: =+IF(+'評価項目(標準)'!F15="","",+'評価項目(標準)'!F15) -> 防災協定の締結実績あり
G17: =+IF(+'評価項目(標準)'!I16="","",+'評価項目(標準)'!I16) -> 0 | H17: =+IF(+'評価項目(標準)'!F16="","",+'評価項目(標準)'!F16) -> 実績なし
C18: =IF(+'評価項目(標準)'!C17="","",+'評価項目(標準)'!C17) -> 社会貢献度 | D18: =IF(+'評価項目(標準)'!D17="","",+'評価項目(標準)'!D17) -> 社会貢献度 | E18: =IF(+'評価項目(標準)'!E17="","",+'評価項目(標準)'!E17) -> ① 男女共同参画活動実績 ② 障がい者雇用実績 ③ 人権に関する取組実績 ④ 「みえる・わかる・つながる！職業ポータルサイト」 Webページへの登録 ⑤ 現場見学会等の開催実績 ⑥ 不当要求防止責任者講習の受講実績 ⑦ 職場環境づくりの実績 | F18: =+IF(+'評価項目(標準)'!J17="","",+'評価項目(標準)'!J17) -> 4 | G18: 左欄の①～⑦のうち、該当する項目により得られる合計点数 | K18: =IF(J18="","",IF(J18=H19,G19,IF(J18=H20,G20,IF(J18=H21,G21,IF(J18=H22,G22,IF(J18=H23,G23)))))) | M18: =IF(L18="","",IF(L18=H19,G19,IF(L18=H20,G20,IF(L18=H21,G21,IF(L18=H22,G22,IF(L18=H23,G23)))))) | N18: =IF(K18="","",IF(M18="","",ROUNDUP(AVERAGE(K18,M18),1)))
G19: =+IF(+'評価項目(標準)'!I18="","",+'評価項目(標準)'!I18) -> 4 | H19: =+IF(+'評価項目(標準)'!F18="","",+'評価項目(標準)'!F18) -> ４点
G20: =+IF(+'評価項目(標準)'!I19="","",+'評価項目(標準)'!I19) -> 3 | H20: =+IF(+'評価項目(標準)'!F19="","",+'評価項目(標準)'!F19) -> ３点
G21: =+IF(+'評価項目(標準)'!I20="","",+'評価項目(標準)'!I20) -> 2 | H21: =+IF(+'評価項目(標準)'!F20="","",+'評価項目(標準)'!F20) -> ２点
G22: =+IF(+'評価項目(標準)'!I21="","",+'評価項目(標準)'!I21) -> 1 | H22: =+IF(+'評価項目(標準)'!F21="","",+'評価項目(標準)'!F21) -> １点
G23: =+IF(+'評価項目(標準)'!I22="","",+'評価項目(標準)'!I22) -> 0 | H23: =+IF(+'評価項目(標準)'!F22="","",+'評価項目(標準)'!F22) -> 実績（取得点）なし
E24: =IF(+'評価項目(標準)'!E23="","",+'評価項目(標準)'!E23) -> 県内企業による施工 | F24: =+IF(+'評価項目(標準)'!J23="","",+'評価項目(標準)'!J23) -> 5 | G24: =+IF(+'評価項目(標準)'!I23="","",+'評価項目(標準)'!I23) -> 5 | H24: =+IF(+'評価項目(標準)'!F23="","",+'評価項目(標準)'!F23) -> 県内企業による施工の割合90％以上 | K24: =IF(J24="","",VLOOKUP(J24,'評価項目(標準)'!F23:I25,4,FALSE)) | L24: ― | M24: ― | N24: =K24
G25: =+IF(+'評価項目(標準)'!I24="","",+'評価項目(標準)'!I24) -> 3 | H25: =+IF(+'評価項目(標準)'!F24="","",+'評価項目(標準)'!F24) -> 県内企業による施工の割合70％以上
G26: =+IF(+'評価項目(標準)'!I25="","",+'評価項目(標準)'!I25) -> 0 | H26: =+IF(+'評価項目(標準)'!F25="","",+'評価項目(標準)'!F25) -> 上記以外
C27: =IF(+'評価項目(標準)'!C26="","",+'評価項目(標準)'!C26) -> 企業の雇用に関する取組 | D27: =IF(+'評価項目(標準)'!D26="","",+'評価項目(標準)'!D26) -> 担い手確保・育成への取組 | E27: =IF(+'評価項目(標準)'!E26="","",+'評価項目(標準)'!E26) -> 建設業者団体の取組実績 | F27: =+IF(+'評価項目(標準)'!J26="","",+'評価項目(標準)'!J26) -> 2 | G27: =+IF(+'評価項目(標準)'!I26="","",+'評価項目(標準)'!I26) -> 2 | H27: =+IF(+'評価項目(標準)'!F26="","",+'評価項目(標準)'!F26) -> 取組の実績あり | K27: =IF(J27="","",IF(J27=H27,G27,IF(J27=H28,G28))) | M27: =IF(L27="","",IF(L27=H27,G27,IF(L27=H28,G28))) | N27: =IF(K27="","",IF(M27="","",ROUNDUP(AVERAGE(K27,M27),1)))
G28: =+IF(+'評価項目(標準)'!I27="","",+'評価項目(標準)'!I27) -> 0 | H28: =+IF(+'評価項目(標準)'!F27="","",+'評価項目(標準)'!F27) -> 取組の実績なし
E29: =IF(+'評価項目(標準)'!E28="","",+'評価項目(標準)'!E28) -> 建設業者団体地域組織の取組実績 | F29: =+IF(+'評価項目(標準)'!J28="","",+'評価項目(標準)'!J28) -> 1 | G29: =+IF(+'評価項目(標準)'!I28="","",+'評価項目(標準)'!I28) -> 1 | H29: =+IF(+'評価項目(標準)'!F28="","",+'評価項目(標準)'!F28) -> 取組の実績あり | K29: =IF(J29="","",IF(J29=H29,G29,IF(J29=H30,G30))) | M29: =IF(L29="","",IF(L29=H29,G29,IF(L29=H30,G30))) | N29: =IF(K29="","",IF(M29="","",ROUNDUP(AVERAGE(K29,M29),1)))
G30: =+IF(+'評価項目(標準)'!I29="","",+'評価項目(標準)'!I29) -> 0 | H30: =+IF(+'評価項目(標準)'!F29="","",+'評価項目(標準)'!F29) -> 取組の実績なし
E31: =IF(+'評価項目(標準)'!E30="","",+'評価項目(標準)'!E30) -> 建設企業の取組実績 | F31: =+IF(+'評価項目(標準)'!J30="","",+'評価項目(標準)'!J30) -> 1 | G31: =+IF(+'評価項目(標準)'!I30="","",+'評価項目(標準)'!I30) -> 1 | H31: =+IF(+'評価項目(標準)'!F30="","",+'評価項目(標準)'!F30) -> 取組の実績あり | K31: =IF(J31="","",IF(J31=H31,G31,IF(J31=H32,G32))) | M31: =IF(L31="","",IF(L31=H31,G31,IF(L31=H32,G32))) | N31: =IF(K31="","",IF(M31="","",ROUNDUP(AVERAGE(K31,M31),1)))
G32: =+IF(+'評価項目(標準)'!I31="","",+'評価項目(標準)'!I31) -> 0 | H32: =+IF(+'評価項目(標準)'!F31="","",+'評価項目(標準)'!F31) -> 取組の実績なし
C33: =IF(+'評価項目(標準)'!C32="","",+'評価項目(標準)'!C32) -> 企業の技術力等 | D33: =IF(+'評価項目(標準)'!D32="","",+'評価項目(標準)'!D32) -> 工事実績 | E33: =IF(+'評価項目(標準)'!E32="","",+'評価項目(標準)'!E32) -> 企業の工事実績 | F33: =+IF(+'評価項目(標準)'!J32="","",+'評価項目(標準)'!J32) -> 20 | G33: =+IF(+'評価項目(標準)'!I32="","",+'評価項目(標準)'!I32) -> 20 | H33: =+IF(+'評価項目(標準)'!F32="","",+'評価項目(標準)'!F32) -> 評価対象工事①の実績あり | K33: =IF(J33="","",VLOOKUP(J33,'評価項目(標準)'!F32:I33,4,FALSE)) | M33: =IF(L33="","",VLOOKUP(L33,'評価項目(標準)'!F32:I33,4,FALSE)) | N33: =IF(K33="","",IF(M33="","",ROUNDUP(AVERAGE(K33,M33),1)))
G34: =+IF(+'評価項目(標準)'!I33="","",+'評価項目(標準)'!I33) -> 0 | H34: =+IF(+'評価項目(標準)'!F33="","",+'評価項目(標準)'!F33) -> 評価対象工事の実績なし
D35: =IF(+'評価項目(標準)'!D34="","",+'評価項目(標準)'!D34) -> 工事成績 | E35: =IF(+'評価項目(標準)'!E34="","",+'評価項目(標準)'!E34) -> 申告工事成績点又は総合点 | F35: =+IF(+'評価項目(標準)'!J34="","",+'評価項目(標準)'!J34) -> 20 | G35: =IF(+'評価項目(標準)'!I34="","",+'評価項目(標準)'!I34) -> 20 | H35: =IF(+'評価項目(標準)'!F34="","",+'評価項目(標準)'!F34) -> 申告工事成績点が８５点以上の場合 | J35: 【申告工事成績点】 | K35: =IF(COUNTA(J38,J41)=0,"",IF(COUNTA(J38,J41)=2,"入力は【申告工事成績点】、【総合点】のいずれかにして下さい",IF(AND(COUNTA(J38)=1,J36=""),"いずれの【申告工事成績点】なのか、「三重県、中部地整、近畿地整」より選択してください",IF(J41>=970,10,IF(AND(J41<970,J41>=840),ROUNDDOWN((J41-840)/(970-840)*10,1),IF(J41<840,0,)))+IF(J38>=85,F35,IF(AND(J38<75,J38>=1),10,IF(AND(J38<85,J38>=75),(J38-75)+10)))))) | L35: 【申告工事成績点】 | M35: =IF(COUNTA(L38,L41)=0,"",IF(COUNTA(L38,L41)=2,"入力は【申告工事成績点】、【総合点】のいずれかにして下さい",IF(AND(COUNTA(L38)=1,L36=""),"いずれの【申告工事成績点】なのか、「三重県、中部地整、近畿地整」より選択してください",IF(L41>=970,10,IF(AND(L41<970,L41>=840),ROUNDDOWN((L41-840)/(970-840)*10,1),IF(L41<840,0,)))+IF(L38>=85,F35,IF(AND(L38<75,L38>=1),10,IF(AND(L38<85,L38>=75),(L38-75)+10)))))) | N35: =IF(K35="","",IF(M35="","",ROUNDUP(AVERAGE(K35,M35),1)))
G36: =IF(+'評価項目(標準)'!I35="","",+'評価項目(標準)'!I35) | H36: =IF(+'評価項目(標準)'!F35="","",+'評価項目(標準)'!F35) -> 申告工事成績点が７５点以上８５点未満の場合 計算式１ （申告工事成績点－７５点）＋１０点
G37: =IF(+'評価項目(標準)'!I36="","",+'評価項目(標準)'!I36) -> ～ | N37: =K37 -> 0
G38: =IF(+'評価項目(標準)'!I37="","",+'評価項目(標準)'!I37)
G39: =IF(+'評価項目(標準)'!I38="","",+'評価項目(標準)'!I38) -> 10 | H39: =IF(+'評価項目(標準)'!F38="","",+'評価項目(標準)'!F38) -> 申告工事成績点が７５点未満の場合 | N39: =K39 -> 0
D40: =IF(+'評価項目(標準)'!D49="","",+'評価項目(標準)'!D49) | E40: =IF(+'評価項目(標準)'!E49="","",+'評価項目(標準)'!E49) | G40: =IF(+'評価項目(標準)'!I39="","",+'評価項目(標準)'!I39) -> 10 | H40: =IF(+'評価項目(標準)'!F39="","",+'評価項目(標準)'!F39) -> 総合点が９７０点以上の場合 | J40: 【総合点】 | L40: 【総合点】
G41: =IF(+'評価項目(標準)'!I40="","",+'評価項目(標準)'!I40) | H41: =IF(+'評価項目(標準)'!F40="","",+'評価項目(標準)'!F40) -> 総合点が８４０点以上９７０点未満の場合 計算式２ （総合点－８４０）／（９７０－８４０）×１０ | N41: =K41 -> 0
G42: =IF(+'評価項目(標準)'!I41="","",+'評価項目(標準)'!I41) -> ～
G43: =IF(+'評価項目(標準)'!I42="","",+'評価項目(標準)'!I42) | N43: =K43 -> 0
G44: =IF(+'評価項目(標準)'!I43="","",+'評価項目(標準)'!I43) -> 0 | H44: =IF(+'評価項目(標準)'!F43="","",+'評価項目(標準)'!F43) -> 総合点が８４０点未満の場合
D45: =IF(+'評価項目(標準)'!D44="","",+'評価項目(標準)'!D44) -> 品質 マネジメント | E45: =IF(+'評価項目(標準)'!E44="","",+'評価項目(標準)'!E44) -> 品質マネジメントシステムの認証 | F45: =+IF(+'評価項目(標準)'!J44="","",+'評価項目(標準)'!J44) -> 3 | G45: =+IF(+'評価項目(標準)'!I44="","",+'評価項目(標準)'!I44) -> 3 | H45: =+IF(+'評価項目(標準)'!F44="","",+'評価項目(標準)'!F44) -> 有 | K45: =IF(J45="","",IF(J45=H45,G45,IF(J45=H46,G46))) | M45: =IF(L45="","",IF(L45=H45,G45,IF(L45=H46,G46))) | N45: =IF(K45="","",IF(M45="","",ROUNDUP(AVERAGE(K45,M45),1)))
G46: =+IF(+'評価項目(標準)'!I45="","",+'評価項目(標準)'!I45) -> 0 | H46: =+IF(+'評価項目(標準)'!F45="","",+'評価項目(標準)'!F45) -> 無
D47: =IF(+'評価項目(標準)'!D46="","",+'評価項目(標準)'!D46) -> 労働安全 衛生管理 | E47: =IF(+'評価項目(標準)'!E46="","",+'評価項目(標準)'!E46) -> 労働安全衛生マネジメントシステムの認証 | F47: =+IF(+'評価項目(標準)'!J46="","",+'評価項目(標準)'!J46) -> 5 | G47: =+IF(+'評価項目(標準)'!I46="","",+'評価項目(標準)'!I46) -> 5 | H47: =IF(+'評価項目(標準)'!F46="","",+'評価項目(標準)'!F46) -> 有 | K47: =IF(J47="","",IF(J47=H47,G47,IF(J47=H48,G48))) | M47: =IF(L47="","",IF(L47=H47,G47,IF(L47=H48,G48))) | N47: =IF(K47="","",IF(M47="","",ROUNDUP(AVERAGE(K47,M47),1)))
G48: =+IF(+'評価項目(標準)'!I47="","",+'評価項目(標準)'!I47) -> 0 | H48: =IF(+'評価項目(標準)'!F47="","",+'評価項目(標準)'!F47) -> 無
D49: =IF(+'評価項目(標準)'!D48="","",+'評価項目(標準)'!D48) -> 受注工事高 | E49: =IF(+'評価項目(標準)'!E48="","",+'評価項目(標準)'!E48) -> １級技術者１人あたりの公共機関等発注の 契約金額２千５百万円以上の土木一式工事の契約金額 | F49: =+IF(+'評価項目(標準)'!J48="","",+'評価項目(標準)'!J48) -> 10 | G49: =IF(+'評価項目(標準)'!I48="","",+'評価項目(標準)'!I48) -> 10 | H49: =IF(+'評価項目(標準)'!F48="","",+'評価項目(標準)'!F48) -> ５千万円未満の場合 | J49: 【受注工事高】 | K49: =IF(J50="","",IF(J50="－",0,IF(J50<50000000,F49,IF(J50<150000000,ROUNDDOWN(F49-((J50-50000000)*F49/100000000),0),IF(J50>=150000000,0))))) | L49: 【受注工事高】 | M49: =IF(L50="","",IF(L50="－",0,IF(L50<50000000,F49,IF(L50<150000000,ROUNDDOWN(F49-((L50-50000000)*F49/100000000),0),IF(L50>=150000000,0))))) | N49: =IF(K49="","",IF(M49="","",ROUNDUP(AVERAGE(K49,M49),1)))
G50: =IF(+'評価項目(標準)'!I49="","",+'評価項目(標準)'!I49) | H50: =IF(+'評価項目(標準)'!F49="","",+'評価項目(標準)'!F49) -> ５千万円以上１億５千万円未満の場合 計算式３ １０－〔受注工事高－５千万円〕×１０/１億円
G51: =IF(+'評価項目(標準)'!I50="","",+'評価項目(標準)'!I50) -> ～
G53: =IF(+'評価項目(標準)'!I51="","",+'評価項目(標準)'!I51)
G54: =IF(+'評価項目(標準)'!I52="","",+'評価項目(標準)'!I52) -> 0 | H54: =IF(+'評価項目(標準)'!F52="","",+'評価項目(標準)'!F52) -> １億５千万円以上の場合
B55: 技術者の能力 | C55: 技術者の能力 | D55: =IF(+'評価項目(標準)'!D53="","",+'評価項目(標準)'!D53) -> 配置予定技術者 のCPD （継続学習制度） 取組実績 | E55: =IF(+'評価項目(標準)'!E53="","",+'評価項目(標準)'!E53) -> 各団体が発行するCPDの取組実績 | F55: =+IF(+'評価項目(標準)'!J53="","",+'評価項目(標準)'!J53) -> 5 | G55: =+IF(+'評価項目(標準)'!I53="","",+'評価項目(標準)'!I53) -> 5 | H55: =+IF(+'評価項目(標準)'!F53="","",+'評価項目(標準)'!F53) -> 換算後の単位数の合計が推奨単位以上 | K55: =IF(J55="","",IF(J55=H55,G55,IF(J55=H56,G56,IF(J55=H57,G57)))) | M55: =IF(L55="","",IF(L55=H55,G55,IF(L55=H56,G56,IF(L55=H57,G57)))) | N55: =IF(K55="","",IF(M55="","",ROUNDUP(AVERAGE(K55,M55),1)))
G56: =+IF(+'評価項目(標準)'!I54="","",+'評価項目(標準)'!I54) -> 3 | H56: =+IF(+'評価項目(標準)'!F54="","",+'評価項目(標準)'!F54) -> 換算後の単位数の合計が推奨単位の1/2以上
G57: =+IF(+'評価項目(標準)'!I55="","",+'評価項目(標準)'!I55) -> 0 | H57: =+IF(+'評価項目(標準)'!F55="","",+'評価項目(標準)'!F55) -> 換算後の単位数の合計が推奨単位の1/2未満
B58: =IF(+'評価項目(標準)'!B62="","",+'評価項目(標準)'!B62) -> 総合評価方式の不履行による 加算点の減点 | E58: =IF(+'評価項目(標準)'!E62="","",+'評価項目(標準)'!E62) -> 当該工事の入札公告日が、三重県が総合評価方式で発注した工事で不履行による減点措置が課されている期間内である場合、「技術提案等不履行確定通知書等」に記載した減点を行います。 | H58: =IF('評価項目(標準)'!I62="","",+'評価項目(標準)'!I62) -> △換算前 加算点満点 ×1割 ×件数 | K58: =IF(+J58="",0,-(+'評価項目(標準)'!J64*0.1*J58)) -> 0 | M58: =IF(+L58="",0,-(+'評価項目(標準)'!J64*0.1*L58)) -> 0 | N58: =IF(K58+M58=0,"",K58+M58)
B59: 指名停止措置による加算点の減点 | E59: 当該工事の入札公告日が、三重県発注工事にかかる贈賄、公契約関係競売等妨害又は談合により役員等又は使用人が逮捕、又は逮捕を経ないで公訴を提起されたことによる指名停止に伴うペナルティ期間内である場合、減点を行います。 | H59: △換算前 加算点満点 ×1割 | N59: =IF(J59+L59>0,-('評価項目(標準)'!J64*0.1),"")
M60: 合計 | N60: =ROUNDDOWN(SUM(N6:N57),0)+SUM(N58:N59) -> 0
B62: 【記入上の注意】
B63: ・ | D63: 黄色着色のセルは、該当する数値を直接入力してください。加算点は、自動計算により表示されます。
B64: ・ | D64: 橙色着色のセルは、セル中から該当する項目を選択してください。加算点は、選択した内容に応じて自動で表示されます。
B65: ・ | C65: 評価項目及び評価基準の詳細については、「評価項目一覧」及び「技術資料作成上の留意事項」で確認してください。
B66: ・ | C66: このシートは「評価項目一覧」とリンクしています。自己加算点が表示されていない場合は評価しません。

Sheet 様式２
A1: （様式２） 地域精通度・社会貢献度・企業の技術力等に関する技術資料 | AJ1: ※本頁は（様式２）の注意事項となっています。提出の必要はありません。
O2: 会社名
A3: 【地域精通度】 | AJ3: 【地域精通度の注意事項】
A5: 施工箇所地域 における 工事実績 | E5: コリンズ登録番号
E6: 工事名称
G9: 【社会貢献度】 | AJ9: 【社会貢献度の注意事項】
AD10: 評価対象 | AG10: 実績
A11: 社会貢献度 | E11: ① | F11: 男女共同参画活動実績の有無 | AJ11: 注1： | AL11: 評価対象として届け出る項目に「○」をプルダウンで選択してください。（最大４点）
E12: ② | F12: 障がい者雇用実績の有無
E13: ③ | F13: 人権に関する取組実績の有無（人権研修の受講実績又は公正採用選考人権啓発推進員の設置） | AJ13: 注2： | AL13: 各項目で実績の有無をプルダウンで選択してください。
E14: ④ | F14: 「みえる・わかる・つながる！職業ポータルサイト」Webページへの登録
E15: ⑤ | F15: 現場見学会等の開催実績
E16: ⑥ | F16: 不当要求防止責任者講習の受講実績
E17: ⑦ | F17: 「ユースエール認定制度」認定実績
F18: 「みえの働き方改革推進企業登録制度」登録実績
G19: 【企業の雇用に関する取組】 | AJ19: 【企業の雇用に関する取組】
AD20: 評価対象 | AG20: 実績
A21: 建設企業の 取組実績 | E21: ① | F21: キャリアパスの策定 | AJ21: 注1： | AL21: 評価対象として届け出る項目に「○」をプルダウンで選択してください。（最大２項目）
E22: ② | F22: キャリアアップの支援
E23: ③ | F23: 福利厚生の充実 | AJ23: 注2： | AL23: 各項目で実績の有無をプルダウンで選択してください。
E24: ④ | F24: ハラスメント研修の開催
A25: 【企業の技術力等】 | AJ25: 【企業の技術力等の注意事項】
A27: 工事実績 | E27: コリンズ登録番号
E28: 工事名称 | AL28: 企業の技術力等の着色部は、自動計算されます。
AJ30: 【工事成績】
A31: 工事成績 | E31: 三重県の 工事評定点 | H31: 令和５年４月１日以降に完成検査を行った 工事の評定点 | AD31: 申告工事成績点 | AJ31: 注1： | AL31: 令和５年４月１日から当該工事の入札公告日までに三重県が通知（工事成績認定書）した土木一式工事の評定点を、任意の件数だけ入力してください。 １０件まで申告できます。
AD32: =IF(COUNTA(T31:AC32)=0,"",ROUNDDOWN(((SUM(T31:AC32)+75))/(COUNTA(T31:AC32)+1),1)) | AI32: 点
A33: 受注工事高 １級技術者 １人あたりの 公共機関等の 契約金額 ２千５百万円 以上の 土木一式工事 | E33: 工事名称 | T33: 当初契約工期日数 | Z33: 当初契約金額 （円） | AD33: 計算式により算出 した額（Ｐ）（円） | AH33: 出資 比率
T34: 全体（日） | W34: 当該年度（日） | AL34: 記載例
AD35: =IF(Z35=0,"",ROUNDDOWN(Z35*W37/T37*IF(AH35=0,1,AH35/100),0))
T36: ～ | W36: ～
H37: ( | I37: □ | J37: 単独 | L37: ・ | M37: □ | N37: 共同企業体構成員 | S37: ) | T37: =IF(U36=0,"",U36-T35+1) | W37: =IF(X36=0,"",X36-W35+1)
AD38: =IF(Z38=0,"",ROUNDDOWN(Z38*W40/T40*IF(AH38=0,1,AH38/100),0))
T39: ～ | W39: ～
H40: ( | I40: □ | J40: 単独 | L40: ・ | M40: □ | N40: 共同企業体構成員 | S40: ) | T40: =IF(U39=0,"",U39-T38+1) | W40: =IF(X39=0,"",X39-W38+1)
AD41: =IF(Z41=0,"",ROUNDDOWN(Z41*W43/T43*IF(AH41=0,1,AH41/100),0))
T42: ～ | W42: ～
H43: ( | I43: □ | J43: 単独 | L43: ・ | M43: □ | N43: 共同企業体構成員 | S43: ) | T43: =IF(U42=0,"",U42-T41+1) | W43: =IF(X42=0,"",X42-W41+1)
AD44: =IF(Z44=0,"",ROUNDDOWN(Z44*W46/T46*IF(AH44=0,1,AH44/100),0))
T45: ～ | W45: ～ | AJ45: 【受注工事高】
H46: ( | I46: □ | J46: 単独 | L46: ・ | M46: □ | N46: 共同企業体構成員 | S46: ) | T46: =IF(U45=0,"",U45-T44+1) | W46: =IF(X45=0,"",X45-W44+1) | AJ46: 注2： | AL46: 受注工事高の欄は、記入が必要な工事数に応じて提案者が増やしてください。 本様式が複数頁に渡っても差し支えありません。
AD47: =IF(Z47=0,"",ROUNDDOWN(Z47*W49/T49*IF(AH47=0,1,AH47/100),0))
T48: ～ | W48: ～
H49: ( | I49: □ | J49: 単独 | L49: ・ | M49: □ | N49: 共同企業体構成員 | S49: ) | T49: =IF(U48=0,"",U48-T47+1) | W49: =IF(X48=0,"",X48-W47+1)
AD50: =IF(Z50=0,"",ROUNDDOWN(Z50*W52/T52*IF(AH50=0,1,AH50/100),0))
T51: ～ | W51: ～
H52: ( | I52: □ | J52: 単独 | L52: ・ | M52: □ | N52: 共同企業体構成員 | S52: ) | T52: =IF(U51=0,"",U51-T50+1) | W52: =IF(X51=0,"",X51-W50+1)
AD53: =IF(Z53=0,"",ROUNDDOWN(Z53*W55/T55*IF(AH53=0,1,AH53/100),0))
T54: ～ | W54: ～
H55: ( | I55: □ | J55: 単独 | L55: ・ | M55: □ | N55: 共同企業体構成員 | S55: ) | T55: =IF(U54=0,"",U54-T53+1) | W55: =IF(X54=0,"",X54-W53+1)
E56: 当該業種にかかる １級技術者数 | O56: 人 | Q56: 土木一式工事における契約金額（円） | AD56: =IF(SUM(AD35:AG55)=0,"",SUM(AD35:AG55))
E58: 受注工事高（円） | AD58: =IF(AND(AD56="",K56>=1),0,IF(K56="","0",IF(K56=0,"0",ROUNDDOWN(AD56/K56,0)))) -> 0

Sheet 様式３
A1: （様式３） 技術者の能力に関する技術資料
N2: 会社名
A3: 【技術者の能力】
A5: 配置予定技術者 | C5: 氏名 | W5: 生年月日（西暦） | AB5: 年 月 日
C6: CPD取組実績 | E6: 取得単位認定団体 | N6: （例）○○技士会 | Y6: 推奨単位数 | AG6: 単位／年
N7: 取得単位数 | S7: 換算係数 | U7: 換算後単位数 | Y7: 換算後単位数の合計
E8: R8(2026)年度 | Q8: 単位 | S8: 1 | U8: =IF(N8="","",ROUNDDOWN(N8*S8,3)) | W8: 単位 | Y8: =IF(SUM(U8:V11)=0,"",SUM(U8:V11)) | AD8: 単 位
E9: R7(2025)年度 | Q9: 単位 | S9: 1 | U9: =IF(N9="","",ROUNDDOWN(N9*S9,3)) | W9: 単位
E10: R6(2024)年度 | Q10: 単位 | S10: 0.5 | U10: =IF(N10="","",ROUNDDOWN(N10*(1/2),3)) | W10: 単位
E11: R5(2023)年度 | Q11: 単位 | S11: 0.25 | U11: =IF(N11="","",ROUNDDOWN(N11*(1/4),3)) | W11: 単位
A14: 【技術者の能力の注意事項】
A16: 注1： | C16: 配置予定技術者の氏名は、必ず入力してください。
A18: 注2： | C18: 配置予定技術者に関する項目のうち、チェック欄は、該当する「□」をプルダウンで「■」に変更してください。
A20: 注3： | C20: CPDの取得単位認定団体で記入できる団体数は、１団体のみとします。 推奨単位数は、上記で記入した団体のR8.4.1時点の推奨単位数を入力してください。

Sheet 様式４（対策なし）
A1: （様式４） 技術提案に関する技術資料
A2: 工事名： | G2: 令和8年度防災安全・地第 A010-38分0005号主要地方道鈴鹿環状線（磯山バイパス）道路改良（側道・旧道処理）工事
A3: 会社名 | AQ3: ※本頁は、提出不要です。
A4: 特記課題 | AQ4: 【特記課題の注意事項】
A5: 項目１ | D5: 留意点① | AP5: 1 2 3 4 5 6 7 8 9 10 11 12 13 14 15 | AR5: ・ | AS5: 評価項目一覧に示す３項目について、工事を行ううえでの留意点とその理由をそれぞれ簡潔に記載してください。
AP6: 2
AP7: 3 | AR7: ・ | AS7: 具体的に実施する対策などを記載しても、その部分は評価しません。
AP8: 4 | AR8: ・ | AS8: 文字の大きさは、１０ポイントとします。
AP9: 5 | AR9: ・ | AS9: 行列の挿入及びセルサイズの変更は、不可とします。
D10: 留意点② | AP10: 1 | AR10: ・ | AS10: 各項目の留意点①～③は、それぞれ５行以内で記載するものとします。
AP11: 2 | AR11: ・ | AS11: ５行を超えて記載されている留意点は、評価しません。※例１、例２参照
AP12: 3 | AR12: ・ | AS12: 文字ポイントを小さくして、５行以内で記載されている留意点は、評価しません。※例３参照
AP13: 4 | AR13: ・ | AS13: 印刷した様式４で判断しますので、十分確認のうえ提出してください。
AP14: 5 | AS14: ※電子媒体で提出された場合でも、印刷して判断します。
D15: 留意点③ | AP15: 1 | AR15: ・ | AS15: 一括審査対象工事の場合、工事名には入札への参加を希望するすべての工事名を記載してください。
AP16: 2
AP17: 3
AP18: 4
AP19: 5
A20: 項目２ | D20: 留意点① | AP20: 1 2 3 4 5 6 7 8 9 10 11 12 13 14 15
AP21: 2
AP22: 3
AP23: 4
AP24: 5
D25: 留意点② | AP25: 1
AP26: 2
AP27: 3
AP28: 4
AP29: 5
D30: 留意点③ | AP30: 1
AP31: 2
AP32: 3
AP33: 4
AP34: 5
A35: 項目３ | D35: 留意点① | AP35: 1
AP36: 2
AP37: 3
AP38: 4
AP39: 5
D40: 留意点② | AP40: 1
AP41: 2
AP42: 3
AP43: 4
AP44: 5
D45: 留意点③ | AP45: 1
AP46: 2
AP47: 3
AP48: 4
AP49: 5
