Workbook

Sheet 評価項目(標準)
M1: 舗装工事（農業農村整備事業） 【令和８年６月版】
B2: 簡易型Ｂ | D2: 総合評価方式評価項目一覧 【舗装工事（農業農村整備事業）】 除算方式 | J2: 工事名： | K2: 上野依那古地区 基幹農道整備事業（保全対策）舗装その２工事
B3: 大項目 | D3: 中項目 | E3: 小項目 | F3: 評価基準 | I3: 加算点 | L3: 様式 | M3: 評価内容等
I4: 配点 | J4: 小項目 配点 | K4: 大項目 配点
B5: 企 業 の 能 力 等 | C5: 地域精通度・貢献度 | D5: 地域精通度 | E5: 本店等所在地 | F5: 管内業者 伊賀建設事務所管内に 本店及び建設業法上の主たる営業所あり | I5: 10 | J5: 10 | K5: =SUM(J5:J35) -> 91 | L5: 様式１ 様式２ | M5: 「本店及び建設業法上の主たる営業所」又は「建設業法上の営業所」の所在地により評価します。 ・本店等の所在地を変更した場合、公告の前月から３６か月前までの期間の「１８か月以上連続した所在地」を評価の対象とします。
F6: 準管内業者 県内に本店を有し、伊賀建設事務所管内に 建設業法上の営業所あり | I6: 5
F7: 上記以外 | I7: 0
D8: 地域貢献度 | E8: ① 多面的機能支払活動実績 ② 土地改良施設等における災害時の応急対策業務等に 関する協定に基づいた訓練等への参加実績 ③ 公共施設美化活動実績 | F8: 左欄の①～③のうち、該当する項目数 | J8: 5 | M8: 下記の実績の該当項目数により評価します。 ①多面的機能支払活動実績 令和７年度、令和８年度のいずれかにおける三重県内の多面的機能支払活動へ、企業の社会的責任（ＣＳＲ）として参加している実績の有無により評価します。 ・三重県の市町から多面的機能支払交付金に係る認定を受けた組織の活動に参加した実績に限ります。 ②土地改良施設等における災害時の応急対策業務等に関する協定に基づいた訓練等への参加実績 土地改良施設等ＢＣＰ協議会と「土地改良施設等における災害時の応急対策業務等に関する協定」を締結した組織に属し、かつ、当該協定に基づいた訓練等（訓練や研修等）への参加実績の有無により評価します。 ・「訓練等への参加実績」は、令和８年度の参加実績を対象とします。 ③公共施設美化活動実績 令和７年度又は令和８年度における伊賀建設事務所管内の公共施設美化活動の活動実績の有無により評価します。 ・「公共施設美化活動」とは、三重県県土整備部が定める住民参加に係る事業（河川・海岸美化ボランティア活動推進事業、道路美化ボランティア活動助成事業、フラワーオアシス推進事業、ふれあいの道事業）を指します。
F9: ３項目 | I9: 5
F10: ２項目 | I10: 3
F11: １項目 | I11: 1
F12: 実績なし | I12: 0
E13: 家畜伝染病発生等の緊急時における家畜処分 の運用協定等の評価 | F13: 「家畜処分の運用協定の実績」あり | I13: 9 | J13: 9 | M13: 家畜伝染病発生等の緊急時における「家畜処分の運用協定の実績」又は家畜伝染病発生等の緊急時における対応に向けた「研修会への参加実績」の有無により評価します。 ・「家畜処分の運用協定の実績」は、伊賀農林事務所と締結した「家畜伝染病発生等の緊急時における家畜処分の運用協定」に基づいた研修（実地訓練）への参加実績（令和７年度、令和８年度のいずれか）を指します。 なお、「家畜処分の運用協定の実績」の評価については、「家畜伝染病発生等の緊急時における家畜処分の基本協定」を三重県と締結後、５年以上の継続した研修（実地訓練）を行っており、運用協定で定める緊急連絡応援体制ネットワークを確立している団体を対象とします。 ・「研修会への参加実績」は、県が認める家畜伝染病発生等の緊急時における対応に向けた研修会への参加実績（令和７年度、令和８年度のいずれか）を指します。 なお、「研修会への参加実績」の評価は、伊賀農林事務所管内に「本店及び建設業法上の主たる営業所」又は「建設業法上の営業所」を有する企業に限ります。 ・「家畜処分の運用協定の実績」と「研修会への参加実績」は重複して評価しません。
F14: 「研修会への参加実績」あり | I14: 3
F15: 実績なし | I15: 0
C16: 社会貢献度 | D16: 社会貢献度 | E16: ① 男女共同参画活動実績 ② 障がい者雇用実績 ③ 人権に関する取組実績 ④ 「みえる・わかる・つながる！職業ポータルサイト」 Webページへの登録 ⑤ 現場見学会等の開催実績 ⑥ 不当要求防止責任者講習の受講実績 ⑦ 職場環境づくりの実績 | F16: 左欄の①～⑦のうち、該当する項目により得られる合計点数 | J16: 4 | M16: 下記の実績の該当する項目により得られる合計点数により評価します。 ①男女共同参画活動実績 女性の職業生活における活躍の推進に関する法律に基づく一般事業主行動計画を策定している場合に評価します。（１点） ②障がい者雇用実績 障害者の雇用の促進等に関する法律に基づく障がい者雇用の有無により評価します。（１点） ・法律により障がい者雇用が義務付けられている企業は、法定雇用率を達成している場合に評価します。 ・法律により障がい者雇用が義務付けられていない企業は、障がい者を雇用している場合に評価します。 ③人権に関する取組実績 「三重県が開催する人権に関する研修の受講実績」又は「職業安定法に基づく公正採用選考人権啓発推進員の設置」のいずれかの取組実績の有無により評価します。（１点） なお、「三重県が開催する人権に関する研修の受講実績」は、令和７年度から令和８年度の受講実績を評価の対象とします。 ・「三重県が開催する人権に関する研修の受講実績」と「職業安定法に基づく公正採用選考人権啓発推進員の設置」は重複して評価しません。 ④「みえる・わかる・つながる！職業ポータルサイト」Webページへの登録 ・当該工事の入札に参加する者が、「みえる・わかる・つながる！職業ポータルサイト」Webぺージにインターンシップ受入情報を登録している場合に評価します。（１点） ・Webページ登録項目のうち「所在地、業種、職種、受入対象、受入時期、受入人数」の項目が全て記載されている場合に評価します。 ⑤現場見学会等の開催実績 ・当該工事の入札に参加する者が、単独又は共同企業体構成員として受注した三重県内の工事において、小学校、中学校、高等学校等の教育機関を対象に社会に貢献する建設業の役割の理解や次世代を支える若者たちの建設業への興味や関心を高めることを目的として現場見学会を開催した場合、及び、同目的で出前講座、実習授業のいずれかを開催した場合に評価します。（１点） ・現場見学会、出前講座、実習授業は１０名以上を対象とした場合に評価します。ただし、１０名以上の参加が見込めない場合（小規模な学校や学校側との調整の結果参加者が１０名未満となった場合）は、１０名未満でも評価します。 ・令和３年度から当該工事の入札公告日までの開催実績を評価の対象とします。 ・評価対象の現場見学会の実績は、官民の別は問いません。 ⑥不当要求防止責任者講習の受講実績 当該工事の入札に参加する者が、不当要求防止責任者を選任し、三重県公安委員会（(公財)暴力追放三重県民センター）が開催する不当要求防止責任者講習の受講実績のある場合に評価します。（１点） なお、「不当要求防止責任者講習の受講実績」は、令和５年度から入札公告日までの受講実績を評価の対象とします。 ⑦職場環境づくりの実績 下記のいずれかの実績により評価します。 （１） 令和４年度以降に「ユースエール認定制度」に認定されたことがある。（２点） （２）「みえの働き方改革推進企業登録制度」に登録されている。（１点） ※（１）と（２）は重複して評価しません。
F17: ４点 | I17: 4
F18: ３点 | I18: 3
F19: ２点 | I19: 2
F20: １点 | I20: 1
F21: 実績（取得点）なし | I21: 0
E22: 県内企業による施工 | F22: 県内企業による施工の割合 90 ％以上 | I22: 5 | J22: 5 | M22: 当該工事のうち、建設業法上の建設工事の県内企業による施工の割合により評価します。 ・県内企業とは、三重県内に「本店及び建設業法上の主たる営業所」を有する企業を指します。 ・元請直営施工、一次下請負及び二次下請負による施工を評価の対象とします。 県内企業による施工の割合 ＝ [ 契約金額(最終) － { 県外一次下請金額(最終) + 県外二次下請金額(最終) } ] ／ 契約金額(最終) なお、元請が県外企業の場合は次の式とします。 県内企業による施工の割合 ＝ [ 一次下請契約金額(最終) － { 県外一次下請金額(最終) ＋ 県外二次下請金額(最終) } ] ／ 一次下請契約金額(最終) ※当該工事を契約後、「建設工事請負契約書の特約事項」に基づき履行を確認します。
F23: 県内企業による施工の割合 70 ％以上 | I23: 3
F24: 上記以外 | I24: 0
C25: 企業の技術力等 | D25: 工事実績 | E25: 企業の工事実績 | F25: 評価対象工事の実績あり | I25: 20 | J25: 20 | M25: 三重県内において、単独又は共同企業体構成員（出資比率20％以上に限る）の元請として受注し、平成２８年度以降に完成し、かつ、引渡しが済んでいる契約金額２千５百万円以上の評価対象工事の実績の有無により評価します。 ・「評価対象工事」とは、舗装工事（業種「舗装工事」として発注された舗装整備工事、舗装修繕工事等）を指します。 ・評価対象の工事実績は１件とし、コリンズに登録された公共機関等発注の工事に限ります。
F26: 評価対象工事の実績なし | I26: 0
D27: 工事成績 | E27: 申告工事成績点 | F27: 申告工事成績点が９０点以上の場合 | I27: 30 | J27: 30 | M27: 令和３年４月１日から当該工事の入札公告日までに三重県が通知（工事成績認定書）した舗装工事の評定点のうち、申告された任意の件数（ｎ件）の合計に７５点を加え、ｎ＋１で割った値とする。ただし、申告できるのは10件までとします。 申告工事成績点 ＝（申告されたｎ件の評定点の合計＋７５）／（ｎ＋１）（小数第２位以下切り捨て） 上記で計算した申告工事成績点を、評価基準に記載の計算式により評価します。（小数第２位以下切り捨て）ただし、申告工事成績点が９０点以上の場合は３０点、７５点未満の場合は０点とします。 ・工事成績点を有しない場合の加算点は０点です。
F28: 申告工事成績点が７５点以上９０点未満の場合 (申告工事成績点－７５点) × ３０／１５
I29: ～
F31: 申告工事成績点が７５点未満の場合 | I31: 0
D32: 品質 マネジメント | E32: 品質マネジメントシステムの認証 | F32: 有 | I32: 3 | J32: 3 | M32: 当該工事の入札に参加する者が、ISO9000Sの認証を取得している場合に評価します。
F33: 無 | I33: 0
D34: 労働安全 衛生管理 | E34: 労働安全衛生マネジメントシステムの認証 | F34: 有 | I34: 5 | J34: 5 | M34: 当該工事の入札に参加する者が、労働安全衛生マネジメントシステムガイドライン(建設業労働安全衛生マネジメントシステムガイドラインを含む）に沿った取組の認証を取得している場合に評価します。
F35: 無 | I35: 0
B36: 技術者の能力 | C36: 技術者の能力 | D36: 配置予定 技術者の 工事実績 | E36: 主任（監理）技術者又は 現場代理人としての工事実績 | F36: 評価対象工事の実績あり | I36: 20 | J36: 20 | K36: =SUM(J36:J43) -> 30 | L36: 様式１ 様式３ | M36: 配置予定技術者が主任(監理）技術者又は現場代理人として従事した工事のうち、単独又は共同企業体構成員（出資比率20％以上に限る）の元請として受注した契約金額２千５百万円以上の評価対象工事の実績の有無により評価します。 ・「評価対象工事」とは、舗装工事（業種「舗装工事」として発注された舗装整備工事、舗装修繕工事等）を指します。 ・主任(監理)技術者としての実績とは、平成２８年度以降に完成し、かつ、引渡しが済んでいる工事で、契約日から完成日までの期間において、完成日を含む２分の１以上の連続した期間に従事した工事の実績をいいます。 ・現場代理人としての実績とは、平成２８年度以降に完成し、かつ、引渡しが済んでいる工事で、契約日から完成日までの期間において、完成日を含む２分の１以上の連続した期間に従事した工事の実績をいいます。ただし、コリンズに登録されていた者に限ります。 ・評価対象の工事実績は１件とし、コリンズに登録された公共機関等発注の工事に限ります。 ・余裕期間制度の対象工事は、完成日を含む実工期の２分の１以上の連続した期間に従事した実績を評価の対象とします。
F37: 評価対象工事の実績なし | I37: 0
D38: 配置予定技術者の 資格保有状況 | E38: 舗装工事に係る資格 | F38: １級舗装施工管理技術者の資格保有 | I38: 5 | J38: 5 | M38: 配置予定技術者の舗装工事に係る資格（１級、２級舗装施工管理技術者）の有無により評価します。
F39: ２級舗装施工管理技術者の資格保有 | I39: 3
F40: 無 | I40: 0
D41: 配置予定技術者 のCPD （継続学習制度）取組実績 | E41: 各団体が発行するCPDの取組実績 | F41: 換算後の単位数の合計が推奨単位以上 | I41: 5 | J41: 5 | M41: 配置予定技術者が令和５年度から令和８年度に取得したＣＰＤ単位により評価します。 ・ＣＰＤ単位は、建設系ＣＰＤ協議会加盟団体で証明、認定されたものに限ります。ただし、当該工事が建築関係業種の場合は、建築ＣＰＤ運営会議の加盟団体を含みます。 ・申告は、加盟団体のうちいずれか１団体の取得単位に限ります。ただし、相互承認を受けたＣＰＤ単位は、申告する加盟団体以外であっても取得単位に含めることを可能とします。 ・１年間の推奨単位を設定していない団体のＣＰＤ単位は、評価の対象としません。 ・各年度の取得単位は、換算係数を乗じるものとします。（小数第４位以下切り捨て） ・換算係数は、令和５年度は１／４、令和６年度は１／２、令和７年度及び令和８年度は１とします。
F42: 換算後の単位数の合計が推奨単位の1/2以上 | I42: 3
F43: 換算後の単位数の合計が推奨単位の1/2未満 | I43: 0
B44: 技術提案等 | C44: 技術提案 （対策なし型） | D44: 特記課題 | E44: 工事を行ううえでの留意点 | F44: 各項目あたりの評価基準・加算点 | G44: 項目1,2 | H44: 項目3 | I44: 80 (最大30点/項目×2項目+最大20点/項目×1項目) | J44: 80 | K44: =SUM(J44:J49) -> 80 | L44: 様式４ | M44: 当該工事は供用中の道路の舗装修繕を行う工事です。 「項目１ 舗装の品質確保」、「項目２ 一般交通に対する安全の確保」、「項目３ 作業員に対する配慮」の３項目について、それぞれに工事を行ううえで考えられる留意点を３つ以内で、その理由を含めて記述してください。 ・これらの提案については、対策を求めていません。そのため履行義務はありません。
F45: 優れている | G45: 30 | H45: 20
F46: 概ね優れている | G46: 25 | H46: 15
F47: 良好である | G47: 20 | H47: 10
F48: 概ね良好である | G48: 15 | H48: 5
F49: 上記以外 | G49: 0 | H49: 0
B50: 総合評価方式の不履行による 加算点の減点 | E50: 当該工事の入札公告日が、三重県が総合評価方式で発注した工事で不履行による減点措置が課されている期間内である場合、「技術提案等不履行確定通知書等」に記載した減点を行います。 | I50: △換算前 加算点満点 ×1割 ×件数 | L50: 様式１ | M50: 三重県が総合評価方式で発注した工事で、技術資料又は施工体制確認資料に記載された事項に不履行があった場合の減点は、次式により行います。 減点後の貴社の換算前加算点合計＝Ａ－（Ｂ×０．１×Ｃ） Ａ：貴社の換算前加算点合計 Ｂ：当該工事の換算前加算点満点 Ｃ：不履行工事件数 不履行工事件数とは、当該工事の入札公告日が「技術提案等不履行確定通知書」で通知された不履行による減点の対象となる期間内である工事の件数とします。
B51: 指名停止措置による 加算点の減点 | E51: 当該工事の入札公告日が、三重県発注工事にかかる贈賄、公契約関係競売等妨害又は談合により役員等又は使用人が逮捕、又は逮捕を経ないで公訴を提起されたことによる指名停止に伴う減点措置期間内である場合、減点を行います。 | I51: △換算前 加算点満点 ×1割 | L51: 様式１ | M51: 当該工事の入札公告日が、三重県発注工事にかかる贈賄、公契約関係競売等妨害又は談合により役員等又は使用人が逮捕、又は逮捕を経ないで公訴を提起されたことによる指名停止に伴う減点措置期間内である場合の減点は、次式により行います。 減点後の貴社の換算前加算点合計＝Ａ－（Ｂ×０．１） Ａ：貴社の換算前加算点合計 Ｂ：当該工事の換算前加算点満点 ※減点措置期間は指名停止期間の終了日の翌日から１年間とします。 なお、対象となる指名停止措置は、当該工事入札公告日の前年度４月１日から当該工事入札公告日までの期間に指名停止期間が１日でも重複するものとします。
I52: 換算前 加算点 満点 | J52: =SUM(K5:K49) -> 201 | M52: ※技術資料の作成方法及び提出資料は、「技術資料作成上の留意事項」を必ず確認してください。
I53: 加算点 満点 | J53: =IF(B2="簡易型Ｂ",20,IF(B2="標準型",35,"型選択")) -> 20
B55: 当該工事で、技術資料又は施工体制確認資料に記載の内容に不履行があった場合の取り扱い | E55: 当該工事の履行確認を伴う評価項目に不履行があった場合、「技術提案等不履行確定通知書」により不履行項目・不履行による減点の対象となる期間などを通知します。 「技術提案等不履行確定通知書」に記載した期間に三重県が総合評価方式で発注する工事（以下「発注工事」という。）で、「貴社の換算前加算点合計」から「発注工事の換算前加算点満点」の1割を減点します。 貴社が特定建設工事共同企業体又は経常建設共同企業体の構成員である場合も、「発注工事の換算前加算点満点」の１割を減点します。

Sheet 届出書
AA3: 令和 年 月 日
A5: 技 術 資 料 届 出 書
B9: 三重県知事 | H9: あて
O11: 住 所
O13: 会社名
O15: 代表者氏名
E18: 工 事 名 | F18: ： | G18: 令和7年度 基幹農道(保全) 第 4301-分0002号
G19: 上野依那古地区 基幹農道整備事業(保全対策)
G20: 舗装その２工事
B25: 上記工事の技術資料を提出します。なお、地方自治法施行令（昭和22年政令第16号）
B26: 第167条の4の規定に該当する者でないこと並びに確認資料の内容は、事実と相違ない
B27: ことを誓約します。問い合わせ先は次のとおりです。
C30: 【問い合わせ先】
D31: 担当者 | G31: ： | H31: ○○ ○○
D32: 部 署 | G32: ： | H32: ○○本店 ○○部 ○○課
D33: 住 所 | G33: ： | H33: ○○県○○市○○
D34: 電話番号 | G34: ： | H34: ＊＊＊－＊＊＊＊－＊＊＊＊
D35: ＦＡＸ | G35: ： | H35: ＊＊＊－＊＊＊＊－＊＊＊＊
D36: Ｅ-mail | G36: ：

Sheet 様式１
B1: （様式１） 加算点申告書
F2: 会社名
B3: 大項目 | D3: 中項目 | E3: 小項目 | F3: 加算点 | G3: 評価基準 | I3: 各評価項目の 自己評価 | J3: 自己 加算点
G4: 配点 | H4: 基準
B5: =IF('評価項目(標準)'!B5="","",+'評価項目(標準)'!B5) -> 企 業 の 能 力 等 | C5: =IF(+'評価項目(標準)'!C5="","",+'評価項目(標準)'!C5) -> 地域精通度・貢献度 | D5: =IF(+'評価項目(標準)'!D5="","",+'評価項目(標準)'!D5) -> 地域精通度 | E5: =IF(+'評価項目(標準)'!E5="","",+'評価項目(標準)'!E5) -> 本店等所在地 | F5: =+IF(+'評価項目(標準)'!J5="","",+'評価項目(標準)'!J5) -> 10 | G5: =+IF(+'評価項目(標準)'!I5="","",+'評価項目(標準)'!I5) -> 10 | H5: =+IF(+'評価項目(標準)'!F5="","",+'評価項目(標準)'!F5) -> 管内業者 伊賀建設事務所管内に 本店及び建設業法上の主たる営業所あり | J5: =IF(I5="","",VLOOKUP(I5,'評価項目(標準)'!F5:I7,4,FALSE))
G6: =+IF(+'評価項目(標準)'!I6="","",+'評価項目(標準)'!I6) -> 5 | H6: =+IF(+'評価項目(標準)'!F6="","",+'評価項目(標準)'!F6) -> 準管内業者 県内に本店を有し、伊賀建設事務所管内に 建設業法上の営業所あり
G7: =+IF(+'評価項目(標準)'!I7="","",+'評価項目(標準)'!I7) -> 0 | H7: =+IF(+'評価項目(標準)'!F7="","",+'評価項目(標準)'!F7) -> 上記以外
D8: =IF(+'評価項目(標準)'!D8="","",+'評価項目(標準)'!D8) -> 地域貢献度 | E8: =IF(+'評価項目(標準)'!E8="","",+'評価項目(標準)'!E8) -> ① 多面的機能支払活動実績 ② 土地改良施設等における災害時の応急対策業務等に 関する協定に基づいた訓練等への参加実績 ③ 公共施設美化活動実績 | F8: =+IF(+'評価項目(標準)'!J8="","",+'評価項目(標準)'!J8) -> 5 | G8: =+IF(+'評価項目(標準)'!F8="","",+'評価項目(標準)'!F8) -> 左欄の①～③のうち、該当する項目数 | J8: =IF(I8="","",VLOOKUP(I8,'評価項目(標準)'!F9:I12,4,FALSE))
G9: =+IF(+'評価項目(標準)'!I9="","",+'評価項目(標準)'!I9) -> 5 | H9: =+IF(+'評価項目(標準)'!F9="","",+'評価項目(標準)'!F9) -> ３項目
G10: =+IF(+'評価項目(標準)'!I10="","",+'評価項目(標準)'!I10) -> 3 | H10: =+IF(+'評価項目(標準)'!F10="","",+'評価項目(標準)'!F10) -> ２項目
G11: =+IF(+'評価項目(標準)'!I11="","",+'評価項目(標準)'!I11) -> 1 | H11: =+IF(+'評価項目(標準)'!F11="","",+'評価項目(標準)'!F11) -> １項目
G12: =+IF(+'評価項目(標準)'!I12="","",+'評価項目(標準)'!I12) -> 0 | H12: =+IF(+'評価項目(標準)'!F12="","",+'評価項目(標準)'!F12) -> 実績なし
E13: =IF(+'評価項目(標準)'!E13="","",+'評価項目(標準)'!E13) -> 家畜伝染病発生等の緊急時における家畜処分 の運用協定等の評価 | F13: =+IF(+'評価項目(標準)'!J13="","",+'評価項目(標準)'!J13) -> 9 | G13: =+IF(+'評価項目(標準)'!I13="","",+'評価項目(標準)'!I13) -> 9 | H13: =+IF(+'評価項目(標準)'!F13="","",+'評価項目(標準)'!F13) -> 「家畜処分の運用協定の実績」あり | J13: =IF(I13="","",VLOOKUP(I13,'評価項目(標準)'!F13:I15,4,FALSE))
G14: =+IF(+'評価項目(標準)'!I14="","",+'評価項目(標準)'!I14) -> 3 | H14: =+IF(+'評価項目(標準)'!F14="","",+'評価項目(標準)'!F14) -> 「研修会への参加実績」あり
G15: =+IF(+'評価項目(標準)'!I15="","",+'評価項目(標準)'!I15) -> 0 | H15: =+IF(+'評価項目(標準)'!F15="","",+'評価項目(標準)'!F15) -> 実績なし
C16: =IF(+'評価項目(標準)'!C16="","",+'評価項目(標準)'!C16) -> 社会貢献度 | D16: =IF(+'評価項目(標準)'!D16="","",+'評価項目(標準)'!D16) -> 社会貢献度 | E16: =IF(+'評価項目(標準)'!E16="","",+'評価項目(標準)'!E16) -> ① 男女共同参画活動実績 ② 障がい者雇用実績 ③ 人権に関する取組実績 ④ 「みえる・わかる・つながる！職業ポータルサイト」 Webページへの登録 ⑤ 現場見学会等の開催実績 ⑥ 不当要求防止責任者講習の受講実績 ⑦ 職場環境づくりの実績 | F16: =+IF(+'評価項目(標準)'!J16="","",+'評価項目(標準)'!J16) -> 4 | G16: 左欄の①～⑦のうち、該当する項目により得られる合計点数 | J16: =+IF(I16="","",VLOOKUP(I16,'評価項目(標準)'!F17:I21,4,0))
G17: =+IF(+'評価項目(標準)'!I17="","",+'評価項目(標準)'!I17) -> 4 | H17: =+IF(+'評価項目(標準)'!F17="","",+'評価項目(標準)'!F17) -> ４点
G18: =+IF(+'評価項目(標準)'!I18="","",+'評価項目(標準)'!I18) -> 3 | H18: =+IF(+'評価項目(標準)'!F18="","",+'評価項目(標準)'!F18) -> ３点
G19: =+IF(+'評価項目(標準)'!I19="","",+'評価項目(標準)'!I19) -> 2 | H19: =+IF(+'評価項目(標準)'!F19="","",+'評価項目(標準)'!F19) -> ２点
G20: =+IF(+'評価項目(標準)'!I20="","",+'評価項目(標準)'!I20) -> 1 | H20: =+IF(+'評価項目(標準)'!F20="","",+'評価項目(標準)'!F20) -> １点
G21: =+IF(+'評価項目(標準)'!I21="","",+'評価項目(標準)'!I21) -> 0 | H21: =+IF(+'評価項目(標準)'!F21="","",+'評価項目(標準)'!F21) -> 実績（取得点）なし
E22: =IF(+'評価項目(標準)'!E22="","",+'評価項目(標準)'!E22) -> 県内企業による施工 | F22: =+IF(+'評価項目(標準)'!J22="","",+'評価項目(標準)'!J22) -> 5 | G22: =+IF(+'評価項目(標準)'!I22="","",+'評価項目(標準)'!I22) -> 5 | H22: =+IF(+'評価項目(標準)'!F22="","",+'評価項目(標準)'!F22) -> 県内企業による施工の割合 90 ％以上 | J22: =IF(I22="","",VLOOKUP(I22,'評価項目(標準)'!F22:I24,4,FALSE))
G23: =+IF(+'評価項目(標準)'!I23="","",+'評価項目(標準)'!I23) -> 3 | H23: =+IF(+'評価項目(標準)'!F23="","",+'評価項目(標準)'!F23) -> 県内企業による施工の割合 70 ％以上
G24: =+IF(+'評価項目(標準)'!I24="","",+'評価項目(標準)'!I24) -> 0 | H24: =+IF(+'評価項目(標準)'!F24="","",+'評価項目(標準)'!F24) -> 上記以外
C25: =IF(+'評価項目(標準)'!C25="","",+'評価項目(標準)'!C25) -> 企業の技術力等 | D25: =IF(+'評価項目(標準)'!D25="","",+'評価項目(標準)'!D25) -> 工事実績 | E25: =IF(+'評価項目(標準)'!E25="","",+'評価項目(標準)'!E25) -> 企業の工事実績 | F25: =+IF(+'評価項目(標準)'!J25="","",+'評価項目(標準)'!J25) -> 20 | G25: =+IF(+'評価項目(標準)'!I25="","",+'評価項目(標準)'!I25) -> 20 | H25: =+IF(+'評価項目(標準)'!F25="","",+'評価項目(標準)'!F25) -> 評価対象工事の実績あり | J25: =IF(I25="","",VLOOKUP(I25,'評価項目(標準)'!F25:I26,4,FALSE))
G26: =+IF(+'評価項目(標準)'!I26="","",+'評価項目(標準)'!I26) -> 0 | H26: =+IF(+'評価項目(標準)'!F26="","",+'評価項目(標準)'!F26) -> 評価対象工事の実績なし
D27: =IF(+'評価項目(標準)'!D27="","",+'評価項目(標準)'!D27) -> 工事成績 | E27: =IF(+'評価項目(標準)'!E27="","",+'評価項目(標準)'!E27) -> 申告工事成績点 | F27: =+IF(+'評価項目(標準)'!J27="","",+'評価項目(標準)'!J27) -> 30 | G27: =IF(+'評価項目(標準)'!I27="","",+'評価項目(標準)'!I27) -> 30 | H27: =IF(+'評価項目(標準)'!F27="","",+'評価項目(標準)'!F27) -> 申告工事成績点が９０点以上の場合 | J27: =IF(NOT(ISNUMBER(I27)),"",IF(I27="","",IF(I27>100,"",IF(I27>90,G27,IF(I27>=75,ROUNDDOWN((ROUND(I27-75,1)*G27/15),1),IF(I27<75,0))))))
G28: =IF(+'評価項目(標準)'!I28="","",+'評価項目(標準)'!I28) | H28: =IF(+'評価項目(標準)'!F28="","",+'評価項目(標準)'!F28) -> 申告工事成績点が７５点以上９０点未満の場合 (申告工事成績点－７５点) × ３０／１５
G29: =IF(+'評価項目(標準)'!I29="","",+'評価項目(標準)'!I29) -> ～
G30: =IF(+'評価項目(標準)'!I30="","",+'評価項目(標準)'!I30)
G31: =IF(+'評価項目(標準)'!I31="","",+'評価項目(標準)'!I31) -> 0 | H31: =IF(+'評価項目(標準)'!F31="","",+'評価項目(標準)'!F31) -> 申告工事成績点が７５点未満の場合
D32: =IF(+'評価項目(標準)'!D32="","",+'評価項目(標準)'!D32) -> 品質 マネジメント | E32: =IF(+'評価項目(標準)'!E32="","",+'評価項目(標準)'!E32) -> 品質マネジメントシステムの認証 | F32: =+IF(+'評価項目(標準)'!J32="","",+'評価項目(標準)'!J32) -> 3 | G32: =+IF(+'評価項目(標準)'!I32="","",+'評価項目(標準)'!I32) -> 3 | H32: =+IF(+'評価項目(標準)'!F32="","",+'評価項目(標準)'!F32) -> 有 | J32: =IF(I32="","",IF(I32=H32,G32,IF(I32=H33,G33)))
G33: =+IF(+'評価項目(標準)'!I33="","",+'評価項目(標準)'!I33) -> 0 | H33: =+IF(+'評価項目(標準)'!F33="","",+'評価項目(標準)'!F33) -> 無
D34: =IF(+'評価項目(標準)'!D34="","",+'評価項目(標準)'!D34) -> 労働安全 衛生管理 | E34: =IF(+'評価項目(標準)'!E34="","",+'評価項目(標準)'!E34) -> 労働安全衛生マネジメントシステムの認証 | F34: =+IF(+'評価項目(標準)'!J34="","",+'評価項目(標準)'!J34) -> 5 | G34: 5 | H34: =IF(+'評価項目(標準)'!F34="","",+'評価項目(標準)'!F34) -> 有 | J34: =IF(I34="","",IF(I34=H34,G34,IF(I34=H35,G35)))
G35: 0 | H35: =IF(+'評価項目(標準)'!F35="","",+'評価項目(標準)'!F35) -> 無
B36: =IF('評価項目(標準)'!B36="","",+'評価項目(標準)'!B36) -> 技術者の能力 | C36: =IF(+'評価項目(標準)'!C36="","",+'評価項目(標準)'!C36) -> 技術者の能力 | D36: =IF(+'評価項目(標準)'!D36="","",+'評価項目(標準)'!D36) -> 配置予定 技術者の 工事実績 | E36: =IF(+'評価項目(標準)'!E36="","",+'評価項目(標準)'!E36) -> 主任（監理）技術者又は 現場代理人としての工事実績 | F36: =+IF(+'評価項目(標準)'!J36="","",+'評価項目(標準)'!J36) -> 20 | G36: =+IF(+'評価項目(標準)'!I36="","",+'評価項目(標準)'!I36) -> 20 | H36: =+IF(+'評価項目(標準)'!F36="","",+'評価項目(標準)'!F36) -> 評価対象工事の実績あり | J36: =IF(I36="","",VLOOKUP(I36,'評価項目(標準)'!F36:I37,4,FALSE))
G37: =+IF(+'評価項目(標準)'!I37="","",+'評価項目(標準)'!I37) -> 0 | H37: =+IF(+'評価項目(標準)'!F37="","",+'評価項目(標準)'!F37) -> 評価対象工事の実績なし
D38: =IF(+'評価項目(標準)'!D38="","",+'評価項目(標準)'!D38) -> 配置予定技術者の 資格保有状況 | E38: =IF(+'評価項目(標準)'!E38="","",+'評価項目(標準)'!E38) -> 舗装工事に係る資格 | F38: =+IF(+'評価項目(標準)'!J38="","",+'評価項目(標準)'!J38) -> 5 | G38: =+IF(+'評価項目(標準)'!I38="","",+'評価項目(標準)'!I38) -> 5 | H38: =+IF(+'評価項目(標準)'!F38="","",+'評価項目(標準)'!F38) -> １級舗装施工管理技術者の資格保有 | J38: =IF(I38="","",VLOOKUP(I38,'評価項目(標準)'!F38:I40,4,FALSE))
G39: =+IF(+'評価項目(標準)'!I39="","",+'評価項目(標準)'!I39) -> 3 | H39: =+IF(+'評価項目(標準)'!F39="","",+'評価項目(標準)'!F39) -> ２級舗装施工管理技術者の資格保有
G40: =+IF(+'評価項目(標準)'!I40="","",+'評価項目(標準)'!I40) -> 0 | H40: =+IF(+'評価項目(標準)'!F40="","",+'評価項目(標準)'!F40) -> 無
D41: =IF(+'評価項目(標準)'!D41="","",+'評価項目(標準)'!D41) -> 配置予定技術者 のCPD （継続学習制度）取組実績 | E41: =IF(+'評価項目(標準)'!E41="","",+'評価項目(標準)'!E41) -> 各団体が発行するCPDの取組実績 | F41: =+IF(+'評価項目(標準)'!J41="","",+'評価項目(標準)'!J41) -> 5 | G41: =+IF(+'評価項目(標準)'!I41="","",+'評価項目(標準)'!I41) -> 5 | H41: =+IF(+'評価項目(標準)'!F41="","",+'評価項目(標準)'!F41) -> 換算後の単位数の合計が推奨単位以上 | J41: =IF(I41="","",IF(I41=H41,G41,IF(I41=H42,G42,IF(I41=H43,G43))))
G42: =+IF(+'評価項目(標準)'!I42="","",+'評価項目(標準)'!I42) -> 3 | H42: =+IF(+'評価項目(標準)'!F42="","",+'評価項目(標準)'!F42) -> 換算後の単位数の合計が推奨単位の1/2以上
G43: =+IF(+'評価項目(標準)'!I43="","",+'評価項目(標準)'!I43) -> 0 | H43: =+IF(+'評価項目(標準)'!F43="","",+'評価項目(標準)'!F43) -> 換算後の単位数の合計が推奨単位の1/2未満
B44: =IF(+'評価項目(標準)'!B50="","",+'評価項目(標準)'!B50) -> 総合評価方式の不履行による 加算点の減点 | E44: =IF(+'評価項目(標準)'!E50="","",+'評価項目(標準)'!E50) -> 当該工事の入札公告日が、三重県が総合評価方式で発注した工事で不履行による減点措置が課されている期間内である場合、「技術提案等不履行確定通知書等」に記載した減点を行います。 | H44: =IF('評価項目(標準)'!I50="","",+'評価項目(標準)'!I50) -> △換算前 加算点満点 ×1割 ×件数 | J44: =IF(+I44="","",-(+'評価項目(標準)'!J52*0.1*I44))
B45: =IF(+'評価項目(標準)'!B51="","",+'評価項目(標準)'!B51) -> 指名停止措置による 加算点の減点 | E45: =IF(+'評価項目(標準)'!E51="","",+'評価項目(標準)'!E51) -> 当該工事の入札公告日が、三重県発注工事にかかる贈賄、公契約関係競売等妨害又は談合により役員等又は使用人が逮捕、又は逮捕を経ないで公訴を提起されたことによる指名停止に伴う減点措置期間内である場合、減点を行います。 | H45: =IF('評価項目(標準)'!I51="","",+'評価項目(標準)'!I51) -> △換算前 加算点満点 ×1割 | J45: =IF(+I45="","",-(+'評価項目(標準)'!J52*0.1))
I46: 合計 | J46: =SUM(J5:J45) -> 0
B48: 【記入上の注意】
B49: ・ | D49: 黄色着色のセルは、該当する数値を直接入力してください。加算点は、自動計算により表示されます。
B50: ・ | D50: 橙色着色のセルは、セル中から該当する項目を選択してください。加算点は、選択した内容に応じて自動で表示されます。
B51: ・ | C51: 評価項目及び評価基準の詳細については、「評価項目一覧」及び「技術資料作成上の留意事項」で確認してください。
B52: ・ | C52: このシートは「評価項目一覧」とリンクしています。自己加算点が表示されていない場合は評価しません。

Sheet 様式１【経常ＪＶ用】
B2: （様式１） 加算点申告書
F3: 会社名
B4: 大項目 | D4: 中項目 | E4: 小項目 | F4: 加算点 | G4: 評価基準 | I4: 構成員Ａの評価 | K4: 構成員Ｂの評価 | M4: 経常ＪＶの評価
G5: 配点 | H5: 基準 | I5: 各評価項目の 自己評価 | J5: 自己 加算点 | K5: 各評価項目の 自己評価 | L5: 自己 加算点
B6: =IF('評価項目(標準)'!B5="","",+'評価項目(標準)'!B5) -> 企 業 の 能 力 等 | C6: =IF(+'評価項目(標準)'!C5="","",+'評価項目(標準)'!C5) -> 地域精通度・貢献度 | D6: =IF(+'評価項目(標準)'!D5="","",+'評価項目(標準)'!D5) -> 地域精通度 | E6: =IF(+'評価項目(標準)'!E5="","",+'評価項目(標準)'!E5) -> 本店等所在地 | F6: =+IF(+'評価項目(標準)'!J5="","",+'評価項目(標準)'!J5) -> 10 | G6: =+IF(+'評価項目(標準)'!I5="","",+'評価項目(標準)'!I5) -> 10 | H6: =+IF(+'評価項目(標準)'!F5="","",+'評価項目(標準)'!F5) -> 管内業者 伊賀建設事務所管内に 本店及び建設業法上の主たる営業所あり | J6: =IF(I6="","",VLOOKUP(I6,'評価項目(標準)'!F5:I7,4,FALSE)) | K6: ― | L6: ― | M6: =J6
G7: =+IF(+'評価項目(標準)'!I6="","",+'評価項目(標準)'!I6) -> 5 | H7: =+IF(+'評価項目(標準)'!F6="","",+'評価項目(標準)'!F6) -> 準管内業者 県内に本店を有し、伊賀建設事務所管内に 建設業法上の営業所あり
G8: =+IF(+'評価項目(標準)'!I7="","",+'評価項目(標準)'!I7) -> 0 | H8: =+IF(+'評価項目(標準)'!F7="","",+'評価項目(標準)'!F7) -> 上記以外
D9: =IF(+'評価項目(標準)'!D8="","",+'評価項目(標準)'!D8) -> 地域貢献度 | E9: =IF(+'評価項目(標準)'!E8="","",+'評価項目(標準)'!E8) -> ① 多面的機能支払活動実績 ② 土地改良施設等における災害時の応急対策業務等に 関する協定に基づいた訓練等への参加実績 ③ 公共施設美化活動実績 | F9: =+IF(+'評価項目(標準)'!J8="","",+'評価項目(標準)'!J8) -> 5 | G9: =+IF(+'評価項目(標準)'!F8="","",+'評価項目(標準)'!F8) -> 左欄の①～③のうち、該当する項目数 | J9: =IF(I9="","",VLOOKUP(I9,'評価項目(標準)'!F9:I12,4,FALSE)) | L9: =IF(K9="","",VLOOKUP(K9,'評価項目(標準)'!F9:I12,4,FALSE)) | M9: =IF(J9="","",IF(L9="","",ROUNDUP(AVERAGE(J9,L9),1)))
G10: =+IF(+'評価項目(標準)'!I9="","",+'評価項目(標準)'!I9) -> 5 | H10: =+IF(+'評価項目(標準)'!F9="","",+'評価項目(標準)'!F9) -> ３項目
G11: =+IF(+'評価項目(標準)'!I10="","",+'評価項目(標準)'!I10) -> 3 | H11: =+IF(+'評価項目(標準)'!F10="","",+'評価項目(標準)'!F10) -> ２項目
G12: =+IF(+'評価項目(標準)'!I11="","",+'評価項目(標準)'!I11) -> 1 | H12: =+IF(+'評価項目(標準)'!F11="","",+'評価項目(標準)'!F11) -> １項目
G13: =+IF(+'評価項目(標準)'!I12="","",+'評価項目(標準)'!I12) -> 0 | H13: =+IF(+'評価項目(標準)'!F12="","",+'評価項目(標準)'!F12) -> 実績なし
E14: =IF(+'評価項目(標準)'!E13="","",+'評価項目(標準)'!E13) -> 家畜伝染病発生等の緊急時における家畜処分 の運用協定等の評価 | F14: =+IF(+'評価項目(標準)'!J13="","",+'評価項目(標準)'!J13) -> 9 | G14: =+IF(+'評価項目(標準)'!I13="","",+'評価項目(標準)'!I13) -> 9 | H14: =+IF(+'評価項目(標準)'!F13="","",+'評価項目(標準)'!F13) -> 「家畜処分の運用協定の実績」あり | J14: =IF(I14="","",VLOOKUP(I14,'評価項目(標準)'!F13:I15,4,FALSE)) | L14: =IF(K14="","",VLOOKUP(K14,'評価項目(標準)'!F13:I15,4,FALSE)) | M14: =IF(J14="","",IF(L14="","",ROUNDUP(AVERAGE(J14,L14),1)))
G15: =+IF(+'評価項目(標準)'!I14="","",+'評価項目(標準)'!I14) -> 3 | H15: =+IF(+'評価項目(標準)'!F14="","",+'評価項目(標準)'!F14) -> 「研修会への参加実績」あり
G16: =+IF(+'評価項目(標準)'!I15="","",+'評価項目(標準)'!I15) -> 0 | H16: =+IF(+'評価項目(標準)'!F15="","",+'評価項目(標準)'!F15) -> 実績なし
C17: =IF(+'評価項目(標準)'!C16="","",+'評価項目(標準)'!C16) -> 社会貢献度 | D17: =IF(+'評価項目(標準)'!D16="","",+'評価項目(標準)'!D16) -> 社会貢献度 | E17: =IF(+'評価項目(標準)'!E16="","",+'評価項目(標準)'!E16) -> ① 男女共同参画活動実績 ② 障がい者雇用実績 ③ 人権に関する取組実績 ④ 「みえる・わかる・つながる！職業ポータルサイト」 Webページへの登録 ⑤ 現場見学会等の開催実績 ⑥ 不当要求防止責任者講習の受講実績 ⑦ 職場環境づくりの実績 | F17: =+IF(+'評価項目(標準)'!J16="","",+'評価項目(標準)'!J16) -> 4 | G17: 左欄の①～⑦のうち、該当する項目により得られる合計点数 | J17: =+IF(I17="","",VLOOKUP(I17,'評価項目(標準)'!F17:I21,4,0)) | L17: =+IF(K17="","",VLOOKUP(K17,'評価項目(標準)'!F17:I21,4,FALSE)) | M17: =IF(J17="","",IF(L17="","",ROUNDUP(AVERAGE(J17,L17),1)))
G18: =+IF(+'評価項目(標準)'!I17="","",+'評価項目(標準)'!I17) -> 4 | H18: =+IF(+'評価項目(標準)'!F17="","",+'評価項目(標準)'!F17) -> ４点 | S18: =IF(I17="","",VLOOKUP(I17,'評価項目(標準)'!F17:I21,4,FALSE))
G19: =+IF(+'評価項目(標準)'!I18="","",+'評価項目(標準)'!I18) -> 3 | H19: =+IF(+'評価項目(標準)'!F18="","",+'評価項目(標準)'!F18) -> ３点
G20: =+IF(+'評価項目(標準)'!I19="","",+'評価項目(標準)'!I19) -> 2 | H20: =+IF(+'評価項目(標準)'!F19="","",+'評価項目(標準)'!F19) -> ２点
G21: =+IF(+'評価項目(標準)'!I20="","",+'評価項目(標準)'!I20) -> 1 | H21: =+IF(+'評価項目(標準)'!F20="","",+'評価項目(標準)'!F20) -> １点
G22: =+IF(+'評価項目(標準)'!I21="","",+'評価項目(標準)'!I21) -> 0 | H22: =+IF(+'評価項目(標準)'!F21="","",+'評価項目(標準)'!F21) -> 実績（取得点）なし
E23: =IF(+'評価項目(標準)'!E22="","",+'評価項目(標準)'!E22) -> 県内企業による施工 | F23: =+IF(+'評価項目(標準)'!J22="","",+'評価項目(標準)'!J22) -> 5 | G23: =+IF(+'評価項目(標準)'!I22="","",+'評価項目(標準)'!I22) -> 5 | H23: =+IF(+'評価項目(標準)'!F22="","",+'評価項目(標準)'!F22) -> 県内企業による施工の割合 90 ％以上 | J23: =IF(I23="","",VLOOKUP(I23,'評価項目(標準)'!F22:I24,4,FALSE)) | K23: ― | L23: ― | M23: =J23
G24: =+IF(+'評価項目(標準)'!I23="","",+'評価項目(標準)'!I23) -> 3 | H24: =+IF(+'評価項目(標準)'!F23="","",+'評価項目(標準)'!F23) -> 県内企業による施工の割合 70 ％以上
G25: =+IF(+'評価項目(標準)'!I24="","",+'評価項目(標準)'!I24) -> 0 | H25: =+IF(+'評価項目(標準)'!F24="","",+'評価項目(標準)'!F24) -> 上記以外
C26: =IF(+'評価項目(標準)'!C25="","",+'評価項目(標準)'!C25) -> 企業の技術力等 | D26: =IF(+'評価項目(標準)'!D25="","",+'評価項目(標準)'!D25) -> 工事実績 | E26: =IF(+'評価項目(標準)'!E25="","",+'評価項目(標準)'!E25) -> 企業の工事実績 | F26: =+IF(+'評価項目(標準)'!J25="","",+'評価項目(標準)'!J25) -> 20 | G26: =+IF(+'評価項目(標準)'!I25="","",+'評価項目(標準)'!I25) -> 20 | H26: =+IF(+'評価項目(標準)'!F25="","",+'評価項目(標準)'!F25) -> 評価対象工事の実績あり | J26: =IF(I26="","",VLOOKUP(I26,'評価項目(標準)'!F25:I26,4,FALSE)) | L26: =IF(K26="","",VLOOKUP(K26,'評価項目(標準)'!F25:I26,4,FALSE)) | M26: =IF(J26="","",IF(L26="","",ROUNDUP(AVERAGE(J26,L26),1)))
G27: =+IF(+'評価項目(標準)'!I26="","",+'評価項目(標準)'!I26) -> 0 | H27: =+IF(+'評価項目(標準)'!F26="","",+'評価項目(標準)'!F26) -> 評価対象工事の実績なし
D28: =IF(+'評価項目(標準)'!D27="","",+'評価項目(標準)'!D27) -> 工事成績 | E28: =IF(+'評価項目(標準)'!E27="","",+'評価項目(標準)'!E27) -> 申告工事成績点 | F28: =+IF(+'評価項目(標準)'!J27="","",+'評価項目(標準)'!J27) -> 30 | G28: =IF(+'評価項目(標準)'!I27="","",+'評価項目(標準)'!I27) -> 30 | H28: =IF(+'評価項目(標準)'!F27="","",+'評価項目(標準)'!F27) -> 申告工事成績点が９０点以上の場合 | J28: =IF(NOT(ISNUMBER(I28)),"",IF(I28="","",IF(I28>100,"",IF(I28>90,G28,IF(I28>=75,ROUNDDOWN((ROUND(I28-75,1)*G28/15),1),IF(I28<75,0)))))) | L28: =IF(NOT(ISNUMBER(K28)),"",IF(K28="","",IF(K28>100,"",IF(K28>90,G28,IF(K28>=75,ROUNDDOWN((ROUND(K28-75,1)*G28/15),1),IF(K28<75,0)))))) | M28: =IF(J28="","",IF(L28="","",ROUNDUP(AVERAGE(J28,L28),1)))
G29: =IF(+'評価項目(標準)'!I28="","",+'評価項目(標準)'!I28) | H29: =IF(+'評価項目(標準)'!F28="","",+'評価項目(標準)'!F28) -> 申告工事成績点が７５点以上９０点未満の場合 (申告工事成績点－７５点) × ３０／１５
G30: =IF(+'評価項目(標準)'!I29="","",+'評価項目(標準)'!I29) -> ～ | M30: =J30 -> 0
G31: =IF(+'評価項目(標準)'!I30="","",+'評価項目(標準)'!I30)
G32: =IF(+'評価項目(標準)'!I31="","",+'評価項目(標準)'!I31) -> 0 | H32: =IF(+'評価項目(標準)'!F31="","",+'評価項目(標準)'!F31) -> 申告工事成績点が７５点未満の場合
D33: =IF(+'評価項目(標準)'!D32="","",+'評価項目(標準)'!D32) -> 品質 マネジメント | E33: =IF(+'評価項目(標準)'!E32="","",+'評価項目(標準)'!E32) -> 品質マネジメントシステムの認証 | F33: =+IF(+'評価項目(標準)'!J32="","",+'評価項目(標準)'!J32) -> 3 | G33: =+IF(+'評価項目(標準)'!I32="","",+'評価項目(標準)'!I32) -> 3 | H33: =+IF(+'評価項目(標準)'!F32="","",+'評価項目(標準)'!F32) -> 有 | J33: =IF(I33="","",IF(I33=H33,G33,IF(I33=H34,G34))) | L33: =IF(K33="","",IF(K33=H33,G33,IF(K33=H34,G34))) | M33: =IF(J33="","",IF(L33="","",ROUNDUP(AVERAGE(J33,L33),1)))
G34: =+IF(+'評価項目(標準)'!I33="","",+'評価項目(標準)'!I33) -> 0 | H34: =+IF(+'評価項目(標準)'!F33="","",+'評価項目(標準)'!F33) -> 無
D35: =IF(+'評価項目(標準)'!D34="","",+'評価項目(標準)'!D34) -> 労働安全 衛生管理 | E35: =IF(+'評価項目(標準)'!E34="","",+'評価項目(標準)'!E34) -> 労働安全衛生マネジメントシステムの認証 | F35: =+IF(+'評価項目(標準)'!J34="","",+'評価項目(標準)'!J34) -> 5 | G35: 5 | H35: =IF(+'評価項目(標準)'!F34="","",+'評価項目(標準)'!F34) -> 有 | J35: =IF(I35="","",IF(I35=H35,G35,IF(I35=H36,G36))) | L35: =IF(K35="","",IF(K35=H35,G35,IF(K35=H36,G36))) | M35: =IF(J35="","",IF(L35="","",ROUNDUP(AVERAGE(J35,L35),1)))
G36: 0 | H36: =IF(+'評価項目(標準)'!F35="","",+'評価項目(標準)'!F35) -> 無
B37: =IF('評価項目(標準)'!B36="","",+'評価項目(標準)'!B36) -> 技術者の能力 | C37: =IF(+'評価項目(標準)'!C36="","",+'評価項目(標準)'!C36) -> 技術者の能力 | D37: =IF(+'評価項目(標準)'!D36="","",+'評価項目(標準)'!D36) -> 配置予定 技術者の 工事実績 | E37: =IF(+'評価項目(標準)'!E36="","",+'評価項目(標準)'!E36) -> 主任（監理）技術者又は 現場代理人としての工事実績 | F37: =+IF(+'評価項目(標準)'!J36="","",+'評価項目(標準)'!J36) -> 20 | G37: =+IF(+'評価項目(標準)'!I36="","",+'評価項目(標準)'!I36) -> 20 | H37: =+IF(+'評価項目(標準)'!F36="","",+'評価項目(標準)'!F36) -> 評価対象工事の実績あり | J37: =IF(I37="","",VLOOKUP(I37,'評価項目(標準)'!F36:I37,4,FALSE)) | L37: =IF(K37="","",VLOOKUP(K37,'評価項目(標準)'!F36:I37,4,FALSE)) | M37: =IF(J37="","",IF(L37="","",ROUNDUP(AVERAGE(J37,L37),1)))
G38: =+IF(+'評価項目(標準)'!I37="","",+'評価項目(標準)'!I37) -> 0 | H38: =+IF(+'評価項目(標準)'!F37="","",+'評価項目(標準)'!F37) -> 評価対象工事の実績なし
D39: =IF(+'評価項目(標準)'!D38="","",+'評価項目(標準)'!D38) -> 配置予定技術者の 資格保有状況 | E39: =IF(+'評価項目(標準)'!E38="","",+'評価項目(標準)'!E38) -> 舗装工事に係る資格 | F39: =+IF(+'評価項目(標準)'!J38="","",+'評価項目(標準)'!J38) -> 5 | G39: =+IF(+'評価項目(標準)'!I38="","",+'評価項目(標準)'!I38) -> 5 | H39: =+IF(+'評価項目(標準)'!F38="","",+'評価項目(標準)'!F38) -> １級舗装施工管理技術者の資格保有 | J39: =IF(I39="","",VLOOKUP(I39,'評価項目(標準)'!F38:I40,4,FALSE)) | L39: =IF(K39="","",VLOOKUP(K39,'評価項目(標準)'!F38:I40,4,FALSE)) | M39: =IF(J39="","",IF(L39="","",ROUNDUP(AVERAGE(J39,L39),1)))
G40: =+IF(+'評価項目(標準)'!I39="","",+'評価項目(標準)'!I39) -> 3 | H40: =+IF(+'評価項目(標準)'!F39="","",+'評価項目(標準)'!F39) -> ２級舗装施工管理技術者の資格保有
G41: =+IF(+'評価項目(標準)'!I40="","",+'評価項目(標準)'!I40) -> 0 | H41: =+IF(+'評価項目(標準)'!F40="","",+'評価項目(標準)'!F40) -> 無
D42: =IF(+'評価項目(標準)'!D41="","",+'評価項目(標準)'!D41) -> 配置予定技術者 のCPD （継続学習制度）取組実績 | E42: =IF(+'評価項目(標準)'!E41="","",+'評価項目(標準)'!E41) -> 各団体が発行するCPDの取組実績 | F42: =+IF(+'評価項目(標準)'!J41="","",+'評価項目(標準)'!J41) -> 5 | G42: =+IF(+'評価項目(標準)'!I41="","",+'評価項目(標準)'!I41) -> 5 | H42: =+IF(+'評価項目(標準)'!F41="","",+'評価項目(標準)'!F41) -> 換算後の単位数の合計が推奨単位以上 | J42: =IF(I42="","",IF(I42=H42,G42,IF(I42=H43,G43,IF(I42=H44,G44)))) | L42: =IF(K42="","",IF(K42=H42,G42,IF(K42=H43,G43,IF(K42=H44,G44)))) | M42: =IF(J42="","",IF(L42="","",ROUNDUP(AVERAGE(J42,L42),1)))
G43: =+IF(+'評価項目(標準)'!I42="","",+'評価項目(標準)'!I42) -> 3 | H43: =+IF(+'評価項目(標準)'!F42="","",+'評価項目(標準)'!F42) -> 換算後の単位数の合計が推奨単位の1/2以上
G44: =+IF(+'評価項目(標準)'!I43="","",+'評価項目(標準)'!I43) -> 0 | H44: =+IF(+'評価項目(標準)'!F43="","",+'評価項目(標準)'!F43) -> 換算後の単位数の合計が推奨単位の1/2未満
B45: =IF(+'評価項目(標準)'!B50="","",+'評価項目(標準)'!B50) -> 総合評価方式の不履行による 加算点の減点 | E45: =IF(+'評価項目(標準)'!E50="","",+'評価項目(標準)'!E50) -> 当該工事の入札公告日が、三重県が総合評価方式で発注した工事で不履行による減点措置が課されている期間内である場合、「技術提案等不履行確定通知書等」に記載した減点を行います。 | H45: =IF('評価項目(標準)'!I50="","",+'評価項目(標準)'!I50) -> △換算前 加算点満点 ×1割 ×件数 | J45: =IF(+I45="",0,-(+'評価項目(標準)'!J52*0.1*I45)) -> 0 | L45: =IF(+K45="",0,-(+'評価項目(標準)'!J52*0.1*K45)) -> 0 | M45: =IF(J45+L45=0,"",J45+L45)
B46: =IF(+'評価項目(標準)'!B51="","",+'評価項目(標準)'!B51) -> 指名停止措置による 加算点の減点 | E46: =IF(+'評価項目(標準)'!E51="","",+'評価項目(標準)'!E51) -> 当該工事の入札公告日が、三重県発注工事にかかる贈賄、公契約関係競売等妨害又は談合により役員等又は使用人が逮捕、又は逮捕を経ないで公訴を提起されたことによる指名停止に伴う減点措置期間内である場合、減点を行います。 | H46: =IF('評価項目(標準)'!I51="","",+'評価項目(標準)'!I51) -> △換算前 加算点満点 ×1割 | M46: =IF(I46+K46>0,-'評価項目(標準)'!J52*0.1,"")
L47: 合計 | M47: =ROUNDDOWN(SUM(M6:M44),1)+SUM(M45:M46) -> 0
B49: 【記入上の注意】
B50: ・ | D50: 黄色着色のセルは、該当する数値を直接入力してください。加算点は、自動計算により表示されます。
B51: ・ | D51: 橙色着色のセルは、セル中から該当する項目を選択してください。加算点は、選択した内容に応じて自動で表示されます。
B52: ・ | C52: 評価項目及び評価基準の詳細については、「評価項目一覧」及び「技術資料作成上の留意事項」で確認してください。
B53: ・ | C53: このシートは「評価項目一覧」とリンクしています。自己加算点が表示されていない場合は評価しません。

Sheet 様式２
A1: （様式２） 地域精通度・地域貢献度・社会貢献度・企業の技術力等に関する技術資料 | AJ1: ※本頁は（様式２）の注意事項となっています。提出の必要はありません。
O2: 会社名
A3: 【地域精通度】 | AJ3: 【地域精通度の注意事項】
A5: 本店等所在地 | E5: 本店所在地 | AJ5: 注1： | AL5: 本店と建設業法上の主たる営業所の所在地が同じ場合は、本店所在地の入力は不要です。
E7: 所在地の変更日 | J7: 年 月 日 | AJ7: 注2： | AL7: 公告の前月から３６か月前までの期間に、本店及び建設業法上の主たる営業所の所在地を変更した場合は、旧所在地と変更日を入力して下さい。
E8: 旧所在地
E10: 営業所所在地 | AJ10: 注3： | AL10: 三重県内に建設業法上の営業所を有する県外業者は、営業所所在地を入力してください。
A12: 【地域貢献度】 | AJ12: 【地域貢献度の注意事項】
A14: 地域貢献度 | E14: ① | F14: 多面的機能支払活動実績 | AG14: 無 | AJ14: 注1： | AL14: 各項目で実績の有無をプルダウンで選択してください。
E15: ② | F15: 土地改良施設等における災害時の応急対策業務等に関する協定に基づいた訓練等への参加実績 | AG15: 無
E16: ③ | F16: 公共施設美化活動実績 | AG16: 無
G17: 【社会貢献度】 | AJ17: 【社会貢献度の注意事項】
AD18: 評価対象 | AG18: 実績
A19: 社会貢献度 | E19: ① | F19: 男女共同参画活動実績の有無 | AJ19: 注1： | AL19: 評価対象として届け出る項目に「○」をプルダウンで選択してください。（最大４点）
E20: ② | F20: 障がい者雇用実績の有無
E21: ③ | F21: 人権に関する取組実績の有無（人権研修の受講実績又は公正採用選考人権啓発推進員の設置） | AJ21: 注2： | AL21: 各項目で実績（認証取得）の有無をプルダウンで選択してください。
E22: ④ | F22: 「みえる・わかる・つながる！職業ポータルサイト」Webページへの登録
E23: ⑤ | F23: 現場見学会等の開催実績
E24: ⑥ | F24: 不当要求防止責任者講習の受講実績
E25: ⑦ | F25: 「ユースエール認定制度」認定実績
F26: 「みえの働き方改革推進企業登録制度」登録実績
A27: 【企業の技術力等】 | AJ27: 【企業の技術力等の注意事項】
A29: 工事実績 | E29: コリンズ登録番号 | AJ29: 【工事成績】
E30: 工事名称 | AJ30: 注1： | AL30: 令和３年４月１日から当該工事の入札公告日までに三重県が通知（工事成績認定書）した舗装工事の評定点を、任意の件数だけ入力してください。 １０件まで申告できます。
A33: 工事成績 | E33: 三重県の 工事評定点 | H33: 令和３年４月１日以降に完成検査を行った 工事の評定点 | AD33: 申告工事成績点 | AL33: 記載例
AD34: =IF(COUNTA(T33:AC34)=0,"",ROUNDDOWN(((SUM(T33:AC34)+75))/(COUNTA(T33:AC34)+1),1)) | AI34: 点

Sheet 様式３
A1: （様式３） 技術者の能力に関する技術資料
N2: 会社名
A3: 【技術者の能力】
A5: 配置予定技術者 | C5: 氏名 | W5: 生年月日（西暦） | AB5: 年 月 日
C6: 資格 | F6: １級舗装施工管理技術者 | M6: □ | O6: ２級舗装施工管理技術者 | V6: □
C7: 工事実績 | F7: コリンズ登録番号
F8: 工事名称
C10: 上記記載工事における 役割・従事期間 | K10: 役 割 | Q10: 監理技術者 | V10: □ | W10: 主任技術者 | AB10: □ | AC10: 現場代理人 | AH10: □
K11: 従事期間
C12: CPD取組実績 | E12: 取得単位認定団体 | N12: （例）○○技士会 | Y12: 推奨単位数 | AG12: 単位／年
N13: 取得単位数 | S13: 換算係数 | U13: 換算後単位数 | Y13: 換算後単位数の合計
E14: R8(2026)年度 | Q14: 単位 | S14: 1 | U14: =IF(N14="","",ROUNDDOWN(N14*S14,3)) | W14: 単位 | Y14: =IF(SUM(U14:V17)=0,"",SUM(U14:V17)) | AD14: 単 位
E15: R7(2025)年度 | Q15: 単位 | S15: 1 | U15: =IF(N15="","",ROUNDDOWN(N15*S15,3)) | W15: 単位
E16: R6(2024)年度 | Q16: 単位 | S16: 0.5 | U16: =IF(N16="","",ROUNDDOWN(N16*(1/2),3)) | W16: 単位
E17: R5(2023)年度 | Q17: 単位 | S17: 0.25 | U17: =IF(N17="","",ROUNDDOWN(N17*(1/4),3)) | W17: 単位
A22: 【技術者の能力の注意事項】
A24: 注1： | C24: 配置予定技術者の氏名は、必ず入力してください。
A26: 注2： | C26: 配置予定技術者に関する項目のうち、チェック欄が設けてあるところは、該当する「□」をプルダウンで「■」に変更してください。
A28: 注3： | C28: CPDの取得単位認定団体で記入できる団体数は、１団体のみとします。 推奨単位数は、上記で記入した団体のR8.4.1時点の推奨単位数を入力してください。

Sheet 様式４（対策なし）
A1: （様式４） 技術提案に関する技術資料
A2: 工事名：
A3: 会社名 | AQ3: ※本頁は、提出不要です。
A4: 特記課題 | AQ4: 【特記課題の注意事項】
A5: 項目１ | D5: 留意点① | AP5: 1 2 3 4 5 6 7 8 9 10 11 12 13 14 15 | AR5: ・評価項目一覧に示す３項目について、工事を行ううえでの留意点とその理由をそれぞれ簡潔に記
AP6: 2 | AR6: 載してください。
AP7: 3 | AR7: ・具体的に実施する対策などを記載しても、その部分は評価しません。
AP8: 4 | AR8: ・文字の大きさは、１０ポイントとします。
AP9: 5 | AR9: ・行列の挿入及びセルサイズの変更は、不可とします。
D10: 留意点② | AP10: 1 | AR10: ・各項目の留意点①～③は、それぞれ５行以内で記載するものとします。
AP11: 2 | AR11: ・５行を超えて記載されている留意点は、評価しません。※例１、例２参照
AP12: 3 | AR12: ・ | AS12: 文字ポイントを小さくして、５行以内で記載されている留意点は、評価しません。※例３参照
AP13: 4 | AR13: ・ | AS13: 印刷した様式４で判断しますので、十分確認のうえ提出してください。
AP14: 5 | AS14: ※電子媒体で提出された場合でも、印刷して判断します。
D15: 留意点③ | AP15: 1 | AR15: ・ | AS15: 一括審査対象工事の場合、工事名には入札への参加を希望するすべての工事名を記載してください。
AP16: 2
AP17: 3
AP18: 4
AP19: 5
A20: 項目２ | D20: 留意点① | AP20: 1 2 3 4 5 6 7 8 9 10 11 12 13 14 15
AP21: 2
AP22: 3
AP23: 4
AP24: 5
D25: 留意点② | AP25: 1
AP26: 2
AP27: 3
AP28: 4
AP29: 5
D30: 留意点③ | AP30: 1
AP31: 2
AP32: 3
AP33: 4
AP34: 5
A35: 項目３ | D35: 留意点① | AP35: 1
AP36: 2
AP37: 3
AP38: 4
AP39: 5
D40: 留意点② | AP40: 1
AP41: 2
AP42: 3
AP43: 4
AP44: 5
D45: 留意点③ | AP45: 1
AP46: 2
AP47: 3
AP48: 4
AP49: 5
