Workbook

Sheet 評価項目(標準)
M1: 土木一式工事（農業農村整備事業） 【令和８年６月版】
B2: 簡易型Ａ | D2: 総合評価方式評価項目一覧 【土木一式工事（農業農村整備事業）】 除算方式 | J2: 工事名： | K2: 七取地区 農村地域排水対策事業 排水機場造成工事
B3: 大項目 | D3: 中項目 | E3: 小項目 | F3: 評価基準 | I3: 加算点 | L3: 様式 | M3: 評価内容等
I4: 配点 | J4: 小項目 配点 | K4: 大項目 配点
B5: 企 業 の 能 力 等 | C5: 地域精通度・貢献度 | D5: 地域精通度 | E5: 本店等所在地 | F5: 桑名市、桑名郡内 | I5: 10 | J5: 10 | K5: 100 | L5: 様式１ 様式２ | M5: 「本店及び建設業法上の主たる営業所」の所在地により評価します。 ・本店等の所在地を変更した場合、公告の前月から３６か月前までの期間の「１８か月以上連続した所在地」を評価の対象とします。
F6: 上記以外の桑名建設事務所管内 | I6: 0
E7: 施工箇所地域における工事実績 | F7: 桑名市（長島町を除く）内における 工事実績あり | I7: 5 | J7: 5 | M7: 桑名市（長島町を除く）内において、単独又は共同企業体構成員（出資比率20％以上に限る）の元請として受注し、令和５年度以降に完成し、かつ、引渡しが済んでいる契約金額５００万円以上の工事の実績の有無により評価します。 ・評価対象の工事実績は１件とし、コリンズに登録された公共機関等発注の工事に限ります。
F8: 工事実績なし | I8: 0
D9: 地域貢献度 | E9: ① 多面的機能支払活動実績 ② 土地改良施設等における災害時の応急対策業務等に 関する協定に基づいた訓練等への参加実績 ③ 公共施設美化活動実績 | F9: 左欄の①～③のうち、該当する項目数 | J9: 5 | M9: 下記の実績の該当項目数により評価します。 ①多面的機能支払活動実績 令和７年度、令和８年度のいずれかにおける三重県内の多面的機能支払活動へ、企業の社会的責任（ＣＳＲ）として参加している実績の有無により評価します。 ・三重県の市町から多面的機能支払交付金に係る認定を受けた組織の活動に参加した実績に限ります。 ②土地改良施設等における災害時の応急対策業務等に関する協定に基づいた訓練等への参加実績 土地改良施設等ＢＣＰ協議会と「土地改良施設等における災害時の応急対策業務等に関する協定」を締結した組織に属し、かつ、当該協定に基づいた訓練等（訓練や研修等）への参加実績の有無により評価します。 ・「訓練等への参加実績」は、令和８年度の参加実績を対象とします。ただし、令和８年度の訓練等の実施までは令和７年度の参加実績を対象とします。 ③公共施設美化活動実績 令和７年度又は令和８年度における桑名建設事務所管内の公共施設美化活動の活動実績の有無により評価します。 ・「公共施設美化活動」とは、三重県県土整備部が定める住民参加に係る事業（河川・海岸美化ボランティア活動推進事業、道路美化ボランティア活動助成事業、フラワーオアシス推進事業、ふれあいの道事業）を指します。 ・ また、令和７年度又は令和８年度において、桑名建設事務所主催の員弁川河川清掃活動に実質的に参加し、その証明書の写しの提出があれば評価の対象とします。
F10: ３項目 | I10: 5
F11: ２項目 | I11: 3
F12: １項目 | I12: 1
F13: 実績なし | I13: 0
E14: 家畜伝染病発生等の緊急時における家畜処分 の運用協定等の評価 | F14: 「家畜処分の運用協定の実績」あり | I14: 9 | J14: 9 | M14: 家畜伝染病発生等の緊急時における「家畜処分の運用協定の実績」又は家畜伝染病発生等の緊急時における対応に向けた「研修会への参加実績」の有無により評価します。 ・「家畜処分の運用協定の実績」は、桑名農政事務所と締結した「家畜伝染病発生等の緊急時における家畜処分の運用協定」に基づいた研修（実地訓練）への参加実績（令和７年度、令和８年度のいずれか）を指します。 なお、「家畜処分の運用協定の実績」の評価については、「家畜伝染病発生等の緊急時における家畜処分の基本協定」を三重県と締結後、５年以上の継続した研修（実地訓練）を行っており、運用協定で定める緊急連絡応援体制ネットワークを確立している団体を対象とします。 ・「研修会への参加実績」は、県が認める家畜伝染病発生等の緊急時における対応に向けた研修会への参加実績（令和７年度、令和８年度のいずれか）を指します。 なお、「研修会への参加実績」の評価は、桑名農政事務所管内に「本店及び建設業法上の主たる営業所」又は「建設業法上の営業所」を有する企業に限ります。 ・「家畜処分の運用協定の実績」と「研修会への参加実績」は重複して評価しません。
F15: 「研修会への参加実績」あり | I15: 3
F16: 実績なし | I16: 0
C17: 社会貢献度 | D17: 社会貢献度 | E17: ① 男女共同参画活動実績 ② 障がい者雇用実績 ③ 人権に関する取組実績 ④ 「みえる・わかる・つながる！職業ポータルサイト」 Webページへの登録 ⑤ 現場見学会等の開催実績 ⑥ 不当要求防止責任者講習の受講実績 ⑦ 職場環境づくりの実績 | F17: 左欄の①～⑦のうち、該当する項目により得られる合計点数 | J17: 4 | M17: 下記の実績の該当する項目により得られる合計点数により評価します。 ①男女共同参画活動実績 女性の職業生活における活躍の推進に関する法律に基づく一般事業主行動計画を策定している場合に評価します。（１点） ②障がい者雇用実績 障害者の雇用の促進等に関する法律に基づく障がい者雇用の有無により評価します。（１点） ・法律により障がい者雇用が義務付けられている企業は、法定雇用率を達成している場合に評価します。 ・法律により障がい者雇用が義務付けられていない企業は、障がい者を雇用している場合に評価します。 ③人権に関する取組実績 「三重県が開催する人権に関する研修の受講実績」又は「職業安定法に基づく公正採用選考人権啓発推進員の設置」のいずれかの取組実績の有無により評価します。（１点） なお、「三重県が開催する人権に関する研修の受講実績」は、令和７年度から令和８年度の受講実績を評価の対象とします。 ・「三重県が開催する人権に関する研修の受講実績」と「職業安定法に基づく公正採用選考人権啓発推進員の設置」は重複して評価しません。 ④「みえる・わかる・つながる！職業ポータルサイト」Webページへの登録 ・当該工事の入札に参加する者が、「みえる・わかる・つながる！職業ポータルサイト」Webぺージにインターンシップ受入情報を登録している場合に評価します。（１点） ・Webページ登録項目のうち「所在地、業種、職種、受入対象、受入時期、受入人数」の項目が全て記載されている場合に評価します。 ⑤現場見学会等の開催実績 ・当該工事の入札に参加する者が、単独又は共同企業体構成員として受注した三重県内の工事において、小学校、中学校、高等学校等の教育機関を対象に社会に貢献する建設業の役割の理解や次世代を支える若者たちの建設業への興味や関心を高めることを目的として現場見学会を開催した場合、及び、同目的で出前講座、実習授業のいずれかを開催した場合に評価します。（１点） ・現場見学会、出前講座、実習授業は１０名以上を対象とした場合に評価します。ただし、１０名以上の参加が見込めない場合（小規模な学校や学校側との調整の結果参加者が１０名未満となった場合）は、１０名未満でも評価します。 ・令和３年度から当該工事の入札公告日までの開催実績を評価の対象とします。 ・評価対象の現場見学会の実績は、官民の別は問いません。 ⑥不当要求防止責任者講習の受講実績 当該工事の入札に参加する者が、不当要求防止責任者を選任し、三重県公安委員会（(公財)暴力追放三重県民センター）が開催する不当要求防止責任者講習の受講実績のある場合に評価します。（１点） なお、「不当要求防止責任者講習の受講実績」は、令和５年度から入札公告日までの受講実績を評価の対象とします。 ⑦職場環境づくりの実績 下記のいずれかの実績により評価します。 （１） 令和４年度以降に「ユースエール認定制度」に認定されたことがある。（２点） （２）「みえの働き方改革推進企業登録制度」に登録されている。（１点） ※（１）と（２）は重複して評価しません。
F18: ４点 | I18: 4
F19: ３点 | I19: 3
F20: ２点 | I20: 2
F21: １点 | I21: 1
F22: 実績（取得点）なし | I22: 0
E23: 県内産資材の使用 | F23: 全て県内産を使用 | I23: 5 | J23: 5 | M23: 当該工事を貴社が受注した際、当該工事において指定する主要資材を全て県内産とする場合に評価します。 ・当該工事において指定する主要資材は、生コン・石材です。 ・県内産とは、三重県内の工場、採取場等で生産又は加工される資材を指します。 ※当該工事を契約後、「建設工事請負契約書の特約事項」に基づき履行を確認します。
F24: 上記以外 | I24: 0
E25: 県内企業による施工 | F25: 県内企業による施工の割合90％以上 | I25: 5 | J25: 5 | M25: 当該工事のうち、建設業法上の建設工事の県内企業による施工の割合により評価します。 ・県内企業とは、三重県内に「本店及び建設業法上の主たる営業所」を有する企業を指します。 ・元請直営施工、一次下請負及び二次下請負による施工を評価の対象とします。 県内企業による施工の割合 ＝ [ 契約金額(最終) － { 県外一次下請金額(最終) + 県外二次下請金額(最終) } ] ／ 契約金額(最終) ※当該工事を契約後、「建設工事請負契約書の特約事項」に基づき履行を確認します。
F26: 県内企業による施工の割合70％以上 | I26: 3
F27: 上記以外 | I27: 0
C28: 企業の雇用に関する取組 | D28: 担い手確保・育成への 取組 | E28: 建設業者団体の取組実績 | F28: 取組の実績あり | I28: 2 | J28: 2 | M28: ・「建設業者団体」による担い手確保・育成への取組実績は、令和７年度から入札公告日までの取組を公共事業運営課が証明した場合に評価します。 ※「建設業者団体」とは、建設業法第27条の37で規定する団体を指します。 ・評価対象となる企業は、団体に属する企業とします。 ・取組実績とは、下記①～④のすべての実績をいいます。 ①ＳＮＳ（X等）を活用した建設業の魅力発信（現場見学会や実習授業等、団体取組の発信） ※対象年度内に24回以上更新 ②高校等教員との交流会の開催 ※評価の対象は県内すべての工業系高校教員を対象とした交流会、又は県内５つの地域(北勢・中南勢・伊勢志摩・伊賀・東紀州）のうち、いずれかの地域の工業系高校以外の高校等教員を対象とした交流会とします。) ③生徒・学生と女性技術者との交流会の開催（高校等の生徒、短期大学または大学の学生と建設企業の女性技術者との交流会） ④入職前の職業教育及び入職後の教育訓練の実施（就職内定者研修、新入社員研修など） ※「高校等」とは、高等学校、中等教育学校、特別支援学校及び高等専門学校をいいます。
F29: 取組の実績なし | I29: 0
E30: 建設業者団体地域組織の 取組実績 | F30: 取組の実績あり | I30: 1 | J30: 1 | M30: ・「建設業者団体」の各地域組織（支部、分会等）による担い手確保・育成への取組実績は、令和６年度から入札公告日までの取組を公共事業運営課が証明した場合に評価します。 ※「建設業者団体」とは、建設業法第27条の37で規定する団体を指します。 ・評価対象となる企業は、「建設業者団体」の地域組織に属する企業とします。 ・取組実績とは、下記①～③のいずれかの実績をいいます。 ①現場見学会（大学、短期大学、高校等、中学校、小学校）（発注者と共同開催したものは除く） ②出前授業（大学、短期大学、高校等、中学校、小学校） ③実習授業（大学、短期大学、高校等） ※「高校等」とは、高等学校、中等教育学校、特別支援学校及び高等専門学校をいいます。 ※10名以上を対象とした場合に評価。ただし、10名以上の参加が見込めない場合（小規模な学校や学校側との調整の結果）は、参加者が10名未満でも評価します。
F31: 取組の実績なし | I31: 0
E32: 建設企業の取組実績 | F32: 取組の実績あり | I32: 1 | J32: 1 | M32: ・「建設企業」による担い手確保・育成への取組実績を評価します。 ・取組実績とは、下記①～④の取組のうち２つの実績をいいます。 ・取組①～③は、公告時点で社則等に規定されている場合に評価します。 ・取組④は、令和６年度から入札公告日までの受講実績を評価の対象とします。 ①キャリアパスの策定 ※技術職、技能職、事務職別に策定 ※役職、経験年数（目標年齢）、職務内容、必要とする資格や能力が記載されていること ②キャリアアップの支援（資格取得の支援制度） ※資格取得のための試験・研修の費用負担、技能や資格取得に伴う一時金や手当の支給、職場内での学習制度 ③福利厚生の充実（社員の安定した生活環境を確保するため、企業型DC、職場iDeCo、NISA（企業がNISA取扱業者と契約したものに限る。）のいずれかの制度を導入） ※資産を形成する私的年金や投資を企業がサポート（掛金の企業負担、年金制度の情報提供、投資を学べる機会の提供、給料天引きなど） ④ハラスメント研修の開催 ※「フレンテみえ」等が実施している企業向け研修の受講 ※研修には、従業員の半数以上かつ役員の半数以上が出席
F33: 取組の実績なし | I33: 0
C34: 企業の技術力等 | D34: 工事実績 | E34: 企業の工事実績 | F34: 評価対象工事の実績あり | I34: 20 | J34: 20 | M34: 三重県内において、単独又は共同企業体構成員（出資比率20％以上に限る）の元請として受注し、平成２３年度以降に完成し、かつ、引渡しが済んでいる契約金額２５００万円以上の評価対象工事の実績の有無により評価します。 ・「評価対象工事」とは、土木一式工事で発注された、コンクリート管水路工又は塩化ビニール管水路工を含む工事を指します。 ・評価対象の工事実績は１件とし、コリンズに登録された公共機関等発注の工事に限ります。
F35: 評価対象工事の実績なし | I35: 0
D36: 工事成績 | E36: 申告工事成績点又は総合点 | F36: 申告工事成績点が８５点以上の場合 | I36: 20 | J36: 20 | M36: 【申告工事成績点】 次の①又は②を申告工事成績点とし、評価基準に記載の計算式１により評価します。ただし、申告工事成績点が８５点以上の場合は２０点、７５点未満の場合は１０点とします。 ①令和５年４月１日から当該工事の入札公告日までに三重県が通知（工事成績認定書）した土木一式工事の評定点のうち、申告された任意の件数（ｎ件）の合計に７５点を加え、ｎ＋１で割った値とする。ただし、申告できるのは10件までとします。 申告工事成績点 ＝（申告されたｎ件の評定点の合計＋７５）／（ｎ＋１）（小数第２位以下切り捨て） ②国土交通省中部地方整備局又は国土交通省近畿地方整備局が令和７年度に公表した工事成績評定平均点とします。 【総合点】 ①及び②が無い場合は、総合点を評価基準に記載の計算式２（小数第２位以下切り捨て）により評価します。ただし、総合点が９７０点以上の場合は１０点、８４０点未満の場合は０点とします。 ・総合点とは入札公告日において最新の三重県建設工事等入札参加資格者名簿に記載された総合点とします。 ・上記全てに該当がない場合の加算点は０点です。
F37: 申告工事成績点が７５点以上８５点未満の場合 計算式１ （申告工事成績点－７５点）＋１０点
I38: ～
F40: 申告工事成績点が７５点未満の場合 | I40: 10
F41: 総合点が９７０点以上の場合 | I41: 10
...

Sheet 届出書
AA3: 令和 年 月 日
A5: 技 術 資 料 届 出 書
B9: 三重県知事 | H9: あて
O11: 住 所
O13: 会社名
O15: 代表者氏名
E18: 工 事 名 | F18: ： | G18: 令和７年度 農村地域排水対策 第9248-分0004号
G19: 七取地区 農村地域排水対策事業
G20: 排水機場造成工事
B25: 上記工事の技術資料を提出します。なお、地方自治法施行令（昭和22年政令第16号）
B26: 第167条の4の規定に該当する者でないこと並びに確認資料の内容は、事実と相違ない
B27: ことを誓約します。問い合わせ先は次のとおりです。
C30: 【問い合わせ先】
D31: 担当者 | G31: ： | H31: ○○ ○○
D32: 部 署 | G32: ： | H32: ○○本店 ○○部 ○○課
D33: 住 所 | G33: ： | H33: ○○県○○市○○
D34: 電話番号 | G34: ： | H34: ＊＊＊－＊＊＊＊－＊＊＊＊
D35: ＦＡＸ | G35: ： | H35: ＊＊＊－＊＊＊＊－＊＊＊＊
D36: Ｅ-mail | G36: ：

Sheet 様式１
B1: （様式１） 加算点申告書
F2: 会社名
B3: 大項目 | D3: 中項目 | E3: 小項目 | F3: 加算点 | G3: 評価基準 | J3: 各評価項目の 自己評価 | K3: 自己 加算点
G4: 配点 | H4: 基準
B5: =IF('評価項目(標準)'!B5="","",+'評価項目(標準)'!B5) -> 企 業 の 能 力 等 | C5: =IF(+'評価項目(標準)'!C5="","",+'評価項目(標準)'!C5) -> 地域精通度・貢献度 | D5: =IF(+'評価項目(標準)'!D5="","",+'評価項目(標準)'!D5) -> 地域精通度 | E5: =IF(+'評価項目(標準)'!E5="","",+'評価項目(標準)'!E5) -> 本店等所在地 | F5: =+IF(+'評価項目(標準)'!J5="","",+'評価項目(標準)'!J5) -> 10 | G5: =+IF(+'評価項目(標準)'!I5="","",+'評価項目(標準)'!I5) -> 10 | H5: =+IF(+'評価項目(標準)'!F5="","",+'評価項目(標準)'!F5) -> 桑名市、桑名郡内 | K5: =IF(J5="","",VLOOKUP(J5,'評価項目(標準)'!F5:I6,4,FALSE))
G6: =+IF(+'評価項目(標準)'!I6="","",+'評価項目(標準)'!I6) -> 0 | H6: =+IF(+'評価項目(標準)'!F6="","",+'評価項目(標準)'!F6) -> 上記以外の桑名建設事務所管内
E7: =IF(+'評価項目(標準)'!E7="","",+'評価項目(標準)'!E7) -> 施工箇所地域における工事実績 | F7: =+IF(+'評価項目(標準)'!J7="","",+'評価項目(標準)'!J7) -> 5 | G7: =+IF(+'評価項目(標準)'!I7="","",+'評価項目(標準)'!I7) -> 5 | H7: =+IF(+'評価項目(標準)'!F7="","",+'評価項目(標準)'!F7) -> 桑名市（長島町を除く）内における 工事実績あり | K7: =IF(J7="","",IF(J7=H7,G7,IF(J7=H8,G8)))
G8: =+IF(+'評価項目(標準)'!I8="","",+'評価項目(標準)'!I8) -> 0 | H8: =+IF(+'評価項目(標準)'!F8="","",+'評価項目(標準)'!F8) -> 工事実績なし
D9: =IF(+'評価項目(標準)'!D9="","",+'評価項目(標準)'!D9) -> 地域貢献度 | E9: =IF(+'評価項目(標準)'!E9="","",+'評価項目(標準)'!E9) -> ① 多面的機能支払活動実績 ② 土地改良施設等における災害時の応急対策業務等に 関する協定に基づいた訓練等への参加実績 ③ 公共施設美化活動実績 | F9: =+IF(+'評価項目(標準)'!J9="","",+'評価項目(標準)'!J9) -> 5 | G9: =+IF(+'評価項目(標準)'!F9="","",+'評価項目(標準)'!F9) -> 左欄の①～③のうち、該当する項目数 | K9: =IF(J9="","",VLOOKUP(J9,'評価項目(標準)'!F10:I13,4,FALSE))
G10: =+IF(+'評価項目(標準)'!I10="","",+'評価項目(標準)'!I10) -> 5 | H10: =+IF(+'評価項目(標準)'!F10="","",+'評価項目(標準)'!F10) -> ３項目
G11: =+IF(+'評価項目(標準)'!I11="","",+'評価項目(標準)'!I11) -> 3 | H11: =+IF(+'評価項目(標準)'!F11="","",+'評価項目(標準)'!F11) -> ２項目
G12: =+IF(+'評価項目(標準)'!I12="","",+'評価項目(標準)'!I12) -> 1 | H12: =+IF(+'評価項目(標準)'!F12="","",+'評価項目(標準)'!F12) -> １項目
G13: =+IF(+'評価項目(標準)'!I13="","",+'評価項目(標準)'!I13) -> 0 | H13: =+IF(+'評価項目(標準)'!F13="","",+'評価項目(標準)'!F13) -> 実績なし
E14: =IF(+'評価項目(標準)'!E14="","",+'評価項目(標準)'!E14) -> 家畜伝染病発生等の緊急時における家畜処分 の運用協定等の評価 | F14: =+IF(+'評価項目(標準)'!J14="","",+'評価項目(標準)'!J14) -> 9 | G14: =+IF(+'評価項目(標準)'!I14="","",+'評価項目(標準)'!I14) -> 9 | H14: =+IF(+'評価項目(標準)'!F14="","",+'評価項目(標準)'!F14) -> 「家畜処分の運用協定の実績」あり | K14: =IF(J14="","",VLOOKUP(J14,'評価項目(標準)'!F14:I16,4,FALSE))
G15: =+IF(+'評価項目(標準)'!I15="","",+'評価項目(標準)'!I15) -> 3 | H15: =+IF(+'評価項目(標準)'!F15="","",+'評価項目(標準)'!F15) -> 「研修会への参加実績」あり
G16: =+IF(+'評価項目(標準)'!I16="","",+'評価項目(標準)'!I16) -> 0 | H16: =+IF(+'評価項目(標準)'!F16="","",+'評価項目(標準)'!F16) -> 実績なし
C17: =IF(+'評価項目(標準)'!C17="","",+'評価項目(標準)'!C17) -> 社会貢献度 | D17: =IF(+'評価項目(標準)'!D17="","",+'評価項目(標準)'!D17) -> 社会貢献度 | E17: ='評価項目(標準)'!E17:E22 -> ① 男女共同参画活動実績 ② 障がい者雇用実績 ③ 人権に関する取組実績 ④ 「みえる・わかる・つながる！職業ポータルサイト」 Webページへの登録 ⑤ 現場見学会等の開催実績 ⑥ 不当要求防止責任者講習の受講実績 ⑦ 職場環境づくりの実績 | F17: =+IF(+'評価項目(標準)'!J17="","",+'評価項目(標準)'!J17) -> 4 | G17: 左欄の①～⑦のうち、該当する項目により得られる合計点数 | K17: =IF(J17="","",IF(J17=H18,G18,IF(J17=H19,G19,IF(J17=H20,G20,IF(J17=H21,G21,IF(J17=H22,G22))))))
G18: =+IF(+'評価項目(標準)'!I18="","",+'評価項目(標準)'!I18) -> 4 | H18: =+IF(+'評価項目(標準)'!F18="","",+'評価項目(標準)'!F18) -> ４点
G19: =+IF(+'評価項目(標準)'!I19="","",+'評価項目(標準)'!I19) -> 3 | H19: =+IF(+'評価項目(標準)'!F19="","",+'評価項目(標準)'!F19) -> ３点
G20: =+IF(+'評価項目(標準)'!I20="","",+'評価項目(標準)'!I20) -> 2 | H20: =+IF(+'評価項目(標準)'!F20="","",+'評価項目(標準)'!F20) -> ２点
G21: =+IF(+'評価項目(標準)'!I21="","",+'評価項目(標準)'!I21) -> 1 | H21: =+IF(+'評価項目(標準)'!F21="","",+'評価項目(標準)'!F21) -> １点
G22: =+IF(+'評価項目(標準)'!I22="","",+'評価項目(標準)'!I22) -> 0 | H22: =+IF(+'評価項目(標準)'!F22="","",+'評価項目(標準)'!F22) -> 実績（取得点）なし
E23: =IF(+'評価項目(標準)'!E23="","",+'評価項目(標準)'!E23) -> 県内産資材の使用 | F23: =+IF(+'評価項目(標準)'!J23="","",+'評価項目(標準)'!J23) -> 5 | G23: =+IF(+'評価項目(標準)'!I23="","",+'評価項目(標準)'!I23) -> 5 | H23: =+IF(+'評価項目(標準)'!F23="","",+'評価項目(標準)'!F23) -> 全て県内産を使用 | K23: =IF(J23="","",IF(J23=H23,G23,IF(J23=H24,G24)))
G24: =+IF(+'評価項目(標準)'!I24="","",+'評価項目(標準)'!I24) -> 0 | H24: =+IF(+'評価項目(標準)'!F24="","",+'評価項目(標準)'!F24) -> 上記以外
E25: =IF(+'評価項目(標準)'!E25="","",+'評価項目(標準)'!E25) -> 県内企業による施工 | F25: =+IF(+'評価項目(標準)'!J25="","",+'評価項目(標準)'!J25) -> 5 | G25: =+IF(+'評価項目(標準)'!I25="","",+'評価項目(標準)'!I25) -> 5 | H25: =+IF(+'評価項目(標準)'!F25="","",+'評価項目(標準)'!F25) -> 県内企業による施工の割合90％以上 | K25: =IF(J25="","",VLOOKUP(J25,'評価項目(標準)'!F25:I27,4,FALSE))
G26: =+IF(+'評価項目(標準)'!I26="","",+'評価項目(標準)'!I26) -> 3 | H26: =+IF(+'評価項目(標準)'!F26="","",+'評価項目(標準)'!F26) -> 県内企業による施工の割合70％以上
G27: =+IF(+'評価項目(標準)'!I27="","",+'評価項目(標準)'!I27) -> 0 | H27: =+IF(+'評価項目(標準)'!F27="","",+'評価項目(標準)'!F27) -> 上記以外
C28: =IF(+'評価項目(標準)'!C28="","",+'評価項目(標準)'!C28) -> 企業の雇用に関する取組 | D28: =IF(+'評価項目(標準)'!D28="","",+'評価項目(標準)'!D28) -> 担い手確保・育成への 取組 | E28: =IF(+'評価項目(標準)'!E28="","",+'評価項目(標準)'!E28) -> 建設業者団体の取組実績 | F28: =+IF(+'評価項目(標準)'!J28="","",+'評価項目(標準)'!J28) -> 2 | G28: =+IF(+'評価項目(標準)'!I28="","",+'評価項目(標準)'!I28) -> 2 | H28: ='評価項目(標準)'!F28 -> 取組の実績あり | K28: =IF(J28="","",IF(J28=H28,G28,IF(J28=H29,G29)))
G29: =+IF(+'評価項目(標準)'!I29="","",+'評価項目(標準)'!I29) -> 0 | H29: ='評価項目(標準)'!F29 -> 取組の実績なし
E30: =IF(+'評価項目(標準)'!E30="","",+'評価項目(標準)'!E30) -> 建設業者団体地域組織の 取組実績 | F30: =+IF(+'評価項目(標準)'!J30="","",+'評価項目(標準)'!J30) -> 1 | G30: =+IF(+'評価項目(標準)'!I30="","",+'評価項目(標準)'!I30) -> 1 | H30: ='評価項目(標準)'!F30 -> 取組の実績あり | K30: =IF(J30="","",IF(J30=H30,G30,IF(J30=H31,G31)))
G31: =+IF(+'評価項目(標準)'!I31="","",+'評価項目(標準)'!I31) -> 0 | H31: ='評価項目(標準)'!F31 -> 取組の実績なし
E32: =IF(+'評価項目(標準)'!E32="","",+'評価項目(標準)'!E32) -> 建設企業の取組実績 | F32: =+IF(+'評価項目(標準)'!J32="","",+'評価項目(標準)'!J32) -> 1 | G32: =+IF(+'評価項目(標準)'!I32="","",+'評価項目(標準)'!I32) -> 1 | H32: ='評価項目(標準)'!F32 -> 取組の実績あり | K32: =IF(J32="","",IF(J32=H32,G32,IF(J32=H33,G33)))
G33: =+IF(+'評価項目(標準)'!I33="","",+'評価項目(標準)'!I33) -> 0 | H33: ='評価項目(標準)'!F33 -> 取組の実績なし
C34: =IF(+'評価項目(標準)'!C34="","",+'評価項目(標準)'!C34) -> 企業の技術力等 | D34: =IF(+'評価項目(標準)'!D34="","",+'評価項目(標準)'!D34) -> 工事実績 | E34: =IF(+'評価項目(標準)'!E34="","",+'評価項目(標準)'!E34) -> 企業の工事実績 | F34: =+IF(+'評価項目(標準)'!J34="","",+'評価項目(標準)'!J34) -> 20 | G34: =+IF(+'評価項目(標準)'!I34="","",+'評価項目(標準)'!I34) -> 20 | H34: =+IF(+'評価項目(標準)'!F34="","",+'評価項目(標準)'!F34) -> 評価対象工事の実績あり | K34: =IF(J34="","",VLOOKUP(J34,'評価項目(標準)'!F34:I35,4,FALSE))
G35: =+IF(+'評価項目(標準)'!I35="","",+'評価項目(標準)'!I35) -> 0 | H35: =+IF(+'評価項目(標準)'!F35="","",+'評価項目(標準)'!F35) -> 評価対象工事の実績なし
D36: =IF(+'評価項目(標準)'!D36="","",+'評価項目(標準)'!D36) -> 工事成績 | E36: =IF(+'評価項目(標準)'!E36="","",+'評価項目(標準)'!E36) -> 申告工事成績点又は総合点 | F36: =+IF(+'評価項目(標準)'!J36="","",+'評価項目(標準)'!J36) -> 20 | G36: =IF(+'評価項目(標準)'!I36="","",+'評価項目(標準)'!I36) -> 20 | H36: =IF(+'評価項目(標準)'!F36="","",+'評価項目(標準)'!F36) -> 申告工事成績点が８５点以上の場合 | J36: 【申告工事成績点】 | K36: =IF(COUNTA(J39,J42)=0,"",IF(COUNTA(J39,J42)=2,"入力は【申告工事成績点】、【総合点】のいずれかにして下さい",IF(AND(COUNTA(J39)=1,J37=""),"いずれの【申告工事成績点】なのか、「三重県、中部地整、近畿地整」より選択してください",IF(J42>=970,10,IF(AND(J42<970,J42>=840),ROUNDDOWN((J42-840)/(970-840)*10,1),IF(J42<840,0,)))+IF(J39>=85,F36,IF(AND(J39<75,J39>=1),10,IF(AND(J39<85,J39>=75),(J39-75)+10))))))
G37: =IF(+'評価項目(標準)'!I37="","",+'評価項目(標準)'!I37) | H37: =IF(+'評価項目(標準)'!F37="","",+'評価項目(標準)'!F37) -> 申告工事成績点が７５点以上８５点未満の場合 計算式１ （申告工事成績点－７５点）＋１０点
G38: =IF(+'評価項目(標準)'!I38="","",+'評価項目(標準)'!I38) -> ～
G39: =IF(+'評価項目(標準)'!I39="","",+'評価項目(標準)'!I39)
G40: =IF(+'評価項目(標準)'!I40="","",+'評価項目(標準)'!I40) -> 10 | H40: =IF(+'評価項目(標準)'!F40="","",+'評価項目(標準)'!F40) -> 申告工事成績点が７５点未満の場合
...

Sheet 様式１【経常ＪＶ用】
B2: （様式１） 加算点申告書
F3: 会社名
B4: 大項目 | D4: 中項目 | E4: 小項目 | F4: 加算点 | G4: 評価基準 | J4: 構成員Ａの評価 | L4: 構成員Ｂの評価 | N4: 経常ＪＶの評価
G5: 配点 | H5: 基準 | J5: 各評価項目の 自己評価 | K5: 自己 加算点 | L5: 各評価項目の 自己評価 | M5: 自己 加算点
B6: =IF('評価項目(標準)'!B5="","",+'評価項目(標準)'!B5) -> 企 業 の 能 力 等 | C6: =IF(+'評価項目(標準)'!C5="","",+'評価項目(標準)'!C5) -> 地域精通度・貢献度 | D6: =IF(+'評価項目(標準)'!D5="","",+'評価項目(標準)'!D5) -> 地域精通度 | E6: =IF(+'評価項目(標準)'!E5="","",+'評価項目(標準)'!E5) -> 本店等所在地 | F6: =+IF(+'評価項目(標準)'!J5="","",+'評価項目(標準)'!J5) -> 10 | G6: =+IF(+'評価項目(標準)'!I5="","",+'評価項目(標準)'!I5) -> 10 | H6: =+IF(+'評価項目(標準)'!F5="","",+'評価項目(標準)'!F5) -> 桑名市、桑名郡内 | K6: =IF(J6="","",VLOOKUP(J6,'評価項目(標準)'!F5:I6,4,FALSE)) | L6: ― | M6: ― | N6: =K6
G7: =+IF(+'評価項目(標準)'!I6="","",+'評価項目(標準)'!I6) -> 0 | H7: =+IF(+'評価項目(標準)'!F6="","",+'評価項目(標準)'!F6) -> 上記以外の桑名建設事務所管内
E8: =IF(+'評価項目(標準)'!E7="","",+'評価項目(標準)'!E7) -> 施工箇所地域における工事実績 | F8: =+IF(+'評価項目(標準)'!J7="","",+'評価項目(標準)'!J7) -> 5 | G8: =+IF(+'評価項目(標準)'!I7="","",+'評価項目(標準)'!I7) -> 5 | H8: =+IF(+'評価項目(標準)'!F7="","",+'評価項目(標準)'!F7) -> 桑名市（長島町を除く）内における 工事実績あり | K8: =IF(J8="","",IF(J8=H8,G8,IF(J8=H9,G9))) | M8: =IF(L8="","",IF(L8=H8,G8,IF(L8=H9,G9))) | N8: =IF(K8="","",IF(M8="","",ROUNDUP(AVERAGE(K8,M8),1)))
G9: =+IF(+'評価項目(標準)'!I8="","",+'評価項目(標準)'!I8) -> 0 | H9: =+IF(+'評価項目(標準)'!F8="","",+'評価項目(標準)'!F8) -> 工事実績なし
D10: =IF(+'評価項目(標準)'!D9="","",+'評価項目(標準)'!D9) -> 地域貢献度 | E10: =IF(+'評価項目(標準)'!E9="","",+'評価項目(標準)'!E9) -> ① 多面的機能支払活動実績 ② 土地改良施設等における災害時の応急対策業務等に 関する協定に基づいた訓練等への参加実績 ③ 公共施設美化活動実績 | F10: =+IF(+'評価項目(標準)'!J9="","",+'評価項目(標準)'!J9) -> 5 | G10: =+IF(+'評価項目(標準)'!F9="","",+'評価項目(標準)'!F9) -> 左欄の①～③のうち、該当する項目数 | K10: =IF(J10="","",VLOOKUP(J10,'評価項目(標準)'!F10:I13,4,FALSE)) | M10: =IF(L10="","",VLOOKUP(L10,'評価項目(標準)'!F10:I13,4,FALSE)) | N10: =IF(K10="","",IF(M10="","",ROUNDUP(AVERAGE(K10,M10),1)))
G11: =+IF(+'評価項目(標準)'!I10="","",+'評価項目(標準)'!I10) -> 5 | H11: =+IF(+'評価項目(標準)'!F10="","",+'評価項目(標準)'!F10) -> ３項目
G12: =+IF(+'評価項目(標準)'!I11="","",+'評価項目(標準)'!I11) -> 3 | H12: =+IF(+'評価項目(標準)'!F11="","",+'評価項目(標準)'!F11) -> ２項目
G13: =+IF(+'評価項目(標準)'!I12="","",+'評価項目(標準)'!I12) -> 1 | H13: =+IF(+'評価項目(標準)'!F12="","",+'評価項目(標準)'!F12) -> １項目
G14: =+IF(+'評価項目(標準)'!I13="","",+'評価項目(標準)'!I13) -> 0 | H14: =+IF(+'評価項目(標準)'!F13="","",+'評価項目(標準)'!F13) -> 実績なし
E15: =IF(+'評価項目(標準)'!E14="","",+'評価項目(標準)'!E14) -> 家畜伝染病発生等の緊急時における家畜処分 の運用協定等の評価 | F15: =+IF(+'評価項目(標準)'!J14="","",+'評価項目(標準)'!J14) -> 9 | G15: =+IF(+'評価項目(標準)'!I14="","",+'評価項目(標準)'!I14) -> 9 | H15: =+IF(+'評価項目(標準)'!F14="","",+'評価項目(標準)'!F14) -> 「家畜処分の運用協定の実績」あり | K15: =IF(J15="","",VLOOKUP(J15,'評価項目(標準)'!F14:I16,4,FALSE)) | M15: =IF(L15="","",VLOOKUP(L15,'評価項目(標準)'!F14:I16,4,FALSE)) | N15: =IF(K15="","",IF(M15="","",ROUNDUP(AVERAGE(K15,M15),1)))
G16: =+IF(+'評価項目(標準)'!I15="","",+'評価項目(標準)'!I15) -> 3 | H16: =+IF(+'評価項目(標準)'!F15="","",+'評価項目(標準)'!F15) -> 「研修会への参加実績」あり
G17: =+IF(+'評価項目(標準)'!I16="","",+'評価項目(標準)'!I16) -> 0 | H17: =+IF(+'評価項目(標準)'!F16="","",+'評価項目(標準)'!F16) -> 実績なし
C18: =IF(+'評価項目(標準)'!C17="","",+'評価項目(標準)'!C17) -> 社会貢献度 | D18: =IF(+'評価項目(標準)'!D17="","",+'評価項目(標準)'!D17) -> 社会貢献度 | E18: ='評価項目(標準)'!E17 -> ① 男女共同参画活動実績 ② 障がい者雇用実績 ③ 人権に関する取組実績 ④ 「みえる・わかる・つながる！職業ポータルサイト」 Webページへの登録 ⑤ 現場見学会等の開催実績 ⑥ 不当要求防止責任者講習の受講実績 ⑦ 職場環境づくりの実績 | F18: =+IF(+'評価項目(標準)'!J17="","",+'評価項目(標準)'!J17) -> 4 | G18: 左欄の①～⑦のうち、該当する項目により得られる合計点数 | K18: =IF(J18="","",IF(J18=H19,G19,IF(J18=H20,G20,IF(J18=H21,G21,IF(J18=H22,G22,IF(J18=H23,G23)))))) | M18: =IF(L18="","",IF(L18=H19,G19,IF(L18=H20,G20,IF(L18=H21,G21,IF(L18=H22,G22,IF(L18=H23,G23)))))) | N18: =IF(K18="","",IF(M18="","",ROUNDUP(AVERAGE(K18,M18),1)))
G19: =+IF(+'評価項目(標準)'!I18="","",+'評価項目(標準)'!I18) -> 4 | H19: =+IF(+'評価項目(標準)'!F18="","",+'評価項目(標準)'!F18) -> ４点
G20: =+IF(+'評価項目(標準)'!I19="","",+'評価項目(標準)'!I19) -> 3 | H20: =+IF(+'評価項目(標準)'!F19="","",+'評価項目(標準)'!F19) -> ３点
G21: =+IF(+'評価項目(標準)'!I20="","",+'評価項目(標準)'!I20) -> 2 | H21: =+IF(+'評価項目(標準)'!F20="","",+'評価項目(標準)'!F20) -> ２点
G22: =+IF(+'評価項目(標準)'!I21="","",+'評価項目(標準)'!I21) -> 1 | H22: =+IF(+'評価項目(標準)'!F21="","",+'評価項目(標準)'!F21) -> １点
G23: =+IF(+'評価項目(標準)'!I22="","",+'評価項目(標準)'!I22) -> 0 | H23: =+IF(+'評価項目(標準)'!F22="","",+'評価項目(標準)'!F22) -> 実績（取得点）なし
E24: =IF(+'評価項目(標準)'!E23="","",+'評価項目(標準)'!E23) -> 県内産資材の使用 | F24: =+IF(+'評価項目(標準)'!J23="","",+'評価項目(標準)'!J23) -> 5 | G24: =+IF(+'評価項目(標準)'!I23="","",+'評価項目(標準)'!I23) -> 5 | H24: =+IF(+'評価項目(標準)'!F23="","",+'評価項目(標準)'!F23) -> 全て県内産を使用 | K24: =IF(J24="","",IF(J24=H24,G24,IF(J24=H25,G25))) | L24: ― | M24: ― | N24: =K24
G25: =+IF(+'評価項目(標準)'!I24="","",+'評価項目(標準)'!I24) -> 0 | H25: =+IF(+'評価項目(標準)'!F24="","",+'評価項目(標準)'!F24) -> 上記以外
E26: =IF(+'評価項目(標準)'!E25="","",+'評価項目(標準)'!E25) -> 県内企業による施工 | F26: =+IF(+'評価項目(標準)'!J25="","",+'評価項目(標準)'!J25) -> 5 | G26: =+IF(+'評価項目(標準)'!I25="","",+'評価項目(標準)'!I25) -> 5 | H26: =+IF(+'評価項目(標準)'!F25="","",+'評価項目(標準)'!F25) -> 県内企業による施工の割合90％以上 | K26: =IF(J26="","",VLOOKUP(J26,'評価項目(標準)'!F25:I27,4,FALSE)) | L26: ― | M26: ― | N26: =K26
G27: =+IF(+'評価項目(標準)'!I26="","",+'評価項目(標準)'!I26) -> 3 | H27: =+IF(+'評価項目(標準)'!F26="","",+'評価項目(標準)'!F26) -> 県内企業による施工の割合70％以上
G28: =+IF(+'評価項目(標準)'!I27="","",+'評価項目(標準)'!I27) -> 0 | H28: =+IF(+'評価項目(標準)'!F27="","",+'評価項目(標準)'!F27) -> 上記以外
C29: =IF(+'評価項目(標準)'!C28="","",+'評価項目(標準)'!C28) -> 企業の雇用に関する取組 | D29: =IF(+'評価項目(標準)'!D28="","",+'評価項目(標準)'!D28) -> 担い手確保・育成への 取組 | E29: =IF(+'評価項目(標準)'!E28="","",+'評価項目(標準)'!E28) -> 建設業者団体の取組実績 | F29: =+IF(+'評価項目(標準)'!J28="","",+'評価項目(標準)'!J28) -> 2 | G29: =+IF(+'評価項目(標準)'!I28="","",+'評価項目(標準)'!I28) -> 2 | H29: ='評価項目(標準)'!F28 -> 取組の実績あり | K29: =IF(J29="","",IF(J29=H29,G29,IF(J29=H30,G30))) | M29: =IF(L29="","",IF(L29=H29,G29,IF(L29=H30,G30))) | N29: =IF(K29="","",IF(M29="","",ROUNDUP(AVERAGE(K29,M29),1)))
G30: =+IF(+'評価項目(標準)'!I29="","",+'評価項目(標準)'!I29) -> 0 | H30: ='評価項目(標準)'!F29 -> 取組の実績なし
E31: =IF(+'評価項目(標準)'!E30="","",+'評価項目(標準)'!E30) -> 建設業者団体地域組織の 取組実績 | F31: =+IF(+'評価項目(標準)'!J30="","",+'評価項目(標準)'!J30) -> 1 | G31: =+IF(+'評価項目(標準)'!I30="","",+'評価項目(標準)'!I30) -> 1 | H31: ='評価項目(標準)'!F30 -> 取組の実績あり | K31: =IF(J31="","",IF(J31=H31,G31,IF(J31=H32,G32))) | M31: =IF(L31="","",IF(L31=H31,G31,IF(L31=H32,G32))) | N31: =IF(K31="","",IF(M31="","",ROUNDUP(AVERAGE(K31,M31),1)))
G32: =+IF(+'評価項目(標準)'!I31="","",+'評価項目(標準)'!I31) -> 0 | H32: ='評価項目(標準)'!F31 -> 取組の実績なし
E33: =IF(+'評価項目(標準)'!E32="","",+'評価項目(標準)'!E32) -> 建設企業の取組実績 | F33: =+IF(+'評価項目(標準)'!J32="","",+'評価項目(標準)'!J32) -> 1 | G33: =+IF(+'評価項目(標準)'!I32="","",+'評価項目(標準)'!I32) -> 1 | H33: ='評価項目(標準)'!F32 -> 取組の実績あり | K33: =IF(J33="","",IF(J33=H33,G33,IF(J33=H34,G34))) | M33: =IF(L33="","",IF(L33=H33,G33,IF(L33=H34,G34))) | N33: =IF(K33="","",IF(M33="","",ROUNDUP(AVERAGE(K33,M33),1)))
G34: =+IF(+'評価項目(標準)'!I33="","",+'評価項目(標準)'!I33) -> 0 | H34: ='評価項目(標準)'!F33 -> 取組の実績なし
C35: =IF(+'評価項目(標準)'!C34="","",+'評価項目(標準)'!C34) -> 企業の技術力等 | D35: =IF(+'評価項目(標準)'!D34="","",+'評価項目(標準)'!D34) -> 工事実績 | E35: =IF(+'評価項目(標準)'!E34="","",+'評価項目(標準)'!E34) -> 企業の工事実績 | F35: =+IF(+'評価項目(標準)'!J34="","",+'評価項目(標準)'!J34) -> 20 | G35: =+IF(+'評価項目(標準)'!I34="","",+'評価項目(標準)'!I34) -> 20 | H35: =+IF(+'評価項目(標準)'!F34="","",+'評価項目(標準)'!F34) -> 評価対象工事の実績あり | K35: =IF(J35="","",VLOOKUP(J35,'評価項目(標準)'!F34:I35,4,FALSE)) | M35: =IF(L35="","",VLOOKUP(L35,'評価項目(標準)'!F34:I35,4,FALSE)) | N35: =IF(K35="","",IF(M35="","",ROUNDUP(AVERAGE(K35,M35),1)))
G36: =+IF(+'評価項目(標準)'!I35="","",+'評価項目(標準)'!I35) -> 0 | H36: =+IF(+'評価項目(標準)'!F35="","",+'評価項目(標準)'!F35) -> 評価対象工事の実績なし
D37: =IF(+'評価項目(標準)'!D36="","",+'評価項目(標準)'!D36) -> 工事成績 | E37: =IF(+'評価項目(標準)'!E36="","",+'評価項目(標準)'!E36) -> 申告工事成績点又は総合点 | F37: =+IF(+'評価項目(標準)'!J36="","",+'評価項目(標準)'!J36) -> 20 | G37: =IF(+'評価項目(標準)'!I36="","",+'評価項目(標準)'!I36) -> 20 | H37: =IF(+'評価項目(標準)'!F36="","",+'評価項目(標準)'!F36) -> 申告工事成績点が８５点以上の場合 | J37: 【申告工事成績点】 | K37: =IF(COUNTA(J40,J43)=0,"",IF(COUNTA(J40,J43)=2,"入力は【申告工事成績点】、【総合点】のいずれかにして下さい",IF(AND(COUNTA(J40)=1,J38=""),"いずれの【申告工事成績点】なのか、「三重県、中部地整、近畿地整」より選択してください",IF(J43>=970,10,IF(AND(J43<970,J43>=840),ROUNDDOWN((J43-840)/(970-840)*10,1),IF(J43<840,0,)))+IF(J40>=85,F37,IF(AND(J40<75,J40>=1),10,IF(AND(J40<85,J40>=75),(J40-75)+10)))))) | L37: 【申告工事成績点】 | M37: =IF(COUNTA(L40,L43)=0,"",IF(COUNTA(L40,L43)=2,"入力は【申告工事成績点】、【総合点】のいずれかにして下さい",IF(AND(COUNTA(L40)=1,L38=""),"いずれの【申告工事成績点】なのか、「三重県、中部地整、近畿地整」より選択してください",IF(L43>=970,10,IF(AND(L43<970,L43>=840),ROUNDDOWN((L43-840)/(970-840)*10,1),IF(L43<840,0,)))+IF(L40>=85,F37,IF(AND(L40<75,L40>=1),10,IF(AND(L40<85,L40>=75),(L40-75)+10)))))) | N37: =IF(K37="","",IF(M37="","",ROUNDUP(AVERAGE(K37,M37),1)))
G38: =IF(+'評価項目(標準)'!I37="","",+'評価項目(標準)'!I37) | H38: =IF(+'評価項目(標準)'!F37="","",+'評価項目(標準)'!F37) -> 申告工事成績点が７５点以上８５点未満の場合 計算式１ （申告工事成績点－７５点）＋１０点
G39: =IF(+'評価項目(標準)'!I38="","",+'評価項目(標準)'!I38) -> ～ | N39: =K39 -> 0
G40: =IF(+'評価項目(標準)'!I39="","",+'評価項目(標準)'!I39)
G41: =IF(+'評価項目(標準)'!I40="","",+'評価項目(標準)'!I40) -> 10 | H41: =IF(+'評価項目(標準)'!F40="","",+'評価項目(標準)'!F40) -> 申告工事成績点が７５点未満の場合 | N41: =K41 -> 0
...

Sheet 様式２
A1: （様式２） 地域精通度・社会貢献度・企業の技術力等に関する技術資料 | AJ1: ※本頁は（様式２）の注意事項となっています。提出の必要はありません。
O2: 会社名
A3: 【地域精通度】 | AJ3: 【地域精通度の注意事項】
A5: 本店等所在地 | E5: 本店所在地 | AJ5: 注1： | AL5: 本店と建設業法上の主たる営業所の所在地が同じ場合は、本店所在地の入力は不要です。
E7: 所在地の変更日 | J7: 年 月 日 | AJ7: 注2： | AL7: 公告の前月から３６か月前までの期間に、本店及び建設業法上の主たる営業所の所在地を変更した場合は、旧所在地と変更日を入力して下さい。
E8: 旧所在地
E10: 営業所所在地 | AJ10: 注3： | AL10: 三重県内に建設業法上の営業所を有する県外業者は、営業所所在地を入力してください。
A12: 施工箇所地域 における 工事実績 | E12: コリンズ登録番号
E13: 工事名称
A16: 【地域貢献度】 | AJ16: 【地域貢献度の注意事項】
A18: 地域貢献度 | E18: ① | F18: 多面的機能支払活動実績 | AG18: 無 | AJ18: 注1： | AL18: 各項目で実績の有無をプルダウンで選択してください。
E19: ② | F19: 土地改良施設等における災害時の応急対策業務等に関する協定に基づいた訓練等への参加実績 | AG19: 無
E20: ③ | F20: 公共施設美化活動実績 | AG20: 無
G21: 【社会貢献度】 | AJ21: 【社会貢献度の注意事項】
AD22: 評価対象 | AG22: 実績
A23: 社会貢献度 | E23: ① | F23: 男女共同参画活動実績の有無 | AJ23: 注1： | AL23: 評価対象として届け出る項目に「○」をプルダウンで選択してください。（最大４点）
E24: ② | F24: 障がい者雇用実績の有無
E25: ③ | F25: 人権に関する取組実績の有無（人権研修の受講実績又は公正採用選考人権啓発推進員の設置） | AJ25: 注2： | AL25: 各項目で実績（認証取得）の有無をプルダウンで選択してください。
E26: ④ | F26: 「みえる・わかる・つながる！職業ポータルサイト」Webページへの登録
E27: ⑤ | F27: 現場見学会等の開催実績
E28: ⑥ | F28: 不当要求防止責任者講習の受講実績
E29: ⑦ | F29: 「ユースエール認定制度」認定実績
F30: 「みえの働き方改革推進企業登録制度」登録実績
G31: 【企業の雇用に関する取組】 | AJ31: 【企業の雇用に関する取組】
AD32: 評価対象 | AG32: 実績
A33: 建設企業の 取組実績 | E33: ① | F33: キャリアパスの策定 | AJ33: 注1： | AL33: 評価対象として届け出る項目に「○」をプルダウンで選択してください。（最大２項目）
E34: ② | F34: キャリアアップの支援
E35: ③ | F35: 福利厚生の充実 | AJ35: 注2： | AL35: 各項目で実績の有無をプルダウンで選択してください。
E36: ④ | F36: ハラスメント研修の開催
A37: 【企業の技術力等】 | AJ37: 【企業の技術力等の注意事項】
A39: 工事実績 | E39: コリンズ登録番号
E40: 工事名称 | AL40: 企業の技術力等の着色部は、自動計算されます。
AJ42: 【工事成績】
A43: 工事成績 | E43: 三重県の 工事評定点 | H43: 令和５年４月１日以降に完成検査を行った 工事の評定点 | AD43: 申告工事成績点 | AJ43: 注1： | AL43: 令和５年４月１日から当該工事の入札公告日までに三重県が通知（工事成績認定書）した土木一式工事の評定点を、任意の件数だけ入力してください。 １０件まで申告できます。
AD44: =IF(COUNTA(T43:AC44)=0,"",ROUNDDOWN(((SUM(T43:AC44)+75))/(COUNTA(T43:AC44)+1),1)) | AI44: 点
A45: 受注工事高 １級技術者 １人あたりの 公共機関等の 契約金額 ２千５百万円 以上の 土木一式工事 | E45: 工事名称 | T45: 当初契約工期日数 | Z45: 当初契約金額 （円） | AD45: 計算式により算出 した額（Ｐ）（円） | AH45: 出資 比率
T46: 全体（日） | W46: 当該年度（日） | AL46: 記載例
AD47: =IF(Z47=0,"",ROUNDDOWN(Z47*W49/T49*IF(AH47=0,1,AH47/100),0))
T48: ～ | W48: ～
H49: ( | I49: □ | J49: 単独 | L49: ・ | M49: □ | N49: 共同企業体構成員 | S49: ) | T49: =IF(U48=0,"",U48-T47+1) | W49: =IF(X48=0,"",X48-W47+1)
...

Sheet 様式３
A1: （様式３） 技術者の能力に関する技術資料
N2: 会社名
A3: 【技術者の能力】
A5: 配置予定技術者 | C5: 氏名 | W5: 生年月日（西暦） | AB5: 年 月 日
C6: 資格
C7: 工事実績 | F7: コリンズ登録番号
F8: 工事名称
C10: 上記記載工事における 役割・従事期間 | K10: 役 割 | Q10: 監理技術者 | V10: □ | W10: 主任技術者 | AB10: □ | AC10: 現場代理人 | AH10: □
K11: 従事期間
C12: CPD取組実績 | E12: 取得単位認定団体 | N12: （例）○○技士会 | Y12: 推奨単位数 | AG12: 単位／年
N13: 取得単位数 | S13: 換算係数 | U13: 換算後単位数 | Y13: 換算後単位数の合計
E14: R8(2026)年度 | N14: 20 | Q14: 単位 | S14: 1 | U14: =IF(N14="","",ROUNDDOWN(N14*S14,3)) -> 20 | W14: 単位 | Y14: =IF(SUM(U14:V17)=0,"",SUM(U14:V17)) -> 55 | AD14: 単 位
E15: R7(2025)年度 | N15: 20 | Q15: 単位 | S15: 1 | U15: =IF(N15="","",ROUNDDOWN(N15*S15,3)) -> 20 | W15: 単位
E16: R6(2024)年度 | N16: 20 | Q16: 単位 | S16: 0.5 | U16: =IF(N16="","",ROUNDDOWN(N16*(1/2),3)) -> 10 | W16: 単位
E17: R5(2023)年度 | N17: 20 | Q17: 単位 | S17: 0.25 | U17: =IF(N17="","",ROUNDDOWN(N17*(1/4),3)) -> 5 | W17: 単位
A22: 【技術者の能力の注意事項】
A24: 注1： | C24: 配置予定技術者の氏名は、必ず入力してください。
A26: 注2： | C26: 配置予定技術者に関する項目のうち、チェック欄が設けてあるところは、該当する「□」をプルダウンで「■」に変更してください。
A28: 注3： | C28: CPDの取得単位認定団体で記入できる団体数は、１団体のみとします。 推奨単位数は、上記で記入した団体のR8.4.1時点の推奨単位数を入力してください。
