Workbook

Sheet 評価項目(標準)
M1: 建築一式工事【令和８年６月版】
B2: 簡易型Ａ | D2: 総合評価方式評価項目一覧 【建築一式工事】 除算方式 | G2: 工事名： | I2: 下深谷地区 農村地域排水対策事業 管理棟新築工事
B3: 大項目 | D3: 中項目 | E3: 小項目 | F3: 評価基準 | I3: 加算点 | L3: 様式 | M3: 評価内容等
I4: 配点 | J4: 小項目 配点 | K4: 大項目 配点
B5: 企 業 の 能 力 等 | C5: 地域精通度・貢献度 | D5: 地域精通度 | E5: 本店等所在地 | F5: 桑名建設事務所管内 | I5: 10 | J5: 10 | K5: =SUM(J5:J24) -> 61 | L5: 様式１ 様式２ | M5: 「本店及び建設業法上の主たる営業所」の所在地により評価します。 ・本店等の所在地を変更した場合、公告の前月から３６か月前までの期間の「１８か月以上連続した所在地」を評価の対象とします。
F6: 北勢地域ブロック内 （四日市、鈴鹿建設事務所管内） | I6: 5
F7: 上記以外 | I7: 0
D8: 地域貢献度 | E8: 災害協定の評価 | F8: 災害協定に基づく訓練１への参加実績あり | I8: 9 | J8: 9 | M8: 「災害協定に基づく訓練１への参加実績」又は「災害協定に基づく訓練２への参加実績」又は「防災協定の締結実績」の有無により評価します。 【災害協定に基づく訓練１】 ・「災害協定」とは、三重県のいずれかの建設事務所と締結した「地震・津波・風水害等の緊急時における運用協定」をいいます。 ・「災害協定に基づく訓練１の参加実績」は、「災害協定」に基づいた災害対応実動訓練及び情報伝達訓練への令和６年度又は令和７年度の参加実績を指します。 ・「災害対応実動訓練」は、以下の要件をすべて満たす場合に評価します。 ① 団体として５年以上継続した実動訓練実績があること。 ② 評価対象年度の実動訓練において、協定締結団体構成員のうち、三重県のいずれかの建設事務所管内の構成員の半数以上が参加していること。 ③ ②で評価する参加企業については、Ａランク企業では代表者と１名以上の技術者、Ｂランク企業等では、１名以上の技術者が参加していること。 ・「情報伝達訓練」は、団体として５年以上の継続した訓練の実績がある場合に評価します。 【災害協定に基づく訓練２】 ・「災害協定」とは、三重県のいずれかの建設事務所と締結した「地震・津波・風水害等の緊急時における運用協定」をいいます。 ・「災害協定に基づく訓練２の参加実績」は、「災害協定」に基づいた情報伝達訓練への令和６年度又は令和７年度の参加実績を指します。 ・「情報伝達訓練」は、団体として５年以上の継続した訓練の実績がある場合に評価します。 【防災協定の締結】 ・「防災協定」とは、「三重県内市町との防災協定」又は「三重県との防災協定」をいいます。 ・「三重県内市町との防災協定」については、「建設業のための広場」で公開している最新版の「経営事項審査申請の手引き」に記載された、協定書等に災害時の建設業者の活動義務が規定されている防災協定とします。 ・「三重県との防災協定」については、「技術資料作成上の留意事項」に記載した防災協定とします。 ・「防災協定の締結」は、令和６年度又は令和７年度の防災協定締結を評価の対象とします。対象期間以前の協定締結で、自動継続している協定は含みます。 ・「防災協定の締結」の評価は、三重県のいずれかの建設事務所管内に「本店及び建設業法上の主たる営業所」又は「建設業法上の営業所」を有する企業に限ります。 ※「災害協定に基づく訓練１への参加実績」と「災害協定に基づく訓練２への参加実績」と「防災協定の締結実績」は重複して評価しません。
F9: 災害協定に基づく訓練２への参加実績あり | I9: 7
F10: 防災協定の締結実績あり | I10: 3
F11: 実績なし | I11: 0
C12: 社会貢献度 | D12: 社会貢献度 | E12: ① 男女共同参画活動実績 ② 障がい者雇用実績 ③ 人権に関する取組実績 ④ 「みえる・わかる・つながる！職業ポータルサイト」 Webページへの登録 ⑤ 現場見学会等の開催実績 ⑥ 不当要求防止責任者講習の受講実績 ⑦ 職場環境づくりの実績 | F12: 左欄の①～⑦のうち、該当する項目により得られる合計点数 | J12: 4 | M12: 下記の実績の該当する項目により得られる合計点数により評価します。 ①男女共同参画活動実績 女性の職業生活における活躍の推進に関する法律に基づく一般事業主行動計画を策定している場合に評価します。（１点） ②障がい者雇用実績 障害者の雇用の促進等に関する法律に基づく障がい者雇用の有無により評価します。（１点） ・法律により障がい者雇用が義務付けられている企業は、法定雇用率を達成している場合に評価します。 ・法律により障がい者雇用が義務付けられていない企業は、障がい者を雇用している場合に評価します。 ③人権に関する取組実績 「三重県が開催する人権に関する研修の受講実績」又は「職業安定法に基づく公正採用選考人権啓発推進員の設置」のいずれかの取組実績の有無により評価します。（１点） なお、「三重県が開催する人権に関する研修の受講実績」は、令和７年度から令和８年度の受講実績を評価の対象とします。 ・「三重県が開催する人権に関する研修の受講実績」と「職業安定法に基づく公正採用選考人権啓発推進員の設置」は重複して評価しません。 ④「みえる・わかる・つながる！職業ポータルサイト」Webページへの登録 ・当該工事の入札に参加する者が、「みえる・わかる・つながる！職業ポータルサイト」Webぺージにインターンシップ受入情報を登録している場合に評価します。（１点） ・Webページ登録項目のうち「所在地、業種、職種、受入対象、受入時期、受入人数」の項目が全て記載されている場合に評価します。 ⑤現場見学会等の開催実績 ・当該工事の入札に参加する者が、単独又は共同企業体構成員として受注した三重県内の工事において、小学校、中学校、高等学校等の教育機関を対象に社会に貢献する建設業の役割の理解や次世代を支える若者たちの建設業への興味や関心を高めることを目的として現場見学会を開催した場合、及び、同目的で出前講座、実習授業のいずれかを開催した場合に評価します。（１点） ・現場見学会、出前講座、実習授業は１０名以上を対象とした場合に評価します。ただし、１０名以上の参加が見込めない場合（小規模な学校や学校側との調整の結果参加者が１０名未満となった場合）は、１０名未満でも評価します。 ・令和３年度から当該工事の入札公告日までの開催実績を評価の対象とします。 ・評価対象の現場見学会の実績は、官民の別は問いません。 ⑥不当要求防止責任者講習の受講実績 当該工事の入札に参加する者が、不当要求防止責任者を選任し、三重県公安委員会（(公財)暴力追放三重県民センター）が開催する不当要求防止責任者講習の受講実績のある場合に評価します。（１点） なお、「不当要求防止責任者講習の受講実績」は、令和５年度から入札公告日までの受講実績を評価の対象とします。 ⑦職場環境づくりの実績 下記のいずれかの実績により評価します。 （１） 令和４年度以降に「ユースエール認定制度」に認定されたことがある。（２点） （２）「みえの働き方改革推進企業登録制度」に登録されている。（１点） ※（１）と（２）は重複して評価しません。
F13: ４点 | I13: 4
F14: ３点 | I14: 3
F15: ２点 | I15: 2
F16: １点 | I16: 1
F17: 実績（取得点）なし | I17: 0
C18: 企業の技術力等 | D18: 工事実績 | E18: 企業の工事実績 | F18: 評価対象工事①の実績あり | I18: 30 | J18: 30 | M18: 三重県内において、単独又は共同企業体構成員（出資比率20％以上に限る）の元請として受注し、平成２３年度以降に完成し、かつ、引渡しが済んでいる評価対象工事の実績の有無により評価します。 ・「評価対象工事①」とは、ＲＣ造、ＳＲＣ造で、延べ面積２００㎡（１棟あたり）以上の建築一式工事を指します（用途は問いません）。 ・「評価対象工事②」とは、Ｓ造で、延べ面積２００㎡（１棟あたり）以上の建築一式工事を指します（用途は問いません）。 ・新築、増築又は改築工事を対象とします。 ・増築又は改築工事の場合は、当該増築又は改築部分の面積を対象とします。 ・評価対象の工事実績は１件とし、官民の別は問いません。
F19: 評価対象工事②の実績あり | I19: 15
F20: 評価対象工事の実績なし | I20: 0
D21: 品質 マネジメント | E21: 品質マネジメントシステムの認証 | F21: 有 | I21: 3 | J21: 3 | M21: 当該工事の入札に参加する者が、ISO9000Sの認証を取得している場合に評価します。
F22: 無 | I22: 0
D23: 労働安全 衛生管理 | E23: 労働安全衛生マネジメントシステムの認証 | F23: 有 | I23: 5 | J23: 5 | M23: 当該工事の入札に参加する者が、労働安全衛生マネジメントシステムガイドライン(建設業労働安全衛生マネジメントシステムガイドラインを含む）に沿った取組の認証を取得している場合に評価します。
F24: 無 | I24: 0
B25: 技術者の能力 | C25: 技術者の能力 | D25: 配置予定 技術者の 工事実績 | E25: 主任（監理）技術者又は 現場代理人としての工事実績 | F25: 評価対象工事③の実績あり | I25: 30 | J25: 30 | K25: =SUM(J25:J29) -> 35 | L25: 様式１ 様式３ | M25: 配置予定技術者が主任(監理）技術者又は現場代理人として従事した工事のうち、単独又は共同企業体構成員（出資比率20％以上に限る）の元請として受注した評価対象工事の実績の有無により評価します。 ・「評価対象工事③」とは、ＲＣ造、ＳＲＣ造又はＳ造で、延べ面積１００㎡（１棟あたり）以上の建築一式工事を指します（用途は問いません）。 ・新築、増築又は改築工事を対象とします。 ・増築又は改築工事の場合は、当該増築又は改築部分の面積を対象とします。 ・主任(監理)技術者としての実績とは、平成２３年度以降に完成し、かつ、引渡しが済んでいる工事で、契約日から完成日までの期間において、完成日を含む２分の１以上の連続した期間に従事した工事の実績をいいます。 ・現場代理人としての実績とは、平成２３年度以降に完成し、かつ、引渡しが済んでいる工事で、契約日から完成日までの期間において、完成日を含む２分の１以上の連続した期間に従事した工事の実績をいいます。ただし、コリンズに登録されていた者 に限ります。 ・完成とは、棟単位の部分完成を含みます。 ・評価対象の工事実績は１件とし、官民の別は問いません。 ・余裕期間制度の対象工事は、完成日を含む実工期の２分の１以上の連続した期間に従事した実績を評価の対象とします。
F26: 評価対象工事の実績なし | I26: 0
D27: 配置予定技術者 のCPD (継続学習制度) 取組実績 | E27: 各団体が発行するCPDの取組実績 | F27: 換算後の単位数の合計が推奨単位以上 | I27: 5 | J27: 5 | M27: 配置予定技術者が令和５年度から令和８年度に取得したＣＰＤ単位により評価します。 ・ＣＰＤ単位は、建設系ＣＰＤ協議会加盟団体で証明、認定されたものに限ります。ただし、当該工事が建築関係業種の場合は、建築ＣＰＤ運営会議の加盟団体を含みます。 ・申告は、加盟団体のうちいずれか１団体の取得単位に限ります。ただし、相互承認を受けたＣＰＤ単位は、申告する加盟団体以外であっても取得単位に含めることを可能とします。 ・１年間の推奨単位を設定していない団体のＣＰＤ単位は、評価の対象としません。 ・各年度の取得単位は、換算係数を乗じるものとします。（小数第４位以下切り捨て） ・換算係数は、令和５年度は１／４、令和６年度は１／２、令和７年度及び令和８年度は１とします。
F28: 換算後の単位数の合計が推奨単位の1/2以上 | I28: 3
F29: 換算後の単位数の合計が推奨単位の1/2未満 | I29: 0
B30: 総合評価方式の不履行による加算点の減点 | E30: 当該工事の入札公告日が、三重県が総合評価方式で発注した工事で不履行による減点措置が課されている期間内である場合、「技術提案等不履行確定通知書等」に記載した減点を行います。 | I30: △換算前 加算点満点 ×1割 ×件数 | L30: 様式１ | M30: 三重県が総合評価方式で発注した工事で、技術資料又は施工体制確認資料に記載された事項に不履行があった場合の減点は、次式により行います。 減点後の貴社の換算前加算点合計＝Ａ－（Ｂ×０．１×Ｃ） Ａ：貴社の換算前加算点合計 Ｂ：当該工事の換算前加算点満点 Ｃ：不履行工事件数 不履行工事件数とは、当該工事の入札公告日が「技術提案等不履行確定通知書」で通知された不履行による減点の対象となる期間内である工事の件数とします。
B31: 指名停止措置による 加算点の減点 | E31: 当該工事の入札公告日が、三重県発注工事にかかる贈賄、公契約関係競売等妨害又は談合により役員等又は使用人が逮捕、又は逮捕を経ないで公訴を提起されたことによる指名停止に伴う減点措置期間内である場合、減点を行います。 | I31: △換算前 加算点満点 ×1割 | L31: 様式１ | M31: 当該工事の入札公告日が、三重県発注工事にかかる贈賄、公契約関係競売等妨害又は談合により役員等又は使用人が逮捕、又は逮捕を経ないで公訴を提起されたことによる指名停止に伴う減点措置期間内である場合の減点は、次式により行います。 減点後の貴社の換算前加算点合計＝Ａ－（Ｂ×０．１） Ａ：貴社の換算前加算点合計 Ｂ：当該工事の換算前加算点満点 ※減点措置期間は指名停止期間の終了日の翌日から１年間とします。 なお、対象となる指名停止措置は、当該工事入札公告日の前年度４月１日から当該工事入札公告日までの期間に指名停止期間が１日でも重複するものとします。
I32: 換算前 加算点 満点 | J32: =SUM(K5:K29) -> 96 | M32: ※技術資料の作成方法及び提出資料は、「技術資料作成上の留意事項」を必ず確認してください。
I33: 加算点 満点 | J33: =IF(B2="簡易型Ａ",10,IF(B2="簡易型Ｂ",20,IF(B2="簡易型Ｃ",25,IF(B2="標準型",35,"型選択")))) -> 10
B35: 当該工事で、技術資料又は施工体制確認資料に記載の内容に不履行があった場合の取り扱い | E35: 当該工事の履行確認を伴う評価項目に不履行があった場合、「技術提案等不履行確定通知書」により不履行項目・不履行による減点の対象となる期間などを通知します。 「技術提案等不履行確定通知書」に記載した期間に三重県が総合評価方式で発注する工事（以下「発注工事」という。）で、「貴社の換算前加算点合計」から「発注工事の換算前加算点満点」の1割を減点します。 貴社が特定建設工事共同企業体又は経常建設共同企業体の構成員である場合も、「発注工事の換算前加算点満点」の１割を減点します。

Sheet 届出書
AA3: 令和 年 月 日
A5: 技 術 資 料 届 出 書
B9: 三重県知事 | H9: あて
O11: 住 所
O13: 会社名
O15: 代表者氏名
E18: 工 事 名 | F18: ： | G18: 令和８年度 農村地域排水対策 第9223－分0002号
G19: 下深谷地区 農村地域排水対策事業
G20: 管理棟新築工事
B25: 上記工事の技術資料を提出します。なお、地方自治法施行令（昭和22年政令第16号）
B26: 第167条の4の規定に該当する者でないこと並びに確認資料の内容は、事実と相違ない
B27: ことを誓約します。問い合わせ先は次のとおりです。
C30: 【問い合わせ先】
D31: 担当者 | G31: ： | H31: ○○ ○○
D32: 部 署 | G32: ： | H32: ○○本店 ○○部 ○○課
D33: 住 所 | G33: ： | H33: ○○県○○市○○
D34: 電話番号 | G34: ： | H34: ＊＊＊－＊＊＊＊－＊＊＊＊
D35: ＦＡＸ | G35: ： | H35: ＊＊＊－＊＊＊＊－＊＊＊＊
D36: Ｅ-mail | G36: ：

Sheet 様式１
B1: （様式１） 加算点申告書
F2: 会社名
B3: 大項目 | D3: 中項目 | E3: 小項目 | F3: 加算点 | G3: 評価基準 | I3: 各評価項目の 自己評価 | J3: 自己 加算点
G4: 配点 | H4: 基準
B5: =IF('評価項目(標準)'!B5="","",+'評価項目(標準)'!B5) -> 企 業 の 能 力 等 | C5: =IF(+'評価項目(標準)'!C5="","",+'評価項目(標準)'!C5) -> 地域精通度・貢献度 | D5: =IF(+'評価項目(標準)'!D5="","",+'評価項目(標準)'!D5) -> 地域精通度 | E5: =IF(+'評価項目(標準)'!E5="","",+'評価項目(標準)'!E5) -> 本店等所在地 | F5: =+IF(+'評価項目(標準)'!J5="","",+'評価項目(標準)'!J5) -> 10 | G5: =+IF(+'評価項目(標準)'!I5="","",+'評価項目(標準)'!I5) -> 10 | H5: =+IF(+'評価項目(標準)'!F5="","",+'評価項目(標準)'!F5) -> 桑名建設事務所管内 | J5: =IF(I5="","",VLOOKUP(I5,'評価項目(標準)'!F5:I7,4,FALSE))
G6: =+IF(+'評価項目(標準)'!I6="","",+'評価項目(標準)'!I6) -> 5 | H6: =+IF(+'評価項目(標準)'!F6="","",+'評価項目(標準)'!F6) -> 北勢地域ブロック内 （四日市、鈴鹿建設事務所管内）
G7: =+IF(+'評価項目(標準)'!I7="","",+'評価項目(標準)'!I7) -> 0 | H7: =+IF(+'評価項目(標準)'!F7="","",+'評価項目(標準)'!F7) -> 上記以外
D8: =IF(+'評価項目(標準)'!D8="","",+'評価項目(標準)'!D8) -> 地域貢献度 | E8: =IF(+'評価項目(標準)'!E8="","",+'評価項目(標準)'!E8) -> 災害協定の評価 | F8: =+IF(+'評価項目(標準)'!J8="","",+'評価項目(標準)'!J8) -> 9 | G8: =+IF(+'評価項目(標準)'!I8="","",+'評価項目(標準)'!I8) -> 9 | H8: =+IF(+'評価項目(標準)'!F8="","",+'評価項目(標準)'!F8) -> 災害協定に基づく訓練１への参加実績あり | J8: =IF(I8="","",VLOOKUP(I8,'評価項目(標準)'!F8:I12,4,FALSE))
G9: =+IF(+'評価項目(標準)'!I9="","",+'評価項目(標準)'!I9) -> 7 | H9: =+IF(+'評価項目(標準)'!F9="","",+'評価項目(標準)'!F9) -> 災害協定に基づく訓練２への参加実績あり
G10: =+IF(+'評価項目(標準)'!I10="","",+'評価項目(標準)'!I10) -> 3 | H10: =+IF(+'評価項目(標準)'!F10="","",+'評価項目(標準)'!F10) -> 防災協定の締結実績あり
G11: =+IF(+'評価項目(標準)'!I11="","",+'評価項目(標準)'!I11) -> 0 | H11: =+IF(+'評価項目(標準)'!F11="","",+'評価項目(標準)'!F11) -> 実績なし
C12: =IF(+'評価項目(標準)'!C12="","",+'評価項目(標準)'!C12) -> 社会貢献度 | D12: =IF(+'評価項目(標準)'!D12="","",+'評価項目(標準)'!D12) -> 社会貢献度 | E12: =IF(+'評価項目(標準)'!E12="","",+'評価項目(標準)'!E12) -> ① 男女共同参画活動実績 ② 障がい者雇用実績 ③ 人権に関する取組実績 ④ 「みえる・わかる・つながる！職業ポータルサイト」 Webページへの登録 ⑤ 現場見学会等の開催実績 ⑥ 不当要求防止責任者講習の受講実績 ⑦ 職場環境づくりの実績 | F12: =+IF(+'評価項目(標準)'!J12="","",+'評価項目(標準)'!J12) -> 4 | G12: 左欄の①～⑦のうち、該当する項目により得られる合計点数 | J12: =IF(I12="","",IF(I12=H13,G13,IF(I12=H14,G14,IF(I12=H15,G15,IF(I12=H16,G16,IF(I12=H17,G17))))))
G13: =+IF(+'評価項目(標準)'!I13="","",+'評価項目(標準)'!I13) -> 4 | H13: =+IF(+'評価項目(標準)'!F13="","",+'評価項目(標準)'!F13) -> ４点
G14: =+IF(+'評価項目(標準)'!I14="","",+'評価項目(標準)'!I14) -> 3 | H14: =+IF(+'評価項目(標準)'!F14="","",+'評価項目(標準)'!F14) -> ３点
G15: =+IF(+'評価項目(標準)'!I15="","",+'評価項目(標準)'!I15) -> 2 | H15: =+IF(+'評価項目(標準)'!F15="","",+'評価項目(標準)'!F15) -> ２点
G16: =+IF(+'評価項目(標準)'!I16="","",+'評価項目(標準)'!I16) -> 1 | H16: =+IF(+'評価項目(標準)'!F16="","",+'評価項目(標準)'!F16) -> １点
G17: =+IF(+'評価項目(標準)'!I17="","",+'評価項目(標準)'!I17) -> 0 | H17: =+IF(+'評価項目(標準)'!F17="","",+'評価項目(標準)'!F17) -> 実績（取得点）なし
C18: =IF(+'評価項目(標準)'!C18="","",+'評価項目(標準)'!C18) -> 企業の技術力等 | D18: =IF(+'評価項目(標準)'!D18="","",+'評価項目(標準)'!D18) -> 工事実績 | E18: =IF(+'評価項目(標準)'!E18="","",+'評価項目(標準)'!E18) -> 企業の工事実績 | F18: =+IF(+'評価項目(標準)'!J18="","",+'評価項目(標準)'!J18) -> 30 | G18: =+IF(+'評価項目(標準)'!I18="","",+'評価項目(標準)'!I18) -> 30 | H18: =+IF(+'評価項目(標準)'!F18="","",+'評価項目(標準)'!F18) -> 評価対象工事①の実績あり | J18: =IF(I18="","",VLOOKUP(I18,'評価項目(標準)'!F18:I20,4,FALSE))
G19: =+IF(+'評価項目(標準)'!I19="","",+'評価項目(標準)'!I19) -> 15 | H19: =+IF(+'評価項目(標準)'!F19="","",+'評価項目(標準)'!F19) -> 評価対象工事②の実績あり
G20: =+IF(+'評価項目(標準)'!I20="","",+'評価項目(標準)'!I20) -> 0 | H20: =+IF(+'評価項目(標準)'!F20="","",+'評価項目(標準)'!F20) -> 評価対象工事の実績なし
D21: =IF(+'評価項目(標準)'!D21="","",+'評価項目(標準)'!D21) -> 品質 マネジメント | E21: =IF(+'評価項目(標準)'!E21="","",+'評価項目(標準)'!E21) -> 品質マネジメントシステムの認証 | F21: =+IF(+'評価項目(標準)'!J21="","",+'評価項目(標準)'!J21) -> 3 | G21: =+IF(+'評価項目(標準)'!I21="","",+'評価項目(標準)'!I21) -> 3 | H21: =+IF(+'評価項目(標準)'!F21="","",+'評価項目(標準)'!F21) -> 有 | J21: =IF(I21="","",IF(I21=H21,G21,IF(I21=H22,G22)))
G22: =+IF(+'評価項目(標準)'!I22="","",+'評価項目(標準)'!I22) -> 0 | H22: =+IF(+'評価項目(標準)'!F22="","",+'評価項目(標準)'!F22) -> 無
D23: =IF(+'評価項目(標準)'!D23="","",+'評価項目(標準)'!D23) -> 労働安全 衛生管理 | E23: =IF(+'評価項目(標準)'!E23="","",+'評価項目(標準)'!E23) -> 労働安全衛生マネジメントシステムの認証 | F23: =+IF(+'評価項目(標準)'!J23="","",+'評価項目(標準)'!J23) -> 5 | G23: 5 | H23: =IF(+'評価項目(標準)'!F23="","",+'評価項目(標準)'!F23) -> 有 | J23: =IF(I23="","",IF(I23=H23,G23,IF(I23=H24,G24)))
G24: 0 | H24: =IF(+'評価項目(標準)'!F24="","",+'評価項目(標準)'!F24) -> 無
B25: =IF('評価項目(標準)'!B25="","",+'評価項目(標準)'!B25) -> 技術者の能力 | C25: =IF(+'評価項目(標準)'!C25="","",+'評価項目(標準)'!C25) -> 技術者の能力 | D25: =IF(+'評価項目(標準)'!D25="","",+'評価項目(標準)'!D25) -> 配置予定 技術者の 工事実績 | E25: =IF(+'評価項目(標準)'!E25="","",+'評価項目(標準)'!E25) -> 主任（監理）技術者又は 現場代理人としての工事実績 | F25: =+IF(+'評価項目(標準)'!J25="","",+'評価項目(標準)'!J25) -> 30 | G25: =+IF(+'評価項目(標準)'!I25="","",+'評価項目(標準)'!I25) -> 30 | H25: =+IF(+'評価項目(標準)'!F25="","",+'評価項目(標準)'!F25) -> 評価対象工事③の実績あり | J25: =IF(I25="","",VLOOKUP(I25,'評価項目(標準)'!F25:I26,4,FALSE))
G26: =+IF(+'評価項目(標準)'!I26="","",+'評価項目(標準)'!I26) -> 0 | H26: =+IF(+'評価項目(標準)'!F26="","",+'評価項目(標準)'!F26) -> 評価対象工事の実績なし
D27: =IF(+'評価項目(標準)'!D27="","",+'評価項目(標準)'!D27) -> 配置予定技術者 のCPD (継続学習制度) 取組実績 | E27: =IF(+'評価項目(標準)'!E27="","",+'評価項目(標準)'!E27) -> 各団体が発行するCPDの取組実績 | F27: =+IF(+'評価項目(標準)'!J27="","",+'評価項目(標準)'!J27) -> 5 | G27: =+IF(+'評価項目(標準)'!I27="","",+'評価項目(標準)'!I27) -> 5 | H27: =+IF(+'評価項目(標準)'!F27="","",+'評価項目(標準)'!F27) -> 換算後の単位数の合計が推奨単位以上 | J27: =IF(I27="","",IF(I27=H27,G27,IF(I27=H28,G28,IF(I27=H29,G29))))
G28: =+IF(+'評価項目(標準)'!I28="","",+'評価項目(標準)'!I28) -> 3 | H28: =+IF(+'評価項目(標準)'!F28="","",+'評価項目(標準)'!F28) -> 換算後の単位数の合計が推奨単位の1/2以上
G29: =+IF(+'評価項目(標準)'!I29="","",+'評価項目(標準)'!I29) -> 0 | H29: =+IF(+'評価項目(標準)'!F29="","",+'評価項目(標準)'!F29) -> 換算後の単位数の合計が推奨単位の1/2未満
B30: =IF(+'評価項目(標準)'!B30="","",+'評価項目(標準)'!B30) -> 総合評価方式の不履行による加算点の減点 | E30: =IF(+'評価項目(標準)'!E30="","",+'評価項目(標準)'!E30) -> 当該工事の入札公告日が、三重県が総合評価方式で発注した工事で不履行による減点措置が課されている期間内である場合、「技術提案等不履行確定通知書等」に記載した減点を行います。 | H30: =IF('評価項目(標準)'!I30="","",+'評価項目(標準)'!I30) -> △換算前 加算点満点 ×1割 ×件数 | J30: =IF(+I30="","",-(+'評価項目(標準)'!J32*0.1*I30))
B31: =IF(+'評価項目(標準)'!B31="","",+'評価項目(標準)'!B31) -> 指名停止措置による 加算点の減点 | E31: =IF(+'評価項目(標準)'!E31="","",+'評価項目(標準)'!E31) -> 当該工事の入札公告日が、三重県発注工事にかかる贈賄、公契約関係競売等妨害又は談合により役員等又は使用人が逮捕、又は逮捕を経ないで公訴を提起されたことによる指名停止に伴う減点措置期間内である場合、減点を行います。 | H31: =IF('評価項目(標準)'!I31="","",+'評価項目(標準)'!I31) -> △換算前 加算点満点 ×1割 | J31: =IF(+I31="","",-(+'評価項目(標準)'!J32*0.1))
I32: 合計 | J32: =SUM(J5:J31) -> 0
B34: 【記入上の注意】
B35: ・ | D35: 黄色着色のセルは、該当する数値を直接入力してください。加算点は、自動計算により表示されます。
B36: ・ | D36: 橙色着色のセルは、セル中から該当する項目を選択してください。加算点は、選択した内容に応じて自動で表示されます。
B37: ・ | C37: 評価項目及び評価基準の詳細については、「評価項目一覧」及び「技術資料作成上の留意事項」で確認してください。
B38: ・ | C38: このシートは「評価項目一覧」とリンクしています。自己加算点が表示されていない場合は評価しません。

Sheet 様式１（経常JV用）
B2: （様式１） 加算点申告書
F3: 会社名
B4: 大項目 | D4: 中項目 | E4: 小項目 | F4: 加算点 | G4: 評価基準 | I4: 構成員Ａの評価 | K4: 構成員Ｂの評価 | M4: 経常ＪＶの 評価
G5: 配点 | H5: 基準 | I5: 各評価項目の 自己評価 | J5: 自己 加算点 | K5: 各評価項目の 自己評価 | L5: 自己 加算点
B6: =IF('評価項目(標準)'!B5="","",+'評価項目(標準)'!B5) -> 企 業 の 能 力 等 | C6: =IF(+'評価項目(標準)'!C5="","",+'評価項目(標準)'!C5) -> 地域精通度・貢献度 | D6: =IF(+'評価項目(標準)'!D5="","",+'評価項目(標準)'!D5) -> 地域精通度 | E6: =IF(+'評価項目(標準)'!E5="","",+'評価項目(標準)'!E5) -> 本店等所在地 | F6: =+IF(+'評価項目(標準)'!J5="","",+'評価項目(標準)'!J5) -> 10 | G6: =+IF(+'評価項目(標準)'!I5="","",+'評価項目(標準)'!I5) -> 10 | H6: =+IF(+'評価項目(標準)'!F5="","",+'評価項目(標準)'!F5) -> 桑名建設事務所管内 | J6: =IF(I6="","",VLOOKUP(I6,'評価項目(標準)'!F5:I7,4,FALSE)) | K6: － | L6: － | M6: =J6
G7: =+IF(+'評価項目(標準)'!I6="","",+'評価項目(標準)'!I6) -> 5 | H7: =+IF(+'評価項目(標準)'!F6="","",+'評価項目(標準)'!F6) -> 北勢地域ブロック内 （四日市、鈴鹿建設事務所管内）
G8: =+IF(+'評価項目(標準)'!I7="","",+'評価項目(標準)'!I7) -> 0 | H8: =+IF(+'評価項目(標準)'!F7="","",+'評価項目(標準)'!F7) -> 上記以外
D9: =IF(+'評価項目(標準)'!D8="","",+'評価項目(標準)'!D8) -> 地域貢献度 | E9: =IF(+'評価項目(標準)'!E8="","",+'評価項目(標準)'!E8) -> 災害協定の評価 | F9: =+IF(+'評価項目(標準)'!J8="","",+'評価項目(標準)'!J8) -> 9 | G9: =+IF(+'評価項目(標準)'!I8="","",+'評価項目(標準)'!I8) -> 9 | H9: =+IF(+'評価項目(標準)'!F8="","",+'評価項目(標準)'!F8) -> 災害協定に基づく訓練１への参加実績あり | J9: =IF(I9="","",VLOOKUP(I9,'評価項目(標準)'!F8:I12,4,FALSE)) | L9: =IF(K9="","",VLOOKUP(K9,'評価項目(標準)'!F8:I12,4,FALSE)) | M9: =IF(J9="","",IF(L9="","",ROUNDUP(AVERAGE(J9,L9),1)))
G10: =+IF(+'評価項目(標準)'!I9="","",+'評価項目(標準)'!I9) -> 7 | H10: =+IF(+'評価項目(標準)'!F9="","",+'評価項目(標準)'!F9) -> 災害協定に基づく訓練２への参加実績あり
G11: =+IF(+'評価項目(標準)'!I10="","",+'評価項目(標準)'!I10) -> 3 | H11: =+IF(+'評価項目(標準)'!F10="","",+'評価項目(標準)'!F10) -> 防災協定の締結実績あり
G12: =+IF(+'評価項目(標準)'!I11="","",+'評価項目(標準)'!I11) -> 0 | H12: =+IF(+'評価項目(標準)'!F11="","",+'評価項目(標準)'!F11) -> 実績なし
C13: =IF(+'評価項目(標準)'!C12="","",+'評価項目(標準)'!C12) -> 社会貢献度 | D13: =IF(+'評価項目(標準)'!D12="","",+'評価項目(標準)'!D12) -> 社会貢献度 | E13: =IF(+'評価項目(標準)'!E12="","",+'評価項目(標準)'!E12) -> ① 男女共同参画活動実績 ② 障がい者雇用実績 ③ 人権に関する取組実績 ④ 「みえる・わかる・つながる！職業ポータルサイト」 Webページへの登録 ⑤ 現場見学会等の開催実績 ⑥ 不当要求防止責任者講習の受講実績 ⑦ 職場環境づくりの実績 | F13: =+IF(+'評価項目(標準)'!J12="","",+'評価項目(標準)'!J12) -> 4 | G13: 左欄の①～⑦のうち、該当する項目により得られる合計点数 | J13: =IF(I13="","",IF(I13=H14,G14,IF(I13=H15,G15,IF(I13=H16,G16,IF(I13=H17,G17,IF(I13=H18,G18)))))) | L13: =IF(K13="","",IF(K13=H14,G14,IF(K13=H15,G15,IF(K13=H16,G16,IF(K13=H17,G17,IF(K13=H18,G18)))))) | M13: =IF(J13="","",IF(L13="","",ROUNDUP(AVERAGE(J13,L13),1)))
G14: =+IF(+'評価項目(標準)'!I13="","",+'評価項目(標準)'!I13) -> 4 | H14: =+IF(+'評価項目(標準)'!F13="","",+'評価項目(標準)'!F13) -> ４点
G15: =+IF(+'評価項目(標準)'!I14="","",+'評価項目(標準)'!I14) -> 3 | H15: =+IF(+'評価項目(標準)'!F14="","",+'評価項目(標準)'!F14) -> ３点
G16: =+IF(+'評価項目(標準)'!I15="","",+'評価項目(標準)'!I15) -> 2 | H16: =+IF(+'評価項目(標準)'!F15="","",+'評価項目(標準)'!F15) -> ２点
G17: =+IF(+'評価項目(標準)'!I16="","",+'評価項目(標準)'!I16) -> 1 | H17: =+IF(+'評価項目(標準)'!F16="","",+'評価項目(標準)'!F16) -> １点
G18: =+IF(+'評価項目(標準)'!I17="","",+'評価項目(標準)'!I17) -> 0 | H18: =+IF(+'評価項目(標準)'!F17="","",+'評価項目(標準)'!F17) -> 実績（取得点）なし
C19: =IF(+'評価項目(標準)'!C18="","",+'評価項目(標準)'!C18) -> 企業の技術力等 | D19: =IF(+'評価項目(標準)'!D18="","",+'評価項目(標準)'!D18) -> 工事実績 | E19: =IF(+'評価項目(標準)'!E18="","",+'評価項目(標準)'!E18) -> 企業の工事実績 | F19: =+IF(+'評価項目(標準)'!J18="","",+'評価項目(標準)'!J18) -> 30 | G19: =+IF(+'評価項目(標準)'!I18="","",+'評価項目(標準)'!I18) -> 30 | H19: =+IF(+'評価項目(標準)'!F18="","",+'評価項目(標準)'!F18) -> 評価対象工事①の実績あり | J19: =IF(I19="","",VLOOKUP(I19,'評価項目(標準)'!F18:I20,4,FALSE)) | L19: =IF(K19="","",VLOOKUP(K19,'評価項目(標準)'!F18:I20,4,FALSE)) | M19: =IF(J19="","",IF(L19="","",ROUNDUP(AVERAGE(J19,L19),1)))
G20: =+IF(+'評価項目(標準)'!I19="","",+'評価項目(標準)'!I19) -> 15 | H20: =+IF(+'評価項目(標準)'!F19="","",+'評価項目(標準)'!F19) -> 評価対象工事②の実績あり
G21: =+IF(+'評価項目(標準)'!I20="","",+'評価項目(標準)'!I20) -> 0 | H21: =+IF(+'評価項目(標準)'!F20="","",+'評価項目(標準)'!F20) -> 評価対象工事の実績なし
D22: =IF(+'評価項目(標準)'!D21="","",+'評価項目(標準)'!D21) -> 品質 マネジメント | E22: =IF(+'評価項目(標準)'!E21="","",+'評価項目(標準)'!E21) -> 品質マネジメントシステムの認証 | F22: =+IF(+'評価項目(標準)'!J21="","",+'評価項目(標準)'!J21) -> 3 | G22: =+IF(+'評価項目(標準)'!I21="","",+'評価項目(標準)'!I21) -> 3 | H22: =+IF(+'評価項目(標準)'!F21="","",+'評価項目(標準)'!F21) -> 有 | J22: =IF(I22="","",IF(I22=H22,G22,IF(I22=H23,G23))) | L22: =IF(K22="","",IF(K22=H22,G22,IF(K22=H23,G23))) | M22: =IF(J22="","",IF(L22="","",ROUNDUP(AVERAGE(J22,L22),1)))
G23: =+IF(+'評価項目(標準)'!I22="","",+'評価項目(標準)'!I22) -> 0 | H23: =+IF(+'評価項目(標準)'!F22="","",+'評価項目(標準)'!F22) -> 無
D24: =IF(+'評価項目(標準)'!D23="","",+'評価項目(標準)'!D23) -> 労働安全 衛生管理 | E24: =IF(+'評価項目(標準)'!E23="","",+'評価項目(標準)'!E23) -> 労働安全衛生マネジメントシステムの認証 | F24: =+IF(+'評価項目(標準)'!J23="","",+'評価項目(標準)'!J23) -> 5 | G24: 5 | H24: =IF(+'評価項目(標準)'!F23="","",+'評価項目(標準)'!F23) -> 有 | J24: =IF(I24="","",IF(I24=H24,G24,IF(I24=H25,G25))) | L24: =IF(K24="","",IF(K24=H24,G24,IF(K24=H25,G25))) | M24: =IF(J24="","",IF(L24="","",ROUNDUP(AVERAGE(J24,L24),1)))
G25: 0 | H25: =IF(+'評価項目(標準)'!F24="","",+'評価項目(標準)'!F24) -> 無
B26: =IF('評価項目(標準)'!B25="","",+'評価項目(標準)'!B25) -> 技術者の能力 | C26: =IF(+'評価項目(標準)'!C25="","",+'評価項目(標準)'!C25) -> 技術者の能力 | D26: =IF(+'評価項目(標準)'!D25="","",+'評価項目(標準)'!D25) -> 配置予定 技術者の 工事実績 | E26: =IF(+'評価項目(標準)'!E25="","",+'評価項目(標準)'!E25) -> 主任（監理）技術者又は 現場代理人としての工事実績 | F26: =+IF(+'評価項目(標準)'!J25="","",+'評価項目(標準)'!J25) -> 30 | G26: =+IF(+'評価項目(標準)'!I25="","",+'評価項目(標準)'!I25) -> 30 | H26: =+IF(+'評価項目(標準)'!F25="","",+'評価項目(標準)'!F25) -> 評価対象工事③の実績あり | J26: =IF(I26="","",VLOOKUP(I26,'評価項目(標準)'!F25:I26,4,FALSE)) | L26: =IF(K26="","",VLOOKUP(K26,'評価項目(標準)'!F25:I26,4,FALSE)) | M26: =IF(J26="","",IF(L26="","",ROUNDUP(AVERAGE(J26,L26),1)))
G27: =+IF(+'評価項目(標準)'!I26="","",+'評価項目(標準)'!I26) -> 0 | H27: =+IF(+'評価項目(標準)'!F26="","",+'評価項目(標準)'!F26) -> 評価対象工事の実績なし
D28: =IF(+'評価項目(標準)'!D27="","",+'評価項目(標準)'!D27) -> 配置予定技術者 のCPD (継続学習制度) 取組実績 | E28: =IF(+'評価項目(標準)'!E27="","",+'評価項目(標準)'!E27) -> 各団体が発行するCPDの取組実績 | F28: =+IF(+'評価項目(標準)'!J27="","",+'評価項目(標準)'!J27) -> 5 | G28: =+IF(+'評価項目(標準)'!I27="","",+'評価項目(標準)'!I27) -> 5 | H28: =+IF(+'評価項目(標準)'!F27="","",+'評価項目(標準)'!F27) -> 換算後の単位数の合計が推奨単位以上 | J28: =IF(I28="","",IF(I28=H28,G28,IF(I28=H29,G29,IF(I28=H30,G30)))) | L28: =IF(K28="","",IF(K28=H28,G28,IF(K28=H29,G29,IF(K28=H30,G30)))) | M28: =IF(J28="","",IF(L28="","",ROUNDUP(AVERAGE(J28,L28),1)))
G29: =+IF(+'評価項目(標準)'!I28="","",+'評価項目(標準)'!I28) -> 3 | H29: =+IF(+'評価項目(標準)'!F28="","",+'評価項目(標準)'!F28) -> 換算後の単位数の合計が推奨単位の1/2以上
G30: =+IF(+'評価項目(標準)'!I29="","",+'評価項目(標準)'!I29) -> 0 | H30: =+IF(+'評価項目(標準)'!F29="","",+'評価項目(標準)'!F29) -> 換算後の単位数の合計が推奨単位の1/2未満
B31: =IF(+'評価項目(標準)'!B30="","",+'評価項目(標準)'!B30) -> 総合評価方式の不履行による加算点の減点 | E31: =IF(+'評価項目(標準)'!E30="","",+'評価項目(標準)'!E30) -> 当該工事の入札公告日が、三重県が総合評価方式で発注した工事で不履行による減点措置が課されている期間内である場合、「技術提案等不履行確定通知書等」に記載した減点を行います。 | H31: =IF('評価項目(標準)'!I30="","",+'評価項目(標準)'!I30) -> △換算前 加算点満点 ×1割 ×件数 | J31: =IF(+I31="",0,-(+'評価項目(標準)'!J32*0.1*I31)) -> 0 | L31: =IF(+K31="",0,-(+'評価項目(標準)'!J32*0.1*K31)) -> 0 | M31: =IF(J31+L31=0,"",J31+L31)
B32: =IF(+'評価項目(標準)'!B31="","",+'評価項目(標準)'!B31) -> 指名停止措置による 加算点の減点 | E32: =IF(+'評価項目(標準)'!E31="","",+'評価項目(標準)'!E31) -> 当該工事の入札公告日が、三重県発注工事にかかる贈賄、公契約関係競売等妨害又は談合により役員等又は使用人が逮捕、又は逮捕を経ないで公訴を提起されたことによる指名停止に伴う減点措置期間内である場合、減点を行います。 | H32: =IF('評価項目(標準)'!I31="","",+'評価項目(標準)'!I31) -> △換算前 加算点満点 ×1割 | M32: =IF(I32+K32>0,-'評価項目(標準)'!J32*0.1,"")
L33: 合計 | M33: =SUM(M6:M32) -> 0
B35: 【記入上の注意】
B36: ・ | D36: 黄色着色のセルは、該当する数値を直接入力してください。加算点は、自動計算により表示されます。
B37: ・ | D37: 橙色着色のセルは、セル中から該当する項目を選択してください。加算点は、選択した内容に応じて自動で表示されます。
B38: ・ | C38: 評価項目及び評価基準の詳細については、「評価項目一覧」及び「技術資料作成上の留意事項」で確認してください。
B39: ・ | C39: このシートは「評価項目一覧」とリンクしています。自己加算点が表示されていない場合は評価しません。

Sheet 様式２
A1: （様式２） 地域精通度・社会貢献度・企業の技術力等に関する技術資料 | AJ1: ※本頁は（様式２）の注意事項となっています。提出の必要はありません。
O2: 会社名
A3: 【地域精通度】 | AJ3: 【地域精通度の注意事項】
A5: 本店等所在地 | E5: 本店所在地 | AJ5: 注1： | AL5: 本店と建設業法上の主たる営業所の所在地が同じ場合は、本店所在地の入力は不要です。
E7: 所在地の変更日 | J7: 年 月 日 | AJ7: 注2： | AL7: 公告の前月から３６か月前までの期間に、本店及び建設業法上の主たる営業所の所在地を変更した場合は、旧所在地と変更日を入力して下さい。
E8: 旧所在地
E10: 営業所所在地 | AJ10: 注3： | AL10: 三重県内に建設業法上の営業所を有する県外業者は、所在地を入力してください。
G12: 【社会貢献度】 | AJ12: 【社会貢献度の注意事項】
AD13: 評価対象 | AG13: 実績
A14: 社会貢献度 | E14: ① | F14: 男女共同参画活動実績の有無 | AJ14: 注1： | AL14: 評価対象として届け出る項目に「○」をプルダウンで選択してください。（最大４点）
E15: ② | F15: 障がい者雇用実績の有無
E16: ③ | F16: 人権に関する取組実績の有無（人権研修の受講実績又は公正採用選考人権啓発推進員の設置） | AJ16: 注2： | AL16: 各項目で実績（認証取得）の有無をプルダウンで選択してください。
E17: ④ | F17: 「みえる・わかる・つながる！職業ポータルサイト」Webページへの登録
E18: ⑤ | F18: 現場見学会等の開催実績
E19: ⑥ | F19: 不当要求防止責任者講習の受講実績
E20: ⑦ | F20: 「ユースエール認定制度」認定実績
F21: 「みえの働き方改革推進企業登録制度」登録実績
A22: 【企業の技術力等】
A24: 工事実績 | E24: コリンズ登録番号
E25: 工事名称

Sheet 様式３
A1: （様式３） 技術者の能力に関する技術資料
N2: 会社名
A3: 【技術者の能力】
A5: 配置予定技術者 | C5: 氏名 | W5: 生年月日（西暦） | AB5: 年 月 日
C6: 工事実績 | F6: コリンズ登録番号
F7: 工事名称
C9: 上記記載工事における 役割・従事期間 | K9: 役 割 | Q9: 監理技術者 | V9: □ | W9: 主任技術者 | AB9: □ | AC9: 現場代理人 | AH9: □
K10: 従事期間
C11: CPD取組実績 | E11: 取得単位認定団体 | N11: （例）○○技士会 | Y11: 推奨単位数 | AG11: 単位／年
N12: 取得単位数 | S12: 換算係数 | U12: 換算後単位数 | Y12: 換算後単位数の合計
E13: R8(2026)年度 | Q13: 単位 | S13: 1 | U13: =IF(N13="","",ROUNDDOWN(N13*S13,3)) | W13: 単位 | Y13: =IF(SUM(U13:V16)=0,"",SUM(U13:V16)) | AD13: 単 位
E14: R7(2025)年度 | Q14: 単位 | S14: 1 | U14: =IF(N14="","",ROUNDDOWN(N14*S14,3)) | W14: 単位
E15: R6(2024)年度 | Q15: 単位 | S15: 0.5 | U15: =IF(N15="","",ROUNDDOWN(N15*(1/2),3)) | W15: 単位
E16: R5(2023)年度 | Q16: 単位 | S16: 0.25 | U16: =IF(N16="","",ROUNDDOWN(N16*(1/4),3)) | W16: 単位
A21: 【技術者の能力の注意事項】
A23: 注1： | C23: 配置予定技術者の氏名は、必ず入力してください。
A25: 注2： | C25: 配置予定技術者に関する項目のうち、チェック欄が設けてあるところは、該当する「□」をプルダウンで「■」に変更してください。
A27: 注3： | C27: CPDの取得単位認定団体で記入できる団体数は、１団体のみとします。 推奨単位数は、上記で記入した団体のR8.4.1時点の推奨単位数を入力してください。
