Workbook

Sheet 評価項目(標準)
M1: 建築設備工事（電気工事）【令和８年６月版】
B2: 簡易型Ｂ | D2: 総合評価方式評価項目一覧 【建築設備工事（電気工事）】 除算方式 | G2: 工事名： | I2: 三重県立国児学園寮舎棟ほか電気設備工事
B3: 大項目 | D3: 中項目 | E3: 小項目 | F3: 評価基準 | I3: 加算点 | L3: 様式 | M3: 評価内容等
I4: 配点 | J4: 小項目 配点 | K4: 大項目 配点
B5: 企 業 の 能 力 等 | C5: 地域精通度・貢献度 | D5: 地域精通度 【特定建設工事 共同企業体 の代表者】 | E5: 本店等所在地 | F5: 三重県内に本店及び建設業法上の主たる営業所あり | I5: 10 | J5: 10 | K5: =SUM(J5:J33) -> 73 | L5: 様式１ 様式２ | M5: 【特定建設工事共同企業体の代表者について評価します】 「本店及び建設業法上の主たる営業所」又は「建設業法上の営業所」の所在地により評価します。 ・本店等の所在地を変更した場合、公告の前月から３６か月前までの期間の「１８か月以上連続した所在地」を評価の対象とします。
F6: 三重県内に建設業法上の営業所あり | I6: 5
F7: 上記以外 | I7: 0
D8: 地域貢献度 【特定建設工事 共同企業体 の代表者】 | E8: 災害協定の評価 | F8: 災害協定の実績（２協定以上）あり | I8: 6 | J8: 6 | M8: 【特定建設工事共同企業体の代表者について評価します】 ・「災害協定」の締結数により評価します。 ・「災害協定」とは、「技術資料作成上の留意事項」に記載した、「三重県との防災協定」をいいます。 ・「災害協定の実績」は、「災害協定」を締結している場合を指します。 なお、「災害協定の実績」は、令和７年度又は令和８年度の防災協定締結を評価の対象とします。対象期間以前の協定締結で、自動継続している協定は含みます。
F9: 災害協定の実績（１協定）あり | I9: 3
F10: 実績なし | I10: 0
C11: 社会貢献度 | D11: 社会貢献度 【「県内企業による施工」を除き、特定建設工事共同企業体の代表者】 | E11: ① 男女共同参画活動実績 ② 障がい者雇用実績 ③ 人権に関する取組実績 ④ 「みえる・わかる・つながる！職業ポータルサイト」 Webページへの登録 ⑤ 現場見学会等の開催実績 ⑥ 不当要求防止責任者講習の受講実績 ⑦ 職場環境づくりの実績 | F11: 左欄の①～⑦のうち、該当する項目により得られる合計点数 | J11: 4 | M11: 【特定建設工事共同企業体の代表者について評価します】 下記の実績の該当する項目により得られる合計点数により評価します。 ①男女共同参画活動実績 女性の職業生活における活躍の推進に関する法律に基づく一般事業主行動計画を策定している場合に評価します。（１点） ②障がい者雇用実績 障害者の雇用の促進等に関する法律に基づく障がい者雇用の有無により評価します。（１点） ・法律により障がい者雇用が義務付けられている企業は、法定雇用率を達成している場合に評価します。 ・法律により障がい者雇用が義務付けられていない企業は、障がい者を雇用している場合に評価します。 ③人権に関する取組実績 「三重県が開催する人権に関する研修の受講実績」又は「職業安定法に基づく公正採用選考人権啓発推進員の設置」のいずれかの取組実績の有無により評価します。（１点） なお、「三重県が開催する人権に関する研修の受講実績」は、令和７年度から令和８年度の受講実績を評価の対象とします。 ・「三重県が開催する人権に関する研修の受講実績」と「職業安定法に基づく公正採用選考人権啓発推進員の設置」は重複して評価しません。 ④「みえる・わかる・つながる！職業ポータルサイト」Webページへの登録 ・当該工事の入札に参加する者が、「みえる・わかる・つながる！職業ポータルサイト」Webぺージにインターンシップ受入情報を登録している場合に評価します。（１点） ・Webページ登録項目のうち「所在地、業種、職種、受入対象、受入時期、受入人数」の項目が全て記載されている場合に評価します。 ⑤現場見学会等の開催実績 ・当該工事の入札に参加する者が、単独又は共同企業体構成員として受注した三重県内の工事において、小学校、中学校、高等学校等の教育機関を対象に社会に貢献する建設業の役割の理解や次世代を支える若者たちの建設業への興味や関心を高めることを目的として現場見学会を開催した場合、及び、同目的で出前講座、実習授業のいずれかを開催した場合に評価します。（１点） ・現場見学会、出前講座、実習授業は１０名以上を対象とした場合に評価します。ただし、１０名以上の参加が見込めない場合（小規模な学校や学校側との調整の結果参加者が１０名未満となった場合）は、１０名未満でも評価します。 ・令和３年度から当該工事の入札公告日までの開催実績を評価の対象とします。 ・評価対象の現場見学会の実績は、官民の別は問いません。 ⑥不当要求防止責任者講習の受講実績 当該工事の入札に参加する者が、不当要求防止責任者を選任し、三重県公安委員会（(公財)暴力追放三重県民センター）が開催する不当要求防止責任者講習の受講実績のある場合に評価します。（１点） なお、「不当要求防止責任者講習の受講実績」は、令和５年度から入札公告日までの受講実績を評価の対象とします。 ⑦職場環境づくりの実績 下記のいずれかの実績により評価します。 （１） 令和４年度以降に「ユースエール認定制度」に認定されたことがある。（２点） （２）「みえの働き方改革推進企業登録制度」に登録されている。（１点） ※（１）と（２）は重複して評価しません。
F12: ４点 | I12: 4
F13: ３点 | I13: 3
F14: ２点 | I14: 2
F15: １点 | I15: 1
F16: 実績（取得点）なし | I16: 0
E17: 県内企業による施工 | F17: 県内企業による施工の割合70 ％以上 | I17: 5 | J17: 5 | M17: 当該工事のうち、建設業法上の建設工事の県内企業による施工の割合により評価します。 ・県内企業とは、三重県内に「本店及び建設業法上の主たる営業所」を有する企業を指します。 ・元請直営施工、一次下請負及び二次下請負による施工を評価の対象とします。 県内企業による施工の割合 ＝ [ 契約金額(最終) － { 県外一次下請金額(最終) + 県外二次下請金額(最終) } ] ／ 契約金額(最終) なお、元請が県外企業の場合は次の式とします。 県内企業による施工の割合 ＝ [ 一次下請契約金額(最終) － { 県外一次下請金額(最終) ＋ 県外二次下請金額(最終) } ] ／ 一次下請契約金額(最終) ※当該工事を契約後、「建設工事請負契約書の特約事項」に基づき履行を確認します。
F18: 県内企業による施工の割合50％以上 | I18: 3
F19: 上記以外 | I19: 0
C20: 企業の技術力等 | D20: 工事実績 【特定建設工事 共同企業体 の代表者】 | E20: 企業の工事実績 | F20: 評価対象工事①の実績あり | I20: 30 | J20: 30 | M20: 【特定建設工事共同企業体の代表者について評価します】 単独又は共同企業体構成員（出資比率20％以上に限る）の元請として受注し、平成２３年度以降に完成し、かつ、引渡しが済んでいる評価対象工事の実績の有無により評価します。 ・「評価対象工事①」とは、高圧受変電設備（変圧器容量合計値300kVA以上）の新設、増設又は更新工事を指します。 ・「評価対象工事②」とは、高圧受変電設備（変圧器容量合計値150kVA以上）の新設、増設又は更新工事を指します。 ※変圧器容量合計値とは、新しく整備した変圧器の容量合計値とします。 ・評価対象の工事実績は１件とし、官民の別は問いません。
F21: 評価対象工事②の実績あり | I21: 15
F22: 評価対象工事の実績なし | I22: 0
D23: 工事成績 【特定建設工事 共同企業体 の代表者】 | E23: 電気工事格付けに係る 平均工事成績 | F23: ８５点以上の場合 | I23: 5 | J23: 5 | M23: 【特定建設工事共同企業体の代表者について評価します】 令和8年度格付けに係る平均工事成績点数を評価基準に記載の計算式により評価します。 ・加算点は、小数第2位以下切り捨てとします。 ・平均工事成績点を有しない場合の加算点は０点です。
F24: ７５点以上８５点未満の場合 (平均工事成績点－７５点) × ５/１０
I25: ～
F27: ７５点未満の場合 | I27: 0
D28: 品質 マネジメント 【特定建設工事 共同企業体 の代表者】 | E28: 品質マネジメントシステムの認証 | F28: 有 | I28: 3 | J28: 3 | M28: 【特定建設工事共同企業体の代表者について評価します】 当該工事の入札に参加する者が、ISO9000Sの認証を取得している場合に評価します。
F29: 無 | I29: 0
D30: 労働安全 衛生管理 【特定建設工事 共同企業体 の代表者】 | E30: 労働安全衛生マネジメントシステムの認証 | F30: 有 | I30: 5 | J30: 5 | M30: 【特定建設工事共同企業体の代表者について評価します】 当該工事の入札に参加する者が、労働安全衛生マネジメントシステムガイドライン(建設業労働安全衛生マネジメントシステムガイドラインを含む）に沿った取組の認証を取得している場合に評価します。
F31: 無 | I31: 0
D32: 施工能力 | E32: 登録基幹技能者配置 | F32: 有 | I32: 5 | J32: 5 | M32: 登録電気工事基幹技能者を当該現場作業に８０日以上従事させる場合に評価します。 ・評価の対象とする登録電気工事基幹技能者は、入札に参加する者又は下請予定企業が雇用する者とし、当該工事に申請する配置予定技術者は評価の対象としません。 ・登録電気工事基幹技能者とは、国土交通省に登録した機関が実施する登録電気工事基幹技能者講習を修了したことを証明する、「登録電気工事基幹技能者講習修了証」を有する者を指します。 ※当該工事を契約後、「建設工事請負契約書の特約事項」に基づき履行を確認します。
F33: 無 | I33: 0
B34: 技術者の能力 | C34: 技術者の能力 | D34: 配置予定 技術者の 工事実績 【特定建設工事 共同企業体 の代表者】 | E34: 主任（監理）技術者又は 現場代理人としての工事実績 | F34: 評価対象工事②の実績あり | I34: 20 | J34: 20 | K34: =SUM(J34:J39) -> 25 | L34: 様式１ 様式３ | M34: 【特定建設工事共同企業体の代表者について評価します】 配置予定技術者が主任(監理）技術者又は現場代理人として従事した工事のうち、単独又は共同企業体構成員（出資比率20％以上に限る）の元請として受注した評価対象工事の実績の有無により評価します。 ・「評価対象工事②」とは、高圧受変電設備（変圧器容量合計値150kVA以上）の新設、増設又は更新工事を指します。 ・「評価対象工事③」とは、高圧受変電設備（変圧器容量合計値75kVA以上）の新設、増設又は更新工事を指します。 ※変圧器容量合計値とは、新しく整備した変圧器の容量合計値とします。 ・主任(監理)技術者としての実績とは、平成２３年度以降に完成し、かつ、引渡しが済んでいる工事で、現地施工の実績を対象とし、現地施工期間において、完成日を含む２分の１以上の連続した期間に従事した工事の実績をいいます。 ・現場代理人としての実績とは、平成２３年度以降に完成し、かつ、引渡しが済んでいる工事で、現地施工の実績を対象とし、現地施工期間において、完成日を含む２分の１以上の連続した期間に従事した工事の実績をいいます。ただし、コリンズに登録されていた者に限ります。 ・評価対象の工事実績は１件とし、官民の別は問いません。 ・余裕期間制度の対象工事は、現地施工期間において、完成日を含む実工期（現地着手日から完成日まで）の２分の１以上の連続した期間に従事した実績を評価の対象とします。
F35: 評価対象工事③の実績あり | I35: 10
F36: 評価対象工事の実績なし | I36: 0
D37: 配置予定技術者 のCPD (継続学習制度) 取組実績 【特定建設工事 共同企業体 の代表者】 | E37: 各団体が発行するCPDの取組実績 | F37: 換算後の単位数の合計が推奨単位以上 | I37: 5 | J37: 5 | M37: 【特定建設工事共同企業体の代表者について評価します】 配置予定技術者が令和５年度から令和８年度に取得したＣＰＤ単位により評価します。 ・ＣＰＤ単位は、建設系ＣＰＤ協議会加盟団体で証明、認定されたものに限ります。ただし、当該工事が建築関係業種の場合は、建築ＣＰＤ運営会議の加盟団体を含みます。 ・申告は、加盟団体のうちいずれか１団体の取得単位に限ります。ただし、相互承認を受けたＣＰＤ単位は、申告する加盟団体以外であっても取得単位に含めることを可能とします。 ・１年間の推奨単位を設定していない団体のＣＰＤ単位は、評価の対象としません。 ・各年度の取得単位は、換算係数を乗じるものとします。（小数第４位以下切り捨て） ・換算係数は、令和５年度は１／４、令和６年度は１／２、令和７年度及び令和８年度は１とします。
F38: 換算後の単位数の合計が推奨単位の1/2以上 | I38: 3
F39: 換算後の単位数の合計が推奨単位の1/2未満 | I39: 0
B40: 技術提案等 | C40: 技術提案 (対策なし型) | D40: 特記課題 | E40: 工事を行ううえでの留意点 | F40: 各項目あたりの評価基準・加算点 | G40: 項目1,2 | H40: 項目3 | I40: 80 (最大30点/項目×2項目+最大20点/項目×1項目) | J40: 80 | K40: =SUM(J40:J45) -> 80 | L40: 様式４ | M40: 当該工事は国児学園寮舎棟ほかの新築に係る電気設備工事です。 「項目１ 工程管理における留意点」、「項目２ 学園の運営に配慮しながら工事を行うための留意点」、「項目３ 現場施工における安全管理」の３項目について、それぞれに工事を行ううえで考えられる留意点を３つ以内で、その理由を含めて記述してください。 ・これらの提案については、対策を求めていません。そのため履行義務はありません。
F41: 優れている | G41: 30 | H41: 20
F42: 概ね優れている | G42: 25 | H42: 15
F43: 良好である | G43: 20 | H43: 10
F44: 概ね良好である | G44: 15 | H44: 5
F45: 上記以外 | G45: 0 | H45: 0
B46: 総合評価方式の不履行による加算点の減点 | E46: 当該工事の入札公告日が、三重県が総合評価方式で発注した工事で不履行による減点措置が課されている期間内である場合、「技術提案等不履行確定通知書等」に記載した減点を行います。 | I46: △換算前 加算点満点 ×1割 ×件数 | L46: 様式１ | M46: 三重県が総合評価方式で発注した工事で、技術資料又は施工体制確認資料に記載された事項に不履行があった場合の減点は、次式により行います。 減点後の貴社の換算前加算点合計＝Ａ－（Ｂ×０．１×Ｃ） Ａ：貴社の換算前加算点合計 Ｂ：当該工事の換算前加算点満点 Ｃ：不履行工事件数 不履行工事件数とは、当該工事の入札公告日が「技術提案等不履行確定通知書」で通知された不履行による減点の対象となる期間内である工事の件数とします。
B47: 指名停止措置による 加算点の減点 | E47: 当該工事の入札公告日が、三重県発注工事にかかる贈賄、公契約関係競売等妨害又は談合により役員等又は使用人が逮捕、又は逮捕を経ないで公訴を提起されたことによる指名停止に伴う減点措置期間内である場合、減点を行います。 | I47: △換算前 加算点満点 ×1割 | L47: 様式１ | M47: 当該工事の入札公告日が、三重県発注工事にかかる贈賄、公契約関係競売等妨害又は談合により役員等又は使用人が逮捕、又は逮捕を経ないで公訴を提起されたことによる指名停止に伴う減点措置期間内である場合の減点は、次式により行います。 減点後の貴社の換算前加算点合計＝Ａ－（Ｂ×０．１） Ａ：貴社の換算前加算点合計 Ｂ：当該工事の換算前加算点満点 ※減点措置期間は指名停止期間の終了日の翌日から１年間とします。 なお、対象となる指名停止措置は、当該工事入札公告日の前年度４月１日から当該工事入札公告日までの期間に指名停止期間が１日でも重複するものとします。
I48: 換算前 加算点 満点 | J48: =SUM(K5:K45) -> 178 | M48: ※技術資料の作成方法及び提出資料は、「技術資料作成上の留意事項」を必ず確認してください。
I49: 加算点 満点 | J49: =IF(B2="簡易型Ａ",10,IF(B2="簡易型Ｂ",20,IF(B2="簡易型Ｃ",25,IF(B2="標準型",35,"型選択")))) -> 20
B51: 当該工事で、技術資料又は施工体制確認資料に記載の内容に不履行があった場合の取り扱い | E51: 当該工事の履行確認を伴う評価項目に不履行があった場合、「技術提案等不履行確定通知書」により不履行項目・不履行による減点の対象となる期間などを通知します。 「技術提案等不履行確定通知書」に記載した期間に三重県が総合評価方式で発注する工事（以下「発注工事」という。）で、「貴社の換算前加算点合計」から「発注工事の換算前加算点満点」の1割を減点します。 貴社が特定建設工事共同企業体又は経常建設共同企業体の構成員である場合も、「発注工事の換算前加算点満点」の１割を減点します。

Sheet 届出書
AA3: 令和 年 月 日
A5: 技 術 資 料 届 出 書
B9: 三重県知事 | H9: あて
O11: 住 所
O13: 会社名
O15: 代表者氏名
E18: 工 事 名 | F18: ： | G18: 令和8年度 営繕 第0836-分0002号
G19: 三重県立国児学園寮舎棟ほか電気設備工事
B25: 上記工事の技術資料を提出します。なお、地方自治法施行令（昭和22年政令第16号）
B26: 第167条の4の規定に該当する者でないこと並びに確認資料の内容は、事実と相違ない
B27: ことを誓約します。問い合わせ先は次のとおりです。
C30: 【問い合わせ先】
D31: 担当者 | G31: ： | H31: ○○ ○○
D32: 部 署 | G32: ： | H32: ○○本店 ○○部 ○○課
D33: 住 所 | G33: ： | H33: ○○県○○市○○
D34: 電話番号 | G34: ： | H34: ＊＊＊－＊＊＊＊－＊＊＊＊
D35: ＦＡＸ | G35: ： | H35: ＊＊＊－＊＊＊＊－＊＊＊＊
D36: Ｅ-mail | G36: ：

Sheet 様式１
B1: （様式１） 加算点申告書
F2: 会社名
B3: 大項目 | D3: 中項目 | E3: 小項目 | F3: 加算点 | G3: 評価基準 | I3: 各評価項目の 自己評価 | J3: 自己 加算点
G4: 配点 | H4: 基準
B5: =IF('評価項目(標準)'!B5="","",+'評価項目(標準)'!B5) -> 企 業 の 能 力 等 | C5: =IF(+'評価項目(標準)'!C5="","",+'評価項目(標準)'!C5) -> 地域精通度・貢献度 | D5: =IF(+'評価項目(標準)'!D5="","",+'評価項目(標準)'!D5) -> 地域精通度 【特定建設工事 共同企業体 の代表者】 | E5: =IF(+'評価項目(標準)'!E5="","",+'評価項目(標準)'!E5) -> 本店等所在地 | F5: =+IF(+'評価項目(標準)'!J5="","",+'評価項目(標準)'!J5) -> 10 | G5: =+IF(+'評価項目(標準)'!I5="","",+'評価項目(標準)'!I5) -> 10 | H5: =+IF(+'評価項目(標準)'!F5="","",+'評価項目(標準)'!F5) -> 三重県内に本店及び建設業法上の主たる営業所あり | J5: =IF(I5="","",VLOOKUP(I5,'評価項目(標準)'!F5:I7,4,FALSE))
G6: =+IF(+'評価項目(標準)'!I6="","",+'評価項目(標準)'!I6) -> 5 | H6: =+IF(+'評価項目(標準)'!F6="","",+'評価項目(標準)'!F6) -> 三重県内に建設業法上の営業所あり
G7: =+IF(+'評価項目(標準)'!I7="","",+'評価項目(標準)'!I7) -> 0 | H7: =+IF(+'評価項目(標準)'!F7="","",+'評価項目(標準)'!F7) -> 上記以外
D8: =IF(+'評価項目(標準)'!D8="","",+'評価項目(標準)'!D8) -> 地域貢献度 【特定建設工事 共同企業体 の代表者】 | E8: =IF(+'評価項目(標準)'!E8="","",+'評価項目(標準)'!E8) -> 災害協定の評価 | F8: =+IF(+'評価項目(標準)'!J8="","",+'評価項目(標準)'!J8) -> 6 | G8: =+IF(+'評価項目(標準)'!I8="","",+'評価項目(標準)'!I8) -> 6 | H8: =+IF(+'評価項目(標準)'!F8="","",+'評価項目(標準)'!F8) -> 災害協定の実績（２協定以上）あり | J8: =IF(I8="","",VLOOKUP(I8,'評価項目(標準)'!F8:I10,4,FALSE))
G9: =+IF(+'評価項目(標準)'!I9="","",+'評価項目(標準)'!I9) -> 3 | H9: =+IF(+'評価項目(標準)'!F9="","",+'評価項目(標準)'!F9) -> 災害協定の実績（１協定）あり
G10: =+IF(+'評価項目(標準)'!I10="","",+'評価項目(標準)'!I10) -> 0 | H10: =+IF(+'評価項目(標準)'!F10="","",+'評価項目(標準)'!F10) -> 実績なし
C11: =IF(+'評価項目(標準)'!C11="","",+'評価項目(標準)'!C11) -> 社会貢献度 | D11: =IF(+'評価項目(標準)'!D11="","",+'評価項目(標準)'!D11) -> 社会貢献度 【「県内企業による施工」を除き、特定建設工事共同企業体の代表者】 | E11: =IF(+'評価項目(標準)'!E11="","",+'評価項目(標準)'!E11) -> ① 男女共同参画活動実績 ② 障がい者雇用実績 ③ 人権に関する取組実績 ④ 「みえる・わかる・つながる！職業ポータルサイト」 Webページへの登録 ⑤ 現場見学会等の開催実績 ⑥ 不当要求防止責任者講習の受講実績 ⑦ 職場環境づくりの実績 | F11: =+IF(+'評価項目(標準)'!J11="","",+'評価項目(標準)'!J11) -> 4 | G11: 左欄の①～⑦のうち、該当する項目により得られる合計点数 | J11: =IF(I11="","",IF(I11=H12,G12,IF(I11=H13,G13,IF(I11=H14,G14,IF(I11=H15,G15,IF(I11=H16,G16))))))
G12: =+IF(+'評価項目(標準)'!I12="","",+'評価項目(標準)'!I12) -> 4 | H12: =+IF(+'評価項目(標準)'!F12="","",+'評価項目(標準)'!F12) -> ４点
G13: =+IF(+'評価項目(標準)'!I13="","",+'評価項目(標準)'!I13) -> 3 | H13: =+IF(+'評価項目(標準)'!F13="","",+'評価項目(標準)'!F13) -> ３点
G14: =+IF(+'評価項目(標準)'!I14="","",+'評価項目(標準)'!I14) -> 2 | H14: =+IF(+'評価項目(標準)'!F14="","",+'評価項目(標準)'!F14) -> ２点
G15: =+IF(+'評価項目(標準)'!I15="","",+'評価項目(標準)'!I15) -> 1 | H15: =+IF(+'評価項目(標準)'!F15="","",+'評価項目(標準)'!F15) -> １点
G16: =+IF(+'評価項目(標準)'!I16="","",+'評価項目(標準)'!I16) -> 0 | H16: =+IF(+'評価項目(標準)'!F16="","",+'評価項目(標準)'!F16) -> 実績（取得点）なし
E17: =IF(+'評価項目(標準)'!E17="","",+'評価項目(標準)'!E17) -> 県内企業による施工 | F17: =+IF(+'評価項目(標準)'!J17="","",+'評価項目(標準)'!J17) -> 5 | G17: =+IF(+'評価項目(標準)'!I17="","",+'評価項目(標準)'!I17) -> 5 | H17: =+IF(+'評価項目(標準)'!F17="","",+'評価項目(標準)'!F17) -> 県内企業による施工の割合70 ％以上 | J17: =IF(I17="","",VLOOKUP(I17,'評価項目(標準)'!F17:I19,4,FALSE))
G18: =+IF(+'評価項目(標準)'!I18="","",+'評価項目(標準)'!I18) -> 3 | H18: =+IF(+'評価項目(標準)'!F18="","",+'評価項目(標準)'!F18) -> 県内企業による施工の割合50％以上
G19: =+IF(+'評価項目(標準)'!I19="","",+'評価項目(標準)'!I19) -> 0 | H19: =+IF(+'評価項目(標準)'!F19="","",+'評価項目(標準)'!F19) -> 上記以外
C20: =IF(+'評価項目(標準)'!C20="","",+'評価項目(標準)'!C20) -> 企業の技術力等 | D20: =IF(+'評価項目(標準)'!D20="","",+'評価項目(標準)'!D20) -> 工事実績 【特定建設工事 共同企業体 の代表者】 | E20: =IF(+'評価項目(標準)'!E20="","",+'評価項目(標準)'!E20) -> 企業の工事実績 | F20: =+IF(+'評価項目(標準)'!J20="","",+'評価項目(標準)'!J20) -> 30 | G20: =+IF(+'評価項目(標準)'!I20="","",+'評価項目(標準)'!I20) -> 30 | H20: =+IF(+'評価項目(標準)'!F20="","",+'評価項目(標準)'!F20) -> 評価対象工事①の実績あり | J20: =IF(I20="","",VLOOKUP(I20,'評価項目(標準)'!F20:I22,4,FALSE))
G21: =+IF(+'評価項目(標準)'!I21="","",+'評価項目(標準)'!I21) -> 15 | H21: =+IF(+'評価項目(標準)'!F21="","",+'評価項目(標準)'!F21) -> 評価対象工事②の実績あり
G22: =+IF(+'評価項目(標準)'!I22="","",+'評価項目(標準)'!I22) -> 0 | H22: =+IF(+'評価項目(標準)'!F22="","",+'評価項目(標準)'!F22) -> 評価対象工事の実績なし
D23: =IF(+'評価項目(標準)'!D23="","",+'評価項目(標準)'!D23) -> 工事成績 【特定建設工事 共同企業体 の代表者】 | E23: =IF(+'評価項目(標準)'!E23="","",+'評価項目(標準)'!E23) -> 電気工事格付けに係る 平均工事成績 | F23: =+IF(+'評価項目(標準)'!J23="","",+'評価項目(標準)'!J23) -> 5 | G23: =IF(+'評価項目(標準)'!I23="","",+'評価項目(標準)'!I23) -> 5 | H23: =IF(+'評価項目(標準)'!F23="","",+'評価項目(標準)'!F23) -> ８５点以上の場合 | J23: =IF(NOT(ISNUMBER(I23)),"",IF(I23="","",IF(I23>100,"",IF(I23>85,F23,IF(I23>=75,ROUNDDOWN((ROUND(I23-75,1)*F23/10),1),IF(I23<75,0))))))
G24: =IF(+'評価項目(標準)'!I24="","",+'評価項目(標準)'!I24) | H24: =IF(+'評価項目(標準)'!F24="","",+'評価項目(標準)'!F24) -> ７５点以上８５点未満の場合 (平均工事成績点－７５点) × ５/１０
G25: =IF(+'評価項目(標準)'!I25="","",+'評価項目(標準)'!I25) -> ～
G26: =IF(+'評価項目(標準)'!I26="","",+'評価項目(標準)'!I26)
G27: =IF(+'評価項目(標準)'!I27="","",+'評価項目(標準)'!I27) -> 0 | H27: =IF(+'評価項目(標準)'!F27="","",+'評価項目(標準)'!F27) -> ７５点未満の場合
D28: =IF(+'評価項目(標準)'!D28="","",+'評価項目(標準)'!D28) -> 品質 マネジメント 【特定建設工事 共同企業体 の代表者】 | E28: =IF(+'評価項目(標準)'!E28="","",+'評価項目(標準)'!E28) -> 品質マネジメントシステムの認証 | F28: =+IF(+'評価項目(標準)'!J28="","",+'評価項目(標準)'!J28) -> 3 | G28: =+IF(+'評価項目(標準)'!I28="","",+'評価項目(標準)'!I28) -> 3 | H28: =+IF(+'評価項目(標準)'!F28="","",+'評価項目(標準)'!F28) -> 有 | J28: =IF(I28="","",IF(I28=H28,G28,IF(I28=H29,G29)))
G29: =+IF(+'評価項目(標準)'!I29="","",+'評価項目(標準)'!I29) -> 0 | H29: =+IF(+'評価項目(標準)'!F29="","",+'評価項目(標準)'!F29) -> 無
D30: =IF(+'評価項目(標準)'!D30="","",+'評価項目(標準)'!D30) -> 労働安全 衛生管理 【特定建設工事 共同企業体 の代表者】 | E30: =IF(+'評価項目(標準)'!E30="","",+'評価項目(標準)'!E30) -> 労働安全衛生マネジメントシステムの認証 | F30: =+IF(+'評価項目(標準)'!J30="","",+'評価項目(標準)'!J30) -> 5 | G30: 5 | H30: =IF(+'評価項目(標準)'!F30="","",+'評価項目(標準)'!F30) -> 有 | J30: =IF(I30="","",IF(I30=H30,G30,IF(I30=H31,G31)))
G31: 0 | H31: =IF(+'評価項目(標準)'!F31="","",+'評価項目(標準)'!F31) -> 無
D32: =IF(+'評価項目(標準)'!D32="","",+'評価項目(標準)'!D32) -> 施工能力 | E32: =IF(+'評価項目(標準)'!E32="","",+'評価項目(標準)'!E32) -> 登録基幹技能者配置 | F32: =+IF(+'評価項目(標準)'!J32="","",+'評価項目(標準)'!J32) -> 5 | G32: 5 | H32: =IF(+'評価項目(標準)'!F32="","",+'評価項目(標準)'!F32) -> 有 | J32: =IF(I32="","",IF(I32=H32,G32,IF(I32=H33,G33)))
G33: 0 | H33: =IF(+'評価項目(標準)'!F33="","",+'評価項目(標準)'!F33) -> 無
B34: =IF('評価項目(標準)'!B34="","",+'評価項目(標準)'!B34) -> 技術者の能力 | C34: =IF(+'評価項目(標準)'!C34="","",+'評価項目(標準)'!C34) -> 技術者の能力 | D34: =IF(+'評価項目(標準)'!D34="","",+'評価項目(標準)'!D34) -> 配置予定 技術者の 工事実績 【特定建設工事 共同企業体 の代表者】 | E34: =IF(+'評価項目(標準)'!E34="","",+'評価項目(標準)'!E34) -> 主任（監理）技術者又は 現場代理人としての工事実績 | F34: =+IF(+'評価項目(標準)'!J34="","",+'評価項目(標準)'!J34) -> 20 | G34: =+IF(+'評価項目(標準)'!I34="","",+'評価項目(標準)'!I34) -> 20 | H34: =+IF(+'評価項目(標準)'!F34="","",+'評価項目(標準)'!F34) -> 評価対象工事②の実績あり | J34: =IF(I34="","",VLOOKUP(I34,'評価項目(標準)'!F34:I36,4,FALSE))
G35: =+IF(+'評価項目(標準)'!I35="","",+'評価項目(標準)'!I35) -> 10 | H35: =+IF(+'評価項目(標準)'!F35="","",+'評価項目(標準)'!F35) -> 評価対象工事③の実績あり
G36: =+IF(+'評価項目(標準)'!I36="","",+'評価項目(標準)'!I36) -> 0 | H36: =+IF(+'評価項目(標準)'!F36="","",+'評価項目(標準)'!F36) -> 評価対象工事の実績なし
D37: =IF(+'評価項目(標準)'!D37="","",+'評価項目(標準)'!D37) -> 配置予定技術者 のCPD (継続学習制度) 取組実績 【特定建設工事 共同企業体 の代表者】 | E37: =IF(+'評価項目(標準)'!E37="","",+'評価項目(標準)'!E37) -> 各団体が発行するCPDの取組実績 | F37: =+IF(+'評価項目(標準)'!J37="","",+'評価項目(標準)'!J37) -> 5 | G37: =+IF(+'評価項目(標準)'!I37="","",+'評価項目(標準)'!I37) -> 5 | H37: =+IF(+'評価項目(標準)'!F37="","",+'評価項目(標準)'!F37) -> 換算後の単位数の合計が推奨単位以上 | J37: =IF(I37="","",IF(I37=H37,G37,IF(I37=H38,G38,IF(I37=H39,G39))))
G38: =+IF(+'評価項目(標準)'!I38="","",+'評価項目(標準)'!I38) -> 3 | H38: =+IF(+'評価項目(標準)'!F38="","",+'評価項目(標準)'!F38) -> 換算後の単位数の合計が推奨単位の1/2以上
G39: =+IF(+'評価項目(標準)'!I39="","",+'評価項目(標準)'!I39) -> 0 | H39: =+IF(+'評価項目(標準)'!F39="","",+'評価項目(標準)'!F39) -> 換算後の単位数の合計が推奨単位の1/2未満
B40: =IF(+'評価項目(標準)'!B46="","",+'評価項目(標準)'!B46) -> 総合評価方式の不履行による加算点の減点 | E40: =IF(+'評価項目(標準)'!E46="","",+'評価項目(標準)'!E46) -> 当該工事の入札公告日が、三重県が総合評価方式で発注した工事で不履行による減点措置が課されている期間内である場合、「技術提案等不履行確定通知書等」に記載した減点を行います。 | H40: =IF('評価項目(標準)'!I46="","",+'評価項目(標準)'!I46) -> △換算前 加算点満点 ×1割 ×件数 | J40: =IF(+I40="","",-(+'評価項目(標準)'!J48*0.1*I40))
B41: =IF(+'評価項目(標準)'!B47="","",+'評価項目(標準)'!B47) -> 指名停止措置による 加算点の減点 | E41: =IF(+'評価項目(標準)'!E47="","",+'評価項目(標準)'!E47) -> 当該工事の入札公告日が、三重県発注工事にかかる贈賄、公契約関係競売等妨害又は談合により役員等又は使用人が逮捕、又は逮捕を経ないで公訴を提起されたことによる指名停止に伴う減点措置期間内である場合、減点を行います。 | H41: =IF('評価項目(標準)'!I47="","",+'評価項目(標準)'!I47) -> △換算前 加算点満点 ×1割 | J41: =IF(+I41="","",-(+'評価項目(標準)'!J48*0.1))
I42: 合計 | J42: =SUM(J5:J41) -> 0
B44: 【記入上の注意】
B45: ・ | D45: 黄色着色のセルは、該当する数値を直接入力してください。加算点は、自動計算により表示されます。
B46: ・ | D46: 橙色着色のセルは、セル中から該当する項目を選択してください。加算点は、選択した内容に応じて自動で表示されます。
B47: ・ | C47: 評価項目及び評価基準の詳細については、「評価項目一覧」及び「技術資料作成上の留意事項」で確認してください。
B48: ・ | C48: このシートは「評価項目一覧」とリンクしています。自己加算点が表示されていない場合は評価しません。

Sheet 様式２
A1: （様式２） 地域精通度・社会貢献度・企業の技術力等に関する技術資料 | AJ1: ※本頁は（様式２）の注意事項となっています。提出の必要はありません。
O2: 会社名
A3: 【地域精通度】 | AJ3: 【地域精通度の注意事項】
A5: 本店等所在地 | E5: 本店所在地 | AJ5: 注1： | AL5: 本店と建設業法上の主たる営業所の所在地が同じ場合は、本店所在地の入力は不要です。
E7: 所在地の変更日 | J7: 年 月 日 | AJ7: 注2： | AL7: 公告の前月から３６か月前までの期間に、本店及び建設業法上の主たる営業所の所在地を変更した場合は、旧所在地と変更日を入力して下さい。
E8: 旧所在地
E10: 営業所所在地 | AJ10: 注3： | AL10: 三重県内に建設業法上の営業所を有する県外業者は、所在地を入力してください。
G12: 【社会貢献度】 | AJ12: 【社会貢献度の注意事項】
AD13: 評価対象 | AG13: 実績
A14: 社会貢献度 | E14: ① | F14: 男女共同参画活動実績の有無 | AJ14: 注1： | AL14: 評価対象として届け出る項目に「○」をプルダウンで選択してください。（最大４点）
E15: ② | F15: 障がい者雇用実績の有無
E16: ③ | F16: 人権に関する取組実績の有無（人権研修の受講実績又は公正採用選考人権啓発推進員の設置） | AJ16: 注2： | AL16: 各項目で実績（認証取得）の有無をプルダウンで選択してください。
E17: ④ | F17: 「みえる・わかる・つながる！職業ポータルサイト」Webページへの登録
E18: ⑤ | F18: 現場見学会等の開催実績
E19: ⑥ | F19: 不当要求防止責任者講習の受講実績
E20: ⑦ | F20: 「ユースエール認定制度」認定実績
F21: 「みえの働き方改革推進企業登録制度」登録実績
A22: 【企業の技術力等】 | AJ22: 【企業の技術力等】
A24: 工事実績 | E24: コリンズ登録番号
E25: 工事名称
AJ26: 【施工能力】
AJ27: 注1： | AL27: 登録電気工事基幹技能者の有無をプルダウンで選択してください。
A28: 施工能力 | E28: 登録基幹技能者配置 | J28: 登録電気工事基幹技能者 | AF28: 無

Sheet 様式３
A1: （様式３） 技術者の能力に関する技術資料
N2: 会社名
A3: 【技術者の能力】
A5: 配置予定技術者 | C5: 氏名 | W5: 生年月日（西暦） | AB5: 年 月 日
C6: 工事実績 | G6: コリンズ登録番号
G7: 工事名称
C9: 上記記載工事における 役割・従事期間 | K9: 役 割 | Q9: 監理技術者 | V9: □ | W9: 主任技術者 | AB9: □ | AC9: 現場代理人 | AH9: □
K10: 従事期間
C11: CPD取組実績 | E11: 取得単位認定団体 | N11: （例）○○技士会 | Y11: 推奨単位数 | AG11: 単位／年
N12: 取得単位数 | S12: 換算係数 | U12: 換算後単位数 | Y12: 換算後単位数の合計
E13: R8(2026)年度 | Q13: 単位 | S13: 1 | U13: =IF(N13="","",ROUNDDOWN(N13*S13,3)) | W13: 単位 | Y13: =IF(SUM(U13:V16)=0,"",SUM(U13:V16)) | AD13: 単 位
E14: R7(2025)年度 | Q14: 単位 | S14: 1 | U14: =IF(N14="","",ROUNDDOWN(N14*S14,3)) | W14: 単位
E15: R6(2024)年度 | Q15: 単位 | S15: 0.5 | U15: =IF(N15="","",ROUNDDOWN(N15*(1/2),3)) | W15: 単位
E16: R5(2023)年度 | Q16: 単位 | S16: 0.25 | U16: =IF(N16="","",ROUNDDOWN(N16*(1/4),3)) | W16: 単位
A21: 【技術者の能力の注意事項】
A23: 注1： | C23: 配置予定技術者の氏名は、必ず入力してください。
A25: 注2： | C25: 配置予定技術者に関する項目のうち、チェック欄が設けてあるところは、該当する「□」をプルダウンで「■」に変更してください。
A27: 注3： | C27: 配置予定技術者の従事期間は、現地施工期間とし、工場製作期間を含めない期間を入力してください。
A29: 注4： | C29: CPDの取得単位認定団体で記入できる団体数は、１団体のみとします。 推奨単位数は、上記で記入した団体のR8.4.1時点の推奨単位数を入力してください。

Sheet 様式４（対策なし）
A1: （様式４） 技術提案に関する技術資料
A2: 工事名：
A3: 会社名 | AQ3: ※本頁は、提出不要です。
A4: 特記課題 | AQ4: 【特記課題の注意事項】
A5: 項目１ | D5: 留意点① | AP5: 1 2 3 4 5 6 7 8 9 10 11 12 13 14 15 | AR5: ・評価項目一覧に示す３項目について、工事を行ううえでの留意点とその理由をそれぞれ簡潔に記
AP6: 2 | AR6: 載してください。
AP7: 3 | AR7: ・具体的に実施する対策などを記載しても、その部分は評価しません。
AP8: 4 | AR8: ・文字の大きさは、１０ポイントとします。
AP9: 5 | AR9: ・行列の挿入及びセルサイズの変更は、不可とします。
D10: 留意点② | AP10: 1 | AR10: ・各項目の留意点①～③は、それぞれ５行以内で記載するものとします。
AP11: 2 | AR11: ・５行を超えて記載されている留意点は、評価しません。※例１、例２参照
AP12: 3 | AR12: ・ | AS12: 文字ポイントを小さくして、５行以内で記載されている留意点は、評価しません。※例３参照
AP13: 4 | AR13: ・ | AS13: 印刷した様式４で判断しますので、十分確認のうえ提出してください。
AP14: 5 | AS14: ※電子媒体で提出された場合でも、印刷して判断します。
D15: 留意点③ | AP15: 1 | AR15: ・ | AS15: 一括審査対象工事の場合、工事名には入札への参加を希望するすべての工事名を記載してください。
AP16: 2
AP17: 3
AP18: 4
AP19: 5
A20: 項目２ | D20: 留意点① | AP20: 1 2 3 4 5 6 7 8 9 10 11 12 13 14 15
AP21: 2
AP22: 3
AP23: 4
AP24: 5
D25: 留意点② | AP25: 1
AP26: 2
AP27: 3
AP28: 4
AP29: 5
D30: 留意点③ | AP30: 1
AP31: 2
AP32: 3
AP33: 4
AP34: 5
A35: 項目３ | D35: 留意点① | AP35: 1
AP36: 2
AP37: 3
AP38: 4
AP39: 5
D40: 留意点② | AP40: 1
AP41: 2
AP42: 3
AP43: 4
AP44: 5
D45: 留意点③ | AP45: 1
AP46: 2
AP47: 3
AP48: 4
AP49: 5
