Workbook

Sheet 評価項目(標準)
M1: 法面処理工事 【令和８年６月版】
B2: 簡易型Ｂ | D2: 総合評価方式評価項目一覧 【法面処理工事】 除算方式 | G2: 工事名： | I2: 自然災害防止事業（県単）第松-15号工事（東又谷）
B3: 大項目 | D3: 中項目 | E3: 小項目 | F3: 評価基準 | I3: 加算点 | L3: 様式 | M3: 評価内容等
I4: 配点 | J4: 小項目 配点 | K4: 大項目 配点
B5: 企 業 の 能 力 等 | C5: 地域精通度・貢献度 | D5: 地域精通度 | E5: 本店等所在地 | F5: 松阪建設事務所管内に 本店及び建設業法上の主たる営業所あり | I5: 10 | J5: 10 | K5: =SUM(J5:J30) -> 59 | L5: 様式１ 様式２ | M5: 「本店及び建設業法上の主たる営業所」の所在地により評価します。 ・本店等の所在地を変更した場合、公告の前月から３６か月前までの期間の「１８か月以上連続した所在地」を評価の対象とします。
F6: 県内に 本店及び建設業法上の主たる営業所あり | I6: 5
F7: 上記以外 | I7: 0
E8: 施工箇所地域における工事実績 | F8: 松阪建設事務所管内における工事実績あり | I8: 5 | J8: 5 | M8: 松阪建設事務所管内において、単独又は共同企業体構成員（出資比率20％以上に限る）の元請として受注し、令和5年度以降に完成し、かつ、引渡しが済んでいる契約金額五百万円以上の工事の実績の有無により評価します。 ・評価対象の工事実績は１件とし、コリンズに登録された公共機関等発注の工事に限ります。
F9: 工事実績なし | I9: 0
D10: 地域貢献度 | E10: 公共施設美化活動実績 | F10: 有 | I10: 3 | J10: 3 | M10: 令和７年度又は令和８年度における松阪建設事務所管内の公共施設美化活動の活動実績の有無により評価します。 ・「公共施設美化活動」とは、三重県県土整備部が定める住民参加に係る事業（河川・海岸美化ボランティア活動推進事業、道路美化ボランティア活動助成事業、フラワーオアシス推進事業、ふれあいの道事業）を指します。
F11: 無 | I11: 0
E12: 災害協定の評価 | F12: 災害協定に基づく訓練１への参加実績あり | I12: 9 | J12: 9 | M12: 「災害協定に基づく訓練１への参加実績」又は「災害協定に基づく訓練２への参加実績」又は「防災協定の締結実績」の有無により評価します。 【災害協定に基づく訓練１】 ・「災害協定」とは、松阪建設事務所と締結した「地震・津波・風水害等の緊急時における運用協定」をいいます。 ・「災害協定に基づく訓練１の参加実績」は、「災害協定」に基づいた災害対応実動訓練及び情報伝達訓練への令和６年度又は令和７年度の参加実績を指します。 ・「災害対応実動訓練」は、以下の要件をすべて満たす場合に評価します。 ① 団体として５年以上継続した実動訓練実績があること。 ② 評価対象年度の実動訓練において、協定締結団体構成員のうち、松阪建設事務所管内の構成員の半数以上が参加していること。 ③ ②で評価する参加企業については、Ａランク企業では代表者と１名以上の技術者、Ｂランク企業等では、１名以上の技術者が参加していること。 ・「情報伝達訓練」は、団体として５年以上の継続した訓練の実績がある場合に評価します。 【災害協定に基づく訓練２】 ・「災害協定」とは、松阪建設事務所と締結した「地震・津波・風水害等の緊急時における運用協定」をいいます。 ・「災害協定に基づく訓練２の参加実績」は、「災害協定」に基づいた情報伝達訓練への令和６年度又は令和７年度の参加実績を指します。 ・「情報伝達訓練」は、団体として５年以上の継続した訓練の実績がある場合に評価します。 【防災協定の締結】 ・「防災協定」とは、「松阪建設事務所管内の市町との防災協定」又は「三重県との防災協定」をいいます。 ・「松阪建設事務所管内の市町との防災協定」については、「建設業のための広場」で公開している最新版の「経営事項審査申請の手引き」に記載された、協定書等に災害時の建設業者の活動義務が規定されている防災協定とします。 ・「三重県との防災協定」については、「技術資料作成上の留意事項」に記載した防災協定とします。 ・「防災協定の締結」は、令和６年度又は令和７年度の防災協定締結を評価の対象とします。対象期間以前の協定締結で、自動継続している協定は含みます。 ・「防災協定の締結」の評価は、松阪建設事務所管内に「本店及び建設業法上の主たる営業所」又は「建設業法上の営業所」を有する企業に限ります。 ※「災害協定に基づく訓練１への参加実績」と「災害協定に基づく訓練２への参加実績」と「防災協定の締結実績」は重複して評価しません。
F13: 災害協定に基づく訓練２への参加実績あり | I13: 7
F14: 防災協定の締結実績あり | I14: 3
F15: 実績なし | I15: 0
C16: 社会貢献度 | D16: 社会貢献度 | E16: ① 男女共同参画活動実績 ② 障がい者雇用実績 ③ 人権に関する取組実績 ④ 「みえる・わかる・つながる！職業ポータルサイト」 Webページへの登録 ⑤ 現場見学会等の開催実績 ⑥ 不当要求防止責任者講習の受講実績 ⑦ 職場環境づくりの実績 | F16: 左欄の①～⑦のうち、該当する項目により得られる合計点数 | J16: 4 | M16: 下記の実績の該当する項目により得られる合計点数により評価します。 ①男女共同参画活動実績 女性の職業生活における活躍の推進に関する法律に基づく一般事業主行動計画を策定している場合に評価します。（１点） ②障がい者雇用実績 障害者の雇用の促進等に関する法律に基づく障がい者雇用の有無により評価します。（１点） ・法律により障がい者雇用が義務付けられている企業は、法定雇用率を達成している場合に評価します。 ・法律により障がい者雇用が義務付けられていない企業は、障がい者を雇用している場合に評価します。 ③人権に関する取組実績 「三重県が開催する人権に関する研修の受講実績」又は「職業安定法に基づく公正採用選考人権啓発推進員の設置」のいずれかの取組実績の有無により評価します。（１点） なお、「三重県が開催する人権に関する研修の受講実績」は、令和７年度から令和８年度の受講実績を評価の対象とします。 ・「三重県が開催する人権に関する研修の受講実績」と「職業安定法に基づく公正採用選考人権啓発推進員の設置」は重複して評価しません。 ④「みえる・わかる・つながる！職業ポータルサイト」Webページへの登録 ・当該工事の入札に参加する者が、「みえる・わかる・つながる！職業ポータルサイト」Webぺージにインターンシップ受入情報を登録している場合に評価します。（１点） ・Webページ登録項目のうち「所在地、業種、職種、受入対象、受入時期、受入人数」の項目が全て記載されている場合に評価します。 ⑤現場見学会等の開催実績 ・当該工事の入札に参加する者が、単独又は共同企業体構成員として受注した三重県内の工事において、小学校、中学校、高等学校等の教育機関を対象に社会に貢献する建設業の役割の理解や次世代を支える若者たちの建設業への興味や関心を高めることを目的として現場見学会を開催した場合、及び、同目的で出前講座、実習授業のいずれかを開催した場合に評価します。（１点） ・現場見学会、出前講座、実習授業は１０名以上を対象とした場合に評価します。ただし、１０名以上の参加が見込めない場合（小規模な学校や学校側との調整の結果参加者が１０名未満となった場合）は、１０名未満でも評価します。 ・令和３年度から当該工事の入札公告日までの開催実績を評価の対象とします。 ・評価対象の現場見学会の実績は、官民の別は問いません。 ⑥不当要求防止責任者講習の受講実績 当該工事の入札に参加する者が、不当要求防止責任者を選任し、三重県公安委員会（(公財)暴力追放三重県民センター）が開催する不当要求防止責任者講習の受講実績のある場合に評価します。（１点） なお、「不当要求防止責任者講習の受講実績」は、令和５年度から入札公告日までの受講実績を評価の対象とします。 ⑦職場環境づくりの実績 下記のいずれかの実績により評価します。 （１） 令和４年度以降に「ユースエール認定制度」に認定されたことがある。（２点） （２）「みえの働き方改革推進企業登録制度」に登録されている。（１点） ※（１）と（２）は重複して評価しません。
F17: ４点 | I17: 4
F18: ３点 | I18: 3
F19: ２点 | I19: 2
F20: １点 | I20: 1
F21: 実績（取得点）なし | I21: 0
C22: 企業の技術力等 | D22: 工事実績 | E22: 企業の工事実績 | F22: とび・土工・コンクリート工事で 評価対象工事①の実績あり | I22: 20 | J22: 20 | M22: 三重県内において、単独又は共同企業体構成員（出資比率20％以上に限る）の元請として受注し、平成28年度以降に完成し、かつ、引渡しが済んでいる評価対象工事の実績の有無により評価します。 とび・土工・コンクリート工事（法面処理工事）または他工種工事で発注された法面処理工事１（モルタル・厚層（植生)基材吹付工、法枠工等、応力解析を伴わない法面処理工事）又は法面処理工事２（アンカー・ロックボルト付法枠工等、応力解析を伴う法面処理工事（ただし、仮設アンカーは除きます。））で、評価対象工事①は法枠工の設置面積が900㎡以上、またはコンクリート・モルタル・厚層（植生)基材吹付工の設置面積が1,300㎡以上のもの、評価対象工事②は法枠工の設置面積が450㎡以上、またはコンクリート・モルタル・厚層（植生)基材吹付工の設置面積が650㎡以上のものをいいます。 ・評価対象の工事実績は１件とし、コリンズに登録された公共機関等発注の工事に限ります。
F23: 他工種工事で評価対象工事①の実績あり | I23: 15
F24: とび・土工・コンクリート工事で 評価対象工事②の実績あり | I24: 10
F25: 他工種工事で評価対象工事②の実績あり | I25: 5
F26: 評価対象工事の実績なし | I26: 0
D27: 品質 マネジメント | E27: 品質マネジメントシステムの認証 | F27: 有 | I27: 3 | J27: 3 | M27: 当該工事の入札に参加する者が、ISO9000Sの認証を取得している場合に評価します。
F28: 無 | I28: 0
D29: 労働安全 衛生管理 | E29: 労働安全衛生マネジメントシステムの認証 | F29: 有 | I29: 5 | J29: 5 | M29: 当該工事の入札に参加する者が、労働安全衛生マネジメントシステムガイドライン(建設業労働安全衛生マネジメントシステムガイドラインを含む）に沿った取組の認証を取得している場合に評価します。
F30: 無 | I30: 0
B31: 技術者の能力 | C31: 技術者の能力 | D31: 配置予定 技術者の 工事実績 | E31: 主任（監理）技術者又は 現場代理人としての工事実績 | F31: とび・土工・コンクリート工事で 評価対象工事①の実績あり | I31: 25 | J31: 25 | K31: =SUM(J31:J40) -> 35 | L31: 様式１ 様式３ | M31: 配置予定技術者が主任(監理）技術者又は現場代理人として従事した工事のうち、単独又は共同企業体構成員（出資比率20％以上に限る）の元請として受注した評価対象工事の実績の有無により評価します。 とび・土工・コンクリート工事（法面処理工事）または他工種工事で発注された法面処理工事１（モルタル・厚層（植生)基材吹付工、法枠工等、応力解析を伴わない法面処理工事）又は法面処理工事２（アンカー・ロックボルト付法枠工等、応力解析を伴う法面処理工事（ただし、仮設アンカーは除きます。））で、評価対象工事①は法枠工の設置面積が900㎡以上、またはコンクリート・モルタル・厚層（植生)基材吹付工の設置面積が1,300㎡以上のもの、評価対象工事②は法枠工の設置面積が450㎡以上、またはコンクリート・モルタル・厚層（植生)基材吹付工の設置面積が650㎡以上のものをいいます。 ・主任(監理)技術者としての実績とは、平成28年度以降に完成し、かつ、引渡しが済んでいる工事で、契約日から完成日までの期間において、完成日を含む２分の１以上の連続した期間に従事した工事の実績をいいます。 ・現場代理人としての実績とは、平成28年度以降に完成し、かつ、引渡しが済んでいる工事で、契約日から完成日までの期間において、完成日を含む２分の１以上の連続した期間に従事した工事の実績をいいます。ただし、コリンズに登録されていた者に限ります。 ・評価対象の工事実績は１件とし、コリンズに登録された公共機関等発注の工事に限ります。 ・余裕期間制度の対象工事は、完成日を含む実工期の２分の１以上の連続した期間に従事した実績を評価の対象とします。
F32: 他工種工事で評価対象工事①の実績あり | I32: 20
F33: とび・土工・コンクリート工事で 評価対象工事②の実績あり | I33: 15
F34: 他工種工事で評価対象工事②の実績あり | I34: 10
F35: 評価対象工事の実績なし | I35: 0
D36: 配置予定 技術者の 資格保有状況 | E36: 法面工事に係る資格 | F36: 有 | I36: 5 | J36: 5 | M36: 配置予定技術者の法面工事に係る資格（のり面施工管理技術者、グラウンドアンカー施工士、地すべり防止工事士）の有無により評価します。
F37: 無 | I37: 0
D38: 配置予定技術者 のCPD （継続学習制度） 取組実績 | E38: 各団体が発行するCPDの取組実績 | F38: 換算後の単位数の合計が推奨単位以上 | I38: 5 | J38: 5 | M38: 配置予定技術者が令和５年度から令和８年度に取得したＣＰＤ単位により評価します。 ・ＣＰＤ単位は、建設系ＣＰＤ協議会加盟団体で証明、認定されたものに限ります。ただし、当該工事が建築関係業種の場合は、建築ＣＰＤ運営会議の加盟団体を含みます。 ・申告は、加盟団体のうちいずれか１団体の取得単位に限ります。ただし、相互承認を受けたＣＰＤ単位は、申告する加盟団体以外であっても取得単位に含めることを可能とします。 ・１年間の推奨単位を設定していない団体のＣＰＤ単位は、評価の対象としません。 ・各年度の取得単位は、換算係数を乗じるものとします。（小数第４位以下切り捨て） ・換算係数は、令和５年度は１／４、令和６年度は１／２、令和７年度及び令和８年度は１とします。
F39: 換算後の単位数の合計が推奨単位の1/2以上 | I39: 3
F40: 換算後の単位数の合計が推奨単位の1/2未満 | I40: 0
B41: 技術提案等 | C41: 技術提案 (対策なし型) | D41: 特記課題 | E41: 工事を行ううえでの留意点 | F41: 各項目あたりの評価基準・加算点 | G41: 項目1,2 | H41: 項目3 | I41: 80 (最大30点/項目×2項目+最大20点/項目×1項目) | J41: 80 | K41: =SUM(J41:J46) -> 80 | L41: 様式４ | M41: 当該工事は山腹崩壊地において航空実播工を行う工事です。 「項目１ 効率的な工程計画」、「項目２ 工事における安全対策」、「項目３ 周辺地域への配慮」の３項目について、それぞれに工事を行ううえで考えられる留意点を３つ以内で、その理由を含めて記述してください。 ・これらの提案については、対策を求めていません。そのため履行義務はありません。
F42: 優れている | G42: 30 | H42: 20
F43: 概ね優れている | G43: 25 | H43: 15
F44: 良好である | G44: 20 | H44: 10
F45: 概ね良好である | G45: 15 | H45: 5
F46: 上記以外 | G46: 0 | H46: 0
B47: 総合評価方式の不履行による加算点の減点 | E47: 当該工事の入札公告日が、三重県が総合評価方式で発注した工事で不履行による減点措置が課されている期間内である場合、「技術提案等不履行確定通知書等」に記載した減点を行います。 | I47: △換算前 加算点満点 ×1割 ×件数 | L47: 様式１ | M47: 三重県が総合評価方式で発注した工事で、技術資料又は施工体制確認資料に記載された事項に不履行があった場合の減点は、次式により行います。 減点後の貴社の換算前加算点合計＝Ａ－（Ｂ×０．１×Ｃ） Ａ：貴社の換算前加算点合計 Ｂ：当該工事の換算前加算点満点 Ｃ：不履行工事件数 不履行工事件数とは、当該工事の入札公告日が「技術提案等不履行確定通知書」で通知された不履行による減点の対象となる期間内である工事の件数とします。
B48: 指名停止措置による 加算点の減点 | E48: 当該工事の入札公告日が、三重県発注工事にかかる贈賄、公契約関係競売等妨害又は談合により役員等又は使用人が逮捕、又は逮捕を経ないで公訴を提起されたことによる指名停止に伴う減点措置期間内である場合、減点を行います。 | I48: △換算前 加算点満点 ×1割 | L48: 様式１ | M48: 当該工事の入札公告日が、三重県発注工事にかかる贈賄、公契約関係競売等妨害又は談合により役員等又は使用人が逮捕、又は逮捕を経ないで公訴を提起されたことによる指名停止に伴う減点措置期間内である場合の減点は、次式により行います。 減点後の貴社の換算前加算点合計＝Ａ－（Ｂ×０．１） Ａ：貴社の換算前加算点合計 Ｂ：当該工事の換算前加算点満点 ※減点措置期間は指名停止期間の終了日の翌日から１年間とします。 なお、対象となる指名停止措置は、当該工事入札公告日の前年度４月１日から当該工事入札公告日までの期間に指名停止期間が１日でも重複するものとします。
I49: 換算前 加算点 満点 | J49: =SUM(K5:K46) -> 174 | M49: ※技術資料の作成方法及び提出資料は、「技術資料作成上の留意事項」を必ず確認してください。
I50: 加算点 満点 | J50: =IF(B2="簡易型Ｂ",20,IF(B2="簡易型Ｃ",25,IF(B2="標準型",35,"型選択"))) -> 20
B52: 当該工事で、技術資料又は施工体制確認資料に記載の内容に不履行があった場合の取り扱い | E52: 当該工事の履行確認を伴う評価項目に不履行があった場合、「技術提案等不履行確定通知書」により不履行項目・不履行による減点の対象となる期間などを通知します。 「技術提案等不履行確定通知書」に記載した期間に三重県が総合評価方式で発注する工事（以下「発注工事」という。）で、「貴社の換算前加算点合計」から「発注工事の換算前加算点満点」の1割を減点します。 貴社が特定建設工事共同企業体又は経常建設共同企業体の構成員である場合も、「発注工事の換算前加算点満点」の１割を減点します。

Sheet 届出書
AA3: 令和 年 月 日
A5: 技 術 資 料 届 出 書
B9: 三重県知事 | H9: あて
O11: 住 所
O13: 会社名
O15: 代表者氏名
E18: 工 事 名 | F18: ： | G18: ='評価項目(標準)'!I2 -> 自然災害防止事業（県単）第松-15号工事（東又谷）
B25: 上記工事の技術資料を提出します。なお、地方自治法施行令（昭和22年政令第16号）
B26: 第167条の4の規定に該当する者でないこと並びに確認資料の内容は、事実と相違ない
B27: ことを誓約します。問い合わせ先は次のとおりです。
C30: 【問い合わせ先】
D31: 担当者 | G31: ： | H31: ○○ ○○
D32: 部 署 | G32: ： | H32: ○○本店 ○○部 ○○課
D33: 住 所 | G33: ： | H33: ○○県○○市○○
D34: 電話番号 | G34: ： | H34: ＊＊＊－＊＊＊＊－＊＊＊＊
D35: ＦＡＸ | G35: ： | H35: ＊＊＊－＊＊＊＊－＊＊＊＊
D36: Ｅ-mail | G36: ：

Sheet 様式１
B1: （様式１） 加算点申告書
F2: 会社名
B3: 大項目 | D3: 中項目 | E3: 小項目 | F3: 加算点 | G3: 評価基準 | I3: 各評価項目の 自己評価 | J3: 自己 加算点
G4: 配点 | H4: 基準
B5: =IF('評価項目(標準)'!B5="","",+'評価項目(標準)'!B5) -> 企 業 の 能 力 等 | C5: =IF(+'評価項目(標準)'!C5="","",+'評価項目(標準)'!C5) -> 地域精通度・貢献度 | D5: =IF(+'評価項目(標準)'!D5="","",+'評価項目(標準)'!D5) -> 地域精通度 | E5: =IF(+'評価項目(標準)'!E5="","",+'評価項目(標準)'!E5) -> 本店等所在地 | F5: =+IF(+'評価項目(標準)'!J5="","",+'評価項目(標準)'!J5) -> 10 | G5: =+IF(+'評価項目(標準)'!I5="","",+'評価項目(標準)'!I5) -> 10 | H5: =+IF(+'評価項目(標準)'!F5="","",+'評価項目(標準)'!F5) -> 松阪建設事務所管内に 本店及び建設業法上の主たる営業所あり | J5: =IF(I5="","",VLOOKUP(I5,'評価項目(標準)'!F5:I7,4,FALSE))
G6: =+IF(+'評価項目(標準)'!I6="","",+'評価項目(標準)'!I6) -> 5 | H6: =+IF(+'評価項目(標準)'!F6="","",+'評価項目(標準)'!F6) -> 県内に 本店及び建設業法上の主たる営業所あり
G7: =+IF(+'評価項目(標準)'!I7="","",+'評価項目(標準)'!I7) -> 0 | H7: =+IF(+'評価項目(標準)'!F7="","",+'評価項目(標準)'!F7) -> 上記以外
E8: =IF(+'評価項目(標準)'!E8="","",+'評価項目(標準)'!E8) -> 施工箇所地域における工事実績 | F8: =+IF(+'評価項目(標準)'!J8="","",+'評価項目(標準)'!J8) -> 5 | G8: =+IF(+'評価項目(標準)'!I8="","",+'評価項目(標準)'!I8) -> 5 | H8: =+IF(+'評価項目(標準)'!F8="","",+'評価項目(標準)'!F8) -> 松阪建設事務所管内における工事実績あり | J8: =IF(I8="","",IF(I8=H8,G8,IF(I8=H9,G9)))
G9: =+IF(+'評価項目(標準)'!I9="","",+'評価項目(標準)'!I9) -> 0 | H9: =+IF(+'評価項目(標準)'!F9="","",+'評価項目(標準)'!F9) -> 工事実績なし
D10: =IF(+'評価項目(標準)'!D10="","",+'評価項目(標準)'!D10) -> 地域貢献度 | E10: =IF(+'評価項目(標準)'!E10="","",+'評価項目(標準)'!E10) -> 公共施設美化活動実績 | F10: =+IF(+'評価項目(標準)'!J10="","",+'評価項目(標準)'!J10) -> 3 | G10: =+IF(+'評価項目(標準)'!I10="","",+'評価項目(標準)'!I10) -> 3 | H10: =+IF(+'評価項目(標準)'!F10="","",+'評価項目(標準)'!F10) -> 有 | J10: =IF(I10="","",IF(I10=H10,G10,IF(I10=H11,G11)))
G11: =+IF(+'評価項目(標準)'!I11="","",+'評価項目(標準)'!I11) -> 0 | H11: =+IF(+'評価項目(標準)'!F11="","",+'評価項目(標準)'!F11) -> 無
E12: =IF(+'評価項目(標準)'!E12="","",+'評価項目(標準)'!E12) -> 災害協定の評価 | F12: =+IF(+'評価項目(標準)'!J12="","",+'評価項目(標準)'!J12) -> 9 | G12: =+IF(+'評価項目(標準)'!I12="","",+'評価項目(標準)'!I12) -> 9 | H12: =+IF(+'評価項目(標準)'!F12="","",+'評価項目(標準)'!F12) -> 災害協定に基づく訓練１への参加実績あり | J12: =IF(I12="","",VLOOKUP(I12,'評価項目(標準)'!F12:I15,4,FALSE))
G13: =+IF(+'評価項目(標準)'!I13="","",+'評価項目(標準)'!I13) -> 7 | H13: =+IF(+'評価項目(標準)'!F13="","",+'評価項目(標準)'!F13) -> 災害協定に基づく訓練２への参加実績あり
G14: =+IF(+'評価項目(標準)'!I14="","",+'評価項目(標準)'!I14) -> 3 | H14: =+IF(+'評価項目(標準)'!F14="","",+'評価項目(標準)'!F14) -> 防災協定の締結実績あり
G15: =+IF(+'評価項目(標準)'!I15="","",+'評価項目(標準)'!I15) -> 0 | H15: =+IF(+'評価項目(標準)'!F15="","",+'評価項目(標準)'!F15) -> 実績なし
C16: =IF(+'評価項目(標準)'!C16="","",+'評価項目(標準)'!C16) -> 社会貢献度 | D16: =IF(+'評価項目(標準)'!D16="","",+'評価項目(標準)'!D16) -> 社会貢献度 | E16: =IF(+'評価項目(標準)'!E16="","",+'評価項目(標準)'!E16) -> ① 男女共同参画活動実績 ② 障がい者雇用実績 ③ 人権に関する取組実績 ④ 「みえる・わかる・つながる！職業ポータルサイト」 Webページへの登録 ⑤ 現場見学会等の開催実績 ⑥ 不当要求防止責任者講習の受講実績 ⑦ 職場環境づくりの実績 | F16: =+IF(+'評価項目(標準)'!J16="","",+'評価項目(標準)'!J16) -> 4 | G16: 左欄の①～⑦のうち、該当する項目により得られる合計点数 | J16: =IF(I16="","",IF(I16=H17,G17,IF(I16=H18,G18,IF(I16=H19,G19,IF(I16=H20,G20,IF(I16=H21,G21))))))
G17: =+IF(+'評価項目(標準)'!I17="","",+'評価項目(標準)'!I17) -> 4 | H17: =+IF(+'評価項目(標準)'!F17="","",+'評価項目(標準)'!F17) -> ４点
G18: =+IF(+'評価項目(標準)'!I18="","",+'評価項目(標準)'!I18) -> 3 | H18: =+IF(+'評価項目(標準)'!F18="","",+'評価項目(標準)'!F18) -> ３点
G19: =+IF(+'評価項目(標準)'!I19="","",+'評価項目(標準)'!I19) -> 2 | H19: =+IF(+'評価項目(標準)'!F19="","",+'評価項目(標準)'!F19) -> ２点
G20: =+IF(+'評価項目(標準)'!I20="","",+'評価項目(標準)'!I20) -> 1 | H20: =+IF(+'評価項目(標準)'!F20="","",+'評価項目(標準)'!F20) -> １点
G21: =+IF(+'評価項目(標準)'!I21="","",+'評価項目(標準)'!I21) -> 0 | H21: =+IF(+'評価項目(標準)'!F21="","",+'評価項目(標準)'!F21) -> 実績（取得点）なし
C22: =IF(+'評価項目(標準)'!C22="","",+'評価項目(標準)'!C22) -> 企業の技術力等 | D22: =IF(+'評価項目(標準)'!D22="","",+'評価項目(標準)'!D22) -> 工事実績 | E22: =IF(+'評価項目(標準)'!E22="","",+'評価項目(標準)'!E22) -> 企業の工事実績 | F22: =+IF(+'評価項目(標準)'!J22="","",+'評価項目(標準)'!J22) -> 20 | G22: =+IF(+'評価項目(標準)'!I22="","",+'評価項目(標準)'!I22) -> 20 | H22: =+IF(+'評価項目(標準)'!F22="","",+'評価項目(標準)'!F22) -> とび・土工・コンクリート工事で 評価対象工事①の実績あり | J22: =IF(I22="","",VLOOKUP(I22,'評価項目(標準)'!F22:I26,4,FALSE))
G23: =+IF(+'評価項目(標準)'!I23="","",+'評価項目(標準)'!I23) -> 15 | H23: =+IF(+'評価項目(標準)'!F23="","",+'評価項目(標準)'!F23) -> 他工種工事で評価対象工事①の実績あり
G24: 10 | H24: =+IF(+'評価項目(標準)'!F24="","",+'評価項目(標準)'!F24) -> とび・土工・コンクリート工事で 評価対象工事②の実績あり
G25: 5 | H25: =+IF(+'評価項目(標準)'!F25="","",+'評価項目(標準)'!F25) -> 他工種工事で評価対象工事②の実績あり
G26: =+IF(+'評価項目(標準)'!I26="","",+'評価項目(標準)'!I26) -> 0 | H26: =+IF(+'評価項目(標準)'!F26="","",+'評価項目(標準)'!F26) -> 評価対象工事の実績なし
D27: =IF(+'評価項目(標準)'!D27="","",+'評価項目(標準)'!D27) -> 品質 マネジメント | E27: =IF(+'評価項目(標準)'!E27="","",+'評価項目(標準)'!E27) -> 品質マネジメントシステムの認証 | F27: =+IF(+'評価項目(標準)'!J27="","",+'評価項目(標準)'!J27) -> 3 | G27: =+IF(+'評価項目(標準)'!I27="","",+'評価項目(標準)'!I27) -> 3 | H27: =+IF(+'評価項目(標準)'!F27="","",+'評価項目(標準)'!F27) -> 有 | J27: =IF(I27="","",IF(I27=H27,G27,IF(I27=H28,G28)))
G28: =+IF(+'評価項目(標準)'!I28="","",+'評価項目(標準)'!I28) -> 0 | H28: =+IF(+'評価項目(標準)'!F28="","",+'評価項目(標準)'!F28) -> 無
D29: =IF(+'評価項目(標準)'!D29="","",+'評価項目(標準)'!D29) -> 労働安全 衛生管理 | E29: =IF(+'評価項目(標準)'!E29="","",+'評価項目(標準)'!E29) -> 労働安全衛生マネジメントシステムの認証 | F29: =+IF(+'評価項目(標準)'!J29="","",+'評価項目(標準)'!J29) -> 5 | G29: 5 | H29: =IF(+'評価項目(標準)'!F29="","",+'評価項目(標準)'!F29) -> 有 | J29: =IF(I29="","",IF(I29=H29,G29,IF(I29=H30,G30)))
G30: 0 | H30: =IF(+'評価項目(標準)'!F30="","",+'評価項目(標準)'!F30) -> 無
B31: =IF('評価項目(標準)'!B31="","",+'評価項目(標準)'!B31) -> 技術者の能力 | C31: =IF(+'評価項目(標準)'!C31="","",+'評価項目(標準)'!C31) -> 技術者の能力 | D31: =IF(+'評価項目(標準)'!D31="","",+'評価項目(標準)'!D31) -> 配置予定 技術者の 工事実績 | E31: =IF(+'評価項目(標準)'!E31="","",+'評価項目(標準)'!E31) -> 主任（監理）技術者又は 現場代理人としての工事実績 | F31: =+IF(+'評価項目(標準)'!J31="","",+'評価項目(標準)'!J31) -> 25 | G31: =+IF(+'評価項目(標準)'!I31="","",+'評価項目(標準)'!I31) -> 25 | H31: =+IF(+'評価項目(標準)'!F31="","",+'評価項目(標準)'!F31) -> とび・土工・コンクリート工事で 評価対象工事①の実績あり | J31: =IF(I31="","",VLOOKUP(I31,'評価項目(標準)'!F31:I35,4,FALSE))
G32: 20 | H32: =+IF(+'評価項目(標準)'!F32="","",+'評価項目(標準)'!F32) -> 他工種工事で評価対象工事①の実績あり
G33: 15 | H33: =+IF(+'評価項目(標準)'!F33="","",+'評価項目(標準)'!F33) -> とび・土工・コンクリート工事で 評価対象工事②の実績あり
G34: =+IF(+'評価項目(標準)'!I34="","",+'評価項目(標準)'!I34) -> 10 | H34: =+IF(+'評価項目(標準)'!F34="","",+'評価項目(標準)'!F34) -> 他工種工事で評価対象工事②の実績あり
G35: =+IF(+'評価項目(標準)'!I35="","",+'評価項目(標準)'!I35) -> 0 | H35: =+IF(+'評価項目(標準)'!F35="","",+'評価項目(標準)'!F35) -> 評価対象工事の実績なし
D36: =IF(+'評価項目(標準)'!D36="","",+'評価項目(標準)'!D36) -> 配置予定 技術者の 資格保有状況 | E36: =IF(+'評価項目(標準)'!E36="","",+'評価項目(標準)'!E36) -> 法面工事に係る資格 | F36: =+IF(+'評価項目(標準)'!J36="","",+'評価項目(標準)'!J36) -> 5 | G36: =+IF(+'評価項目(標準)'!I36="","",+'評価項目(標準)'!I36) -> 5 | H36: =+IF(+'評価項目(標準)'!F36="","",+'評価項目(標準)'!F36) -> 有 | J36: =IF(I36="","",VLOOKUP(I36,'評価項目(標準)'!F36:I37,4,FALSE))
G37: =+IF(+'評価項目(標準)'!I37="","",+'評価項目(標準)'!I37) -> 0 | H37: =+IF(+'評価項目(標準)'!F37="","",+'評価項目(標準)'!F37) -> 無
D38: =IF(+'評価項目(標準)'!D38="","",+'評価項目(標準)'!D38) -> 配置予定技術者 のCPD （継続学習制度） 取組実績 | E38: =IF(+'評価項目(標準)'!E38="","",+'評価項目(標準)'!E38) -> 各団体が発行するCPDの取組実績 | F38: =+IF(+'評価項目(標準)'!J38="","",+'評価項目(標準)'!J38) -> 5 | G38: =+IF(+'評価項目(標準)'!I38="","",+'評価項目(標準)'!I38) -> 5 | H38: =+IF(+'評価項目(標準)'!F38="","",+'評価項目(標準)'!F38) -> 換算後の単位数の合計が推奨単位以上 | J38: =IF(I38="","",IF(I38=H38,G38,IF(I38=H39,G39,IF(I38=H40,G40))))
G39: =+IF(+'評価項目(標準)'!I39="","",+'評価項目(標準)'!I39) -> 3 | H39: =+IF(+'評価項目(標準)'!F39="","",+'評価項目(標準)'!F39) -> 換算後の単位数の合計が推奨単位の1/2以上
G40: =+IF(+'評価項目(標準)'!I40="","",+'評価項目(標準)'!I40) -> 0 | H40: =+IF(+'評価項目(標準)'!F40="","",+'評価項目(標準)'!F40) -> 換算後の単位数の合計が推奨単位の1/2未満
B41: =IF(+'評価項目(標準)'!B47="","",+'評価項目(標準)'!B47) -> 総合評価方式の不履行による加算点の減点 | E41: =IF(+'評価項目(標準)'!E47="","",+'評価項目(標準)'!E47) -> 当該工事の入札公告日が、三重県が総合評価方式で発注した工事で不履行による減点措置が課されている期間内である場合、「技術提案等不履行確定通知書等」に記載した減点を行います。 | H41: =IF('評価項目(標準)'!I47="","",+'評価項目(標準)'!I47) -> △換算前 加算点満点 ×1割 ×件数 | J41: =IF(+I41="","",-(+'評価項目(標準)'!J49*0.1*I41))
B42: =IF(+'評価項目(標準)'!B48="","",+'評価項目(標準)'!B48) -> 指名停止措置による 加算点の減点 | E42: =IF(+'評価項目(標準)'!E48="","",+'評価項目(標準)'!E48) -> 当該工事の入札公告日が、三重県発注工事にかかる贈賄、公契約関係競売等妨害又は談合により役員等又は使用人が逮捕、又は逮捕を経ないで公訴を提起されたことによる指名停止に伴う減点措置期間内である場合、減点を行います。 | H42: =IF('評価項目(標準)'!I48="","",+'評価項目(標準)'!I48) -> △換算前 加算点満点 ×1割 | J42: =IF(+I42="","",-(+'評価項目(標準)'!J49*0.1))
I43: 合計 | J43: =SUM(J5:J42) -> 0
B45: 【記入上の注意】
B46: ・ | D46: 黄色着色のセルは、該当する数値を直接入力してください。加算点は、自動計算により表示されます。
B47: ・ | D47: 橙色着色のセルは、セル中から該当する項目を選択してください。加算点は、選択した内容に応じて自動で表示されます。
B48: ・ | C48: 評価項目及び評価基準の詳細については、「評価項目一覧」及び「技術資料作成上の留意事項」で確認してください。
B49: ・ | C49: このシートは「評価項目一覧」とリンクしています。自己加算点が表示されていない場合は評価しません。

Sheet 様式２
A1: （様式２） 地域精通度・社会貢献度・企業の技術力等に関する技術資料 | AJ1: ※本頁は（様式２）の注意事項となっています。提出の必要はありません。
O2: 会社名
A3: 【地域精通度】 | AJ3: 【地域精通度の注意事項】
A5: 本店等所在地 | E5: 本店所在地 | AJ5: 注1： | AL5: 本店と建設業法上の主たる営業所の所在地が同じ場合は、本店所在地の入力は不要です。
E7: 所在地の変更日 | J7: 年 月 日 | AJ7: 注2： | AL7: 公告の前月から３６か月前までの期間に、本店及び建設業法上の主たる営業所の所在地を変更した場合は、旧所在地と変更日を入力して下さい。
E8: 旧所在地
A10: 施工箇所地域における工事実績 | E10: コリンズ登録番号
E11: 工事名称
G14: 【社会貢献度】 | AJ14: 【社会貢献度の注意事項】
AD15: 評価対象 | AG15: 実績
A16: 社会貢献度 | E16: ① | F16: 男女共同参画活動実績の有無 | AJ16: 注1： | AL16: 評価対象として届け出る項目に「○」をプルダウンで選択してください。（最大４点）
E17: ② | F17: 障がい者雇用実績の有無
E18: ③ | F18: 人権に関する取組実績の有無（人権研修の受講実績又は公正採用選考人権啓発推進員の設置） | AJ18: 注2： | AL18: 各項目で実績の有無をプルダウンで選択してください。
E19: ④ | F19: 「みえる・わかる・つながる！職業ポータルサイト」Webページへの登録
E20: ⑤ | F20: 現場見学会等の開催実績
E21: ⑥ | F21: 不当要求防止責任者講習の受講実績
E22: ⑦ | F22: 「ユースエール認定制度」認定実績
F23: 「みえの働き方改革推進企業登録制度」登録実績
A24: 【企業の技術力等】 | AJ24: 【企業の技術力等の注意事項】
A26: 工事実績 | E26: コリンズ登録番号
E27: 工事名称

Sheet 様式３
A1: （様式３） 技術者の能力に関する技術資料
N2: 会社名
A3: 【技術者の能力】
A5: 配置予定技術者 | C5: 氏名 | W5: 生年月日（西暦） | AB5: 年 月 日
C6: 資格 | F6: のり面施工管理技術者 | M6: □ | N6: グラウンドアンカー施工士 | U6: □ | V6: 地すべり防止工事士 | AC6: □
C7: 工事実績 | F7: コリンズ登録番号
F8: 工事名称
C10: 上記記載工事における 役割・従事期間 | K10: 役 割 | Q10: 監理技術者 | V10: □ | W10: 主任技術者 | AB10: □ | AC10: 現場代理人 | AH10: □
K11: 従事期間
C12: CPD取組実績 | E12: 取得単位認定団体 | N12: （例）○○技士会 | Y12: 推奨単位数 | AG12: 単位／年
N13: 取得単位数 | S13: 換算係数 | U13: 換算後単位数 | Y13: 換算後単位数の合計
E14: R8(2026)年度 | Q14: 単位 | S14: 1 | U14: =IF(N14="","",ROUNDDOWN(N14*S14,3)) | W14: 単位 | Y14: =IF(SUM(U14:V17)=0,"",SUM(U14:V17)) | AD14: 単 位
E15: R7(2025)年度 | Q15: 単位 | S15: 1 | U15: =IF(N15="","",ROUNDDOWN(N15*S15,3)) | W15: 単位
E16: R6(2024)年度 | Q16: 単位 | S16: 0.5 | U16: =IF(N16="","",ROUNDDOWN(N16*(1/2),3)) | W16: 単位
E17: R5(2023)年度 | Q17: 単位 | S17: 0.25 | U17: =IF(N17="","",ROUNDDOWN(N17*(1/4),3)) | W17: 単位
A22: 【技術者の能力の注意事項】
A24: 注1： | C24: 配置予定技術者の氏名は、必ず入力してください。
A26: 注2： | C26: 配置予定技術者に関する項目のうち、チェック欄が設けてあるところは、該当する「□」をプルダウンで「■」に変更してください。
A28: 注3： | C28: CPDの取得単位認定団体で記入できる団体数は、１団体のみとします。 推奨単位数は、上記で記入した団体のR8.4.1時点の推奨単位数を入力してください。

Sheet 様式４（対策なし）
A1: （様式４） 技術提案に関する技術資料
A2: 工事名： | G2: ='評価項目(標準)'!I2 -> 自然災害防止事業（県単）第松-15号工事（東又谷）
A3: 会社名 | AQ3: ※本頁は、提出不要です。
A4: 特記課題 | AQ4: 【特記課題の注意事項】
A5: 項目１ | D5: 留意点① | AP5: 1 2 3 4 5 6 7 8 9 10 11 12 13 14 15 | AR5: ・評価項目一覧に示す３項目について、工事を行ううえでの留意点とその理由をそれぞれ簡潔に記
AP6: 2 | AR6: 載してください。
AP7: 3 | AR7: ・具体的に実施する対策などを記載しても、その部分は評価しません。
AP8: 4 | AR8: ・文字の大きさは、１０ポイントとします。
AP9: 5 | AR9: ・行列の挿入及びセルサイズの変更は、不可とします。
D10: 留意点② | AP10: 1 | AR10: ・各項目の留意点①～③は、それぞれ５行以内で記載するものとします。
AP11: 2 | AR11: ・５行を超えて記載されている留意点は、評価しません。※例１、例２参照
AP12: 3 | AR12: ・ | AS12: 文字ポイントを小さくして、５行以内で記載されている留意点は、評価しません。※例３参照
AP13: 4 | AR13: ・ | AS13: 印刷した様式４で判断しますので、十分確認のうえ提出してください。
AP14: 5 | AS14: ※電子媒体で提出された場合でも、印刷して判断します。
D15: 留意点③ | AP15: 1 | AR15: ・ | AS15: 一括審査対象工事の場合、工事名には入札への参加を希望するすべての工事名を記載してください。
AP16: 2
AP17: 3
AP18: 4
AP19: 5
A20: 項目２ | D20: 留意点① | AP20: 1 2 3 4 5 6 7 8 9 10 11 12 13 14 15
AP21: 2
AP22: 3
AP23: 4
AP24: 5
D25: 留意点② | AP25: 1
AP26: 2
AP27: 3
AP28: 4
AP29: 5
D30: 留意点③ | AP30: 1
AP31: 2
AP32: 3
AP33: 4
AP34: 5
A35: 項目３ | D35: 留意点① | AP35: 1
AP36: 2
AP37: 3
AP38: 4
AP39: 5
D40: 留意点② | AP40: 1
AP41: 2
AP42: 3
AP43: 4
AP44: 5
D45: 留意点③ | AP45: 1
AP46: 2
AP47: 3
AP48: 4
AP49: 5
