Workbook

Sheet 評価項目(標準)
M1: 土木一式工事（特別簡易型） 【令和８年６月版】
B2: 特別簡易型 | D2: 総合評価方式評価項目一覧 【土木一式工事】 除算方式 | G2: 工事名： | I2: 機能強化・老朽化対策事業（交付金）第2号工事（栃川原）
B3: 大項目 | D3: 中項目 | E3: 小項目 | F3: 評価基準 | I3: 加算点 | L3: 様式 | M3: 評価内容等
I4: 配点 | J4: 小項目 配点 | K4: 大項目 配点
B5: 企 業 の 能 力 等 | C5: 地域精通度・貢献度 | D5: 地域精通度 | E5: 施工箇所地域における工事実績 | F5: 尾鷲市内における工事実績あり | I5: 5 | J5: 5 | K5: =SUM(J5:J31) -> 64 | L5: 様式１ 様式２ | M5: 尾鷲市内において、単独又は共同企業体構成員（出資比率20％以上に限る）の元請として受注し、令和５年度以降に完成し、かつ、引渡しが済んでいる契約金額５百万円以上の工事の実績の有無により評価します。 ・評価対象の工事実績は１件とし、コリンズに登録された公共機関等発注の工事に限ります。
F6: 工事実績なし | I6: 0
D7: 地域貢献度 | E7: 森林災害復旧支援等の評価 | F7: 連携協定の締結があり、活動実績もある場合 | I7: 5 | J7: 5 | M7: 下記の実績により評価します。 〔森林災害復旧支援等の連携協定の締結〕 尾鷲市長と森林災害復旧支援等の協定締結をいいます。 ※連携協定については、尾鷲市長との協定書の写しを提出してください。また、団体協定の場合は構成員であることが分かる証明書を添付してください。 〔森林災害復旧支援等の活動実績〕 協定締結を行った尾鷲市において、令和６年度又は令和７年度における活動実績の有無により評価します。 ※活動実績については、尾鷲市に提出した活動報告書の写しを提出してください。なお、活動報告書は、尾鷲市の受理が確認できるものとします。（受理日、受理印があるもの）
F8: 連携協定の締結があり、活動実績がない場合 | I8: 3
F9: 上記以外 | I9: 0
E10: 災害協定の評価 | F10: 災害協定に基づく訓練１への参加実績あり | I10: 9 | J10: 9 | M10: 「災害協定に基づく訓練１への参加実績」又は「災害協定に基づく訓練２への参加実績」又は「防災協定の締結実績」の有無により評価します。 【災害協定に基づく訓練１】 ・「災害協定」とは、尾鷲建設事務所と締結した「地震・津波・風水害等の緊急時における運用協定」をいいます。 ・「災害協定に基づく訓練１の参加実績」は、「災害協定」に基づいた災害対応実動訓練及び情報伝達訓練への令和６年度又は令和７年度の参加実績を指します。 ・「災害対応実動訓練」は、以下の要件をすべて満たす場合に評価します。 ① 団体として５年以上継続した実動訓練実績があること。 ② 評価対象年度の実動訓練において、協定締結団体構成員のうち、尾鷲建設事務所管内の構成員の半数以上が参加していること。 ③ ②で評価する参加企業については、Ａランク企業では代表者と１名以上の技術者、Ｂランク企業等では、１名以上の技術者が参加していること。 ・「情報伝達訓練」は、団体として５年以上の継続した訓練の実績がある場合に評価します。 【災害協定に基づく訓練２】 ・「災害協定」とは、尾鷲建設事務所と締結した「地震・津波・風水害等の緊急時における運用協定」をいいます。 ・「災害協定に基づく訓練２の参加実績」は、「災害協定」に基づいた情報伝達訓練への令和６年度又は令和７年度の参加実績を指します。 ・「情報伝達訓練」は、団体として５年以上の継続した訓練の実績がある場合に評価します。 【防災協定の締結】 ・「防災協定」とは、「尾鷲建設事務所管内の市町との防災協定」又は「三重県との防災協定」をいいます。 ・「尾鷲建設事務所管内の市町との防災協定」については、「建設業のための広場」で公開している最新版の「経営事項審査申請の手引き」に記載された、協定書等に災害時の建設業者の活動義務が規定されている防災協定とします。 ・「三重県との防災協定」については、「技術資料作成上の留意事項」に記載した防災協定とします。 ・「防災協定の締結」は、令和６年度又は令和７年度の防災協定締結を評価の対象とします。対象期間以前の協定締結で、自動継続している協定は含みます。 ・「防災協定の締結」の評価は、尾鷲建設事務所管内に「本店及び建設業法上の主たる営業所」又は「建設業法上の営業所」を有する企業に限ります。 ※「災害協定に基づく訓練１への参加実績」と「災害協定に基づく訓練２への参加実績」と「防災協定の締結実績」は重複して評価しません。
F11: 災害協定に基づく訓練２への参加実績あり | I11: 7
F12: 防災協定の締結実績あり | I12: 3
F13: 実績なし | I13: 0
C14: 社会貢献度 | D14: 社会貢献度 | E14: 県内企業による施工 | F14: 県内企業による施工の割合90％以上 | I14: 5 | J14: 5 | M14: 当該工事のうち、建設業法上の建設工事の県内企業による施工の割合により評価します。 ・県内企業とは、三重県内に「本店及び建設業法上の主たる営業所」を有する企業を指します。 ・元請直営施工、一次下請負及び二次下請負による施工を評価の対象とします。 県内企業による施工の割合 ＝ [ 契約金額(最終) － { 県外一次下請金額(最終) + 県外二次下請金額(最終) } ] ／ 契約金額(最終) ※当該工事を契約後、「建設工事請負契約書の特約事項」に基づき履行を確認します。
F15: 県内企業による施工の割合70％以上 | I15: 3
F16: 上記以外 | I16: 0
C17: 企業の技術力等 | D17: 工事実績 | E17: 企業の工事実績 | F17: 評価対象工事の実績あり | I17: 20 | J17: 20 | M17: 三重県内において、単独又は共同企業体構成員（出資比率20％以上に限る）の元請として受注し、平成２３年度以降に完成し、かつ、引渡しが済んでいる契約金額２千５百万円以上の評価対象工事の実績の有無により評価します。 ・「評価対象工事」とは、「治山事業で発注された谷止工、床固工を含む工事」又は「砂防事業で発注された堰堤工、床固工を含む工事」を指します。 ・評価対象の工事実績は１件とし、コリンズに登録された公共機関等発注の工事に限ります。
F18: 評価対象工事の実績なし | I18: 0
D19: 工事成績 | E19: 申告工事成績点又は総合点 | F19: 申告工事成績点が８５点以上の場合 | I19: 10 | J19: 10 | M19: 【申告工事成績点】 次の①又は②を申告工事成績点とし、評価基準に記載の計算式１により評価します。ただし、申告工事成績点が８５点以上の場合は１０点、７５点未満の場合は５点とします。 ①令和５年４月１日から当該工事の入札公告日までに三重県が通知（工事成績認定書）した土木一式工事の評定点のうち、申告された任意の件数（ｎ件）の合計に７５点を加え、ｎ＋１で割った値とする。ただし、申告できるのは10件までとします。 申告工事成績点 ＝（申告されたｎ件の評定点の合計＋７５）／（ｎ＋１）（小数第２位以下切り捨て） ②国土交通省中部地方整備局又は国土交通省近畿地方整備局が令和７年度に公表した工事成績評定平均点とします。 【総合点】 ①及び②が無い場合は、総合点を評価基準に記載の計算式２（小数第２位以下切り捨て）により評価します。ただし、総合点が９７０点以上の場合は５点、８４０点未満の場合は０点とします。 ・総合点とは入札公告日において最新の三重県建設工事等入札参加資格者名簿に記載された総合点とします。 ・上記全てに該当がない場合の加算点は０点です。
F20: 申告工事成績点が７５点以上８５点未満の場合 計算式１ （申告工事成績点－７５点）×５／１０＋５点
I21: ～
F23: 申告工事成績点が７５点未満の場合 | I23: 5
F24: 総合点が９７０点以上の場合 | I24: 5
F25: 総合点が８４０点以上９７０点未満の場合 計算式２ （総合点－８４０）／（９７０－８４０）×５
I26: ～
F28: 総合点が８４０点未満の場合 | I28: 0
D29: 契約件数 | E29: 土木一式工事の契約件数 | F29: ０件 | I29: 10 | J29: 10 | M29: 入札公告日における公共機関等発注の契約金額２千万円以上の土木一式工事の契約件数により評価します。なお、共同企業体工事については、出資比率にかかわらず契約件数１件としてカウントします。 ・小規模、雪氷、地域維持型維持修繕等の業務委託は、件数に含みません。
F30: １件 | I30: 5
F31: ２件以上 | I31: 0
B32: 技術提案等 | C32: 技術提案 （対策なし型） | D32: 特記課題 | E32: 発注者が指定するテーマ・項目 | F32: １項目あたりの評価基準・加算点 | I32: 36 (最大12点/項目×項目数) | J32: 36 | K32: 36 | L32: 様式４ | M32: 当該工事は谷止工の補修を行う工事です。 「項目１効率的な施工計画」、「項目２工事期間中の安全管理」、「項目３コンクリート構造物の品質管理」の３項目について、それぞれ工事を行ううえで考えられる留意点を３つ以内でその理由を含めて記述してください。 ・これらの提案については、対策を求めていません。そのため履行義務はありません。
F33: 優れている | G33: 12
F34: 概ね優れている | G34: 9
F35: 良好である | G35: 6
F36: 概ね良好である | G36: 3
F37: 上記以外 | G37: 0
B38: 総合評価方式の不履行による 加算点の減点 | E38: 当該工事の入札公告日が、三重県が総合評価方式で発注した工事で不履行による減点措置が課されている期間内である場合、「技術提案等不履行確定通知書等」に記載した減点を行います。 | I38: △換算前 加算点満点 ×1割 ×件数 | L38: 様式１ | M38: 三重県が総合評価方式で発注した工事で、技術資料又は施工体制確認資料に記載された事項に不履行があった場合の減点は、次式により行います。 減点後の貴社の換算前加算点合計＝Ａ－（Ｂ×０．１×Ｃ） Ａ：貴社の換算前加算点合計 Ｂ：当該工事の換算前加算点満点 Ｃ：不履行工事件数 不履行工事件数とは、当該工事の入札公告日が「技術提案等不履行確定通知書」で通知された不履行による減点の対象となる期間内である工事の件数とします。
B39: 指名停止措置による 加算点の減点 | E39: 当該工事の入札公告日が、三重県発注工事にかかる贈賄、公契約関係競売等妨害又は談合により役員等又は使用人が逮捕、又は逮捕を経ないで公訴を提起されたことによる指名停止に伴う減点措置期間内である場合、減点を行います。 | I39: △換算前 加算点満点 ×1割 | L39: 様式１ | M39: 当該工事の入札公告日が、三重県発注工事にかかる贈賄、公契約関係競売等妨害又は談合により役員等又は使用人が逮捕、又は逮捕を経ないで公訴を提起されたことによる指名停止に伴う減点措置期間内である場合の減点は、次式により行います。 減点後の貴社の換算前加算点合計＝Ａ－（Ｂ×０．１） Ａ：貴社の換算前加算点合計 Ｂ：当該工事の換算前加算点満点 ※減点措置期間は指名停止期間の終了日の翌日から１年間とします。 なお、対象となる指名停止措置は、当該工事入札公告日の前年度４月１日から当該工事入札公告日までの期間に指名停止期間が１日でも重複するものとします。
I40: 換算前 加算点 満点 | J40: =SUM(K5:K37) -> 100 | M40: ※技術資料の作成方法及び提出資料は、「技術資料作成上の留意事項」を必ず確認してください。
I41: 加算点 満点 | J41: 10
B43: 当該工事で、技術資料又は施工体制確認資料に記載の内容に不履行があった場合の取り扱い | E43: 当該工事の履行確認を伴う評価項目に不履行があった場合、「技術提案等不履行確定通知書」により不履行項目・不履行による減点の対象となる期間などを通知します。 「技術提案等不履行確定通知書」に記載した期間に三重県が総合評価方式で発注する工事（以下「発注工事」という。）で、「貴社の換算前加算点合計」から「発注工事の換算前加算点満点」の1割を減点します。 貴社が特定建設工事共同企業体又は経常建設共同企業体の構成員である場合も、「発注工事の換算前加算点満点」の１割を減点します。

Sheet 届出書
AA3: 令和 年 月 日
A5: 技 術 資 料 届 出 書
B9: 三重県知事 | H9: あて
O11: 住 所
O13: 会社名
O15: 代表者氏名
E18: 工 事 名 | F18: ： | G18: 令和8年度 機能強化 第6440-分0002号
G19: 機能強化・老朽化対策事業（交付金）
G20: 第２号工事（栃川原）
B25: 上記工事の技術資料を提出します。なお、地方自治法施行令（昭和22年政令第16号）
B26: 第167条の4の規定に該当する者でないこと並びに確認資料の内容は、事実と相違ない
B27: ことを誓約します。問い合わせ先は次のとおりです。
C30: 【問い合わせ先】
D31: 担当者 | G31: ： | H31: ○○ ○○
D32: 部 署 | G32: ： | H32: ○○本店 ○○部 ○○課
D33: 住 所 | G33: ： | H33: ○○県○○市○○
D34: 電話番号 | G34: ： | H34: ＊＊＊－＊＊＊＊－＊＊＊＊
D35: ＦＡＸ | G35: ： | H35: ＊＊＊－＊＊＊＊－＊＊＊＊
D36: Ｅ-mail | G36: ：

Sheet 様式１
B1: （様式１） 加算点申告書
F2: 会社名
B3: 大項目 | D3: 中項目 | E3: 小項目 | F3: 加算点 | G3: 評価基準 | I3: 各評価項目の 自己評価 | J3: 自己 加算点
G4: 配点 | H4: 基準
B5: =IF('評価項目(標準)'!B5="","",'評価項目(標準)'!B5) -> 企 業 の 能 力 等 | C5: =IF(+'評価項目(標準)'!C5="","",'評価項目(標準)'!C5) -> 地域精通度・貢献度 | D5: =IF(+'評価項目(標準)'!D5="","",'評価項目(標準)'!D5) -> 地域精通度 | E5: =IF(+'評価項目(標準)'!E5="","",+'評価項目(標準)'!E5) -> 施工箇所地域における工事実績 | F5: =+IF(+'評価項目(標準)'!J5="","",+'評価項目(標準)'!J5) -> 5 | G5: =+IF(+'評価項目(標準)'!I5="","",+'評価項目(標準)'!I5) -> 5 | H5: =+IF(+'評価項目(標準)'!F5="","",+'評価項目(標準)'!F5) -> 尾鷲市内における工事実績あり | J5: =IF(I5="","",IF(I5=H5,G5,IF(I5=H6,G6)))
G6: =+IF(+'評価項目(標準)'!I6="","",+'評価項目(標準)'!I6) -> 0 | H6: =+IF(+'評価項目(標準)'!F6="","",+'評価項目(標準)'!F6) -> 工事実績なし
D7: =IF(+'評価項目(標準)'!D7="","",+'評価項目(標準)'!D7) -> 地域貢献度 | E7: =IF(+'評価項目(標準)'!E7="","",+'評価項目(標準)'!E7) -> 森林災害復旧支援等の評価 | F7: =+IF(+'評価項目(標準)'!J7="","",+'評価項目(標準)'!J7) -> 5 | G7: =+IF(+'評価項目(標準)'!I7="","",+'評価項目(標準)'!I7) -> 5 | H7: =+IF(+'評価項目(標準)'!F7="","",+'評価項目(標準)'!F7) -> 連携協定の締結があり、活動実績もある場合 | J7: =IF(I7="","",IF(I7=H7,G7,IF(I7=H8,G8)))
G8: =+IF(+'評価項目(標準)'!I8="","",+'評価項目(標準)'!I8) -> 3 | H8: =+IF(+'評価項目(標準)'!F8="","",+'評価項目(標準)'!F8) -> 連携協定の締結があり、活動実績がない場合
G9: =+IF(+'評価項目(標準)'!I9="","",+'評価項目(標準)'!I9) -> 0 | H9: =+IF(+'評価項目(標準)'!F9="","",+'評価項目(標準)'!F9) -> 上記以外
E10: =IF(+'評価項目(標準)'!E10="","",+'評価項目(標準)'!E10) -> 災害協定の評価 | F10: =+IF(+'評価項目(標準)'!J10="","",+'評価項目(標準)'!J10) -> 9 | G10: =+IF(+'評価項目(標準)'!I10="","",+'評価項目(標準)'!I10) -> 9 | H10: =+IF(+'評価項目(標準)'!F10="","",+'評価項目(標準)'!F10) -> 災害協定に基づく訓練１への参加実績あり | J10: =IF(I10="","",VLOOKUP(I10,'評価項目(標準)'!F10:I13,4,FALSE))
G11: =+IF(+'評価項目(標準)'!I11="","",+'評価項目(標準)'!I11) -> 7 | H11: =+IF(+'評価項目(標準)'!F11="","",+'評価項目(標準)'!F11) -> 災害協定に基づく訓練２への参加実績あり
G12: =+IF(+'評価項目(標準)'!I12="","",+'評価項目(標準)'!I12) -> 3 | H12: =+IF(+'評価項目(標準)'!F12="","",+'評価項目(標準)'!F12) -> 防災協定の締結実績あり
G13: =+IF(+'評価項目(標準)'!I13="","",+'評価項目(標準)'!I13) -> 0 | H13: =+IF(+'評価項目(標準)'!F13="","",+'評価項目(標準)'!F13) -> 実績なし
C14: =IF(+'評価項目(標準)'!C14="","",'評価項目(標準)'!C14) -> 社会貢献度 | D14: =IF(+'評価項目(標準)'!D14="","",+'評価項目(標準)'!D14) -> 社会貢献度 | E14: =IF(+'評価項目(標準)'!E14="","",+'評価項目(標準)'!E14) -> 県内企業による施工 | F14: =+IF(+'評価項目(標準)'!J14="","",+'評価項目(標準)'!J14) -> 5 | G14: =+IF(+'評価項目(標準)'!I14="","",+'評価項目(標準)'!I14) -> 5 | H14: =+IF(+'評価項目(標準)'!F14="","",+'評価項目(標準)'!F14) -> 県内企業による施工の割合90％以上 | J14: =IF(I14="","",VLOOKUP(I14,'評価項目(標準)'!F14:I16,4,FALSE))
G15: =+IF(+'評価項目(標準)'!I15="","",+'評価項目(標準)'!I15) -> 3 | H15: =+IF(+'評価項目(標準)'!F15="","",+'評価項目(標準)'!F15) -> 県内企業による施工の割合70％以上
G16: =+IF(+'評価項目(標準)'!I16="","",+'評価項目(標準)'!I16) -> 0 | H16: =+IF(+'評価項目(標準)'!F16="","",+'評価項目(標準)'!F16) -> 上記以外
C17: =IF(+'評価項目(標準)'!C17="","",+'評価項目(標準)'!C17) -> 企業の技術力等 | D17: =IF(+'評価項目(標準)'!D17="","",+'評価項目(標準)'!D17) -> 工事実績 | E17: =IF(+'評価項目(標準)'!E17="","",+'評価項目(標準)'!E17) -> 企業の工事実績 | F17: =+IF(+'評価項目(標準)'!J17="","",+'評価項目(標準)'!J17) -> 20 | G17: =+IF(+'評価項目(標準)'!I17="","",+'評価項目(標準)'!I17) -> 20 | H17: =+IF(+'評価項目(標準)'!F17="","",+'評価項目(標準)'!F17) -> 評価対象工事の実績あり | J17: =IF(I17="","",VLOOKUP(I17,'評価項目(標準)'!F17:I18,4,FALSE))
G18: =+IF(+'評価項目(標準)'!I18="","",+'評価項目(標準)'!I18) -> 0 | H18: =+IF(+'評価項目(標準)'!F18="","",+'評価項目(標準)'!F18) -> 評価対象工事の実績なし
D19: =IF(+'評価項目(標準)'!D19="","",+'評価項目(標準)'!D19) -> 工事成績 | E19: =IF(+'評価項目(標準)'!E19="","",+'評価項目(標準)'!E19) -> 申告工事成績点又は総合点 | F19: =+IF(+'評価項目(標準)'!J19="","",+'評価項目(標準)'!J19) -> 10 | G19: =IF(+'評価項目(標準)'!I19="","",+'評価項目(標準)'!I19) -> 10 | H19: =IF(+'評価項目(標準)'!F19="","",+'評価項目(標準)'!F19) -> 申告工事成績点が８５点以上の場合 | I19: 【申告工事成績点】 | J19: =IF(COUNTA(I21,I25)=0,"",IF(COUNTA(I21,I25)=2,"入力は【申告工事成績点】、【総合点】のいずれかにして下さい",IF(AND(COUNTA(I21)=1,I20=""),"いずれの【申告工事成績点】なのか、「三重県、中部地整、近畿地整」より選択してください",IF(I25>=970,5,IF(AND(I25<970,I25>=840),ROUNDDOWN((I25-840)/(970-840)*5,1),IF(I25<840,0,)))+IF(I21>=85,F19,IF(AND(I21<75,I21>=1),5,IF(AND(I21<85,I21>=75),ROUNDDOWN((I21-75)*5/10+5,1)))))))
G20: =IF(+'評価項目(標準)'!I20="","",+'評価項目(標準)'!I20) | H20: =IF(+'評価項目(標準)'!F20="","",+'評価項目(標準)'!F20) -> 申告工事成績点が７５点以上８５点未満の場合 計算式１ （申告工事成績点－７５点）×５／１０＋５点
G21: =IF(+'評価項目(標準)'!I21="","",+'評価項目(標準)'!I21) -> ～
G22: =IF(+'評価項目(標準)'!I22="","",+'評価項目(標準)'!I22)
G23: =IF(+'評価項目(標準)'!I23="","",+'評価項目(標準)'!I23) -> 5 | H23: =IF(+'評価項目(標準)'!F23="","",+'評価項目(標準)'!F23) -> 申告工事成績点が７５点未満の場合
D24: =IF(+'評価項目(標準)'!#REF!="","",+'評価項目(標準)'!#REF!) -> #REF! | E24: =IF(+'評価項目(標準)'!#REF!="","",+'評価項目(標準)'!#REF!) -> #REF! | G24: =IF(+'評価項目(標準)'!I24="","",+'評価項目(標準)'!I24) -> 5 | H24: =IF(+'評価項目(標準)'!F24="","",+'評価項目(標準)'!F24) -> 総合点が９７０点以上の場合 | I24: 【総合点】
G25: =IF(+'評価項目(標準)'!I25="","",+'評価項目(標準)'!I25) | H25: =IF(+'評価項目(標準)'!F25="","",+'評価項目(標準)'!F25) -> 総合点が８４０点以上９７０点未満の場合 計算式２ （総合点－８４０）／（９７０－８４０）×５
G26: =IF(+'評価項目(標準)'!I26="","",+'評価項目(標準)'!I26) -> ～
G27: =IF(+'評価項目(標準)'!I27="","",+'評価項目(標準)'!I27)
G28: =IF(+'評価項目(標準)'!I28="","",+'評価項目(標準)'!I28) -> 0 | H28: =IF(+'評価項目(標準)'!F28="","",+'評価項目(標準)'!F28) -> 総合点が８４０点未満の場合
D29: =IF(+'評価項目(標準)'!D29="","",+'評価項目(標準)'!D29) -> 契約件数 | E29: =IF(+'評価項目(標準)'!E29="","",+'評価項目(標準)'!E29) -> 土木一式工事の契約件数 | F29: =+IF(+'評価項目(標準)'!J29="","",+'評価項目(標準)'!J29) -> 10 | G29: =IF(+'評価項目(標準)'!I29="","",+'評価項目(標準)'!I29) -> 10 | H29: =IF(+'評価項目(標準)'!F29="","",+'評価項目(標準)'!F29) -> ０件 | J29: =IF(I29="","",VLOOKUP(I29,'評価項目(標準)'!F29:I31,4,FALSE))
G30: =IF(+'評価項目(標準)'!I30="","",+'評価項目(標準)'!I30) -> 5 | H30: =IF(+'評価項目(標準)'!F30="","",+'評価項目(標準)'!F30) -> １件
G31: =IF(+'評価項目(標準)'!I31="","",+'評価項目(標準)'!I31) -> 0 | H31: =IF(+'評価項目(標準)'!F31="","",+'評価項目(標準)'!F31) -> ２件以上
B32: =IF(+'評価項目(標準)'!B38="","",+'評価項目(標準)'!B38) -> 総合評価方式の不履行による 加算点の減点 | E32: =IF(+'評価項目(標準)'!E38="","",+'評価項目(標準)'!E38) -> 当該工事の入札公告日が、三重県が総合評価方式で発注した工事で不履行による減点措置が課されている期間内である場合、「技術提案等不履行確定通知書等」に記載した減点を行います。 | H32: =IF('評価項目(標準)'!I38="","",+'評価項目(標準)'!I38) -> △換算前 加算点満点 ×1割 ×件数 | J32: =IF(+I32="","",-(+'評価項目(標準)'!J40*0.1*I32))
B33: =IF(+'評価項目(標準)'!B39="","",+'評価項目(標準)'!B39) -> 指名停止措置による 加算点の減点 | E33: =IF(+'評価項目(標準)'!E39="","",+'評価項目(標準)'!E39) -> 当該工事の入札公告日が、三重県発注工事にかかる贈賄、公契約関係競売等妨害又は談合により役員等又は使用人が逮捕、又は逮捕を経ないで公訴を提起されたことによる指名停止に伴う減点措置期間内である場合、減点を行います。 | H33: =IF('評価項目(標準)'!I39="","",+'評価項目(標準)'!I39) -> △換算前 加算点満点 ×1割 | J33: =IF(+I33="","",-(+'評価項目(標準)'!J40*0.1))
I34: 合計 | J34: =SUM(J5:J33) -> 0
B36: 【記入上の注意】
B37: ・ | D37: 黄色着色のセルは、該当する数値を直接入力してください。加算点は、自動計算により表示されます。
B38: ・ | D38: 橙色着色のセルは、セル中から該当する項目を選択してください。加算点は、選択した内容に応じて自動で表示されます。
B39: ・ | C39: 評価項目及び評価基準の詳細については、「評価項目一覧」及び「技術資料作成上の留意事項」で確認してください。
B40: ・ | C40: このシートは「評価項目一覧」とリンクしています。自己加算点が表示されていない場合は評価しません。

Sheet 様式１【経常ＪＶ用】
B2: （様式１） 加算点申告書
F3: 会社名
B4: 大項目 | D4: 中項目 | E4: 小項目 | F4: 加算点 | G4: 評価基準 | I4: 構成員Ａの評価 | K4: 構成員Ｂの評価 | M4: 経常ＪＶの評価
G5: 配点 | H5: 基準 | I5: 各評価項目の 自己評価 | J5: 自己 加算点 | K5: 各評価項目の 自己評価 | L5: 自己 加算点
B6: =IF('評価項目(標準)'!B5="","",+'評価項目(標準)'!B5) -> 企 業 の 能 力 等 | C6: =IF(+'評価項目(標準)'!B5="","",+'評価項目(標準)'!B5) -> 企 業 の 能 力 等 | D6: =IF(+'評価項目(標準)'!D5="","",+'評価項目(標準)'!D5) -> 地域精通度 | E6: =IF(+'評価項目(標準)'!E5="","",+'評価項目(標準)'!E5) -> 施工箇所地域における工事実績 | F6: =+IF(+'評価項目(標準)'!J5="","",+'評価項目(標準)'!J5) -> 5 | G6: =+IF(+'評価項目(標準)'!I5="","",+'評価項目(標準)'!I5) -> 5 | H6: =+IF(+'評価項目(標準)'!F5="","",+'評価項目(標準)'!F5) -> 尾鷲市内における工事実績あり | J6: =IF(I6="","",IF(I6=H6,G6,IF(I6=H7,G7))) | L6: =IF(K6="","",IF(K6=H6,G6,IF(K6=H7,G7))) | M6: =IF(J6="","",IF(L6="","",ROUNDUP(AVERAGE(J6,L6),1)))
G7: =+IF(+'評価項目(標準)'!I6="","",+'評価項目(標準)'!I6) -> 0 | H7: =+IF(+'評価項目(標準)'!F6="","",+'評価項目(標準)'!F6) -> 工事実績なし
D8: =IF(+'評価項目(標準)'!D7="","",+'評価項目(標準)'!D7) -> 地域貢献度 | E8: =IF(+'評価項目(標準)'!E7="","",+'評価項目(標準)'!E7) -> 森林災害復旧支援等の評価 | F8: =+IF(+'評価項目(標準)'!J7="","",+'評価項目(標準)'!J7) -> 5 | G8: =+IF(+'評価項目(標準)'!I7="","",+'評価項目(標準)'!I7) -> 5 | H8: =+IF(+'評価項目(標準)'!F7="","",+'評価項目(標準)'!F7) -> 連携協定の締結があり、活動実績もある場合 | J8: =IF(I8="","",IF(I8=H8,G8,IF(I8=H9,G9))) | L8: =IF(K8="","",IF(K8=H8,G8,IF(K8=H9,G9))) | M8: =IF(J8="","",IF(L8="","",ROUNDUP(AVERAGE(J8,L8),1)))
G9: =+IF(+'評価項目(標準)'!I8="","",+'評価項目(標準)'!I8) -> 3 | H9: =+IF(+'評価項目(標準)'!F8="","",+'評価項目(標準)'!F8) -> 連携協定の締結があり、活動実績がない場合
G10: =+IF(+'評価項目(標準)'!I9="","",+'評価項目(標準)'!I9) -> 0 | H10: =+IF(+'評価項目(標準)'!F9="","",+'評価項目(標準)'!F9) -> 上記以外 | L10: =IF(K10="","",IF(K10=H10,G10,IF(K10=#REF!,#REF!))) | M10: =IF(J10="","",IF(L10="","",ROUNDUP(AVERAGE(J10,L10),1)))
E11: =IF(+'評価項目(標準)'!E10="","",+'評価項目(標準)'!E10) -> 災害協定の評価 | F11: =+IF(+'評価項目(標準)'!J10="","",+'評価項目(標準)'!J10) -> 9 | G11: =+IF(+'評価項目(標準)'!I10="","",+'評価項目(標準)'!I10) -> 9 | H11: =+IF(+'評価項目(標準)'!F10="","",+'評価項目(標準)'!F10) -> 災害協定に基づく訓練１への参加実績あり | J11: =IF(I11="","",VLOOKUP(I11,'評価項目(標準)'!F10:I13,4,FALSE)) | L11: =IF(K11="","",VLOOKUP(K11,'評価項目(標準)'!F10:I13,4,FALSE)) | M11: =IF(J11="","",IF(L11="","",ROUNDUP(AVERAGE(J11,L11),1)))
G12: =+IF(+'評価項目(標準)'!I11="","",+'評価項目(標準)'!I11) -> 7 | H12: =+IF(+'評価項目(標準)'!F11="","",+'評価項目(標準)'!F11) -> 災害協定に基づく訓練２への参加実績あり
G13: =+IF(+'評価項目(標準)'!I12="","",+'評価項目(標準)'!I12) -> 3 | H13: =+IF(+'評価項目(標準)'!F12="","",+'評価項目(標準)'!F12) -> 防災協定の締結実績あり
G14: =+IF(+'評価項目(標準)'!I13="","",+'評価項目(標準)'!I13) -> 0 | H14: =+IF(+'評価項目(標準)'!F13="","",+'評価項目(標準)'!F13) -> 実績なし
C15: =IF(+'評価項目(標準)'!C14="","",+'評価項目(標準)'!C14) -> 社会貢献度 | D15: =IF(+'評価項目(標準)'!D14="","",+'評価項目(標準)'!D14) -> 社会貢献度 | E15: =IF(+'評価項目(標準)'!E14="","",+'評価項目(標準)'!E14) -> 県内企業による施工 | F15: =+IF(+'評価項目(標準)'!J14="","",+'評価項目(標準)'!J14) -> 5 | G15: =+IF(+'評価項目(標準)'!I14="","",+'評価項目(標準)'!I14) -> 5 | H15: =+IF(+'評価項目(標準)'!F14="","",+'評価項目(標準)'!F14) -> 県内企業による施工の割合90％以上 | J15: =IF(I15="","",VLOOKUP(I15,'評価項目(標準)'!F14:I16,4,FALSE)) | K15: ― | L15: ― | M15: =J15
G16: =+IF(+'評価項目(標準)'!I15="","",+'評価項目(標準)'!I15) -> 3 | H16: =+IF(+'評価項目(標準)'!F15="","",+'評価項目(標準)'!F15) -> 県内企業による施工の割合70％以上
G17: =+IF(+'評価項目(標準)'!I16="","",+'評価項目(標準)'!I16) -> 0 | H17: =+IF(+'評価項目(標準)'!F16="","",+'評価項目(標準)'!F16) -> 上記以外
C18: =IF(+'評価項目(標準)'!C17="","",+'評価項目(標準)'!C17) -> 企業の技術力等 | D18: =IF(+'評価項目(標準)'!D17="","",+'評価項目(標準)'!D17) -> 工事実績 | E18: =IF(+'評価項目(標準)'!E17="","",+'評価項目(標準)'!E17) -> 企業の工事実績 | F18: =+IF(+'評価項目(標準)'!J17="","",+'評価項目(標準)'!J17) -> 20 | G18: =+IF(+'評価項目(標準)'!I17="","",+'評価項目(標準)'!I17) -> 20 | H18: =+IF(+'評価項目(標準)'!F17="","",+'評価項目(標準)'!F17) -> 評価対象工事の実績あり | J18: =IF(I18="","",VLOOKUP(I18,'評価項目(標準)'!F17:I18,4,FALSE)) | L18: =IF(K18="","",VLOOKUP(K18,'評価項目(標準)'!F17:I18,4,FALSE)) | M18: =IF(J18="","",IF(L18="","",ROUNDUP(AVERAGE(J18,L18),1)))
G19: =+IF(+'評価項目(標準)'!I18="","",+'評価項目(標準)'!I18) -> 0 | H19: =+IF(+'評価項目(標準)'!F18="","",+'評価項目(標準)'!F18) -> 評価対象工事の実績なし
D20: =IF(+'評価項目(標準)'!D19="","",+'評価項目(標準)'!D19) -> 工事成績 | E20: =IF(+'評価項目(標準)'!E19="","",+'評価項目(標準)'!E19) -> 申告工事成績点又は総合点 | F20: =+IF(+'評価項目(標準)'!J19="","",+'評価項目(標準)'!J19) -> 10 | G20: =IF(+'評価項目(標準)'!I19="","",+'評価項目(標準)'!I19) -> 10 | H20: =IF(+'評価項目(標準)'!F19="","",+'評価項目(標準)'!F19) -> 申告工事成績点が８５点以上の場合 | I20: 【申告工事成績点】 | J20: =IF(COUNTA(I22,I26)=0,"",IF(COUNTA(I22,I26)=2,"入力は【申告工事成績点】、【総合点】のいずれかにして下さい",IF(AND(COUNTA(I22)=1,I21=""),"いずれの【申告工事成績点】なのか、「三重県、中部地整、近畿地整」より選択してください",IF(I26>=970,5,IF(AND(I26<970,I26>=840),ROUNDDOWN((I26-840)/(970-840)*5,1),IF(I26<840,0,)))+IF(I22>=85,F20,IF(AND(I22<75,I22>=1),5,IF(AND(I22<85,I22>=75),ROUNDDOWN((I22-75)*5/10+5,1))))))) | K20: 【申告工事成績点】 | L20: =IF(COUNTA(K22,K26)=0,"",IF(COUNTA(K22,K26)=2,"入力は【申告工事成績点】、【総合点】のいずれかにして下さい",IF(AND(COUNTA(K22)=1,K21=""),"いずれの【申告工事成績点】なのか、「三重県、中部地整、近畿地整」より選択してください",IF(K26>=970,5,IF(AND(K26<970,K26>=840),ROUNDDOWN((K26-840)/(970-840)*5,1),IF(K26<840,0,)))+IF(K22>=85,F20,IF(AND(K22<75,K22>=1),5,IF(AND(K22<85,K22>=75),ROUNDDOWN((K22-75)*5/10+5,1))))))) | M20: =IF(J20="","",IF(L20="","",ROUNDUP(AVERAGE(J20,L20),1)))
G21: =IF(+'評価項目(標準)'!I20="","",+'評価項目(標準)'!I20) | H21: =IF(+'評価項目(標準)'!F20="","",+'評価項目(標準)'!F20) -> 申告工事成績点が７５点以上８５点未満の場合 計算式１ （申告工事成績点－７５点）×５／１０＋５点
G22: =IF(+'評価項目(標準)'!I21="","",+'評価項目(標準)'!I21) -> ～ | M22: =J22 -> 0
G23: =IF(+'評価項目(標準)'!I22="","",+'評価項目(標準)'!I22)
G24: =IF(+'評価項目(標準)'!I23="","",+'評価項目(標準)'!I23) -> 5 | H24: =IF(+'評価項目(標準)'!F23="","",+'評価項目(標準)'!F23) -> 申告工事成績点が７５点未満の場合 | M24: =J24 -> 0
D25: =IF(+'評価項目(標準)'!#REF!="","",+'評価項目(標準)'!#REF!) -> #REF! | E25: =IF(+'評価項目(標準)'!#REF!="","",+'評価項目(標準)'!#REF!) -> #REF! | G25: =IF(+'評価項目(標準)'!I24="","",+'評価項目(標準)'!I24) -> 5 | H25: =IF(+'評価項目(標準)'!F24="","",+'評価項目(標準)'!F24) -> 総合点が９７０点以上の場合 | I25: 【総合点】 | K25: 【総合点】
G26: =IF(+'評価項目(標準)'!I25="","",+'評価項目(標準)'!I25) | H26: =IF(+'評価項目(標準)'!F25="","",+'評価項目(標準)'!F25) -> 総合点が８４０点以上９７０点未満の場合 計算式２ （総合点－８４０）／（９７０－８４０）×５ | M26: =J26 -> 0
G27: =IF(+'評価項目(標準)'!I26="","",+'評価項目(標準)'!I26) -> ～
G28: =IF(+'評価項目(標準)'!I27="","",+'評価項目(標準)'!I27) | M28: =J28 -> 0
G29: =IF(+'評価項目(標準)'!I28="","",+'評価項目(標準)'!I28) -> 0 | H29: =IF(+'評価項目(標準)'!F28="","",+'評価項目(標準)'!F28) -> 総合点が８４０点未満の場合
D30: =IF(+'評価項目(標準)'!D29="","",+'評価項目(標準)'!D29) -> 契約件数 | E30: =IF(+'評価項目(標準)'!E29="","",+'評価項目(標準)'!E29) -> 土木一式工事の契約件数 | F30: =+IF(+'評価項目(標準)'!J29="","",+'評価項目(標準)'!J29) -> 10 | G30: =IF(+'評価項目(標準)'!I29="","",+'評価項目(標準)'!I29) -> 10 | H30: =IF(+'評価項目(標準)'!F29="","",+'評価項目(標準)'!F29) -> ０件 | J30: =IF(I30="","",VLOOKUP(I30,'評価項目(標準)'!F29:I31,4,FALSE)) | L30: =IF(K30="","",VLOOKUP(K30,'評価項目(標準)'!F29:I31,4,FALSE)) | M30: =IF(J30="","",IF(L30="","",ROUNDUP(AVERAGE(J30,L30),1)))
G31: =IF(+'評価項目(標準)'!I30="","",+'評価項目(標準)'!I30) -> 5 | H31: =IF(+'評価項目(標準)'!F30="","",+'評価項目(標準)'!F30) -> １件
G32: =IF(+'評価項目(標準)'!I31="","",+'評価項目(標準)'!I31) -> 0 | H32: =IF(+'評価項目(標準)'!F31="","",+'評価項目(標準)'!F31) -> ２件以上
B33: =IF(+'評価項目(標準)'!B38="","",+'評価項目(標準)'!B38) -> 総合評価方式の不履行による 加算点の減点 | E33: =IF(+'評価項目(標準)'!E38="","",+'評価項目(標準)'!E38) -> 当該工事の入札公告日が、三重県が総合評価方式で発注した工事で不履行による減点措置が課されている期間内である場合、「技術提案等不履行確定通知書等」に記載した減点を行います。 | H33: =IF('評価項目(標準)'!I38="","",+'評価項目(標準)'!I38) -> △換算前 加算点満点 ×1割 ×件数 | J33: =IF(+I33="",0,-(+'評価項目(標準)'!J40*0.1*I33)) -> 0 | L33: =IF(+K33="",0,-(+'評価項目(標準)'!J40*0.1*K33)) -> 0 | M33: =IF(J33+L33=0,"",J33+L33)
B34: =IF(+'評価項目(標準)'!B39="","",+'評価項目(標準)'!B39) -> 指名停止措置による 加算点の減点 | E34: =IF(+'評価項目(標準)'!E39="","",+'評価項目(標準)'!E39) -> 当該工事の入札公告日が、三重県発注工事にかかる贈賄、公契約関係競売等妨害又は談合により役員等又は使用人が逮捕、又は逮捕を経ないで公訴を提起されたことによる指名停止に伴う減点措置期間内である場合、減点を行います。 | H34: =IF('評価項目(標準)'!I39="","",+'評価項目(標準)'!I39) -> △換算前 加算点満点 ×1割 | M34: =+IF(I34+K34>0,-('評価項目(標準)'!J40*0.1),"")
L35: 合計 | M35: =ROUNDDOWN(SUM(M6:M34),0) -> 0
B37: 【記入上の注意】
B38: ・ | D38: 黄色着色のセルは、該当する数値を直接入力してください。加算点は、自動計算により表示されます。
B39: ・ | D39: 橙色着色のセルは、セル中から該当する項目を選択してください。加算点は、選択した内容に応じて自動で表示されます。
B40: ・ | C40: 評価項目及び評価基準の詳細については、「評価項目一覧」及び「技術資料作成上の留意事項」で確認してください。
B41: ・ | C41: このシートは「評価項目一覧」とリンクしています。自己加算点が表示されていない場合は評価しません。

Sheet 様式２
A1: （様式２） 地域精通度・企業の技術力等に関する技術資料
O2: 会社名
A3: 【地域精通度】
A5: 施工箇所地域 における 工事実績 | E5: コリンズ登録番号
E6: 工事名称
A9: 【企業の技術力等】
A11: 工事実績 | E11: コリンズ登録番号
E12: 工事名称
A15: 工事成績 | E15: 三重県の 工事評定点 | H15: 令和５年４月１日以降に完成検査を行った工事の評定点 | AD15: 申告工事成績点
AD16: =IF(COUNTA(T15:AC16)=0,"",ROUNDDOWN(((SUM(T15:AC16)+75))/(COUNTA(T15:AC16)+1),1)) | AI16: 点
A17: 契約件数 | E17: （令和 8年 9月 11日 時点）
E18: 1 | G18: コリンズ登録番号
G19: 工事名称
E22: 2 | G22: コリンズ登録番号
G23: 工事名称
A28: 【地域精通度の注意事項】
A30: 注1： | C30: 本店と建設業法上の主たる営業所の所在地が同じ場合は、本店所在地の入力は不要です。
A32: 注2： | C32: 本店及び建設業法上の主たる営業所の所在地を変更していない場合は、旧所在地と変更日の入力は不要です。
A35: 【企業の技術力等の注意事項】
A37: 【工事成績】
A38: 注1： | C38: 令和５年４月１日から当該工事の入札公告日までに三重県が通知（工事成績認定書）した土木一式工事の評定点を、任意の件数だけ入力してください。 １０件まで申告できます。
D41: 記載例
A50: 【契約件数】
A51: 注2： | C51: 入札公告日における、公共機関等発注の契約金額２千万円以上の土木一式工事の契約件数が３件以上ある場合は、２件まで記載して下さい。

Sheet 様式４（対策なし）
A1: （様式４） 技術提案に関する技術資料
A2: 工事名： | G2: 機能強化・老朽化対策事業（交付金）第２号工事（栃川原）
A3: 会社名 | AQ3: ※本頁は、提出不要です。
A4: 特記課題 | AQ4: 【特記課題の注意事項】
A5: 項目１ | D5: 留意点① | AP5: 1 2 3 4 5 6 7 8 9 10 11 12 13 14 15 | AR5: ・ | AS5: 評価項目一覧に示す３項目について、工事を行ううえでの留意点とその理由をそれぞれ簡潔に
AP6: 2 | AS6: 記載してください。
AP7: 3 | AR7: ・ | AS7: 具体的に実施する対策などを記載しても、その部分は評価しません。
AP8: 4 | AR8: ・ | AS8: 文字の大きさは、１０ポイントとします。
AP9: 5 | AR9: ・ | AS9: 行列の挿入及びセルサイズの変更は、不可とします。
D10: 留意点② | AP10: 1 | AR10: ・ | AS10: 各項目の留意点①～③は、それぞれ５行以内で記載するものとします。
AP11: 2 | AR11: ・ | AS11: ５行を超えて記載されている留意点は、評価しません。※例１、例２参照
AP12: 3 | AR12: ・ | AS12: 文字ポイントを小さくして、５行以内で記載されている留意点は、評価しません。※例３参照
AP13: 4 | AR13: ・ | AS13: 印刷した様式４で判断しますので、十分確認のうえ提出してください。
AP14: 5 | AS14: ※電子媒体で提出された場合でも、印刷して判断します。
D15: 留意点③ | AP15: 1 | AR15: ・ | AS15: 一括審査対象工事の場合、工事名には入札への参加を希望するすべての工事名を記載してください。
AP16: 2
AP17: 3
AP18: 4
AP19: 5
A20: 項目２ | D20: 留意点① | AP20: 1 2 3 4 5 6 7 8 9 10 11 12 13 14 15
AP21: 2
AP22: 3
AP23: 4
AP24: 5
D25: 留意点② | AP25: 1
AP26: 2
AP27: 3
AP28: 4
AP29: 5
D30: 留意点③ | AP30: 1
AP31: 2
AP32: 3
AP33: 4
AP34: 5
A35: 項目３ | D35: 留意点① | AP35: 1
AP36: 2
AP37: 3
AP38: 4
AP39: 5
D40: 留意点② | AP40: 1
...
