Workbook

Sheet 評価項目(標準)
M1: 【四建Ver】 土木一式工事（特別簡易型） 【令和８年６月版】
B2: 特別簡易型 | D2: 総合評価方式評価項目一覧 【土木一式工事】 除算方式 | G2: 工事名： | I2: 一般国道３０６号ほか２線公共土木施設維持管理（側溝工）工事
B3: 大項目 | D3: 中項目 | E3: 小項目 | F3: 評価基準 | I3: 加算点 | L3: 様式 | M3: 評価内容等
I4: 配点 | J4: 小項目 配点 | K4: 大項目 配点
B5: 企 業 の 能 力 等 | C5: 地域精通度・貢献度 | D5: 地域精通度 | E5: 本店等所在地 | F5: 四日市市川島、四郷、内部、桜、小山田、水沢地区市民センター管内 | I5: 10 | J5: 10 | K5: =SUM(J5:J33) -> 74 | L5: 様式１ 様式２ | M5: 「本店及び建設業法上の主たる営業所」の所在地により評価します。 ・本店等の所在地を変更した場合、公告の前月から３６か月前までの期間の「１８か月以上連続した所在地」を評価の対象とします。 ※菰野町の鵜川原、竹永、朝上、千種地区は評価対象外になります。
F6: 四日市市中部、塩浜、常磐、日永、河原田、楠地区市民センター管内及び菰野町菰野地区内 | I6: 5
F7: 上記以外の四日市建設事務所管内 | I7: 0
D8: 地域貢献度 | E8: 地域維持型維持修繕業務委託（雪氷業務）元請実績 | F8: 有 | I8: 5 | J8: 5 | M8: 令和７年度又は令和８年度における四日市建設事務所発注の地域維持型維持修繕業務委託元請契約実績の有無により評価します。 ・地域維持型維持修繕業務委託元請契約実績は、建設共同企業体の代表者を含む全ての構成員を評価の対象とします。 ・ただし、乙型に関しては、地域維持型建設共同企業体協定書第８条に基づき、雪氷業務が分担する業務に含まれない場合は、評価の対象としません。
F9: 無 | I9: 0
E10: 地域維持型維持修繕業務委託（小規模業務）元請実績 | F10: 有 | I10: 5 | J10: 5 | M10: 令和７年度又は令和８年度における四日市建設事務所発注の地域維持型維持修繕業務委託元請契約実績の有無により評価します。 ・地域維持型維持修繕業務委託元請契約実績は、建設共同企業体の代表者を含む全ての構成員を評価の対象とします。 ・ただし、乙型に関しては、地域維持型建設共同企業体協定書第８条に基づき、小規模業務が分担する業務に含まれない場合は、評価の対象としません。
F11: 無 | I11: 0
E12: 災害協定の評価 | F12: 災害協定に基づく訓練１への参加実績あり | I12: 9 | J12: 9 | M12: 「災害協定に基づく訓練１への参加実績」又は「災害協定に基づく訓練２への参加実績」又は「防災協定の締結実績」の有無により評価します。 【災害協定に基づく訓練１】 ・「災害協定」とは、四日市建設事務所と締結した「地震・津波・風水害等の緊急時における運用協定」をいいます。 ・「災害協定に基づく訓練１の参加実績」は、「災害協定」に基づいた災害対応実動訓練及び情報伝達訓練への令和６年度又は令和７年度の参加実績を指します。 ・「災害対応実動訓練」は、以下の要件をすべて満たす場合に評価します。 ① 団体として５年以上継続した実動訓練実績があること。 ② 評価対象年度の実動訓練において、協定締結団体構成員のうち、四日市建設事務所管内の構成員の半数以上が参加していること。 ③ ②で評価する参加企業については、Ａランク企業では代表者と１名以上の技術者、Ｂランク企業等では、１名以上の技術者が参加していること。 ・「情報伝達訓練」は、団体として５年以上の継続した訓練の実績がある場合に評価します。 【災害協定に基づく訓練２】 ・「災害協定」とは、四日市建設事務所と締結した「地震・津波・風水害等の緊急時における運用協定」をいいます。 ・「災害協定に基づく訓練２の参加実績」は、「災害協定」に基づいた情報伝達訓練への令和６年度又は令和７年度の参加実績を指します。 ・「情報伝達訓練」は、団体として５年以上の継続した訓練の実績がある場合に評価します。 【防災協定の締結】 ・「防災協定」とは、「四日市建設事務所管内の市町との防災協定」又は「三重県との防災協定」をいいます。 ・「四日市建設事務所管内の市町との防災協定」については、「建設業のための広場」で公開している最新版の「経営事項審査申請の手引き」に記載された、協定書等に災害時の建設業者の活動義務が規定されている防災協定とします。 ・「三重県との防災協定」については、「技術資料作成上の留意事項」に記載した防災協定とします。 ・「防災協定の締結」は、令和６年度又は令和７年度の防災協定締結を評価の対象とします。対象期間以前の協定締結で、自動継続している協定は含みます。 ・「防災協定の締結」の評価は、四日市建設事務所管内に「本店及び建設業法上の主たる営業所」又は「建設業法上の営業所」を有する企業に限ります。 ※「災害協定に基づく訓練１への参加実績」と「災害協定に基づく訓練２への参加実績」と「防災協定の締結実績」は重複して評価しません。
F13: 災害協定に基づく訓練２への参加実績あり | I13: 7
F14: 防災協定の締結実績あり | I14: 3
F15: 実績なし | I15: 0
C16: 社会貢献度 | D16: 社会貢献度 | E16: 県内企業による施工 | F16: 県内企業による施工の割合 90 ％以上 | I16: 5 | J16: 5 | M16: 当該工事のうち、建設業法上の建設工事の県内企業による施工の割合により評価します。 ・県内企業とは、三重県内に「本店及び建設業法上の主たる営業所」を有する企業を指します。 ・元請直営施工、一次下請負及び二次下請負による施工を評価の対象とします。 県内企業による施工の割合 ＝ [ 契約金額(最終) － { 県外一次下請金額(最終) + 県外二次下請金額(最終) } ] ／ 契約金額(最終) ※当該工事を契約後、「建設工事請負契約書の特約事項」に基づき履行を確認します。
F17: 県内企業による施工の割合 70 ％以上 | I17: 3
F18: 上記以外 | I18: 0
C19: 企業の技術力等 | D19: 工事実績 | E19: 企業の工事実績 | F19: 評価対象工事①の実績あり | I19: 20 | J19: 20 | M19: 三重県内において、単独又は共同企業体構成員（出資比率20％以上に限る）の元請として受注し、平成２３年度以降に完成し、かつ、引渡しが済んでいる契約金額２千５百万円以上の評価対象工事の実績の有無により評価します。 ・「評価対象工事①」とは、「土木一式工事」（除草等業務委託を除く）で発注された工事を指します。 ・評価対象の工事実績は１件とし、コリンズに登録された公共機関等発注の工事に限ります。
F20: 評価対象工事①の実績なし | I20: 0
D21: 工事成績 | E21: 申告工事成績点又は総合点 | F21: 申告工事成績点が８５点以上の場合 | I21: 10 | J21: 10 | M21: 【申告工事成績点】 次の①又は②を申告工事成績点とし、評価基準に記載の計算式１により評価します。ただし、申告工事成績点が８５点以上の場合は１０点、７５点未満の場合は５点とします。 ①令和５年４月１日から当該工事の入札公告日までに三重県が通知（工事成績認定書）した土木一式工事の評定点のうち、申告された任意の件数（ｎ件）の合計に７５点を加え、ｎ＋１で割った値とする。ただし、申告できるのは10件までとします。 申告工事成績点 ＝（申告されたｎ件の評定点の合計＋７５）／（ｎ＋１）（小数第２位以下切り捨て） ②国土交通省中部地方整備局又は国土交通省近畿地方整備局が令和７年度に公表した工事成績評定平均点とします。 【総合点】 ①及び②が無い場合は、総合点を評価基準に記載の計算式２（小数第２位以下切り捨て）により評価します。ただし、総合点が９７０点以上の場合は５点、８４０点未満の場合は０点とします。 ・総合点とは入札公告日において最新の三重県建設工事等入札参加資格者名簿に記載された総合点とします。 ・上記全てに該当がない場合の加算点は０点です。
F22: 申告工事成績点が７５点以上８５点未満の場合 計算式１ （申告工事成績点－７５点）×５／１０＋５点
I23: ～
F25: 申告工事成績点が７５点未満の場合 | I25: 5
F26: 総合点が９７０点以上の場合 | I26: 5
F27: 総合点が８４０点以上９７０点未満の場合 計算式２ （総合点－８４０）／（９７０－８４０）×５
I28: ～
F30: 総合点が８４０点未満の場合 | I30: 0
D31: 契約件数 | E31: 土木一式工事の契約件数 | F31: ０件 | I31: 10 | J31: 10 | M31: 入札公告日における公共機関等発注の契約金額２千５百円以上の土木一式工事の契約件数により評価します。なお、共同企業体工事については、出資比率にかかわらず契約件数１件としてカウントします。 ・小規模、雪氷、地域維持型維持修繕等の業務委託は、件数に含みません。
F32: １件 | I32: 5
F33: ２件以上 | I33: 0
B34: 技術提案等 | C34: 技術提案 （対策なし型） | D34: 特記課題 | E34: 発注者が指定するテーマ・項目 | F34: １項目あたりの評価基準・加算点 | I34: 36 (最大12点/項目×項目数) | J34: 36 | K34: 36 | L34: 様式４ | M34: 当該工事は、一般国道３０６号ほか２線の道路側溝を整備する工事です。 「項目１ 効率的な工程計画」、「項目２ 一般国道３０６号での施工における道路利用者への配慮」、「項目３ 一般国道３０６号での施工における周辺環境への配慮」の３項目について、それぞれ工事を行ううえで考えられる留意点を３つ以内でその理由を含めて記述してください。 ・これらの提案については、対策を求めていません。そのため履行義務はありません。
F35: 優れている | G35: 12
F36: 概ね優れている | G36: 9
F37: 良好である | G37: 6
F38: 概ね良好である | G38: 3
F39: 上記以外 | G39: 0
B40: 総合評価方式の不履行による 加算点の減点 | E40: 当該工事の入札公告日が、三重県が総合評価方式で発注した工事で不履行による減点措置が課されている期間内である場合、「技術提案等不履行確定通知書等」に記載した減点を行います。 | I40: △換算前 加算点満点 ×1割 ×件数 | L40: 様式１ | M40: 三重県が総合評価方式で発注した工事で、技術資料又は施工体制確認資料に記載された事項に不履行があった場合の減点は、次式により行います。 減点後の貴社の換算前加算点合計＝Ａ－（Ｂ×０．１×Ｃ） Ａ：貴社の換算前加算点合計 Ｂ：当該工事の換算前加算点満点 Ｃ：不履行工事件数 不履行工事件数とは、当該工事の入札公告日が「技術提案等不履行確定通知書」で通知された不履行による減点の対象となる期間内である工事の件数とします。
B41: 指名停止措置による 加算点の減点 | E41: 当該工事の入札公告日が、三重県発注工事にかかる贈賄、公契約関係競売等妨害又は談合により役員等又は使用人が逮捕、又は逮捕を経ないで公訴を提起されたことによる指名停止に伴う減点措置期間内である場合、減点を行います。 | I41: △換算前 加算点満点 ×1割 | L41: 様式１ | M41: 当該工事の入札公告日が、三重県発注工事にかかる贈賄、公契約関係競売等妨害又は談合により役員等又は使用人が逮捕、又は逮捕を経ないで公訴を提起されたことによる指名停止に伴う減点措置期間内である場合の減点は、次式により行います。 減点後の貴社の換算前加算点合計＝Ａ－（Ｂ×０．１） Ａ：貴社の換算前加算点合計 Ｂ：当該工事の換算前加算点満点 ※減点措置期間は指名停止期間の終了日の翌日から１年間とします。 なお、対象となる指名停止措置は、当該工事入札公告日の前年度４月１日から当該工事入札公告日までの期間に指名停止期間が１日でも重複するものとします。
I42: 換算前 加算点 満点 | J42: =SUM(K5:K39) -> 110 | M42: ※技術資料の作成方法及び提出資料は、「技術資料作成上の留意事項」を必ず確認してください。
I43: 加算点 満点 | J43: 10
B45: 当該工事で、技術資料又は施工体制確認資料に記載の内容に不履行があった場合の取り扱い | E45: 当該工事の履行確認を伴う評価項目に不履行があった場合、「技術提案等不履行確定通知書」により不履行項目・不履行による減点の対象となる期間などを通知します。 「技術提案等不履行確定通知書」に記載した期間に三重県が総合評価方式で発注する工事（以下「発注工事」という。）で、「貴社の換算前加算点合計」から「発注工事の換算前加算点満点」の1割を減点します。 貴社が特定建設工事共同企業体又は経常建設共同企業体の構成員である場合も、「発注工事の換算前加算点満点」の１割を減点します。

Sheet 届出書
AA3: 令和 年 月 日
A5: 技 術 資 料 届 出 書
B9: 三重県知事 | H9: あて
O11: 住 所
O13: 会社名
O15: 代表者氏名
E18: 工 事 名 | F18: ： | G18: ○年度 ○○○○ 第○○○○分○○号
G19: ○○○○
G20: ○○○○建設工事
B25: 上記工事の技術資料を提出します。なお、地方自治法施行令（昭和22年政令第16号）
B26: 第167条の4の規定に該当する者でないこと並びに確認資料の内容は、事実と相違ない
B27: ことを誓約します。問い合わせ先は次のとおりです。
C30: 【問い合わせ先】
D31: 担当者 | G31: ： | H31: ○○ ○○
D32: 部 署 | G32: ： | H32: ○○本店 ○○部 ○○課
D33: 住 所 | G33: ： | H33: ○○県○○市○○
D34: 電話番号 | G34: ： | H34: ＊＊＊－＊＊＊＊－＊＊＊＊
D35: ＦＡＸ | G35: ： | H35: ＊＊＊－＊＊＊＊－＊＊＊＊
D36: Ｅ-mail | G36: ：

Sheet 様式１
B1: （様式１） 加算点申告書
F2: 会社名
B3: 大項目 | D3: 中項目 | E3: 小項目 | F3: 加算点 | G3: 評価基準 | I3: 各評価項目の 自己評価 | J3: 自己 加算点
G4: 配点 | H4: 基準
B5: =IF('評価項目(標準)'!B5="","",+'評価項目(標準)'!B5) -> 企 業 の 能 力 等 | C5: =IF(+'評価項目(標準)'!C5="","",+'評価項目(標準)'!C5) -> 地域精通度・貢献度 | D5: =IF(+'評価項目(標準)'!D5="","",+'評価項目(標準)'!D5) -> 地域精通度 | E5: =IF(+'評価項目(標準)'!E5="","",+'評価項目(標準)'!E5) -> 本店等所在地 | F5: =+IF(+'評価項目(標準)'!J5="","",+'評価項目(標準)'!J5) -> 10 | G5: =+IF(+'評価項目(標準)'!I5="","",+'評価項目(標準)'!I5) -> 10 | H5: =+IF(+'評価項目(標準)'!F5="","",+'評価項目(標準)'!F5) -> 四日市市川島、四郷、内部、桜、小山田、水沢地区市民センター管内 | J5: =IF(I5="","",VLOOKUP(I5,'評価項目(標準)'!F5:I7,4,FALSE))
G6: =+IF(+'評価項目(標準)'!I6="","",+'評価項目(標準)'!I6) -> 5 | H6: =+IF(+'評価項目(標準)'!F6="","",+'評価項目(標準)'!F6) -> 四日市市中部、塩浜、常磐、日永、河原田、楠地区市民センター管内及び菰野町菰野地区内
G7: =+IF(+'評価項目(標準)'!I7="","",+'評価項目(標準)'!I7) -> 0 | H7: =+IF(+'評価項目(標準)'!F7="","",+'評価項目(標準)'!F7) -> 上記以外の四日市建設事務所管内
D8: =IF(+'評価項目(標準)'!D8="","",+'評価項目(標準)'!D8) -> 地域貢献度 | E8: =IF(+'評価項目(標準)'!E8="","",+'評価項目(標準)'!E8) -> 地域維持型維持修繕業務委託（雪氷業務）元請実績 | F8: =+IF(+'評価項目(標準)'!J8="","",+'評価項目(標準)'!J8) -> 5 | G8: =+IF(+'評価項目(標準)'!I8="","",+'評価項目(標準)'!I8) -> 5 | H8: =+IF(+'評価項目(標準)'!F8="","",+'評価項目(標準)'!F8) -> 有 | J8: =IF(I8="","",IF(I8=H8,G8,IF(I8=H9,G9)))
G9: =+IF(+'評価項目(標準)'!I9="","",+'評価項目(標準)'!I9) -> 0 | H9: =+IF(+'評価項目(標準)'!F9="","",+'評価項目(標準)'!F9) -> 無
E10: =IF(+'評価項目(標準)'!E10="","",+'評価項目(標準)'!E10) -> 地域維持型維持修繕業務委託（小規模業務）元請実績 | F10: =+IF(+'評価項目(標準)'!J10="","",+'評価項目(標準)'!J10) -> 5 | G10: =+IF(+'評価項目(標準)'!I10="","",+'評価項目(標準)'!I10) -> 5 | H10: =+IF(+'評価項目(標準)'!F10="","",+'評価項目(標準)'!F10) -> 有 | J10: =IF(I10="","",IF(I10=H10,G10,IF(I10=H11,G11)))
G11: =+IF(+'評価項目(標準)'!I11="","",+'評価項目(標準)'!I11) -> 0 | H11: =+IF(+'評価項目(標準)'!F11="","",+'評価項目(標準)'!F11) -> 無
E12: =IF(+'評価項目(標準)'!E12="","",+'評価項目(標準)'!E12) -> 災害協定の評価 | F12: =+IF(+'評価項目(標準)'!J12="","",+'評価項目(標準)'!J12) -> 9 | G12: =+IF(+'評価項目(標準)'!I12="","",+'評価項目(標準)'!I12) -> 9 | H12: =+IF(+'評価項目(標準)'!F12="","",+'評価項目(標準)'!F12) -> 災害協定に基づく訓練１への参加実績あり | J12: =IF(I12="","",VLOOKUP(I12,'評価項目(標準)'!F12:I15,4,FALSE))
G13: =+IF(+'評価項目(標準)'!I13="","",+'評価項目(標準)'!I13) -> 7 | H13: =+IF(+'評価項目(標準)'!F13="","",+'評価項目(標準)'!F13) -> 災害協定に基づく訓練２への参加実績あり
G14: =+IF(+'評価項目(標準)'!I14="","",+'評価項目(標準)'!I14) -> 3 | H14: =+IF(+'評価項目(標準)'!F14="","",+'評価項目(標準)'!F14) -> 防災協定の締結実績あり
G15: =+IF(+'評価項目(標準)'!I15="","",+'評価項目(標準)'!I15) -> 0 | H15: =+IF(+'評価項目(標準)'!F15="","",+'評価項目(標準)'!F15) -> 実績なし
E16: =IF(+'評価項目(標準)'!E16="","",+'評価項目(標準)'!E16) -> 県内企業による施工 | F16: =+IF(+'評価項目(標準)'!J16="","",+'評価項目(標準)'!J16) -> 5 | G16: =+IF(+'評価項目(標準)'!I16="","",+'評価項目(標準)'!I16) -> 5 | H16: =+IF(+'評価項目(標準)'!F16="","",+'評価項目(標準)'!F16) -> 県内企業による施工の割合 90 ％以上 | J16: =IF(I16="","",VLOOKUP(I16,'評価項目(標準)'!F16:I18,4,FALSE))
G17: =+IF(+'評価項目(標準)'!I17="","",+'評価項目(標準)'!I17) -> 3 | H17: =+IF(+'評価項目(標準)'!F17="","",+'評価項目(標準)'!F17) -> 県内企業による施工の割合 70 ％以上
G18: =+IF(+'評価項目(標準)'!I18="","",+'評価項目(標準)'!I18) -> 0 | H18: =+IF(+'評価項目(標準)'!F18="","",+'評価項目(標準)'!F18) -> 上記以外
C19: =IF(+'評価項目(標準)'!C19="","",+'評価項目(標準)'!C19) -> 企業の技術力等 | D19: =IF(+'評価項目(標準)'!D19="","",+'評価項目(標準)'!D19) -> 工事実績 | E19: =IF(+'評価項目(標準)'!E19="","",+'評価項目(標準)'!E19) -> 企業の工事実績 | F19: =+IF(+'評価項目(標準)'!J19="","",+'評価項目(標準)'!J19) -> 20 | G19: =+IF(+'評価項目(標準)'!I19="","",+'評価項目(標準)'!I19) -> 20 | H19: =+IF(+'評価項目(標準)'!F19="","",+'評価項目(標準)'!F19) -> 評価対象工事①の実績あり | J19: =IF(I19="","",VLOOKUP(I19,'評価項目(標準)'!F19:I20,4,FALSE))
G20: =+IF(+'評価項目(標準)'!I20="","",+'評価項目(標準)'!I20) -> 0 | H20: =+IF(+'評価項目(標準)'!F20="","",+'評価項目(標準)'!F20) -> 評価対象工事①の実績なし
D21: =IF(+'評価項目(標準)'!D21="","",+'評価項目(標準)'!D21) -> 工事成績 | E21: =IF(+'評価項目(標準)'!E21="","",+'評価項目(標準)'!E21) -> 申告工事成績点又は総合点 | F21: =+IF(+'評価項目(標準)'!J21="","",+'評価項目(標準)'!J21) -> 10 | G21: =IF(+'評価項目(標準)'!I21="","",+'評価項目(標準)'!I21) -> 10 | H21: =IF(+'評価項目(標準)'!F21="","",+'評価項目(標準)'!F21) -> 申告工事成績点が８５点以上の場合 | I21: 【申告工事成績点】 | J21: =IF(COUNTA(I23,I27)=0,"",IF(COUNTA(I23,I27)=2,"入力は【申告工事成績点】、【総合点】のいずれかにして下さい",IF(AND(COUNTA(I23)=1,I22=""),"いずれの【申告工事成績点】なのか、「三重県、中部地整、近畿地整」より選択してください",IF(I27>=970,5,IF(AND(I27<970,I27>=840),ROUNDDOWN((I27-840)/(970-840)*5,1),IF(I27<840,0,)))+IF(I23>=85,F21,IF(AND(I23<75,I23>=1),5,IF(AND(I23<85,I23>=75),ROUNDDOWN((I23-75)*5/10+5,1)))))))
G22: =IF(+'評価項目(標準)'!I22="","",+'評価項目(標準)'!I22) | H22: =IF(+'評価項目(標準)'!F22="","",+'評価項目(標準)'!F22) -> 申告工事成績点が７５点以上８５点未満の場合 計算式１ （申告工事成績点－７５点）×５／１０＋５点
G23: =IF(+'評価項目(標準)'!I23="","",+'評価項目(標準)'!I23) -> ～
G24: =IF(+'評価項目(標準)'!I24="","",+'評価項目(標準)'!I24)
G25: =IF(+'評価項目(標準)'!I25="","",+'評価項目(標準)'!I25) -> 5 | H25: =IF(+'評価項目(標準)'!F25="","",+'評価項目(標準)'!F25) -> 申告工事成績点が７５点未満の場合
D26: =IF(+'評価項目(標準)'!#REF!="","",+'評価項目(標準)'!#REF!) -> #REF! | E26: =IF(+'評価項目(標準)'!#REF!="","",+'評価項目(標準)'!#REF!) -> #REF! | G26: =IF(+'評価項目(標準)'!I26="","",+'評価項目(標準)'!I26) -> 5 | H26: =IF(+'評価項目(標準)'!F26="","",+'評価項目(標準)'!F26) -> 総合点が９７０点以上の場合 | I26: 【総合点】
G27: =IF(+'評価項目(標準)'!I27="","",+'評価項目(標準)'!I27) | H27: =IF(+'評価項目(標準)'!F27="","",+'評価項目(標準)'!F27) -> 総合点が８４０点以上９７０点未満の場合 計算式２ （総合点－８４０）／（９７０－８４０）×５
G28: =IF(+'評価項目(標準)'!I28="","",+'評価項目(標準)'!I28) -> ～
G29: =IF(+'評価項目(標準)'!I29="","",+'評価項目(標準)'!I29)
G30: =IF(+'評価項目(標準)'!I30="","",+'評価項目(標準)'!I30) -> 0 | H30: =IF(+'評価項目(標準)'!F30="","",+'評価項目(標準)'!F30) -> 総合点が８４０点未満の場合
D31: =IF(+'評価項目(標準)'!D31="","",+'評価項目(標準)'!D31) -> 契約件数 | E31: =IF(+'評価項目(標準)'!E31="","",+'評価項目(標準)'!E31) -> 土木一式工事の契約件数 | F31: =+IF(+'評価項目(標準)'!J31="","",+'評価項目(標準)'!J31) -> 10 | G31: =IF(+'評価項目(標準)'!I31="","",+'評価項目(標準)'!I31) -> 10 | H31: =IF(+'評価項目(標準)'!F31="","",+'評価項目(標準)'!F31) -> ０件 | J31: =IF(I31="","",VLOOKUP(I31,'評価項目(標準)'!F31:I33,4,FALSE))
G32: =IF(+'評価項目(標準)'!I32="","",+'評価項目(標準)'!I32) -> 5 | H32: =IF(+'評価項目(標準)'!F32="","",+'評価項目(標準)'!F32) -> １件
G33: =IF(+'評価項目(標準)'!I33="","",+'評価項目(標準)'!I33) -> 0 | H33: =IF(+'評価項目(標準)'!F33="","",+'評価項目(標準)'!F33) -> ２件以上
B34: =IF(+'評価項目(標準)'!B40="","",+'評価項目(標準)'!B40) -> 総合評価方式の不履行による 加算点の減点 | E34: =IF(+'評価項目(標準)'!E40="","",+'評価項目(標準)'!E40) -> 当該工事の入札公告日が、三重県が総合評価方式で発注した工事で不履行による減点措置が課されている期間内である場合、「技術提案等不履行確定通知書等」に記載した減点を行います。 | H34: =IF('評価項目(標準)'!I40="","",+'評価項目(標準)'!I40) -> △換算前 加算点満点 ×1割 ×件数 | J34: =IF(+I34="","",-(+'評価項目(標準)'!J42*0.1*I34))
B35: =IF(+'評価項目(標準)'!B41="","",+'評価項目(標準)'!B41) -> 指名停止措置による 加算点の減点 | E35: =IF(+'評価項目(標準)'!E41="","",+'評価項目(標準)'!E41) -> 当該工事の入札公告日が、三重県発注工事にかかる贈賄、公契約関係競売等妨害又は談合により役員等又は使用人が逮捕、又は逮捕を経ないで公訴を提起されたことによる指名停止に伴う減点措置期間内である場合、減点を行います。 | H35: =IF('評価項目(標準)'!I41="","",+'評価項目(標準)'!I41) -> △換算前 加算点満点 ×1割 | J35: =IF(+I35="","",-(+'評価項目(標準)'!J42*0.1))
I36: 合計 | J36: =SUM(J5:J35) -> 0
B38: 【記入上の注意】
B39: ・ | D39: 黄色着色のセルは、該当する数値を直接入力してください。加算点は、自動計算により表示されます。
B40: ・ | D40: 橙色着色のセルは、セル中から該当する項目を選択してください。加算点は、選択した内容に応じて自動で表示されます。
B41: ・ | C41: 評価項目及び評価基準の詳細については、「評価項目一覧」及び「技術資料作成上の留意事項」で確認してください。
B42: ・ | C42: このシートは「評価項目一覧」とリンクしています。自己加算点が表示されていない場合は評価しません。

Sheet 様式１【経常ＪＶ用】
B2: （様式１） 加算点申告書
F3: 会社名
B4: 大項目 | D4: 中項目 | E4: 小項目 | F4: 加算点 | G4: 評価基準 | I4: 構成員Ａの評価 | K4: 構成員Ｂの評価 | M4: 経常ＪＶの評価
G5: 配点 | H5: 基準 | I5: 各評価項目の 自己評価 | J5: 自己 加算点 | K5: 各評価項目の 自己評価 | L5: 自己 加算点
B6: =IF('評価項目(標準)'!B5="","",+'評価項目(標準)'!B5) -> 企 業 の 能 力 等 | C6: =IF(+'評価項目(標準)'!C5="","",+'評価項目(標準)'!C5) -> 地域精通度・貢献度 | D6: =IF(+'評価項目(標準)'!D5="","",+'評価項目(標準)'!D5) -> 地域精通度 | E6: =IF(+'評価項目(標準)'!E5="","",+'評価項目(標準)'!E5) -> 本店等所在地 | F6: =+IF(+'評価項目(標準)'!J5="","",+'評価項目(標準)'!J5) -> 10 | G6: =+IF(+'評価項目(標準)'!I5="","",+'評価項目(標準)'!I5) -> 10 | H6: =+IF(+'評価項目(標準)'!F5="","",+'評価項目(標準)'!F5) -> 四日市市川島、四郷、内部、桜、小山田、水沢地区市民センター管内 | J6: =IF(I6="","",VLOOKUP(I6,'評価項目(標準)'!F5:I7,4,FALSE)) | K6: ― | L6: ― | M6: =J6
G7: =+IF(+'評価項目(標準)'!I6="","",+'評価項目(標準)'!I6) -> 5 | H7: =+IF(+'評価項目(標準)'!F6="","",+'評価項目(標準)'!F6) -> 四日市市中部、塩浜、常磐、日永、河原田、楠地区市民センター管内及び菰野町菰野地区内
G8: =+IF(+'評価項目(標準)'!I7="","",+'評価項目(標準)'!I7) -> 0 | H8: =+IF(+'評価項目(標準)'!F7="","",+'評価項目(標準)'!F7) -> 上記以外の四日市建設事務所管内
D9: =IF(+'評価項目(標準)'!D8="","",+'評価項目(標準)'!D8) -> 地域貢献度 | E9: =IF(+'評価項目(標準)'!E8="","",+'評価項目(標準)'!E8) -> 地域維持型維持修繕業務委託（雪氷業務）元請実績 | F9: =+IF(+'評価項目(標準)'!J8="","",+'評価項目(標準)'!J8) -> 5 | G9: =+IF(+'評価項目(標準)'!I8="","",+'評価項目(標準)'!I8) -> 5 | H9: =+IF(+'評価項目(標準)'!F8="","",+'評価項目(標準)'!F8) -> 有 | J9: =IF(I9="","",IF(I9=H9,G9,IF(I9=H10,G10))) | L9: =IF(K9="","",IF(K9=H9,G9,IF(K9=H10,G10))) | M9: =IF(J9="","",IF(L9="","",ROUNDUP(AVERAGE(J9,L9),1)))
G10: =+IF(+'評価項目(標準)'!I9="","",+'評価項目(標準)'!I9) -> 0 | H10: =+IF(+'評価項目(標準)'!F9="","",+'評価項目(標準)'!F9) -> 無
E11: =IF(+'評価項目(標準)'!E10="","",+'評価項目(標準)'!E10) -> 地域維持型維持修繕業務委託（小規模業務）元請実績 | F11: =+IF(+'評価項目(標準)'!J10="","",+'評価項目(標準)'!J10) -> 5 | G11: =+IF(+'評価項目(標準)'!I10="","",+'評価項目(標準)'!I10) -> 5 | H11: =+IF(+'評価項目(標準)'!F10="","",+'評価項目(標準)'!F10) -> 有 | J11: =IF(I11="","",IF(I11=H11,G11,IF(I11=H12,G12))) | L11: =IF(K11="","",IF(K11=H11,G11,IF(K11=H12,G12))) | M11: =IF(J11="","",IF(L11="","",ROUNDUP(AVERAGE(J11,L11),1)))
G12: =+IF(+'評価項目(標準)'!I11="","",+'評価項目(標準)'!I11) -> 0 | H12: =+IF(+'評価項目(標準)'!F11="","",+'評価項目(標準)'!F11) -> 無
E13: =IF(+'評価項目(標準)'!E12="","",+'評価項目(標準)'!E12) -> 災害協定の評価 | F13: =+IF(+'評価項目(標準)'!J12="","",+'評価項目(標準)'!J12) -> 9 | G13: =+IF(+'評価項目(標準)'!I12="","",+'評価項目(標準)'!I12) -> 9 | H13: =+IF(+'評価項目(標準)'!F12="","",+'評価項目(標準)'!F12) -> 災害協定に基づく訓練１への参加実績あり | J13: =IF(I13="","",VLOOKUP(I13,'評価項目(標準)'!F12:I15,4,FALSE)) | L13: =IF(K13="","",VLOOKUP(K13,'評価項目(標準)'!F12:I15,4,FALSE)) | M13: =IF(J13="","",IF(L13="","",ROUNDUP(AVERAGE(J13,L13),1)))
G14: =+IF(+'評価項目(標準)'!I13="","",+'評価項目(標準)'!I13) -> 7 | H14: =+IF(+'評価項目(標準)'!F13="","",+'評価項目(標準)'!F13) -> 災害協定に基づく訓練２への参加実績あり
G15: =+IF(+'評価項目(標準)'!I14="","",+'評価項目(標準)'!I14) -> 3 | H15: =+IF(+'評価項目(標準)'!F14="","",+'評価項目(標準)'!F14) -> 防災協定の締結実績あり
G16: =+IF(+'評価項目(標準)'!I15="","",+'評価項目(標準)'!I15) -> 0 | H16: =+IF(+'評価項目(標準)'!F15="","",+'評価項目(標準)'!F15) -> 実績なし
E17: =IF(+'評価項目(標準)'!E16="","",+'評価項目(標準)'!E16) -> 県内企業による施工 | F17: =+IF(+'評価項目(標準)'!J16="","",+'評価項目(標準)'!J16) -> 5 | G17: =+IF(+'評価項目(標準)'!I16="","",+'評価項目(標準)'!I16) -> 5 | H17: =+IF(+'評価項目(標準)'!F16="","",+'評価項目(標準)'!F16) -> 県内企業による施工の割合 90 ％以上 | J17: =IF(I17="","",VLOOKUP(I17,'評価項目(標準)'!F16:I18,4,FALSE)) | K17: ― | L17: ― | M17: =J17
G18: =+IF(+'評価項目(標準)'!I17="","",+'評価項目(標準)'!I17) -> 3 | H18: =+IF(+'評価項目(標準)'!F17="","",+'評価項目(標準)'!F17) -> 県内企業による施工の割合 70 ％以上
G19: =+IF(+'評価項目(標準)'!I18="","",+'評価項目(標準)'!I18) -> 0 | H19: =+IF(+'評価項目(標準)'!F18="","",+'評価項目(標準)'!F18) -> 上記以外
C20: =IF(+'評価項目(標準)'!C19="","",+'評価項目(標準)'!C19) -> 企業の技術力等 | D20: =IF(+'評価項目(標準)'!D19="","",+'評価項目(標準)'!D19) -> 工事実績 | E20: =IF(+'評価項目(標準)'!E19="","",+'評価項目(標準)'!E19) -> 企業の工事実績 | F20: =+IF(+'評価項目(標準)'!J19="","",+'評価項目(標準)'!J19) -> 20 | G20: =+IF(+'評価項目(標準)'!I19="","",+'評価項目(標準)'!I19) -> 20 | H20: =+IF(+'評価項目(標準)'!F19="","",+'評価項目(標準)'!F19) -> 評価対象工事①の実績あり | J20: =IF(I20="","",VLOOKUP(I20,'評価項目(標準)'!F19:I20,4,FALSE)) | L20: =IF(K20="","",VLOOKUP(K20,'評価項目(標準)'!F19:I20,4,FALSE)) | M20: =IF(J20="","",IF(L20="","",ROUNDUP(AVERAGE(J20,L20),1)))
G21: =+IF(+'評価項目(標準)'!I20="","",+'評価項目(標準)'!I20) -> 0 | H21: =+IF(+'評価項目(標準)'!F20="","",+'評価項目(標準)'!F20) -> 評価対象工事①の実績なし
D22: =IF(+'評価項目(標準)'!D21="","",+'評価項目(標準)'!D21) -> 工事成績 | E22: =IF(+'評価項目(標準)'!E21="","",+'評価項目(標準)'!E21) -> 申告工事成績点又は総合点 | F22: =+IF(+'評価項目(標準)'!J21="","",+'評価項目(標準)'!J21) -> 10 | G22: =IF(+'評価項目(標準)'!I21="","",+'評価項目(標準)'!I21) -> 10 | H22: =IF(+'評価項目(標準)'!F21="","",+'評価項目(標準)'!F21) -> 申告工事成績点が８５点以上の場合 | I22: 【申告工事成績点】 | J22: =IF(COUNTA(I24,I28)=0,"",IF(COUNTA(I24,I28)=2,"入力は【申告工事成績点】、【総合点】のいずれかにして下さい",IF(AND(COUNTA(I24)=1,I23=""),"いずれの【申告工事成績点】なのか、「三重県、中部地整、近畿地整」より選択してください",IF(I28>=970,5,IF(AND(I28<970,I28>=840),ROUNDDOWN((I28-840)/(970-840)*5,1),IF(I28<840,0,)))+IF(I24>=85,F22,IF(AND(I24<75,I24>=1),5,IF(AND(I24<85,I24>=75),ROUNDDOWN((I24-75)*5/10+5,1))))))) | K22: 【申告工事成績点】 | L22: =IF(COUNTA(K24,K28)=0,"",IF(COUNTA(K24,K28)=2,"入力は【申告工事成績点】、【総合点】のいずれかにして下さい",IF(AND(COUNTA(K24)=1,K23=""),"いずれの【申告工事成績点】なのか、「三重県、中部地整、近畿地整」より選択してください",IF(K28>=970,5,IF(AND(K28<970,K28>=840),ROUNDDOWN((K28-840)/(970-840)*5,1),IF(K28<840,0,)))+IF(K24>=85,F22,IF(AND(K24<75,K24>=1),5,IF(AND(K24<85,K24>=75),ROUNDDOWN((K24-75)*5/10+5,1))))))) | M22: =IF(J22="","",IF(L22="","",ROUNDUP(AVERAGE(J22,L22),1)))
G23: =IF(+'評価項目(標準)'!I22="","",+'評価項目(標準)'!I22) | H23: =IF(+'評価項目(標準)'!F22="","",+'評価項目(標準)'!F22) -> 申告工事成績点が７５点以上８５点未満の場合 計算式１ （申告工事成績点－７５点）×５／１０＋５点
G24: =IF(+'評価項目(標準)'!I23="","",+'評価項目(標準)'!I23) -> ～ | M24: =J24 -> 0
G25: =IF(+'評価項目(標準)'!I24="","",+'評価項目(標準)'!I24)
G26: =IF(+'評価項目(標準)'!I25="","",+'評価項目(標準)'!I25) -> 5 | H26: =IF(+'評価項目(標準)'!F25="","",+'評価項目(標準)'!F25) -> 申告工事成績点が７５点未満の場合 | M26: =J26 -> 0
D27: =IF(+'評価項目(標準)'!#REF!="","",+'評価項目(標準)'!#REF!) -> #REF! | E27: =IF(+'評価項目(標準)'!#REF!="","",+'評価項目(標準)'!#REF!) -> #REF! | G27: =IF(+'評価項目(標準)'!I26="","",+'評価項目(標準)'!I26) -> 5 | H27: =IF(+'評価項目(標準)'!F26="","",+'評価項目(標準)'!F26) -> 総合点が９７０点以上の場合 | I27: 【総合点】 | K27: 【総合点】
G28: =IF(+'評価項目(標準)'!I27="","",+'評価項目(標準)'!I27) | H28: =IF(+'評価項目(標準)'!F27="","",+'評価項目(標準)'!F27) -> 総合点が８４０点以上９７０点未満の場合 計算式２ （総合点－８４０）／（９７０－８４０）×５ | M28: =J28 -> 0
G29: =IF(+'評価項目(標準)'!I28="","",+'評価項目(標準)'!I28) -> ～
G30: =IF(+'評価項目(標準)'!I29="","",+'評価項目(標準)'!I29) | M30: =J30 -> 0
G31: =IF(+'評価項目(標準)'!I30="","",+'評価項目(標準)'!I30) -> 0 | H31: =IF(+'評価項目(標準)'!F30="","",+'評価項目(標準)'!F30) -> 総合点が８４０点未満の場合
D32: =IF(+'評価項目(標準)'!D31="","",+'評価項目(標準)'!D31) -> 契約件数 | E32: =IF(+'評価項目(標準)'!E31="","",+'評価項目(標準)'!E31) -> 土木一式工事の契約件数 | F32: =+IF(+'評価項目(標準)'!J31="","",+'評価項目(標準)'!J31) -> 10 | G32: =IF(+'評価項目(標準)'!I31="","",+'評価項目(標準)'!I31) -> 10 | H32: =IF(+'評価項目(標準)'!F31="","",+'評価項目(標準)'!F31) -> ０件 | J32: =IF(I32="","",VLOOKUP(I32,'評価項目(標準)'!F31:I33,4,FALSE)) | L32: =IF(K32="","",VLOOKUP(K32,'評価項目(標準)'!F31:I33,4,FALSE)) | M32: =IF(J32="","",IF(L32="","",ROUNDUP(AVERAGE(J32,L32),1)))
G33: =IF(+'評価項目(標準)'!I32="","",+'評価項目(標準)'!I32) -> 5 | H33: =IF(+'評価項目(標準)'!F32="","",+'評価項目(標準)'!F32) -> １件
G34: =IF(+'評価項目(標準)'!I33="","",+'評価項目(標準)'!I33) -> 0 | H34: =IF(+'評価項目(標準)'!F33="","",+'評価項目(標準)'!F33) -> ２件以上
B35: =IF(+'評価項目(標準)'!B40="","",+'評価項目(標準)'!B40) -> 総合評価方式の不履行による 加算点の減点 | E35: =IF(+'評価項目(標準)'!E40="","",+'評価項目(標準)'!E40) -> 当該工事の入札公告日が、三重県が総合評価方式で発注した工事で不履行による減点措置が課されている期間内である場合、「技術提案等不履行確定通知書等」に記載した減点を行います。 | H35: =IF('評価項目(標準)'!I40="","",+'評価項目(標準)'!I40) -> △換算前 加算点満点 ×1割 ×件数 | J35: =IF(+I35="",0,-(+'評価項目(標準)'!J42*0.1*I35)) -> 0 | L35: =IF(+K35="",0,-(+'評価項目(標準)'!J42*0.1*K35)) -> 0 | M35: =IF(J35+L35=0,"",J35+L35)
B36: =IF(+'評価項目(標準)'!B41="","",+'評価項目(標準)'!B41) -> 指名停止措置による 加算点の減点 | E36: =IF(+'評価項目(標準)'!E41="","",+'評価項目(標準)'!E41) -> 当該工事の入札公告日が、三重県発注工事にかかる贈賄、公契約関係競売等妨害又は談合により役員等又は使用人が逮捕、又は逮捕を経ないで公訴を提起されたことによる指名停止に伴う減点措置期間内である場合、減点を行います。 | H36: =IF('評価項目(標準)'!I41="","",+'評価項目(標準)'!I41) -> △換算前 加算点満点 ×1割 | M36: =+IF(I36+K36>0,-('評価項目(標準)'!J42*0.1),"")
L37: 合計 | M37: =ROUNDDOWN(SUM(M6:M36),0) -> 0
B39: 【記入上の注意】
B40: ・ | D40: 黄色着色のセルは、該当する数値を直接入力してください。加算点は、自動計算により表示されます。
B41: ・ | D41: 橙色着色のセルは、セル中から該当する項目を選択してください。加算点は、選択した内容に応じて自動で表示されます。
B42: ・ | C42: 評価項目及び評価基準の詳細については、「評価項目一覧」及び「技術資料作成上の留意事項」で確認してください。
B43: ・ | C43: このシートは「評価項目一覧」とリンクしています。自己加算点が表示されていない場合は評価しません。

Sheet 様式２
A1: （様式２） 地域精通度・企業の技術力等に関する技術資料
O2: 会社名
A3: 【地域精通度】
A5: 本店等所在地 | E5: 本店所在地
E7: 所在地の変更日 | J7: 年 月 日
E8: 旧所在地
A10: 【企業の技術力等】
A12: 工事実績 | E12: コリンズ登録番号
E13: 工事名称
A16: 工事成績 | E16: 三重県の 工事評定点 | H16: 令和５年４月１日以降に完成検査を行った工事の評定点 | AD16: 申告工事成績点
AD17: =IF(COUNTA(T16:AC17)=0,"",ROUNDDOWN(((SUM(T16:AC17)+75))/(COUNTA(T16:AC17)+1),1)) | AI17: 点
A18: 契約件数 | E18: （令和 ８年 ９月１１日８時点）
E19: 1 | G19: コリンズ登録番号
G20: 工事名称
E23: 2 | G23: コリンズ登録番号
G24: 工事名称
A29: 【地域精通度の注意事項】
A31: 注1： | C31: 本店と建設業法上の主たる営業所の所在地が同じ場合は、本店所在地の入力は不要です。
A33: 注2： | C33: 本店及び建設業法上の主たる営業所の所在地を変更していない場合は、旧所在地と変更日の入力は不要です。
A36: 【企業の技術力等の注意事項】
A38: 【工事成績】
A39: 注1： | C39: 令和５年４月１日から当該工事の入札公告日までに三重県が通知（工事成績認定書）した土木一式工事の評定点を、任意の件数だけ入力してください。 １０件まで申告できます。
D42: 記載例
A51: 【契約件数】
A52: 注2： | C52: 入札公告日における、○○発注の契約額○○円以上の土木一式工事の契約件数が３件以上ある場合は、２件まで記載して下さい。

Sheet 様式４（対策なし）
A1: （様式４） 技術提案に関する技術資料
A2: 工事名：
A3: 会社名 | AQ3: ※本頁は、提出不要です。
A4: 特記課題 | AQ4: 【特記課題の注意事項】
A5: 項目１ | D5: 留意点① | AP5: 1 2 3 4 5 6 7 8 9 10 11 12 13 14 15 | AR5: ・ | AS5: 評価項目一覧に示す３項目について、工事を行ううえでの留意点とその理由をそれぞれ簡潔に
AP6: 2 | AS6: 記載してください。
AP7: 3 | AR7: ・ | AS7: 具体的に実施する対策などを記載しても、その部分は評価しません。
AP8: 4 | AR8: ・ | AS8: 文字の大きさは、１０ポイントとします。
AP9: 5 | AR9: ・ | AS9: 行列の挿入及びセルサイズの変更は、不可とします。
D10: 留意点② | AP10: 1 | AR10: ・ | AS10: 各項目の留意点①～③は、それぞれ５行以内で記載するものとします。
AP11: 2 | AR11: ・ | AS11: ５行を超えて記載されている留意点は、評価しません。※例１、例２参照
AP12: 3 | AR12: ・ | AS12: 文字ポイントを小さくして、５行以内で記載されている留意点は、評価しません。※例３参照
AP13: 4 | AR13: ・ | AS13: 印刷した様式４で判断しますので、十分確認のうえ提出してください。
AP14: 5 | AS14: ※電子媒体で提出された場合でも、印刷して判断します。
D15: 留意点③ | AP15: 1 | AR15: ・ | AS15: 一括審査対象工事の場合、工事名には入札への参加を希望するすべての工事名を記載してください。
AP16: 2
AP17: 3
AP18: 4
AP19: 5
A20: 項目２ | D20: 留意点① | AP20: 1 2 3 4 5 6 7 8 9 10 11 12 13 14 15
AP21: 2
AP22: 3
AP23: 4
AP24: 5
D25: 留意点② | AP25: 1
AP26: 2
AP27: 3
AP28: 4
AP29: 5
D30: 留意点③ | AP30: 1
AP31: 2
AP32: 3
AP33: 4
AP34: 5
A35: 項目３ | D35: 留意点① | AP35: 1
AP36: 2
AP37: 3
AP38: 4
AP39: 5
D40: 留意点② | AP40: 1
AP41: 2
AP42: 3
AP43: 4
AP44: 5
D45: 留意点③ | AP45: 1
AP46: 2
AP47: 3
AP48: 4
AP49: 5
