Workbook

Sheet 評価項目一覧
M1: 設計業務（難度） 【令和８年６月版】
B2: 設計業務 総合評価方式評価項目一覧 【加算方式】 | H2: 委託名： | J2: 北勢沿岸流域下水道（北部・南部処理区）桑名幹線ほか管路改築詳細設計業務委託
B3: 大項目 | D3: 中項目 | F3: 小項目 | G3: 評価基準 | H3: 技術評価点 | K3: 様式 | L3: 評価内容等
H4: 配点 | I4: 小項目 配点 | J4: 大項目 配点
B5: 企業の能力等 | C5: 社会貢献度 | D5: 社会貢献度 | F5: ① 男女共同参画活動実績 ② 障がい者雇用実績 ③ 環境マネジメントシステムの認証 ④人権に関する取組実績 | G5: 左欄の①～④のうち、該当する項目数 | I5: 6 | J5: =SUM(I5:I20) -> 33 | K5: 様式１ 様式２ | L5: 次の実績（認証取得）の該当項目数により評価します。 ①男女共同参画活動実績 女性の職業生活における活躍の推進に関する法律に基づく一般事業主行動計画を策定している場合に評価します。 ②障がい者雇用実績 障害者の雇用の促進等に関する法律に基づく障がい者雇用の有無により評価します。 ・法律により障がい者雇用が義務付けられている企業は、法定雇用率を達成している場合に評価します。 ・法律により障がい者雇用が義務付けされていない企業は、障がい者を雇用している場合に評価します。 ③ISO1400１、M-EMSの認証取得 当該業務の入札に参加する者が、ISO14001又はM-EMS（ステップ２又はステップ１）のいずれかの認証を取得している場合に評価します。 ISO14001とM-EMSは、重複して評価しません。 ④人権に関する取組実績 「三重県が開催する人権に関する研修の受講実績」又は「職業安定法に基づく公正採用選考人権啓発推進員の設置」のいずれかの取組実績の有無により評価します。 なお、「三重県が開催する人権に関する研修の受講実績」は、令和７年度から令和８年度の受講実績を評価の対象とします。 ・「三重県が開催する人権に関する研修の受講実績」と「職業安定法に基づく公正採用選考人権啓発推進員の設置」は重複して評価しません。
G6: ４項目 | H6: 6
G7: ３項目 | H7: 5
G8: ２項目 | H8: 4
G9: １項目 | H9: 3
G10: 実績（認証取得）なし | H10: 0
C11: 企業の技術力等 | D11: 企業の技術力等 | F11: 品質マネジメントシステムの認証 | G11: 有 | H11: 2 | I11: 2 | L11: ISO9000Sの認証取得の有無により評価します。 ・当該業務の入札に参加する者がISO9000Sの認証を取得している、又は配置予定の管理技術者が所属する組織がISO9000Sの認証を取得している場合に評価します。
G12: 無 | H12: 0
F13: 業務成績 | G13: ８５点以上 | H13: 5 | I13: 5 | L13: 設計業務のうち、令和５年４月１日から令和６年３月３１日までの三重県が通知（設計業務等成績認定書）した業務評定点（計画検討、解析等調査業務及び設計業務（土木業務））と令和６年４月１日から令和８年３月３１日までの三重県が通知（設計業務等成績認定書）した業務評定点（設計業務「調査業務・計画業務」、設計業務「概略・予備検討」及び設計業務「詳細設計」）総計の平均値（小数第２位以下切り捨て）の点数を評価します。 ・業務成績のない場合又は当該業務の指名通知日までに県土整備部公共事業運営課が行う業務評定点の確認が取れていない場合は０点です。
G14: ８０点以上８５点未満 | H14: 4
G15: ７５点以上８０点未満 | H15: 3
G16: ７０点以上７５点未満 | H16: 2
G17: ７０点未満 | H17: 0
F18: 評価対象業務の実績 | G18: 評価対象業務①の実績あり | H18: 20 | I18: 20 | L18: 平成２８年度以降に完了した契約金額300万円以上の評価対象業務の実績の有無について評価します。なお、評価対象業務は国、地方公共団体又はその他政令等で定める法人発注の業務で下記に定めるとおりとします。 評価対象業務①とは、下水道管渠の実施（詳細）設計（シールド工法）を指します。 評価対象業務②とは、下水道管渠の実施（詳細）設計（管渠更生工法）を指します。 ・評価対象の業務実績は１件とし、テクリス登録業務に限ります。
G19: 評価対象業務②の実績あり | H19: 10
G20: 評価対象業務の実績なし | H20: 0
B21: 技術者要件 | C21: 管理技術者 | D21: 業務執行技術力 | F21: 評価対象業務の実績 | G21: 評価対象業務③の実績あり | H21: 25 | I21: 25 | J21: =SUM(I21:I31) -> 50 | K21: 様式１ 様式３ | L21: 平成２８年度以降に完了した契約金額300万円以上の評価対象業務の管理技術者又は担当技術者としての実績の有無について評価します。なお、評価対象業務は国、地方公共団体又はその他政令等で定める法人発注の業務で下記に定めるとおりとします。 評価対象業務③とは、下水道管渠の実施（詳細）設計（シールド工法又は管渠更生工法）を指します。 評価対象業務④とは、下水道管渠の実施（詳細）設計を指します。 ・評価対象の業務実績は１件とし、テクリス登録業務に限ります。
G22: 評価対象業務④の実績あり | H22: 15
G23: 評価対象業務の実績なし | H23: 0
D24: 手持ち業務件数 | F24: 管理技術者の手持ち業務件数 | G24: ０件～２件 | H24: 5 | I24: 5 | L24: 配置予定の管理技術者が、指名通知日において、管理(主任)技術者又は担当技術者として従事している契約中の手持ち業務件数により評価します。 ・手持ち業務件数とは、国、地方公共団体又はその他政令等で定める法人が発注した測量・設計（金額を問わずすべて）の業務委託で、管理（主任）技術者又は担当技術者として契約を行っている件数とします。ただし、単価契約による業務、三重県との災害協定に基づく対応業務については、件数に含みません。
G25: ３件～５件 | H25: 4
G26: ６件～７件 | H26: 3
G27: ８件～９件 | H27: 2
G28: １０件以上 | H28: 0
C29: 照査技術者 | D29: 業務執行技術力 | F29: 評価対象業務の実績 | G29: 評価対象業務③の実績あり | H29: 20 | I29: 20 | K29: 様式１ 様式６ | L29: 平成２８年度以降に完了した契約金額300万円以上の評価対象業務の管理技術者又は担当技術者としての実績の有無について評価します。なお、評価対象業務は国、地方公共団体又はその他政令等で定める法人発注の業務で下記に定めるとおりとします。 評価対象業務③とは、下水道管渠の実施（詳細）設計（シールド工法又は管渠更生工法）を指します。 評価対象業務④とは、下水道管渠の実施（詳細）設計を指します。 ・評価対象の業務実績は１件とし、テクリス登録業務に限ります。
G30: 評価対象業務④の実績あり | H30: 10
G31: 評価対象業務の実績なし | H31: 0
B32: 技術力要件 | C32: 技術提案等 | D32: 技術提案 | F32: 的確性 | G32: 優れている | H32: 50 | I32: 50 | J32: =SUM(I32:I41) -> 80 | K32: 様式８ | L32: 特定テーマに対する取組方法等を具体的に記載してください。 特定テーマ：「本業務は、供用中の下水道管路施設（管渠、人孔）の改築詳細設計を行うものです。業務において留意すべき事項とその設計方針について具体的に記述してください。」 ※評価は記載内容に対する「的確性」、「実現性」について行います。 記載にあたって概念図、出典の明示できる図書、既往成果、写真等を用いることは支障ありませんが、本件のためにＣＧや詳細図面を作成することは求めません。 的確性： 「地形、環境、地域特性などの与条件との整合性が高い場合」や、「着眼点、問題点、解決方法などが示されている場合」など的確性が高い場合は優位に評価します。 実現性： 「利用しようとする技術基準・資料が適切である場合」や、「提案内容を裏付ける類似実績などが明示されている場合」など実現性が高い場合は優位に評価します。
G33: 概ね優れている | H33: 45
G34: 良好である | H34: 40
G35: 概ね良好である | H35: 35
G36: 上記以外 | H36: 0
F37: 実現性 | G37: 優れている | H37: 30 | I37: 30
G38: 概ね優れている | H38: 25
G39: 良好である | H39: 20
G40: 概ね良好である | H40: 15
G41: 上記以外 | H41: 0
I42: 合計 | J42: =SUM(J5:J41) -> 163 | L42: ※技術提案書の作成の留意事項及び提出資料は、「技術提案書作成等説明書」で必ず確認してください。

Sheet 技術提案書提出届
O2: 令和 年 月 日
A5: 技術提案書提出届
A8: 三重県知事 あて
J11: 住 所
J13: 会 社 名
J15: 代表者氏名
A19: 業 務 名 | E19: ： | F19: 令和8年度 国補北勢北部低率 第1103－2分2002号
F20: 北勢沿岸流域下水道（北部・南部処理区）
F21: 桑名幹線ほか管路改築詳細設計業務委託
B23: 上記業務の技術提案書を提出します。 なお、本技術提案書の記載内容並びに確認資料の内容は、事実と相違ないことを誓約します。 また、契約に至った場合は、本技術提案書の記載内容を業務計画書に反映します。 問い合わせ先は次のとおりです。
C30: 【問い合わせ先】
D31: 担当者 | G31: ： | H31: ○○ ○○
D32: 部 署 | G32: ： | H32: ○○本店 ○○部 ○○課
D33: 住 所 | G33: ： | H33: ○○県 ○○市 ○○
D34: 電話番号 | G34: ： | H34: ＊＊＊－＊＊＊＊－＊＊＊＊
D35: ＦＡＸ | G35: ： | H35: ＊＊＊－＊＊＊＊－＊＊＊＊
D36: Ｅ-mail | G36: ：

Sheet 様式１ 技術評価点申告書
B1: 様式１ 技術評価点申告書
G2: 会社名
B3: 大項目 | D3: 中項目 | F3: 小項目 | G3: 小項目配点 | H3: 技術評価点 | J3: 各評価項目の 自己評価 | K3: 自己 評定点
H4: 配点 | I4: 評価基準
B5: =IF(評価項目一覧!B5="","",+評価項目一覧!B5) -> 企業の能力等 | C5: =IF(評価項目一覧!C5="","",+評価項目一覧!C5) -> 社会貢献度 | D5: =IF(評価項目一覧!D5="","",+評価項目一覧!D5) -> 社会貢献度 | F5: =IF(評価項目一覧!F5="","",+評価項目一覧!F5) -> ① 男女共同参画活動実績 ② 障がい者雇用実績 ③ 環境マネジメントシステムの認証 ④人権に関する取組実績 | G5: =IF(評価項目一覧!I5="","",+評価項目一覧!I5) -> 6 | H5: =IF(評価項目一覧!G5="","",+評価項目一覧!G5) -> 左欄の①～④のうち、該当する項目数 | K5: =IF(J5="","",IF(J5=I6,H6,IF(J5=I7,H7,IF(J5=I8,H8,IF(J5=I9,H9,IF(J5=I10,H10))))))
H6: =IF(評価項目一覧!H6="","",+評価項目一覧!H6) -> 6 | I6: =IF(評価項目一覧!G6="","",+評価項目一覧!G6) -> ４項目
H7: =IF(評価項目一覧!H7="","",+評価項目一覧!H7) -> 5 | I7: =IF(評価項目一覧!G7="","",+評価項目一覧!G7) -> ３項目
H8: =IF(評価項目一覧!H8="","",+評価項目一覧!H8) -> 4 | I8: =IF(評価項目一覧!G8="","",+評価項目一覧!G8) -> ２項目
H9: =IF(評価項目一覧!H9="","",+評価項目一覧!H9) -> 3 | I9: =IF(評価項目一覧!G9="","",+評価項目一覧!G9) -> １項目
H10: =IF(評価項目一覧!H10="","",+評価項目一覧!H10) -> 0 | I10: =IF(評価項目一覧!G10="","",+評価項目一覧!G10) -> 実績（認証取得）なし
C11: =IF(評価項目一覧!C11="","",+評価項目一覧!C11) -> 企業の技術力等 | D11: =IF(評価項目一覧!D11="","",+評価項目一覧!D11) -> 企業の技術力等 | F11: =IF(評価項目一覧!F11="","",+評価項目一覧!F11) -> 品質マネジメントシステムの認証 | G11: =IF(評価項目一覧!I11="","",+評価項目一覧!I11) -> 2 | H11: =IF(評価項目一覧!H11="","",+評価項目一覧!H11) -> 2 | I11: =IF(評価項目一覧!G11="","",+評価項目一覧!G11) -> 有 | K11: =IF(J11="","",IF(J11=I11,H11,IF(J11=I12,H12)))
H12: =IF(評価項目一覧!H12="","",+評価項目一覧!H12) -> 0 | I12: =IF(評価項目一覧!G12="","",+評価項目一覧!G12) -> 無
F13: =IF(評価項目一覧!F13="","",+評価項目一覧!F13) -> 業務成績 | G13: =IF(評価項目一覧!I13="","",+評価項目一覧!I13) -> 5 | H13: =IF(評価項目一覧!H13="","",+評価項目一覧!H13) -> 5 | I13: =IF(評価項目一覧!G13="","",+評価項目一覧!G13) -> ８５点以上 | K13: =IF(NOT(ISNUMBER(J13)),"",IF(J13="","",IF(J13>100,"",IF(J13>=85,H13,IF(J13>=80,H14,IF(J13>=75,H15,IF(J13>=70,H16,IF(70>J13,0,""))))))))
H14: =IF(評価項目一覧!H14="","",+評価項目一覧!H14) -> 4 | I14: =IF(評価項目一覧!G14="","",+評価項目一覧!G14) -> ８０点以上８５点未満
H15: =IF(評価項目一覧!H15="","",+評価項目一覧!H15) -> 3 | I15: =IF(評価項目一覧!G15="","",+評価項目一覧!G15) -> ７５点以上８０点未満
H16: =IF(評価項目一覧!H16="","",+評価項目一覧!H16) -> 2 | I16: =IF(評価項目一覧!G16="","",+評価項目一覧!G16) -> ７０点以上７５点未満
H17: =IF(評価項目一覧!H17="","",+評価項目一覧!H17) -> 0 | I17: =IF(評価項目一覧!G17="","",+評価項目一覧!G17) -> ７０点未満
F18: =IF(評価項目一覧!F18="","",+評価項目一覧!F18) -> 評価対象業務の実績 | G18: =IF(評価項目一覧!I18="","",+評価項目一覧!I18) -> 20 | H18: =IF(評価項目一覧!H18="","",+評価項目一覧!H18) -> 20 | I18: =IF(評価項目一覧!G18="","",+評価項目一覧!G18) -> 評価対象業務①の実績あり | K18: =IF(J18="","",VLOOKUP(J18,評価項目一覧!G18:H20,2,FALSE))
H19: =IF(評価項目一覧!H19="","",+評価項目一覧!H19) -> 10 | I19: =IF(評価項目一覧!G19="","",+評価項目一覧!G19) -> 評価対象業務②の実績あり
H20: =IF(評価項目一覧!H20="","",+評価項目一覧!H20) -> 0 | I20: =IF(評価項目一覧!G20="","",+評価項目一覧!G20) -> 評価対象業務の実績なし
B21: =IF(評価項目一覧!B21="","",+評価項目一覧!B21) -> 技術者要件 | C21: =IF(評価項目一覧!C21="","",+評価項目一覧!C21) -> 管理技術者 | D21: =IF(評価項目一覧!D21="","",+評価項目一覧!D21) -> 業務執行技術力 | F21: =IF(評価項目一覧!F21="","",+評価項目一覧!F21) -> 評価対象業務の実績 | G21: =IF(評価項目一覧!I21="","",+評価項目一覧!I21) -> 25 | H21: =IF(評価項目一覧!H21="","",+評価項目一覧!H21) -> 25 | I21: =IF(評価項目一覧!G21="","",+評価項目一覧!G21) -> 評価対象業務③の実績あり | K21: =IF(J21="","",VLOOKUP(J21,評価項目一覧!G21:H23,2,FALSE))
H22: =IF(評価項目一覧!H22="","",+評価項目一覧!H22) -> 15 | I22: =IF(評価項目一覧!G22="","",+評価項目一覧!G22) -> 評価対象業務④の実績あり
H23: =IF(評価項目一覧!H23="","",+評価項目一覧!H23) -> 0 | I23: =IF(評価項目一覧!G23="","",+評価項目一覧!G23) -> 評価対象業務の実績なし
D24: =IF(評価項目一覧!D24="","",+評価項目一覧!D24) -> 手持ち業務件数 | F24: =IF(評価項目一覧!F24="","",+評価項目一覧!F24) -> 管理技術者の手持ち業務件数 | G24: =IF(評価項目一覧!I24="","",+評価項目一覧!I24) -> 5 | H24: =IF(評価項目一覧!H24="","",+評価項目一覧!H24) -> 5 | I24: =IF(評価項目一覧!G24="","",+評価項目一覧!G24) -> ０件～２件 | K24: =IF(J24="","",IF(J24=I24,H24,IF(J24=I25,H25,IF(J24=I26,H26,IF(J24=I27,H27,IF(J24=I28,H28))))))
H25: =IF(評価項目一覧!H25="","",+評価項目一覧!H25) -> 4 | I25: =IF(評価項目一覧!G25="","",+評価項目一覧!G25) -> ３件～５件
H26: =IF(評価項目一覧!H26="","",+評価項目一覧!H26) -> 3 | I26: =IF(評価項目一覧!G26="","",+評価項目一覧!G26) -> ６件～７件
H27: =IF(評価項目一覧!H27="","",+評価項目一覧!H27) -> 2 | I27: =IF(評価項目一覧!G27="","",+評価項目一覧!G27) -> ８件～９件
H28: =IF(評価項目一覧!H28="","",+評価項目一覧!H28) -> 0 | I28: =IF(評価項目一覧!G28="","",+評価項目一覧!G28) -> １０件以上
C29: =IF(評価項目一覧!C29="","",+評価項目一覧!C29) -> 照査技術者 | D29: =IF(評価項目一覧!D29="","",+評価項目一覧!D29) -> 業務執行技術力 | F29: =IF(評価項目一覧!F29="","",+評価項目一覧!F29) -> 評価対象業務の実績 | G29: =IF(評価項目一覧!I29="","",+評価項目一覧!I29) -> 20 | H29: =IF(評価項目一覧!H29="","",+評価項目一覧!H29) -> 20 | I29: =IF(評価項目一覧!G29="","",+評価項目一覧!G29) -> 評価対象業務③の実績あり | K29: =IF(J29="","",VLOOKUP(J29,評価項目一覧!G29:H31,2,FALSE))
H30: =IF(評価項目一覧!H30="","",+評価項目一覧!H30) -> 10 | I30: =IF(評価項目一覧!G30="","",+評価項目一覧!G30) -> 評価対象業務④の実績あり
H31: =IF(評価項目一覧!H31="","",+評価項目一覧!H31) -> 0 | I31: =IF(評価項目一覧!G31="","",+評価項目一覧!G31) -> 評価対象業務の実績なし
J32: 合計 | K32: =SUM(K5:K31) -> 0
B34: 【記入上の注意】
B35: ・ | D35: 黄色着色のセルは、該当する数値を直接入力してください。技術評価点は、自動計算により表示されます。
B36: ・ | D36: 橙色着色のセルは、セル中から該当する項目を選択してください。技術評価点は、選択した内容に応じて自動で表示されます。
B37: ・ | C37: 評価項目及び評価基準の詳細については、「評価項目一覧」及び「技術提案書作成等説明書」で確認してください。
B38: ・ | C38: このシートは「評価項目一覧」とリンクしています。自己加算点が表示されていない場合は評価しません。

Sheet 様式２企業
A1: 様式２ | F1: 企業の能力等に関する技術資料
P3: 会社名：
A5: 社会貢献度 | F5: ① | H5: 男女共同参画活動実績の有無
F6: ② | H6: 障がい者雇用実績の有無
F7: ③ | H7: 環境マネジメントシステムの認証の有無
F8: ④ | H8: 人権に関する取組実績
A9: 企業の技術力等 | F9: 業務実績 | I9: テクリス 登録番号
I10: 業務名称
A13: 注１： | C13: 社会貢献度の各項目で実績（認証取得）の有無をプルダウンで選択してください。
A14: 注２： | C14: 企業の技術力等で評価対象業務の実績がある場合は、テクリス登録番号及び業務名称を記載してください。

Sheet 様式３管理
A1: 様式３ | F1: 管理技術者に関する技術資料
O3: 会社名：
A5: 管理技術者の経歴
A6: ①氏名 | C6: （ふりがな） | K6: ②生年月日（西暦）
N7: 年 | P7: 月 | R7: 日
A8: ③所属
A10: ④評価対象業務
A11: テクリス 登録番号
A12: 業務名称
A15: ⑤手持ち業務の状況
A16: 業務名称 【管理（主任）技術者又は担当技術者として従事している業務】 | T16: 発注機関名
A17: 1
A19: 2
A21: 3
A23: 4
A25: 5
A27: 6
A29: 7
A31: 8
A33: 9
A35: 10
B37: 注１： | C37: ①欄の氏名（ふりがな）は、必ず記載してください。
B38: 注２： | C38: ②欄の生年月日は、審査・評価とは関係ありませんが、統計上必要なため記載してください。
B39: 注３： | C39: ④欄の評価対象業務の実績がある場合は、テクリス登録番号及び業務名称を記載してください。
B40: 注４： | C40: ⑤欄の手持ち業務の状況は、金額を問わず全ての測量業務及び設計業務を記載してください。
C41: ただし、単価契約による業務は、手持ち業務に含みません。
C42: また、手持ち業務が１１件以上ある場合は、１０件まで記載してください。

Sheet 様式６照査
A1: 様式６ | F1: 照査技術者に関する技術資料
O3: 会社名：
A5: 照査技術者の経歴
A6: ①氏名 | C6: （ふりがな） | K6: ②生年月日（西暦）
N7: 年 | P7: 月 | R7: 日
A8: ③評価対象業務実績
A9: テクリス 登録番号
A10: 業務名称
B13: 注１： | C13: ①欄の氏名（ふりがな）は、必ず記載してください。
B14: 注２： | C14: ②欄の生年月日は、審査・評価とは関係ありませんが、統計上必要なため記載してください。
B15: 注３： | C15: ③欄の評価対象業務の実績がある場合は、テクリス登録番号及び業務名称を記載してください。

Sheet 様式８
A1: 様式８ | F1: 技術力要件に関する技術資料
O2: 会社名：
A3: 技術提案
A4: 特定テーマ： | D4: 本業務は、供用中の下水道管路施設（管渠、人孔）の改築詳細設計を行うものです。業務において留意すべき事項とその設計方針について具体的に記述してください。
