Workbook

Sheet 評価項目(標準)
M1: 土木一式工事（特別簡易型）（農業農村整備事業） 【令和８年６月版】
B2: 特別簡易型 | D2: 総合評価方式評価項目一覧 【土木一式工事（農業農村整備事業）】 除算方式 | J2: 工事名： | K2: 紀宝中部２期地区県営中山間事業農用９号（高岡）ほか工事
B3: 大項目 | D3: 中項目 | E3: 小項目 | F3: 評価基準 | I3: 加算点 | L3: 様式 | M3: 評価内容等
I4: 配点 | J4: 小項目 配点 | K4: 大項目 配点
B5: 企 業 の 能 力 等 | C5: 地域精通度・貢献度 | D5: 地域精通度 | E5: 本店等所在地 | F5: 南牟婁郡紀宝町内 | I5: 10 | J5: 10 | K5: =SUM(J5:J34) -> 75 | L5: 様式１ 様式２ | M5: 「本店及び建設業法上の主たる営業所」の所在地により評価します。 ・本店等の所在地を変更した場合、公告の前月から３６か月前までの期間の「１８か月以上連続した所在地」を評価の対象とします。
F6: 上記以外の熊野建設事務所管内 | I6: 0
E8: 施工箇所地域における工事実績 | F8: 南牟婁郡紀宝町内における工事実績あり | I8: 5 | J8: 5 | M8: 南牟婁郡紀宝町内において、単独又は共同企業体構成員（出資比率20％以上に限る）の元請として受注し、令和5年度以降に完成し、かつ、引渡しが済んでいる契約金額5百万円以上の工事の実績の有無により評価します。 ・評価対象の工事実績は１件とし、コリンズに登録された公共機関等発注の工事に限ります。
F9: 工事実績なし | I9: 0
D10: 地域貢献度 | E10: 多面的機能支払活動実績 | F10: 有 | I10: 1 | J10: 1 | M10: 令和７年度、令和８年度のいずれかにおける三重県内の多面的機能支払活動へ、企業の社会的責任（ＣＳＲ）として参加している実績の有無により評価します。 ・三重県の市町から多面的機能支払交付金に係る認定を受けた組織の活動に参加した実績に限ります。
F11: 無 | I11: 0
E12: 家畜伝染病発生等の緊急時における家畜処分 の運用協定等の評価 | F12: 「家畜処分の運用協定の実績」あり | I12: 9 | J12: 9 | M12: 家畜伝染病発生等の緊急時における「家畜処分の運用協定の実績」又は家畜伝染病発生等の緊急時における対応に向けた「研修会への参加実績」の有無により評価します。 ・「家畜処分の運用協定の実績」は、熊野農林事務所と締結した「家畜伝染病発生等の緊急時における家畜処分の運用協定」に基づいた研修（実地訓練）への参加実績（令和７年度、令和８年度のいずれか）を指します。 なお、「家畜処分の運用協定の実績」の評価については、「家畜伝染病発生等の緊急時における家畜処分の基本協定」を三重県と締結後、５年以上の継続した研修（実地訓練）を行っており、運用協定で定める緊急連絡応援体制ネットワークを確立している団体を対象とします。 ・「研修会への参加実績」は、県が認める家畜伝染病発生等の緊急時における対応に向けた研修会への参加実績（令和７年度、令和８年度のいずれか）を指します。 なお、「研修会への参加実績」の評価は、熊野農林事務所管内に「本店及び建設業法上の主たる営業所」又は「建設業法上の営業所」を有する企業に限ります。 ・「家畜処分の運用協定の実績」と「研修会への参加実績」は重複して評価しません。
F13: 「研修会への参加実績」あり | I13: 3
F14: 実績なし | I14: 0
C15: 社会貢献度 | D15: 社会貢献度 | E15: 県内産資材の使用 | F15: 全て県内産を使用 | I15: 5 | J15: 5 | M15: 当該工事を貴社が受注した際、当該工事において指定する主要資材を全て県内産とする場合に評価します。 ・当該工事において指定する主要資材は、生コンです。 ・県内産とは、三重県内の工場、採取場等で生産又は加工される資材を指します。 ※当該工事を契約後、「建設工事請負契約書の特約事項」に基づき履行を確認します。
F16: 上記以外 | I16: 0
E17: 県内企業による施工 | F17: 県内企業による施工の割合90％以上 | I17: 5 | J17: 5 | M17: 当該工事のうち、建設業法上の建設工事の県内企業による施工の割合により評価します。 ・県内企業とは、三重県内に「本店及び建設業法上の主たる営業所」を有する企業を指します。 ・元請直営施工、一次下請負及び二次下請負による施工を評価の対象とします。 県内企業による施工の割合 ＝ [ 契約金額(最終) － { 県外一次下請金額(最終) + 県外二次下請金額(最終) } ] ／ 契約金額(最終) ※当該工事を契約後、「建設工事請負契約書の特約事項」に基づき履行を確認します。
F18: 県内企業による施工の割合70％以上 | I18: 3
F19: 上記以外 | I19: 0
C20: 企業の技術力等 | D20: 工事実績 | E20: 企業の工事実績 | F20: 評価対象工事の実績あり | I20: 20 | J20: 20 | M20: 三重県内において、単独又は共同企業体構成員（出資比率20％以上に限る）の元請として受注し、平成23年度以降に完成し、かつ、引渡しが済んでいる契約金額2千5百万円以上の評価対象工事の実績の有無により評価します。 ・「評価対象工事」とは、土木一式工事で発注された海岸又は河川工事で、コンクリート構造物あるいは護岸工を含む工事を指します。 ・評価対象の工事実績は１件とし、コリンズに登録された公共機関等発注の工事に限ります。
F21: 評価対象工事の実績なし | I21: 0
D22: 工事成績 | E22: 申告工事成績点又は総合点 | F22: 申告工事成績点が８５点以上の場合 | I22: 10 | J22: 10 | M22: 【申告工事成績点】 次の①又は②を申告工事成績点とし、評価基準に記載の計算式１により評価します。ただし、申告工事成績点が８５点以上の場合は１０点、７５点未満の場合は５点とします。 ①令和５年４月１日から当該工事の入札公告日までに三重県が通知（工事成績認定書）した土木一式工事の評定点のうち、申告された任意の件数（ｎ件）の合計に７５点を加え、ｎ＋１で割った値とする。ただし、申告できるのは10件までとします。 申告工事成績点 ＝（申告されたｎ件の評定点の合計＋７５）／（ｎ＋１）（小数第２位以下切り捨て） ②国土交通省中部地方整備局又は国土交通省近畿地方整備局が令和７年度に公表した工事成績評定平均点とします。 【総合点】 ①及び②が無い場合は、総合点を評価基準に記載の計算式２（小数第２位以下切り捨て）により評価します。ただし、総合点が９７０点以上の場合は５点、８４０点未満の場合は０点とします。 ・総合点とは入札公告日において最新の三重県建設工事等入札参加資格者名簿に記載された総合点とします。 ・上記全てに該当がない場合の加算点は０点です。
F23: 申告工事成績点が７５点以上８５点未満の場合 計算式１ （申告工事成績点－７５点）×５／１０＋５点
I24: ～
F26: 申告工事成績点が７５点未満の場合 | I26: 5
F27: 総合点が９７０点以上の場合 | I27: 5
F28: 総合点が８４０点以上９７０点未満の場合 計算式２ （総合点－８４０）／（９７０－８４０）×５
I29: ～
F31: 総合点が８４０点未満の場合 | I31: 0
D32: 契約件数 | E32: 土木一式工事の契約件数 | F32: ０件 | I32: 10 | J32: 10 | M32: 入札公告日における三重県発注の契約金額2千5百万円以上の土木一式工事の契約件数により評価します。なお、共同企業体工事については、出資比率にかかわらず契約件数１件としてカウントします。 ・小規模、雪氷、地域維持型維持修繕等の業務委託は、件数に含みません。
F33: １件 | I33: 5
F34: ２件以上 | I34: 0
B35: 総合評価方式の不履行による 加算点の減点 | E35: 当該工事の入札公告日が、三重県が総合評価方式で発注した工事で不履行による減点措置が課されている期間内である場合、「技術提案等不履行確定通知書等」に記載した減点を行います。 | I35: △換算前 加算点満点 ×1割 ×件数 | L35: 様式１ | M35: 三重県が総合評価方式で発注した工事で、技術資料又は施工体制確認資料に記載された事項に不履行があった場合の減点は、次式により行います。 減点後の貴社の換算前加算点合計＝Ａ－（Ｂ×０．１×Ｃ） Ａ：貴社の換算前加算点合計 Ｂ：当該工事の換算前加算点満点 Ｃ：不履行工事件数 不履行工事件数とは、当該工事の入札公告日が「技術提案等不履行確定通知書」で通知された不履行による減点の対象となる期間内である工事の件数とします。
B36: 指名停止措置による 加算点の減点 | E36: 当該工事の入札公告日が、三重県発注工事にかかる贈賄、公契約関係競売等妨害又は談合により役員等又は使用人が逮捕、又は逮捕を経ないで公訴を提起されたことによる指名停止に伴う減点措置期間内である場合、減点を行います。 | I36: △換算前加算点満点 ×1割 | L36: 様式１ | M36: 当該工事の入札公告日が、三重県発注工事にかかる贈賄、公契約関係競売等妨害又は談合により役員等又は使用人が逮捕、又は逮捕を経ないで公訴を提起されたことによる指名停止に伴う減点措置期間内である場合の減点は、次式により行います。 減点後の貴社の換算前加算点合計＝Ａ－（Ｂ×０．１） Ａ：貴社の換算前加算点合計 Ｂ：当該工事の換算前加算点満点 ※減点措置期間は指名停止期間の終了日の翌日から１年間とします。 なお、対象となる指名停止措置は、当該工事入札公告日の前年度４月１日から当該工事入札公告日までの期間に指名停止期間が１日でも重複するものとします。
I37: 換算前 加算点 満点 | J37: =SUM(K5:K34) -> 75 | M37: ※技術資料の作成方法及び提出資料は、「技術資料作成上の留意事項」を必ず確認してください。
I38: 加算点 満点 | J38: 10
B40: 当該工事で、技術資料又は施工体制確認資料に記載の内容に不履行があった場合の取り扱い | E40: 当該工事の履行確認を伴う評価項目に不履行があった場合、「技術提案等不履行確定通知書」により不履行項目・不履行による減点の対象となる期間などを通知します。 「技術提案等不履行確定通知書」に記載した期間に三重県が総合評価方式で発注する工事（以下「発注工事」という。）で、「貴社の換算前加算点合計」から「発注工事の換算前加算点満点」の1割を減点します。 貴社が特定建設工事共同企業体又は経常建設共同企業体の構成員である場合も、「発注工事の換算前加算点満点」の１割を減点します。

Sheet 届出書
AA3: 令和 年 月 日
A5: 技 術 資 料 届 出 書
B9: 三重県知事 | H9: あて
O11: 住 所
O13: 会社名
O15: 代表者氏名
E18: 工 事 名 | F18: ： | G18: 令和8年度県営中山間（補助）第 4105-分0004号
G19: 紀宝中部２期地区県営中山間事業農用９号（高岡）ほか工事
B25: 上記工事の技術資料を提出します。なお、地方自治法施行令（昭和22年政令第16号）
B26: 第167条の4の規定に該当する者でないこと並びに確認資料の内容は、事実と相違ない
B27: ことを誓約します。問い合わせ先は次のとおりです。
C30: 【問い合わせ先】
D31: 担当者 | G31: ： | H31: ○○ ○○
D32: 部 署 | G32: ： | H32: ○○本店 ○○部 ○○課
D33: 住 所 | G33: ： | H33: ○○県○○市○○
D34: 電話番号 | G34: ： | H34: ＊＊＊－＊＊＊＊－＊＊＊＊
D35: ＦＡＸ | G35: ： | H35: ＊＊＊－＊＊＊＊－＊＊＊＊
D36: Ｅ-mail | G36: ：

Sheet 様式１
B1: （様式１） 加算点申告書
F2: 会社名
B3: 大項目 | D3: 中項目 | E3: 小項目 | F3: 加算点 | G3: 評価基準 | I3: 各評価項目の 自己評価 | J3: 自己 加算点
G4: 配点 | H4: 基準
B5: =IF('評価項目(標準)'!B5="","",+'評価項目(標準)'!B5) -> 企 業 の 能 力 等 | C5: =IF(+'評価項目(標準)'!C5="","",+'評価項目(標準)'!C5) -> 地域精通度・貢献度 | D5: =IF(+'評価項目(標準)'!D5="","",+'評価項目(標準)'!D5) -> 地域精通度 | E5: =IF(+'評価項目(標準)'!E5="","",+'評価項目(標準)'!E5) -> 本店等所在地 | F5: =+IF(+'評価項目(標準)'!J5="","",+'評価項目(標準)'!J5) -> 10 | G5: =+IF(+'評価項目(標準)'!I5="","",+'評価項目(標準)'!I5) -> 10 | H5: =+IF(+'評価項目(標準)'!F5="","",+'評価項目(標準)'!F5) -> 南牟婁郡紀宝町内 | J5: =IF(I5="","",VLOOKUP(I5,'評価項目(標準)'!F5:I7,4,FALSE))
G6: =+IF(+'評価項目(標準)'!I6="","",+'評価項目(標準)'!I6) -> 0 | H6: =+IF(+'評価項目(標準)'!F6="","",+'評価項目(標準)'!F6) -> 上記以外の熊野建設事務所管内
G7: =+IF(+'評価項目(標準)'!I7="","",+'評価項目(標準)'!I7) | H7: =+IF(+'評価項目(標準)'!F7="","",+'評価項目(標準)'!F7)
E8: =IF(+'評価項目(標準)'!E8="","",+'評価項目(標準)'!E8) -> 施工箇所地域における工事実績 | F8: =+IF(+'評価項目(標準)'!J8="","",+'評価項目(標準)'!J8) -> 5 | G8: =+IF(+'評価項目(標準)'!I8="","",+'評価項目(標準)'!I8) -> 5 | H8: =+IF(+'評価項目(標準)'!F8="","",+'評価項目(標準)'!F8) -> 南牟婁郡紀宝町内における工事実績あり | J8: =IF(I8="","",IF(I8=H8,G8,IF(I8=H9,G9)))
G9: =+IF(+'評価項目(標準)'!I9="","",+'評価項目(標準)'!I9) -> 0 | H9: =+IF(+'評価項目(標準)'!F9="","",+'評価項目(標準)'!F9) -> 工事実績なし
D10: =IF(+'評価項目(標準)'!D10="","",+'評価項目(標準)'!D10) -> 地域貢献度 | E10: =IF(+'評価項目(標準)'!E10="","",+'評価項目(標準)'!E10) -> 多面的機能支払活動実績 | F10: =+IF(+'評価項目(標準)'!J10="","",+'評価項目(標準)'!J10) -> 1 | G10: =+IF(+'評価項目(標準)'!I10="","",+'評価項目(標準)'!I10) -> 1 | H10: =+IF(+'評価項目(標準)'!F10="","",+'評価項目(標準)'!F10) -> 有 | J10: =IF(I10="","",VLOOKUP(I10,'評価項目(標準)'!F10:I11,4,FALSE))
G11: =+IF(+'評価項目(標準)'!I11="","",+'評価項目(標準)'!I11) -> 0 | H11: =+IF(+'評価項目(標準)'!F11="","",+'評価項目(標準)'!F11) -> 無
E12: =IF(+'評価項目(標準)'!E12="","",+'評価項目(標準)'!E12) -> 家畜伝染病発生等の緊急時における家畜処分 の運用協定等の評価 | F12: =+IF(+'評価項目(標準)'!J12="","",+'評価項目(標準)'!J12) -> 9 | G12: =+IF(+'評価項目(標準)'!I12="","",+'評価項目(標準)'!I12) -> 9 | H12: =+IF(+'評価項目(標準)'!F12="","",+'評価項目(標準)'!F12) -> 「家畜処分の運用協定の実績」あり | J12: =IF(I12="","",VLOOKUP(I12,'評価項目(標準)'!F12:I14,4,FALSE))
G13: =+IF(+'評価項目(標準)'!I13="","",+'評価項目(標準)'!I13) -> 3 | H13: =+IF(+'評価項目(標準)'!F13="","",+'評価項目(標準)'!F13) -> 「研修会への参加実績」あり
G14: =+IF(+'評価項目(標準)'!I14="","",+'評価項目(標準)'!I14) -> 0 | H14: =+IF(+'評価項目(標準)'!F14="","",+'評価項目(標準)'!F14) -> 実績なし
C15: =IF(+'評価項目(標準)'!C15="","",+'評価項目(標準)'!C15) -> 社会貢献度 | D15: =IF(+'評価項目(標準)'!D15="","",+'評価項目(標準)'!D15) -> 社会貢献度 | E15: =IF(+'評価項目(標準)'!E15="","",+'評価項目(標準)'!E15) -> 県内産資材の使用 | F15: =+IF(+'評価項目(標準)'!J15="","",+'評価項目(標準)'!J15) -> 5 | G15: =+IF(+'評価項目(標準)'!I15="","",+'評価項目(標準)'!I15) -> 5 | H15: =+IF(+'評価項目(標準)'!F15="","",+'評価項目(標準)'!F15) -> 全て県内産を使用 | J15: =IF(I15="","",IF(I15=H15,G15,IF(I15=H16,G16)))
G16: =+IF(+'評価項目(標準)'!I16="","",+'評価項目(標準)'!I16) -> 0 | H16: =+IF(+'評価項目(標準)'!F16="","",+'評価項目(標準)'!F16) -> 上記以外
E17: =IF(+'評価項目(標準)'!E17="","",+'評価項目(標準)'!E17) -> 県内企業による施工 | F17: =+IF(+'評価項目(標準)'!J17="","",+'評価項目(標準)'!J17) -> 5 | G17: =+IF(+'評価項目(標準)'!I17="","",+'評価項目(標準)'!I17) -> 5 | H17: =+IF(+'評価項目(標準)'!F17="","",+'評価項目(標準)'!F17) -> 県内企業による施工の割合90％以上 | J17: =IF(I17="","",VLOOKUP(I17,'評価項目(標準)'!F17:I19,4,FALSE))
G18: =+IF(+'評価項目(標準)'!I18="","",+'評価項目(標準)'!I18) -> 3 | H18: =+IF(+'評価項目(標準)'!F18="","",+'評価項目(標準)'!F18) -> 県内企業による施工の割合70％以上
G19: =+IF(+'評価項目(標準)'!I19="","",+'評価項目(標準)'!I19) -> 0 | H19: =+IF(+'評価項目(標準)'!F19="","",+'評価項目(標準)'!F19) -> 上記以外
C20: =IF(+'評価項目(標準)'!C20="","",+'評価項目(標準)'!C20) -> 企業の技術力等 | D20: =IF(+'評価項目(標準)'!D20="","",+'評価項目(標準)'!D20) -> 工事実績 | E20: =IF(+'評価項目(標準)'!E20="","",+'評価項目(標準)'!E20) -> 企業の工事実績 | F20: =+IF(+'評価項目(標準)'!J20="","",+'評価項目(標準)'!J20) -> 20 | G20: =+IF(+'評価項目(標準)'!I20="","",+'評価項目(標準)'!I20) -> 20 | H20: =+IF(+'評価項目(標準)'!F20="","",+'評価項目(標準)'!F20) -> 評価対象工事の実績あり | J20: =IF(I20="","",VLOOKUP(I20,'評価項目(標準)'!F20:I21,4,FALSE))
G21: =+IF(+'評価項目(標準)'!I21="","",+'評価項目(標準)'!I21) -> 0 | H21: =+IF(+'評価項目(標準)'!F21="","",+'評価項目(標準)'!F21) -> 評価対象工事の実績なし
D22: =IF(+'評価項目(標準)'!D22="","",+'評価項目(標準)'!D22) -> 工事成績 | E22: =IF(+'評価項目(標準)'!E22="","",+'評価項目(標準)'!E22) -> 申告工事成績点又は総合点 | F22: =+IF(+'評価項目(標準)'!J22="","",+'評価項目(標準)'!J22) -> 10 | G22: =IF(+'評価項目(標準)'!I22="","",+'評価項目(標準)'!I22) -> 10 | H22: =IF(+'評価項目(標準)'!F22="","",+'評価項目(標準)'!F22) -> 申告工事成績点が８５点以上の場合 | I22: 【申告工事成績点】 | J22: =IF(COUNTA(I25,I28)=0,"",IF(COUNTA(I25,I28)=2,"入力は【申告工事成績点】、【総合点】のいずれかにして下さい",IF(AND(COUNTA(I25)=1,I23=""),"いずれの【申告工事成績点】なのか、「三重県、中部地整、近畿地整」より選択してください",IF(I28>=970,5,IF(AND(I28<970,I28>=840),ROUNDDOWN((I28-840)/(970-840)*5,1),IF(I28<840,0,)))+IF(I25>=85,F22,IF(AND(I25<75,I25>=1),5,IF(AND(I25<85,I25>=75),ROUNDDOWN((I25-75)*5/10+5,1)))))))
G23: =IF(+'評価項目(標準)'!I23="","",+'評価項目(標準)'!I23) | H23: =IF(+'評価項目(標準)'!F23="","",+'評価項目(標準)'!F23) -> 申告工事成績点が７５点以上８５点未満の場合 計算式１ （申告工事成績点－７５点）×５／１０＋５点
G24: =IF(+'評価項目(標準)'!I24="","",+'評価項目(標準)'!I24) -> ～
G25: =IF(+'評価項目(標準)'!I25="","",+'評価項目(標準)'!I25)
G26: =IF(+'評価項目(標準)'!I26="","",+'評価項目(標準)'!I26) -> 5 | H26: =IF(+'評価項目(標準)'!F26="","",+'評価項目(標準)'!F26) -> 申告工事成績点が７５点未満の場合
D27: =IF(+'評価項目(標準)'!#REF!="","",+'評価項目(標準)'!#REF!) -> #REF! | E27: =IF(+'評価項目(標準)'!#REF!="","",+'評価項目(標準)'!#REF!) -> #REF! | G27: =IF(+'評価項目(標準)'!I27="","",+'評価項目(標準)'!I27) -> 5 | H27: =IF(+'評価項目(標準)'!F27="","",+'評価項目(標準)'!F27) -> 総合点が９７０点以上の場合 | I27: 【総合点】
G28: =IF(+'評価項目(標準)'!I28="","",+'評価項目(標準)'!I28) | H28: =IF(+'評価項目(標準)'!F28="","",+'評価項目(標準)'!F28) -> 総合点が８４０点以上９７０点未満の場合 計算式２ （総合点－８４０）／（９７０－８４０）×５
G29: =IF(+'評価項目(標準)'!I29="","",+'評価項目(標準)'!I29) -> ～
G30: =IF(+'評価項目(標準)'!I30="","",+'評価項目(標準)'!I30)
G31: =IF(+'評価項目(標準)'!I31="","",+'評価項目(標準)'!I31) -> 0 | H31: =IF(+'評価項目(標準)'!F31="","",+'評価項目(標準)'!F31) -> 総合点が８４０点未満の場合
D32: =IF(+'評価項目(標準)'!D32="","",+'評価項目(標準)'!D32) -> 契約件数 | E32: =IF(+'評価項目(標準)'!E32="","",+'評価項目(標準)'!E32) -> 土木一式工事の契約件数 | F32: =+IF(+'評価項目(標準)'!J32="","",+'評価項目(標準)'!J32) -> 10 | G32: =IF(+'評価項目(標準)'!I32="","",+'評価項目(標準)'!I32) -> 10 | H32: =IF(+'評価項目(標準)'!F32="","",+'評価項目(標準)'!F32) -> ０件 | J32: =IF(I32="","",VLOOKUP(I32,'評価項目(標準)'!F32:I34,4,FALSE))
G33: =IF(+'評価項目(標準)'!I33="","",+'評価項目(標準)'!I33) -> 5 | H33: =IF(+'評価項目(標準)'!F33="","",+'評価項目(標準)'!F33) -> １件
G34: =IF(+'評価項目(標準)'!I34="","",+'評価項目(標準)'!I34) -> 0 | H34: =IF(+'評価項目(標準)'!F34="","",+'評価項目(標準)'!F34) -> ２件以上
B35: =IF(+'評価項目(標準)'!B35="","",+'評価項目(標準)'!B35) -> 総合評価方式の不履行による 加算点の減点 | E35: =IF(+'評価項目(標準)'!E35="","",+'評価項目(標準)'!E35) -> 当該工事の入札公告日が、三重県が総合評価方式で発注した工事で不履行による減点措置が課されている期間内である場合、「技術提案等不履行確定通知書等」に記載した減点を行います。 | H35: =IF('評価項目(標準)'!I35="","",+'評価項目(標準)'!I35) -> △換算前 加算点満点 ×1割 ×件数 | J35: =IF(+I35="","",-(+'評価項目(標準)'!J37*0.1*I35))
B36: =IF(+'評価項目(標準)'!B36="","",+'評価項目(標準)'!B36) -> 指名停止措置による 加算点の減点 | E36: =IF(+'評価項目(標準)'!E36="","",+'評価項目(標準)'!E36) -> 当該工事の入札公告日が、三重県発注工事にかかる贈賄、公契約関係競売等妨害又は談合により役員等又は使用人が逮捕、又は逮捕を経ないで公訴を提起されたことによる指名停止に伴う減点措置期間内である場合、減点を行います。 | H36: =IF('評価項目(標準)'!I36="","",+'評価項目(標準)'!I36) -> △換算前加算点満点 ×1割 | J36: =IF(+I36="","",-(+'評価項目(標準)'!J37*0.1))
I37: 合計 | J37: =SUM(J5:J36) -> 0
B39: 【記入上の注意】
B40: ・ | D40: 黄色着色のセルは、該当する数値を直接入力してください。加算点は、自動計算により表示されます。
B41: ・ | D41: 橙色着色のセルは、セル中から該当する項目を選択してください。加算点は、選択した内容に応じて自動で表示されます。
...

Sheet 様式１【経常ＪＶ用】
B2: （様式１） 加算点申告書
F3: 会社名
B4: 大項目 | D4: 中項目 | E4: 小項目 | F4: 加算点 | G4: 評価基準 | I4: 構成員Ａの評価 | K4: 構成員Ｂの評価 | M4: 経常ＪＶの評価
G5: 配点 | H5: 基準 | I5: 各評価項目の 自己評価 | J5: 自己 加算点 | K5: 各評価項目の 自己評価 | L5: 自己 加算点
B6: =IF('評価項目(標準)'!B5="","",+'評価項目(標準)'!B5) -> 企 業 の 能 力 等 | C6: =IF(+'評価項目(標準)'!C5="","",+'評価項目(標準)'!C5) -> 地域精通度・貢献度 | D6: =IF(+'評価項目(標準)'!D5="","",+'評価項目(標準)'!D5) -> 地域精通度 | E6: =IF(+'評価項目(標準)'!E5="","",+'評価項目(標準)'!E5) -> 本店等所在地 | F6: =+IF(+'評価項目(標準)'!J5="","",+'評価項目(標準)'!J5) -> 10 | G6: =+IF(+'評価項目(標準)'!I5="","",+'評価項目(標準)'!I5) -> 10 | H6: =+IF(+'評価項目(標準)'!F5="","",+'評価項目(標準)'!F5) -> 南牟婁郡紀宝町内 | J6: =IF(I6="","",VLOOKUP(I6,'評価項目(標準)'!F5:I7,4,FALSE)) | K6: ― | L6: ― | M6: =J6
G7: =+IF(+'評価項目(標準)'!I6="","",+'評価項目(標準)'!I6) -> 0 | H7: =+IF(+'評価項目(標準)'!F6="","",+'評価項目(標準)'!F6) -> 上記以外の熊野建設事務所管内
G8: =+IF(+'評価項目(標準)'!I7="","",+'評価項目(標準)'!I7) | H8: =+IF(+'評価項目(標準)'!F7="","",+'評価項目(標準)'!F7)
E9: =IF(+'評価項目(標準)'!E8="","",+'評価項目(標準)'!E8) -> 施工箇所地域における工事実績 | F9: =+IF(+'評価項目(標準)'!J8="","",+'評価項目(標準)'!J8) -> 5 | G9: =+IF(+'評価項目(標準)'!I8="","",+'評価項目(標準)'!I8) -> 5 | H9: =+IF(+'評価項目(標準)'!F8="","",+'評価項目(標準)'!F8) -> 南牟婁郡紀宝町内における工事実績あり | J9: =IF(I9="","",IF(I9=H9,G9,IF(I9=H10,G10))) | L9: =IF(K9="","",IF(K9=H9,G9,IF(K9=H10,G10))) | M9: =IF(J9="","",IF(L9="","",ROUNDUP(AVERAGE(J9,L9),1)))
G10: =+IF(+'評価項目(標準)'!I9="","",+'評価項目(標準)'!I9) -> 0 | H10: =+IF(+'評価項目(標準)'!F9="","",+'評価項目(標準)'!F9) -> 工事実績なし
D11: =IF(+'評価項目(標準)'!D10="","",+'評価項目(標準)'!D10) -> 地域貢献度 | E11: =IF(+'評価項目(標準)'!E10="","",+'評価項目(標準)'!E10) -> 多面的機能支払活動実績 | F11: =+IF(+'評価項目(標準)'!J10="","",+'評価項目(標準)'!J10) -> 1 | G11: =+IF(+'評価項目(標準)'!I10="","",+'評価項目(標準)'!I10) -> 1 | H11: =+IF(+'評価項目(標準)'!F10="","",+'評価項目(標準)'!F10) -> 有 | J11: =IF(I11="","",VLOOKUP(I11,'評価項目(標準)'!F10:I11,4,FALSE)) | L11: =IF(K11="","",VLOOKUP(K11,'評価項目(標準)'!F10:I11,4,FALSE)) | M11: =IF(J11="","",IF(L11="","",ROUNDUP(AVERAGE(J11,L11),1)))
G12: =+IF(+'評価項目(標準)'!I11="","",+'評価項目(標準)'!I11) -> 0 | H12: =+IF(+'評価項目(標準)'!F11="","",+'評価項目(標準)'!F11) -> 無
E13: =IF(+'評価項目(標準)'!E12="","",+'評価項目(標準)'!E12) -> 家畜伝染病発生等の緊急時における家畜処分 の運用協定等の評価 | F13: =+IF(+'評価項目(標準)'!J12="","",+'評価項目(標準)'!J12) -> 9 | G13: =+IF(+'評価項目(標準)'!I12="","",+'評価項目(標準)'!I12) -> 9 | H13: =+IF(+'評価項目(標準)'!F12="","",+'評価項目(標準)'!F12) -> 「家畜処分の運用協定の実績」あり | J13: =IF(I13="","",VLOOKUP(I13,'評価項目(標準)'!F12:I14,4,FALSE)) | L13: =IF(K13="","",VLOOKUP(K13,'評価項目(標準)'!F12:I14,4,FALSE)) | M13: =IF(J13="","",IF(L13="","",ROUNDUP(AVERAGE(J13,L13),1)))
G14: =+IF(+'評価項目(標準)'!I13="","",+'評価項目(標準)'!I13) -> 3 | H14: =+IF(+'評価項目(標準)'!F13="","",+'評価項目(標準)'!F13) -> 「研修会への参加実績」あり
G15: =+IF(+'評価項目(標準)'!I14="","",+'評価項目(標準)'!I14) -> 0 | H15: =+IF(+'評価項目(標準)'!F14="","",+'評価項目(標準)'!F14) -> 実績なし
C16: =IF(+'評価項目(標準)'!C15="","",+'評価項目(標準)'!C15) -> 社会貢献度 | D16: =IF(+'評価項目(標準)'!D15="","",+'評価項目(標準)'!D15) -> 社会貢献度 | E16: =IF(+'評価項目(標準)'!E15="","",+'評価項目(標準)'!E15) -> 県内産資材の使用 | F16: =+IF(+'評価項目(標準)'!J15="","",+'評価項目(標準)'!J15) -> 5 | G16: =+IF(+'評価項目(標準)'!I15="","",+'評価項目(標準)'!I15) -> 5 | H16: =+IF(+'評価項目(標準)'!F15="","",+'評価項目(標準)'!F15) -> 全て県内産を使用 | J16: =IF(I16="","",IF(I16=H16,G16,IF(I16=H17,G17))) | K16: ― | L16: ― | M16: =J16
G17: =+IF(+'評価項目(標準)'!I16="","",+'評価項目(標準)'!I16) -> 0 | H17: =+IF(+'評価項目(標準)'!F16="","",+'評価項目(標準)'!F16) -> 上記以外
E18: =IF(+'評価項目(標準)'!E17="","",+'評価項目(標準)'!E17) -> 県内企業による施工 | F18: =+IF(+'評価項目(標準)'!J17="","",+'評価項目(標準)'!J17) -> 5 | G18: =+IF(+'評価項目(標準)'!I17="","",+'評価項目(標準)'!I17) -> 5 | H18: =+IF(+'評価項目(標準)'!F17="","",+'評価項目(標準)'!F17) -> 県内企業による施工の割合90％以上 | J18: =IF(I18="","",VLOOKUP(I18,'評価項目(標準)'!F17:I19,4,FALSE)) | K18: ― | L18: ― | M18: =J18
G19: =+IF(+'評価項目(標準)'!I18="","",+'評価項目(標準)'!I18) -> 3 | H19: =+IF(+'評価項目(標準)'!F18="","",+'評価項目(標準)'!F18) -> 県内企業による施工の割合70％以上
G20: =+IF(+'評価項目(標準)'!I19="","",+'評価項目(標準)'!I19) -> 0 | H20: =+IF(+'評価項目(標準)'!F19="","",+'評価項目(標準)'!F19) -> 上記以外
C21: =IF(+'評価項目(標準)'!C20="","",+'評価項目(標準)'!C20) -> 企業の技術力等 | D21: =IF(+'評価項目(標準)'!D20="","",+'評価項目(標準)'!D20) -> 工事実績 | E21: =IF(+'評価項目(標準)'!E20="","",+'評価項目(標準)'!E20) -> 企業の工事実績 | F21: =+IF(+'評価項目(標準)'!J20="","",+'評価項目(標準)'!J20) -> 20 | G21: =+IF(+'評価項目(標準)'!I20="","",+'評価項目(標準)'!I20) -> 20 | H21: =+IF(+'評価項目(標準)'!F20="","",+'評価項目(標準)'!F20) -> 評価対象工事の実績あり | J21: =IF(I21="","",VLOOKUP(I21,'評価項目(標準)'!F20:I21,4,FALSE)) | L21: =IF(K21="","",VLOOKUP(K21,'評価項目(標準)'!F20:I21,4,FALSE)) | M21: =IF(J21="","",IF(L21="","",ROUNDUP(AVERAGE(J21,L21),1)))
G22: =+IF(+'評価項目(標準)'!#REF!="","",+'評価項目(標準)'!#REF!) -> #REF! | H22: =+IF(+'評価項目(標準)'!#REF!="","",+'評価項目(標準)'!#REF!) -> #REF!
G23: =+IF(+'評価項目(標準)'!I21="","",+'評価項目(標準)'!I21) -> 0 | H23: =+IF(+'評価項目(標準)'!F21="","",+'評価項目(標準)'!F21) -> 評価対象工事の実績なし
D24: =IF(+'評価項目(標準)'!D22="","",+'評価項目(標準)'!D22) -> 工事成績 | E24: =IF(+'評価項目(標準)'!E22="","",+'評価項目(標準)'!E22) -> 申告工事成績点又は総合点 | F24: =+IF(+'評価項目(標準)'!J22="","",+'評価項目(標準)'!J22) -> 10 | G24: =IF(+'評価項目(標準)'!I22="","",+'評価項目(標準)'!I22) -> 10 | H24: =IF(+'評価項目(標準)'!F22="","",+'評価項目(標準)'!F22) -> 申告工事成績点が８５点以上の場合 | I24: 【申告工事成績点】 | J24: =IF(COUNTA(I27,I30)=0,"",IF(COUNTA(I27,I30)=2,"入力は【申告工事成績点】、【総合点】のいずれかにして下さい",IF(AND(COUNTA(I27)=1,I25=""),"いずれの【申告工事成績点】なのか、「三重県、中部地整、近畿地整」より選択してください",IF(I30>=970,5,IF(AND(I30<970,I30>=840),ROUNDDOWN((I30-840)/(970-840)*5,1),IF(I30<840,0,)))+IF(I27>=85,F24,IF(AND(I27<75,I27>=1),5,IF(AND(I27<85,I27>=75),ROUNDDOWN((I27-75)*5/10+5,1))))))) | K24: 【申告工事成績点】 | L24: =IF(COUNTA(K27,K30)=0,"",IF(COUNTA(K27,K30)=2,"入力は【申告工事成績点】、【総合点】のいずれかにして下さい",IF(AND(COUNTA(K27)=1,K25=""),"いずれの【申告工事成績点】なのか、「三重県、中部地整、近畿地整」より選択してください",IF(K30>=970,5,IF(AND(K30<970,K30>=840),ROUNDDOWN((K30-840)/(970-840)*5,1),IF(K30<840,0,)))+IF(K27>=85,F24,IF(AND(K27<75,K27>=1),5,IF(AND(K27<85,K27>=75),ROUNDDOWN((K27-75)*5/10+5,1))))))) | M24: =IF(J24="","",IF(L24="","",IF(COUNTA(I27,I30,K27,K30)>=3,"",IF(OR(ISTEXT(J24),ISTEXT(L24)),"",ROUNDUP(AVERAGE(J24,L24),1)))))
G25: =IF(+'評価項目(標準)'!I23="","",+'評価項目(標準)'!I23) | H25: =IF(+'評価項目(標準)'!F23="","",+'評価項目(標準)'!F23) -> 申告工事成績点が７５点以上８５点未満の場合 計算式１ （申告工事成績点－７５点）×５／１０＋５点
G26: =IF(+'評価項目(標準)'!I24="","",+'評価項目(標準)'!I24) -> ～ | M26: =J26 -> 0
G27: =IF(+'評価項目(標準)'!I25="","",+'評価項目(標準)'!I25)
G28: =IF(+'評価項目(標準)'!I26="","",+'評価項目(標準)'!I26) -> 5 | H28: =IF(+'評価項目(標準)'!F26="","",+'評価項目(標準)'!F26) -> 申告工事成績点が７５点未満の場合 | M28: =J28 -> 0
D29: =IF(+'評価項目(標準)'!D33="","",+'評価項目(標準)'!D33) | E29: =IF(+'評価項目(標準)'!E33="","",+'評価項目(標準)'!E33) | G29: =IF(+'評価項目(標準)'!I27="","",+'評価項目(標準)'!I27) -> 5 | H29: =IF(+'評価項目(標準)'!F27="","",+'評価項目(標準)'!F27) -> 総合点が９７０点以上の場合 | I29: 【総合点】 | K29: 【総合点】
G30: =IF(+'評価項目(標準)'!I28="","",+'評価項目(標準)'!I28) | H30: =IF(+'評価項目(標準)'!F28="","",+'評価項目(標準)'!F28) -> 総合点が８４０点以上９７０点未満の場合 計算式２ （総合点－８４０）／（９７０－８４０）×５ | M30: =J30 -> 0
G31: =IF(+'評価項目(標準)'!I29="","",+'評価項目(標準)'!I29) -> ～
G32: =IF(+'評価項目(標準)'!I30="","",+'評価項目(標準)'!I30) | M32: =J32 -> 0
G33: =IF(+'評価項目(標準)'!I31="","",+'評価項目(標準)'!I31) -> 0 | H33: =IF(+'評価項目(標準)'!F31="","",+'評価項目(標準)'!F31) -> 総合点が８４０点未満の場合
D34: =IF(+'評価項目(標準)'!D32="","",+'評価項目(標準)'!D32) -> 契約件数 | E34: =IF(+'評価項目(標準)'!E32="","",+'評価項目(標準)'!E32) -> 土木一式工事の契約件数 | F34: =+IF(+'評価項目(標準)'!J32="","",+'評価項目(標準)'!J32) -> 10 | G34: =IF(+'評価項目(標準)'!I32="","",+'評価項目(標準)'!I32) -> 10 | H34: =IF(+'評価項目(標準)'!F32="","",+'評価項目(標準)'!F32) -> ０件 | J34: =IF(I34="","",VLOOKUP(I34,'評価項目(標準)'!F32:I34,4,FALSE)) | L34: =IF(K34="","",VLOOKUP(K34,'評価項目(標準)'!F32:I34,4,FALSE)) | M34: =IF(J34="","",IF(L34="","",ROUNDUP(AVERAGE(J34,L34),1)))
G35: =IF(+'評価項目(標準)'!I33="","",+'評価項目(標準)'!I33) -> 5 | H35: =IF(+'評価項目(標準)'!F33="","",+'評価項目(標準)'!F33) -> １件
G36: =IF(+'評価項目(標準)'!I34="","",+'評価項目(標準)'!I34) -> 0 | H36: =IF(+'評価項目(標準)'!F34="","",+'評価項目(標準)'!F34) -> ２件以上
B37: =IF(+'評価項目(標準)'!B35="","",+'評価項目(標準)'!B35) -> 総合評価方式の不履行による 加算点の減点 | E37: =IF(+'評価項目(標準)'!E35="","",+'評価項目(標準)'!E35) -> 当該工事の入札公告日が、三重県が総合評価方式で発注した工事で不履行による減点措置が課されている期間内である場合、「技術提案等不履行確定通知書等」に記載した減点を行います。 | H37: =IF('評価項目(標準)'!I35="","",+'評価項目(標準)'!I35) -> △換算前 加算点満点 ×1割 ×件数 | J37: =IF(+I37="",0,-(+'評価項目(標準)'!J37*0.1*I37)) -> 0 | L37: =IF(+K37="",0,-(+'評価項目(標準)'!J37*0.1*K37)) -> 0 | M37: =IF(J37+L37=0,"",J37+L37)
B38: =IF(+'評価項目(標準)'!B36="","",+'評価項目(標準)'!B36) -> 指名停止措置による 加算点の減点 | E38: =IF(+'評価項目(標準)'!E36="","",+'評価項目(標準)'!E36) -> 当該工事の入札公告日が、三重県発注工事にかかる贈賄、公契約関係競売等妨害又は談合により役員等又は使用人が逮捕、又は逮捕を経ないで公訴を提起されたことによる指名停止に伴う減点措置期間内である場合、減点を行います。 | H38: =IF('評価項目(標準)'!I36="","",+'評価項目(標準)'!I36) -> △換算前加算点満点 ×1割 | M38: =IF(I38+K38>0,-'評価項目(標準)'!J37*0.1,"")
L39: 合計 | M39: =ROUNDDOWN(SUM(M6:M36),0)+SUM(M37:M38) -> 0
B41: 【記入上の注意】
B42: ・ | D42: 黄色着色のセルは、該当する数値を直接入力してください。加算点は、自動計算により表示されます。
...

Sheet 様式２
A1: （様式２） 地域精通度・企業の技術力等に関する技術資料
O2: 会社名
A3: 【地域精通度】
A5: 本店等所在地 | E5: 本店所在地
E7: 所在地の変更日 | J7: 年 月 日
E8: 旧所在地
A10: 施工箇所地域 における 工事実績 | E10: コリンズ登録番号
E11: 工事名称
A14: 【企業の技術力等】
A16: 工事実績 | E16: コリンズ登録番号
E17: 工事名称
A20: 工事成績 | E20: 三重県の 工事評定点 | H20: 令和5年4月1日以降に完成検査を行った工事の評定点 | AD20: 申告工事成績点
AD21: =IF(COUNTA(T20:AC21)=0,"",ROUNDDOWN(((SUM(T20:AC21)+75))/(COUNTA(T20:AC21)+1),1)) | AI21: 点
A22: 契約件数 | E22: （令和 年 月 日 時点）
E23: 1 | G23: コリンズ登録番号
G24: 工事名称
E27: 2 | G27: コリンズ登録番号
G28: 工事名称
A33: 【地域精通度の注意事項】
A35: 注1： | C35: 本店と建設業法上の主たる営業所の所在地が同じ場合は、本店所在地の入力は不要です。
A37: 注2： | C37: 本店及び建設業法上の主たる営業所の所在地を変更していない場合は、旧所在地と変更日の入力は不要です。
A40: 【企業の技術力等の注意事項】
A42: 【工事成績】
A43: 注1： | C43: 令和５年４月１日から当該工事の入札公告日までに三重県が通知（工事成績認定書）した土木一式工事の評定点を、任意の件数だけ入力してください。 １０件まで申告できます。
D46: 記載例
A55: 【契約件数】
A56: 注2： | C56: 入札公告日における、三重県発注の契約額2千5百万円以上の土木一式工事の契約件数が３件以上ある場合は、２件まで記載して下さい。
