Workbook

Sheet 評価項目(標準)
M1: 土木一式工事（特別簡易型）（農業農村整備事業） 【令和８年６月版】
B2: 特別簡易型 | D2: 総合評価方式評価項目一覧 【土木一式工事（農業農村整備事業）】 除算方式 | J2: 工事名： | K2: 阿弥陀寺溜地区 県営ため池等整備事業 付帯工事
B3: 大項目 | D3: 中項目 | E3: 小項目 | F3: 評価基準 | I3: 加算点 | L3: 様式 | M3: 評価内容等
I4: 配点 | J4: 小項目 配点 | K4: 大項目 配点
B5: 企 業 の 能 力 等 | C5: 地域精通度・貢献度 | D5: 地域精通度 | E5: 本店等所在地 | F5: いなべ市、員弁郡内 | I5: 10 | J5: 10 | K5: =SUM(J5:J33) -> 75 | L5: 様式１ 様式２ | M5: 「本店及び建設業法上の主たる営業所」の所在地により評価します。 ・本店等の所在地を変更した場合、公告の前月から３６か月前までの期間の「１８か月以上連続した所在地」を評価の対象とします。
F6: 上記以外の桑名建設事務所管内 | I6: 0
E7: 施工箇所地域における工事実績 | F7: 員弁郡東員町、いなべ市員弁町、いなべ市大安町内 における工事実績あり | I7: 5 | J7: 5 | M7: 員弁郡東員町、いなべ市員弁町、いなべ市大安町内において、単独又は共同企業体構成員（出資比率20％以上に限る）の元請として受注し、令和５年度以降に完成し、かつ、引渡しが済んでいる契約金額５００万円以上の工事の実績の有無により評価します。 ・評価対象の工事実績は１件とし、コリンズに登録された公共機関等発注の工事に限ります。
F8: 工事実績なし | I8: 0
D9: 地域貢献度 | E9: 多面的機能支払活動実績 | F9: 有 | I9: 1 | J9: 1 | M9: 令和７年度、令和８年度のいずれかにおける三重県内の多面的機能支払活動へ、企業の社会的責任（ＣＳＲ）として参加している実績の有無により評価します。 ・三重県の市町から多面的機能支払交付金に係る認定を受けた組織の活動に参加した実績に限ります。
F10: 無 | I10: 0
E11: 家畜伝染病発生等の緊急時における家畜処分 の運用協定等の評価 | F11: 「家畜処分の運用協定の実績」あり | I11: 9 | J11: 9 | M11: 家畜伝染病発生等の緊急時における「家畜処分の運用協定の実績」又は家畜伝染病発生等の緊急時における対応に向けた「研修会への参加実績」の有無により評価します。 ・「家畜処分の運用協定の実績」は、桑名農政事務所と締結した「家畜伝染病発生等の緊急時における家畜処分の運用協定」に基づいた研修（実地訓練）への参加実績（令和７年度、令和８年度のいずれか）を指します。 なお、「家畜処分の運用協定の実績」の評価については、「家畜伝染病発生等の緊急時における家畜処分の基本協定」を三重県と締結後、５年以上の継続した研修（実地訓練）を行っており、運用協定で定める緊急連絡応援体制ネットワークを確立している団体を対象とします。 ・「研修会への参加実績」は、県が認める家畜伝染病発生等の緊急時における対応に向けた研修会への参加実績（令和７年度、令和８年度のいずれか）を指します。 なお、「研修会への参加実績」の評価は、桑名農政事務所管内に「本店及び建設業法上の主たる営業所」又は「建設業法上の営業所」を有する企業に限ります。 ・「家畜処分の運用協定の実績」と「研修会への参加実績」は重複して評価しません。
F12: 「研修会への参加実績」あり | I12: 3
F13: 実績なし | I13: 0
C14: 社会貢献度 | D14: 社会貢献度 | E14: 県内産資材の使用 | F14: 全て県内産を使用 | I14: 5 | J14: 5 | M14: 当該工事を貴社が受注した際、当該工事において指定する主要資材を全て県内産とする場合に評価します。 ・当該工事において指定する主要資材は、石材・As合材です。 ・県内産とは、三重県内の工場、採取場等で生産又は加工される資材を指します。 ※当該工事を契約後、「建設工事請負契約書の特約事項」に基づき履行を確認します。
F15: 上記以外 | I15: 0
E16: 県内企業による施工 | F16: 県内企業による施工の割合90％以上 | I16: 5 | J16: 5 | M16: 当該工事のうち、建設業法上の建設工事の県内企業による施工の割合により評価します。 ・県内企業とは、三重県内に「本店及び建設業法上の主たる営業所」を有する企業を指します。 ・元請直営施工、一次下請負及び二次下請負による施工を評価の対象とします。 県内企業による施工の割合 ＝ [ 契約金額(最終) － { 県外一次下請金額(最終) + 県外二次下請金額(最終) } ] ／ 契約金額(最終) ※当該工事を契約後、「建設工事請負契約書の特約事項」に基づき履行を確認します。
F17: 県内企業による施工の割合70％以上 | I17: 3
F18: 上記以外 | I18: 0
C19: 企業の技術力等 | D19: 工事実績 | E19: 企業の工事実績 | F19: 評価対象工事の実績あり | I19: 20 | J19: 20 | M19: 三重県内において、単独又は共同企業体構成員（出資比率20％以上に限る）の元請として受注し、平成２３年度以降に完成し、かつ、引渡しが済んでいる契約金額１０００万円以上の評価対象工事の実績の有無により評価します。 ・「評価対象工事」とは、土木一式工事で発注された道路工を含む工事を指します。 ・評価対象の工事実績は１件とし、コリンズに登録された公共機関等発注の工事に限ります。
F20: 評価対象工事の実績なし | I20: 0
D21: 工事成績 | E21: 申告工事成績点又は総合点 | F21: 申告工事成績点が８５点以上の場合 | I21: 10 | J21: 10 | M21: 【申告工事成績点】 次の①又は②を申告工事成績点とし、評価基準に記載の計算式１により評価します。ただし、申告工事成績点が８５点以上の場合は１０点、７５点未満の場合は５点とします。 ①令和５年４月１日から当該工事の入札公告日までに三重県が通知（工事成績認定書）した土木一式工事の評定点のうち、申告された任意の件数（ｎ件）の合計に７５点を加え、ｎ＋１で割った値とする。ただし、申告できるのは10件までとします。 申告工事成績点 ＝（申告されたｎ件の評定点の合計＋７５）／（ｎ＋１）（小数第２位以下切り捨て） ②国土交通省中部地方整備局又は国土交通省近畿地方整備局が令和７年度に公表した工事成績評定平均点とします。 【総合点】 ①及び②が無い場合は、総合点を評価基準に記載の計算式２（小数第２位以下切り捨て）により評価します。ただし、総合点が９７０点以上の場合は５点、８４０点未満の場合は０点とします。 ・総合点とは入札公告日において最新の三重県建設工事等入札参加資格者名簿に記載された総合点とします。 ・上記全てに該当がない場合の加算点は０点です。
F22: 申告工事成績点が７５点以上８５点未満の場合 計算式１ （申告工事成績点－７５点）×５／１０＋５点
I23: ～
F25: 申告工事成績点が７５点未満の場合 | I25: 5
F26: 総合点が９７０点以上の場合 | I26: 5
F27: 総合点が８４０点以上９７０点未満の場合 計算式２ （総合点－８４０）／（９７０－８４０）×５
I28: ～
F30: 総合点が８４０点未満の場合 | I30: 0
D31: 契約件数 | E31: 土木一式工事の契約件数 | F31: ０件 | I31: 10 | J31: 10 | M31: 入札公告日における桑名農政事務所発注の契約金額１０００万円以上の土木一式工事の契約件数により評価します。なお、共同企業体工事については、出資比率にかかわらず契約件数１件としてカウントします。 ・小規模、雪氷、地域維持型維持修繕等の業務委託は、件数に含みません。
F32: １件 | I32: 5
F33: ２件以上 | I33: 0
B34: 技術提案等 | C34: 技術提案 （対策なし型） | D34: 特記課題 | E34: 発注者が指定するテーマ・項目 | F34: １項目あたりの評価基準・加算点 | I34: 24 (最大12点/項目×項目数) | J34: 24 | K34: 24 | L34: 様式４ | M34: 当該工事は、ため池工事に伴う舗装復旧を行う工事です。 「項目１品質に関する配慮」、「項目２残土運搬に関する配慮」の２項目について、それぞれに工事を行ううえで考えられる留意点を３つ以内で、その理由を含めて記述してください。 ・これらの提案については、対策を求めていません。そのため履行義務はありません。
F35: 優れている | G35: 12
F36: 概ね優れている | G36: 9
F37: 良好である | G37: 6
F38: 概ね良好である | G38: 3
F39: 上記以外 | G39: 0
B40: 総合評価方式の不履行による 加算点の減点 | E40: 当該工事の入札公告日が、三重県が総合評価方式で発注した工事で不履行による減点措置が課されている期間内である場合、「技術提案等不履行確定通知書等」に記載した減点を行います。 | I40: △換算前 加算点満点 ×1割 ×件数 | L40: 様式１ | M40: 三重県が総合評価方式で発注した工事で、技術資料又は施工体制確認資料に記載された事項に不履行があった場合の減点は、次式により行います。 減点後の貴社の換算前加算点合計＝Ａ－（Ｂ×０．１×Ｃ） Ａ：貴社の換算前加算点合計 Ｂ：当該工事の換算前加算点満点 Ｃ：不履行工事件数 不履行工事件数とは、当該工事の入札公告日が「技術提案等不履行確定通知書」で通知された不履行による減点の対象となる期間内である工事の件数とします。
B41: 指名停止措置による 加算点の減点 | E41: 当該工事の入札公告日が、三重県発注工事にかかる贈賄、公契約関係競売等妨害又は談合により役員等又は使用人が逮捕、又は逮捕を経ないで公訴を提起されたことによる指名停止に伴う減点措置期間内である場合、減点を行います。 | I41: △換算前加算点満点 ×1割 | L41: 様式１ | M41: 当該工事の入札公告日が、三重県発注工事にかかる贈賄、公契約関係競売等妨害又は談合により役員等又は使用人が逮捕、又は逮捕を経ないで公訴を提起されたことによる指名停止に伴う減点措置期間内である場合の減点は、次式により行います。 減点後の貴社の換算前加算点合計＝Ａ－（Ｂ×０．１） Ａ：貴社の換算前加算点合計 Ｂ：当該工事の換算前加算点満点 ※減点措置期間は指名停止期間の終了日の翌日から１年間とします。 なお、対象となる指名停止措置は、当該工事入札公告日の前年度４月１日から当該工事入札公告日までの期間に指名停止期間が１日でも重複するものとします。
I42: 換算前 加算点 満点 | J42: =SUM(K5:K39) -> 99 | M42: ※技術資料の作成方法及び提出資料は、「技術資料作成上の留意事項」を必ず確認してください。
I43: 加算点 満点 | J43: 10
B45: 当該工事で、技術資料又は施工体制確認資料に記載の内容に不履行があった場合の取り扱い | E45: 当該工事の履行確認を伴う評価項目に不履行があった場合、「技術提案等不履行確定通知書」により不履行項目・不履行による減点の対象となる期間などを通知します。 「技術提案等不履行確定通知書」に記載した期間に三重県が総合評価方式で発注する工事（以下「発注工事」という。）で、「貴社の換算前加算点合計」から「発注工事の換算前加算点満点」の1割を減点します。 貴社が特定建設工事共同企業体又は経常建設共同企業体の構成員である場合も、「発注工事の換算前加算点満点」の１割を減点します。

Sheet 届出書
AA3: 令和 年 月 日
A5: 技 術 資 料 届 出 書
B9: 三重県知事 | H9: あて
O11: 住 所
O13: 会社名
O15: 代表者氏名
E18: 工 事 名 | F18: ： | G18: 令和７年度 ため池（池震対） 第10342-分0003号
G19: 阿弥陀寺溜地区 県営ため池等整備事業
G20: 付帯工事
B25: 上記工事の技術資料を提出します。なお、地方自治法施行令（昭和22年政令第16号）
B26: 第167条の4の規定に該当する者でないこと並びに確認資料の内容は、事実と相違ない
B27: ことを誓約します。問い合わせ先は次のとおりです。
C30: 【問い合わせ先】
D31: 担当者 | G31: ： | H31: ○○ ○○
D32: 部 署 | G32: ： | H32: ○○本店 ○○部 ○○課
D33: 住 所 | G33: ： | H33: ○○県○○市○○
D34: 電話番号 | G34: ： | H34: ＊＊＊－＊＊＊＊－＊＊＊＊
D35: ＦＡＸ | G35: ： | H35: ＊＊＊－＊＊＊＊－＊＊＊＊
D36: Ｅ-mail | G36: ：

Sheet 様式１
B1: （様式１） 加算点申告書
F2: 会社名
B3: 大項目 | D3: 中項目 | E3: 小項目 | F3: 加算点 | G3: 評価基準 | I3: 各評価項目の 自己評価 | J3: 自己 加算点
G4: 配点 | H4: 基準
B5: =IF('評価項目(標準)'!B5="","",+'評価項目(標準)'!B5) -> 企 業 の 能 力 等 | C5: =IF(+'評価項目(標準)'!C5="","",+'評価項目(標準)'!C5) -> 地域精通度・貢献度 | D5: =IF(+'評価項目(標準)'!D5="","",+'評価項目(標準)'!D5) -> 地域精通度 | E5: =IF(+'評価項目(標準)'!E5="","",+'評価項目(標準)'!E5) -> 本店等所在地 | F5: =+IF(+'評価項目(標準)'!J5="","",+'評価項目(標準)'!J5) -> 10 | G5: =+IF(+'評価項目(標準)'!I5="","",+'評価項目(標準)'!I5) -> 10 | H5: =+IF(+'評価項目(標準)'!F5="","",+'評価項目(標準)'!F5) -> いなべ市、員弁郡内 | J5: =IF(I5="","",VLOOKUP(I5,'評価項目(標準)'!F5:I6,4,FALSE))
G6: =+IF(+'評価項目(標準)'!I6="","",+'評価項目(標準)'!I6) -> 0 | H6: =+IF(+'評価項目(標準)'!F6="","",+'評価項目(標準)'!F6) -> 上記以外の桑名建設事務所管内
E7: =IF(+'評価項目(標準)'!E7="","",+'評価項目(標準)'!E7) -> 施工箇所地域における工事実績 | F7: =+IF(+'評価項目(標準)'!J7="","",+'評価項目(標準)'!J7) -> 5 | G7: =+IF(+'評価項目(標準)'!I7="","",+'評価項目(標準)'!I7) -> 5 | H7: =+IF(+'評価項目(標準)'!F7="","",+'評価項目(標準)'!F7) -> 員弁郡東員町、いなべ市員弁町、いなべ市大安町内 における工事実績あり | J7: =IF(I7="","",IF(I7=H7,G7,IF(I7=H8,G8)))
G8: =+IF(+'評価項目(標準)'!I8="","",+'評価項目(標準)'!I8) -> 0 | H8: =+IF(+'評価項目(標準)'!F8="","",+'評価項目(標準)'!F8) -> 工事実績なし
D9: =IF(+'評価項目(標準)'!D9="","",+'評価項目(標準)'!D9) -> 地域貢献度 | E9: =IF(+'評価項目(標準)'!E9="","",+'評価項目(標準)'!E9) -> 多面的機能支払活動実績 | F9: =+IF(+'評価項目(標準)'!J9="","",+'評価項目(標準)'!J9) -> 1 | G9: =+IF(+'評価項目(標準)'!I9="","",+'評価項目(標準)'!I9) -> 1 | H9: =+IF(+'評価項目(標準)'!F9="","",+'評価項目(標準)'!F9) -> 有 | J9: =IF(I9="","",VLOOKUP(I9,'評価項目(標準)'!F9:I10,4,FALSE))
G10: =+IF(+'評価項目(標準)'!I10="","",+'評価項目(標準)'!I10) -> 0 | H10: =+IF(+'評価項目(標準)'!F10="","",+'評価項目(標準)'!F10) -> 無
E11: =IF(+'評価項目(標準)'!E11="","",+'評価項目(標準)'!E11) -> 家畜伝染病発生等の緊急時における家畜処分 の運用協定等の評価 | F11: =+IF(+'評価項目(標準)'!J11="","",+'評価項目(標準)'!J11) -> 9 | G11: =+IF(+'評価項目(標準)'!I11="","",+'評価項目(標準)'!I11) -> 9 | H11: =+IF(+'評価項目(標準)'!F11="","",+'評価項目(標準)'!F11) -> 「家畜処分の運用協定の実績」あり | J11: =IF(I11="","",VLOOKUP(I11,'評価項目(標準)'!F11:I13,4,FALSE))
G12: =+IF(+'評価項目(標準)'!I12="","",+'評価項目(標準)'!I12) -> 3 | H12: =+IF(+'評価項目(標準)'!F12="","",+'評価項目(標準)'!F12) -> 「研修会への参加実績」あり
G13: =+IF(+'評価項目(標準)'!I13="","",+'評価項目(標準)'!I13) -> 0 | H13: =+IF(+'評価項目(標準)'!F13="","",+'評価項目(標準)'!F13) -> 実績なし
C14: =IF(+'評価項目(標準)'!C14="","",+'評価項目(標準)'!C14) -> 社会貢献度 | D14: =IF(+'評価項目(標準)'!D14="","",+'評価項目(標準)'!D14) -> 社会貢献度 | E14: =IF(+'評価項目(標準)'!E14="","",+'評価項目(標準)'!E14) -> 県内産資材の使用 | F14: =+IF(+'評価項目(標準)'!J14="","",+'評価項目(標準)'!J14) -> 5 | G14: =+IF(+'評価項目(標準)'!I14="","",+'評価項目(標準)'!I14) -> 5 | H14: =+IF(+'評価項目(標準)'!F14="","",+'評価項目(標準)'!F14) -> 全て県内産を使用 | J14: =IF(I14="","",IF(I14=H14,G14,IF(I14=H15,G15)))
G15: =+IF(+'評価項目(標準)'!I15="","",+'評価項目(標準)'!I15) -> 0 | H15: =+IF(+'評価項目(標準)'!F15="","",+'評価項目(標準)'!F15) -> 上記以外
E16: =IF(+'評価項目(標準)'!E16="","",+'評価項目(標準)'!E16) -> 県内企業による施工 | F16: =+IF(+'評価項目(標準)'!J16="","",+'評価項目(標準)'!J16) -> 5 | G16: =+IF(+'評価項目(標準)'!I16="","",+'評価項目(標準)'!I16) -> 5 | H16: =+IF(+'評価項目(標準)'!F16="","",+'評価項目(標準)'!F16) -> 県内企業による施工の割合90％以上 | J16: =IF(I16="","",VLOOKUP(I16,'評価項目(標準)'!F16:I18,4,FALSE))
G17: =+IF(+'評価項目(標準)'!I17="","",+'評価項目(標準)'!I17) -> 3 | H17: =+IF(+'評価項目(標準)'!F17="","",+'評価項目(標準)'!F17) -> 県内企業による施工の割合70％以上
G18: =+IF(+'評価項目(標準)'!I18="","",+'評価項目(標準)'!I18) -> 0 | H18: =+IF(+'評価項目(標準)'!F18="","",+'評価項目(標準)'!F18) -> 上記以外
C19: =IF(+'評価項目(標準)'!C19="","",+'評価項目(標準)'!C19) -> 企業の技術力等 | D19: =IF(+'評価項目(標準)'!D19="","",+'評価項目(標準)'!D19) -> 工事実績 | E19: =IF(+'評価項目(標準)'!E19="","",+'評価項目(標準)'!E19) -> 企業の工事実績 | F19: =+IF(+'評価項目(標準)'!J19="","",+'評価項目(標準)'!J19) -> 20 | G19: =+IF(+'評価項目(標準)'!I19="","",+'評価項目(標準)'!I19) -> 20 | H19: =+IF(+'評価項目(標準)'!F19="","",+'評価項目(標準)'!F19) -> 評価対象工事の実績あり | J19: =IF(I19="","",VLOOKUP(I19,'評価項目(標準)'!F19:I20,4,FALSE))
G20: =+IF(+'評価項目(標準)'!I20="","",+'評価項目(標準)'!I20) -> 0 | H20: =+IF(+'評価項目(標準)'!F20="","",+'評価項目(標準)'!F20) -> 評価対象工事の実績なし
D21: =IF(+'評価項目(標準)'!D21="","",+'評価項目(標準)'!D21) -> 工事成績 | E21: =IF(+'評価項目(標準)'!E21="","",+'評価項目(標準)'!E21) -> 申告工事成績点又は総合点 | F21: =+IF(+'評価項目(標準)'!J21="","",+'評価項目(標準)'!J21) -> 10 | G21: =IF(+'評価項目(標準)'!I21="","",+'評価項目(標準)'!I21) -> 10 | H21: =IF(+'評価項目(標準)'!F21="","",+'評価項目(標準)'!F21) -> 申告工事成績点が８５点以上の場合 | I21: 【申告工事成績点】 | J21: =IF(COUNTA(I24,I27)=0,"",IF(COUNTA(I24,I27)=2,"入力は【申告工事成績点】、【総合点】のいずれかにして下さい",IF(AND(COUNTA(I24)=1,I22=""),"いずれの【申告工事成績点】なのか、「三重県、中部地整、近畿地整」より選択してください",IF(I27>=970,5,IF(AND(I27<970,I27>=840),ROUNDDOWN((I27-840)/(970-840)*5,1),IF(I27<840,0,)))+IF(I24>=85,F21,IF(AND(I24<75,I24>=1),5,IF(AND(I24<85,I24>=75),ROUNDDOWN((I24-75)*5/10+5,1)))))))
G22: =IF(+'評価項目(標準)'!I22="","",+'評価項目(標準)'!I22) | H22: =IF(+'評価項目(標準)'!F22="","",+'評価項目(標準)'!F22) -> 申告工事成績点が７５点以上８５点未満の場合 計算式１ （申告工事成績点－７５点）×５／１０＋５点
G23: =IF(+'評価項目(標準)'!I23="","",+'評価項目(標準)'!I23) -> ～
G24: =IF(+'評価項目(標準)'!I24="","",+'評価項目(標準)'!I24)
G25: =IF(+'評価項目(標準)'!I25="","",+'評価項目(標準)'!I25) -> 5 | H25: =IF(+'評価項目(標準)'!F25="","",+'評価項目(標準)'!F25) -> 申告工事成績点が７５点未満の場合
D26: =IF(+'評価項目(標準)'!#REF!="","",+'評価項目(標準)'!#REF!) -> #REF! | E26: =IF(+'評価項目(標準)'!#REF!="","",+'評価項目(標準)'!#REF!) -> #REF! | G26: =IF(+'評価項目(標準)'!I26="","",+'評価項目(標準)'!I26) -> 5 | H26: =IF(+'評価項目(標準)'!F26="","",+'評価項目(標準)'!F26) -> 総合点が９７０点以上の場合 | I26: 【総合点】
G27: =IF(+'評価項目(標準)'!I27="","",+'評価項目(標準)'!I27) | H27: =IF(+'評価項目(標準)'!F27="","",+'評価項目(標準)'!F27) -> 総合点が８４０点以上９７０点未満の場合 計算式２ （総合点－８４０）／（９７０－８４０）×５
G28: =IF(+'評価項目(標準)'!I28="","",+'評価項目(標準)'!I28) -> ～
G29: =IF(+'評価項目(標準)'!I29="","",+'評価項目(標準)'!I29)
G30: =IF(+'評価項目(標準)'!I30="","",+'評価項目(標準)'!I30) -> 0 | H30: =IF(+'評価項目(標準)'!F30="","",+'評価項目(標準)'!F30) -> 総合点が８４０点未満の場合
D31: =IF(+'評価項目(標準)'!D31="","",+'評価項目(標準)'!D31) -> 契約件数 | E31: =IF(+'評価項目(標準)'!E31="","",+'評価項目(標準)'!E31) -> 土木一式工事の契約件数 | F31: =+IF(+'評価項目(標準)'!J31="","",+'評価項目(標準)'!J31) -> 10 | G31: =IF(+'評価項目(標準)'!I31="","",+'評価項目(標準)'!I31) -> 10 | H31: =IF(+'評価項目(標準)'!F31="","",+'評価項目(標準)'!F31) -> ０件 | J31: =IF(I31="","",VLOOKUP(I31,'評価項目(標準)'!F31:I33,4,FALSE))
G32: =IF(+'評価項目(標準)'!I32="","",+'評価項目(標準)'!I32) -> 5 | H32: =IF(+'評価項目(標準)'!F32="","",+'評価項目(標準)'!F32) -> １件
G33: =IF(+'評価項目(標準)'!I33="","",+'評価項目(標準)'!I33) -> 0 | H33: =IF(+'評価項目(標準)'!F33="","",+'評価項目(標準)'!F33) -> ２件以上
B34: =IF(+'評価項目(標準)'!B40="","",+'評価項目(標準)'!B40) -> 総合評価方式の不履行による 加算点の減点 | E34: =IF(+'評価項目(標準)'!E40="","",+'評価項目(標準)'!E40) -> 当該工事の入札公告日が、三重県が総合評価方式で発注した工事で不履行による減点措置が課されている期間内である場合、「技術提案等不履行確定通知書等」に記載した減点を行います。 | H34: =IF('評価項目(標準)'!I40="","",+'評価項目(標準)'!I40) -> △換算前 加算点満点 ×1割 ×件数 | J34: =IF(+I34="","",-(+'評価項目(標準)'!J42*0.1*I34))
B35: =IF(+'評価項目(標準)'!B41="","",+'評価項目(標準)'!B41) -> 指名停止措置による 加算点の減点 | E35: =IF(+'評価項目(標準)'!E41="","",+'評価項目(標準)'!E41) -> 当該工事の入札公告日が、三重県発注工事にかかる贈賄、公契約関係競売等妨害又は談合により役員等又は使用人が逮捕、又は逮捕を経ないで公訴を提起されたことによる指名停止に伴う減点措置期間内である場合、減点を行います。 | H35: =IF('評価項目(標準)'!I41="","",+'評価項目(標準)'!I41) -> △換算前加算点満点 ×1割 | J35: =IF(+I35="","",-(+'評価項目(標準)'!J42*0.1))
I36: 合計 | J36: =SUM(J5:J35) -> 0
B38: 【記入上の注意】
B39: ・ | D39: 黄色着色のセルは、該当する数値を直接入力してください。加算点は、自動計算により表示されます。
B40: ・ | D40: 橙色着色のセルは、セル中から該当する項目を選択してください。加算点は、選択した内容に応じて自動で表示されます。
B41: ・ | C41: 評価項目及び評価基準の詳細については、「評価項目一覧」及び「技術資料作成上の留意事項」で確認してください。
B42: ・ | C42: このシートは「評価項目一覧」とリンクしています。自己加算点が表示されていない場合は評価しません。

Sheet 様式１【経常ＪＶ用】
B2: （様式１） 加算点申告書
F3: 会社名
B4: 大項目 | D4: 中項目 | E4: 小項目 | F4: 加算点 | G4: 評価基準 | I4: 構成員Ａの評価 | K4: 構成員Ｂの評価 | M4: 経常ＪＶの評価
G5: 配点 | H5: 基準 | I5: 各評価項目の 自己評価 | J5: 自己 加算点 | K5: 各評価項目の 自己評価 | L5: 自己 加算点
B6: =IF('評価項目(標準)'!B5="","",+'評価項目(標準)'!B5) -> 企 業 の 能 力 等 | C6: =IF(+'評価項目(標準)'!C5="","",+'評価項目(標準)'!C5) -> 地域精通度・貢献度 | D6: =IF(+'評価項目(標準)'!D5="","",+'評価項目(標準)'!D5) -> 地域精通度 | E6: =IF(+'評価項目(標準)'!E5="","",+'評価項目(標準)'!E5) -> 本店等所在地 | F6: =+IF(+'評価項目(標準)'!J5="","",+'評価項目(標準)'!J5) -> 10 | G6: =+IF(+'評価項目(標準)'!I5="","",+'評価項目(標準)'!I5) -> 10 | H6: =+IF(+'評価項目(標準)'!F5="","",+'評価項目(標準)'!F5) -> いなべ市、員弁郡内 | J6: =IF(I6="","",VLOOKUP(I6,'評価項目(標準)'!F5:I6,4,FALSE)) | K6: ― | L6: ― | M6: =J6
G7: =+IF(+'評価項目(標準)'!I6="","",+'評価項目(標準)'!I6) -> 0 | H7: =+IF(+'評価項目(標準)'!F6="","",+'評価項目(標準)'!F6) -> 上記以外の桑名建設事務所管内
E8: =IF(+'評価項目(標準)'!E7="","",+'評価項目(標準)'!E7) -> 施工箇所地域における工事実績 | F8: =+IF(+'評価項目(標準)'!J7="","",+'評価項目(標準)'!J7) -> 5 | G8: =+IF(+'評価項目(標準)'!I7="","",+'評価項目(標準)'!I7) -> 5 | H8: =+IF(+'評価項目(標準)'!F7="","",+'評価項目(標準)'!F7) -> 員弁郡東員町、いなべ市員弁町、いなべ市大安町内 における工事実績あり | J8: =IF(I8="","",IF(I8=H8,G8,IF(I8=H9,G9))) | L8: =IF(K8="","",IF(K8=H8,G8,IF(K8=H9,G9))) | M8: =IF(J8="","",IF(L8="","",ROUNDUP(AVERAGE(J8,L8),1)))
G9: =+IF(+'評価項目(標準)'!I8="","",+'評価項目(標準)'!I8) -> 0 | H9: =+IF(+'評価項目(標準)'!F8="","",+'評価項目(標準)'!F8) -> 工事実績なし
D10: =IF(+'評価項目(標準)'!D9="","",+'評価項目(標準)'!D9) -> 地域貢献度 | E10: =IF(+'評価項目(標準)'!E9="","",+'評価項目(標準)'!E9) -> 多面的機能支払活動実績 | F10: =+IF(+'評価項目(標準)'!J9="","",+'評価項目(標準)'!J9) -> 1 | G10: =+IF(+'評価項目(標準)'!I9="","",+'評価項目(標準)'!I9) -> 1 | H10: =+IF(+'評価項目(標準)'!F9="","",+'評価項目(標準)'!F9) -> 有 | J10: =IF(I10="","",VLOOKUP(I10,'評価項目(標準)'!F9:I10,4,FALSE)) | L10: =IF(K10="","",VLOOKUP(K10,'評価項目(標準)'!F9:I10,4,FALSE)) | M10: =IF(J10="","",IF(L10="","",ROUNDUP(AVERAGE(J10,L10),1)))
G11: =+IF(+'評価項目(標準)'!I10="","",+'評価項目(標準)'!I10) -> 0 | H11: =+IF(+'評価項目(標準)'!F10="","",+'評価項目(標準)'!F10) -> 無
E12: =IF(+'評価項目(標準)'!E11="","",+'評価項目(標準)'!E11) -> 家畜伝染病発生等の緊急時における家畜処分 の運用協定等の評価 | F12: =+IF(+'評価項目(標準)'!J11="","",+'評価項目(標準)'!J11) -> 9 | G12: =+IF(+'評価項目(標準)'!I11="","",+'評価項目(標準)'!I11) -> 9 | H12: =+IF(+'評価項目(標準)'!F11="","",+'評価項目(標準)'!F11) -> 「家畜処分の運用協定の実績」あり | J12: =IF(I12="","",VLOOKUP(I12,'評価項目(標準)'!F11:I13,4,FALSE)) | L12: =IF(K12="","",VLOOKUP(K12,'評価項目(標準)'!F11:I13,4,FALSE)) | M12: =IF(J12="","",IF(L12="","",ROUNDUP(AVERAGE(J12,L12),1)))
G13: =+IF(+'評価項目(標準)'!I12="","",+'評価項目(標準)'!I12) -> 3 | H13: =+IF(+'評価項目(標準)'!F12="","",+'評価項目(標準)'!F12) -> 「研修会への参加実績」あり
G14: =+IF(+'評価項目(標準)'!I13="","",+'評価項目(標準)'!I13) -> 0 | H14: =+IF(+'評価項目(標準)'!F13="","",+'評価項目(標準)'!F13) -> 実績なし
C15: =IF(+'評価項目(標準)'!C14="","",+'評価項目(標準)'!C14) -> 社会貢献度 | D15: =IF(+'評価項目(標準)'!D14="","",+'評価項目(標準)'!D14) -> 社会貢献度 | E15: =IF(+'評価項目(標準)'!E14="","",+'評価項目(標準)'!E14) -> 県内産資材の使用 | F15: =+IF(+'評価項目(標準)'!J14="","",+'評価項目(標準)'!J14) -> 5 | G15: =+IF(+'評価項目(標準)'!I14="","",+'評価項目(標準)'!I14) -> 5 | H15: =+IF(+'評価項目(標準)'!F14="","",+'評価項目(標準)'!F14) -> 全て県内産を使用 | J15: =IF(I15="","",IF(I15=H15,G15,IF(I15=H16,G16))) | K15: ― | L15: ― | M15: =J15
G16: =+IF(+'評価項目(標準)'!I15="","",+'評価項目(標準)'!I15) -> 0 | H16: =+IF(+'評価項目(標準)'!F15="","",+'評価項目(標準)'!F15) -> 上記以外
E17: =IF(+'評価項目(標準)'!E16="","",+'評価項目(標準)'!E16) -> 県内企業による施工 | F17: =+IF(+'評価項目(標準)'!J16="","",+'評価項目(標準)'!J16) -> 5 | G17: =+IF(+'評価項目(標準)'!I16="","",+'評価項目(標準)'!I16) -> 5 | H17: =+IF(+'評価項目(標準)'!F16="","",+'評価項目(標準)'!F16) -> 県内企業による施工の割合90％以上 | J17: =IF(I17="","",VLOOKUP(I17,'評価項目(標準)'!F16:I18,4,FALSE)) | K17: ― | L17: ― | M17: =J17
G18: =+IF(+'評価項目(標準)'!I17="","",+'評価項目(標準)'!I17) -> 3 | H18: =+IF(+'評価項目(標準)'!F17="","",+'評価項目(標準)'!F17) -> 県内企業による施工の割合70％以上
G19: =+IF(+'評価項目(標準)'!I18="","",+'評価項目(標準)'!I18) -> 0 | H19: =+IF(+'評価項目(標準)'!F18="","",+'評価項目(標準)'!F18) -> 上記以外
C20: =IF(+'評価項目(標準)'!C19="","",+'評価項目(標準)'!C19) -> 企業の技術力等 | D20: =IF(+'評価項目(標準)'!D19="","",+'評価項目(標準)'!D19) -> 工事実績 | E20: =IF(+'評価項目(標準)'!E19="","",+'評価項目(標準)'!E19) -> 企業の工事実績 | F20: =+IF(+'評価項目(標準)'!J19="","",+'評価項目(標準)'!J19) -> 20 | G20: =+IF(+'評価項目(標準)'!I19="","",+'評価項目(標準)'!I19) -> 20 | H20: =+IF(+'評価項目(標準)'!F19="","",+'評価項目(標準)'!F19) -> 評価対象工事の実績あり | J20: =IF(I20="","",VLOOKUP(I20,'評価項目(標準)'!F19:I20,4,FALSE)) | L20: =IF(K20="","",VLOOKUP(K20,'評価項目(標準)'!F19:I20,4,FALSE)) | M20: =IF(J20="","",IF(L20="","",ROUNDUP(AVERAGE(J20,L20),1)))
G21: =+IF(+'評価項目(標準)'!#REF!="","",+'評価項目(標準)'!#REF!) -> #REF! | H21: =+IF(+'評価項目(標準)'!#REF!="","",+'評価項目(標準)'!#REF!) -> #REF!
G22: =+IF(+'評価項目(標準)'!I20="","",+'評価項目(標準)'!I20) -> 0 | H22: =+IF(+'評価項目(標準)'!F20="","",+'評価項目(標準)'!F20) -> 評価対象工事の実績なし
D23: =IF(+'評価項目(標準)'!D21="","",+'評価項目(標準)'!D21) -> 工事成績 | E23: =IF(+'評価項目(標準)'!E21="","",+'評価項目(標準)'!E21) -> 申告工事成績点又は総合点 | F23: =+IF(+'評価項目(標準)'!J21="","",+'評価項目(標準)'!J21) -> 10 | G23: =IF(+'評価項目(標準)'!I21="","",+'評価項目(標準)'!I21) -> 10 | H23: =IF(+'評価項目(標準)'!F21="","",+'評価項目(標準)'!F21) -> 申告工事成績点が８５点以上の場合 | I23: 【申告工事成績点】 | J23: =IF(COUNTA(I26,I29)=0,"",IF(COUNTA(I26,I29)=2,"入力は【申告工事成績点】、【総合点】のいずれかにして下さい",IF(AND(COUNTA(I26)=1,I24=""),"いずれの【申告工事成績点】なのか、「三重県、中部地整、近畿地整」より選択してください",IF(I29>=970,5,IF(AND(I29<970,I29>=840),ROUNDDOWN((I29-840)/(970-840)*5,1),IF(I29<840,0,)))+IF(I26>=85,F23,IF(AND(I26<75,I26>=1),5,IF(AND(I26<85,I26>=75),ROUNDDOWN((I26-75)*5/10+5,1))))))) | K23: 【申告工事成績点】 | L23: =IF(COUNTA(K26,K29)=0,"",IF(COUNTA(K26,K29)=2,"入力は【申告工事成績点】、【総合点】のいずれかにして下さい",IF(AND(COUNTA(K26)=1,K24=""),"いずれの【申告工事成績点】なのか、「三重県、中部地整、近畿地整」より選択してください",IF(K29>=970,5,IF(AND(K29<970,K29>=840),ROUNDDOWN((K29-840)/(970-840)*5,1),IF(K29<840,0,)))+IF(K26>=85,F23,IF(AND(K26<75,K26>=1),5,IF(AND(K26<85,K26>=75),ROUNDDOWN((K26-75)*5/10+5,1))))))) | M23: =IF(J23="","",IF(L23="","",IF(COUNTA(I26,I29,K26,K29)>=3,"",IF(OR(ISTEXT(J23),ISTEXT(L23)),"",ROUNDUP(AVERAGE(J23,L23),1)))))
G24: =IF(+'評価項目(標準)'!I22="","",+'評価項目(標準)'!I22) | H24: =IF(+'評価項目(標準)'!F22="","",+'評価項目(標準)'!F22) -> 申告工事成績点が７５点以上８５点未満の場合 計算式１ （申告工事成績点－７５点）×５／１０＋５点
G25: =IF(+'評価項目(標準)'!I23="","",+'評価項目(標準)'!I23) -> ～ | M25: =J25 -> 0
G26: =IF(+'評価項目(標準)'!I24="","",+'評価項目(標準)'!I24)
G27: =IF(+'評価項目(標準)'!I25="","",+'評価項目(標準)'!I25) -> 5 | H27: =IF(+'評価項目(標準)'!F25="","",+'評価項目(標準)'!F25) -> 申告工事成績点が７５点未満の場合 | M27: =J27 -> 0
D28: =IF(+'評価項目(標準)'!D32="","",+'評価項目(標準)'!D32) | E28: =IF(+'評価項目(標準)'!E32="","",+'評価項目(標準)'!E32) | G28: =IF(+'評価項目(標準)'!I26="","",+'評価項目(標準)'!I26) -> 5 | H28: =IF(+'評価項目(標準)'!F26="","",+'評価項目(標準)'!F26) -> 総合点が９７０点以上の場合 | I28: 【総合点】 | K28: 【総合点】
G29: =IF(+'評価項目(標準)'!I27="","",+'評価項目(標準)'!I27) | H29: =IF(+'評価項目(標準)'!F27="","",+'評価項目(標準)'!F27) -> 総合点が８４０点以上９７０点未満の場合 計算式２ （総合点－８４０）／（９７０－８４０）×５ | M29: =J29 -> 0
G30: =IF(+'評価項目(標準)'!I28="","",+'評価項目(標準)'!I28) -> ～
G31: =IF(+'評価項目(標準)'!I29="","",+'評価項目(標準)'!I29) | M31: =J31 -> 0
G32: =IF(+'評価項目(標準)'!I30="","",+'評価項目(標準)'!I30) -> 0 | H32: =IF(+'評価項目(標準)'!F30="","",+'評価項目(標準)'!F30) -> 総合点が８４０点未満の場合
D33: =IF(+'評価項目(標準)'!D31="","",+'評価項目(標準)'!D31) -> 契約件数 | E33: =IF(+'評価項目(標準)'!E31="","",+'評価項目(標準)'!E31) -> 土木一式工事の契約件数 | F33: =+IF(+'評価項目(標準)'!J31="","",+'評価項目(標準)'!J31) -> 10 | G33: =IF(+'評価項目(標準)'!I31="","",+'評価項目(標準)'!I31) -> 10 | H33: =IF(+'評価項目(標準)'!F31="","",+'評価項目(標準)'!F31) -> ０件 | J33: =IF(I33="","",VLOOKUP(I33,'評価項目(標準)'!F31:I33,4,FALSE)) | L33: =IF(K33="","",VLOOKUP(K33,'評価項目(標準)'!F31:I33,4,FALSE)) | M33: =IF(J33="","",IF(L33="","",ROUNDUP(AVERAGE(J33,L33),1)))
G34: =IF(+'評価項目(標準)'!I32="","",+'評価項目(標準)'!I32) -> 5 | H34: =IF(+'評価項目(標準)'!F32="","",+'評価項目(標準)'!F32) -> １件
G35: =IF(+'評価項目(標準)'!I33="","",+'評価項目(標準)'!I33) -> 0 | H35: =IF(+'評価項目(標準)'!F33="","",+'評価項目(標準)'!F33) -> ２件以上
B36: =IF(+'評価項目(標準)'!B40="","",+'評価項目(標準)'!B40) -> 総合評価方式の不履行による 加算点の減点 | E36: =IF(+'評価項目(標準)'!E40="","",+'評価項目(標準)'!E40) -> 当該工事の入札公告日が、三重県が総合評価方式で発注した工事で不履行による減点措置が課されている期間内である場合、「技術提案等不履行確定通知書等」に記載した減点を行います。 | H36: =IF('評価項目(標準)'!I40="","",+'評価項目(標準)'!I40) -> △換算前 加算点満点 ×1割 ×件数 | J36: =IF(+I36="",0,-(+'評価項目(標準)'!J42*0.1*I36)) -> 0 | L36: =IF(+K36="",0,-(+'評価項目(標準)'!J42*0.1*K36)) -> 0 | M36: =IF(J36+L36=0,"",J36+L36)
B37: =IF(+'評価項目(標準)'!B41="","",+'評価項目(標準)'!B41) -> 指名停止措置による 加算点の減点 | E37: =IF(+'評価項目(標準)'!E41="","",+'評価項目(標準)'!E41) -> 当該工事の入札公告日が、三重県発注工事にかかる贈賄、公契約関係競売等妨害又は談合により役員等又は使用人が逮捕、又は逮捕を経ないで公訴を提起されたことによる指名停止に伴う減点措置期間内である場合、減点を行います。 | H37: =IF('評価項目(標準)'!I41="","",+'評価項目(標準)'!I41) -> △換算前加算点満点 ×1割 | M37: =IF(I37+K37>0,-'評価項目(標準)'!J42*0.1,"")
L38: 合計 | M38: =ROUNDDOWN(SUM(M6:M35),0)+SUM(M36:M37) -> 0
B40: 【記入上の注意】
B41: ・ | D41: 黄色着色のセルは、該当する数値を直接入力してください。加算点は、自動計算により表示されます。
B42: ・ | D42: 橙色着色のセルは、セル中から該当する項目を選択してください。加算点は、選択した内容に応じて自動で表示されます。
B43: ・ | C43: 評価項目及び評価基準の詳細については、「評価項目一覧」及び「技術資料作成上の留意事項」で確認してください。
B44: ・ | C44: このシートは「評価項目一覧」とリンクしています。自己加算点が表示されていない場合は評価しません。

Sheet 様式２
A1: （様式２） 地域精通度・企業の技術力等に関する技術資料
O2: 会社名
A3: 【地域精通度】
A5: 本店等所在地 | E5: 本店所在地
E7: 所在地の変更日 | J7: 年 月 日
E8: 旧所在地
A10: 施工箇所地域 における 工事実績 | E10: コリンズ登録番号
E11: 工事名称
A14: 【企業の技術力等】
A16: 工事実績 | E16: コリンズ登録番号
E17: 工事名称
A20: 工事成績 | E20: 三重県の 工事評定点 | H20: 令和５年４月１日以降に完成検査を行った工事の評定点 | AD20: 申告工事成績点
AD21: =IF(COUNTA(T20:AC21)=0,"",ROUNDDOWN(((SUM(T20:AC21)+75))/(COUNTA(T20:AC21)+1),1)) | AI21: 点
A22: 契約件数 | E22: （令和８年８月３１日 時点）
E23: 1 | G23: コリンズ登録番号
G24: 工事名称
E27: 2 | G27: コリンズ登録番号
G28: 工事名称
A33: 【地域精通度の注意事項】
A35: 注1： | C35: 本店と建設業法上の主たる営業所の所在地が同じ場合は、本店所在地の入力は不要です。
A37: 注2： | C37: 本店及び建設業法上の主たる営業所の所在地を変更していない場合は、旧所在地と変更日の入力は不要です。
A40: 【企業の技術力等の注意事項】
A42: 【工事成績】
A43: 注1： | C43: 令和５年４月１日から当該工事の入札公告日までに三重県が通知（工事成績認定書）した土木一式工事の評定点を、任意の件数だけ入力してください。 １０件まで申告できます。
D46: 記載例
A55: 【契約件数】
A56: 注2： | C56: 入札公告日における、○○発注の契約額○○円以上の土木一式工事の契約件数が３件以上ある場合は、２件まで記載して下さい。

Sheet 様式４（対策なし）
A1: （様式４） 技術提案に関する技術資料
A2: 工事名：
A3: 会社名 | AQ3: ※本頁は、提出不要です。
A4: 特記課題 | AQ4: 【特記課題の注意事項】
A5: 項目１ | D5: 留意点① | AP5: 1 2 3 4 5 6 7 8 9 10 11 12 13 14 15 | AR5: ・評価項目一覧に示す３項目について、工事を行ううえでの留意点とその理由をそれぞれ簡潔に記
AP6: 2 | AR6: 載してください。
AP7: 3 | AR7: ・具体的に実施する対策などを記載しても、その部分は評価しません。
AP8: 4 | AR8: ・文字の大きさは、１０ポイントとします。
AP9: 5 | AR9: ・行列の挿入及びセルサイズの変更は、不可とします。
D10: 留意点② | AP10: 1 | AR10: ・各項目の留意点①～③は、それぞれ５行以内で記載するものとします。
AP11: 2 | AR11: ・５行を超えて記載されている留意点は、評価しません。※例１、例２参照
AP12: 3 | AR12: ・ | AS12: 文字ポイントを小さくして、５行以内で記載されている留意点は、評価しません。※例３参照
AP13: 4 | AR13: ・ | AS13: 印刷した様式４で判断しますので、十分確認のうえ提出してください。
AP14: 5 | AS14: ※電子媒体で提出された場合でも、印刷して判断します。
D15: 留意点③ | AP15: 1 | AR15: ・ | AS15: 一括審査対象工事の場合、工事名には入札への参加を希望するすべての工事名を記載してください。
AP16: 2
AP17: 3
AP18: 4
AP19: 5
A20: 項目２ | D20: 留意点① | AP20: 1 2 3 4 5 6 7 8 9 10 11 12 13 14 15
AP21: 2
AP22: 3
AP23: 4
AP24: 5
D25: 留意点② | AP25: 1
AP26: 2
AP27: 3
AP28: 4
AP29: 5
D30: 留意点③ | AP30: 1
AP31: 2
AP32: 3
AP33: 4
AP34: 5
