Workbook

Sheet 評価項目(標準)
M1: 土木一式工事（特別簡易型） 【令和８年６月版】
B2: 特別簡易型 | D2: 総合評価方式評価項目一覧 【土木一式工事】 除算方式 | G2: 工事名： | I2: 二級水系員弁川水系田切川 砂防（えん堤工）工事
B3: 大項目 | D3: 中項目 | E3: 小項目 | F3: 評価基準 | I3: 加算点 | L3: 様式 | M3: 評価内容等
I4: 配点 | J4: 小項目 配点 | K4: 大項目 配点
B5: 企 業 の 能 力 等 | C5: 地域精通度・貢献度 | D5: 地域精通度 | E5: 本店等所在地 | F5: いなべ市、員弁郡内 | I5: 10 | J5: 10 | K5: =SUM(J5:J34) -> 79 | L5: 様式１ 様式２ | M5: 「本店及び建設業法上の主たる営業所」の所在地により評価します。 ・本店等の所在地を変更した場合、公告の前月から３６か月前までの期間の「１８か月以上連続した所在地」を評価の対象とします。
F6: 上記以外の桑名建設事務所管内 | I6: 0
D7: 地域貢献度 | E7: 地域維持型維持修繕業務委託（雪氷業務）元請実績 | F7: 有 | I7: 5 | J7: 5 | M7: 桑名建設事務所発注の令和６年～令和７年又は令和７年～令和８年地域維持型維持修繕業務委託（雪氷対策）元請契約実績の有無により評価します。 ・地域維持型維持修繕業務委託（雪氷対策）元請契約実績は、建設共同企業体の代表者を含む全ての構成員を評価の対象とします。 ・ただし、乙型に関しては、地域維持型建設共同企業体協定書第８条に基づき、雪氷業務が分担する業務に含まれない場合は、評価の対象としません。
F8: 無 | I8: 0
E9: 地域維持型維持修繕業務委託（小規模業務）元請実績 | F9: 有 | I9: 5 | J9: 5 | M9: 桑名建設事務所発注の令和６年～令和７年又は令和７年～令和８年地域維持型維持修繕業務委託（小規模）元請契約実績又は令和６年度上期～令和７年度下期における北勢流域下水道事務所発注の小規模業務委託元請契約実績（ただし、桑名建設事務所管内に本店及び建設業法上の主たる営業所を有する者に限ります。）の有無により評価します。 ・地域維持型維持修繕業務委託（小規模）元請契約実績は、建設共同企業体の代表者を含む全ての構成員を評価の対象とします。 ・ただし、乙型に関しては、地域維持型建設共同企業体協定書第８条に基づき、小規模業務が分担する業務に含まれない場合は、評価の対象としません。
F10: 無 | I10: 0
E11: 災害協定の評価 | F11: 災害協定に基づく訓練１への参加実績あり | I11: 9 | J11: 9 | M11: 「災害協定に基づく訓練１への参加実績」又は「災害協定に基づく訓練２への参加実績」又は「防災協定の締結実績」の有無により評価します。 【災害協定に基づく訓練１】 ・「災害協定」とは、桑名建設事務所と締結した「地震・津波・風水害等の緊急時における運用協定」をいいます。 ・「災害協定に基づく訓練１の参加実績」は、「災害協定」に基づいた災害対応実動訓練及び情報伝達訓練への令和６年度又は令和７年度の参加実績を指します。 ・「災害対応実動訓練」は、以下の要件をすべて満たす場合に評価します。 ① 団体として５年以上継続した実動訓練実績があること。 ② 評価対象年度の実動訓練において、協定締結団体構成員のうち、桑名建設事務所管内の構成員の半数以上が参加していること。 ③ ②で評価する参加企業については、Ａランク企業では代表者と１名以上の技術者、Ｂランク企業等では、１名以上の技術者が参加していること。 ・「情報伝達訓練」は、団体として５年以上の継続した訓練の実績がある場合に評価します。 【災害協定に基づく訓練２】 ・「災害協定」とは、桑名建設事務所と締結した「地震・津波・風水害等の緊急時における運用協定」をいいます。 ・「災害協定に基づく訓練２の参加実績」は、「災害協定」に基づいた情報伝達訓練への令和６年度又は令和７年度の参加実績を指します。 ・「情報伝達訓練」は、団体として５年以上の継続した訓練の実績がある場合に評価します。 【防災協定の締結】 ・「防災協定」とは、「桑名建設事務所管内の市町との防災協定」又は「三重県との防災協定」をいいます。 ・「桑名建設事務所管内の市町との防災協定」については、「建設業のための広場」で公開している最新版の「経営事項審査申請の手引き」に記載された、協定書等に災害時の建設業者の活動義務が規定されている防災協定とします。 ・「三重県との防災協定」については、「技術資料作成上の留意事項」に記載した防災協定とします。 ・「防災協定の締結」は、令和６年度又は令和７年度の防災協定締結を評価の対象とします。対象期間以前の協定締結で、自動継続している協定は含みます。 ・「防災協定の締結」の評価は、桑名建設事務所管内に「本店及び建設業法上の主たる営業所」又は「建設業法上の営業所」を有する企業に限ります。 ※「災害協定に基づく訓練１への参加実績」と「災害協定に基づく訓練２への参加実績」と「防災協定の締結実績」は重複して評価しません。
F12: 災害協定に基づく訓練２への参加実績あり | I12: 7
F13: 防災協定の締結実績あり | I13: 3
F14: 実績なし | I14: 0
C15: 社会貢献度 | D15: 社会貢献度 | E15: 県内産資材の使用（生コン） | F15: 全て県内産を使用 | I15: 5 | J15: 5 | M15: 当該工事を貴社が受注した際、当該工事において指定する主要資材を全て県内産とする場合に評価します。 ・当該工事において指定する主要資材は、生コンです。 ・県内産とは、三重県内の工場、採取場等で生産又は加工される資材を指します。 ※当該工事を契約後、「建設工事請負契約書の特約事項」に基づき履行を確認します。
F16: 上記以外 | I16: 0
E17: 県内企業による施工 | F17: 県内企業による施工の割合90 ％以上 | I17: 5 | J17: 5 | M17: 当該工事のうち、建設業法上の建設工事の県内企業による施工の割合により評価します。 ・県内企業とは、三重県内に「本店及び建設業法上の主たる営業所」を有する企業を指します。 ・元請直営施工、一次下請負及び二次下請負による施工を評価の対象とします。 県内企業による施工の割合 ＝ [ 契約金額(最終) － { 県外一次下請金額(最終) + 県外二次下請金額(最終) } ] ／ 契約金額(最終) ※当該工事を契約後、「建設工事請負契約書の特約事項」に基づき履行を確認します。
F18: 県内企業による施工の割合70 ％以上 | I18: 3
F19: 上記以外 | I19: 0
C20: 企業の技術力等 | D20: 工事実績 | E20: 企業の工事実績 | F20: 評価対象工事の実績あり | I20: 20 | J20: 20 | M20: 三重県内において、単独又は共同企業体構成員（出資比率20％以上に限る）の元請として受注し、平成２３年度以降に完成し、かつ、引渡しが済んでいる契約金額１千５百万円以上の評価対象工事の実績の有無により評価します。 ・「評価対象工事」とは、土木一式工事（業種）で発注された、砂防工事、河川工事を指します。ただし、堆積土砂撤去のみの工事は除きます。 ・評価対象の工事実績は１件とし、コリンズに登録された公共機関等発注の工事に限ります。
F21: 評価対象工事の実績なし | I21: 0
D22: 工事成績 | E22: 申告工事成績点又は総合点 | F22: 申告工事成績点が８５点以上の場合 | I22: 10 | J22: 10 | M22: 【申告工事成績点】 次の①又は②を申告工事成績点とし、評価基準に記載の計算式１により評価します。ただし、申告工事成績点が８５点以上の場合は１０点、７５点未満の場合は５点とします。 ①令和５年４月１日から当該工事の入札公告日までに三重県が通知（工事成績認定書）した土木一式工事の評定点のうち、申告された任意の件数（ｎ件）の合計に７５点を加え、ｎ＋１で割った値とする。ただし、申告できるのは10件までとします。 申告工事成績点 ＝（申告されたｎ件の評定点の合計＋７５）／（ｎ＋１）（小数第２位以下切り捨て） ②国土交通省中部地方整備局又は国土交通省近畿地方整備局が令和７年度に公表した工事成績評定平均点とします。 【総合点】 ①及び②が無い場合は、総合点を評価基準に記載の計算式２（小数第２位以下切り捨て）により評価します。ただし、総合点が９７０点以上の場合は５点、８４０点未満の場合は０点とします。 ・総合点とは入札公告日において最新の三重県建設工事等入札参加資格者名簿に記載された総合点とします。 ・上記全てに該当がない場合の加算点は０点です。
F23: 申告工事成績点が７５点以上８５点未満の場合 計算式１ （申告工事成績点－７５点）×５／１０＋５点
I24: ～
F26: 申告工事成績点が７５点未満の場合 | I26: 5
F27: 総合点が９７０点以上の場合 | I27: 5
F28: 総合点が８４０点以上９７０点未満の場合 計算式２ （総合点－８４０）／（９７０－８４０）×５
I29: ～
F31: 総合点が８４０点未満の場合 | I31: 0
D32: 契約件数 | E32: 土木一式工事の契約件数 | F32: ０件 | I32: 10 | J32: 10 | M32: 入札公告日における公共機関等発注の契約金額２千万円以上の土木一式工事の契約件数により評価します。なお、共同企業体工事については、出資比率にかかわらず契約件数１件としてカウントします。 ・小規模、雪氷、地域維持型維持修繕等の業務委託は、件数に含みません。
F33: １件 | I33: 5
F34: ２件以上 | I34: 0
B35: 総合評価方式の不履行による 加算点の減点 | E35: 当該工事の入札公告日が、三重県が総合評価方式で発注した工事で不履行による減点措置が課されている期間内である場合、「技術提案等不履行確定通知書等」に記載した減点を行います。 | I35: △換算前 加算点満点 ×1割 ×件数 | L35: 様式１ | M35: 三重県が総合評価方式で発注した工事で、技術資料又は施工体制確認資料に記載された事項に不履行があった場合の減点は、次式により行います。 減点後の貴社の換算前加算点合計＝Ａ－（Ｂ×０．１×Ｃ） Ａ：貴社の換算前加算点合計 Ｂ：当該工事の換算前加算点満点 Ｃ：不履行工事件数 不履行工事件数とは、当該工事の入札公告日が「技術提案等不履行確定通知書」で通知された不履行による減点の対象となる期間内である工事の件数とします。
B36: 指名停止措置による 加算点の減点 | E36: 当該工事の入札公告日が、三重県発注工事にかかる贈賄、公契約関係競売等妨害又は談合により役員等又は使用人が逮捕、又は逮捕を経ないで公訴を提起されたことによる指名停止に伴う減点措置期間内である場合、減点を行います。 | I36: △換算前 加算点満点 ×1割 | L36: 様式１ | M36: 当該工事の入札公告日が、三重県発注工事にかかる贈賄、公契約関係競売等妨害又は談合により役員等又は使用人が逮捕、又は逮捕を経ないで公訴を提起されたことによる指名停止に伴う減点措置期間内である場合の減点は、次式により行います。 減点後の貴社の換算前加算点合計＝Ａ－（Ｂ×０．１） Ａ：貴社の換算前加算点合計 Ｂ：当該工事の換算前加算点満点 ※減点措置期間は指名停止期間の終了日の翌日から１年間とします。 なお、対象となる指名停止措置は、当該工事入札公告日の前年度４月１日から当該工事入札公告日までの期間に指名停止期間が１日でも重複するものとします。
I37: 換算前 加算点 満点 | J37: =SUM(K5:K34) -> 79 | M37: ※技術資料の作成方法及び提出資料は、「技術資料作成上の留意事項」を必ず確認してください。
I38: 加算点 満点 | J38: 10
B40: 当該工事で、技術資料又は施工体制確認資料に記載の内容に不履行があった場合の取り扱い | E40: 当該工事の履行確認を伴う評価項目に不履行があった場合、「技術提案等不履行確定通知書」により不履行項目・不履行による減点の対象となる期間などを通知します。 「技術提案等不履行確定通知書」に記載した期間に三重県が総合評価方式で発注する工事（以下「発注工事」という。）で、「貴社の換算前加算点合計」から「発注工事の換算前加算点満点」の1割を減点します。 貴社が特定建設工事共同企業体又は経常建設共同企業体の構成員である場合も、「発注工事の換算前加算点満点」の１割を減点します。

Sheet 届出書
AA3: 令和 年 月 日
A5: 技 術 資 料 届 出 書
B9: 三重県知事 | H9: あて
O11: 住 所
O13: 会社名
O15: 代表者氏名
E18: 工 事 名 | F18: ： | G18: 令和8年度 国補通砂 第 K02-02分0001号
G19: 二級水系員弁川水系田切川左支流
G20: 砂防（えん堤工）工事
B25: 上記工事の技術資料を提出します。なお、地方自治法施行令（昭和22年政令第16号）
B26: 第167条の4の規定に該当する者でないこと並びに確認資料の内容は、事実と相違ない
B27: ことを誓約します。問い合わせ先は次のとおりです。
C30: 【問い合わせ先】
D31: 担当者 | G31: ： | H31: ○○ ○○
D32: 部 署 | G32: ： | H32: ○○本店 ○○部 ○○課
D33: 住 所 | G33: ： | H33: ○○県○○市○○
D34: 電話番号 | G34: ： | H34: ＊＊＊－＊＊＊＊－＊＊＊＊
D35: ＦＡＸ | G35: ： | H35: ＊＊＊－＊＊＊＊－＊＊＊＊
D36: Ｅ-mail | G36: ：

Sheet 様式１
B1: （様式１） 加算点申告書
F2: 会社名
B3: 大項目 | D3: 中項目 | E3: 小項目 | F3: 加算点 | G3: 評価基準 | I3: 各評価項目の 自己評価 | J3: 自己 加算点
G4: 配点 | H4: 基準
B5: =IF('評価項目(標準)'!B5="","",+'評価項目(標準)'!B5) -> 企 業 の 能 力 等 | C5: =IF(+'評価項目(標準)'!C5="","",+'評価項目(標準)'!C5) -> 地域精通度・貢献度 | D5: =IF(+'評価項目(標準)'!D5="","",+'評価項目(標準)'!D5) -> 地域精通度 | E5: =IF(+'評価項目(標準)'!E5="","",+'評価項目(標準)'!E5) -> 本店等所在地 | F5: =+IF(+'評価項目(標準)'!J5="","",+'評価項目(標準)'!J5) -> 10 | G5: =+IF(+'評価項目(標準)'!I5="","",+'評価項目(標準)'!I5) -> 10 | H5: =+IF(+'評価項目(標準)'!F5="","",+'評価項目(標準)'!F5) -> いなべ市、員弁郡内 | J5: =IF(I5="","",VLOOKUP(I5,'評価項目(標準)'!F5:I6,4,FALSE))
G6: =+IF(+'評価項目(標準)'!I6="","",+'評価項目(標準)'!I6) -> 0 | H6: =+IF(+'評価項目(標準)'!F6="","",+'評価項目(標準)'!F6) -> 上記以外の桑名建設事務所管内
D7: =IF(+'評価項目(標準)'!D7="","",+'評価項目(標準)'!D7) -> 地域貢献度 | E7: =IF(+'評価項目(標準)'!E7="","",+'評価項目(標準)'!E7) -> 地域維持型維持修繕業務委託（雪氷業務）元請実績 | F7: =+IF(+'評価項目(標準)'!J7="","",+'評価項目(標準)'!J7) -> 5 | G7: =+IF(+'評価項目(標準)'!I7="","",+'評価項目(標準)'!I7) -> 5 | H7: =+IF(+'評価項目(標準)'!F7="","",+'評価項目(標準)'!F7) -> 有 | J7: =IF(I7="","",IF(I7=H7,G7,IF(I7=H8,G8)))
G8: =+IF(+'評価項目(標準)'!I8="","",+'評価項目(標準)'!I8) -> 0 | H8: =+IF(+'評価項目(標準)'!F8="","",+'評価項目(標準)'!F8) -> 無
E9: =IF(+'評価項目(標準)'!E9="","",+'評価項目(標準)'!E9) -> 地域維持型維持修繕業務委託（小規模業務）元請実績 | F9: =+IF(+'評価項目(標準)'!J9="","",+'評価項目(標準)'!J9) -> 5 | G9: =+IF(+'評価項目(標準)'!I9="","",+'評価項目(標準)'!I9) -> 5 | H9: =+IF(+'評価項目(標準)'!F9="","",+'評価項目(標準)'!F9) -> 有 | J9: =IF(I9="","",IF(I9=H9,G9,IF(I9=H10,G10)))
G10: =+IF(+'評価項目(標準)'!I10="","",+'評価項目(標準)'!I10) -> 0 | H10: =+IF(+'評価項目(標準)'!F10="","",+'評価項目(標準)'!F10) -> 無
E11: =IF(+'評価項目(標準)'!E11="","",+'評価項目(標準)'!E11) -> 災害協定の評価 | F11: =+IF(+'評価項目(標準)'!J11="","",+'評価項目(標準)'!J11) -> 9 | G11: =+IF(+'評価項目(標準)'!I11="","",+'評価項目(標準)'!I11) -> 9 | H11: =+IF(+'評価項目(標準)'!F11="","",+'評価項目(標準)'!F11) -> 災害協定に基づく訓練１への参加実績あり | J11: =IF(I11="","",VLOOKUP(I11,'評価項目(標準)'!F11:I15,4,FALSE))
G12: =+IF(+'評価項目(標準)'!I12="","",+'評価項目(標準)'!I12) -> 7 | H12: =+IF(+'評価項目(標準)'!F12="","",+'評価項目(標準)'!F12) -> 災害協定に基づく訓練２への参加実績あり
G13: =+IF(+'評価項目(標準)'!I13="","",+'評価項目(標準)'!I13) -> 3 | H13: =+IF(+'評価項目(標準)'!F13="","",+'評価項目(標準)'!F13) -> 防災協定の締結実績あり
G14: =+IF(+'評価項目(標準)'!I14="","",+'評価項目(標準)'!I14) -> 0 | H14: =+IF(+'評価項目(標準)'!F14="","",+'評価項目(標準)'!F14) -> 実績なし
C15: =IF(+'評価項目(標準)'!C15="","",+'評価項目(標準)'!C15) -> 社会貢献度 | D15: =IF(+'評価項目(標準)'!D15="","",+'評価項目(標準)'!D15) -> 社会貢献度 | E15: =IF(+'評価項目(標準)'!E15="","",+'評価項目(標準)'!E15) -> 県内産資材の使用（生コン） | F15: =+IF(+'評価項目(標準)'!J15="","",+'評価項目(標準)'!J15) -> 5 | G15: =+IF(+'評価項目(標準)'!I15="","",+'評価項目(標準)'!I15) -> 5 | H15: =+IF(+'評価項目(標準)'!F15="","",+'評価項目(標準)'!F15) -> 全て県内産を使用 | J15: =IF(I15="","",IF(I15=H15,G15,IF(I15=H16,G16)))
G16: =+IF(+'評価項目(標準)'!I16="","",+'評価項目(標準)'!I16) -> 0 | H16: =+IF(+'評価項目(標準)'!F16="","",+'評価項目(標準)'!F16) -> 上記以外
E17: =IF(+'評価項目(標準)'!E17="","",+'評価項目(標準)'!E17) -> 県内企業による施工 | F17: =+IF(+'評価項目(標準)'!J17="","",+'評価項目(標準)'!J17) -> 5 | G17: =+IF(+'評価項目(標準)'!I17="","",+'評価項目(標準)'!I17) -> 5 | H17: =+IF(+'評価項目(標準)'!F17="","",+'評価項目(標準)'!F17) -> 県内企業による施工の割合90 ％以上 | J17: =IF(I17="","",VLOOKUP(I17,'評価項目(標準)'!F17:I19,4,FALSE))
G18: =+IF(+'評価項目(標準)'!I18="","",+'評価項目(標準)'!I18) -> 3 | H18: =+IF(+'評価項目(標準)'!F18="","",+'評価項目(標準)'!F18) -> 県内企業による施工の割合70 ％以上
G19: =+IF(+'評価項目(標準)'!I19="","",+'評価項目(標準)'!I19) -> 0 | H19: =+IF(+'評価項目(標準)'!F19="","",+'評価項目(標準)'!F19) -> 上記以外
C20: =IF(+'評価項目(標準)'!C20="","",+'評価項目(標準)'!C20) -> 企業の技術力等 | D20: =IF(+'評価項目(標準)'!D20="","",+'評価項目(標準)'!D20) -> 工事実績 | E20: =IF(+'評価項目(標準)'!E20="","",+'評価項目(標準)'!E20) -> 企業の工事実績 | F20: =+IF(+'評価項目(標準)'!J20="","",+'評価項目(標準)'!J20) -> 20 | G20: =+IF(+'評価項目(標準)'!I20="","",+'評価項目(標準)'!I20) -> 20 | H20: =+IF(+'評価項目(標準)'!F20="","",+'評価項目(標準)'!F20) -> 評価対象工事の実績あり | J20: =IF(I20="","",VLOOKUP(I20,'評価項目(標準)'!F20:I21,4,FALSE))
G21: =+IF(+'評価項目(標準)'!I21="","",+'評価項目(標準)'!I21) -> 0 | H21: =+IF(+'評価項目(標準)'!F21="","",+'評価項目(標準)'!F21) -> 評価対象工事の実績なし
D22: =IF(+'評価項目(標準)'!D22="","",+'評価項目(標準)'!D22) -> 工事成績 | E22: =IF(+'評価項目(標準)'!E22="","",+'評価項目(標準)'!E22) -> 申告工事成績点又は総合点 | F22: =+IF(+'評価項目(標準)'!J22="","",+'評価項目(標準)'!J22) -> 10 | G22: =IF(+'評価項目(標準)'!I22="","",+'評価項目(標準)'!I22) -> 10 | H22: =IF(+'評価項目(標準)'!F22="","",+'評価項目(標準)'!F22) -> 申告工事成績点が８５点以上の場合 | I22: 【申告工事成績点】 | J22: =IF(COUNTA(I24,I28)=0,"",IF(COUNTA(I24,I28)=2,"入力は【申告工事成績点】、【総合点】のいずれかにして下さい",IF(AND(COUNTA(I24)=1,I23=""),"いずれの【申告工事成績点】なのか、「三重県、中部地整、近畿地整」より選択してください",IF(I28>=970,5,IF(AND(I28<970,I28>=840),ROUNDDOWN((I28-840)/(970-840)*5,1),IF(I28<840,0,)))+IF(I24>=85,F22,IF(AND(I24<75,I24>=1),5,IF(AND(I24<85,I24>=75),ROUNDDOWN((I24-75)*5/10+5,1)))))))
G23: =IF(+'評価項目(標準)'!I23="","",+'評価項目(標準)'!I23) | H23: =IF(+'評価項目(標準)'!F23="","",+'評価項目(標準)'!F23) -> 申告工事成績点が７５点以上８５点未満の場合 計算式１ （申告工事成績点－７５点）×５／１０＋５点
G24: =IF(+'評価項目(標準)'!I24="","",+'評価項目(標準)'!I24) -> ～
G25: =IF(+'評価項目(標準)'!I25="","",+'評価項目(標準)'!I25)
G26: =IF(+'評価項目(標準)'!I26="","",+'評価項目(標準)'!I26) -> 5 | H26: =IF(+'評価項目(標準)'!F26="","",+'評価項目(標準)'!F26) -> 申告工事成績点が７５点未満の場合
D27: =IF(+'評価項目(標準)'!#REF!="","",+'評価項目(標準)'!#REF!) -> #REF! | E27: =IF(+'評価項目(標準)'!#REF!="","",+'評価項目(標準)'!#REF!) -> #REF! | G27: =IF(+'評価項目(標準)'!I27="","",+'評価項目(標準)'!I27) -> 5 | H27: =IF(+'評価項目(標準)'!F27="","",+'評価項目(標準)'!F27) -> 総合点が９７０点以上の場合 | I27: 【総合点】
G28: =IF(+'評価項目(標準)'!I28="","",+'評価項目(標準)'!I28) | H28: =IF(+'評価項目(標準)'!F28="","",+'評価項目(標準)'!F28) -> 総合点が８４０点以上９７０点未満の場合 計算式２ （総合点－８４０）／（９７０－８４０）×５
G29: =IF(+'評価項目(標準)'!I29="","",+'評価項目(標準)'!I29) -> ～
G30: =IF(+'評価項目(標準)'!I30="","",+'評価項目(標準)'!I30)
G31: =IF(+'評価項目(標準)'!I31="","",+'評価項目(標準)'!I31) -> 0 | H31: =IF(+'評価項目(標準)'!F31="","",+'評価項目(標準)'!F31) -> 総合点が８４０点未満の場合
D32: =IF(+'評価項目(標準)'!D32="","",+'評価項目(標準)'!D32) -> 契約件数 | E32: =IF(+'評価項目(標準)'!E32="","",+'評価項目(標準)'!E32) -> 土木一式工事の契約件数 | F32: =+IF(+'評価項目(標準)'!J32="","",+'評価項目(標準)'!J32) -> 10 | G32: =IF(+'評価項目(標準)'!I32="","",+'評価項目(標準)'!I32) -> 10 | H32: =IF(+'評価項目(標準)'!F32="","",+'評価項目(標準)'!F32) -> ０件 | J32: =IF(I32="","",VLOOKUP(I32,'評価項目(標準)'!F32:I34,4,FALSE))
G33: =IF(+'評価項目(標準)'!I33="","",+'評価項目(標準)'!I33) -> 5 | H33: =IF(+'評価項目(標準)'!F33="","",+'評価項目(標準)'!F33) -> １件
G34: =IF(+'評価項目(標準)'!I34="","",+'評価項目(標準)'!I34) -> 0 | H34: =IF(+'評価項目(標準)'!F34="","",+'評価項目(標準)'!F34) -> ２件以上
B35: =IF(+'評価項目(標準)'!B35="","",+'評価項目(標準)'!B35) -> 総合評価方式の不履行による 加算点の減点 | E35: =IF(+'評価項目(標準)'!E35="","",+'評価項目(標準)'!E35) -> 当該工事の入札公告日が、三重県が総合評価方式で発注した工事で不履行による減点措置が課されている期間内である場合、「技術提案等不履行確定通知書等」に記載した減点を行います。 | H35: =IF('評価項目(標準)'!I35="","",+'評価項目(標準)'!I35) -> △換算前 加算点満点 ×1割 ×件数 | J35: =IF(+I35="","",-(+'評価項目(標準)'!J37*0.1*I35))
B36: =IF(+'評価項目(標準)'!B36="","",+'評価項目(標準)'!B36) -> 指名停止措置による 加算点の減点 | E36: =IF(+'評価項目(標準)'!E36="","",+'評価項目(標準)'!E36) -> 当該工事の入札公告日が、三重県発注工事にかかる贈賄、公契約関係競売等妨害又は談合により役員等又は使用人が逮捕、又は逮捕を経ないで公訴を提起されたことによる指名停止に伴う減点措置期間内である場合、減点を行います。 | H36: =IF('評価項目(標準)'!I36="","",+'評価項目(標準)'!I36) -> △換算前 加算点満点 ×1割 | J36: =IF(+I36="","",-(+'評価項目(標準)'!J37*0.1))
I37: 合計 | J37: =SUM(J5:J36) -> 0
B39: 【記入上の注意】
B40: ・ | D40: 黄色着色のセルは、該当する数値を直接入力してください。加算点は、自動計算により表示されます。
B41: ・ | D41: 橙色着色のセルは、セル中から該当する項目を選択してください。加算点は、選択した内容に応じて自動で表示されます。
...

Sheet 様式１【経常ＪＶ用】
B2: （様式１） 加算点申告書
F3: 会社名
B4: 大項目 | D4: 中項目 | E4: 小項目 | F4: 加算点 | G4: 評価基準 | I4: 構成員Ａの評価 | K4: 構成員Ｂの評価 | M4: 経常ＪＶの評価
G5: 配点 | H5: 基準 | I5: 各評価項目の 自己評価 | J5: 自己 加算点 | K5: 各評価項目の 自己評価 | L5: 自己 加算点
B6: =IF('評価項目(標準)'!B5="","",+'評価項目(標準)'!B5) -> 企 業 の 能 力 等 | C6: =IF(+'評価項目(標準)'!C5="","",+'評価項目(標準)'!C5) -> 地域精通度・貢献度 | D6: =IF(+'評価項目(標準)'!D5="","",+'評価項目(標準)'!D5) -> 地域精通度 | E6: =IF(+'評価項目(標準)'!E5="","",+'評価項目(標準)'!E5) -> 本店等所在地 | F6: =+IF(+'評価項目(標準)'!J5="","",+'評価項目(標準)'!J5) -> 10 | G6: =+IF(+'評価項目(標準)'!I5="","",+'評価項目(標準)'!I5) -> 10 | H6: =+IF(+'評価項目(標準)'!F5="","",+'評価項目(標準)'!F5) -> いなべ市、員弁郡内 | J6: =IF(I6="","",VLOOKUP(I6,'評価項目(標準)'!F5:I6,4,FALSE)) | K6: ― | L6: ― | M6: =J6
G7: =+IF(+'評価項目(標準)'!I6="","",+'評価項目(標準)'!I6) -> 0 | H7: =+IF(+'評価項目(標準)'!F6="","",+'評価項目(標準)'!F6) -> 上記以外の桑名建設事務所管内
D8: =IF(+'評価項目(標準)'!D7="","",+'評価項目(標準)'!D7) -> 地域貢献度 | E8: =IF(+'評価項目(標準)'!E7="","",+'評価項目(標準)'!E7) -> 地域維持型維持修繕業務委託（雪氷業務）元請実績 | F8: =+IF(+'評価項目(標準)'!J7="","",+'評価項目(標準)'!J7) -> 5 | G8: =+IF(+'評価項目(標準)'!I7="","",+'評価項目(標準)'!I7) -> 5 | H8: =+IF(+'評価項目(標準)'!F7="","",+'評価項目(標準)'!F7) -> 有 | J8: =IF(I8="","",IF(I8=H8,G8,IF(I8=H9,G9))) | L8: =IF(K8="","",IF(K8=H8,G8,IF(K8=H9,G9))) | M8: =IF(J8="","",IF(L8="","",ROUNDUP(AVERAGE(J8,L8),1)))
G9: =+IF(+'評価項目(標準)'!I8="","",+'評価項目(標準)'!I8) -> 0 | H9: =+IF(+'評価項目(標準)'!F8="","",+'評価項目(標準)'!F8) -> 無
E10: =IF(+'評価項目(標準)'!E9="","",+'評価項目(標準)'!E9) -> 地域維持型維持修繕業務委託（小規模業務）元請実績 | F10: =+IF(+'評価項目(標準)'!J9="","",+'評価項目(標準)'!J9) -> 5 | G10: =+IF(+'評価項目(標準)'!I9="","",+'評価項目(標準)'!I9) -> 5 | H10: =+IF(+'評価項目(標準)'!F9="","",+'評価項目(標準)'!F9) -> 有 | J10: =IF(I10="","",IF(I10=H10,G10,IF(I10=H11,G11))) | L10: =IF(K10="","",IF(K10=H10,G10,IF(K10=H11,G11))) | M10: =IF(J10="","",IF(L10="","",ROUNDUP(AVERAGE(J10,L10),1)))
G11: =+IF(+'評価項目(標準)'!I10="","",+'評価項目(標準)'!I10) -> 0 | H11: =+IF(+'評価項目(標準)'!F10="","",+'評価項目(標準)'!F10) -> 無
E12: =IF(+'評価項目(標準)'!E11="","",+'評価項目(標準)'!E11) -> 災害協定の評価 | F12: =+IF(+'評価項目(標準)'!J11="","",+'評価項目(標準)'!J11) -> 9 | G12: =+IF(+'評価項目(標準)'!I11="","",+'評価項目(標準)'!I11) -> 9 | H12: =+IF(+'評価項目(標準)'!F11="","",+'評価項目(標準)'!F11) -> 災害協定に基づく訓練１への参加実績あり | J12: =IF(I12="","",VLOOKUP(I12,'評価項目(標準)'!F11:I15,4,FALSE)) | L12: =IF(K12="","",VLOOKUP(K12,'評価項目(標準)'!F11:I15,4,FALSE)) | M12: =IF(J12="","",IF(L12="","",ROUNDUP(AVERAGE(J12,L12),1)))
G13: =+IF(+'評価項目(標準)'!I12="","",+'評価項目(標準)'!I12) -> 7 | H13: =+IF(+'評価項目(標準)'!F12="","",+'評価項目(標準)'!F12) -> 災害協定に基づく訓練２への参加実績あり
G14: =+IF(+'評価項目(標準)'!I13="","",+'評価項目(標準)'!I13) -> 3 | H14: =+IF(+'評価項目(標準)'!F13="","",+'評価項目(標準)'!F13) -> 防災協定の締結実績あり
G15: =+IF(+'評価項目(標準)'!I14="","",+'評価項目(標準)'!I14) -> 0 | H15: =+IF(+'評価項目(標準)'!F14="","",+'評価項目(標準)'!F14) -> 実績なし
C16: =IF(+'評価項目(標準)'!C15="","",+'評価項目(標準)'!C15) -> 社会貢献度 | D16: =IF(+'評価項目(標準)'!D15="","",+'評価項目(標準)'!D15) -> 社会貢献度 | E16: =IF(+'評価項目(標準)'!E15="","",+'評価項目(標準)'!E15) -> 県内産資材の使用（生コン） | F16: =+IF(+'評価項目(標準)'!J15="","",+'評価項目(標準)'!J15) -> 5 | G16: =+IF(+'評価項目(標準)'!I15="","",+'評価項目(標準)'!I15) -> 5 | H16: =+IF(+'評価項目(標準)'!F15="","",+'評価項目(標準)'!F15) -> 全て県内産を使用 | J16: =IF(I16="","",IF(I16=H16,G16,IF(I16=H17,G17))) | K16: ― | L16: ― | M16: =J16
G17: =+IF(+'評価項目(標準)'!I16="","",+'評価項目(標準)'!I16) -> 0 | H17: =+IF(+'評価項目(標準)'!F16="","",+'評価項目(標準)'!F16) -> 上記以外
E18: =IF(+'評価項目(標準)'!E17="","",+'評価項目(標準)'!E17) -> 県内企業による施工 | F18: =+IF(+'評価項目(標準)'!J17="","",+'評価項目(標準)'!J17) -> 5 | G18: =+IF(+'評価項目(標準)'!I17="","",+'評価項目(標準)'!I17) -> 5 | H18: =+IF(+'評価項目(標準)'!F17="","",+'評価項目(標準)'!F17) -> 県内企業による施工の割合90 ％以上 | J18: =IF(I18="","",VLOOKUP(I18,'評価項目(標準)'!F17:I19,4,FALSE)) | K18: ― | L18: ― | M18: =J18
G19: =+IF(+'評価項目(標準)'!I18="","",+'評価項目(標準)'!I18) -> 3 | H19: =+IF(+'評価項目(標準)'!F18="","",+'評価項目(標準)'!F18) -> 県内企業による施工の割合70 ％以上
G20: =+IF(+'評価項目(標準)'!I19="","",+'評価項目(標準)'!I19) -> 0 | H20: =+IF(+'評価項目(標準)'!F19="","",+'評価項目(標準)'!F19) -> 上記以外
C21: =IF(+'評価項目(標準)'!C20="","",+'評価項目(標準)'!C20) -> 企業の技術力等 | D21: =IF(+'評価項目(標準)'!D20="","",+'評価項目(標準)'!D20) -> 工事実績 | E21: =IF(+'評価項目(標準)'!E20="","",+'評価項目(標準)'!E20) -> 企業の工事実績 | F21: =+IF(+'評価項目(標準)'!J20="","",+'評価項目(標準)'!J20) -> 20 | G21: =+IF(+'評価項目(標準)'!I20="","",+'評価項目(標準)'!I20) -> 20 | H21: =+IF(+'評価項目(標準)'!F20="","",+'評価項目(標準)'!F20) -> 評価対象工事の実績あり | J21: =IF(I21="","",VLOOKUP(I21,'評価項目(標準)'!F20:I21,4,FALSE)) | L21: =IF(K21="","",VLOOKUP(K21,'評価項目(標準)'!F20:I21,4,FALSE)) | M21: =IF(J21="","",IF(L21="","",ROUNDUP(AVERAGE(J21,L21),1)))
G22: =+IF(+'評価項目(標準)'!I21="","",+'評価項目(標準)'!I21) -> 0 | H22: =+IF(+'評価項目(標準)'!F21="","",+'評価項目(標準)'!F21) -> 評価対象工事の実績なし
D23: =IF(+'評価項目(標準)'!D22="","",+'評価項目(標準)'!D22) -> 工事成績 | E23: =IF(+'評価項目(標準)'!E22="","",+'評価項目(標準)'!E22) -> 申告工事成績点又は総合点 | F23: =+IF(+'評価項目(標準)'!J22="","",+'評価項目(標準)'!J22) -> 10 | G23: =IF(+'評価項目(標準)'!I22="","",+'評価項目(標準)'!I22) -> 10 | H23: =IF(+'評価項目(標準)'!F22="","",+'評価項目(標準)'!F22) -> 申告工事成績点が８５点以上の場合 | I23: 【申告工事成績点】 | J23: =IF(COUNTA(I25,I29)=0,"",IF(COUNTA(I25,I29)=2,"入力は【申告工事成績点】、【総合点】のいずれかにして下さい",IF(AND(COUNTA(I25)=1,I24=""),"いずれの【申告工事成績点】なのか、「三重県、中部地整、近畿地整」より選択してください",IF(I29>=970,5,IF(AND(I29<970,I29>=840),ROUNDDOWN((I29-840)/(970-840)*5,1),IF(I29<840,0,)))+IF(I25>=85,F23,IF(AND(I25<75,I25>=1),5,IF(AND(I25<85,I25>=75),ROUNDDOWN((I25-75)*5/10+5,1))))))) | K23: 【申告工事成績点】 | L23: =IF(COUNTA(K25,K29)=0,"",IF(COUNTA(K25,K29)=2,"入力は【申告工事成績点】、【総合点】のいずれかにして下さい",IF(AND(COUNTA(K25)=1,K24=""),"いずれの【申告工事成績点】なのか、「三重県、中部地整、近畿地整」より選択してください",IF(K29>=970,5,IF(AND(K29<970,K29>=840),ROUNDDOWN((K29-840)/(970-840)*5,1),IF(K29<840,0,)))+IF(K25>=85,F23,IF(AND(K25<75,K25>=1),5,IF(AND(K25<85,K25>=75),ROUNDDOWN((K25-75)*5/10+5,1))))))) | M23: =IF(J23="","",IF(L23="","",ROUNDUP(AVERAGE(J23,L23),1)))
G24: =IF(+'評価項目(標準)'!I23="","",+'評価項目(標準)'!I23) | H24: =IF(+'評価項目(標準)'!F23="","",+'評価項目(標準)'!F23) -> 申告工事成績点が７５点以上８５点未満の場合 計算式１ （申告工事成績点－７５点）×５／１０＋５点
G25: =IF(+'評価項目(標準)'!I24="","",+'評価項目(標準)'!I24) -> ～ | M25: =J25 -> 0
G26: =IF(+'評価項目(標準)'!I25="","",+'評価項目(標準)'!I25)
G27: =IF(+'評価項目(標準)'!I26="","",+'評価項目(標準)'!I26) -> 5 | H27: =IF(+'評価項目(標準)'!F26="","",+'評価項目(標準)'!F26) -> 申告工事成績点が７５点未満の場合 | M27: =J27 -> 0
D28: =IF(+'評価項目(標準)'!#REF!="","",+'評価項目(標準)'!#REF!) -> #REF! | E28: =IF(+'評価項目(標準)'!#REF!="","",+'評価項目(標準)'!#REF!) -> #REF! | G28: =IF(+'評価項目(標準)'!I27="","",+'評価項目(標準)'!I27) -> 5 | H28: =IF(+'評価項目(標準)'!F27="","",+'評価項目(標準)'!F27) -> 総合点が９７０点以上の場合 | I28: 【総合点】 | K28: 【総合点】
G29: =IF(+'評価項目(標準)'!I28="","",+'評価項目(標準)'!I28) | H29: =IF(+'評価項目(標準)'!F28="","",+'評価項目(標準)'!F28) -> 総合点が８４０点以上９７０点未満の場合 計算式２ （総合点－８４０）／（９７０－８４０）×５ | M29: =J29 -> 0
G30: =IF(+'評価項目(標準)'!I29="","",+'評価項目(標準)'!I29) -> ～
G31: =IF(+'評価項目(標準)'!I30="","",+'評価項目(標準)'!I30) | M31: =J31 -> 0
G32: =IF(+'評価項目(標準)'!I31="","",+'評価項目(標準)'!I31) -> 0 | H32: =IF(+'評価項目(標準)'!F31="","",+'評価項目(標準)'!F31) -> 総合点が８４０点未満の場合
D33: =IF(+'評価項目(標準)'!D32="","",+'評価項目(標準)'!D32) -> 契約件数 | E33: =IF(+'評価項目(標準)'!E32="","",+'評価項目(標準)'!E32) -> 土木一式工事の契約件数 | F33: =+IF(+'評価項目(標準)'!J32="","",+'評価項目(標準)'!J32) -> 10 | G33: =IF(+'評価項目(標準)'!I32="","",+'評価項目(標準)'!I32) -> 10 | H33: =IF(+'評価項目(標準)'!F32="","",+'評価項目(標準)'!F32) -> ０件 | J33: =IF(I33="","",VLOOKUP(I33,'評価項目(標準)'!F32:I34,4,FALSE)) | L33: =IF(K33="","",VLOOKUP(K33,'評価項目(標準)'!F32:I34,4,FALSE)) | M33: =IF(J33="","",IF(L33="","",ROUNDUP(AVERAGE(J33,L33),1)))
G34: =IF(+'評価項目(標準)'!I33="","",+'評価項目(標準)'!I33) -> 5 | H34: =IF(+'評価項目(標準)'!F33="","",+'評価項目(標準)'!F33) -> １件
G35: =IF(+'評価項目(標準)'!I34="","",+'評価項目(標準)'!I34) -> 0 | H35: =IF(+'評価項目(標準)'!F34="","",+'評価項目(標準)'!F34) -> ２件以上
B36: =IF(+'評価項目(標準)'!B35="","",+'評価項目(標準)'!B35) -> 総合評価方式の不履行による 加算点の減点 | E36: =IF(+'評価項目(標準)'!E35="","",+'評価項目(標準)'!E35) -> 当該工事の入札公告日が、三重県が総合評価方式で発注した工事で不履行による減点措置が課されている期間内である場合、「技術提案等不履行確定通知書等」に記載した減点を行います。 | H36: =IF('評価項目(標準)'!I35="","",+'評価項目(標準)'!I35) -> △換算前 加算点満点 ×1割 ×件数 | J36: =IF(+I36="",0,-(+'評価項目(標準)'!J37*0.1*I36)) -> 0 | L36: =IF(+K36="",0,-(+'評価項目(標準)'!J37*0.1*K36)) -> 0 | M36: =IF(J36+L36=0,"",J36+L36)
B37: =IF(+'評価項目(標準)'!B36="","",+'評価項目(標準)'!B36) -> 指名停止措置による 加算点の減点 | E37: =IF(+'評価項目(標準)'!E36="","",+'評価項目(標準)'!E36) -> 当該工事の入札公告日が、三重県発注工事にかかる贈賄、公契約関係競売等妨害又は談合により役員等又は使用人が逮捕、又は逮捕を経ないで公訴を提起されたことによる指名停止に伴う減点措置期間内である場合、減点を行います。 | H37: =IF('評価項目(標準)'!I36="","",+'評価項目(標準)'!I36) -> △換算前 加算点満点 ×1割 | M37: =+IF(I37+K37>0,-('評価項目(標準)'!J37*0.1),"")
L38: 合計 | M38: =ROUNDDOWN(SUM(M6:M37),0) -> 0
B40: 【記入上の注意】
B41: ・ | D41: 黄色着色のセルは、該当する数値を直接入力してください。加算点は、自動計算により表示されます。
B42: ・ | D42: 橙色着色のセルは、セル中から該当する項目を選択してください。加算点は、選択した内容に応じて自動で表示されます。
...

Sheet 様式２
A1: （様式２） 地域精通度・企業の技術力等に関する技術資料
O2: 会社名
A3: 【地域精通度】
A5: 本店等所在地 | E5: 本店所在地
E7: 所在地の変更日 | J7: 年 月 日
E8: 旧所在地
A10: 【企業の技術力等】
A12: 工事実績 | E12: コリンズ登録番号
E13: 工事名称
A16: 工事成績 | E16: 三重県の 工事評定点 | H16: 令和５年４月１日以降に完成検査を行った工事の評定点 | AD16: 申告工事成績点
AD17: =IF(COUNTA(T16:AC17)=0,"",ROUNDDOWN(((SUM(T16:AC17)+75))/(COUNTA(T16:AC17)+1),1)) | AI17: 点
A18: 契約件数 | E18: （令和 8年 8月31日 時点）
E19: 1 | G19: コリンズ登録番号
G20: 工事名称
E23: 2 | G23: コリンズ登録番号
G24: 工事名称
A29: 【地域精通度の注意事項】
A31: 注1： | C31: 本店と建設業法上の主たる営業所の所在地が同じ場合は、本店所在地の入力は不要です。
A33: 注2： | C33: 本店及び建設業法上の主たる営業所の所在地を変更していない場合は、旧所在地と変更日の入力は不要です。
A36: 【企業の技術力等の注意事項】
A38: 【工事成績】
A39: 注1： | C39: 令和５年４月１日から当該工事の入札公告日までに三重県が通知（工事成績認定書）した土木一式工事の評定点を、任意の件数だけ入力してください。 １０件まで申告できます。
D42: 記載例
A51: 【契約件数】
A52: 注2： | C52: 入札公告日における、公共機関等発注の契約金額２千万円以上の土木一式工事の契約件数が３件以上ある場合は、２件まで記載して下さい。
