Workbook

Sheet 評価項目(標準)
M1: 舗装工事 【令和８年６月版】
B2: 簡易型Ｂ | D2: 総合評価方式評価項目一覧 【舗装工事】 除算方式 | G2: 工事名： | I2: 三重交通Ｇスポーツの杜伊勢 陸上競技場公認改修工事
B3: 大項目 | D3: 中項目 | E3: 小項目 | F3: 評価基準 | I3: 加算点 | L3: 様式 | M3: 評価内容等
I4: 配点 | J4: 小項目 配点 | K4: 大項目 配点
B5: 企 業 の 能 力 等 | C5: 地域精通度・貢献度 | D5: 地域精通度 | E5: 本店等所在地 | F5: 管内業者 伊勢建設事務所管内に本店及び建設業法上の主たる営業所あり | I5: 6 | J5: 6 | K5: =SUM(J5:J25) -> 48 | L5: 様式１ 様式２ | M5: 「本店及び建設業法上の主たる営業所」又は「建設業法上の営業所」の所在地により評価します。 ・本店等の所在地を変更した場合、公告の前月から３６か月前までの期間の「１８か月以上連続した所在地」を評価の対象とします。
F6: 県内業者 県内に本店及び建設業法上の主たる営業所あり | I6: 3
F7: 準県内業者 県外に本店を有し、県内に建設業法上の営業所あり | I7: 0
E8: 施工箇所地域における工事実績 | F8: 伊勢建設事務所管内における工事実績あり | I8: 3 | J8: 3 | M8: 伊勢建設事務所管内において、単独又は共同企業体構成員（出資比率20％以上に限る）の元請として受注し、令和５年度以降に完成し、かつ、引渡しが済んでいる契約金額五百万円以上の工事の実績の有無により評価します。 ・評価対象の工事実績は１件とし、コリンズに登録された公共機関等発注の工事に限ります。
F9: 工事実績なし | I9: 0
D10: 地域貢献度 | E10: 災害協定の評価 | F10: 災害協定に基づく訓練１への参加実績あり | I10: 7 | J10: 7 | M10: 「災害協定に基づく訓練１への参加実績」又は「災害協定に基づく訓練２への参加実績」又は「防災協定の締結実績」の有無により評価します。 【災害協定に基づく訓練１】 ・「災害協定」とは、伊勢建設事務所と締結した「地震・津波・風水害等の緊急時における運用協定」をいいます。 ・「災害協定に基づく訓練１の参加実績」は、「災害協定」に基づいた災害対応実動訓練及び情報伝達訓練への令和６年度又は令和７年度の参加実績を指します。 ・「災害対応実動訓練」は、以下の要件をすべて満たす場合に評価します。 ① 団体として５年以上継続した実動訓練実績があること。 ② 評価対象年度の実動訓練において、協定締結団体構成員のうち、伊勢建設事務所管内の構成員の半数以上が参加していること。 ③ ②で評価する参加企業については、Ａランク企業では代表者と１名以上の技術者、Ｂランク企業等では、１名以上の技術者が参加していること。 ・「情報伝達訓練」は、団体として５年以上の継続した訓練の実績がある場合に評価します。 【災害協定に基づく訓練２】 ・「災害協定」とは、伊勢建設事務所と締結した「地震・津波・風水害等の緊急時における運用協定」をいいます。 ・「災害協定に基づく訓練２の参加実績」は、「災害協定」に基づいた情報伝達訓練への令和６年度又は令和７年度の参加実績を指します。 ・「情報伝達訓練」は、団体として５年以上の継続した訓練の実績がある場合に評価します。 【防災協定の締結】 ・「防災協定」とは、「伊勢建設事務所管内の市町との防災協定」又は「三重県との防災協定」をいいます。 ・「伊勢建設事務所管内の市町との防災協定」については、「建設業のための広場」で公開している最新版の「経営事項審査申請の手引き」に記載された、協定書等に災害時の建設業者の活動義務が規定されている防災協定とします。 ・「三重県との防災協定」については、「技術資料作成上の留意事項」に記載した防災協定とします。 ・「防災協定の締結」は、令和６年度又は令和７年度の防災協定締結を評価の対象とします。対象期間以前の協定締結で、自動継続している協定は含みます。 ・「防災協定の締結」の評価は、伊勢建設事務所管内に「本店及び建設業法上の主たる営業所」又は「建設業法上の営業所」を有する企業に限ります。 ※「災害協定に基づく訓練１への参加実績」と「災害協定に基づく訓練２への参加実績」と「防災協定の締結実績」は重複して評価しません。
F11: 災害協定に基づく訓練２への参加実績あり | I11: 5
F12: 防災協定の締結実績あり | I12: 3
F13: 実績なし | I13: 0
C14: 社会貢献度 | D14: 社会貢献度 | E14: ① 男女共同参画活動実績 ② 障がい者雇用実績 ③ 人権に関する取組実績 ④ 「みえる・わかる・つながる！職業ポータルサイト」 Webページへの登録 ⑤ 現場見学会等の開催実績 ⑥ 不当要求防止責任者講習の受講実績 ⑦ 職場環境づくりの実績 | F14: 左欄の①～⑦のうち、該当する項目により得られる合計点数 | J14: 4 | M14: 下記の実績の該当する項目により得られる合計点数により評価します。 ①男女共同参画活動実績 女性の職業生活における活躍の推進に関する法律に基づく一般事業主行動計画を策定している場合に評価します。（１点） ②障がい者雇用実績 障害者の雇用の促進等に関する法律に基づく障がい者雇用の有無により評価します。（１点） ・法律により障がい者雇用が義務付けられている企業は、法定雇用率を達成している場合に評価します。 ・法律により障がい者雇用が義務付けられていない企業は、障がい者を雇用している場合に評価します。 ③人権に関する取組実績 「三重県が開催する人権に関する研修の受講実績」又は「職業安定法に基づく公正採用選考人権啓発推進員の設置」のいずれかの取組実績の有無により評価します。（１点） なお、「三重県が開催する人権に関する研修の受講実績」は、令和７年度から令和８年度の受講実績を評価の対象とします。 ・「三重県が開催する人権に関する研修の受講実績」と「職業安定法に基づく公正採用選考人権啓発推進員の設置」は重複して評価しません。 ④「みえる・わかる・つながる！職業ポータルサイト」Webページへの登録 ・当該工事の入札に参加する者が、「みえる・わかる・つながる！職業ポータルサイト」Webぺージにインターンシップ受入情報を登録している場合に評価します。（１点） ・Webページ登録項目のうち「所在地、業種、職種、受入対象、受入時期、受入人数」の項目が全て記載されている場合に評価します。 ⑤現場見学会等の開催実績 ・当該工事の入札に参加する者が、単独又は共同企業体構成員として受注した三重県内の工事において、小学校、中学校、高等学校等の教育機関を対象に社会に貢献する建設業の役割の理解や次世代を支える若者たちの建設業への興味や関心を高めることを目的として現場見学会を開催した場合、及び、同目的で出前講座、実習授業のいずれかを開催した場合に評価します。（１点） ・現場見学会、出前講座、実習授業は１０名以上を対象とした場合に評価します。ただし、１０名以上の参加が見込めない場合（小規模な学校や学校側との調整の結果参加者が１０名未満となった場合）は、１０名未満でも評価します。 ・令和３年度から当該工事の入札公告日までの開催実績を評価の対象とします。 ・評価対象の現場見学会の実績は、官民の別は問いません。 ⑥不当要求防止責任者講習の受講実績 当該工事の入札に参加する者が、不当要求防止責任者を選任し、三重県公安委員会（(公財)暴力追放三重県民センター）が開催する不当要求防止責任者講習の受講実績のある場合に評価します。（１点） なお、「不当要求防止責任者講習の受講実績」は、令和５年度から入札公告日までの受講実績を評価の対象とします。 ⑦職場環境づくりの実績 下記のいずれかの実績により評価します。 （１） 令和４年度以降に「ユースエール認定制度」に認定されたことがある。（２点） （２）「みえの働き方改革推進企業登録制度」に登録されている。（１点） ※（１）と（２）は重複して評価しません。
F15: ４点 | I15: 4
F16: ３点 | I16: 3
F17: ２点 | I17: 2
F18: １点 | I18: 1
F19: 実績（取得点）なし | I19: 0
C20: 企業の技術力等 | D20: 工事実績 | E20: 企業の工事実績 | F20: 評価対象工事の実績あり | I20: 20 | J20: 20 | M20: 三重県内において、単独又は共同企業体構成員（出資比率20％以上に限る）の元請として受注し、平成２８年度以降に完成し、かつ、引渡しが済んでいる評価対象工事の実績の有無により評価します。 ・「評価対象工事」とは、日本陸上競技連盟が定める第3種以上の公認陸上競技場における4,500㎡以上の全天候型ウレタン舗装工事（切削オーバーレイによる改修工事も面積に含みます）を指します。 ・評価対象の工事実績は１件とし、コリンズに登録された公共機関等発注の工事に限ります。
F21: 評価対象工事の実績なし | I21: 0
D22: 品質 マネジメント | E22: 品質マネジメントシステムの認証 | F22: 有 | I22: 3 | J22: 3 | M22: 当該工事の入札に参加する者が、ISO9000Sの認証を取得している場合に評価します。
F23: 無 | I23: 0
D24: 労働安全 衛生管理 | E24: 労働安全衛生マネジメントシステムの認証 | F24: 有 | I24: 5 | J24: 5 | M24: 当該工事の入札に参加する者が、労働安全衛生マネジメントシステムガイドライン(建設業労働安全衛生マネジメントシステムガイドラインを含む）に沿った取組の認証を取得している場合に評価します。
F25: 無 | I25: 0
B26: 技術者の能力 | C26: 技術者の能力 | D26: 配置予定 技術者の 工事実績 | E26: 主任（監理）技術者又は 現場代理人としての工事実績 | F26: 評価対象工事の実績あり | I26: 20 | J26: 20 | K26: =SUM(J26:J30) -> 25 | L26: 様式１ 様式３ | M26: 配置予定技術者が主任(監理）技術者又は現場代理人として従事した工事のうち、単独又は共同企業体構成員（出資比率20％以上に限る）の元請として受注した評価対象工事の実績の有無により評価します。 ・「評価対象工事」とは、日本陸上競技連盟が定める第3種以上の公認陸上競技場における4,500㎡以上の全天候型ウレタン舗装工事（切削オーバーレイによる改修工事も面積に含みます）を指します。 ・主任(監理)技術者としての実績とは、平成２８年度以降に完成し、かつ、引渡しが済んでいる工事で、契約日から完成日までの期間において、完成日を含む２分の１以上の連続した期間に従事した工事の実績をいいます。 ・現場代理人としての実績とは、平成２８年度以降に完成し、かつ、引渡しが済んでいる工事で、契約日から完成日までの期間において、完成日を含む２分の１以上の連続した期間に従事した工事の実績をいいます。ただし、コリンズに登録されていた者に限ります。 ・評価対象の工事実績は１件とし、コリンズに登録された公共機関等発注の工事に限ります。 ・余裕期間制度の対象工事は、完成日を含む実工期の２分の１以上の連続した期間に従事した実績を評価の対象とします。
F27: 評価対象工事の実績なし | I27: 0
D28: 配置予定技術者 のCPD （継続学習制度） 取組実績 | E28: 各団体が発行するCPDの取組実績 | F28: 換算後の単位数の合計が推奨単位以上 | I28: 5 | J28: 5 | M28: 配置予定技術者が令和５年度から令和８年度に取得したＣＰＤ単位により評価します。 ・ＣＰＤ単位は、建設系ＣＰＤ協議会加盟団体で証明、認定されたものに限ります。ただし、当該工事が建築関係業種の場合は、建築ＣＰＤ運営会議の加盟団体を含みます。 ・申告は、加盟団体のうちいずれか１団体の取得単位に限ります。ただし、相互承認を受けたＣＰＤ単位は、申告する加盟団体以外であっても取得単位に含めることを可能とします。 ・１年間の推奨単位を設定していない団体のＣＰＤ単位は、評価の対象としません。 ・各年度の取得単位は、換算係数を乗じるものとします。（小数第４位以下切り捨て） ・換算係数は、令和５年度は１／４、令和６年度は１／２、令和７年度及び令和８年度は１とします。
F29: 換算後の単位数の合計が推奨単位の1/2以上 | I29: 3
F30: 換算後の単位数の合計が推奨単位の1/2未満 | I30: 0
B31: 技術提案等 | C31: 技術提案 (対策なし型) | D31: 特記課題 | E31: 工事を行ううえでの留意点 | F31: 各項目あたりの評価基準・加算点 | G31: 項目1,2 | H31: 項目3 | I31: 80 (最大30点/項目×2項目+最大20点/項目×1項目) | J31: 80 | K31: =SUM(J31:J36) -> 80 | L31: 様式４ | M31: 当該工事は日本陸上競技連盟第１種公認陸上競技場の改修を行う工事です。 「項目１ ウレタン舗装（オーバーレイ）工事における品質確保・工程管理のための工夫」、「項目２ 周辺環境への配慮に関する工夫」、「項目３ 施設利用者や関係者への配慮、安全確保に関する工夫」の３項目について、それぞれに工事を行ううえで考えられる留意点を３つ以内で、その理由を含めて記述してください。 ・これらの提案については、対策を求めていません。そのため履行義務はありません。
F32: 優れている | G32: 30 | H32: 20
F33: 概ね優れている | G33: 25 | H33: 15
F34: 良好である | G34: 20 | H34: 10
F35: 概ね良好である | G35: 15 | H35: 5
F36: 上記以外 | G36: 0 | H36: 0
B37: 総合評価方式の不履行による 加算点の減点 | E37: 当該工事の入札公告日が、三重県が総合評価方式で発注した工事で不履行による減点措置が課されている期間内である場合、「技術提案等不履行確定通知書等」に記載した減点を行います。 | I37: △換算前 加算点満点 ×1割 ×件数 | L37: 様式１ | M37: 三重県が総合評価方式で発注した工事で、技術資料又は施工体制確認資料に記載された事項に不履行があった場合の減点は、次式により行います。 減点後の貴社の換算前加算点合計＝Ａ－（Ｂ×０．１×Ｃ） Ａ：貴社の換算前加算点合計 Ｂ：当該工事の換算前加算点満点 Ｃ：不履行工事件数 不履行工事件数とは、当該工事の入札公告日が「技術提案等不履行確定通知書」で通知された不履行による減点の対象となる期間内である工事の件数とします。
B38: 指名停止措置による 加算点の減点 | E38: 当該工事の入札公告日が、三重県発注工事にかかる贈賄、公契約関係競売等妨害又は談合により役員等又は使用人が逮捕、又は逮捕を経ないで公訴を提起されたことによる指名停止に伴う減点措置期間内である場合、減点を行います。 | I38: △換算前 加算点満点 ×1割 | L38: 様式１ | M38: 当該工事の入札公告日が、三重県発注工事にかかる贈賄、公契約関係競売等妨害又は談合により役員等又は使用人が逮捕、又は逮捕を経ないで公訴を提起されたことによる指名停止に伴う減点措置期間内である場合の減点は、次式により行います。 減点後の貴社の換算前加算点合計＝Ａ－（Ｂ×０．１） Ａ：貴社の換算前加算点合計 Ｂ：当該工事の換算前加算点満点 ※減点措置期間は指名停止期間の終了日の翌日から１年間とします。 なお、対象となる指名停止措置は、当該工事入札公告日の前年度４月１日から当該工事入札公告日までの期間に指名停止期間が１日でも重複するものとします。
I39: 換算前 加算点 満点 | J39: =SUM(K5:K36) -> 153 | M39: ※技術資料の作成方法及び提出資料は、「技術資料作成上の留意事項」を必ず確認してください。
I40: 加算点 満点 | J40: =IF(B2="簡易型Ｂ",20,IF(B2="標準型",35,"型選択")) -> 20
...

Sheet 届出書
AA3: 令和 年 月 日
A5: 技 術 資 料 届 出 書
B9: 三重県知事 | H9: あて
O11: 住 所
O13: 会社名
O15: 代表者氏名
E18: 工 事 名 | F18: ： | G18: 令和8年度 ス推 第 1001-分0001号
G19: 三重交通Ｇスポーツの杜伊勢 陸上競技場公認改修工事
B25: 上記工事の技術資料を提出します。なお、地方自治法施行令（昭和22年政令第16号）
B26: 第167条の4の規定に該当する者でないこと並びに確認資料の内容は、事実と相違ない
B27: ことを誓約します。問い合わせ先は次のとおりです。
C30: 【問い合わせ先】
D31: 担当者 | G31: ： | H31: ○○ ○○
D32: 部 署 | G32: ： | H32: ○○本店 ○○部 ○○課
D33: 住 所 | G33: ： | H33: ○○県○○市○○
D34: 電話番号 | G34: ： | H34: ＊＊＊－＊＊＊＊－＊＊＊＊
D35: ＦＡＸ | G35: ： | H35: ＊＊＊－＊＊＊＊－＊＊＊＊
D36: Ｅ-mail | G36: ：

Sheet 様式１
B1: （様式１） 加算点申告書
F2: 会社名
B3: 大項目 | D3: 中項目 | E3: 小項目 | F3: 加算点 | G3: 評価基準 | I3: 各評価項目の 自己評価 | J3: 自己 加算点
G4: 配点 | H4: 基準
B5: =IF('評価項目(標準)'!B5="","",+'評価項目(標準)'!B5) -> 企 業 の 能 力 等 | C5: =IF(+'評価項目(標準)'!C5="","",+'評価項目(標準)'!C5) -> 地域精通度・貢献度 | D5: =IF(+'評価項目(標準)'!D5="","",+'評価項目(標準)'!D5) -> 地域精通度 | E5: =IF(+'評価項目(標準)'!E5="","",+'評価項目(標準)'!E5) -> 本店等所在地 | F5: =+IF(+'評価項目(標準)'!J5="","",+'評価項目(標準)'!J5) -> 6 | G5: =+IF(+'評価項目(標準)'!I5="","",+'評価項目(標準)'!I5) -> 6 | H5: =+IF(+'評価項目(標準)'!F5="","",+'評価項目(標準)'!F5) -> 管内業者 伊勢建設事務所管内に本店及び建設業法上の主たる営業所あり | J5: =IF(I5="","",VLOOKUP(I5,'評価項目(標準)'!F5:I7,4,FALSE))
G6: =+IF(+'評価項目(標準)'!I6="","",+'評価項目(標準)'!I6) -> 3 | H6: =+IF(+'評価項目(標準)'!F6="","",+'評価項目(標準)'!F6) -> 県内業者 県内に本店及び建設業法上の主たる営業所あり
G7: =+IF(+'評価項目(標準)'!I7="","",+'評価項目(標準)'!I7) -> 0 | H7: =+IF(+'評価項目(標準)'!F7="","",+'評価項目(標準)'!F7) -> 準県内業者 県外に本店を有し、県内に建設業法上の営業所あり
E8: =IF(+'評価項目(標準)'!E8="","",+'評価項目(標準)'!E8) -> 施工箇所地域における工事実績 | F8: =+IF(+'評価項目(標準)'!J8="","",+'評価項目(標準)'!J8) -> 3 | G8: =+IF(+'評価項目(標準)'!I8="","",+'評価項目(標準)'!I8) -> 3 | H8: =+IF(+'評価項目(標準)'!F8="","",+'評価項目(標準)'!F8) -> 伊勢建設事務所管内における工事実績あり | J8: =IF(I8="","",IF(I8=H8,G8,IF(I8=H9,G9)))
G9: =+IF(+'評価項目(標準)'!I9="","",+'評価項目(標準)'!I9) -> 0 | H9: =+IF(+'評価項目(標準)'!F9="","",+'評価項目(標準)'!F9) -> 工事実績なし
D10: =IF(+'評価項目(標準)'!D10="","",+'評価項目(標準)'!D10) -> 地域貢献度 | E10: =IF(+'評価項目(標準)'!E10="","",+'評価項目(標準)'!E10) -> 災害協定の評価 | F10: =+IF(+'評価項目(標準)'!J10="","",+'評価項目(標準)'!J10) -> 7 | G10: =+IF(+'評価項目(標準)'!I10="","",+'評価項目(標準)'!I10) -> 7 | H10: =+IF(+'評価項目(標準)'!F10="","",+'評価項目(標準)'!F10) -> 災害協定に基づく訓練１への参加実績あり | J10: =IF(I10="","",VLOOKUP(I10,'評価項目(標準)'!F10:I13,4,FALSE))
G11: =+IF(+'評価項目(標準)'!I11="","",+'評価項目(標準)'!I11) -> 5 | H11: =+IF(+'評価項目(標準)'!F11="","",+'評価項目(標準)'!F11) -> 災害協定に基づく訓練２への参加実績あり
G12: =+IF(+'評価項目(標準)'!I12="","",+'評価項目(標準)'!I12) -> 3 | H12: =+IF(+'評価項目(標準)'!F12="","",+'評価項目(標準)'!F12) -> 防災協定の締結実績あり
G13: =+IF(+'評価項目(標準)'!I13="","",+'評価項目(標準)'!I13) -> 0 | H13: =+IF(+'評価項目(標準)'!F13="","",+'評価項目(標準)'!F13) -> 実績なし
C14: =IF(+'評価項目(標準)'!C14="","",+'評価項目(標準)'!C14) -> 社会貢献度 | D14: =IF(+'評価項目(標準)'!D14="","",+'評価項目(標準)'!D14) -> 社会貢献度 | E14: =IF(+'評価項目(標準)'!E14="","",+'評価項目(標準)'!E14) -> ① 男女共同参画活動実績 ② 障がい者雇用実績 ③ 人権に関する取組実績 ④ 「みえる・わかる・つながる！職業ポータルサイト」 Webページへの登録 ⑤ 現場見学会等の開催実績 ⑥ 不当要求防止責任者講習の受講実績 ⑦ 職場環境づくりの実績 | F14: =+IF(+'評価項目(標準)'!J14="","",+'評価項目(標準)'!J14) -> 4 | G14: 左欄の①～⑦のうち、該当する項目により得られる合計点数 | J14: =IF(I14="","",IF(I14=H15,G15,IF(I14=H16,G16,IF(I14=H17,G17,IF(I14=H18,G18,IF(I14=H19,G19))))))
G15: =+IF(+'評価項目(標準)'!I15="","",+'評価項目(標準)'!I15) -> 4 | H15: =+IF(+'評価項目(標準)'!F15="","",+'評価項目(標準)'!F15) -> ４点
G16: =+IF(+'評価項目(標準)'!I16="","",+'評価項目(標準)'!I16) -> 3 | H16: =+IF(+'評価項目(標準)'!F16="","",+'評価項目(標準)'!F16) -> ３点
G17: =+IF(+'評価項目(標準)'!I17="","",+'評価項目(標準)'!I17) -> 2 | H17: =+IF(+'評価項目(標準)'!F17="","",+'評価項目(標準)'!F17) -> ２点
G18: =+IF(+'評価項目(標準)'!I18="","",+'評価項目(標準)'!I18) -> 1 | H18: =+IF(+'評価項目(標準)'!F18="","",+'評価項目(標準)'!F18) -> １点
G19: =+IF(+'評価項目(標準)'!I19="","",+'評価項目(標準)'!I19) -> 0 | H19: =+IF(+'評価項目(標準)'!F19="","",+'評価項目(標準)'!F19) -> 実績（取得点）なし
C20: =IF(+'評価項目(標準)'!C20="","",+'評価項目(標準)'!C20) -> 企業の技術力等 | D20: =IF(+'評価項目(標準)'!D20="","",+'評価項目(標準)'!D20) -> 工事実績 | E20: =IF(+'評価項目(標準)'!E20="","",+'評価項目(標準)'!E20) -> 企業の工事実績 | F20: =+IF(+'評価項目(標準)'!J20="","",+'評価項目(標準)'!J20) -> 20 | G20: =+IF(+'評価項目(標準)'!I20="","",+'評価項目(標準)'!I20) -> 20 | H20: =+IF(+'評価項目(標準)'!F20="","",+'評価項目(標準)'!F20) -> 評価対象工事の実績あり | J20: =IF(I20="","",VLOOKUP(I20,'評価項目(標準)'!F20:I21,4,FALSE))
G21: =+IF(+'評価項目(標準)'!I21="","",+'評価項目(標準)'!I21) -> 0 | H21: =+IF(+'評価項目(標準)'!F21="","",+'評価項目(標準)'!F21) -> 評価対象工事の実績なし
D22: =IF(+'評価項目(標準)'!D22="","",+'評価項目(標準)'!D22) -> 品質 マネジメント | E22: =IF(+'評価項目(標準)'!E22="","",+'評価項目(標準)'!E22) -> 品質マネジメントシステムの認証 | F22: =+IF(+'評価項目(標準)'!J22="","",+'評価項目(標準)'!J22) -> 3 | G22: =+IF(+'評価項目(標準)'!I22="","",+'評価項目(標準)'!I22) -> 3 | H22: =+IF(+'評価項目(標準)'!F22="","",+'評価項目(標準)'!F22) -> 有 | J22: =IF(I22="","",IF(I22=H22,G22,IF(I22=H23,G23)))
G23: =+IF(+'評価項目(標準)'!I23="","",+'評価項目(標準)'!I23) -> 0 | H23: =+IF(+'評価項目(標準)'!F23="","",+'評価項目(標準)'!F23) -> 無
D24: =IF(+'評価項目(標準)'!D24="","",+'評価項目(標準)'!D24) -> 労働安全 衛生管理 | E24: =IF(+'評価項目(標準)'!E24="","",+'評価項目(標準)'!E24) -> 労働安全衛生マネジメントシステムの認証 | F24: =+IF(+'評価項目(標準)'!J24="","",+'評価項目(標準)'!J24) -> 5 | G24: =+IF(+'評価項目(標準)'!I24="","",+'評価項目(標準)'!I24) -> 5 | H24: =IF(+'評価項目(標準)'!F24="","",+'評価項目(標準)'!F24) -> 有 | J24: =IF(I24="","",IF(I24=H24,G24,IF(I24=H25,G25)))
G25: =+IF(+'評価項目(標準)'!I25="","",+'評価項目(標準)'!I25) -> 0 | H25: =IF(+'評価項目(標準)'!F25="","",+'評価項目(標準)'!F25) -> 無
B26: =IF('評価項目(標準)'!B26="","",+'評価項目(標準)'!B26) -> 技術者の能力 | C26: =IF(+'評価項目(標準)'!C26="","",+'評価項目(標準)'!C26) -> 技術者の能力 | D26: =IF(+'評価項目(標準)'!D26="","",+'評価項目(標準)'!D26) -> 配置予定 技術者の 工事実績 | E26: =IF(+'評価項目(標準)'!E26="","",+'評価項目(標準)'!E26) -> 主任（監理）技術者又は 現場代理人としての工事実績 | F26: =+IF(+'評価項目(標準)'!J26="","",+'評価項目(標準)'!J26) -> 20 | G26: =+IF(+'評価項目(標準)'!I26="","",+'評価項目(標準)'!I26) -> 20 | H26: =+IF(+'評価項目(標準)'!F26="","",+'評価項目(標準)'!F26) -> 評価対象工事の実績あり | J26: =IF(I26="","",VLOOKUP(I26,'評価項目(標準)'!F26:I27,4,FALSE))
G27: =+IF(+'評価項目(標準)'!I27="","",+'評価項目(標準)'!I27) -> 0 | H27: =+IF(+'評価項目(標準)'!F27="","",+'評価項目(標準)'!F27) -> 評価対象工事の実績なし
D28: =IF(+'評価項目(標準)'!D28="","",+'評価項目(標準)'!D28) -> 配置予定技術者 のCPD （継続学習制度） 取組実績 | E28: =IF(+'評価項目(標準)'!E28="","",+'評価項目(標準)'!E28) -> 各団体が発行するCPDの取組実績 | F28: =+IF(+'評価項目(標準)'!J28="","",+'評価項目(標準)'!J28) -> 5 | G28: =+IF(+'評価項目(標準)'!I28="","",+'評価項目(標準)'!I28) -> 5 | H28: =+IF(+'評価項目(標準)'!F28="","",+'評価項目(標準)'!F28) -> 換算後の単位数の合計が推奨単位以上 | J28: =IF(I28="","",IF(I28=H28,G28,IF(I28=H29,G29,IF(I28=H30,G30))))
G29: =+IF(+'評価項目(標準)'!I29="","",+'評価項目(標準)'!I29) -> 3 | H29: =+IF(+'評価項目(標準)'!F29="","",+'評価項目(標準)'!F29) -> 換算後の単位数の合計が推奨単位の1/2以上
G30: =+IF(+'評価項目(標準)'!I30="","",+'評価項目(標準)'!I30) -> 0 | H30: =+IF(+'評価項目(標準)'!F30="","",+'評価項目(標準)'!F30) -> 換算後の単位数の合計が推奨単位の1/2未満
B31: =IF(+'評価項目(標準)'!B37="","",+'評価項目(標準)'!B37) -> 総合評価方式の不履行による 加算点の減点 | E31: =IF(+'評価項目(標準)'!E37="","",+'評価項目(標準)'!E37) -> 当該工事の入札公告日が、三重県が総合評価方式で発注した工事で不履行による減点措置が課されている期間内である場合、「技術提案等不履行確定通知書等」に記載した減点を行います。 | H31: =IF('評価項目(標準)'!I37="","",+'評価項目(標準)'!I37) -> △換算前 加算点満点 ×1割 ×件数 | J31: =IF(+I31="","",-(+'評価項目(標準)'!J39*0.1*I31))
B32: =IF(+'評価項目(標準)'!B38="","",+'評価項目(標準)'!B38) -> 指名停止措置による 加算点の減点 | E32: =IF(+'評価項目(標準)'!E38="","",+'評価項目(標準)'!E38) -> 当該工事の入札公告日が、三重県発注工事にかかる贈賄、公契約関係競売等妨害又は談合により役員等又は使用人が逮捕、又は逮捕を経ないで公訴を提起されたことによる指名停止に伴う減点措置期間内である場合、減点を行います。 | H32: =IF('評価項目(標準)'!I38="","",+'評価項目(標準)'!I38) -> △換算前 加算点満点 ×1割 | J32: =IF(+I32="","",-(+'評価項目(標準)'!J39*0.1))
I33: 合計 | J33: =SUM(J5:J32) -> 0
B35: 【記入上の注意】
B36: ・ | D36: 黄色着色のセルは、該当する数値を直接入力してください。加算点は、自動計算により表示されます。
B37: ・ | D37: 橙色着色のセルは、セル中から該当する項目を選択してください。加算点は、選択した内容に応じて自動で表示されます。
B38: ・ | C38: 評価項目及び評価基準の詳細については、「評価項目一覧」及び「技術資料作成上の留意事項」で確認してください。
B39: ・ | C39: このシートは「評価項目一覧」とリンクしています。自己加算点が表示されていない場合は評価しません。

Sheet 様式１【経常ＪＶ用】
B2: （様式１） 加算点申告書
F3: 会社名
B4: 大項目 | D4: 中項目 | E4: 小項目 | F4: 加算点 | G4: 評価基準 | I4: 構成員Ａの評価 | K4: 構成員Ｂの評価 | M4: 経常ＪＶの評価
G5: 配点 | H5: 基準 | I5: 各評価項目の 自己評価 | J5: 自己 加算点 | K5: 各評価項目の 自己評価 | L5: 自己 加算点
B6: =IF('評価項目(標準)'!B5="","",+'評価項目(標準)'!B5) -> 企 業 の 能 力 等 | C6: =IF(+'評価項目(標準)'!C5="","",+'評価項目(標準)'!C5) -> 地域精通度・貢献度 | D6: =IF(+'評価項目(標準)'!D5="","",+'評価項目(標準)'!D5) -> 地域精通度 | E6: =IF(+'評価項目(標準)'!E5="","",+'評価項目(標準)'!E5) -> 本店等所在地 | F6: =+IF(+'評価項目(標準)'!J5="","",+'評価項目(標準)'!J5) -> 6 | G6: =+IF(+'評価項目(標準)'!I5="","",+'評価項目(標準)'!I5) -> 6 | H6: =+IF(+'評価項目(標準)'!F5="","",+'評価項目(標準)'!F5) -> 管内業者 伊勢建設事務所管内に本店及び建設業法上の主たる営業所あり | J6: =IF(I6="","",VLOOKUP(I6,'評価項目(標準)'!F5:I7,4,FALSE)) | K6: ― | L6: ― | M6: =J6
G7: =+IF(+'評価項目(標準)'!I6="","",+'評価項目(標準)'!I6) -> 3 | H7: =+IF(+'評価項目(標準)'!F6="","",+'評価項目(標準)'!F6) -> 県内業者 県内に本店及び建設業法上の主たる営業所あり
G8: =+IF(+'評価項目(標準)'!I7="","",+'評価項目(標準)'!I7) -> 0 | H8: =+IF(+'評価項目(標準)'!F7="","",+'評価項目(標準)'!F7) -> 準県内業者 県外に本店を有し、県内に建設業法上の営業所あり
E9: =IF(+'評価項目(標準)'!E8="","",+'評価項目(標準)'!E8) -> 施工箇所地域における工事実績 | F9: =+IF(+'評価項目(標準)'!J8="","",+'評価項目(標準)'!J8) -> 3 | G9: =+IF(+'評価項目(標準)'!I8="","",+'評価項目(標準)'!I8) -> 3 | H9: =+IF(+'評価項目(標準)'!F8="","",+'評価項目(標準)'!F8) -> 伊勢建設事務所管内における工事実績あり | J9: =IF(I9="","",IF(I9=H9,G9,IF(I9=H10,G10))) | L9: =IF(K9="","",IF(K9=H9,G9,IF(K9=H10,G10))) | M9: =IF(J9="","",IF(L9="","",ROUNDUP(AVERAGE(J9,L9),1)))
G10: =+IF(+'評価項目(標準)'!I9="","",+'評価項目(標準)'!I9) -> 0 | H10: =+IF(+'評価項目(標準)'!F9="","",+'評価項目(標準)'!F9) -> 工事実績なし
D11: =IF(+'評価項目(標準)'!D10="","",+'評価項目(標準)'!D10) -> 地域貢献度 | E11: =IF(+'評価項目(標準)'!E10="","",+'評価項目(標準)'!E10) -> 災害協定の評価 | F11: =+IF(+'評価項目(標準)'!J10="","",+'評価項目(標準)'!J10) -> 7 | G11: =+IF(+'評価項目(標準)'!I10="","",+'評価項目(標準)'!I10) -> 7 | H11: =+IF(+'評価項目(標準)'!F10="","",+'評価項目(標準)'!F10) -> 災害協定に基づく訓練１への参加実績あり | J11: =IF(I11="","",VLOOKUP(I11,'評価項目(標準)'!F10:I13,4,FALSE)) | L11: =IF(K11="","",VLOOKUP(K11,'評価項目(標準)'!F10:I13,4,FALSE)) | M11: =IF(J11="","",IF(L11="","",ROUNDUP(AVERAGE(J11,L11),1)))
G12: =+IF(+'評価項目(標準)'!I11="","",+'評価項目(標準)'!I11) -> 5 | H12: =+IF(+'評価項目(標準)'!F11="","",+'評価項目(標準)'!F11) -> 災害協定に基づく訓練２への参加実績あり
G13: =+IF(+'評価項目(標準)'!I12="","",+'評価項目(標準)'!I12) -> 3 | H13: =+IF(+'評価項目(標準)'!F12="","",+'評価項目(標準)'!F12) -> 防災協定の締結実績あり
G14: =+IF(+'評価項目(標準)'!I13="","",+'評価項目(標準)'!I13) -> 0 | H14: =+IF(+'評価項目(標準)'!F13="","",+'評価項目(標準)'!F13) -> 実績なし
C15: =IF(+'評価項目(標準)'!C14="","",+'評価項目(標準)'!C14) -> 社会貢献度 | D15: =IF(+'評価項目(標準)'!D14="","",+'評価項目(標準)'!D14) -> 社会貢献度 | E15: =IF(+'評価項目(標準)'!E14="","",+'評価項目(標準)'!E14) -> ① 男女共同参画活動実績 ② 障がい者雇用実績 ③ 人権に関する取組実績 ④ 「みえる・わかる・つながる！職業ポータルサイト」 Webページへの登録 ⑤ 現場見学会等の開催実績 ⑥ 不当要求防止責任者講習の受講実績 ⑦ 職場環境づくりの実績 | F15: =+IF(+'評価項目(標準)'!J14="","",+'評価項目(標準)'!J14) -> 4 | G15: 左欄の①～⑦のうち、該当する項目により得られる合計点数 | J15: =IF(I15="","",IF(I15=H16,G16,IF(I15=H17,G17,IF(I15=H18,G18,IF(I15=H19,G19,IF(I15=H20,G20)))))) | L15: =IF(K15="","",IF(K15=H16,G16,IF(K15=H17,G17,IF(K15=H18,G18,IF(K15=H19,G19,IF(K15=H20,G20)))))) | M15: =IF(J15="","",IF(L15="","",ROUNDUP(AVERAGE(J15,L15),1)))
G16: =+IF(+'評価項目(標準)'!I15="","",+'評価項目(標準)'!I15) -> 4 | H16: =+IF(+'評価項目(標準)'!F15="","",+'評価項目(標準)'!F15) -> ４点
G17: =+IF(+'評価項目(標準)'!I16="","",+'評価項目(標準)'!I16) -> 3 | H17: =+IF(+'評価項目(標準)'!F16="","",+'評価項目(標準)'!F16) -> ３点
G18: =+IF(+'評価項目(標準)'!I17="","",+'評価項目(標準)'!I17) -> 2 | H18: =+IF(+'評価項目(標準)'!F17="","",+'評価項目(標準)'!F17) -> ２点
G19: =+IF(+'評価項目(標準)'!I18="","",+'評価項目(標準)'!I18) -> 1 | H19: =+IF(+'評価項目(標準)'!F18="","",+'評価項目(標準)'!F18) -> １点
G20: =+IF(+'評価項目(標準)'!I19="","",+'評価項目(標準)'!I19) -> 0 | H20: =+IF(+'評価項目(標準)'!F19="","",+'評価項目(標準)'!F19) -> 実績（取得点）なし
C21: =IF(+'評価項目(標準)'!C20="","",+'評価項目(標準)'!C20) -> 企業の技術力等 | D21: =IF(+'評価項目(標準)'!D20="","",+'評価項目(標準)'!D20) -> 工事実績 | E21: =IF(+'評価項目(標準)'!E20="","",+'評価項目(標準)'!E20) -> 企業の工事実績 | F21: =+IF(+'評価項目(標準)'!J20="","",+'評価項目(標準)'!J20) -> 20 | G21: =+IF(+'評価項目(標準)'!I20="","",+'評価項目(標準)'!I20) -> 20 | H21: =+IF(+'評価項目(標準)'!F20="","",+'評価項目(標準)'!F20) -> 評価対象工事の実績あり | J21: =IF(I21="","",VLOOKUP(I21,'評価項目(標準)'!F20:I21,4,FALSE)) | L21: =IF(K21="","",VLOOKUP(K21,'評価項目(標準)'!F20:I21,4,FALSE)) | M21: =IF(J21="","",IF(L21="","",ROUNDUP(AVERAGE(J21,L21),1)))
G22: =+IF(+'評価項目(標準)'!I21="","",+'評価項目(標準)'!I21) -> 0 | H22: =+IF(+'評価項目(標準)'!F21="","",+'評価項目(標準)'!F21) -> 評価対象工事の実績なし
D23: =IF(+'評価項目(標準)'!D22="","",+'評価項目(標準)'!D22) -> 品質 マネジメント | E23: =IF(+'評価項目(標準)'!E22="","",+'評価項目(標準)'!E22) -> 品質マネジメントシステムの認証 | F23: =+IF(+'評価項目(標準)'!J22="","",+'評価項目(標準)'!J22) -> 3 | G23: =+IF(+'評価項目(標準)'!I22="","",+'評価項目(標準)'!I22) -> 3 | H23: =+IF(+'評価項目(標準)'!F22="","",+'評価項目(標準)'!F22) -> 有 | J23: =IF(I23="","",IF(I23=H23,G23,IF(I23=H24,G24))) | L23: =IF(K23="","",IF(K23=H23,G23,IF(K23=H24,G24))) | M23: =IF(J23="","",IF(L23="","",ROUNDUP(AVERAGE(J23,L23),1)))
G24: =+IF(+'評価項目(標準)'!I23="","",+'評価項目(標準)'!I23) -> 0 | H24: =+IF(+'評価項目(標準)'!F23="","",+'評価項目(標準)'!F23) -> 無
D25: =IF(+'評価項目(標準)'!D24="","",+'評価項目(標準)'!D24) -> 労働安全 衛生管理 | E25: =IF(+'評価項目(標準)'!E24="","",+'評価項目(標準)'!E24) -> 労働安全衛生マネジメントシステムの認証 | F25: =+IF(+'評価項目(標準)'!J24="","",+'評価項目(標準)'!J24) -> 5 | G25: =+IF(+'評価項目(標準)'!I24="","",+'評価項目(標準)'!I24) -> 5 | H25: =IF(+'評価項目(標準)'!F24="","",+'評価項目(標準)'!F24) -> 有 | J25: =IF(I25="","",IF(I25=H25,G25,IF(I25=H26,G26))) | L25: =IF(K25="","",IF(K25=H25,G25,IF(K25=H26,G26))) | M25: =IF(J25="","",IF(L25="","",ROUNDUP(AVERAGE(J25,L25),1)))
G26: =+IF(+'評価項目(標準)'!I25="","",+'評価項目(標準)'!I25) -> 0 | H26: =IF(+'評価項目(標準)'!F25="","",+'評価項目(標準)'!F25) -> 無
B27: =IF('評価項目(標準)'!B26="","",+'評価項目(標準)'!B26) -> 技術者の能力 | C27: =IF(+'評価項目(標準)'!C26="","",+'評価項目(標準)'!C26) -> 技術者の能力 | D27: =IF(+'評価項目(標準)'!D26="","",+'評価項目(標準)'!D26) -> 配置予定 技術者の 工事実績 | E27: =IF(+'評価項目(標準)'!E26="","",+'評価項目(標準)'!E26) -> 主任（監理）技術者又は 現場代理人としての工事実績 | F27: =+IF(+'評価項目(標準)'!J26="","",+'評価項目(標準)'!J26) -> 20 | G27: =+IF(+'評価項目(標準)'!I26="","",+'評価項目(標準)'!I26) -> 20 | H27: =+IF(+'評価項目(標準)'!F26="","",+'評価項目(標準)'!F26) -> 評価対象工事の実績あり | J27: =IF(I27="","",VLOOKUP(I27,'評価項目(標準)'!F26:I27,4,FALSE)) | L27: =IF(K27="","",VLOOKUP(K27,'評価項目(標準)'!F26:I27,4,FALSE)) | M27: =IF(J27="","",IF(L27="","",ROUNDUP(AVERAGE(J27,L27),1)))
G28: =+IF(+'評価項目(標準)'!I27="","",+'評価項目(標準)'!I27) -> 0 | H28: =+IF(+'評価項目(標準)'!F27="","",+'評価項目(標準)'!F27) -> 評価対象工事の実績なし
D29: =IF(+'評価項目(標準)'!D28="","",+'評価項目(標準)'!D28) -> 配置予定技術者 のCPD （継続学習制度） 取組実績 | E29: =IF(+'評価項目(標準)'!E28="","",+'評価項目(標準)'!E28) -> 各団体が発行するCPDの取組実績 | F29: =+IF(+'評価項目(標準)'!J28="","",+'評価項目(標準)'!J28) -> 5 | G29: =+IF(+'評価項目(標準)'!I28="","",+'評価項目(標準)'!I28) -> 5 | H29: =+IF(+'評価項目(標準)'!F28="","",+'評価項目(標準)'!F28) -> 換算後の単位数の合計が推奨単位以上 | J29: =IF(I29="","",IF(I29=H29,G29,IF(I29=H30,G30,IF(I29=H31,G31)))) | L29: =IF(K29="","",IF(K29=H29,G29,IF(K29=H30,G30,IF(K29=H31,G31)))) | M29: =IF(J29="","",IF(L29="","",ROUNDUP(AVERAGE(J29,L29),1)))
G30: =+IF(+'評価項目(標準)'!I29="","",+'評価項目(標準)'!I29) -> 3 | H30: =+IF(+'評価項目(標準)'!F29="","",+'評価項目(標準)'!F29) -> 換算後の単位数の合計が推奨単位の1/2以上
G31: =+IF(+'評価項目(標準)'!I30="","",+'評価項目(標準)'!I30) -> 0 | H31: =+IF(+'評価項目(標準)'!F30="","",+'評価項目(標準)'!F30) -> 換算後の単位数の合計が推奨単位の1/2未満
B32: =IF(+'評価項目(標準)'!B37="","",+'評価項目(標準)'!B37) -> 総合評価方式の不履行による 加算点の減点 | E32: =IF(+'評価項目(標準)'!E37="","",+'評価項目(標準)'!E37) -> 当該工事の入札公告日が、三重県が総合評価方式で発注した工事で不履行による減点措置が課されている期間内である場合、「技術提案等不履行確定通知書等」に記載した減点を行います。 | H32: =IF('評価項目(標準)'!I37="","",+'評価項目(標準)'!I37) -> △換算前 加算点満点 ×1割 ×件数 | J32: =IF(+I32="",0,-(+'評価項目(標準)'!J39*0.1*I32)) -> 0 | L32: =IF(+K32="",0,-(+'評価項目(標準)'!J39*0.1*K32)) -> 0 | M32: =IF(J32+L32=0,"",J32+L32)
B33: 指名停止措置による加算点の減点 | E33: 当該工事の入札公告日が、三重県発注工事にかかる贈賄、公契約関係競売等妨害又は談合により役員等又は使用人が逮捕、又は逮捕を経ないで公訴を提起されたことによる指名停止に伴うペナルティ期間内である場合、減点を行います。 | H33: △換算前 加算点満点 ×1割 | M33: =IF(I33+K33>0,-('評価項目(標準)'!J39*0.1),"")
L34: 合計 | M34: =ROUNDDOWN(SUM(M6:M31),1)+SUM(M32:M33) -> 0
B36: 【記入上の注意】
B37: ・ | D37: 黄色着色のセルは、該当する数値を直接入力してください。加算点は、自動計算により表示されます。
B38: ・ | D38: 橙色着色のセルは、セル中から該当する項目を選択してください。加算点は、選択した内容に応じて自動で表示されます。
B39: ・ | C39: 評価項目及び評価基準の詳細については、「評価項目一覧」及び「技術資料作成上の留意事項」で確認してください。
B40: ・ | C40: このシートは「評価項目一覧」とリンクしています。自己加算点が表示されていない場合は評価しません。

Sheet 様式２
A1: （様式２） 地域精通度・社会貢献度・企業の技術力等に関する技術資料 | AJ1: ※本頁は（様式２）の注意事項となっています。提出の必要はありません。
O2: 会社名
A3: 【地域精通度】 | AJ3: 【地域精通度の注意事項】
A5: 本店等所在地 | E5: 本店所在地 | AJ5: 注1： | AL5: 本店と建設業法上の主たる営業所の所在地が同じ場合は、本店所在地の入力は不要です。
E7: 所在地の変更日 | J7: 年 月 日 | AJ7: 注2： | AL7: 公告の前月から３６か月前までの期間に、本店及び建設業法上の主たる営業所の所在地を変更した場合は、旧所在地と変更日を入力して下さい。
E8: 旧所在地
E10: 営業所所在地 | AJ10: 注3： | AL10: 三重県内に建設業法上の営業所を有する県外業者は、営業所所在地を入力してください。
A12: 施工箇所地域 における 工事実績 | E12: コリンズ登録番号
E13: 工事名称
G16: 【社会貢献度】 | AJ16: 【社会貢献度の注意事項】
AD17: 評価対象 | AG17: 実績
A18: 社会貢献度 | E18: ① | F18: 男女共同参画活動実績の有無 | AJ18: 注1： | AL18: 評価対象として届け出る項目に「○」をプルダウンで選択してください。（最大４点）
E19: ② | F19: 障がい者雇用実績の有無
E20: ③ | F20: 人権に関する取組実績の有無（人権研修の受講実績又は公正採用選考人権啓発推進員の設置） | AJ20: 注2： | AL20: 各項目で実績（認証取得）の有無をプルダウンで選択してください。
E21: ④ | F21: 「みえる・わかる・つながる！職業ポータルサイト」Webページへの登録
E22: ⑤ | F22: 現場見学会等の開催実績
E23: ⑥ | F23: 不当要求防止責任者講習の受講実績
E24: ⑦ | F24: 「ユースエール認定制度」認定実績
F25: 「みえの働き方改革推進企業登録制度」登録実績
A26: 【企業の技術力等】 | AJ26: 【企業の技術力等の注意事項】
A28: 工事実績 | E28: コリンズ登録番号
E29: 工事名称

Sheet 様式３
A1: （様式３） 技術者の能力に関する技術資料
N2: 会社名
A3: 【技術者の能力】
A5: 配置予定技術者 | C5: 氏名 | W5: 生年月日（西暦） | AB5: 年 月 日
C6: 工事実績 | F6: コリンズ登録番号
F7: 工事名称
C9: 上記記載工事における 役割・従事期間 | K9: 役 割 | Q9: 監理技術者 | V9: □ | W9: 主任技術者 | AB9: □ | AC9: 現場代理人 | AH9: □
K10: 従事期間
C11: CPD取組実績 | E11: 取得単位認定団体 | N11: （例）○○技士会 | Y11: 推奨単位数 | AG11: 単位／年
N12: 取得単位数 | S12: 換算係数 | U12: 換算後単位数 | Y12: 換算後単位数の合計
E13: R8(2026)年度 | Q13: 単位 | S13: 1 | U13: =IF(N13="","",ROUNDDOWN(N13*S13,3)) | W13: 単位 | Y13: =IF(SUM(U13:V16)=0,"",SUM(U13:V16)) | AD13: 単 位
E14: R7(2025)年度 | Q14: 単位 | S14: 1 | U14: =IF(N14="","",ROUNDDOWN(N14*S14,3)) | W14: 単位
E15: R6(2024)年度 | Q15: 単位 | S15: 0.5 | U15: =IF(N15="","",ROUNDDOWN(N15*(1/2),3)) | W15: 単位
E16: R5(2023)年度 | Q16: 単位 | S16: 0.25 | U16: =IF(N16="","",ROUNDDOWN(N16*(1/4),3)) | W16: 単位
A21: 【技術者の能力の注意事項】
A23: 注1： | C23: 配置予定技術者の氏名は、必ず入力してください。
A25: 注2： | C25: 配置予定技術者に関する項目のうち、チェック欄が設けてあるところは、該当する「□」をプルダウンで「■」に変更してください。
A27: 注3： | C27: CPDの取得単位認定団体で記入できる団体数は、１団体のみとします。 推奨単位数は、上記で記入した団体のR8.4.1時点の推奨単位数を入力してください。

Sheet 様式４（対策なし）
A1: （様式４） 技術提案に関する技術資料
A2: 工事名：
A3: 会社名 | AQ3: ※本頁は、提出不要です。
A4: 特記課題 | AQ4: 【特記課題の注意事項】
A5: 項目１ | D5: 留意点① | AP5: 1 2 3 4 5 6 7 8 9 10 11 12 13 14 15 | AR5: ・ | AS5: 評価項目一覧に示す３項目について、工事を行ううえでの留意点とその理由をそれぞれ簡潔に記載してください。
AP6: 2
AP7: 3 | AR7: ・ | AS7: 具体的に実施する対策などを記載しても、その部分は評価しません。
AP8: 4 | AR8: ・ | AS8: 文字の大きさは、１０ポイントとします。
AP9: 5 | AR9: ・ | AS9: 行列の挿入及びセルサイズの変更は、不可とします。
D10: 留意点② | AP10: 1 | AR10: ・ | AS10: 各項目の留意点①～③は、それぞれ５行以内で記載するものとします。
AP11: 2 | AR11: ・ | AS11: ５行を超えて記載されている留意点は、評価しません。※例１、例２参照
AP12: 3 | AR12: ・ | AS12: 文字ポイントを小さくして、５行以内で記載されている留意点は、評価しません。※例３参照
AP13: 4 | AR13: ・ | AS13: 印刷した様式４で判断しますので、十分確認のうえ提出してください。
AP14: 5 | AS14: ※電子媒体で提出された場合でも、印刷して判断します。
D15: 留意点③ | AP15: 1 | AR15: ・ | AS15: 一括審査対象工事の場合、工事名には入札への参加を希望するすべての工事名を記載してください。
AP16: 2
AP17: 3
AP18: 4
AP19: 5
A20: 項目２ | D20: 留意点① | AP20: 1 2 3 4 5 6 7 8 9 10 11 12 13 14 15
AP21: 2
AP22: 3
AP23: 4
AP24: 5
D25: 留意点② | AP25: 1
AP26: 2
AP27: 3
AP28: 4
AP29: 5
D30: 留意点③ | AP30: 1
AP31: 2
AP32: 3
AP33: 4
AP34: 5
A35: 項目３ | D35: 留意点① | AP35: 1
AP36: 2
AP37: 3
AP38: 4
AP39: 5
D40: 留意点② | AP40: 1
...
