Workbook
Name PC橋梁_上部_工事: 様式４!$BA$39:$BA$50
Name PC橋梁_上部_工事: 様式５!$BA$57:$BA$68
Name PC橋梁_上部_工事: 例＿様式４!$BA$39:$BA$50
Name PC橋梁_上部_工事: 例＿様式５!$BA$57:$BA$68
Name PC橋梁_上部_工事: #REF!
Name 衛生工学: 様式５!$BP$54:$BP$55
Name 衛生工学: 例＿様式５!$BP$54:$BP$55
Name 衛生工学: #REF!
Name 機械: 様式５!$BL$54:$BL$56
Name 機械: 例＿様式５!$BL$54:$BL$56
Name 機械: #REF!
Name 技術士: 様式５!$BM$33:$BM$43
Name 技術士: 例＿様式５!$BM$33:$BM$43
Name 技術士: #REF!
Name 技術士部門: #REF!
Name 技術士部門: #REF!
Name 技術士部門: #REF!
Name 技術士部門名前: 様式５!$BN$33:$BN$43
Name 技術士部門名前: 例＿様式５!$BN$33:$BN$43
Name 技術士部門名前: #REF!
Name 建設: 様式５!$BI$54:$BI$55
Name 建設: 例＿様式５!$BI$54:$BI$55
Name 建設: #REF!
Name 建築士: 様式５!$BK$33:$BK$44
Name 建築士: 例＿様式５!$BK$33:$BK$44
Name 建築士: #REF!
Name 建築士名前: 様式５!$BL$33:$BL$44
Name 建築士名前: 例＿様式５!$BL$33:$BL$44
Name 建築士名前: #REF!
Name 工種: 様式５!$C$92:$C$96
Name 工種: 例＿様式５!$C$92:$C$96
Name 工種: [1]様式４!$C$92:$C$96
Name 工種1: 様式４!$AZ$75:$AZ$86
Name 工種1: 様式５!$AY$57:$AY$68
Name 工種1: 例＿様式４!$AZ$75:$AZ$86
Name 工種1: 例＿様式５!$AY$57:$AY$68
Name 工種1: #REF!
Name 工種2: 様式４!$BA$75:$BA$86
Name 工種2: 様式５!$AZ$57:$AZ$68
Name 工種2: 例＿様式４!$BA$75:$BA$86
Name 工種2: 例＿様式５!$AZ$57:$AZ$68
Name 工種2: #REF!
Name 工種3: 様式４!$BB$75:$BB$86
Name 工種3: 様式５!$BA$57:$BA$68
Name 工種3: 例＿様式４!$BB$75:$BB$86
Name 工種3: 例＿様式５!$BA$57:$BA$68
Name 工種3: #REF!
Name 工種4: 様式４!$BC$75:$BC$86
Name 工種4: 様式５!$BB$57:$BB$68
Name 工種4: 例＿様式４!$BC$75:$BC$86
Name 工種4: 例＿様式５!$BB$57:$BB$68
Name 工種4: #REF!
Name 工種5: 様式４!$BD$75:$BD$86
Name 工種5: 様式５!$BC$57:$BC$68
Name 工種5: 例＿様式４!$BD$75:$BD$86
Name 工種5: 例＿様式５!$BC$57:$BC$68
Name 工種5: #REF!
Name 施工管理技士: 様式５!$BI$33:$BI$44
Name 施工管理技士: 例＿様式５!$BI$33:$BI$44
Name 施工管理技士: #REF!

Sheet チェック用
A1: このシートは触らないでください。
A2: 同種工事の施工実績 | B2: 無 | C2: - | D2: - | E2: - | F2: - | G2: - | H2: - | I2: - | L2: 国土交通大臣 | M2: 0
A3: 地域固有の社会貢献活動 | B3: - | C3: - | D3: - | E3: - | F3: - | G3: - | H3: - | I3: - | L3: 兵庫県知事 | M3: 28
A4: 自己評価申告書内容 | L4: 北海道知事 | M4: 1
A5: 建設業許可番号 | B5: =IF(様式2!$J4="","",INT(TEXT(VLOOKUP(様式2!$J4,L2:M50,2,),"00")&TEXT(様式2!$L4,"000000"))) | C5: - | D5: - | E5: - | F5: - | G5: - | H5: - | I5: - | L5: 青森県知事 | M5: 2
A6: 会社名 | B6: =IF(様式2!$J5="","",様式2!$J5) -> 0 | C6: - | D6: - | E6: - | F6: - | G6: - | H6: - | I6: - | L6: 岩手県知事 | M6: 3
A7: 企業の施工能力 | L7: 宮城県知事 | M7: 4
A8: 同種工事の施工実績 | B8: - | C8: - | D8: - | E8: - | F8: - | G8: - | H8: - | I8: - | L8: 秋田県知事 | M8: 5
A9: 工事成績 | B9: =様式2!J12 -> 0 | C9: - | D9: - | E9: - | F9: - | G9: - | H9: - | I9: - | L9: 山形県知事 | M9: 6
A10: 社会貢献点数 | B10: - | C10: - | D10: - | E10: - | F10: - | G10: - | H10: - | I10: - | L10: 福島県知事 | M10: 7
A11: 地域固有の社会貢献活動 | B11: - | C11: - | D11: - | E11: - | F11: - | G11: - | H11: - | I11: - | L11: 茨城県知事 | M11: 8
A12: 配置予定技術者の技術力 | L12: 栃木県知事 | M12: 9
A13: 同種工事の施工実績 | B13: - | C13: - | D13: - | E13: - | F13: - | G13: - | H13: - | I13: - | L13: 群馬県知事 | M13: 10
A14: 工事成績 | B14: =様式2!J16 -> 0 | C14: - | D14: - | E14: - | F14: - | G14: - | H14: - | I14: - | L14: 埼玉県知事 | M14: 11
A15: 継続学習(CPD)の取得状況 | B15: =様式2!J19 -> 0 | C15: - | D15: - | E15: - | F15: - | G15: - | H15: - | I15: - | L15: 千葉県知事 | M15: 12
A16: 地域建設業者の育成 | L16: 東京都知事 | M16: 13
A17: 地域精通度 | B17: =様式2!J21 | C17: - | D17: - | E17: - | F17: - | G17: - | H17: - | I17: - | L17: 神奈川県知事 | M17: 14
A18: 県内企業の下請負人活用状況 | B18: =様式2!J23 | C18: - | D18: - | E18: - | F18: - | G18: - | H18: - | I18: - | L18: 新潟県知事 | M18: 15
A19: 新技術・新工法の活用 | B19: =様式2!J25 | C19: - | D19: - | E19: - | F19: - | G19: - | H19: - | I19: - | L19: 富山県知事 | M19: 16
A20: 県内産資材の活用 | B20: - | C20: - | D20: - | E20: - | F20: - | G20: - | H20: - | I20: - | L20: 石川県知事 | M20: 17
A21: 若手技術者の育成 | B21: =様式2!J27 -> 0 | C21: - | D21: - | E21: - | F21: - | G21: - | H21: - | I21: - | L21: 福井県知事 | M21: 18
A22: その他の確認事項 | L22: 山梨県知事 | M22: 19
A23: 女性技術者の配置 | B23: - | C23: - | D23: - | E23: - | F23: - | G23: - | H23: - | I23: -
A24: 専任補助者の配置 | B24: =IF(様式2!I15="専任補助者","○","") | C24: - | D24: - | E24: - | F24: - | G24: - | H24: - | I24: - | L24: 長野県知事 | M24: 20
L25: 岐阜県知事 | M25: 21
A26: 減点個運目項目 | B26: =様式2!J33 -> 0 | C26: - | D26: - | E26: - | F26: - | G26: - | H26: - | I26: - | L26: 静岡県知事 | M26: 22
L27: 愛知県知事 | M27: 23
A28: 追加資料の提出意思 | B28: - | C28: - | D28: - | E28: - | F28: - | G28: - | H28: - | I28: - | L28: 三重県知事 | M28: 24
A29: 地域建設業者の育成2 | L29: 滋賀県知事 | M29: 25
A30: CCUSの活用 | B30: =様式2!J31 | C30: - | D30: - | E30: - | F30: - | G30: - | H30: - | I30: - | L30: 京都府知事 | M30: 26
L31: 大阪府知事 | M31: 27
L32: 奈良県知事 | M32: 29
L33: 和歌山県知事 | M33: 30
L34: 鳥取県知事 | M34: 31
L35: 島根県知事 | M35: 32
L36: 岡山県知事 | M36: 33
L37: 広島県知事 | M37: 34
L38: 山口県知事 | M38: 35
L39: 徳島県知事 | M39: 36
L40: 香川県知事 | M40: 37
L41: 愛媛県知事 | M41: 38
L42: 高知県知事 | M42: 39
... L50: 沖縄県知事 | M50: 47

Sheet 様式１（表紙）
O1: 企業チャレンジ型様式１号
A2: 企業チャレンジ型 技術資料 表紙
O3: 令和 年 月 日
G4: 様
I5: 住所 | J5: ：
I6: 商号又は名称 | J6: ：
I7: 代表者氏名 | J7: ：
B9: 令和 年 月 日 | G9: 付けで入札公告のありました
B10: 工事番号 | E10: 総流統一般 第８２０３－０－００１号
B11: （二）武庫川水系大堀川 河川改修工事（その８） | J11: について、以下の通り技術資料を提出します。
A13: １ 提出書類 | E13: 《 提出する根拠資料を確認（ｱﾝﾀﾞｰﾗｲﾝ、赤囲等で明示）の上「✓」を記載（提出のない資料は「－」）すること 》
B14: 様式番号（技術資料名） | H14: 提出する根拠資料（必須）
B15: 様式１号（企業チャレンジ型 技術資料 表紙）
B16: 様式２号（自己評価申告書）
C17: 地域建設 業者の育成 | D17: 地域精通度 | H17: － | I17: 建設工事入札参加資格者名簿（個票）
D18: 建設ｷｬﾘｱｱｯﾌﾟｼｽﾃﾑ（CCUS） の活用 | H18: － | I18: CCUSﾎｰﾑﾍﾟｰｼﾞﾛｸﾞｲﾝ後の「事業者情報」画面 | O18: ※WEBブラウザから直接印刷したもの
H19: － | I19: CCUSﾎｰﾑﾍﾟｰｼﾞﾛｸﾞｲﾝ後の「管理者ID利用料明細」画面 | O19: ※WEBブラウザから直接印刷したもの
B20: 様式３号（企業の施工能力）
C21: 企業の 施工能力 | D21: 工事成績 | H21: － | I21: 登録内容確認書（ｺﾘﾝｽﾞ）※竣工時又は竣工後訂正したもの
H22: － | I22: 工事成績評定結果の通知
B23: 様式４号（配置予定技術者の技術力）
C24: 配置予定技術者の技術力 | D24: 工事成績 | H24: － | I24: 登録内容確認書又は技術者実績確認書（ｺﾘﾝｽﾞ） | O24: ※竣工時又は竣工後訂正したもの
H25: － | I25: 工事成績評定結果の通知
E26: ※現場代理人として従事した 工事成績を申告する場合 | H26: － | I26: 従事した工事の開始日以前に、建設業法（昭和24年法律第100号）第26条に規定された主任技術者として従事できる国家資格を取得していることが分かる資料（合格証等）
E27: ※専任補助者として従事した 工事成績を申告する場合 | H27: － | I27: 専任補助者として従事した工事の技術資料 （工事成績評定結果の通知で確認できない場合）
D28: 継続学習（CPD)の取組状況 | H28: － | I28: 学習履歴証明書
B29: 様式５号（技術者の育成）
C30: 地域建設 業者の育成 | D30: 技術者の育成 | E30: ※若手・女性技術者を配置する場合 | H30: － | I30: 生年月日（年齢）及び女性の場合性別が分かる資料（マイナンバーカード等）
F31: ※専任補助者を配置 する場合 | H31: － | I31: 専任補助者が配置技術者に対する全ての入札参加資格要件を満たすことが確認できる資料
E32: ※直近８年以内に国家資格を取得している場合 | H32: － | I32: 配置予定技術者の建設業法（昭和24年法律第100号）第26条に規定された監理技術者として従事できる国家資格の取得年度が分かる資料（合格証等）
B33: 様式６号（不履行項目数）
C34: 減点 | D34: 不履行項目数 | H34: － | I34: 工事成績評定結果の通知
B35: その他の資料 《 様式の内容が根拠資料（必須）のみで証明できない場合は下欄に資料名等を記載し提出すること 》
A39: ２ 提出方法 | E39: 《 あてはまるものいずれかに○を記載すること 》
D40: 様式集（Excel）及び根拠資料を電子入札システムで提出する。
D41: 様式集（Excel）のみ電子入札システムで提出する。根拠資料は持参（紙）で提出する。
A43: ３ 問い合わせ
B44: 担当者 | G44: 電話番号 | L44: メール
A46: ４ チェックリスト | F46: 《 提出前に下記事項を確認し、「✓」を記載すること。》
B47: 技術資料全般の注意事項
B48: － | D48: ① | E48: 着色部 | F48: の記載（選択・記載 ）した。また、 | K48: 着色部 | M48: の確認及び修正をした。
B49: － | D49: ② | E49: 様式集をExcel以外で提出した場合は「無効」となる。
B50: － | D50: ③ | E50: 技術資料（根拠資料含む）の一部が未提出又は未記載である場合は、当該評価項目を「最低点」となる。
B51: － | D51: ④ | E51: 「日付」「工事名」「商号又は名称」等入札参加者情報の記載漏れは、「無効」となる。
B52: － | D52: ⑤ | E52: 各様式と根拠資料の不整合・誤記の場合は、当該評価項目が「最低点」となる。【令和８年10月１日適用予定】
B53: － | D53: ⑥ | E53: 「入札説明書」、 | G53: 「技術資料作成の手引き」等、 | J53: 入札関連情報を確認して技術資料を作成した。
A55: リスト
B56: 1 提出書類
D57: ✓
D58: －
B60: ２ 提出方法
D61: ○

Sheet 様式2
K1: 企業ﾁｬﾚﾝｼﾞ型様式２号
B2: 自己評価申告書
B4: 工事番号 | C4: ='様式１（表紙）'!E10 -> 総流統一般 第８２０３－０－００１号 | H4: 許可番号 | K4: 許可 第 | M4: 号
B5: 工事名 | C5: ='様式１（表紙）'!B11 -> （二）武庫川水系大堀川 河川改修工事（その８） | H5: 会社名 | J5: ='様式１（表紙）'!K6 -> 0
H6: 作成者 | J6: ='様式１（表紙）'!E44 -> 0
B10: 評価区分 | C10: 評価項目 | D10: 配点 | E10: 評価方法 | I10: 入札参加者（申告者） | K10: （発注者記載欄）
E11: 評価方法 | G11: 評価内容 | H11: 評価点 | I11: 評価内容 | J11: 評価点 | K11: 自己評価 | L11: 技術資料 | M11: 備 考
B12: 企業の施工能力 【様式３号】 | C12: 工事成績 | D12: 2点 | E12: 80点以上 | G12: 該当する 工事件数 を記載 （1件） | H12: 2 | I12: =様式３!$AD$8&"件" -> 0件 | J12: =IF(AND(I12="",I13="",I14=""),"",IF(OR(I12="",I13="",I14=""),"全て選択してください。",IF(LEFT(I12)+LEFT(I13)+LEFT(I14)=1,LEFT(I12)*H12+LEFT(I13)*H13+LEFT(I14)*H14,"合計1件にしてください"))) -> 0
E13: 70点以上 80点未満 | H13: 1 | I13: =様式３!$AD$10&"件" -> 0件
E14: 70点未満、該当工事なし | H14: 0 | I14: =様式３!$AD$12&"件" -> 1件
B15: 配置予定技術者の技術力 【様式4号】 | C15: 専任補助者の配置 | D15: － | E15: 当該評価項目において評価対象とする技術者 | I15: =IF(COUNTIF(様式４!$A$21:$A$26,"○")>=2,"×",IF(様式４!$R$11="する","専任補助者","配置予定技術者")) -> 配置予定技術者 | O15: ←「×」が表示される場合は、様式４号の「評価対象」が複数選択されています。
C16: 工事成績 | D16: 2点 | E16: 主任（監理）技術者、専任補助者又は要件を満たす現場代理人として従事した工事 | F16: 80点以上 | G16: 該当する 工事件数 を記載 （1件） | H16: 2 | I16: =様式４!AI28&"件" -> 0件 | J16: =IF(AND(I16="",I17="",I18=""),"",IF(OR(I16="",I17="",I18=""),"全ての項目を選択してください。",IF(LEFT(I16)+LEFT(I17)+LEFT(I18)=1,LEFT(I16)*H16+LEFT(I17)*H17+LEFT(I18)*H18,"合計1件にしてください"))) -> 0
F17: 70点以上 80点未満 | H17: 1 | I17: =様式４!AI30&"件" -> 0件
F18: 70点未満、該当工事なし | H18: 0 | I18: =様式４!AI31&"件" -> 1件
C19: 継続学習（CPD） の取組状況 | D19: １点 | E19: 推奨単位以上の取得実績がある。 | G19: あり | H19: 1 | I19: =IF( AND(様式４!A39=様式４!C113,様式４!T39=様式４!C113), "あり", IF( AND(様式４!A41=様式４!C113,様式４!T41=様式４!C113), "あり", IF( AND(様式４!A43=様式４!C113,様式４!T43=様式４!C113), "あり", "なし" ) ) ) -> なし | J19: =IF(I19="","",IF(I19=G19,H19,H20)) -> 0
E20: 推奨単位以上の取得実績がない。 | G20: なし | H20: 0
B21: 地域建設業者の育成 | C21: 地域精通度 （本店所在地） | D21: 1点 | E21: 本店（主たる営業所）の所在地が契約期間中、継続して指定地域内にある。 | G21: あり | H21: 1 | J21: =IF(I21="","",IF(I21=G21,H21,H22))
E22: 上記に該当しない。 | G22: なし | H22: 0
C23: 県内企業の 下請負人活用 状況 | D23: 1点 | E23: 下請負人の全てを県内企業とする、 又は元請負人が県内企業であり自社施工する。 | G23: あり | H23: 1 | J23: =IF(I23="","",IF(I23=G23,H23,H24))
E24: 上記に該当しない。 | G24: なし | H24: 0
C25: 新技術・新工法 の活用 | D25: 1点 | E25: 当該工事において適用する。 | G25: あり | H25: 1 | J25: =IF(I25="","",IF(I25=G25,H25,H26))
E26: 当該工事において適用しない。 | G26: なし | H26: 0
C27: 技術者の育成 【様式５号】 | D27: 1点 | E27: 若手・女性 技術者 | G27: 該当 | H27: 0.5 | I27: =IF(様式５!AJ25="○",G27,G28) -> 非該当 | J27: =IF(OR(I27="",I29=""),"",IF(I27=G27,H27,H28)+IF(I29=G29,H29,H30)) -> 0
G28: 非該当 | H28: 0
E29: 直近８年以内に国家資格を取得した者 | G29: 該当 | H29: 0.5 | I29: =IF(様式５!AN25="○",G29,G30) -> 非該当
G30: 非該当 | H30: 0
C31: CCUSの活用 | D31: 1点 | E31: ＣＣＵＳに事業者登録済 | G31: あり | H31: 1 | J31: =IF(I31="","",IF(I31=G31,H31,H32))
E32: ＣＣＵＳに事業者未登録 | G32: なし | H32: 0
B33: 減点 | C33: 減点項目 【様式６号】 | D33: -6点 | E33: 技術資料の 記載内容の 不履行項目数 （１年間通算） | F33: 不履行なし | G33: 該当する 不履行 項目数 を記載 | H33: 0 | I33: =IF(様式６!$K$19="○","不履行なし",IF(様式６!$K$20="○","1項目",IF(様式６!$K$21="○","2項目",IF(様式６!$K$22="○","3項目以上","")))) -> 不履行なし | J33: =IF(I33="","",IF(I33=F33,H33,IF(I33=F34,H34,IF(I33=F35,H35,IF(I33=F36,H36))))) -> 0
F34: 1項目 | H34: -2
F35: 2項目 | H35: -4
F36: 3項目以上 | H36: -6
B37: 小計 | C37: 企業の施工能力（Ａ） | H37: =SUM(H12) -> 2 | J37: =IF(AND(J12=""),"",IF(OR(J12="",NOT(ISNUMBER(J12)),),"×",SUM(J12:J14))) -> 0
C38: 配置予定技術者の技術力（Ｂ） | H38: =SUM(H16,H19) -> 3 | J38: =IF(AND(I15="",J16="",J19=""),"",IF(OR(I15="",I15="×",J16="",NOT(ISNUMBER(J16)),J19=""),"×",SUM(J16:J20))) -> 0
C39: 地域建設業者の育成（Ｃ） | H39: =SUM(H21,H23,H25,H27,H29,H31) -> 5 | J39: =IF(AND(J21="",J23="",J25="",J27="",J31=""),"",IF(OR(J21="",J23="",J25="",J27="",J31=""),"×",SUM(J21:J32))) -> ×
C40: 減点（Ｄ） | H40: =SUM(H33) -> 0 | J40: =IF(AND(J33=""),"",IF(OR(J33=""),"×",SUM(J33))) -> 0
B41: 加算点 | C41: （（Ａ）＋（Ｂ）＋（Ｃ）＋（Ｄ））×（１／３） | H41: =ROUND((SUM(H37:H40)*10/30),3) -> 3.333 | J41: =IF(AND(J37="",J38="",J39="",J40=""),"",IF(OR(J37="×",J38="×",J39="×",J40="×",J37="",J38="",J39="",J40="",C4="",C5="",J4="",J5="",J6=""),"×",ROUND((SUM(J37:J40)*10/30),3))) -> ×
B43: 注意事項
B44: 注１： | C44: 入札公告等を確認の上、記載例を参考に記載すること。
B45: 注２： | C45: 着色部 | D45: は全て記載（選択・記載）すること。 | G45: 着色部 | H45: は自動入力されるため、誤記の場合は修正すること。
B46: 注３： | C46: 他の様式の記載事項と整合を図ること。
B47: 注４： | C47: 許可番号欄は、建設業を許可した者を選択の上、許可番号の数値（６桁）を記載すること。
B51: （別表）建設業を許可した者
C52: 国土交通大臣
C53: 兵庫県知事
C54: ------------
C55: ■近畿
C56: 福井県知事
C57: 滋賀県知事
C58: 京都府知事
C59: 大阪府知事
C60: 奈良県知事
C61: 和歌山県知事
C62: ------------
C63: ■北海道東北
... C115: 沖縄県知事

Sheet 様式３
X1: 企業ﾁｬﾚﾝｼﾞ評価型様式３号
A2: 企業の施工能力
U3: 商号又は名称 | X3: ： | Y3: ='様式１（表紙）'!K6 -> 0
U4: 工事名 | X4: ： | Y4: ='様式１（表紙）'!B11 -> （二）武庫川水系大堀川 河川改修工事（その８）
A6: ■工事成績 | G6: ="対象期間："&TEXT(IF(AND(MONTH(様式４!R30)>=1,MONTH(様式４!R30)<=6),EOMONTH(様式４!R30,-9*12),EOMONTH(様式４!R30,-8*12)),"[$-ja-JP-x-gannen]ggge")&"年度～"&TEXT(IF(AND(MONTH(様式４!R30)>=1,MONTH(様式４!R30)<=6),EOMONTH(様式４!R30,-2*12),EOMONTH(様式４!R30,-1*12)),"[$-ja-JP-x-gannen]ggge")&"年度" -> 対象期間：平成30年度～令和7年度 | M6: （８年間）
A8: 対象工事 | B8: 発注機関名 | F8: 工事名 | K8: 工期 （完成日） | N8: 発注形態 | S8: 工種 | V8: 検査年月日 | Y8: 工事 成績 | AB8: 80点以上 | AD8: =COUNTIF(Y10,">=80") -> 0
E9: ( | F9: 施工場所 | J9: )
A10: 該当なし | AB10: 70点以上80点未満 | AD10: =COUNTIFS(Y10,">=70",Y10,"<80") -> 0
E11: ( | F11: =IF(AND(B10<>$F$75,B10<>""),"※記載不要","") | J11: ) | N11: =IF(N10=$D$56,"（出資比率","") | R11: =IF(N11="","","％）")
AB12: 70点未満 該当工事なし | AD12: =1-AD8-AD10 -> 1
A13: 注意事項
A16: 注１ | B16: ： 様式１号に記載している根拠資料を添付し本様式と整合させること。
B18: なお、根拠資料の該当箇所を明示すること。（ｱﾝﾀﾞｰﾗｲﾝ等）
A19: 注２ | B19: ： 「発注機関名」欄で「その他の機関」を選択した場合は、官庁名等を
B20: 記載すること。
A21: 注３ | B21: ： 工事成績評定通知書等に検査年月日の記載がなく、確認がとれない
B22: 場合は、「検査年月日」欄に「－」を記載すること。
A23: 注４ | B23: ： 評価対象となる項目がない場合は「対象工事」欄で「該当なし」を選択すること。
A25: 注５ | B25: ： その他の事項については、様式２の「注１」～「注３」を
B26: 確認し本様式を記載すること。
A44: リスト
B45: ■同種工事の施工実績
B46: 同種工事の実績の有無
D47: 該当あり
D48: 該当なし
B49: 工事番号
D50: 該当あり | E50: 該当なし
B54: 発注形態
D55: 単体
D56: 特別共同企業体
B57: 工種
D58: 一般土木工事 又は、港湾土木工事
D59: ｱｽﾌｧﾙﾄ舗装工事
D60: PC橋梁(上部)工事
D61: 鋼橋梁(上部)工事
D62: 造園工事
D63: （空白）
B64: 社会貢献点数
D65: 120
D66: 90
D67: 60
D68: 30
D69: 0
D70: -20
D71: -40
B72: 発注機関
D73: 兵庫県 | F73: 兵庫県
D74: その他の機関 | F74: 神戸市
F75: その他の機関
B79: ■地域固有の社会貢献活動
D80: 該当 あり | G80: 対象業務
D81: 該当 なし | G81: 対象工事
D84: 除雪又は凍結防止剤散布業務の実績
D85: 橋梁補修工事（PC橋梁（上部）工事の工種に限る。）の実績
D86: 橋梁補修工事（鋼橋梁（上部）工事の工種に限る。）の実績
D87: （空白）
D88: 除雪又は凍結防止剤散布２点
D89: 除雪４点、凍結防止剤散布２点
D90: 除雪又は凍結防止剤散布４点
D91: 除雪又は凍結防止剤散布１点
D92: 除雪２点、凍結防止剤散布１点
D93: （空白）
D95: 除雪
D96: 凍結防止剤散布
D97: 除雪及び凍結防止剤散布

Sheet 様式４
AM1: 企業ﾁｬﾚﾝｼﾞ評価型様式４号
A2: 配置予定技術者の技術力
AG3: 商号又は名称 | AK3: ： | AL3: =様式３!Y3 -> 0
AG4: 工事名 | AK4: ： | AL4: =様式３!Y4 -> （二）武庫川水系大堀川 河川改修工事（その８）
A5: ■配置予定技術者 | Q5: ■専任補助者 | X5: 全ての配置予定技術者が若手又は女性技術者であるため、 専任補助者を配置できる要件を満たしています。
A7: 配置予定 | C7: 技術者氏名 | D7: ( | E7: 性別 | F7: ) | G7: 【参考】 入札公告に示す配置技術者の入札参加資格要件の確認 | Y7: 配置予定 | AA7: 専任補助者氏名 | AG7: 入札公告に示す配置技術者の入札参加資格要件の確認
B8: ( | C8: 生年月日 | D8: ： | E8: 年齢 | F8: ) | G8: 合格証書等の有無） | Z8: ( | AA8: 生年月日 | AF8: ) | AG8: 建設業法の規定による技術者（技術者証の有無） | AV8: 専任補助者対象 | AY8: 様式２判定用
A9: 該当なし | R9: 専任補助者の 配置を | Y9: 該当なし | AV9: 1 | AW9: =IF(OR(A9="○",A9=""),IF(OR(E9="女性",AND(E9="男性",AND(E10<40,NOT(E10=0))),AND(E9="",AND(E10<40,NOT(E10=0)))),"○","×"),IF(A9="工場製作","対象外","")) | AY9: =IF(OR(AW9="×",AW11="×",AW13="×",R11="しない"),"×","○") -> ×
B10: ( | D10: ： | E10: =IF(NOT(C10=""),DATEDIF(C10,$R$30,"Y"),"") | F10: ) | Z10: ( | AF10: )
A11: 該当なし | D11: ( | F11: ) | R11: しない | Y11: 該当なし | AV11: 2 | AW11: =IF(OR(A11="○",A11=""),IF(OR(E11="女性",AND(E11="男性",AND(E12<40,NOT(E12=0))),AND(E11="",AND(E12<40,NOT(E12=0)))),"○","×"),IF(A11="工場製作","対象外",""))
B12: ( | D12: ： | E12: =IF(NOT(C12=""),DATEDIF(C12,$R$30,"Y"),"") | F12: ) | Z12: ( | AF12: )
A13: 該当なし | D13: ( | F13: ) | Y13: 該当なし | AV13: 3 | AW13: =IF(OR(A13="○",A13=""),IF(OR(E13="女性",AND(E13="男性",AND(E14<40,NOT(E14=0))),AND(E13="",AND(E14<40,NOT(E14=0)))),"○","×"),IF(A13="工場製作","対象外",""))
B14: ( | D14: ： | E14: =IF(NOT(C14=""),DATEDIF(C14,$R$30,"Y"),"") | F14: ) | Z14: ( | AF14: )
A17: ■工事成績 | H17: =様式３!G6 -> 対象期間：平成30年度～令和7年度 | Q17: （８年間） | AW17: 最小値の対象者 | AX17: 氏名 | AY17: 工事成績 | BC17: CPD | BD17: 評価点
A19: 評価 対象 | C19: 技術者氏名 | E19: 対象工事 | F19: 発注機関名 | L19: 工事名 | W19: 工期 | AB19: 発注形態 | AG19: 工種 | AL19: 従事役職 | AP19: 検査年月日 | AS19: 工事 成績 | AY19: 未満 | BA19: 80 | BB19: 70
B20: ( | C20: 生年月日 | D20: ) | K20: ( | L20: 施工場所 | V20: ) | AG20: 保有していた国家資格 | AY20: 以上 | AZ20: 80 | BA20: 70 | BB20: 0
C21: =IF($AY$9="○",IF(Y9=$C$105,AA9,""),IF(A9=$C$63,C9,"")) | E21: 該当なし | AW21: =IF(BD22=$BG$22,"○","-") -> - | AY21: 件数 | AZ21: =COUNTIF(AS21,">=80") -> 0 | BA21: =COUNTIFS(AS21,">=70",AS21,"<80") -> 0 | BB21: =COUNTIFS(AS21,"<70") -> 0
C22: =IF($AY$9="○",IF(Y9=$C$105,AA10,""),IF(A9=$C$63,C10,"")) | K22: ( | L22: =IF(AND(F21<>$E$92,F21<>""),"※記載不要","") | V22: ) | W22: ～ | AB22: =IF(AB21=$C$72,"（出資比率","") | AE22: =IF(AB22="","","％）") | AX22: =C21 | AY22: 点数 | AZ22: =2*AZ21 -> 0 | BA22: =1*BA21 -> 0 | BB22: =0*BB21 -> 0 | BC22: =IF(T39="○",1,0) -> 0 | BD22: =IF(AX22="","-",IF($AY$9="○",IF(Y9=$C$64,"-",SUM(AZ22,BA22,BB22,BC22)),IF(A9=$C$64,"-",SUM(AZ22,BA22,BB22,BC22)))) -> - | BF22: 最小値 | BG22: =MIN(BD22,BD24,BD26) -> 0
C23: =IF($AY$9="○",IF(Y11=$C$105,AA11,""),IF(A11=$C$63,C11,"")) | E23: 該当なし | AW23: =IF(BD24=$BG$22,"○","-") -> - | AY23: 件数 | AZ23: =COUNTIF(AS23,">=80") -> 0 | BA23: =COUNTIFS(AS23,">=70",AS23,"<80") -> 0 | BB23: =COUNTIFS(AS23,"<70") -> 0
C24: =IF($AY$9="○",IF(Y11=$C$105,AA12,""),IF(A11=$C$63,C12,"")) | K24: ( | L24: =IF(AND(F23<>$E$92,F23<>""),"※記載不要","") | V24: ) | W24: ～ | AB24: =IF(AB23=$C$72,"（出資比率","") | AE24: =IF(AB24="","","％）") | AX24: =C23 | AY24: 点数 | AZ24: =2*AZ23 -> 0 | BA24: =1*BA23 -> 0 | BB24: =0*BB23 -> 0 | BC24: =IF(T41="○",1,0) -> 0 | BD24: =IF(AX24="","-",IF($AY$9="○",IF(Y11=$C$64,"-",SUM(AZ24,BA24,BB24,BC24)),IF(A11=$C$64,"-",SUM(AZ24,BA24,BB24,BC24)))) -> -
C25: =IF($AY$9="○",IF(Y13=$C$105,AA13,""),IF(A13=$C$63,C13,"")) | E25: 該当なし | AW25: =IF(BD26=$BG$22,"○","-") -> - | AY25: 件数 | AZ25: =COUNTIF(AS25,">=80") -> 0 | BA25: =COUNTIFS(AS25,">=70",AS25,"<80") -> 0 | BB25: =COUNTIFS(AS25,"<70") -> 0
C26: =IF($AY$9="○",IF(Y13=$C$105,AA14,""),IF(A13=$C$63,C14,"")) | K26: ( | L26: =IF(AND(F25<>$E$92,F25<>""),"※記載不要","") | V26: ) | W26: ～ | AB26: =IF(AB25=$C$72,"（出資比率","") | AE26: =IF(AB26="","","％）") | AX26: =C25 | AY26: 点数 | AZ26: =2*AZ25 -> 0 | BA26: =1*BA25 -> 0 | BB26: =0*BB25 -> 0 | BC26: =IF(T43="○",1,0) -> 0 | BD26: =IF(AX26="","-",IF($AY$9="○",IF(Y13=$C$64,"-",SUM(AZ26,BA26,BB26,BC26)),IF(A13=$C$64,"-",SUM(AZ26,BA26,BB26,BC26)))) -> -
Y28: 監理技術者 主任技術者 専任補助者 現場代理人 | AC28: 80点以上 | AI28: =IF($A$21=$C$63,AZ21,IF($A$23=$C$63,AZ23,IF($A$25=$C$63,AZ25,0))) -> 0
A29: ■継続学習（CPD）の取組状況
L30: 入札参加申込期限日 | Q30: : | R30: 46282 | AC30: 70点以上80点未満 | AI30: =IF($A$21=$C$63,BA21,IF($A$23=$C$63,BA23,IF($A$25=$C$63,BA25,0))) -> 0
AC31: 70点未満、該当なし | AI31: =1-AI28-AI30 -> 1
A32: 評価 対象 | E32: （一社）全国土木施工管理技士連合会の継続学習制度における取得単位
C34: 技術者氏名 | E34: 直近1年間 | H34: 直近2年間 | K34: 直近3年間 | N34: 直近4年間 | P34: 直近5年間 | T34: 推奨単位の 取得状況
E36: =E38-1 -> 2025 | H36: =E36-1 -> 2024 | K36: =H36-1 -> 2023 | N36: =K36-1 -> 2022 | P36: =N36-1 -> 2021
B37: ( | C37: 生年月日 | D37: )
E38: =YEAR(EDATE(R30,-3)) -> 2026 | H38: =$E$38 -> 2026 | K38: =$E$38 -> 2026 | N38: =$E$38 -> 2026 | P38: =$E$38 -> 2026 | Y38: 注意事項
A39: =IF(A21="","",$C$113) | C39: =IF(C21="","",C21) | T39: =IF($E$32=$C$86,IF(A39=$C$64,"",IF(E39<$E$63,IF(H39<$H$63,IF(K39<$K$63,IF(N39<$N$63,IF(P39<$P$63,"×","○"),"○"),"○"),"○"),"○")),IF(A39=$C$64,"",IF(E39<$E$64,"×","○"))) -> × | Y39: 注１ | AA39: ： 配置予定技術者は３名まで記載できる。評価対象者は「同種工事の実績」、「工事成績」、
B40: ( | C40: =IF(C22="","",C22) | D40: ) | AA40: 「継続学習（ＣＰＤ）の取組状況」の各評価項目の合計得点の低いものとし、「評価対象」欄
A41: =IF(A23="","",$C$113) | C41: =IF(C23="","",C23) | T41: =IF($E$32=$C$86,IF(A41=$C$64,"",IF(E41<$E$63,IF(H41<$H$63,IF(K41<$K$63,IF(N41<$N$63,IF(P41<$P$63,"×","○"),"○"),"○"),"○"),"○")),IF(A41=$C$64,"",IF(E41<$E$64,"×","○"))) -> × | AA41: に「○」を記載すること。なお、記載しない場合は同欄で「該当なし」を選択すること。
B42: ( | C42: =IF(C24="","",C24) | D42: ) | Y42: 注２ | AA42: ： 工場製作を含む工事において、「工場製作のみが行われる期間」における配置予定技術者
A43: =IF(A25="","",$C$113) | C43: =IF(C25="","",C25) | T43: =IF($E$32=$C$86,IF(A43=$C$64,"",IF(E43<$E$63,IF(H43<$H$63,IF(K43<$K$63,IF(N43<$N$63,IF(P43<$P$63,"×","○"),"○"),"○"),"○"),"○")),IF(A43=$C$64,"",IF(E43<$E$64,"×","○"))) -> × | AA43: も、本様式へ記載すること。この場合「評価対象」欄で「工場製作」を選択すること。
B44: ( | C44: =IF(C26="","",C26) | D44: ) | Y44: 注３ | AA44: ： 工事成績の申告対象工事がない場合は「対象工事」欄で「なし」を選択すること。
A45: 特記）継続学習（ＣＰＤ）の取組状況における年間とは兵庫県の会計年度（４月１日 | Y45: 注４ | AA45: ： その他の事項については、様式２「注１」～「注３」及び３の「注１」～「注４」確認し
A46: ～翌年３月31日までの１年間）とする。 | AA46: 本様式を記載すること。
A55: リスト
B56: 専任補助者
C57: する | S57: 注）全ての配置予定技術者が若手（入札参加申込期限日において４０歳未満の者）又は女性技術者とする場合のみ配置できる。 配置する場合、本様式には配置予定技術者に代えて専任補助者の施工実績等を記載すること。
C58: しない
B60: ■同種工事の施工実績
B62: 評価対象 | E62: １年間 | H62: ２年間 | K62: ３年間 | N62: ４年間 | P62: ５年間
C63: ○ | E63: 20 | H63: 40 | K63: 60 | N63: 80 | P63: 100 | T63: →CPDS（令和６年４月以降）
C64: 工場製作 | E64: 50 | H64: →造園CPD（令和６年４月以降）
C65: 該当なし
B67: 対象
C68: 該当あり | D68: 該当なし
B70: 発注形態
C71: 単体
C72: 特別共同企業体
B73: 工種
C74: 一般土木工事 又は、港湾土木工事 | D74: 工種1 | AZ74: 工種1 | BA74: 工種2 | BB74: 工種3 | BC74: 工種4 | BD74: 工種5
C75: ｱｽﾌｧﾙﾄ舗装工事 | D75: 工種2 | AZ75: １級土木施工管理技士 | BA75: １級土木施工管理技士 | BB75: １級土木施工管理技士 | BC75: １級土木施工管理技士 | BD75: １級造園施工管理技士
C76: PC橋梁(上部)工事 | D76: 工種3 | AZ76: ２級土木施工管理技士（種別は「土木」に限る） | BA76: ２級土木施工管理技士（種別は「土木」に限る） | BB76: ２級土木施工管理技士（種別は「土木」に限る） | BC76: ２級土木施工管理技士（種別は「土木」に限る） | BD76: ２級造園施工管理技士
C77: 鋼橋梁(上部)工事 | D77: 工種4 | AZ77: １級建設機械施工管理技士 | BA77: １級建設機械施工管理技士 | BB77: １級建設機械施工管理技士 | BC77: １級建築施工管理技士 | BD77: 技術士（建設部門）
C78: 造園工事 | D78: 工種5 | AZ78: ２級建設機械施工管理技士 | BA78: ２級建設機械施工管理技士 | BB78: ２級建設機械施工管理技士 | BC78: ２級建築施工管理技士（種別は「躯体」に限る） | BD78: 技術士（森林部門「林業・林産」）
AZ79: 技術士（建設部門） | BA79: 技術士（建設部門） | BB79: 技術士（建設部門） | BC79: １級建築士 | BD79: 技術士（森林部門「森林土木」）
B80: 従事役職 | AZ80: 技術士（農業部門「農業農村工学」） | BA80: 技術士（総合技術監理部門（建設）） | BB80: 技術士（農業部門「農業農村工学」） | BC80: 技術士（建設部門「鋼構造及びコンクリート」）） | BD80: 技術士（総合技術監理部門（建設））
C81: 主任（監理）技術者 | AZ81: 技術士（水産部門「水産土木」） | BB81: 技術士（水産部門「水産土木」） | BC81: 技術士（総合技術監理部門（建設「鋼構造及びコンクリート」）） | BD81: 技術士（総合技術監理部門（森林「林業・林産」））
C82: 専任補助者 | AZ82: 技術士（森林部門「森林土木」） | BB82: 技術士（森林部門「森林土木」） | BD82: 技術士（総合技術監理部門（森林「森林土木」））
C83: 現場代理人（国家資格） | AZ83: 技術士（総合技術監理部門（建設）） | BB83: 技術士（総合技術監理部門（建設）） | BD83: 技術士（総合技術監理部門（森林「森林土木」））
AZ84: 技術士（総合技術監理部門（農業「農業農村工学」）） | BB84: 技術士（総合技術監理部門（農業「農業農村工学」））
B85: 継続学習（CPD）の取組状況 | AZ85: 技術士（総合技術監理部門（水産「水産工学」）） | BB85: 技術士（総合技術監理部門（水産「水産工学」））
C86: （一社）全国土木施工管理技士連合会の継続学習制度における取得単位 | AZ86: 技術士（総合技術監理部門（森林「森林土木」）） | BB86: 技術士（総合技術監理部門（森林「森林土木」））
C87: 造園ＣＰＤ制度における取得単位
B89: 発注機関
C90: 兵庫県 | E90: 兵庫県
C91: その他の機関 | E91: 神戸市
E92: その他の機関
B94: 性別
C95: 男性
C96: 女性
B98: 建設業法の規定による技術者（技術者証の有無）
C99: 有：１級施工管理技士
C100: 有：２級施工管理技士
C101: 有：その他の国家資格
C102: 無：経験年数（１０年以上）
B104: 配置予定技術者（専任補助者）
C105: ○
C106: 該当なし
B108: 備考
C109: 主任技術者、監理技術者又は現場代理人
B112: 評価対象
C113: ○

Sheet 様式５
AL1: 企業ﾁｬﾚﾝｼﾞ評価型様式５号
A2: 地域建設業者の育成（技術者の育成）
AG3: 商号又は名称 | AK3: ： | AL3: =様式３!Y3 -> 0
AG4: 工事名 | AK4: ： | AL4: =様式３!Y4 -> （二）武庫川水系大堀川 河川改修工事（その８）
A5: ■配置予定技術者
A7: 配置予定 | C7: 技術者氏名 | D7: ( | E7: 性別 | F7: ) | G7: 【参考】 入札公告に示す配置技術者の入札参加資格要件の確認
B8: ( | C8: 生年月日 | D8: ： | E8: 年齢 | F8: ) | G8: 合格証書等の有無）
A9: =様式４!A9 -> 該当なし | C9: =IF($A9="該当なし","",IF(LEN(TRIM(様式４!C9))=0,"",様式４!C9)) | E9: =IF($A9="該当なし","",IF(LEN(TRIM(様式４!E9))=0,"",様式４!E9)) | G9: =IF(A9="該当なし","",IF(LEN(TRIM(様式４!G9))=0,"",様式４!G9))
B10: ( | C10: =IF($A9="該当なし","",IF(LEN(TRIM(様式４!C10))=0,"",様式４!C10)) | D10: ： | E10: =IF($A9="該当なし","",IF(LEN(TRIM(様式４!E10))=0,"",様式４!E10)) | F10: )
A11: =様式４!A11 -> 該当なし | C11: =IF($A11="該当なし","",IF(LEN(TRIM(様式４!C11))=0,"",様式４!C11)) | E11: =IF($A11="該当なし","",IF(LEN(TRIM(様式４!E11))=0,"",様式４!E11)) | G11: =IF(A11="該当なし","",IF(LEN(TRIM(様式４!G11))=0,"",様式４!G11))
B12: ( | C12: =IF($A11="該当なし","",IF(LEN(TRIM(様式４!C12))=0,"",様式４!C12)) | D12: ： | E12: =IF($A11="該当なし","",IF(LEN(TRIM(様式４!E12))=0,"",様式４!E12)) | F12: )
A13: =様式４!A13 -> 該当なし | C13: =IF($A13="該当なし","",IF(LEN(TRIM(様式４!C13))=0,"",様式４!C13)) | E13: =IF($A13="該当なし","",IF(LEN(TRIM(様式４!E13))=0,"",様式４!E13)) | G13: =IF(A13="該当なし","",IF(LEN(TRIM(様式４!G13))=0,"",様式４!G13))
B14: ( | C14: =IF($A13="該当なし","",IF(LEN(TRIM(様式４!C14))=0,"",様式４!C14)) | D14: ： | E14: =IF($A13="該当なし","",IF(LEN(TRIM(様式４!E14))=0,"",様式４!E14)) | F14: )
A17: ■国家資格の取得状況 | H17: ="対象期間："&TEXT(IF(AND(MONTH(様式４!R30)>=1,MONTH(様式４!R30)<=3),EOMONTH(様式４!R30,-9*12),EOMONTH(様式４!R30,-8*12)),"[$-ja-JP-x-gannen]ggge")&"年度～入札参加申込期限日" -> 対象期間：平成30年度～入札参加申込期限日 | U17: （8年間＋参加申込期限日迄）
A18: 評価対象 | B18: 技術者氏名 | E18: 若手女性 | G18: 国家資格 | I18: 対象期間内に取得した国家資格 | AV18: 最小値の対象者 | AW18: 氏名 | AX18: 若手 女性 | AY18: 国家 資格 | AZ18: 点数
B20: ( | C20: 生年月日 | D20: ) | I20: 資格区分 | O20: 資格名称又は対象部門及び科目 | AE20: 取得年度
A21: =IF(+AV21="○","○","") | C21: =IF(C9="","",IF(OR(A9=様式４!$C$82,A9=様式４!$C$83),"",C9)) | E21: =IF(OR(A9="工場製作",A9="該当なし"),"",IF(E10<40,"若手",IF(E9="女性","女性","×"))) | AG21: 年度 | AV21: =IF(AZ21=$AZ$27,"○","") | AW21: =IF(OR(A9="○",A9="工場製作"),C9,"") | AX21: =IF(OR(A9="工場製作",A9="該当なし",A9=""),"-",IF(OR(E9="女性",E10<40),"○","×")) -> - | AY21: =IF(OR(A9="工場製作",A9="該当なし",A9=""),"-",IF(G21="あり","○","×")) -> - | AZ21: =IF(A9="工場製作","対象外",IF(OR(A9="該当なし",A9=""),"",COUNTIF(AX21:AY22,"○")*0.5))
B22: ( | C22: =IF(C10="","",IF(OR(A9=様式４!$C$82,A9=様式４!$C$83),"",C10)) | D22: )
A23: =IF(A21="○","",+AV23) | C23: =IF(C11="","",IF(OR(A11=様式４!$C$82,A11=様式４!$C$83),"",C11)) | E23: =IF(OR(A11="工場製作",A11="該当なし"),"",IF(E12<40,"若手",IF(E11="女性","女性","×"))) | U23: =IF(OR(I23=$BI$32,I23=$BK$32,O23=$BM$33,O23=$BM$35,O23=$BM$36,O23=$BM$37,O23=$BM$38,O23=$BM$39,O23=$BM$43,),$BQ$54,"") | AG23: 年度 | AJ23: 若手・女性 技術者 | AN23: 国家資格 | AV23: =IF(AZ23=$AZ$27,"○","") | AW23: =IF(OR(A11="○",A11="工場製作"),C11,"") | AX23: =IF(OR(A11="工場製作",A11="該当なし",A11=""),"-",IF(OR(E11="女性",E12<40),"○","×")) -> - | AY23: =IF(OR(A11="工場製作",A11="該当なし",A11=""),"-",IF(G23="あり","○","×")) -> - | AZ23: =IF(A11="工場製作","対象外",IF(OR(A11="該当なし",A11=""),"",COUNTIF(AX23:AY24,"○")*0.5))
B24: ( | C24: =IF(C12="","",IF(OR(A11=様式４!$C$82,A11=様式４!$C$83),"",C12)) | D24: )
A25: =IF(A21="○","",IF(A23="○","",+AV25)) | C25: =IF(C13="","",IF(OR(A13=様式４!$C$82,A13=様式４!$C$83),"",C13)) | E25: =IF(OR(A13="工場製作",A13="該当なし"),"",IF(E14<40,"若手",IF(E13="女性","女性","×"))) | U25: =IF(OR(I25=$BI$32,I25=$BK$32,O25=$BM$33,O25=$BM$35,O25=$BM$36,O25=$BM$37,O25=$BM$38,O25=$BM$39,O25=$BM$43,),$BQ$54,"") | AG25: 年度 | AJ25: =IF(A21="○",$AX$21,IF(A23=$C$68,$AX$23,IF(A25=$C$68,$AX$25,""))) | AN25: =IF(A21=$C$68,$AY$21,IF(A23=$C$68,$AY$23,IF(A25=$C$68,$AY$25,""))) | AV25: =IF(AZ25=$AZ$27,"○","") | AW25: =IF(OR(A13="○",A13="工場製作"),C13,"") | AX25: =IF(OR(A13="工場製作",A13="該当なし",A13=""),"-",IF(OR(E13="女性",E14<40),"○","×")) -> - | AY25: =IF(OR(A13="工場製作",A13="該当なし",A13=""),"-",IF(G25="あり","○","×")) -> - | AZ25: =IF(A13="工場製作","対象外",IF(OR(A13="該当なし",A13=""),"",COUNTIF(AX25:AY26,"○")*0.5))
B26: ( | C26: =IF(C14="","",IF(OR(A13=様式４!$C$82,A13=様式４!$C$83),"",C14)) | D26: )
AY27: 最小点数 | AZ27: =MIN(AZ21,AZ23,AZ25) -> 0
U31: 注意事項 | AV31: 最小値の対象者 | AW31: 氏名 | AX31: 同種工事 | AY31: 工事成績（最大4点） | BE31: CPD | BF31: 合計
U32: 注１ | W32: ： 本評価項目の評価対象欄は、国家資格の取得状況の表の評価対象による。 | BI32: 施工管理技士 | BJ32: 施工管理技士名前 | BK32: 建築士 | BL32: 建築士名前 | BM32: 技術士 | BN32: 技術士部門名前
W33: なお、本様式枠外にて、評価対象となる技術者を選定し、〇を自動で入力しているが、間違いないか | AZ33: 監理技術者・主任技術者・現場代理人 | BI33: １級建設機械施工管理技士 | BJ33: 不要 | BK33: １級建築士 | BL33: 不要 | BM33: 建設 | BN33: 建設
W34: 確認の上、修正が必要な場合、評価対象に「○」を記載すること。 | BI34: １級土木施工管理技士 | BJ34: 不要 | BM34: 農業 | BN34: 農業
U35: 注２ | W35: ： 「若手女性」欄は、配置予定技術者の情報より自動入力されるので間違いないか確認すること。 | AX35: 有:２点 | AY35: 点/件 | AZ35: 2 | BA35: 1.5 | BB35: 1 | BC35: 0.5 | BD35: 0 | BE35: 取得３点 | BF35: 最大9点 | BI35: １級建築施工管理技士 | BJ35: 不要 | BM35: 電気電子 | BN35: 電気電子
U36: 注３ | W36: ： 配置予定技術者の入力内容は、様式４の記載内容と同じ内容で自動入力される。間違いないか | BI36: １級電気工事施工管理技士 | BJ36: 不要 | BM36: 電気・電子 | BN36: 電気電子
W37: 確認の上、修正が必要な場合は、様式４の配置予定技術者の入力内容の修正を行うこと。 | AY37: 未満 | BA37: 85 | BB37: 80 | BC37: 75 | BD37: 70 | BI37: １級管工事施工管理技士 | BJ37: 不要 | BM37: 機械 | BN37: 機械
U38: 注４ | W38: ： 様式４配置予定技術者の合格者証の入力内容と、国家資格の取得状況の国家資格の入力内容の資格は | AY38: 以上 | AZ38: 85 | BA38: 80 | BB38: 75 | BC38: 70 | BD38: 0 | BI38: １級電気通信工事施工管理技士 | BJ38: 不要 | BM38: 上下水道 | BN38: 上下水道
W39: 同一の資格でなくてもよい。 | AV39: =IF(BF40=$BF$45,"○","-") -> - | AY39: 件数 | AZ39: =COUNTIFS(AS33:AS36,">=85") -> 0 | BA39: =COUNTIFS(AS33:AS36,">=80",AS33:AS36,"<85") -> 0 | BB39: =COUNTIFS(AS33:AS36,">=75",AS33:AS36,"<80") -> 0 | BC39: =COUNTIFS(AS33:AS36,">=70",AS33:AS36,"<75") -> 0 | BD39: =COUNTIFS(AS33:AS36,">=0",AS33:AS36,"<70") -> 0 | BI39: １級造園施工管理技士 | BJ39: 不要 | BM39: 水道 | BN39: 上下水道
U40: 注５ | W40: ： 評価対象者の「若手・女性技術者」の加点の〇×、「国家資格」（取得者）の加点の〇×に間違い | AW40: =C21 | AX40: =IF(AG22="",0,2) -> 0 | AY40: 点数 | AZ40: =AZ$35*AZ39 -> 0 | BA40: =BA$35*BA39 -> 0 | BB40: =BB$35*BB39 -> 0 | BC40: =BC$35*BC39 -> 0 | BD40: =BD$35*BD39 -> 0 | BE40: =IF(T57="○",3,0) -> 0 | BF40: =IF(C22="","-",IF(A22=$C$82,"-",SUM(AX40,AZ40,BA40,BB40,BC40,BD40,BE40))) -> - | BM40: 水産 | BN40: 水産
W41: がないか確認すること。 | AV41: =IF(BF42=$BF$45,"○","-") -> - | AY41: 件数 | AZ41: =COUNTIFS(AS37:AS40,">=85") -> 0 | BA41: =COUNTIFS(AS37:AS40,">=80",AS37:AS40,"<85") -> 0 | BB41: =COUNTIFS(AS37:AS40,">=75",AS37:AS40,"<80") -> 0 | BC41: =COUNTIFS(AS37:AS40,">=70",AS37:AS40,"<75") -> 0 | BD41: =COUNTIFS(AS37:AS40,">=0",AS37:AS40,"<70") -> 0 | BM41: 森林 | BN41: 森林
U42: 注６ | W42: ： その他の事項については、様式２「注１」～「注３」を確認し本様式を記載すること。 | AW42: =C23 | AX42: =IF(AG24="",0,2) -> 0 | AY42: 点数 | AZ42: =AZ$35*AZ41 -> 0 | BA42: =BA$35*BA41 -> 0 | BB42: =BB$35*BB41 -> 0 | BC42: =BC$35*BC41 -> 0 | BD42: =BD$35*BD41 -> 0 | BE42: =IF(T59="○",3,0) -> 0 | BF42: =IF(C24="","-",IF(A24=$C$82,"-",SUM(AX42,AZ42,BA42,BB42,BC42,BD42,BE42))) -> - | BM42: 林業 | BN42: 森林
AV43: =IF(BF44=$BF$45,"○","-") -> - | AY43: 件数 | AZ43: =COUNTIFS(AS41:AS44,">=85") -> 0 | BA43: =COUNTIFS(AS41:AS44,">=80",AS41:AS44,"<85") -> 0 | BB43: =COUNTIFS(AS41:AS44,">=75",AS41:AS44,"<80") -> 0 | BC43: =COUNTIFS(AS41:AS44,">=70",AS41:AS44,"<75") -> 0 | BD43: =COUNTIFS(AS41:AS44,">=0",AS41:AS44,"<70") -> 0 | BM43: 衛生工学 | BN43: 衛生工学
AW44: =C26 | AX44: =IF(AG26="",0,2) -> 0 | AY44: 点数 | AZ44: =AZ$35*AZ43 -> 0 | BA44: =BA$35*BA43 -> 0 | BB44: =BB$35*BB43 -> 0 | BC44: =BC$35*BC43 -> 0 | BD44: =BD$35*BD43 -> 0 | BE44: =IF(T61="○",3,0) -> 0 | BF44: =IF(C26="","-",IF(A26=$C$82,"-",SUM(AX44,AZ44,BA44,BB44,BC44,BD44,BE44))) -> - | BM44: １級建設機械施工管理技士 | BN44: 不要
BE45: 最小値 | BF45: =MIN(BF40,BF42,BF44) -> 0 | BM45: １級土木施工管理技士 | BN45: 不要
BM46: １級建築施工管理技士 | BN46: 不要
BM47: １級電気工事施工管理技士 | BN47: 不要
BM48: １級管工事施工管理技士 | BN48: 不要
BM49: １級電気通信工事施工管理技士 | BN49: 不要
BM50: １級造園施工管理技士 | BN50: 不要
BM51: １級建築士 | BN51: 不要
BI53: 建設 | BJ53: 農業 | BK53: 電気電子 | BL53: 機械 | BM53: 上下水道 | BN53: 水産 | BO53: 森林 | BP53: 衛生工学 | BQ53: 不要
BI54: ※記載不要 | BJ54: 農業農村工学 | BK54: ※記載不要 | BL54: ※記載不要 | BM54: ※記載不要 | BN54: 水産土木 | BO54: 林業・林産 | BP54: ※記載不要 | BQ54: ※記載不要
BJ55: 農業土木 | BO55: 林業・林産
AY56: 工種1 | AZ56: 工種2 | BA56: 工種3 | BB56: 工種4 | BC56: 工種5 | BO56: 森林土木
AY57: １級土木施工管理技士 | AZ57: １級土木施工管理技士 | BA57: １級土木施工管理技士 | BB57: １級土木施工管理技士 | BC57: １級造園施工管理技士
AY58: ２級土木施工管理技士（種別は「土木」に限る） | AZ58: ２級土木施工管理技士（種別は「土木」に限る） | BA58: ２級土木施工管理技士（種別は「土木」に限る） | BB58: ２級土木施工管理技士（種別は「土木」に限る） | BC58: ２級造園施工管理技士
AY59: １級建設機械施工管理技士 | AZ59: １級建設機械施工管理技士 | BA59: １級建設機械施工管理技士 | BB59: １級建築施工管理技士 | BC59: 技術士（建設部門）
AY60: ２級建設機械施工管理技士 | AZ60: ２級建設機械施工管理技士 | BA60: ２級建設機械施工管理技士 | BB60: ２級建築施工管理技士（種別は「躯体」に限る） | BC60: 技術士（森林部門「林業・林産」）
AY61: 技術士（建設部門） | AZ61: 技術士（建設部門） | BA61: 技術士（建設部門） | BB61: １級建築士 | BC61: 技術士（森林部門「森林土木」）
AY62: 技術士（農業部門「農業農村工学」） | AZ62: 技術士（総合技術監理部門（建設）） | BA62: 技術士（農業部門「農業農村工学」） | BB62: 技術士（建設部門「鋼構造及びコンクリート」）） | BC62: 技術士（総合技術監理部門（建設））
AY63: 技術士（水産部門「水産土木」） | BA63: 技術士（水産部門「水産土木」） | BB63: 技術士（総合技術監理部門（建設「鋼構造及びコンクリート」）） | BC63: 技術士（総合技術監理部門（森林「林業・林産」））
AY64: 技術士（森林部門「森林土木」） | BA64: 技術士（森林部門「森林土木」） | BC64: 技術士（総合技術監理部門（森林「森林土木」））
AY65: 技術士（総合技術監理部門（建設）） | BA65: 技術士（総合技術監理部門（建設）） | BC65: 技術士（総合技術監理部門（森林「森林土木」））
B66: 評価対象 | AY66: 技術士（総合技術監理部門（農業「農業農村工学」）） | BA66: 技術士（総合技術監理部門（農業「農業農村工学」））
AY67: 技術士（総合技術監理部門（水産「水産工学」）） | BA67: 技術士（総合技術監理部門（水産「水産工学」））
C68: ○ | AY68: 技術士（総合技術監理部門（森林「森林土木」）） | BA68: 技術士（総合技術監理部門（森林「森林土木」））
B69: 国家資格
C70: あり
C71: なし
B73: 資格区分
C74: 施工管理技士 | D74: 施工管理技士
C75: 建築士 | D75: 建築士
C76: 技術士 | D76: 技術士
C77: 技術士 （総合技術監理部門） | D77: 技術士
B84: 取得年度
C85: 平成
C86: 令和
B88: 国家資格判定
C89: =DATEVALUE(YEAR(EOMONTH(EDATE(C90,-96),-3))&"/4/1") -> 43191 | D89: ← 対象期間始期
C90: =様式４!R30 -> 46282 | D90: ← 入札参加申込期限日
C91: =IF(AE21="平成",DATEVALUE("平成"&AF21&"年4月1日"),IF(AE21="令和",DATEVALUE("令和"&AF21&"年4月1日"),"")) | D91: ← 国家資格取得日（１人目）
C92: =IF(AE23="平成",DATEVALUE("平成"&AF23&"年4月1日"),IF(AE23="令和",DATEVALUE("令和"&AF23&"年4月1日"),"")) | D92: ← 国家資格取得日（２人目）
C93: =IF(AE25="平成",DATEVALUE("平成"&AF25&"年4月1日"),IF(AE25="令和",DATEVALUE("令和"&AF25&"年4月1日"),"")) | D93: ← 国家資格取得日（３人目）

Sheet 様式６
J1: 企業チャレンジ型様式６号
A2: 不履行項目数
A4: 対象期間： 令和７年度 | F4: 商号又は名称： | I4: ='様式１（表紙）'!K6 -> 0
F5: 工事名： | I5: ='様式１（表紙）'!B11 -> （二）武庫川水系大堀川 河川改修工事（その８）
A7: 不履行が発生した工事
A8: 工事 番号 | B8: 発注機関名 | E8: 工事名 | H8: 工期の末日 （完成日） | J8: 検査年月日 | K8: 不履行
K9: 項目数
A10: 該当なし
A12: 該当なし
A14: 該当なし
J18: 不履行項目数の合計 （対象期間通算） | K18: 該当
J19: 不履行なし | K19: =IF(SUM(K10:K15)=0,"○","") -> ○
J20: １項目 | K20: =IF(SUM(K10:K15)=1,"○","")
J21: ２項目 | K21: =IF(SUM(K10:K15)=2,"○","")
J22: ３項目以上 | K22: =IF(SUM(K10:K15)>=3,"○","")
A24: 注意事項
A25: 注１ | B25: 対象期間内に不履行が発生した工事はすべて記載すること。不履行がない場合は、「工事番号」欄で「該当なし」を選択すること。
A26: 注２ | B26: ： 記載された内容に誤りがあることが判明した場合は、当該評価項目の最低点（－６点）とする。
A27: 注３ | B27: ： 発注機関名は、県民局（センター）の名称を記載すること。
A28: 注４ | B28: ： 次の資料を添付すること。（コピー可。また、記載事項に該当する箇所をアンダーライン・赤囲み等により明示すること。）
B29: 工事成績評定結果の通知（不履行項目数が記載されたもの）（※必須（該当する工事がない場合は不要））
A30: 注５ | B30: ： 工事成績評定結果の通知等に検査年月日の記載がなく、検査年月日が不明な場合は、検査年月日欄に「－」を記載すること。
A31: 注６ | B31: ： その他の事項については、様式２の「注１」～「注３」確認し本様式を記載すること。
A36: リスト
A37: ① | B37: 該当なし | M37: 1
A38: ② | B38: 該当なし | M38: 2
A39: ③ | B39: 該当なし | M39: 3
A41: 神戸県民センター
A42: 阪神南県民センター
A43: 阪神北県民局
A44: 北播磨県民局
A45: 東播磨県民局
A46: 中播磨県民センター
A47: 西播磨県民局
A48: 但馬県民局
A49: 丹波県民局
A50: 淡路県民局

Sheet 【参考】誓約書（CCUS)
A7: 誓約書
B11: ='様式１（表紙）'!B9 -> 令和 年 月 日 | E11: 付けで入札公告のありました
B12: ='様式１（表紙）'!B11 -> （二）武庫川水系大堀川 河川改修工事（その８）
B13: の技術提案書の提出に係り、下記事項について誓約します。
B18: １ 建設キャリアアップシステム（ＣＣＵＳ）管理者ＩＤ利用料明細に係る
B19: 有効期限について、遅滞なく更新手続きを行います。
B22: ２ 上記有効期限の更新後、有効期限が更新された建設キャリアアップシステム
B23: （ＣＣＵＳ）のホームページ上の「管理者ＩＤ利用明細」の写しを
B24: 令和○年○○月○○日 | E24: （予定）までに提出します。
B30: 兵庫県
B31: 契約担当者
B32: ='様式１（表紙）'!A4 -> 0
B36: ='様式１（表紙）'!O3 -> 令和 年 月 日
E40: 共同企業体名 | L40: ←共同企業体でない場合は削除してください。
E41: 商号又は名称 | G41: ='様式１（表紙）'!K6 -> 0
E42: 住所 | G42: ='様式１（表紙）'!K5 -> 0
E43: 代表者氏名 | G43: ='様式１（表紙）'!K7 -> 0
E44: 電話番号
E45: 電子メール
A54: 注）電話番号および電子メールを記載すること。

Sheet ≪記載例≫

Sheet 例＿様式１（表紙）
O1: 企業チャレンジ型様式１号
A2: 企業チャレンジ型 技術資料 表紙
O3: 令和〇年〇月〇日
A4: 兵庫県〇〇県民局（センター）長 | G4: 様
I5: 住所 | J5: ： | K5: 〇〇市〇〇町 〇－〇
I6: 商号又は名称 | J6: ： | K6: ○○○○○建設
I7: 代表者氏名 | J7: ： | K7: 〇〇 〇〇
B9: 令和〇年〇月〇日 | G9: 付けで入札公告のありました
B10: 工事番号 | E10: ●●第0000-0-0号
B11: 県道○○線 ○○○○○○○○○工事 | J11: について、以下の通り技術資料を提出します。
A13: １ 提出書類 | E13: 《 提出する根拠資料を確認（ｱﾝﾀﾞｰﾗｲﾝ、赤囲等で明示）の上「✓」を記載（提出のない資料は「－」）すること 》
B14: 様式番号（技術資料名） | H14: 提出する根拠資料（必須）
B15: 様式１号（企業チャレンジ型 技術資料 表紙）
B16: 様式２号（自己評価申告書）
C17: 地域建設 業者の育成 | D17: 地域精通度 | H17: ✓ | I17: 建設工事入札参加資格者名簿（個票）
D18: 建設ｷｬﾘｱｱｯﾌﾟｼｽﾃﾑ（CCUS） の活用 | H18: ✓ | I18: CCUSﾎｰﾑﾍﾟｰｼﾞﾛｸﾞｲﾝ後の「事業者情報」画面 | O18: ※WEBブラウザから直接印刷したもの
H19: ✓ | I19: CCUSﾎｰﾑﾍﾟｰｼﾞﾛｸﾞｲﾝ後の「管理者ID利用料明細」画面 | O19: ※WEBブラウザから直接印刷したもの
B20: 様式３号（企業の施工能力）
C21: 企業の 施工能力 | D21: 工事成績 | H21: ✓ | I21: 登録内容確認書（ｺﾘﾝｽﾞ）※竣工時又は竣工後訂正したもの
H22: ✓ | I22: 工事成績評定結果の通知
B23: 様式４号（配置予定技術者の技術力）
C24: 配置予定技術者の技術力 | D24: 工事成績 | H24: ✓ | I24: 登録内容確認書又は技術者実績確認書（ｺﾘﾝｽﾞ） | O24: ※竣工時又は竣工後訂正したもの
H25: ✓ | I25: 工事成績評定結果の通知
E26: ※現場代理人として従事した 工事成績を申告する場合 | H26: ✓ | I26: 従事した工事の開始日以前に、建設業法（昭和24年法律第100号）第26条に規定された主任技術者として従事できる国家資格を取得していることが分かる資料（合格証等）
E27: ※専任補助者として従事した 工事成績を申告する場合 | H27: － | I27: 専任補助者として従事した工事の技術資料 （工事成績評定結果の通知で確認できない場合）
D28: 継続学習（CPD)の取組状況 | H28: ✓ | I28: 学習履歴証明書
B29: 様式４号（技術者の育成）
C30: 地域建設 業者の育成 | D30: 技術者の育成 | E30: ※若手・女性技術者を配置する場合 | H30: － | I30: 生年月日（年齢）及び女性の場合性別が分かる資料（マイナンバーカード等）
F31: ※専任補助者を配置 する場合 | H31: － | I31: 専任補助者が配置技術者に対する全ての入札参加資格要件を満たすことが確認できる資料
E32: ※直近８年以内に国家資格を取得している場合 | H32: － | I32: 配置予定技術者の建設業法（昭和24年法律第100号）第26条に規定された監理技術者として従事できる国家資格の取得年度が分かる資料（合格証等）
B33: 様式５号（不履行項目数）
C34: 減点 | D34: 不履行項目数 | H34: － | I34: 工事成績評定結果の通知
B35: その他の資料 《 様式の内容が根拠資料（必須）のみで証明できない場合は下欄に資料名等を記載し提出すること 》
B36: （記載例） 「企業の施工能力（工事成績）」：工事請負契約書・横断図
A39: ２ 提出方法 | E39: 《 あてはまるものいずれかに○を記載すること 》
B40: ○ | D40: 様式集（Excel）及び根拠資料を電子入札システムで提出する。
D41: 様式集（Excel）のみ電子入札システムで提出する。根拠資料は持参（紙）で提出する。
A43: ３ 問い合わせ
B44: 担当者 | E44: 〇〇 〇〇 | G44: 電話番号 | I44: 〇〇〇-〇〇〇－〇〇〇〇 | L44: メール | N44: zzzzzzz@zz.zz
A46: ４ チェックリスト | F46: 《 提出前に下記事項を確認し、「✓」を記載すること。》
B47: 技術資料全般の注意事項
B48: ✓ | D48: ① | E48: 着色部 | F48: の記載（選択・記載 ）した。また、 | K48: 着色部 | M48: の確認及び修正をした。
B49: ✓ | D49: ② | E49: 様式集をExcel以外で提出した場合は「無効」となる。
B50: ✓ | D50: ③ | E50: 技術資料（根拠資料含む）の一部が未提出又は未記載である場合は、当該評価項目を「最低点」となる。
B51: ✓ | D51: ④ | E51: 「日付」「工事名」「商号又は名称」等入札参加者情報の記載漏れは、「無効」となる。
B52: ✓ | D52: ⑤ | E52: 各様式と根拠資料の不整合・誤記の場合は、当該評価項目が「最低点」となる。【令和８年10月１日適用予定】
B53: ✓ | D53: ⑥ | E53: 「入札説明書」、 | G53: 「技術資料作成の手引き」等、 | J53: 入札関連情報を確認して技術資料を作成した。
A55: リスト
B56: 1 提出書類
D57: ✓
D58: －
B60: ２ 提出方法
D61: ○

Sheet 例＿様式2
K1: 企業ﾁｬﾚﾝｼﾞ型様式２号
B2: 自己評価申告書
B4: 工事番号 | C4: ='例＿様式１（表紙）'!E10 -> ●●第0000-0-0号 | H4: 許可番号 | J4: 兵庫県知事 | K4: 許可 第 | L4: 0 | M4: 号
B5: 工事名 | C5: ='例＿様式１（表紙）'!B11 -> 県道○○線 ○○○○○○○○○工事 | H5: 会社名 | J5: ='例＿様式１（表紙）'!K6 -> ○○○○○建設
H6: 作成者 | J6: ='例＿様式１（表紙）'!E44 -> 〇〇 〇〇
B10: 評価区分 | C10: 評価項目 | D10: 配点 | E10: 評価方法 | I10: 入札参加者（申告者） | K10: （発注者記載欄）
E11: 評価方法 | G11: 評価内容 | H11: 評価点 | I11: 評価内容 | J11: 評価点 | K11: 自己評価 | L11: 技術資料 | M11: 備 考
B12: 企業の施工能力 【様式３号】 | C12: 工事成績 | D12: 2点 | E12: 80点以上 | G12: 該当する 工事件数 を記載 （1件） | H12: 2 | I12: 1件 | J12: =IF(AND(I12="",I13="",I14=""),"",IF(OR(I12="",I13="",I14=""),"全て選択してください。",IF(LEFT(I12)+LEFT(I13)+LEFT(I14)=1,LEFT(I12)*H12+LEFT(I13)*H13+LEFT(I14)*H14,"合計1件にしてください"))) -> 2
E13: 80点以上 70点未満 | H13: 1 | I13: =様式３!$AD$10&"件" -> 0件
E14: 70点未満、該当工事なし | H14: 0 | I14: 0件
B15: 配置予定技術者の技術力 【様式4号】 | C15: 専任補助者の配置 | D15: － | E15: 当該評価項目において評価対象とする技術者 | I15: 専任補助者 | O15: ←「×」が表示される場合は、様式４号の「評価対象」が複数選択されています。
C16: 工事成績 | D16: 2点 | E16: 主任（監理）技術者、専任補助者又は要件を満たす現場代理人として従事した工事 | F16: 80点以上 | G16: 該当する 工事件数 を記載 （1件） | H16: 2 | I16: 0件 | J16: =IF(AND(I16="",I17="",I18=""),"",IF(OR(I16="",I17="",I18=""),"全ての項目を選択してください。",IF(LEFT(I16)+LEFT(I17)+LEFT(I18)=1,LEFT(I16)*H16+LEFT(I17)*H17+LEFT(I18)*H18,"合計1件にしてください"))) -> 1
F17: 70点以上 80点未満 | H17: 1 | I17: 1件
F18: 70点未満、該当工事なし | H18: 0 | I18: 0件
C19: 継続学習（CPD） の取組状況 | D19: 3点 | E19: 推奨単位以上の取得実績がある。 | G19: あり | H19: 1 | I19: あり | J19: =IF(I19="","",IF(I19=G19,H19,H20)) -> 1
E20: 推奨単位以上の取得実績がない。 | G20: なし | H20: 0
B21: 地域建設業者の育成 | C21: 地域精通度 （本店所在地） | D21: 1点 | E21: 本店（主たる営業所）の所在地が契約期間中、継続して指定地域内にある。 | G21: あり | H21: 1 | I21: あり | J21: =IF(I21="","",IF(I21=G21,H21,H22)) -> 1
E22: 上記に該当しない。 | G22: なし | H22: 0
C23: 県内企業の 下請負人活用 状況 | D23: 1点 | E23: 下請負人の全てを県内企業とする、 又は元請負人が県内企業であり自社施工する。 | G23: あり | H23: 1 | I23: あり | J23: =IF(I23="","",IF(I23=G23,H23,H24)) -> 1
E24: 上記に該当しない。 | G24: なし | H24: 0
C25: 新技術・新工法 の活用 | D25: 1点 | E25: 当該工事において適用する。 | G25: あり | H25: 1 | I25: あり | J25: =IF(I25="","",IF(I25=G25,H25,H26)) -> 1
E26: 当該工事において適用しない。 | G26: なし | H26: 0
C27: 技術者の育成 【様式５号】 | D27: 1点 | E27: 若手・女性 技術者 | G27: 該当 | H27: 0.5 | I27: 非該当 | J27: =IF(OR(I27="",I29=""),"",IF(I27=G27,H27,H28)+IF(I29=G29,H29,H30)) -> 0.5
G28: 非該当 | H28: 0
E29: 直近８年以内に国家資格を取得した者 | G29: 該当 | H29: 0.5 | I29: 該当
G30: 非該当 | H30: 0
C31: CCUSの活用 | D31: 1点 | E31: ＣＣＵＳに事業者登録済 | G31: あり | H31: 1 | I31: あり | J31: =IF(I31="","",IF(I31=G31,H31,H32)) -> 1
E32: ＣＣＵＳに事業者未登録 | G32: なし | H32: 0
B33: 減点 | C33: 減点項目 【様式６号】 | D33: -6点 | E33: 技術資料の 記載内容の 不履行項目数 （１年間通算） | F33: 不履行なし | G33: 該当する 不履行 項目数 を記載 | H33: 0 | I33: 1項目 | J33: =IF(I33="","",IF(I33=F33,H33,IF(I33=F34,H34,IF(I33=F35,H35,IF(I33=F36,H36))))) -> -2
F34: 1項目 | H34: -2
F35: 2項目 | H35: -4
F36: 3項目以上 | H36: -6
B37: 小計 | C37: 企業の施工能力（Ａ） | H37: =SUM(H12) -> 2 | J37: =IF(AND(J12=""),"",IF(OR(J12="",NOT(ISNUMBER(J12)),),"×",SUM(J12:J14))) -> 2
C38: 配置予定技術者の技術力（Ｂ） | H38: =SUM(H16,H19) -> 3 | J38: =IF(AND(I15="",J16="",J19=""),"",IF(OR(I15="",I15="×",J16="",NOT(ISNUMBER(J16)),J19=""),"×",SUM(J16:J20))) -> 2
C39: 地域建設業者の育成（Ｃ） | H39: =SUM(H21,H23,H25,H27,H29,H31) -> 5 | J39: =IF(AND(J21="",J23="",J25="",J27="",J31=""),"",IF(OR(J21="",J23="",J25="",J27="",J31=""),"×",SUM(J21:J32))) -> 4.5
C40: 減点（Ｄ） | H40: =SUM(H33) -> 0 | J40: =IF(AND(J33=""),"",IF(OR(J33=""),"×",SUM(J33))) -> -2
B41: 加算点 | C41: （（Ａ）＋（Ｂ）＋（Ｃ）＋（Ｄ））×（１／３） | H41: =ROUND((SUM(H37:H40)*10/30),3) -> 3.333 | J41: =IF(AND(J37="",J38="",J39="",J40=""),"",IF(OR(J37="×",J38="×",J39="×",J40="×",J37="",J38="",J39="",J40="",C4="",C5="",J4="",J5="",J6=""),"×",ROUND((SUM(J37:J40)*10/30),3))) -> 2.167
B43: 注意事項
B44: 注１： | C44: 入札公告等を確認の上、記載例を参考に記載すること。
B45: 注２： | C45: 着色部 | D45: は全て記載（選択・記載）すること。 | G45: 着色部 | H45: は自動入力されるため、誤記の場合は修正すること。
B46: 注３： | C46: 他の様式の記載事項と整合を図ること。
B47: 注４： | C47: 許可番号欄は、建設業を許可した者を選択の上、許可番号の数値（６桁）を記載すること。
B51: （別表）建設業を許可した者
C52: 国土交通大臣
C53: 兵庫県知事
C54: ------------
C55: ■近畿
C56: 福井県知事
C57: 滋賀県知事
C58: 京都府知事
C59: 大阪府知事
C60: 奈良県知事
C61: 和歌山県知事
C62: ------------
C63: ■北海道東北
... C115: 沖縄県知事

Sheet 例＿様式３
X1: 企業ﾁｬﾚﾝｼﾞ評価型様式３号
A2: 企業の施工能力
U3: 商号又は名称 | X3: ： | Y3: ='例＿様式１（表紙）'!K6 -> ○○○○○建設
U4: 工事名 | X4: ： | Y4: ='例＿様式１（表紙）'!B11 -> 県道○○線 ○○○○○○○○○工事
A6: ■工事成績 | G6: ="対象期間："&TEXT(IF(AND(MONTH(様式４!R30)>=1,MONTH(様式４!R30)<=6),EOMONTH(様式４!R30,-9*12),EOMONTH(様式４!R30,-8*12)),"[$-ja-JP-x-gannen]ggge")&"年度～"&TEXT(IF(AND(MONTH(様式４!R30)>=1,MONTH(様式４!R30)<=6),EOMONTH(様式４!R30,-2*12),EOMONTH(様式４!R30,-1*12)),"[$-ja-JP-x-gannen]ggge")&"年度" -> 対象期間：平成30年度～令和7年度 | M6: （８年間）
A8: 対象工事 | B8: 発注機関名 | F8: 工事名 | K8: 工期 （完成日） | N8: 発注形態 | S8: 工種 | V8: 検査年月日 | Y8: 工事 成績 | AB8: 80点以上 | AD8: =COUNTIF(Y10,">=80") -> 1
E9: ( | F9: 施工場所 | J9: )
A10: 該当あり | B10: その他の機関 | F10: ○○工事 | K10: 平成〇年〇月〇日 | N10: 特別共同企業体 | S10: 一般土木工事 又は、港湾土木工事 | V10: 平成〇年〇月△日 | Y10: 81 | AB10: 70点以上80点未満 | AD10: =COUNTIFS(Y10,">=70",Y10,"<80") -> 0
E11: ( | F11: 兵庫県〇〇市 | J11: ) | N11: =IF(N10=$D$56,"（出資比率","") -> （出資比率 | Q11: 20 | R11: =IF(N11="","","％）") -> ％）
AB12: 70点未満 該当工事なし | AD12: =1-AD8-AD10 -> 0
A13: 注意事項
A16: 注１ | B16: ： 様式１号に記載している根拠資料を添付し本様式と整合させること。
B18: なお、根拠資料の該当箇所を明示すること。（ｱﾝﾀﾞｰﾗｲﾝ等）
A19: 注２ | B19: ： 「発注機関名」欄で「その他の機関」を選択した場合は、官庁名等を
B20: 記載すること。
A21: 注３ | B21: ： 工事成績評定通知書等に検査年月日の記載がなく、確認がとれない
B22: 場合は、「検査年月日」欄に「－」を記載すること。
A23: 注４ | B23: ： 評価対象となる項目がない場合は「対象工事」欄で「該当なし」を選択すること。
A25: 注５ | B25: ： その他の事項については、様式２の「注１」～「注３」を
B26: 確認し本様式を記載すること。
A44: リスト
B45: ■同種工事の施工実績
B46: 同種工事の実績の有無
D47: 該当あり
D48: 該当なし
B49: 工事番号
D50: 該当あり | E50: 該当なし
B54: 発注形態
D55: 単体
D56: 特別共同企業体
B57: 工種
D58: 一般土木工事 又は、港湾土木工事
D59: ｱｽﾌｧﾙﾄ舗装工事
D60: PC橋梁(上部)工事
D61: 鋼橋梁(上部)工事
D62: 造園工事
D63: （空白）
B64: 社会貢献点数
D65: 120
D66: 90
D67: 60
D68: 30
D69: 0
D70: -20
D71: -40
B72: 発注機関
D73: 兵庫県 | F73: 兵庫県
D74: その他の機関 | F74: 神戸市
F75: その他の機関
B79: ■地域固有の社会貢献活動
D80: 該当 あり | G80: 対象業務
D81: 該当 なし | G81: 対象工事
D84: 除雪又は凍結防止剤散布業務の実績
D85: 橋梁補修工事（PC橋梁（上部）工事の工種に限る。）の実績
D86: 橋梁補修工事（鋼橋梁（上部）工事の工種に限る。）の実績
D87: （空白）
D88: 除雪又は凍結防止剤散布２点
D89: 除雪４点、凍結防止剤散布２点
D90: 除雪又は凍結防止剤散布４点
D91: 除雪又は凍結防止剤散布１点
D92: 除雪２点、凍結防止剤散布１点
D93: （空白）
D95: 除雪
D96: 凍結防止剤散布
D97: 除雪及び凍結防止剤散布

Sheet 例＿様式４
AM1: 企業ﾁｬﾚﾝｼﾞ評価型様式４号
A2: 配置予定技術者の技術力
AG3: 商号又は名称 | AK3: ： | AL3: ='例＿様式１（表紙）'!K6 -> ○○○○○建設
AG4: 工事名 | AK4: ： | AL4: ='例＿様式１（表紙）'!B11 -> 県道○○線 ○○○○○○○○○工事
A5: ■配置予定技術者 | Q5: ■専任補助者 | X5: 全ての配置予定技術者が若手又は女性技術者であるため、 専任補助者を配置できる要件を満たしています。
A7: 配置予定 | C7: 技術者氏名 | D7: ( | E7: 性別 | F7: ) | G7: 【参考】 入札公告に示す配置技術者の入札参加資格要件の確認 | Y7: 配置予定 | AA7: 専任補助者氏名 | AG7: 入札公告に示す配置技術者の入札参加資格要件の確認
B8: ( | C8: 生年月日 | D8: ： | E8: 年齢 | F8: ) | G8: 合格証書等の有無） | Z8: ( | AA8: 生年月日 | AF8: ) | AG8: 建設業法の規定による技術者（技術者証の有無） | AV8: 専任補助者対象
A9: ○ | C9: ●● 〇〇 | E9: 男性 | G9: 有：１級施工管理技士 | R9: 専任補助者の 配置を | Y9: ○ | AA9: 〇× ▲□ | AG9: 有：１級施工監理技士 | AV9: 1 | AW9: =IF(OR(A9="○",A9=""),IF(OR(E9="女性",AND(E9="男性",AND(E10<40,NOT(E10=0))),AND(E9="",AND(E10<40,NOT(E10=0)))),"○","×"),IF(A9="工場製作","対象外","")) -> ○
B10: ( | C10: 34977 | D10: ： | E10: =IF(NOT(C10=""),DATEDIF(C10,$R$30,"Y"),"") -> 29 | F10: ) | Z10: ( | AA10: 27456 | AF10: )
A11: ○ | C11: △△ ▲▲ | D11: ( | E11: 女性 | F11: ) | G11: 有：２級施工管理技士 | R11: する | Y11: ○ | AA11: □★ 〇▽ | AG11: 有：２級施工管理技士 | AV11: 2 | AW11: =IF(OR(A11="○",A11=""),IF(OR(E11="女性",AND(E11="男性",AND(E12<40,NOT(E12=0))),AND(E11="",AND(E12<40,NOT(E12=0)))),"○","×"),IF(A11="工場製作","対象外","")) -> ○
B12: ( | C12: 30807 | D12: ： | E12: =IF(NOT(C12=""),DATEDIF(C12,$R$30,"Y"),"") -> 41 | F12: ) | Z12: ( | AA12: 27154 | AF12: )
A13: 工場製作 | C13: □□ □□ | D13: ( | F13: ) | Y13: 該当なし | AV13: 3 | AW13: =IF(OR(A13="○",A13=""),IF(OR(E13="女性",AND(E13="男性",AND(E14<40,NOT(E14=0))),AND(E13="",AND(E14<40,NOT(E14=0)))),"○","×"),IF(A13="工場製作","対象外","")) -> 対象外
B14: ( | D14: ： | E14: =IF(NOT(C14=""),DATEDIF(C14,$R$30,"Y"),"") | F14: ) | Z14: ( | AF14: )
C15: \
A17: ■工事成績 | H17: =様式３!G6 -> 対象期間：平成30年度～令和7年度 | Q17: （８年間） | AW17: 最小値の対象者 | AX17: 氏名 | AY17: 工事成績 | BC17: CPD | BD17: 評価点
A19: 評価 対象 | C19: 技術者氏名 | E19: 対象工事 | F19: 発注機関名 | L19: 工事名 | W19: 工期 | AB19: 発注形態 | AG19: 工種 | AL19: 従事役職 | AP19: 検査年月日 | AS19: 工事 成績 | AY19: 未満 | BA19: 80 | BB19: 70
B20: ( | C20: 生年月日 | D20: ) | K20: ( | L20: 施工場所 | V20: ) | AG20: 保有していた国家資格 | AY20: 以上 | AZ20: 80 | BA20: 70 | BB20: 0
A21: ○ | C21: =IF($R$11=$C$57,IF(Y9=$C$105,AA9,""),IF(A9=$C$63,C9,"")) -> 〇× ▲□ | E21: あり | F21: 兵庫県 | L21: ◇●〇×工事 | X21: 45224 | AB21: 単体 | AG21: 一般土木工事 又は、港湾土木工事 | AL21: 主任（監理）技術者 | AP21: 45382 | AS21: 79 | AW21: =IF(BD22=$BG$22,"○","-") -> ○ | AY21: 件数 | AZ21: =COUNTIF(AS21,">=80") -> 0 | BA21: =COUNTIFS(AS21,">=70",AS21,"<80") -> 1 | BB21: =COUNTIFS(AS21,"<70") -> 0
C22: =IF($R$11=$C$57,IF(Y9=$C$105,AA10,""),IF(A9=$C$63,C10,"")) -> 27456 | K22: ( | L22: =IF(AND(F21<>$E$92,F21<>""),"※記載不要","") -> ※記載不要 | V22: ) | W22: ～ | X22: 45376 | AB22: =IF(AB21=$C$72,"（出資比率","") | AE22: =IF(AB22="","","％）") | AX22: =C21 -> 〇× ▲□ | AY22: 点数 | AZ22: =2*AZ21 -> 0 | BA22: =1*BA21 -> 1 | BB22: =0*BB21 -> 0 | BC22: =IF(T39="○",1,0) -> 1 | BD22: =IF(AX22="","-",IF(A21=$C$64,"-",SUM(AZ22,BA22,BB22,BC22))) -> 2 | BF22: 最小値 | BG22: =MIN(BD22,BD24,BD26) -> 2
C23: =IF($R$11=$C$57,IF(Y11=$C$105,AA11,""),IF(A11=$C$63,C11,"")) -> □★ 〇▽ | E23: あり | F23: その他の機関 | L23: 〇▲××工事 | X23: 43588 | AB23: 特別共同企業体 | AG23: 一般土木工事 又は、港湾土木工事 | AL23: 現場代理人（国家資格） | AP23: 44235 | AS23: 85 | AW23: =IF(BD24=$BG$22,"○","-") -> - | AY23: 件数 | AZ23: =COUNTIF(AS23,">=80") -> 1 | BA23: =COUNTIFS(AS23,">=70",AS23,"<80") -> 0 | BB23: =COUNTIFS(AS23,"<70") -> 0
C24: =IF($R$11=$C$57,IF(Y11=$C$105,AA12,""),IF(A11=$C$63,C12,"")) -> 27154 | F24: 兵庫県道路公社 | K24: ( | L24: 兵庫県神崎郡市川町 | V24: ) | W24: ～ | X24: 44227 | AB24: =IF(AB23=$C$72,"（出資比率","") -> （出資比率 | AD24: 30 | AE24: =IF(AB24="","","％）") -> ％） | AG24: １級土木施工管理技士 | AX24: =C23 -> □★ 〇▽ | AY24: 点数 | AZ24: =2*AZ23 -> 2 | BA24: =1*BA23 -> 0 | BB24: =0*BB23 -> 0 | BC24: =IF(T41="○",1,0) -> 1 | BD24: =IF(AX24="","-",IF(A23=$C$64,"-",SUM(AZ24,BA24,BB24,BC24))) -> 3
C25: =IF($R$11=$C$57,IF(Y13=$C$105,AA13,""),IF(A13=$C$63,C13,"")) | E25: なし | AW25: =IF(BD26=$BG$22,"○","-") -> - | AY25: 件数 | AZ25: =COUNTIF(AS25,">=80") -> 0 | BA25: =COUNTIFS(AS25,">=70",AS25,"<80") -> 0 | BB25: =COUNTIFS(AS25,"<70") -> 0
C26: =IF($R$11=$C$57,IF(Y13=$C$105,AA14,""),IF(A13=$C$63,C14,"")) | K26: ( | L26: =IF(AND(F25<>$E$92,F25<>""),"※記載不要","") | V26: ) | W26: ～ | AB26: =IF(AB25=$C$72,"（出資比率","") | AE26: =IF(AB26="","","％）") | AX26: =C25 | AY26: 点数 | AZ26: =2*AZ25 -> 0 | BA26: =1*BA25 -> 0 | BB26: =0*BB25 -> 0 | BC26: =IF(T43="○",1,0) -> 0 | BD26: =IF(AX26="","-",IF(A25=$C$64,"-",SUM(AZ26,BA26,BB26,BC26))) -> -
Y28: 監理技術者 主任技術者 専任補助者 現場代理人 | AC28: 80点以上 | AI28: =IF($A$21=$C$63,AZ21,IF($A$23=$C$63,AZ23,IF($A$25=$C$63,AZ25,0))) -> 0
A29: ■継続学習（CPD）の取組状況
L30: 入札参加申込期限日 | Q30: : | R30: 45931 | AC30: 70点以上80点未満 | AI30: =IF($A$21=$C$63,BA21,IF($A$23=$C$63,BA23,IF($A$25=$C$63,BA25,0))) -> 1
AC31: 70点未満、該当なし | AI31: =1-AI28-AI30 -> 0
A32: 評価 対象 | E32: （一社）全国土木施工管理技士連合会の継続学習制度における取得単位
C34: 技術者氏名 | E34: 直近1年間 | H34: 直近2年間 | K34: 直近3年間 | N34: 直近4年間 | P34: 直近5年間 | T34: 推奨単位の 取得状況
E36: =E38-1 -> 2024 | H36: =E36-1 -> 2023 | K36: =H36-1 -> 2022 | N36: =K36-1 -> 2021 | P36: =N36-1 -> 2020
B37: ( | C37: 生年月日 | D37: )
E38: =YEAR(EDATE(R30,-3)) -> 2025 | H38: =$E$38 -> 2025 | K38: =$E$38 -> 2025 | N38: =$E$38 -> 2025 | P38: =$E$38 -> 2025 | Y38: 注意事項
A39: =IF(A21="","",$C$113) -> ○ | C39: =IF(C21="","",C21) -> 〇× ▲□ | K39: 60 | T39: =IF($E$32=$C$86,IF(A39=$C$64,"",IF(E39<$E$63,IF(H39<$H$63,IF(K39<$K$63,IF(N39<$N$63,IF(P39<$P$63,"×","○"),"○"),"○"),"○"),"○")),IF(A39=$C$64,"",IF(E39<$E$64,"×","○"))) -> ○ | Y39: 注１ | AA39: ： 配置予定技術者は３名まで記載できる。評価対象者は「同種工事の実績」、「工事成績」、
B40: ( | C40: =IF(C22="","",C22) -> 27456 | D40: ) | AA40: 「継続学習（ＣＰＤ）の取組状況」の各評価項目の合計得点の低いものとし、「評価対象」欄
A41: =IF(A23="","",$C$113) | C41: =IF(C23="","",C23) -> □★ 〇▽ | E41: 20 | T41: =IF($E$32=$C$86,IF(A41=$C$64,"",IF(E41<$E$63,IF(H41<$H$63,IF(K41<$K$63,IF(N41<$N$63,IF(P41<$P$63,"×","○"),"○"),"○"),"○"),"○")),IF(A41=$C$64,"",IF(E41<$E$64,"×","○"))) -> ○ | AA41: に「○」を記載すること。なお、記載しない場合は同欄で「該当なし」を選択すること。
B42: ( | C42: =IF(C24="","",C24) -> 27154 | D42: ) | Y42: 注２ | AA42: ： 工場製作を含む工事において、「工場製作のみが行われる期間」における配置予定技術者
A43: =IF(A25="","",$C$113) | C43: =IF(C25="","",C25) | T43: =IF($E$32=$C$86,IF(A43=$C$64,"",IF(E43<$E$63,IF(H43<$H$63,IF(K43<$K$63,IF(N43<$N$63,IF(P43<$P$63,"×","○"),"○"),"○"),"○"),"○")),IF(A43=$C$64,"",IF(E43<$E$64,"×","○"))) -> × | AA43: も、本様式へ記載すること。この場合「評価対象」欄で「工場製作」を選択すること。
B44: ( | C44: =IF(C26="","",C26) | D44: ) | Y44: 注３ | AA44: ： 工事成績の申告対象工事がない場合は「対象工事」欄で「なし」を選択すること。
A45: 特記）継続学習（ＣＰＤ）の取組状況における年間とは兵庫県の会計年度（４月１日 | Y45: 注４ | AA45: ： その他の事項については、様式２「注１」～「注３」及び３の「注１」～「注４」確認し
A46: ～翌年３月31日までの１年間）とする。 | AA46: 本様式を記載すること。
A55: リスト
B56: 専任補助者
C57: する | S57: 注）全ての配置予定技術者が若手（入札参加申込期限日において４０歳未満の者）又は女性技術者とする場合のみ配置できる。 配置する場合、本様式には配置予定技術者に代えて専任補助者の施工実績等を記載すること。
C58: しない
B60: ■同種工事の施工実績
B62: 評価対象 | E62: １年間 | H62: ２年間 | K62: ３年間 | N62: ４年間 | P62: ５年間
C63: ○ | E63: 20 | H63: 40 | K63: 60 | N63: 80 | P63: 100 | T63: →CPDS（令和６年４月以降）
C64: 工場製作 | E64: 50 | H64: →造園CPD（令和６年４月以降）
C65: 該当なし
B67: 対象
C68: あり | D68: なし
B70: 発注形態
C71: 単体
C72: 特別共同企業体
B73: 工種
C74: 一般土木工事 又は、港湾土木工事 | D74: 工種1 | AZ74: 工種1 | BA74: 工種2 | BB74: 工種3 | BC74: 工種4 | BD74: 工種5
C75: ｱｽﾌｧﾙﾄ舗装工事 | D75: 工種2 | AZ75: １級土木施工管理技士 | BA75: １級土木施工管理技士 | BB75: １級土木施工管理技士 | BC75: １級土木施工管理技士 | BD75: １級造園施工管理技士
C76: PC橋梁(上部)工事 | D76: 工種3 | AZ76: ２級土木施工管理技士（種別は「土木」に限る） | BA76: ２級土木施工管理技士（種別は「土木」に限る） | BB76: ２級土木施工管理技士（種別は「土木」に限る） | BC76: ２級土木施工管理技士（種別は「土木」に限る） | BD76: ２級造園施工管理技士
C77: 鋼橋梁(上部)工事 | D77: 工種4 | AZ77: １級建設機械施工管理技士 | BA77: １級建設機械施工管理技士 | BB77: １級建設機械施工管理技士 | BC77: １級建築施工管理技士 | BD77: 技術士（建設部門）
C78: 造園工事 | D78: 工種5 | AZ78: ２級建設機械施工管理技士 | BA78: ２級建設機械施工管理技士 | BB78: ２級建設機械施工管理技士 | BC78: ２級建築施工管理技士（種別は「躯体」に限る） | BD78: 技術士（森林部門「林業・林産」）
AZ79: 技術士（建設部門） | BA79: 技術士（建設部門） | BB79: 技術士（建設部門） | BC79: １級建築士 | BD79: 技術士（森林部門「森林土木」）
B80: 従事役職 | AZ80: 技術士（農業部門「農業農村工学」） | BA80: 技術士（総合技術監理部門（建設）） | BB80: 技術士（農業部門「農業農村工学」） | BC80: 技術士（建設部門「鋼構造及びコンクリート」）） | BD80: 技術士（総合技術監理部門（建設））
C81: 主任（監理）技術者 | AZ81: 技術士（水産部門「水産土木」） | BB81: 技術士（水産部門「水産土木」） | BC81: 技術士（総合技術監理部門（建設「鋼構造及びコンクリート」）） | BD81: 技術士（総合技術監理部門（森林「林業・林産」））
C82: 専任補助者 | AZ82: 技術士（森林部門「森林土木」） | BB82: 技術士（森林部門「森林土木」） | BD82: 技術士（総合技術監理部門（森林「森林土木」））
C83: 現場代理人（国家資格） | AZ83: 技術士（総合技術監理部門（建設）） | BB83: 技術士（総合技術監理部門（建設）） | BD83: 技術士（総合技術監理部門（森林「森林土木」））
AZ84: 技術士（総合技術監理部門（農業「農業農村工学」）） | BB84: 技術士（総合技術監理部門（農業「農業農村工学」））
B85: 継続学習（CPD）の取組状況 | AZ85: 技術士（総合技術監理部門（水産「水産工学」）） | BB85: 技術士（総合技術監理部門（水産「水産工学」））
C86: （一社）全国土木施工管理技士連合会の継続学習制度における取得単位 | AZ86: 技術士（総合技術監理部門（森林「森林土木」）） | BB86: 技術士（総合技術監理部門（森林「森林土木」））
C87: 造園ＣＰＤ制度における取得単位
B89: 発注機関
C90: 兵庫県 | E90: 兵庫県
C91: その他の機関 | E91: 神戸市
E92: その他の機関
B94: 性別
C95: 男性
C96: 女性
B98: 建設業法の規定による技術者（技術者証の有無）
C99: 有：１級施工管理技士
C100: 有：２級施工管理技士
C101: 有：その他の国家資格
C102: 無：経験年数（１０年以上）
B104: 配置予定技術者（専任補助者）
C105: ○
C106: 該当なし
B108: 備考
C109: 主任技術者、監理技術者又は現場代理人
B112: 評価対象
C113: ○

Sheet 例＿様式５
AL1: 企業ﾁｬﾚﾝｼﾞ評価型様式５号
A2: 地域建設業者の育成（技術者の育成）
AG3: 商号又は名称 | AK3: ： | AL3: =例＿様式３!Y3 -> ○○○○○建設
AG4: 工事名 | AK4: ： | AL4: =例＿様式３!Y4 -> 県道○○線 ○○○○○○○○○工事
A5: ■配置予定技術者
A7: 配置予定 | C7: 技術者氏名 | D7: ( | E7: 性別 | F7: ) | G7: 【参考】 入札公告に示す配置技術者の入札参加資格要件の確認
B8: ( | C8: 生年月日 | D8: ： | E8: 年齢 | F8: ) | G8: 合格証書等の有無）
A9: =例＿様式４!A9 -> ○ | C9: =IF($A9="該当なし","",IF(LEN(TRIM(例＿様式４!C9))=0,"",例＿様式４!C9)) -> ●● 〇〇 | E9: =IF($A9="該当なし","",IF(LEN(TRIM(例＿様式４!E9))=0,"",例＿様式４!E9)) -> 男性 | G9: =IF(A9="該当なし","",IF(LEN(TRIM(例＿様式４!G9))=0,"",例＿様式４!G9)) -> 有：１級施工管理技士
B10: ( | C10: =IF($A9="該当なし","",IF(LEN(TRIM(例＿様式４!C10))=0,"",例＿様式４!C10)) -> 34977 | D10: ： | E10: =IF($A9="該当なし","",IF(LEN(TRIM(例＿様式４!E10))=0,"",例＿様式４!E10)) -> 29 | F10: )
A11: =例＿様式４!A11 -> ○ | C11: =IF($A11="該当なし","",IF(LEN(TRIM(例＿様式４!C11))=0,"",例＿様式４!C11)) -> △△ ▲▲ | E11: =IF($A11="該当なし","",IF(LEN(TRIM(例＿様式４!E11))=0,"",例＿様式４!E11)) -> 女性 | G11: =IF(A11="該当なし","",IF(LEN(TRIM(例＿様式４!G11))=0,"",例＿様式４!G11)) -> 有：２級施工管理技士
B12: ( | C12: =IF($A11="該当なし","",IF(LEN(TRIM(例＿様式４!C12))=0,"",例＿様式４!C12)) -> 30807 | D12: ： | E12: =IF($A11="該当なし","",IF(LEN(TRIM(例＿様式４!E12))=0,"",例＿様式４!E12)) -> 41 | F12: )
A13: =例＿様式４!A13 -> 工場製作 | C13: =IF($A13="該当なし","",IF(LEN(TRIM(例＿様式４!C13))=0,"",例＿様式４!C13)) -> □□ □□ | E13: =IF($A13="該当なし","",IF(LEN(TRIM(例＿様式４!E13))=0,"",例＿様式４!E13)) | G13: =IF(A13="該当なし","",IF(LEN(TRIM(例＿様式４!G13))=0,"",例＿様式４!G13))
B14: ( | C14: =IF($A13="該当なし","",IF(LEN(TRIM(例＿様式４!C14))=0,"",例＿様式４!C14)) | D14: ： | E14: =IF($A13="該当なし","",IF(LEN(TRIM(例＿様式４!E14))=0,"",例＿様式４!E14)) | F14: )
A17: ■国家資格の取得状況 | H17: ="対象期間："&TEXT(IF(AND(MONTH(例＿様式４!R30)>=1,MONTH(例＿様式４!R30)<=3),EOMONTH(例＿様式４!R30,-9*12),EOMONTH(例＿様式４!R30,-8*12)),"[$-ja-JP-x-gannen]ggge")&"年度～入札参加申込期限日" -> 対象期間：平成29年度～入札参加申込期限日 | U17: （8年間＋参加申込期限日迄）
A18: 評価対象 | B18: 技術者氏名 | E18: 若手女性 | G18: 国家資格 | I18: 対象期間内に取得した国家資格 | AV18: 最小値の対象者 | AW18: 氏名 | AX18: 若手 女性 | AY18: 国家 資格 | AZ18: 点数
B20: ( | C20: 生年月日 | D20: ) | I20: 資格区分 | O20: 資格名称又は対象部門及び科目 | AE20: 取得年度
A21: =IF(+AV21="○","○","") | C21: =IF(C9="","",IF(OR(A9=例＿様式４!$C$82,A9=例＿様式４!$C$83),"",C9)) -> ●● 〇〇 | E21: =IF(OR(A9="工場製作",A9="該当なし"),"",IF(E10<40,"若手",IF(E9="女性","女性","×"))) -> 若手 | G21: あり | I21: 施工管理技士 | O21: １級建築施工管理技士 | U21: =IF(OR(I21=$BI$32,I21=$BK$32,O21=$BM$33,O21=$BM$35,O21=$BM$36,O21=$BM$37,O21=$BM$38,O21=$BM$39,O21=$BM$43,),$BQ$54,"") -> ※記載不要 | AE21: 平成 | AF21: 30 | AG21: 年度 | AV21: =IF(AZ21=$AZ$27,"○","") | AW21: =IF(OR(A9="○",A9="工場製作"),C9,"") -> ●● 〇〇 | AX21: =IF(OR(A9="工場製作",A9="該当なし",A9=""),"-",IF(OR(E9="女性",E10<40),"○","×")) -> ○ | AY21: =IF(OR(A9="工場製作",A9="該当なし",A9=""),"-",IF(G21="あり","○","×")) -> ○ | AZ21: =IF(A9="工場製作","対象外",IF(OR(A9="該当なし",A9=""),"",COUNTIF(AX21:AY22,"○")*0.5)) -> 1
B22: ( | C22: =IF(C10="","",IF(OR(A9=例＿様式４!$C$82,A9=例＿様式４!$C$83),"",C10)) -> 34977 | D22: )
A23: =IF(A21="○","",+AV23) -> ○ | C23: =IF(C11="","",IF(OR(A11=例＿様式４!$C$82,A11=例＿様式４!$C$83),"",C11)) -> △△ ▲▲ | E23: =IF(OR(A11="工場製作",A11="該当なし"),"",IF(E12<40,"若手",IF(E11="女性","女性","×"))) -> 女性 | G23: なし | U23: =IF(OR(I23=$BI$32,I23=$BK$32,O23=$BM$33,O23=$BM$35,O23=$BM$36,O23=$BM$37,O23=$BM$38,O23=$BM$39,O23=$BM$43,),$BQ$54,"") | AG23: 年度 | AJ23: 若手・女性 技術者 | AN23: 国家資格 | AV23: =IF(AZ23=$AZ$27,"○","") -> ○ | AW23: =IF(OR(A11="○",A11="工場製作"),C11,"") -> △△ ▲▲ | AX23: =IF(OR(A11="工場製作",A11="該当なし",A11=""),"-",IF(OR(E11="女性",E12<40),"○","×")) -> ○ | AY23: =IF(OR(A11="工場製作",A11="該当なし",A11=""),"-",IF(G23="あり","○","×")) -> × | AZ23: =IF(A11="工場製作","対象外",IF(OR(A11="該当なし",A11=""),"",COUNTIF(AX23:AY24,"○")*0.5)) -> 0.5
B24: ( | C24: =IF(C12="","",IF(OR(A11=例＿様式４!$C$82,A11=例＿様式４!$C$83),"",C12)) -> 30807 | D24: )
A25: =IF(A21="○","",IF(A23="○","",+AV25)) | C25: =IF(C13="","",IF(OR(A13=例＿様式４!$C$82,A13=例＿様式４!$C$83),"",C13)) -> □□ □□ | E25: =IF(OR(A13="工場製作",A13="該当なし"),"",IF(E14<40,"若手",IF(E13="女性","女性","×"))) | G25: なし | U25: =IF(OR(I25=$BI$32,I25=$BK$32,O25=$BM$33,O25=$BM$35,O25=$BM$36,O25=$BM$37,O25=$BM$38,O25=$BM$39,O25=$BM$43,),$BQ$54,"") | AG25: 年度 | AJ25: =IF(A21="○",$AX$21,IF(A23=$C$68,$AX$23,IF(A25=$C$68,$AX$25,""))) -> ○ | AN25: =IF(A21=$C$68,$AY$21,IF(A23=$C$68,$AY$23,IF(A25=$C$68,$AY$25,""))) -> × | AV25: =IF(AZ25=$AZ$27,"○","") | AW25: =IF(OR(A13="○",A13="工場製作"),C13,"") -> □□ □□ | AX25: =IF(OR(A13="工場製作",A13="該当なし",A13=""),"-",IF(OR(E13="女性",E14<40),"○","×")) -> - | AY25: =IF(OR(A13="工場製作",A13="該当なし",A13=""),"-",IF(G25="あり","○","×")) -> - | AZ25: =IF(A13="工場製作","対象外",IF(OR(A13="該当なし",A13=""),"",COUNTIF(AX25:AY26,"○")*0.5)) -> 対象外
B26: ( | C26: =IF(C14="","",IF(OR(A13=例＿様式４!$C$82,A13=例＿様式４!$C$83),"",C14)) | D26: )
AY27: 最小点数 | AZ27: =MIN(AZ21,AZ23,AZ25) -> 0.5
U31: 注意事項 | AV31: 最小値の対象者 | AW31: 氏名 | AX31: 同種工事 | AY31: 工事成績（最大4点） | BE31: CPD | BF31: 合計
U32: 注１ | W32: ： 本評価項目の評価対象欄は、国家資格の取得状況の表の評価対象による。 | BI32: 施工管理技士 | BJ32: 施工管理技士名前 | BK32: 建築士 | BL32: 建築士名前 | BM32: 技術士 | BN32: 技術士部門名前
W33: なお、本様式枠外にて、評価対象となる技術者を選定し、〇を自動で入力しているが、間違いないか | AZ33: 監理技術者・主任技術者・現場代理人 | BI33: １級建設機械施工管理技士 | BJ33: 不要 | BK33: １級建築士 | BL33: 不要 | BM33: 建設 | BN33: 建設
W34: 確認の上、修正が必要な場合、評価対象に「○」を記載すること。 | BI34: １級土木施工管理技士 | BJ34: 不要 | BM34: 農業 | BN34: 農業
U35: 注２ | W35: ： 「若手女性」欄は、配置予定技術者の情報より自動入力されるので間違いないか確認すること。 | AX35: 有:２点 | AY35: 点/件 | AZ35: 2 | BA35: 1.5 | BB35: 1 | BC35: 0.5 | BD35: 0 | BE35: 取得３点 | BF35: 最大9点 | BI35: １級建築施工管理技士 | BJ35: 不要 | BM35: 電気電子 | BN35: 電気電子
U36: 注３ | W36: ： 配置予定技術者の入力内容は、様式４の記載内容と同じ内容で自動入力される。間違いないか | BI36: １級電気工事施工管理技士 | BJ36: 不要 | BM36: 電気・電子 | BN36: 電気電子
W37: 確認の上、修正が必要な場合は、様式４の配置予定技術者の入力内容の修正を行うこと。 | AY37: 未満 | BA37: 85 | BB37: 80 | BC37: 75 | BD37: 70 | BI37: １級管工事施工管理技士 | BJ37: 不要 | BM37: 機械 | BN37: 機械
U38: 注４ | W38: ： 様式４配置予定技術者の合格者証の入力内容と、国家資格の取得状況の国家資格の入力内容の資格は | AY38: 以上 | AZ38: 85 | BA38: 80 | BB38: 75 | BC38: 70 | BD38: 0 | BI38: １級電気通信工事施工管理技士 | BJ38: 不要 | BM38: 上下水道 | BN38: 上下水道
W39: 同一の資格でなくてもよい。 | AV39: =IF(BF40=$BF$45,"○","-") -> - | AY39: 件数 | AZ39: =COUNTIFS(AS33:AS36,">=85") -> 0 | BA39: =COUNTIFS(AS33:AS36,">=80",AS33:AS36,"<85") -> 0 | BB39: =COUNTIFS(AS33:AS36,">=75",AS33:AS36,"<80") -> 0 | BC39: =COUNTIFS(AS33:AS36,">=70",AS33:AS36,"<75") -> 0 | BD39: =COUNTIFS(AS33:AS36,">=0",AS33:AS36,"<70") -> 0 | BI39: １級造園施工管理技士 | BJ39: 不要 | BM39: 水道 | BN39: 上下水道
U40: 注５ | W40: ： 評価対象者の「若手・女性技術者」の加点の〇×、「国家資格」（取得者）の加点の〇×に間違い | AW40: =C21 -> ●● 〇〇 | AX40: =IF(AG22="",0,2) -> 0 | AY40: 点数 | AZ40: =AZ$35*AZ39 -> 0 | BA40: =BA$35*BA39 -> 0 | BB40: =BB$35*BB39 -> 0 | BC40: =BC$35*BC39 -> 0 | BD40: =BD$35*BD39 -> 0 | BE40: =IF(T57="○",3,0) -> 0 | BF40: =IF(C22="","-",IF(A22=$C$82,"-",SUM(AX40,AZ40,BA40,BB40,BC40,BD40,BE40))) -> - | BM40: 水産 | BN40: 水産
W41: がないか確認すること。 | AV41: =IF(BF42=$BF$45,"○","-") -> - | AY41: 件数 | AZ41: =COUNTIFS(AS37:AS40,">=85") -> 0 | BA41: =COUNTIFS(AS37:AS40,">=80",AS37:AS40,"<85") -> 0 | BB41: =COUNTIFS(AS37:AS40,">=75",AS37:AS40,"<80") -> 0 | BC41: =COUNTIFS(AS37:AS40,">=70",AS37:AS40,"<75") -> 0 | BD41: =COUNTIFS(AS37:AS40,">=0",AS37:AS40,"<70") -> 0 | BM41: 森林 | BN41: 森林
U42: 注６ | W42: ： その他の事項については、様式２「注１」～「注３」を確認し本様式を記載すること。 | AW42: =C23 -> △△ ▲▲ | AX42: =IF(AG24="",0,2) -> 0 | AY42: 点数 | AZ42: =AZ$35*AZ41 -> 0 | BA42: =BA$35*BA41 -> 0 | BB42: =BB$35*BB41 -> 0 | BC42: =BC$35*BC41 -> 0 | BD42: =BD$35*BD41 -> 0 | BE42: =IF(T59="○",3,0) -> 0 | BF42: =IF(C24="","-",IF(A24=$C$82,"-",SUM(AX42,AZ42,BA42,BB42,BC42,BD42,BE42))) -> - | BM42: 林業 | BN42: 森林
AV43: =IF(BF44=$BF$45,"○","-") -> - | AY43: 件数 | AZ43: =COUNTIFS(AS41:AS44,">=85") -> 0 | BA43: =COUNTIFS(AS41:AS44,">=80",AS41:AS44,"<85") -> 0 | BB43: =COUNTIFS(AS41:AS44,">=75",AS41:AS44,"<80") -> 0 | BC43: =COUNTIFS(AS41:AS44,">=70",AS41:AS44,"<75") -> 0 | BD43: =COUNTIFS(AS41:AS44,">=0",AS41:AS44,"<70") -> 0 | BM43: 衛生工学 | BN43: 衛生工学
AW44: =C26 | AX44: =IF(AG26="",0,2) -> 0 | AY44: 点数 | AZ44: =AZ$35*AZ43 -> 0 | BA44: =BA$35*BA43 -> 0 | BB44: =BB$35*BB43 -> 0 | BC44: =BC$35*BC43 -> 0 | BD44: =BD$35*BD43 -> 0 | BE44: =IF(T61="○",3,0) -> 0 | BF44: =IF(C26="","-",IF(A26=$C$82,"-",SUM(AX44,AZ44,BA44,BB44,BC44,BD44,BE44))) -> - | BM44: １級建設機械施工管理技士 | BN44: 不要
BE45: 最小値 | BF45: =MIN(BF40,BF42,BF44) -> 0 | BM45: １級土木施工管理技士 | BN45: 不要
BM46: １級建築施工管理技士 | BN46: 不要
BM47: １級電気工事施工管理技士 | BN47: 不要
BM48: １級管工事施工管理技士 | BN48: 不要
BM49: １級電気通信工事施工管理技士 | BN49: 不要
BM50: １級造園施工管理技士 | BN50: 不要
BM51: １級建築士 | BN51: 不要
BI53: 建設 | BJ53: 農業 | BK53: 電気電子 | BL53: 機械 | BM53: 上下水道 | BN53: 水産 | BO53: 森林 | BP53: 衛生工学 | BQ53: 不要
BI54: ※記載不要 | BJ54: 農業農村工学 | BK54: ※記載不要 | BL54: ※記載不要 | BM54: ※記載不要 | BN54: 水産土木 | BO54: 林業・林産 | BP54: ※記載不要 | BQ54: ※記載不要
BJ55: 農業土木 | BO55: 林業・林産
AY56: 工種1 | AZ56: 工種2 | BA56: 工種3 | BB56: 工種4 | BC56: 工種5 | BO56: 森林土木
AY57: １級土木施工管理技士 | AZ57: １級土木施工管理技士 | BA57: １級土木施工管理技士 | BB57: １級土木施工管理技士 | BC57: １級造園施工管理技士
AY58: ２級土木施工管理技士（種別は「土木」に限る） | AZ58: ２級土木施工管理技士（種別は「土木」に限る） | BA58: ２級土木施工管理技士（種別は「土木」に限る） | BB58: ２級土木施工管理技士（種別は「土木」に限る） | BC58: ２級造園施工管理技士
AY59: １級建設機械施工管理技士 | AZ59: １級建設機械施工管理技士 | BA59: １級建設機械施工管理技士 | BB59: １級建築施工管理技士 | BC59: 技術士（建設部門）
AY60: ２級建設機械施工管理技士 | AZ60: ２級建設機械施工管理技士 | BA60: ２級建設機械施工管理技士 | BB60: ２級建築施工管理技士（種別は「躯体」に限る） | BC60: 技術士（森林部門「林業・林産」）
AY61: 技術士（建設部門） | AZ61: 技術士（建設部門） | BA61: 技術士（建設部門） | BB61: １級建築士 | BC61: 技術士（森林部門「森林土木」）
AY62: 技術士（農業部門「農業農村工学」） | AZ62: 技術士（総合技術監理部門（建設）） | BA62: 技術士（農業部門「農業農村工学」） | BB62: 技術士（建設部門「鋼構造及びコンクリート」）） | BC62: 技術士（総合技術監理部門（建設））
AY63: 技術士（水産部門「水産土木」） | BA63: 技術士（水産部門「水産土木」） | BB63: 技術士（総合技術監理部門（建設「鋼構造及びコンクリート」）） | BC63: 技術士（総合技術監理部門（森林「林業・林産」））
AY64: 技術士（森林部門「森林土木」） | BA64: 技術士（森林部門「森林土木」） | BC64: 技術士（総合技術監理部門（森林「森林土木」））
AY65: 技術士（総合技術監理部門（建設）） | BA65: 技術士（総合技術監理部門（建設）） | BC65: 技術士（総合技術監理部門（森林「森林土木」））
B66: 評価対象 | AY66: 技術士（総合技術監理部門（農業「農業農村工学」）） | BA66: 技術士（総合技術監理部門（農業「農業農村工学」））
AY67: 技術士（総合技術監理部門（水産「水産工学」）） | BA67: 技術士（総合技術監理部門（水産「水産工学」））
C68: ○ | AY68: 技術士（総合技術監理部門（森林「森林土木」）） | BA68: 技術士（総合技術監理部門（森林「森林土木」））
B69: 国家資格
C70: あり
C71: なし
B73: 資格区分
C74: 施工管理技士 | D74: 施工管理技士
C75: 建築士 | D75: 建築士
C76: 技術士 | D76: 技術士
C77: 技術士 （総合技術監理部門） | D77: 技術士
B84: 取得年度
C85: 平成
C86: 令和

Sheet 例＿様式６
J1: 企業チャレンジ型様式６号
A2: 不履行項目数
A4: 対象期間：令和○○年度 | F4: 商号又は名称： | I4: ○○○○○建設
F5: 工事名： | I5: 県道○○線 ○○○○○○○○○工事
A7: 不履行が発生した工事
A8: 工事 番号 | B8: 発注機関名 | E8: 工事名 | H8: 工期の末日 （完成日） | J8: 検査年月日 | K8: 不履行
K9: 項目数
A10: ① | B10: 阪神南県民センター | E10: ○○工事 | H10: 令和○年○月○日 | J10: 令和○年○月○日 | K10: 1
A12: 該当なし
A14: 該当なし
J18: 不履行項目数の合計 （対象期間通算） | K18: 該当
J19: 不履行なし
J20: １項目 | K20: ○
J21: ２項目
J22: ３項目以上
A24: 注意事項
A25: 注１ | B25: 対象期間内に不履行が発生した工事はすべて記載すること。不履行がない場合は、「工事番号」欄で「該当なし」を選択すること。
A26: 注２ | B26: ： 記載された内容に誤りがあることが判明した場合は、当該評価項目の最低点（－６点）とする。
A27: 注３ | B27: ： 発注機関名は、県民局（センター）の名称を記載すること。
A28: 注４ | B28: ： 次の資料を添付すること。（コピー可。また、記載事項に該当する箇所をアンダーライン・赤囲み等により明示すること。）
B29: 工事成績評定結果の通知（不履行項目数が記載されたもの）（※必須（該当する工事がない場合は不要））
A30: 注５ | B30: ： 工事成績評定結果の通知等に検査年月日の記載がなく、検査年月日が不明な場合は、検査年月日欄に「－」を記載すること。
A31: 注６ | B31: ： その他の事項については、様式２の「注１」～「注３」確認し本様式を記載すること。
