Workbook
Name 【企業】評価項目: 発注者入力シート!$L$6:$L$13
Name 【技術者】評価項目: 発注者入力シート!$M$6:$M$12
Name 【地域貢献】評価項目: 発注者入力シート!$N$6:$N$27
Name 【地理的条件】評価項目: 発注者入力シート!$O$6:$O$11
Name 企業回答: 発注者入力シート!$Z$6:$Z$9
Name 企業回答1: 発注者入力シート!$V$6:$V$8
Name 企業回答10: 発注者入力シート!$AE$6:$AE$9
Name 企業回答11: 発注者入力シート!$AF$6:$AF$9
Name 企業回答12: 発注者入力シート!$AG$6:$AG$9
Name 企業回答13: 発注者入力シート!$AH$6:$AH$9
Name 企業回答14: 発注者入力シート!$AI$6:$AI$8
Name 企業回答2: 発注者入力シート!$W$6:$W$11
Name 企業回答3: 発注者入力シート!$X$6:$X$11
Name 企業回答4: 発注者入力シート!$Y$6:$Y$8
Name 企業回答5: 発注者入力シート!$Z$6:$Z$9
Name 企業回答6: 発注者入力シート!$AA$6:$AA$11
Name 企業回答7: 発注者入力シート!$AB$6:$AB$9
Name 企業回答8: 発注者入力シート!$AC$6:$AC$17
Name 企業回答9: 発注者入力シート!$AD$6:$AD$8
Name 建設工事の種類: 発注者入力シート!$U$6:$U$22
Name 工事種別: 発注者入力シート!$T$6:$T$22
Name 地域密着型: 発注者入力シート!$S$6:$S$7
Name 評価項目番号: 発注者入力シート!$Q$6:$Q$12
Name 評価項目番号_枝番: 発注者入力シート!$R$6:$R$16
Name 様式番号: 発注者入力シート!$P$6:$P$32

Sheet 発注者入力シート
A1: 発注までに必要な作業 | L1: 【表３】プルダウンリスト | AX1: 技術資料「企業の工事成績評定点」、「配置予定技術者の工事成績評定点」の表示
A2: （１）発注工事の基本情報 | L2: 【表３】を編集すると評価項目（C列）のリストが変更できます（原則、着色セル以外編集不可）。 | AK2: 削除・編集厳禁 | AX2: 入力状況 | AY2: =C8&C9 -> 電気工事電気工事
B3: １．【表１】のC列に基本情報を直接入力してください | L3: 表中の着色セルを予備欄です。項目が不足する場合ここに入力すれば、プルダウンリストを追加できます。 | AX3: 工事種別 | AY3: 建設工事の種類 | AZ3: 判定用 | BA3: 表示（工事種別） | BB3: 表示（建設工事の種類） | BC3: 工事成績評価対象期間
B4: 【表１】 | L4: 【表３】 | AX4: 一般土木工事 | AY4: 土木一式工事 | AZ4: =AX4&AY4 -> 一般土木工事土木一式工事 | BA4: 一般土木工事、維持修繕工事 | BB4: 土木一式工事、とび・土工・ｺﾝｸﾘｰﾄ工事、しゅんせつ工事 | BC4: 工事成績（過去3年間で評価）
B5: 入力項目名 | C5: 入力欄 | L5: 【企業】評価項目 | M5: 【技術者】評価項目 | N5: 【地域貢献・その他】評価項目 | O5: 【地理的条件】評価項目 | P5: 様式番号 | Q5: 評価項目番号 | R5: 評価項目番号（枝番） | S5: 地域設定 | T5: 工事種別 | U5: 建設工事の種類 | V5: 企業回答1 | W5: 企業回答2 | X5: 企業回答3 | Y5: 企業回答4 | Z5: 企業回答5 | AA5: 企業回答6 | AB5: 企業回答7 | AC5: 企業回答8 | AD5: 企業回答9 | AE5: 企業回答10 | AF5: 企業回答11 | AG5: 企業回答12 | AH5: 企業回答13 | AI5: 企業回答14 | AX5: 一般土木工事 | AY5: とび・土工・コンクリート工事 | AZ5: =AX5&AY5 -> 一般土木工事とび・土工・コンクリート工事 | BA5: 一般土木工事、維持修繕工事 | BB5: 土木一式工事、とび・土工・ｺﾝｸﾘｰﾄ工事、しゅんせつ工事 | BC5: 工事成績（過去3年間で評価）
B6: 発注事務所名 | C6: 島根県知事 | D6: ←直接入力 | L6: 工事成績 | M6: 保有資格 | N6: 防災協定 | O6: 近隣施工実績 | P6: ２ | Q6: （１） | R6: ① | T6: 一般土木工事 | U6: 土木一式工事 | V6: 有 | W6: 国局長 | X6: 国局長の表彰 | Y6: 契約工事名 | Z6: 単体 | AA6: 監理技術者 | AB6: 本店 | AC6: ｼｮﾍﾞﾙ系掘削機(ｼｮﾍﾞﾙ) | AD6: 保有 | AE6: 第1ｸﾞﾙｰﾌﾟ | AF6: 2回 | AG6: 国局長 | AH6: 国局長の表彰 | AI6: 元請 | AX6: 一般土木工事 | AY6: しゅんせつ工事 | AZ6: =AX6&AY6 -> 一般土木工事しゅんせつ工事 | BA6: 一般土木工事、維持修繕工事 | BB6: 土木一式工事、とび・土工・ｺﾝｸﾘｰﾄ工事、しゅんせつ工事 | BC6: 工事成績（過去3年間で評価）
B7: 入札公告日 | C7: 46290 | D7: ←ｙｙｙｙ/m/dで入力【重要】 | G7: 入札公告日前日 | H7: =C7-1 -> 46289 | I7: ←削除厳禁 | L7: 同種工事実績 | M7: 同種工事経験 | N7: BCP&防災協定 | O7: 会社所在地 | P7: ３ | Q7: （２） | R7: ② | T7: アスファルト舗装工事・特殊舗装工事（旧舗装工事） | U7: とび・土工・コンクリート工事 | V7: 無 | W7: 国事務所長 | X7: 国事務所長の表彰 | Y7: 表彰状記載工事名 | Z7: 特別（特定）JV | AA7: 主任技術者 | AB7: 支店 | AC7: ｼｮﾍﾞﾙ系掘削機(ﾊﾞｯｸﾎｳ) | AD7: リース契約 | AE7: 第2ｸﾞﾙｰﾌﾟ | AF7: 1回 | AG7: 国事務所長 | AH7: 国事務所長の表彰 | AI7: 下請 | AX7: 維持修繕工事 | AY7: 土木一式工事 | AZ7: =AX7&AY7 -> 維持修繕工事土木一式工事 | BA7: 一般土木工事、維持修繕工事 | BB7: 土木一式工事、とび・土工・ｺﾝｸﾘｰﾄ工事、しゅんせつ工事 | BC7: 工事成績（過去3年間で評価）
B8: 工事種別 | C8: 電気工事 | D8: ←必須【入力結果が技術資料(企業成績評定点、技術者成績評定点）シートの対象工事欄に反映される】 | L8: 優良工事表彰 | M8: 技術者の表彰 | N8: 家畜伝染病防疫協定 | O8: 工場・会社所在地 | P8: ４ | Q8: （３） | R8: ③ | T8: 鋼橋上部工事 | U8: 鋼構造物工事 | W8: 知事 | X8: 知事表彰該当工事の表彰 | Z8: 一般（経常）JV | AA8: 現場代理人 | AB8: 営業所 | AC8: ｼｮﾍﾞﾙ系掘削機(ﾄﾞﾗｸﾞﾗｲﾝ) | AF8: 0回 | AG8: 知事 | AH8: 知事表彰該当工事の表彰 | AX8: 維持修繕工事 | AY8: とび・土工・コンクリート工事 | AZ8: =AX8&AY8 -> 維持修繕工事とび・土工・コンクリート工事 | BA8: 一般土木工事、維持修繕工事 | BB8: 土木一式工事、とび・土工・ｺﾝｸﾘｰﾄ工事、しゅんせつ工事 | BC8: 工事成績（過去3年間で評価）
B9: 建設工事の種類 | C9: 電気工事 | D9: =IF(INDEX(AX3:BC31,MATCH(AY2,AZ3:AZ31,0),3)=AY2,INDEX(AX3:BC31,MATCH(AY2,AZ3:AZ31,0),6),"err") -> 工事成績（過去5年間で評価） | G9: ←エラー表示の場合、工事種別と建設工事の種類を再確認 | L9: プラント保有 | M9: 継続学習 | N9: BCP&家畜伝染防疫病協定 | O9: サポート拠点 | P9: ５ | Q9: （４） | R9: ④ | T9: ﾌﾟﾚｽﾄﾚｽﾄｺﾝｸﾘｰﾄ構造物工事 | U9: 舗装工事 | W9: 県課長 | X9: 県課長表彰該当工事の表彰 | AA9: 監理技術者補佐 | AC9: ｼｮﾍﾞﾙ系掘削機(ｸﾗﾑｼｪﾙ) | AI9: 除雪業務 | AX9: アスファルト舗装工事・特殊舗装工事（旧舗装工事） | AY9: 舗装工事 | AZ9: =AX9&AY9 -> アスファルト舗装工事・特殊舗装工事（旧舗装工事）舗装工事 | BA9: アスファルト舗装工事・特殊舗装工事（旧舗装工事）、維持修繕工事 | BB9: 舗装工事 | BC9: 工事成績（過去3年間で評価）
B10: 工事名 | C10: 国道３７５号（両国トンネル）防安交付金（照明LED化）トンネル照明設備工事 | L10: 法面機械保有 | M10: 技術者の成績 | N10: ボランティア活動又はハートフルしまね | O10: - | P10: ６ | Q10: （５） | R10: ⑤ | T10: 港湾工事 | U10: しゅんせつ工事 | W10: 県事務所長 | X10: 県事務所長表彰該当工事の表彰 | AC10: ｼｮﾍﾞﾙ系掘削機(ｸﾚｰﾝ) | AI10: 散布業務 | AX10: 維持修繕工事 | AY10: 舗装工事 | AZ10: =AX10&AY10 -> 維持修繕工事舗装工事 | BA10: アスファルト舗装工事・特殊舗装工事（旧舗装工事）、維持修繕工事 | BB10: 舗装工事 | BC10: 工事成績（過去3年間で評価）
L11: OPD制度参加登録 | M11: - | N11: 維持管理業務 | P11: ７ | Q11: （６） | R11: ⑥ | T11: 機械設備工事 | U11: 機械器具設置工事 | AC11: ｼｮﾍﾞﾙ系掘削機(ﾊﾟｲﾙﾄﾞﾗｲﾊﾞｰ) | AI11: 除雪・散布業務 | AX11: 鋼橋上部工事 | AY11: 鋼構造物工事 | AZ11: =AX11&AY11 -> 鋼橋上部工事鋼構造物工事 | BA11: 鋼橋上部工事 | BB11: 鋼構造物工事 | BC11: 工事成績（過去3年間で評価）
A12: （２）総合評価方式の評価項目、技術資料様式の番号情報 | L12: - | N12: 除雪業務 | P12: ８ | R12: ⑦ | T12: 塗装工事 | U12: 塗装工事 | AC12: ﾌﾞﾙﾄﾞｰｻﾞｰ | AX12: ﾌﾟﾚｽﾄﾚｽﾄｺﾝｸﾘｰﾄ構造物工事 | AY12: 土木一式工事 | AZ12: =AX12&AY12 -> ﾌﾟﾚｽﾄﾚｽﾄｺﾝｸﾘｰﾄ構造物工事土木一式工事 | BA12: ﾌﾟﾚｽﾄﾚｽﾄｺﾝｸﾘｰﾄ構造物工事（旧ﾌﾟﾚｽﾄﾚｽﾄｺﾝｸﾘｰﾄ工事） | BB12: 土木一式工事 | BC12: 工事成績（過去3年間で評価）
B13: １．【表２】C列に発注工事の評価項目を入力してください（技術提案は、直接入力、その他の項目はプルダウンリストから選択） | N13: 労働福祉（障がい者雇用） | P13: ９ | R13: ⑧ | T13: 造園工事 | U13: 造園工事 | AC13: ﾄﾗｸﾀｰｼｮﾍﾞﾙ | AX13: 港湾工事 | AY13: 土木一式工事 | AZ13: =AX13&AY13 -> 港湾工事土木一式工事 | BA13: 港湾工事 | BB13: 土木一式工事、しゅんせつ工事 | BC13: 工事成績（過去3年間で評価）
B14: （特殊な評価項目でプルダウンリストに項目がない場合は、【表３】で項目を追加してください） | N14: 労働福祉（育児介護制度） | P14: １０ | R14: ⑨ | T14: さく井工事 | U14: さく井工事 | AC14: ﾓｰﾀｰｸﾞﾚｰﾀﾞｰ | AX14: 港湾工事 | AY14: しゅんせつ工事 | AZ14: =AX14&AY14 -> 港湾工事しゅんせつ工事 | BA14: 港湾工事 | BB14: 土木一式工事、しゅんせつ工事 | BC14: 工事成績（過去3年間で評価）
B15: ２．【表２】E～G列に様式番号と評価項目の番号をプルダウンリストで選択してください。 | N15: 育児介護チェック表 | P15: １１ | R15: ⑩ | T15: 法面処理工事 | U15: 電気工事 | AC15: 移動式ｸﾚｰﾝ | AX15: 機械設備工事 | AY15: 機械器具設置工事 | AZ15: =AX15&AY15 -> 機械設備工事機械器具設置工事 | BA15: 機械設備工事 | BB15: 機械器具設置工事、鋼構造物工事 | BC15: 工事成績（過去5年間で評価）
B16: （様式番号は表紙が1になるため、2から始まります。評価項目の番号は、入札説明書に記載する見出し番号とあわせてください） | N16: 登録基幹技能者 | P16: １２ | T16: 維持修繕工事 | U16: 管工事 | AC16: 大型ﾀﾞﾝﾌﾟ車 | AX16: 機械設備工事 | AY16: 鋼構造物工事 | AZ16: =AX16&AY16 -> 機械設備工事鋼構造物工事 | BA16: 機械設備工事 | BB16: 機械器具設置工事、鋼構造物工事 | BC16: 工事成績（過去5年間で評価）
N17: 若手・中堅技術者配置 | P17: １３ | T17: グラウト工事 | U17: 水道施設工事 | AX17: 塗装工事 | AY17: 塗装工事 | AZ17: =AX17&AY17 -> 塗装工事塗装工事 | BA17: 塗装工事、維持修繕工事 | BB17: 塗装工事 | BC17: 工事成績（過去5年間で評価）
B18: 【表２】 | F18: 様式番号 | G18: 評価項目（１）－①（例） | N18: 若手技術者・従業員の新規雇用 | P18: １４ | T18: 管工事 | U18: 消防施設工事 | AX18: 維持修繕工事 | AY18: 塗装工事 | AZ18: =AX18&AY18 -> 維持修繕工事塗装工事 | BA18: 塗装工事、維持修繕工事 | BB18: 塗装工事 | BC18: 工事成績（過去5年間で評価）
B19: 区分 | C19: 評価項目 | D19: 地域設定 | E19: 様式－○ | F19: 評価項目○－○ | N19: 建設機械保有状況 | P19: １５ | T19: 電気工事 | U19: 電気通信工事 | AX19: 造園工事 | AY19: 造園工事 | AZ19: =AX19&AY19 -> 造園工事造園工事 | BA19: 造園工事 | BB19: 造園工事 | BC19: 工事成績（過去5年間で評価）
B20: 技術提案 | H20: 技術提案① | N20: 消防団協力事業所 | P20: １６ | T20: 通信設備工事 | AX20: さく井工事 | AY20: さく井工事 | AZ20: =AX20&AY20 -> さく井工事さく井工事 | BA20: さく井工事 | BB20: さく井工事 | BC20: 工事成績（過去5年間で評価）
B21: 技術提案 | H21: 技術提案② | N21: CCUSの活用 | P21: １７ | AX21: 法面処理工事 | AY21: とび・土工・コンクリート工事 | AZ21: =AX21&AY21 -> 法面処理工事とび・土工・コンクリート工事 | BA21: 法面処理工事 | BB21: とび・土工・コンクリート工事 | BC21: 工事成績（過去3年間で評価）
B22: 技術提案 | H22: 技術提案③ | N22: ＩＣＴ活用工事施工実績 | P22: １８ | AX22: 電気工事 | AY22: 電気工事 | AZ22: =AX22&AY22 -> 電気工事電気工事 | BA22: 電気工事、維持修繕工事 | BB22: 電気工事 | BC22: 工事成績（過去5年間で評価）
B23: 技術提案 | H23: 技術提案④ | N23: 海上援助活動 | P23: １９ | AX23: 電気工事 | AY23: 消防施設工事 | AZ23: =AX23&AY23 -> 電気工事消防施設工事 | BA23: 電気工事、維持修繕工事 | BB23: 電気工事 | BC23: 工事成績（過去5年間で評価）
B24: 技術提案 | H24: 技術提案⑤ | N24: 応急危険度判定士 | P24: ２０ | AX24: 維持修繕工事 | AY24: 電気工事 | AZ24: =AX24&AY24 -> 維持修繕工事電気工事 | BA24: 電気工事、維持修繕工事 | BB24: 電気工事 | BC24: 工事成績（過去5年間で評価）
B25: 技術提案 | H25: 技術提案b① | N25: - | P25: ２１ | AX25: グラウト工事 | AY25: 土木一式工事 | AZ25: =AX25&AY25 -> グラウト工事土木一式工事 | BA25: グラウト工事 | BB25: 土木一式工事、とび・土工・ｺﾝｸﾘｰﾄ工事 | BC25: 工事成績（過去5年間で評価）
B26: 技術提案 | H26: 技術提案b② | N26: - | P26: ２２ | AX26: グラウト工事 | AY26: とび・土工・コンクリート工事 | AZ26: =AX26&AY26 -> グラウト工事とび・土工・コンクリート工事 | BA26: グラウト工事 | BB26: 土木一式工事、とび・土工・ｺﾝｸﾘｰﾄ工事 | BC26: 工事成績（過去5年間で評価）
B27: 企業 | C27: 工事成績 | E27: ２ | F27: （１） | G27: ① | P27: ２３ | AX27: 管工事 | AY27: 管工事 | AZ27: =AX27&AY27 -> 管工事管工事 | BA27: 管工事 | BB27: 管工事、水道施設工事 | BC27: 工事成績（過去5年間で評価）
B28: 企業 | C28: 同種工事実績 | E28: ３ | F28: （１） | G28: ② | P28: ２４ | AX28: 管工事 | AY28: 水道施設工事 | AZ28: =AX28&AY28 -> 管工事水道施設工事 | BA28: 管工事 | BB28: 管工事、水道施設工事 | BC28: 工事成績（過去5年間で評価）
B29: 企業 | C29: 優良工事表彰 | E29: ４ | F29: （１） | G29: ③ | P29: ２５ | AX29: 通信設備工事 | AY29: 電気通信工事 | AZ29: =AX29&AY29 -> 通信設備工事電気通信工事 | BA29: 通信設備工事 | BB29: 電気通信工事 | BC29: 工事成績（過去5年間で評価）
B30: 企業 | P30: ２６ | AX30: 一般土木工事 | AY30: 鋼構造物工事 | AZ30: =AX30&AY30 -> 一般土木工事鋼構造物工事 | BC30: 評価対象工事は、個別判断
B31: 企業 | P31: ２７ | AX31: 維持修繕工事 | AY31: 鋼構造物工事 | AZ31: =AX31&AY31 -> 維持修繕工事鋼構造物工事 | BC31: 評価対象工事は、個別判断
B32: 配置予定技術者 | C32: 継続学習 | E32: ５ | F32: （２） | G32: ①
B33: 配置予定技術者 | C33: 同種工事経験 | E33: ６ | F33: （２） | G33: ②
B34: 配置予定技術者 | C34: 技術者の表彰 | E34: ７ | F34: （２） | G34: ③
B35: 配置予定技術者 | L35: 【表４】表紙記載文リスト
B36: 地域貢献・その他 | C36: ボランティア活動又はハートフルしまね | E36: ８ | F36: （３） | G36: ① | L36: 【表４】を編集すると技術資料（表紙）「2 提出書類（必要な項目について）」で記載する様式の名称変更ができます。
B37: 地域貢献・その他 | C37: 労働福祉（障がい者雇用） | E37: ９ | F37: （３） | G37: ② | L37: （【隠岐】企業の法面機械保有は、機械名が○○になっていますので、必ず編集が必要です。）
B38: 地域貢献・その他 | C38: 労働福祉（育児介護制度） | E38: １０ | F38: （３） | G38: ② | L38: 【表４】
B39: 地域貢献・その他 | C39: 育児介護チェック表 | E39: １１ | F39: （３） | G39: ② | L39: ↓【重要】表２のD列で項目を記載したもの以外は、エラー表示される【編集厳禁】
B40: 地域貢献・その他 | C40: 登録基幹技能者 | E40: １２ | F40: （３） | G40: ③ | L40: 様式番号 | M40: 区分 | N40: 評価項目名 | O40: 表紙記載文
B41: 地域貢献・その他 | L41: =INDEX($B$27:$G$47,MATCH(N41,$C$27:$C$47,0),4) -> ２ | M41: 企業 | N41: =L6 -> 工事成績 | O41: =CONCATENATE(" ○企業の工事成績評定点 （様式-",L41,"-１、様式-",L41,"-２）") -> ○企業の工事成績評定点 （様式-２-１、様式-２-２）
B42: 地域貢献・その他 | L42: =INDEX($B$27:$G$47,MATCH(N42,$C$27:$C$47,0),4) -> ３ | N42: =L7 -> 同種工事実績 | O42: =CONCATENATE(" ○企業の同種工事の施工実績 （様式-",L42,"）") -> ○企業の同種工事の施工実績 （様式-３）
B43: 地域貢献・その他 | L43: =INDEX($B$27:$G$47,MATCH(N43,$C$27:$C$47,0),4) -> ４ | N43: =L8 -> 優良工事表彰 | O43: =CONCATENATE(" ○企業の優良工事表彰（優良工事施工団体表彰） （様式-",L43,"）") -> ○企業の優良工事表彰（優良工事施工団体表彰） （様式-４）
B44: 地域貢献・その他 | L44: =INDEX($B$27:$G$47,MATCH(N44,$C$27:$C$47,0),4) -> #N/A | N44: =L9 -> プラント保有 | O44: =CONCATENATE(" ○アスファルト合材プラント保有の有無 （様式-",L44,"）") -> #N/A
B45: 地域貢献・その他 | L45: =INDEX($B$27:$G$47,MATCH(N45,$C$27:$C$47,0),4) -> #N/A | N45: =L10 -> 法面機械保有 | O45: =CONCATENATE(" ○企業の○○機の保有の有無 （様式-",L45,"）") -> #N/A
B46: 地理的条件 | C46: 会社所在地 | E46: １３ | F46: （４） | G46: ① | L46: =INDEX($B$27:$G$47,MATCH(N46,$C$27:$C$47,0),4) -> #N/A | N46: =L11 -> OPD制度参加登録 | O46: =CONCATENATE(" ○企業の継続能力（CPD）制度の参加登録 （様式-",L46,"）") -> #N/A
B47: 地理的条件 | L47: =INDEX($B$27:$G$47,MATCH(N47,$C$27:$C$47,0),4) -> #N/A | N47: =L12 -> - | O47: 対象外
B48: その他様式 | C48: 設計図書、技術資料質問書 | L48: =INDEX($B$27:$G$47,MATCH(N48,$C$27:$C$47,0),4) -> #N/A | N48: =L13 -> 0 | O48: 表３【企業】評価項目の着色セルに項目を記入した場合、ここに記載文を直接入力！
B49: その他様式 | C49: 設計図書、技術資料回答書 | L49: =INDEX($B$27:$G$47,MATCH(N49,$C$27:$C$47,0),4) -> #N/A | M49: 技術者 | N49: =M6 -> 保有資格 | O49: =CONCATENATE(" ○配置予定技術者の資格 （様式-",L49,"）") -> #N/A
B50: その他様式 | C50: 技術提案採否結果等通知書 | L50: =INDEX($B$27:$G$47,MATCH(N50,$C$27:$C$47,0),4) -> ６ | N50: =M7 -> 同種工事経験 | O50: =CONCATENATE(" ○配置予定技術者の同種工事の施工経験 （様式-",L50,"）") -> ○配置予定技術者の同種工事の施工経験 （様式-６）
B51: その他様式 | C51: 技術提案不採用理由説明要求書 | L51: =INDEX($B$27:$G$47,MATCH(N51,$C$27:$C$47,0),4) -> ７ | N51: =M8 -> 技術者の表彰 | O51: =CONCATENATE(" ○配置予定技術者の優秀建設技術者表彰 （様式-",L51,"）") -> ○配置予定技術者の優秀建設技術者表彰 （様式-７）
B52: その他様式 | C52: 技術提案不採用理由回答書 | L52: =INDEX($B$27:$G$47,MATCH(N52,$C$27:$C$47,0),4) -> ５ | N52: =M9 -> 継続学習 | O52: =CONCATENATE(" ○配置予定技術者の継続学習 （様式-",L52,"）") -> ○配置予定技術者の継続学習 （様式-５）
B53: その他様式 | C53: 評価内容説明要求書 | L53: =INDEX($B$27:$G$47,MATCH(N53,$C$27:$C$47,0),4) -> #N/A | N53: =M10 -> 技術者の成績 | O53: =CONCATENATE(" ○配置予定技術者の工事成績評定点 （様式-",L53,"-１、様式-",L53,"-２）") -> #N/A
B54: その他様式 | C54: 評価内容回答書 | L54: =INDEX($B$27:$G$47,MATCH(N54,$C$27:$C$47,0),4) -> #N/A | N54: =M11 -> - | O54: 対象外
B55: その他様式 | C55: 技術提案改善要請書 | L55: =INDEX($B$27:$G$47,MATCH(N55,$C$27:$C$47,0),4) -> #N/A | N55: =M12 -> 0 | O55: 表３【技術者】評価項目の着色セルに項目を記入した場合、ここに記載文を直接入力！
B56: その他様式 | C56: 改善技術提案書 | L56: =INDEX($B$27:$G$47,MATCH(N56,$C$27:$C$47,0),4) -> #N/A | M56: 地域貢献・その他 | N56: =N6 -> 防災協定 | O56: =CONCATENATE(" ○防災協定の締結実績 （様式-",L56,"）") -> #N/A
L57: =INDEX($B$27:$G$47,MATCH(N57,$C$27:$C$47,0),4) -> #N/A | N57: =N7 -> BCP&防災協定 | O57: =CONCATENATE(" ○事業継続計画（BCP）認定及び防災協定の締結実績 （様式-",L57,"）") -> #N/A
A58: （３）確認・修正作業【重要】 | L58: =INDEX($B$27:$G$47,MATCH(N58,$C$27:$C$47,0),4) -> #N/A | N58: =N8 -> 家畜伝染病防疫協定 | O58: =CONCATENATE(" ○家畜伝染病防疫協定の締結実績 （様式-",L58,"）") -> #N/A
A59: １．【技術資料（表紙）の確認・修正事項】 | L59: =INDEX($B$27:$G$47,MATCH(N59,$C$27:$C$47,0),4) -> #N/A | N59: =N9 -> BCP&家畜伝染防疫病協定 | O59: =CONCATENATE(" ○事業継続計画（BCP）認定及び家畜伝染病防疫協定の締結実績 （様式-",L59,"）") -> #N/A
B60: ①「2 提出書類（必要な項目について）」を確認してください。記載文の修正が必要な場合、【表４】O列数式内の記載文を編集してください。 | L60: =INDEX($B$27:$G$47,MATCH(N60,$C$27:$C$47,0),4) -> ８ | N60: =N10 -> ボランティア活動又はハートフルしまね | O60: =CONCATENATE(" ○ボランティア活動又はハートフルしまねへの参加実績 （様式-",L60,"）") -> ○ボランティア活動又はハートフルしまねへの参加実績 （様式-８）
B61: （【隠岐】企業の法面機械保有は、機械名が○○になっていますので、必ず編集が必要です。） | L61: =INDEX($B$27:$G$47,MATCH(N61,$C$27:$C$47,0),4) -> #N/A | N61: =N11 -> 維持管理業務 | O61: =CONCATENATE(" ○県管理公共土木施設に関する維持管理業務または海岸漂着物の回収業務の契約実績 （様式-",L61,"）") -> #N/A
B62: ②エラー表示がでている行を非表示にしてください（行の削除厳禁）。 | L62: =INDEX($B$27:$G$47,MATCH(N62,$C$27:$C$47,0),4) -> #N/A | N62: =N12 -> 除雪業務 | O62: =CONCATENATE(" ○県管理道路・空港を含む除雪業務の契約実績 （様式-",L62,"）") -> #N/A
L63: =INDEX($B$27:$G$47,MATCH(N63,$C$27:$C$47,0),4) -> ９ | N63: =N13 -> 労働福祉（障がい者雇用） | O63: =CONCATENATE(" ○労働福祉関連の状況(a 障がい者雇用の実態) （様式-",L63,"）") -> ○労働福祉関連の状況(a 障がい者雇用の実態) （様式-９）
A64: ２．【技術資料（各種様式）の確認・修正事項】 | L64: =INDEX($B$27:$G$47,MATCH(N64,$C$27:$C$47,0),4) -> １０ | N64: =N14 -> 労働福祉（育児介護制度） | O64: =CONCATENATE(" ○労働福祉関連の状況(b 育児・介護休業に関する制度) （様式-",L64,"）") -> ○労働福祉関連の状況(b 育児・介護休業に関する制度) （様式-１０）
B65: ①技術資料の緑着色セルに正しく情報が転記されているか確認してください | L65: =INDEX($B$27:$G$47,MATCH(N65,$C$27:$C$47,0),4) -> １１ | N65: =N15 -> 育児介護チェック表 | O65: =CONCATENATE(" ○育児・介護休業に関する制度 チェック表 （様式-",L65,"）") -> ○育児・介護休業に関する制度 チェック表 （様式-１１）
B66: （転記されていない場合は、もう一度【表１～４】の入力条件を確認後、必要に応じ緑着色セルを直接入力により修正してください） | L66: =INDEX($B$27:$G$47,MATCH(N66,$C$27:$C$47,0),4) -> １２ | N66: =N16 -> 登録基幹技能者 | O66: =CONCATENATE(" ○登録基幹技能者の配置 （様式-",L66,"）") -> ○登録基幹技能者の配置 （様式-１２）
B67: ②技術資料の黄色着色セルに必要な情報を直接入力してください | L67: =INDEX($B$27:$G$47,MATCH(N67,$C$27:$C$47,0),4) -> #N/A | N67: =N17 -> 若手・中堅技術者配置 | O67: =CONCATENATE(" ○若手・中堅技術者の配置 （様式-",L67,"）") -> #N/A
B68: ③その他箇所の記載文や文字切れなど不備がないか確認し、必要に応じて修正してください | L68: =INDEX($B$27:$G$47,MATCH(N68,$C$27:$C$47,0),4) -> #N/A | N68: =N18 -> 若手技術者・従業員の新規雇用 | O68: =CONCATENATE(" ○若手技術者・若手従業員の新規雇用 （様式-",L68,"）") -> #N/A
L69: =INDEX($B$27:$G$47,MATCH(N69,$C$27:$C$47,0),4) -> #N/A | N69: =N19 -> 建設機械保有状況 | O69: =CONCATENATE(" ○建設機械の保有状況 （様式-",L69,"）") -> #N/A
A70: ３．【評価基準の確認】 | L70: =INDEX($B$27:$G$47,MATCH(N70,$C$27:$C$47,0),4) -> #N/A | N70: =N20 -> 消防団協力事業所 | O70: =CONCATENATE(" ○消防団協力事業所の認定 （様式-",L70,"）") -> #N/A
B71: ①「発注者設定内容確認シート」で入札説明書に記載した内容と様式に記載した内容が一致しているか確認してください | L71: =INDEX($B$27:$G$47,MATCH(N71,$C$27:$C$47,0),4) -> #N/A | N71: =N21 -> CCUSの活用 | O71: =CONCATENATE(" ○建設キャリアアップシステム（CCUS）の活用 （様式-",L71,"）") -> #N/A
L72: =INDEX($B$27:$G$47,MATCH(N72,$C$27:$C$47,0),4) -> #N/A | N72: =N22 -> ＩＣＴ活用工事施工実績 | O72: =CONCATENATE(" ○ＩＣＴ活用工事の施工実績 （様式-",L72,"）") -> #N/A
A73: ４．【PPI掲載用ファイルの作成】 | L73: =INDEX($B$27:$G$47,MATCH(N73,$C$27:$C$47,0),4) -> #N/A | N73: =N23 -> 海上援助活動 | O73: =CONCATENATE(" ○海上援助活動の実績 （様式-",L73,"）") -> #N/A
B74: ①PPI掲載用ファイルを別ファイルで作成してください（シート削除するとシートの復活できないので、必ず削除作業前に別ファイルを作成してください） | L74: =INDEX($B$27:$G$47,MATCH(N74,$C$27:$C$47,0),4) -> #N/A | N74: =N24 -> 応急危険度判定士 | O74: =CONCATENATE(" ○島根県地震被災建築物応急危険度判定士の登録 （様式-",L74,"）") -> #N/A
B75: ②不要な技術資料様式は、シート毎削除してください | L75: =INDEX($B$27:$G$47,MATCH(N75,$C$27:$C$47,0),4) -> #N/A | N75: =N25 -> - | O75: 対象外
B76: ③収受印を発行しない様式は、破線以下を全て削除してください | L76: =INDEX($B$27:$G$47,MATCH(N76,$C$27:$C$47,0),4) -> #N/A | N76: - | O76: 対象外
B77: ④「企業入力シート」の「３提出資料確認欄」について、不要項目などを削除・修正してください | L77: =INDEX($B$27:$G$47,MATCH(N77,$C$27:$C$47,0),4) -> #N/A | N77: 0 | O77: 表３【地域貢献・その他】評価項目の着色セルに項目を記入した場合、ここに記載文を直接入力！
B78: （収受印を発行しない発注機関は、「３提出資料確認欄」を全て削除） | L78: =INDEX($B$27:$G$47,MATCH(N78,$C$27:$C$47,0),4) -> #N/A | M78: 地理的条件 | N78: =O6 -> 近隣施工実績 | O78: =CONCATENATE(" ○地理的条件（近隣地域での施工実績） （様式-",L78,"）") -> #N/A
L79: =INDEX($B$27:$G$47,MATCH(N79,$C$27:$C$47,0),4) -> １３ | N79: =O7 -> 会社所在地 | O79: =CONCATENATE(" ○地理的条件（会社所在地） （様式-",L79,"）") -> ○地理的条件（会社所在地） （様式-１３）
A80: ５．【技術審査（競争参加資格委員会）の準備作業】 | L80: =INDEX($B$27:$G$47,MATCH(N80,$C$27:$C$47,0),4) -> #N/A | N80: =O8 -> 工場・会社所在地 | O80: =CONCATENATE(" ○地理的条件（橋梁用桁製作の機能を有する工場及び建設業法上の営業所所在地） （様式-",L80,"）") -> #N/A
B81: ①「発注者審査作業用」シートに記載されている表中の不要な項目の列全体を削除してください | L81: =INDEX($B$27:$G$47,MATCH(N81,$C$27:$C$47,0),4) -> #N/A | N81: =O9 -> サポート拠点 | O81: =CONCATENATE(" ○地理的条件（サポート拠点の所在地及び技術者の在籍） （様式-",L81,"）") -> #N/A
B82: （文字のサイズ、セルの結合、列幅の調整などは、「技術審査用ファイル」で行うため、「発注者作業用シート」では、体裁を整える必要はありません） | L82: =INDEX($B$27:$G$47,MATCH(N82,$C$27:$C$47,0),4) -> #N/A | N82: =O10 -> - | O82: 対象外
L83: =INDEX($B$27:$G$47,MATCH(N83,$C$27:$C$47,0),4) -> #N/A | N83: =O11 -> 0 | O83: 表３【地理的条件】評価項目の着色セルに項目を記入した場合、ここに記載文を直接入力！
B84: ※「発注者審査作業用」シート
B85: 企業の申請内容を数式でリンクさせて評価項目毎に一覧表で整理。指定された範囲を「技術審査用ファイル」の「作業用シート」に一括コピーすることで、
B86: 技術審査（競争参加資格委員会）や入札結果調書を簡単に作成することが可能
B88: ※技術審査用ファイル
B89: このファイルの「発注者作業用シート」から各企業の申請内容を一括コピーし、「技術審査用ファイル」で集計することで、技術審査（競争参加資格委員会）
B90: 用の資料や入札結果調書が簡単に作成可能
A92: ＜発注準備から入札結果調書作成までの全体イメージ＞

Sheet 企業入力シート
A1: 特別共同企業体情報
A2: 1.企業体情報
A3: 表のC列（赤枠内）に企業体情報を入力してください。入力した情報は、各種様式に反映されます。
B4: 項目名 | C4: 企業情報記入欄
A5: 1 | B5: 企業体名 | C5: ○○共同企業体
A7: 代表者（第１グループ）
A8: 1.企業情報
A9: 表のC列（赤枠内）に企業情報を入力してください。入力した情報は、各種様式に反映されます。
B10: 項目名 | C10: 企業情報記入欄
A11: 1 | B11: 提出日 | D11: ←ｙｙｙｙ/m/dで入力
A12: 2
A13: 3 | B13: 住所
A14: 4 | B14: 商号又は名称 | C14: ○○建設
A15: 5 | B15: 代表者 | C15: ○○ ○○
A16: 6 | B16: 担当者
A17: 7 | B17: 部署
A18: 8 | B18: 電話番号
A19: 9 | B19: ＦＡＸ番号
A20: 10 | B20: Ｅ－mail
A22: 2.配置予定技術者の氏名
A23: 表のC・D列（赤枠内）に配置予定技術者情報を入力してください。入力した情報は、各種様式に反映されます。
B24: 配置予定技術者 | C24: 氏名記入欄 | D24: 生年月日
A25: 1 | B25: 配置予定技術者① | E25: ←ｙｙｙｙ/m/dで入力
A26: 2 | B26: 配置予定技術者② | E26: ←ｙｙｙｙ/m/dで入力
A27: 3 | B27: 配置予定技術者③ | E27: ←ｙｙｙｙ/m/dで入力
A29: 3.事前審査・証明書による申請
A30: 事前審査・証明書で提出する評価項目がある場合、該当するものに「○」を入力してください。事前審査・証明書で提出する項目については、技術資料及び添付資料を提出する必要はありません。
A31: 下欄の入力内容は「表紙」シートに反映されます。
A32: =COUNTA(B33:B42) -> 0 | B32: 証明書での提出 | C32: 項目 | K32: ○
A33: =COUNTA(B33) -> 0 | C33: 【土木一式】企業の工事成績評定点（県）
A34: =COUNTA($B$33:B34) -> 0 | C34: 【舗装】企業の工事成績評定点（県）
A35: =COUNTA($B$33:B35) -> 0 | C35: 【法面】企業の工事成績評定点（県）
A36: =COUNTA($B$33:B36) -> 0 | C36: 【港湾】企業の工事成績評定点（県）
A37: =COUNTA($B$33:B37) -> 0 | C37: 防災協定の締結実績
A38: =COUNTA($B$33:B38) -> 0 | C38: 家畜伝染病防疫協定の締結実績
A39: =COUNTA($B$33:B39) -> 0 | C39: ボランティア活動又はハートフルしまねへの参加実績
A40: =COUNTA($B$33:B40) -> 0 | C40: 維持管理業務等の契約実績（県）
A41: =COUNTA($B$33:B41) -> 0 | C41: 除雪業務の契約実績（県）
A42: =COUNTA($B$33:B42) -> 0 | C42: 労働福祉関連（育児介護・こっころ）
A44: 構成員（第２グループ）
A45: 1.企業情報
A46: 表のC列（赤枠内）に企業情報を入力してください。入力した情報は、各種様式に反映されます。
B47: 項目名 | C47: 企業情報記入欄
A48: 1 | B48: 商号又は名称 | C48: △△建設
A49: 2 | B49: 代表者 | C49: △△ △△
A51: 2.配置予定技術者の氏名
A52: 表のC・D列（赤枠内）に配置予定技術者情報を入力してください。入力した情報は、各種様式に反映されます。
B53: 配置予定技術者 | C53: 氏名記入欄 | D53: 生年月日
A54: 1 | B54: 配置予定技術者① | E54: ←ｙｙｙｙ/m/dで入力
A55: 2 | B55: 配置予定技術者② | E55: ←ｙｙｙｙ/m/dで入力
A56: 3 | B56: 配置予定技術者③ | E56: ←ｙｙｙｙ/m/dで入力
A58: 3.事前審査・証明書による申請
A59: 事前審査・証明書で提出する評価項目がある場合、該当するものに「○」を入力してください。事前審査・証明書で提出する項目については、技術資料及び添付資料を提出する必要はありません。
A60: 下欄の入力内容は「表紙」シートに反映されます。
A61: =COUNTA(B62:B71) -> 0 | B61: 証明書での提出 | C61: 項目 | K61: ○
A62: =COUNTA(B62) -> 0 | C62: 【土木一式】企業の工事成績評定点（県） | L62: =COUNTA(B33,B62) -> 0
A63: =COUNTA($B$62:B63) -> 0 | C63: 【舗装】企業の工事成績評定点（県） | L63: =COUNTA(B34,B63) -> 0
A64: =COUNTA($B$62:B64) -> 0 | C64: 【法面】企業の工事成績評定点（県） | L64: =COUNTA(B35,B64) -> 0
A65: =COUNTA($B$62:B65) -> 0 | C65: 【港湾】企業の工事成績評定点（県） | L65: =COUNTA(B36,B65) -> 0
A66: =COUNTA($B$62:B66) -> 0 | C66: 防災協定の締結実績 | L66: =COUNTA(B37,B66) -> 0
A67: =COUNTA($B$62:B67) -> 0 | C67: 家畜伝染病防疫協定の締結実績 | L67: =COUNTA(B38,B67) -> 0
A68: =COUNTA($B$62:B68) -> 0 | C68: ボランティア活動又はハートフルしまねへの参加実績 | L68: =COUNTA(B39,B68) -> 0
A69: =COUNTA($B$62:B69) -> 0 | C69: 維持管理業務等の契約実績（県） | L69: =COUNTA(B40,B69) -> 0
A70: =COUNTA($B$62:B70) -> 0 | C70: 除雪業務の契約実績（県） | L70: =COUNTA(B41,B70) -> 0
A71: =COUNTA($B$62:B71) -> 0 | C71: 労働福祉関連（育児介護・こっころ） | L71: =COUNTA(B42,B71) -> 0
L72: ↑作業用の判定式（消さないでください。）

Sheet ファイル使用上の注意事項
A1: 技術資料作成用エクセル形式の電子ファイル使用上の注意事項
A3: ○技術資料【PDF形式】と参考資料【本エクセル形式】の位置づけについて
A4: (1) | B4: 本エクセル形式で作成したデータをPDF形式に変換したものを「技術資料」として、提出しなければなりません。 （提出：必須）
A6: (2) | B6: 本エクセル形式は、発注者が技術資料の審査を行う際に「参考資料」として使用しますので、提出の協力をお願いします。 本エクセル形式のみの提出をもって、技術資料を提出したことにはなりませんので、ご注意ください。
A11: ○エクセル形式使用時及び技術資料提出時の注意事項について
A12: (1) | B12: 行高・列幅不足により文字切れや「＃＃＃＃」表示で出力されていないか、提出する前に必ず印刷物で確認してください。
A14: (2) | B14: 文字切れや「＃＃＃＃」表示になっている場合、行高・列幅を広げる、文字を縮小して表示させるなど調整してください。
A16: (3) | B16: 発注者専用シート（シート名が赤色シート）には触れないでください。
A17: (4) | B17: 記入しない様式があっても、シートは絶対に削除しないでください。
A18: (5) | B18: 各様式の企業直接入力欄（青色着色セル）に記入する際、結合されたセルは絶対に解除しないでください。
A20: (6) | B20: 技術資料様式は、「ページ設定」で「白黒印刷」と「印刷範囲」を設定していますので、画面表示の着色セルも白色で印刷されます。
A22: (7) | B22: 技術提案や施工上の留意点の様式に図や表など貼り付けないで下さい。図や表を用いる場合は、必ず別ファイル（PDFファイル）で提出してください。
A24: (8) | B24: 「技術提案」、「施工上の留意点」様式は、提案記入欄より上部を印刷タイトルの設定で固定していますので、提出資料が複数ページに跨る場合、固定部分は全てのページで自動的に表示されます。
A27: ○数式に不具合があった場合の対応について
A28: (1) | B28: 本エクセル形式に設定されている数式に不具合があり、正しく表示されない場合がありましたら、直接セルに正しいものを記入してください。
A31: ○技術資料の審査について
A32: (1) | B32: 発注者は、技術資料【PDF形式】に記載された内容により審査しますので、提出書類に記載漏れ、添付漏れ、文字切れ等の不備がないか必ず確認してください。
A35: ○本エクセル形式のシート名着色の区分について
A36: シート名着色の区分は次のとおりです
B37: ：発注者専用シート（企業は入力厳禁です！！）
B38: ：企業専用シート（企業入力シート（申請企業の基本情報を入力）、質問書など）
B40: ：技術資料様式の表紙シート、ファイル使用上の注意事項シート
B41: ：「技術提案」、「施工上の留意点」様式シート
B42: ：「企業の評価」様式シート
B43: ：「配置予定技術者」様式シート
B44: ：「地域貢献・その他の評価」様式シート
B45: ：「地理的条件の評価」様式シート
A47: ○技術資料様式の凡例について
A48: 技術資料様式のセルの着色の凡例は次の通りです
A49: 着色セルの凡例
A50: （企業）
B51: ：「企業入力シート」で入力した情報が表示される箇所（数式でリンク有）
B52: ：セルに直接入力が必要な箇所
A54: （発注者）
B55: ：「発注者入力シート」や他のシートで入力した情報が表示される箇所（数式でリンク有）
B56: ：セルに直接入力が必要な箇所
A58: （企業・発注者共通事項）
B59: ：同じシート内で入力した情報が表示される箇所（数式でリンク有）

Sheet 発注者設定内容確認シート
A1: 入札公告日： | D1: =発注者入力シート!C7 -> 46290
A2: 工事名： | D2: =発注者入力シート!C10 -> 国道３７５号（両国トンネル）防安交付金（照明LED化）トンネル照明設備工事
A3: 不要な項目は、非表示にしてください（行の削除厳禁）
A4: 発注者入力シートで選択していない項目は、エラー表示になります
A5: 評価項目番号 | D5: 区分 | E5: 評価項目 | F5: 評価対象事項 | G5: 評価基準（様式記載内容）
A6: =発注者入力シート!F20 -> 0 | B6: - | C6: =発注者入力シート!G20 -> 0 | D6: 技術提案 | E6: =IF(技術提案①!B5="","",技術提案①!B5)
A7: =発注者入力シート!F21 -> 0 | B7: - | C7: =発注者入力シート!G21 -> 0 | E7: =IF(技術提案②!B5="","",技術提案②!B5)
A8: =発注者入力シート!F22 -> 0 | B8: - | C8: =発注者入力シート!G22 -> 0 | E8: =IF(技術提案③!B5="","",技術提案③!B5)
A9: =発注者入力シート!F23 -> 0 | B9: - | C9: =発注者入力シート!G23 -> 0 | E9: =IF(技術提案④!B5="","",技術提案④!B5)
A10: =発注者入力シート!F24 -> 0 | B10: - | C10: =発注者入力シート!G24 -> 0 | E10: =IF(技術提案⑤!B5="","",技術提案⑤!B5)
A11: =発注者入力シート!F25 -> 0 | B11: - | C11: =発注者入力シート!G25 -> 0 | E11: =IF(技術提案ｂ①!B5="","",技術提案ｂ①!B5)
A12: =発注者入力シート!F26 -> 0 | B12: - | C12: =発注者入力シート!G26 -> 0 | E12: =IF(技術提案ｂ②!B5="","",技術提案ｂ②!B5)
A13: =INDEX(発注者入力シート!$B$27:$G$31,MATCH(発注者入力シート!L6,発注者入力シート!$C$27:$C$31,0),5) -> （１） | B13: - | C13: =INDEX(発注者入力シート!$B$27:$G$31,MATCH(発注者入力シート!L6,発注者入力シート!$C$27:$C$31,0),6) -> ① | D13: 企業 | E13: 工事成績(JV3年用) | F13: 完成年度 | G13: =IF('企業成績評定点 (JV3年用)'!G6="","",'企業成績評定点 (JV3年用)'!G6) -> 令和５年度から令和７年度（完成及び引き渡しが完了）
A14: =A13 -> （１） | B14: - | C14: =C13 -> ① | F14: 発注機関 | G14: =IF('企業成績評定点 (JV3年用)'!G7="","",'企業成績評定点 (JV3年用)'!G7) -> 島根県（総務部、農林水産部、土木部）
A15: =A13 -> （１） | B15: - | C15: =C13 -> ① | F15: 工事種別 | G15: =IF('企業成績評定点 (JV3年用)'!G8="","",'企業成績評定点 (JV3年用)'!G8) -> 電気工事
A16: =A13 -> （１） | B16: - | C16: =C13 -> ① | F16: 建設工事の種類 | G16: =IF('企業成績評定点 (JV3年用)'!G9="","",'企業成績評定点 (JV3年用)'!G9) -> 電気工事
A17: =INDEX(発注者入力シート!$B$27:$G$31,MATCH(発注者入力シート!L6,発注者入力シート!$C$27:$C$31,0),5) -> （１） | B17: - | C17: =INDEX(発注者入力シート!$B$27:$G$31,MATCH(発注者入力シート!L6,発注者入力シート!$C$27:$C$31,0),6) -> ① | D17: 企業 | E17: 工事成績(JV5年用) | F17: 完成年度 | G17: =IF('企業成績評定点 (JV5年用) '!D7="","",'企業成績評定点 (JV5年用) '!D7) -> 令和３年度から令和７年度（完成及び引き渡しが完了）
A18: =A17 -> （１） | B18: - | C18: =C17 -> ① | F18: 発注機関 | G18: =IF('企業成績評定点 (JV5年用) '!D8="","",'企業成績評定点 (JV5年用) '!D8) -> 島根県（総務部、農林水産部、土木部）
A19: =A17 -> （１） | B19: - | C19: =C17 -> ① | F19: 工事種別 | G19: =IF('企業成績評定点 (JV5年用) '!D9="","",'企業成績評定点 (JV5年用) '!D9) -> 電気工事、維持修繕工事
A20: =A17 -> （１） | B20: - | C20: =C17 -> ① | F20: 建設工事の種類 | G20: =IF('企業成績評定点 (JV5年用) '!D10="","",'企業成績評定点 (JV5年用) '!D10) -> 電気工事
A21: =INDEX(発注者入力シート!$B$27:$G$31,MATCH(発注者入力シート!L7,発注者入力シート!$C$27:$C$31,0),5) -> （１） | B21: - | C21: =INDEX(発注者入力シート!$B$27:$G$31,MATCH(発注者入力シート!L7,発注者入力シート!$C$27:$C$31,0),6) -> ② | D21: 企業 | E21: 同種工事実績 | F21: 対象年度・機関等 | G21: =IF(同種工事施工実績!F6="","",同種工事施工実績!F6) -> 平成２８年度から入札公告日前日までに完成及び引き渡しが完了した島根県及び中国地方整備局発注工事
A22: =A21 -> （１） | B22: - | C22: =C21 -> ② | F22: 同種工事 | G22: =IF(同種工事施工実績!F10="","",同種工事施工実績!F10) -> １契約で最終数量９７台以上の道路トンネル照明器具設置（新設又は更新）を含む完成及び引き渡しが完了した工事
A23: =A22 -> （１） | B23: - | C23: =C22 -> ② | F23: 工事種別 | G23: =IF(同種工事施工実績!F8="","",同種工事施工実績!F8) -> 電気工事、維持修繕工事
A24: =A23 -> （１） | B24: - | C24: =C23 -> ② | F24: 建設工事の種類 | G24: =IF(同種工事施工実績!F9="","",同種工事施工実績!F9) -> 電気工事
A25: =INDEX(発注者入力シート!$B$27:$G$31,MATCH(発注者入力シート!L8,発注者入力シート!$C$27:$C$31,0),5) -> （１） | B25: - | C25: =INDEX(発注者入力シート!$B$27:$G$31,MATCH(発注者入力シート!L8,発注者入力シート!$C$27:$C$31,0),6) -> ③ | D25: 企業 | E25: 優良工事表彰 | F25: 対象年度・機関等 | G25: =IF(優良工事表彰!E6="","",優良工事表彰!E6) -> 島根県内の公共事業において、令和４年度から令和８年度に、島根県及び中国地方整備局発注工事で受けた優良工事表彰（優良工事施工団体表彰）
A26: =A25 -> （１） | B26: =B25 -> - | C26: =C25 -> ③ | F26: 工事種別 | G26: =IF(優良工事表彰!E9="","",優良工事表彰!E9) -> 電気工事
A27: =A26 -> （１） | B27: =B26 -> - | C27: =C26 -> ③ | F27: 建設工事の種類 | G27: =IF(優良工事表彰!E10="","",優良工事表彰!E10) -> 電気工事
A28: =INDEX(発注者入力シート!$B$27:$G$31,MATCH(発注者入力シート!L8,発注者入力シート!$C$27:$C$31,0),5) -> （１） | B28: - | C28: =INDEX(発注者入力シート!$B$27:$G$31,MATCH(発注者入力シート!L8,発注者入力シート!$C$27:$C$31,0),6) -> ③ | D28: 企業 | E28: 優良工事表彰(JV) | F28: 対象年度・機関等 | G28: =IF('優良工事表彰 (JV) '!A6="","",'優良工事表彰 (JV) '!A6) -> 島根県内の公共事業において、令和４年度から令和８年度に、島根県及び中国地方整備局発注工事で受けた優良工事表彰（優良工事施工団体表彰）
A29: =INDEX(発注者入力シート!$B$32:$G$35,MATCH(発注者入力シート!M9,発注者入力シート!$C$32:$C$35,0),5) -> （２） | B29: - | C29: =INDEX(発注者入力シート!$B$32:$G$35,MATCH(発注者入力シート!M9,発注者入力シート!$C$32:$C$35,0),6) -> ① | D29: 配置予定技術者 | E29: 継続学習
A30: =INDEX(発注者入力シート!$B$32:$G$35,MATCH(発注者入力シート!M6,発注者入力シート!$C$32:$C$35,0),5) -> #N/A | B30: - | C30: =INDEX(発注者入力シート!$B$32:$G$35,MATCH(発注者入力シート!M6,発注者入力シート!$C$32:$C$35,0),6) -> #N/A | D30: 配置予定技術者 | E30: 資格 | F30: 対象資格 | G30: =IF(技術者資格!B9="","",技術者資格!B9) -> 1級土木施工管理技士又は1級建設機械施工技士
A31: =INDEX(発注者入力シート!$B$32:$G$35,MATCH(発注者入力シート!M7,発注者入力シート!$C$32:$C$35,0),5) -> （２） | B31: - | C31: =INDEX(発注者入力シート!$B$32:$G$35,MATCH(発注者入力シート!M7,発注者入力シート!$C$32:$C$35,0),6) -> ② | D31: 配置予定技術者 | E31: 施工経験 | F31: 対象年度・機関等 | G31: =IF(同種工事施工経験!F6="","",同種工事施工経験!F6) -> 平成２８年度から入札公告日前日までに完成及び引き渡しが完了した島根県及び中国地方整備局発注工事
A32: =A31 -> （２） | B32: - | C32: =C31 -> ② | F32: 同種工事 | G32: =IF(同種工事施工経験!F8="","",同種工事施工経験!F8) -> １契約で最終数量９７台以上の道路トンネル照明器具設置（新設又は更新）を含む完成及び引き渡しが完了した工事
A33: =A32 -> （２） | B33: - | C33: =C32 -> ② | F33: 工事種別 | G33: =IF(同種工事施工経験!F11="","",同種工事施工経験!F11) -> 電気工事、維持修繕工事
A34: =A33 -> （２） | B34: - | C34: =C33 -> ② | F34: 建設工事の種類 | G34: =IF(同種工事施工経験!F12="","",同種工事施工経験!F12) -> 電気工事
A35: =INDEX(発注者入力シート!$B$32:$G$35,MATCH(発注者入力シート!M8,発注者入力シート!$C$32:$C$35,0),5) -> （２） | B35: - | C35: =INDEX(発注者入力シート!$B$32:$G$35,MATCH(発注者入力シート!M8,発注者入力シート!$C$32:$C$35,0),6) -> ③ | D35: 配置予定技術者 | E35: 優秀建設技術者表彰 | F35: 対象年度・機関等 | G35: =IF(優秀技術者表彰!E6="","",優秀技術者表彰!E6) -> 島根県内の公共事業において、令和４年度から令和８年度に、島根県及び中国地方整備局発注工事で主任（監理）技術者または現場代理人として受けた優秀建設技術者表彰
A36: =A35 -> （２） | B36: =B35 -> - | C36: =C35 -> ③ | F36: 工事種別 | G36: =IF(優秀技術者表彰!E9="","",優秀技術者表彰!E9) -> 電気工事
A37: =A36 -> （２） | B37: =B36 -> - | C37: =C36 -> ③ | F37: 建設工事の種類 | G37: =IF(優秀技術者表彰!E10="","",優秀技術者表彰!E10) -> 電気工事
A38: =INDEX(発注者入力シート!$B$32:$G$35,MATCH(発注者入力シート!M10,発注者入力シート!$C$32:$C$35,0),5) -> #N/A | B38: - | C38: =INDEX(発注者入力シート!$B$32:$G$35,MATCH(発注者入力シート!M10,発注者入力シート!$C$32:$C$35,0),6) -> #N/A | D38: 配置予定技術者 | E38: 配置予定技術者の工事成績評定点(JV) | F38: 完成年度 | G38: =IF('技術者成績評定点 (第1G用) '!F7="","",'技術者成績評定点 (第1G用) '!F7) -> 令和３年度から令和７年度に完成及び引き渡しが完了した工事
A39: =A38 -> #N/A | B39: - | C39: =C38 -> #N/A | F39: 発注機関 | G39: =IF('技術者成績評定点 (第1G用) '!F8="","",'技術者成績評定点 (第1G用) '!F8) -> 島根県（総務部、農林水産部、土木部）
A40: =A38 -> #N/A | B40: - | C40: =C38 -> #N/A | F40: 工事種別 | G40: =IF('技術者成績評定点 (第1G用) '!F9="","",'技術者成績評定点 (第1G用) '!F9) -> 電気工事、維持修繕工事
A41: =A38 -> #N/A | B41: - | C41: =C38 -> #N/A | F41: 建設工事の種類 | G41: =IF('技術者成績評定点 (第1G用) '!F10="","",'技術者成績評定点 (第1G用) '!F10) -> 電気工事
A42: =INDEX(発注者入力シート!$B$36:$G$45,MATCH(発注者入力シート!N6,発注者入力シート!$C$36:$C$45,0),5) -> #N/A | B42: - | C42: =INDEX(発注者入力シート!$B$36:$G$45,MATCH(発注者入力シート!N6,発注者入力シート!$C$36:$C$45,0),6) -> #N/A | D42: 地域貢献・その他 | E42: 防災協定 | F42: 対象 | G42: =IF(防災協定!B8="","",防災協定!B8) -> 令和６年度及び令和７年度における島根県との防災協定の締結実績
A43: =INDEX(発注者入力シート!$B$36:$G$45,MATCH(発注者入力シート!N7,発注者入力シート!$C$36:$C$45,0),5) -> #N/A | B43: - | C43: =INDEX(発注者入力シート!$B$36:$G$45,MATCH(発注者入力シート!N7,発注者入力シート!$C$36:$C$45,0),6) -> #N/A | D43: 地域貢献・その他 | E43: BCP&防災協定 | F43: 対象 | G43: =IF('BCP&防災協定'!B10="","",'BCP&防災協定'!B10) -> 入札公告日前日時点（令和8年9月24日時点）での事業継続計画（BCP）の認定状況
A44: =A43 -> #N/A | B44: - | C44: =C43 -> #N/A | F44: 対象 | G44: =IF('BCP&防災協定'!B18="","",'BCP&防災協定'!B18) -> 令和６年度及び令和７年度における島根県との防災協定の締結実績
A45: =INDEX(発注者入力シート!$B$36:$G$45,MATCH(発注者入力シート!N7,発注者入力シート!$C$36:$C$45,0),5) -> #N/A | B45: - | C45: =INDEX(発注者入力シート!$B$36:$G$45,MATCH(発注者入力シート!N7,発注者入力シート!$C$36:$C$45,0),6) -> #N/A | D45: 地域貢献・その他 | E45: BCP&防災協定(JV) | F45: 対象 | G45: =IF('BCP&防災協定 (JV用)'!B7="","",'BCP&防災協定 (JV用)'!B7) -> 入札公告日前日時点（令和8年9月24日時点）での事業継続計画（BCP）の認定状況
A46: =A45 -> #N/A | B46: - | C46: =C45 -> #N/A | F46: 対象 | G46: =IF('BCP&防災協定 (JV用)'!B15="","",'BCP&防災協定 (JV用)'!B15) -> 令和６年度及び令和７年度における島根県との防災協定の締結実績
A47: =INDEX(発注者入力シート!$B$36:$G$45,MATCH(発注者入力シート!N8,発注者入力シート!$C$36:$C$45,0),5) -> #N/A | B47: - | C47: =INDEX(発注者入力シート!$B$36:$G$45,MATCH(発注者入力シート!N8,発注者入力シート!$C$36:$C$45,0),6) -> #N/A | D47: 地域貢献・その他 | E47: 家畜伝染病防疫協定 | F47: 対象 | G47: =IF(家畜伝染防疫協定!B8="","",家畜伝染防疫協定!B8) -> 令和６年度及び令和７年度における島根県との家畜伝染病防疫協定の締結実績
A48: =INDEX(発注者入力シート!$B$36:$G$45,MATCH(発注者入力シート!N9,発注者入力シート!$C$36:$C$45,0),5) -> #N/A | B48: - | C48: =INDEX(発注者入力シート!$B$36:$G$45,MATCH(発注者入力シート!N9,発注者入力シート!$C$36:$C$45,0),6) -> #N/A | D48: 地域貢献・その他 | E48: BCP&家畜伝染防疫病協定 | F48: 対象 | G48: =IF('BCP&家畜伝染病防疫協定'!B10="","",'BCP&家畜伝染病防疫協定'!B10) -> 入札公告日前日時点（令和8年9月24日時点）での事業継続計画（BCP）の認定状況
A49: =A48 -> #N/A | B49: - | C49: =C48 -> #N/A | F49: 対象 | G49: =IF('BCP&家畜伝染病防疫協定'!B17="","",'BCP&家畜伝染病防疫協定'!B17) -> 令和６年度及び令和７年度における島根県との家畜伝染病防疫協定の締結実績
A50: =INDEX(発注者入力シート!$B$36:$G$45,MATCH(発注者入力シート!N9,発注者入力シート!$C$36:$C$45,0),5) -> #N/A | B50: - | C50: =INDEX(発注者入力シート!$B$36:$G$45,MATCH(発注者入力シート!N9,発注者入力シート!$C$36:$C$45,0),6) -> #N/A | D50: 地域貢献・その他 | E50: BCP&家畜伝染防疫病協定(JV) | F50: 対象 | G50: =IF('BCP&家畜伝染病防疫協定 (JV用)'!B7="","",'BCP&家畜伝染病防疫協定 (JV用)'!B7) -> 入札公告日前日時点（令和8年9月24日時点）での事業継続計画（BCP）の認定状況
A51: =A50 -> #N/A | B51: - | C51: =C50 -> #N/A | F51: 対象 | G51: =IF('BCP&家畜伝染病防疫協定 (JV用)'!B15="","",'BCP&家畜伝染病防疫協定 (JV用)'!B15) -> 令和６年度及び令和７年度における島根県との家畜伝染病防疫協定の締結実績
A52: =INDEX(発注者入力シート!$B$36:$G$45,MATCH(発注者入力シート!N10,発注者入力シート!$C$36:$C$45,0),5) -> （３） | B52: - | C52: =INDEX(発注者入力シート!$B$36:$G$45,MATCH(発注者入力シート!N10,発注者入力シート!$C$36:$C$45,0),6) -> ① | D52: 地域貢献・その他 | E52: ボランティア | F52: 対象 | G52: =IF(ボランティア!B6="","",ボランティア!B6) -> 令和６年度及び令和７年度における島根県内で実施されたボランティア活動又はハートフルしまねへの参加実績
A53: =INDEX(発注者入力シート!$B$36:$G$45,MATCH(発注者入力シート!N10,発注者入力シート!$C$36:$C$45,0),5) -> （３） | B53: - | C53: =INDEX(発注者入力シート!$B$36:$G$45,MATCH(発注者入力シート!N10,発注者入力シート!$C$36:$C$45,0),6) -> ① | D53: 地域貢献・その他 | E53: ボランティア(JV) | F53: 対象 | G53: =IF('ボランティア (JV)'!B7="","",'ボランティア (JV)'!B7) -> 令和６年度及び令和７年度における島根県内で実施されたボランティア活動又はハートフルしまねへの参加実績
A54: =INDEX(発注者入力シート!$B$36:$G$45,MATCH(発注者入力シート!N11,発注者入力シート!$C$36:$C$45,0),5) -> #N/A | B54: - | C54: =INDEX(発注者入力シート!$B$36:$G$45,MATCH(発注者入力シート!N11,発注者入力シート!$C$36:$C$45,0),6) -> #N/A | D54: 地域貢献・その他 | E54: 維持管理業務 | F54: 対象 | G54: =IF(維持管理業務!B7="","",維持管理業務!B7) -> 令和６年度及び令和７年度の県管理公共土木施設に関する維持管理業務または海岸漂着物の回収業務の契約実績
A55: =INDEX(発注者入力シート!$B$36:$G$45,MATCH(発注者入力シート!N11,発注者入力シート!$C$36:$C$45,0),5) -> #N/A | B55: - | C55: =INDEX(発注者入力シート!$B$36:$G$45,MATCH(発注者入力シート!N11,発注者入力シート!$C$36:$C$45,0),6) -> #N/A | D55: 地域貢献・その他 | E55: 維持管理業務(JV) | F55: 対象 | G55: =IF('維持管理業務 (JV)'!B7="","",'維持管理業務 (JV)'!B7) -> 令和６年度及び令和７年度の県管理公共土木施設に関する維持管理業務または海岸漂着物の回収業務の契約実績
A56: =INDEX(発注者入力シート!$B$36:$G$45,MATCH(発注者入力シート!N12,発注者入力シート!$C$36:$C$45,0),5) -> #N/A | B56: - | C56: =INDEX(発注者入力シート!$B$36:$G$45,MATCH(発注者入力シート!N12,発注者入力シート!$C$36:$C$45,0),6) -> #N/A | D56: 地域貢献・その他 | E56: 除雪業務 | F56: 対象 | G56: =IF(除雪業務!B8="","",除雪業務!B8) -> 令和６年度及び令和７年度の県管理道路・空港を含む除雪業務の契約実績
A57: =INDEX(発注者入力シート!$B$36:$G$45,MATCH(発注者入力シート!N12,発注者入力シート!$C$36:$C$45,0),5) -> #N/A | B57: - | C57: =INDEX(発注者入力シート!$B$36:$G$45,MATCH(発注者入力シート!N12,発注者入力シート!$C$36:$C$45,0),6) -> #N/A | D57: 地域貢献・その他 | E57: 除雪業務(JV) | F57: 対象 | G57: =IF('除雪業務 (JV)'!B8="","",'除雪業務 (JV)'!B8) -> 令和６年度及び令和７年度の県管理道路・空港を含む除雪業務の契約実績
A58: =INDEX(発注者入力シート!$B$36:$G$45,MATCH(発注者入力シート!N13,発注者入力シート!$C$36:$C$45,0),5) -> （３） | B58: - | C58: =INDEX(発注者入力シート!$B$36:$G$45,MATCH(発注者入力シート!N13,発注者入力シート!$C$36:$C$45,0),6) -> ② | D58: 地域貢献・その他 | E58: 労働福祉関連(JV) | F58: 障がい者雇用
A59: =INDEX(発注者入力シート!$B$36:$G$45,MATCH(発注者入力シート!N14,発注者入力シート!$C$36:$C$45,0),5) -> （３） | B59: - | C59: =INDEX(発注者入力シート!$B$36:$G$45,MATCH(発注者入力シート!N14,発注者入力シート!$C$36:$C$45,0),6) -> ② | F59: 育児・介護休業制度
A60: =INDEX(発注者入力シート!$B$36:$G$45,MATCH(発注者入力シート!N16,発注者入力シート!$C$36:$C$45,0),5) -> （３） | B60: - | C60: =INDEX(発注者入力シート!$B$36:$G$45,MATCH(発注者入力シート!N16,発注者入力シート!$C$36:$C$45,0),6) -> ③ | D60: 地域貢献・その他 | E60: 登録基幹技能者 | F60: 対象 | G60: =IF(登録基幹技能者!B9="","",登録基幹技能者!B9) -> 登録電気基幹技能者の現場への配置
A61: =INDEX(発注者入力シート!$B$36:$G$45,MATCH(発注者入力シート!N17,発注者入力シート!$C$36:$C$45,0),5) -> #N/A | B61: - | C61: =INDEX(発注者入力シート!$B$36:$G$45,MATCH(発注者入力シート!N17,発注者入力シート!$C$36:$C$45,0),6) -> #N/A | D61: 地域貢献・その他 | E61: 若手・中堅技術者配置 | F61: 対象 | G61: =IF(若手・中堅技術者の配置!B9="","",若手・中堅技術者の配置!B9) -> ４０歳未満の技術者を主任技術者又は監理技術者として配置
A62: =INDEX(発注者入力シート!$B$36:$G$45,MATCH(発注者入力シート!N18,発注者入力シート!$C$36:$C$45,0),5) -> #N/A | B62: - | C62: =INDEX(発注者入力シート!$B$36:$G$45,MATCH(発注者入力シート!N18,発注者入力シート!$C$36:$C$45,0),6) -> #N/A | D62: 地域貢献・その他 | E62: 若手技術者・若手従業員の新規雇用(JV) | F62: 対象 | G62: =IF('若手技術者・従業員新規雇用（JV)'!B7="","",'若手技術者・従業員新規雇用（JV)'!B7) -> 令和６年4月1日以降に、若手技術者・若手従業員（30歳未満の者）の１人以上の新規雇用があること。
A63: =INDEX(発注者入力シート!$B$36:$G$45,MATCH(発注者入力シート!N19,発注者入力シート!$C$36:$C$45,0),5) -> #N/A | B63: - | C63: =INDEX(発注者入力シート!$B$36:$G$45,MATCH(発注者入力シート!N19,発注者入力シート!$C$36:$C$45,0),6) -> #N/A | D63: 地域貢献・その他 | E63: 建設機械保有状況 | F63: 対象 | G63: =IF(建設機械の保有状況!B6="","",建設機械の保有状況!B6) -> 入札公告日前日時点（令和8年9月24日時点）で建設機械を３台以上保有もしくは長期リース契約していること
A64: =INDEX(発注者入力シート!$B$36:$G$45,MATCH(発注者入力シート!N20,発注者入力シート!$C$36:$C$45,0),5) -> #N/A | B64: - | C64: =INDEX(発注者入力シート!$B$36:$G$45,MATCH(発注者入力シート!N20,発注者入力シート!$C$36:$C$45,0),6) -> #N/A | D64: 地域貢献・その他 | E64: 消防団協力事業所
A65: =INDEX(発注者入力シート!$B$36:$G$45,MATCH(発注者入力シート!N21,発注者入力シート!$C$36:$C$45,0),5) -> #N/A | B65: - | C65: =INDEX(発注者入力シート!$B$36:$G$45,MATCH(発注者入力シート!N21,発注者入力シート!$C$36:$C$45,0),6) -> #N/A | D65: 地域貢献・その他 | E65: CCUSの活用 | F65: 対象 | G65: =IF('建設キャリアアップシステム(CCUS)'!B8="","",'建設キャリアアップシステム(CCUS)'!B8) -> 当該工事における建設キャリアアップシステム（CCUS）の活用することの確約
A66: =INDEX(発注者入力シート!$B$36:$G$45,MATCH(発注者入力シート!N22,発注者入力シート!$C$36:$C$45,0),5) -> #N/A | B66: - | C66: =INDEX(発注者入力シート!$B$36:$G$45,MATCH(発注者入力シート!N22,発注者入力シート!$C$36:$C$45,0),6) -> #N/A | D66: 地域貢献・その他 | E66: ＩＣＴ活用工事施工実績 | F66: 対象 | G66: =IF(ＩＣＴ施工実績!F9="","",ＩＣＴ施工実績!F9) -> 令和６年度から入札公告前日までに完成及び引き渡しが完了した島根県発注のＩＣＴ活用工事
A67: =A66 -> #N/A | B67: - | C67: =C66 -> #N/A | D67: 地域貢献・その他 | G67: =IF(ＩＣＴ施工実績!F11="","",ＩＣＴ施工実績!F11)
A68: =INDEX(発注者入力シート!$B$36:$G$45,MATCH(発注者入力シート!N23,発注者入力シート!$C$36:$C$45,0),5) -> #N/A | B68: - | C68: =INDEX(発注者入力シート!$B$36:$G$45,MATCH(発注者入力シート!N23,発注者入力シート!$C$36:$C$45,0),6) -> #N/A | D68: 地域貢献・その他 | E68: 海上援助活動の実績 | F68: 対象 | G68: =IF(【水産】海上援助活動!B8="","",【水産】海上援助活動!B8) -> 令和３年度から令和７年度における県内で発生した海難事故等に伴う海上援助活動の実績
A69: =INDEX(発注者入力シート!$B$46:$G$47,MATCH(発注者入力シート!O6,発注者入力シート!$C$46:$C$47,0),5) -> #N/A | B69: - | C69: =INDEX(発注者入力シート!$B$46:$G$47,MATCH(発注者入力シート!O6,発注者入力シート!$C$46:$C$47,0),6) -> #N/A | D69: 地理的条件 | E69: 近隣地域での施工実績 | F69: 対象年度・機関等 | G69: =IF(近隣施工実績!B10="","",近隣施工実績!B10) -> 令和６年度及び令和７年度に完成及び引き渡しが完了した島根県（総務部、農林水産部、土木部）発注の下記工事
A70: =A69 -> #N/A | B70: - | C70: =C69 -> #N/A | F70: 対象工事 | G70: =IF(近隣施工実績!F12="","",近隣施工実績!F12) -> （例）○○県土整備事務所管内における請負金額５００万以上（税込）の工事
A71: =A70 -> #N/A | B71: - | C71: =C70 -> #N/A | F71: 工事種別 | G71: =IF(近隣施工実績!F14="","",近隣施工実績!F14) -> 電気工事、維持修繕工事
A72: =A71 -> #N/A | B72: - | C72: =C71 -> #N/A | F72: 建設工事の種類 | G72: =IF(近隣施工実績!F15="","",近隣施工実績!F15) -> 電気工事
A73: =INDEX(発注者入力シート!$B$46:$G$47,MATCH(発注者入力シート!O7,発注者入力シート!$C$46:$C$47,0),5) -> （４） | B73: - | C73: =INDEX(発注者入力シート!$B$46:$G$47,MATCH(発注者入力シート!O7,発注者入力シート!$C$46:$C$47,0),6) -> ① | D73: 地理的条件 | E73: 会社所在地 | F73: 対象 | G73: =IF(会社所在地!B10="","",会社所在地!B10) -> 入札公告日前日において、県央県土整備事務所管内に建設業法で規定する主たる営業所（本店）または従たる営業所（支店、営業所）がある者
A74: =INDEX(発注者入力シート!$B$46:$G$47,MATCH(発注者入力シート!O8,発注者入力シート!$C$46:$C$47,0),5) -> #N/A | B74: - | C74: =INDEX(発注者入力シート!$B$46:$G$47,MATCH(発注者入力シート!O8,発注者入力シート!$C$46:$C$47,0),6) -> #N/A | D74: 地理的条件 | E74: 工場・会社所在地 | F74: 対象 | G74: =IF(【鋼橋上部】工場会社所在地!B10="","",【鋼橋上部】工場会社所在地!B10) -> 島根県内における建設業法で規定する主たる営業所（本店）または従たる営業所（支店、営業所）がある者及び橋梁用桁製作の機能を有する工場がある者
A75: =INDEX(発注者入力シート!$B$46:$G$47,MATCH(発注者入力シート!O9,発注者入力シート!$C$46:$C$47,0),5) -> #N/A | B75: - | C75: =INDEX(発注者入力シート!$B$46:$G$47,MATCH(発注者入力シート!O9,発注者入力シート!$C$46:$C$47,0),6) -> #N/A | D75: 地理的条件 | E75: サポート拠点 | F75: 対象 | G75: =IF(サポート拠点!B9="","",サポート拠点!B9) -> ○○内におけるサポート拠点の所在と技術者の在籍

Sheet 発注者審査作業用シート (技術提案)
A1: このシートは、「技術審査用ファイル」の「技術提案①～⑥」にコピー作業を行うためのものです
B2: 技術提案
B3: 技術提案① | C3: 技術提案② | D3: 技術提案③ | E3: 技術提案④ | F3: 技術提案⑤ | G3: 技術提案b① | H3: 技術提案b②
B4: =IF(技術提案①!B5="","",技術提案①!B5) | C4: =IF(技術提案②!B5="","",技術提案②!B5) | D4: =IF(技術提案③!B5="","",技術提案③!B5) | E4: =IF(技術提案④!B5="","",技術提案④!B5) | F4: =IF(技術提案⑤!B5="","",技術提案⑤!B5) | G4: =IF(技術提案ｂ①!B5="","",技術提案ｂ①!B5) | H4: =IF(技術提案ｂ②!B5="","",技術提案ｂ②!B5)
B8: =IF(技術提案①!A20="","",技術提案①!A20) -> ① ◯◯◯◯◯ （現場特性・概要） （時期、期間） （位置、範囲） （内容《誰が･何を･どうする》、数量、材料、機械等） （目的、効果、優位性） （効果の技術的根拠） （その他） | C8: =IF(技術提案②!A20="","",技術提案②!A20) -> ① ◯◯◯◯◯ （現場特性・概要） （時期、期間） （位置、範囲） （内容《誰が･何を･どうする》、数量、材料、機械等） （目的、効果、優位性） （効果の技術的根拠） （その他） | D8: =IF(技術提案③!A20="","",技術提案③!A20) -> ① ◯◯◯◯◯ （現場特性・概要） （時期、期間） （位置、範囲） （内容《誰が･何を･どうする》、数量、材料、機械等） （目的、効果、優位性） （効果の技術的根拠） （その他） | E8: =IF(技術提案④!A20="","",技術提案④!A20) -> ① ◯◯◯◯◯ （現場特性・概要） （時期、期間） （位置、範囲） （内容《誰が･何を･どうする》、数量、材料、機械等） （目的、効果、優位性） （効果の技術的根拠） （その他） | F8: =IF(技術提案⑤!A20="","",技術提案⑤!A20) -> ① ◯◯◯◯◯ （現場特性・概要） （時期、期間） （位置、範囲） （内容《誰が･何を･どうする》、数量、材料、機械等） （目的、効果、優位性） （効果の技術的根拠） （その他） | G8: =IF(技術提案ｂ①!B20="","",技術提案ｂ①!B20) -> 使用材料 | H8: =IF(技術提案ｂ②!B20="","",技術提案ｂ②!B20) -> 使用材料
B9: =IF(技術提案①!A27="","",技術提案①!A27) -> ② ◯◯◯◯◯ （現場特性・概要） （時期、期間） （位置、範囲） （内容《誰が･何を･どうする》、数量、材料、機械等） （目的、効果、優位性） （効果の技術的根拠） （その他） | C9: =IF(技術提案②!A27="","",技術提案②!A27) -> ② ◯◯◯◯◯ （現場特性・概要） （時期、期間） （位置、範囲） （内容《誰が･何を･どうする》、数量、材料、機械等） （目的、効果、優位性） （効果の技術的根拠） （その他） | D9: =IF(技術提案③!A27="","",技術提案③!A27) -> ② ◯◯◯◯◯ （現場特性・概要） （時期、期間） （位置、範囲） （内容《誰が･何を･どうする》、数量、材料、機械等） （目的、効果、優位性） （効果の技術的根拠） （その他） | E9: =IF(技術提案④!A27="","",技術提案④!A27) -> ② ◯◯◯◯◯ （現場特性・概要） （時期、期間） （位置、範囲） （内容《誰が･何を･どうする》、数量、材料、機械等） （目的、効果、優位性） （効果の技術的根拠） （その他） | F9: =IF(技術提案⑤!A27="","",技術提案⑤!A27) -> ② ◯◯◯◯◯ （現場特性・概要） （時期、期間） （位置、範囲） （内容《誰が･何を･どうする》、数量、材料、機械等） （目的、効果、優位性） （効果の技術的根拠） （その他） | G9: =IF(技術提案ｂ①!A21="","",技術提案ｂ①!A21) -> ① | H9: =IF(技術提案ｂ②!A21="","",技術提案ｂ②!A21) -> ①
B10: =IF(技術提案①!A34="","",技術提案①!A34) -> ③ ◯◯◯◯◯ （現場特性・概要） （時期、期間） （位置、範囲） （内容《誰が･何を･どうする》、数量、材料、機械等） （目的、効果、優位性） （効果の技術的根拠） （その他） | C10: =IF(技術提案②!A34="","",技術提案②!A34) -> ③ ◯◯◯◯◯ （現場特性・概要） （時期、期間） （位置、範囲） （内容《誰が･何を･どうする》、数量、材料、機械等） （目的、効果、優位性） （効果の技術的根拠） （その他） | D10: =IF(技術提案③!A34="","",技術提案③!A34) -> ③ ◯◯◯◯◯ （現場特性・概要） （時期、期間） （位置、範囲） （内容《誰が･何を･どうする》、数量、材料、機械等） （目的、効果、優位性） （効果の技術的根拠） （その他） | E10: =IF(技術提案④!A34="","",技術提案④!A34) -> ③ ◯◯◯◯◯ （現場特性・概要） （時期、期間） （位置、範囲） （内容《誰が･何を･どうする》、数量、材料、機械等） （目的、効果、優位性） （効果の技術的根拠） （その他） | F10: =IF(技術提案⑤!A34="","",技術提案⑤!A34) -> ③ ◯◯◯◯◯ （現場特性・概要） （時期、期間） （位置、範囲） （内容《誰が･何を･どうする》、数量、材料、機械等） （目的、効果、優位性） （効果の技術的根拠） （その他） | G10: =IF(技術提案ｂ①!A26="","",技術提案ｂ①!A26) -> ② | H10: =IF(技術提案ｂ②!A26="","",技術提案ｂ②!A26) -> ②
G11: =IF(技術提案ｂ①!B31="","",技術提案ｂ①!B31) -> 使用材料 | H11: =IF(技術提案ｂ②!B31="","",技術提案ｂ②!B31) -> 使用材料
G12: =IF(技術提案ｂ①!A32="","",技術提案ｂ①!A32) -> ① | H12: =IF(技術提案ｂ②!A32="","",技術提案ｂ②!A32) -> ①
G13: =IF(技術提案ｂ①!A37="","",技術提案ｂ①!A37) -> ② | H13: =IF(技術提案ｂ②!A37="","",技術提案ｂ②!A37) -> ②
G14: =IF(技術提案ｂ①!B42="","",技術提案ｂ①!B42) -> 使用材料 | H14: =IF(技術提案ｂ②!B42="","",技術提案ｂ②!B42) -> 使用材料
G15: =IF(技術提案ｂ①!A43="","",技術提案ｂ①!A43) -> ① | H15: =IF(技術提案ｂ②!A43="","",技術提案ｂ②!A43) -> ①
G16: =IF(技術提案ｂ①!A48="","",技術提案ｂ①!A48) -> ② | H16: =IF(技術提案ｂ②!A48="","",技術提案ｂ②!A48) -> ②

Sheet 発注者審査作業用シート（提案以外）
A1: このシートは、「技術審査用ファイル」の「作業用シート」に一括コピー作業を行うためのものです
A2: ＜シートの説明＞
B3: ・「技術審査用ファイル」の「作業用シート」へ一括コピーするため、「コピー専用表」をこのシートに設定しています。
B4: ・コピーする範囲は、「コピー専用表」の薄オレンジ部分（評価項目：１９～２５行）と白色部分（企業申請内容：２６行～３３行）です。
B5: ・文字切れやフォントサイズの修正は、「技術審査用ファイル」で行いますので、このシートでは作業不要です。
B6: ・「コピー専用表」は、「技術審査用ファイル」の「技術審査用シート」で見えやすいように概ね書式調整しています。「技術審査用シート」で見えにくいときのみ、コピー専用表の書式を修正してください。
A7: ＜作業手順＞・・・・以下の作業は、必ず別ファイルとして公告用ファイルを作成し、公告用ファイルで作業してください（１回シートや列を削除すると元の状態に戻せなくなります）。
A8: 準備作業： | B8: 不要な評価項目の列全体をこのシートから削除。不要な様式も削除してください。
B9: 評価項目の列全体を削除する際、コピー先の配列（「技術審査用ファイル」）に合わせておく必要があります（「技術審査用ファイル」の自動集計に支障が生じるため）。
B10: 予備欄等を活用して配列を合わせてください。
B11: 「技術審査用ファイル」の固定配列（※１項目３列で設定してあります）
B12: 企業：４項目、配置予定技術者①：４項目、配置予定技術者②：４項目、配置予定技術者③：４項目、地域貢献・その他：７項目、地理的条件：２項目
A13: 手順①： | B13: 「コピー専用表」の薄オレンジ部分全体を指定しコピー後、「技術審査用ファイル」の「作業用シート」の「貼り付け箇所A」に、貼り付けオプションの「値」で貼り付け。
A14: 手順②： | B14: 手順①の後、同じ場所（貼り付け箇所A）に貼り付けオプションの「書式設定」で貼り付けると、コピー専用行で設定された書式でコピー可能。
A15: 手順③： | B15: 手順①、手順②の方法により、「コピー専用表」の白色部分全体を「技術審査用ファイル」の「作業用シート」の「貼り付け箇所B」に貼り付け。
A17: 以下、審査用ファイルの「作業用」シートへの「コピー専用表」 | R17: 審査用ファイルコピー先の列数と合わせるため削除× | AJ17: 審査用ファイルコピー先の列数と合わせるため削除× | BB17: 審査用ファイルコピー先の列数と合わせるため削除× | BT17: 審査用ファイルコピー先の列数と合わせるため削除× | EH17: 審査用ファイルコピー先の列数と合わせるための欄 | EK17: 審査用ファイルコピー先の列数と合わせるための欄 | EN17: 審査用ファイルコピー先の列数と合わせるための欄 | EQ17: 審査用ファイルコピー先の列数と合わせるための欄 | FI17: 審査用ファイルコピー先の列数と合わせるための列
B18: 行番号 | C18: =CONCATENATE("様式-",INDEX(発注者入力シート!$B$27:$G$31,MATCH(発注者入力シート!L6,発注者入力シート!$C$27:$C$31,0),4)) -> 様式-２ | F18: =CONCATENATE("様式-",INDEX(発注者入力シート!$B$27:$G$31,MATCH(発注者入力シート!L6,発注者入力シート!$C$27:$C$31,0),4)) -> 様式-２ | I18: =CONCATENATE("様式-",INDEX(発注者入力シート!$B$27:$G$31,MATCH(発注者入力シート!L7,発注者入力シート!$C$27:$C$31,0),4)) -> 様式-３ | L18: =CONCATENATE("様式-",INDEX(発注者入力シート!$B$27:$G$31,MATCH(発注者入力シート!L8,発注者入力シート!$C$27:$C$31,0),4)) -> 様式-４ | O18: =CONCATENATE("様式-",INDEX(発注者入力シート!$B$27:$G$31,MATCH(発注者入力シート!L8,発注者入力シート!$C$27:$C$31,0),4)) -> 様式-４ | R18: =CONCATENATE("様式-",INDEX(発注者入力シート!$B$27:$G$31,MATCH(発注者入力シート!L13,発注者入力シート!$C$27:$C$31,0),4)) -> #N/A | U18: =CONCATENATE("様式-",INDEX(発注者入力シート!$B$32:$G$35,MATCH(発注者入力シート!M9,発注者入力シート!$C$32:$C$35,0),4)) -> 様式-５ | X18: =CONCATENATE("様式-",INDEX(発注者入力シート!$B$32:$G$35,MATCH(発注者入力シート!M6,発注者入力シート!$C$32:$C$35,0),4)) -> #N/A | AA18: =CONCATENATE("様式-",INDEX(発注者入力シート!$B$32:$G$35,MATCH(発注者入力シート!M7,発注者入力シート!$C$32:$C$35,0),4)) -> 様式-６ | AD18: =CONCATENATE("様式-",INDEX(発注者入力シート!$B$32:$G$35,MATCH(発注者入力シート!M8,発注者入力シート!$C$32:$C$35,0),4)) -> 様式-７ | AG18: =CONCATENATE("様式-",INDEX(発注者入力シート!$B$32:$G$35,MATCH(発注者入力シート!M10,発注者入力シート!$C$32:$C$35,0),4)) -> #N/A | AJ18: =CONCATENATE("様式-",INDEX(発注者入力シート!$B$32:$G$35,MATCH(発注者入力シート!M12,発注者入力シート!$C$32:$C$35,0),4)) -> #N/A | AM18: =CONCATENATE("様式-",INDEX(発注者入力シート!$B$32:$G$35,MATCH(発注者入力シート!M9,発注者入力シート!$C$32:$C$35,0),4)) -> 様式-５ | AP18: =CONCATENATE("様式-",INDEX(発注者入力シート!$B$32:$G$35,MATCH(発注者入力シート!M6,発注者入力シート!$C$32:$C$35,0),4)) -> #N/A | AS18: =CONCATENATE("様式-",INDEX(発注者入力シート!$B$32:$G$35,MATCH(発注者入力シート!M7,発注者入力シート!$C$32:$C$35,0),4)) -> 様式-６ | AV18: =CONCATENATE("様式-",INDEX(発注者入力シート!$B$32:$G$35,MATCH(発注者入力シート!M8,発注者入力シート!$C$32:$C$35,0),4)) -> 様式-７ | AY18: =CONCATENATE("様式-",INDEX(発注者入力シート!$B$32:$G$35,MATCH(発注者入力シート!M10,発注者入力シート!$C$32:$C$35,0),4)) -> #N/A | BB18: =CONCATENATE("様式-",INDEX(発注者入力シート!$B$32:$G$35,MATCH(発注者入力シート!M12,発注者入力シート!$C$32:$C$35,0),4)) -> #N/A | BE18: =CONCATENATE("様式-",INDEX(発注者入力シート!$B$32:$G$35,MATCH(発注者入力シート!M9,発注者入力シート!$C$32:$C$35,0),4)) -> 様式-５ | BH18: =CONCATENATE("様式-",INDEX(発注者入力シート!$B$32:$G$35,MATCH(発注者入力シート!M6,発注者入力シート!$C$32:$C$35,0),4)) -> #N/A | BK18: =CONCATENATE("様式-",INDEX(発注者入力シート!$B$32:$G$35,MATCH(発注者入力シート!M7,発注者入力シート!$C$32:$C$35,0),4)) -> 様式-６ | BN18: =CONCATENATE("様式-",INDEX(発注者入力シート!$B$32:$G$35,MATCH(発注者入力シート!M8,発注者入力シート!$C$32:$C$35,0),4)) -> 様式-７ | BQ18: =CONCATENATE("様式-",INDEX(発注者入力シート!$B$32:$G$35,MATCH(発注者入力シート!M10,発注者入力シート!$C$32:$C$35,0),4)) -> #N/A | BT18: =CONCATENATE("様式-",INDEX(発注者入力シート!$B$32:$G$35,MATCH(発注者入力シート!M12,発注者入力シート!$C$32:$C$35,0),4)) -> #N/A | BW18: =CONCATENATE("様式-",INDEX(発注者入力シート!$B$36:$G$45,MATCH(発注者入力シート!N6,発注者入力シート!$C$36:$C$45,0),4)) -> #N/A | BZ18: =CONCATENATE("様式-",INDEX(発注者入力シート!$B$36:$G$45,MATCH(発注者入力シート!N7,発注者入力シート!$C$36:$C$45,0),4)) -> #N/A | CC18: =CONCATENATE("様式-",INDEX(発注者入力シート!$B$36:$G$45,MATCH(発注者入力シート!N7,発注者入力シート!$C$36:$C$45,0),4)) -> #N/A | CF18: =CONCATENATE("様式-",INDEX(発注者入力シート!$B$36:$G$45,MATCH(発注者入力シート!N8,発注者入力シート!$C$36:$C$45,0),4)) -> #N/A | CI18: =CONCATENATE("様式-",INDEX(発注者入力シート!$B$36:$G$45,MATCH(発注者入力シート!N9,発注者入力シート!$C$36:$C$45,0),4)) -> #N/A | CL18: =CONCATENATE("様式-",INDEX(発注者入力シート!$B$36:$G$45,MATCH(発注者入力シート!N9,発注者入力シート!$C$36:$C$45,0),4)) -> #N/A | CO18: =CONCATENATE("様式-",INDEX(発注者入力シート!$B$36:$G$45,MATCH(発注者入力シート!N10,発注者入力シート!$C$36:$C$45,0),4)) -> 様式-８ | CR18: =CONCATENATE("様式-",INDEX(発注者入力シート!$B$36:$G$45,MATCH(発注者入力シート!N10,発注者入力シート!$C$36:$C$45,0),4)) -> 様式-８ | CU18: =CONCATENATE("様式-",INDEX(発注者入力シート!$B$36:$G$45,MATCH(発注者入力シート!N11,発注者入力シート!$C$36:$C$45,0),4)) -> #N/A | CX18: =CONCATENATE("様式-",INDEX(発注者入力シート!$B$36:$G$45,MATCH(発注者入力シート!N11,発注者入力シート!$C$36:$C$45,0),4)) -> #N/A | DA18: =CONCATENATE("様式-",INDEX(発注者入力シート!$B$36:$G$45,MATCH(発注者入力シート!N12,発注者入力シート!$C$36:$C$45,0),4)) -> #N/A | DD18: =CONCATENATE("様式-",INDEX(発注者入力シート!$B$36:$G$45,MATCH(発注者入力シート!N12,発注者入力シート!$C$36:$C$45,0),4)) -> #N/A | DG18: =CONCATENATE("様式-",INDEX(発注者入力シート!$B$36:$G$45,MATCH(発注者入力シート!N13,発注者入力シート!$C$36:$C$45,0),4),"など") -> 様式-９など | DJ18: =CONCATENATE("様式-",INDEX(発注者入力シート!$B$36:$G$45,MATCH(発注者入力シート!N16,発注者入力シート!$C$36:$C$45,0),4)) -> 様式-１２ | DM18: =CONCATENATE("様式-",INDEX(発注者入力シート!$B$36:$G$45,MATCH(発注者入力シート!N17,発注者入力シート!$C$36:$C$45,0),4)) -> #N/A | DP18: =CONCATENATE("様式-",INDEX(発注者入力シート!$B$36:$G$45,MATCH(発注者入力シート!N18,発注者入力シート!$C$36:$C$45,0),4)) -> #N/A | DS18: =CONCATENATE("様式-",INDEX(発注者入力シート!$B$36:$G$45,MATCH(発注者入力シート!N19,発注者入力シート!$C$36:$C$45,0),4)) -> #N/A | DV18: =CONCATENATE("様式-",INDEX(発注者入力シート!$B$36:$G$45,MATCH(発注者入力シート!N20,発注者入力シート!$C$36:$C$45,0),4)) -> #N/A | DY18: =CONCATENATE("様式-",INDEX(発注者入力シート!$B$36:$G$45,MATCH(発注者入力シート!N21,発注者入力シート!$C$36:$C$45,0),4)) -> #N/A | EB18: =CONCATENATE("様式-",INDEX(発注者入力シート!$B$36:$G$45,MATCH(発注者入力シート!N22,発注者入力シート!$C$36:$C$45,0),4)) -> #N/A | EE18: =CONCATENATE("様式-",INDEX(発注者入力シート!$B$36:$G$45,MATCH(発注者入力シート!N23,発注者入力シート!$C$36:$C$45,0),4)) -> #N/A | ET18: =CONCATENATE("様式-",INDEX(発注者入力シート!$B$46:$G$47,MATCH(発注者入力シート!O6,発注者入力シート!$C$46:$C$47,0),4)) -> #N/A | EW18: =CONCATENATE("様式-",INDEX(発注者入力シート!$B$46:$G$47,MATCH(発注者入力シート!O7,発注者入力シート!$C$46:$C$47,0),4)) -> 様式-１３ | EZ18: =CONCATENATE("様式-",INDEX(発注者入力シート!$B$46:$G$47,MATCH(発注者入力シート!O8,発注者入力シート!$C$46:$C$47,0),4)) -> #N/A | FC18: =CONCATENATE("様式-",INDEX(発注者入力シート!$B$46:$G$47,MATCH(発注者入力シート!O9,発注者入力シート!$C$46:$C$47,0),4)) -> #N/A | FF18: =CONCATENATE("様式-",INDEX(発注者入力シート!$B$46:$G$47,MATCH(発注者入力シート!O11,発注者入力シート!$C$46:$C$47,0),4)) -> #N/A
A19: コピー専用行 | B19: a0 | C19: 企業 | F19: 企業 | I19: 企業 | L19: 企業 | O19: 企業 | R19: 企業 | U19: 配置予定技術者① | X19: 配置予定技術者① | AA19: 配置予定技術者① | AD19: 配置予定技術者① | AG19: 配置予定技術者① | AJ19: 配置予定技術者① | AM19: 配置予定技術者② | AP19: 配置予定技術者② | AS19: 配置予定技術者② | AV19: 配置予定技術者② | AY19: 配置予定技術者② | BB19: 配置予定技術者② | BE19: 配置予定技術者③ | BH19: 配置予定技術者③ | BK19: 配置予定技術者③ | BN19: 配置予定技術者③ | BQ19: 配置予定技術者③ | BT19: 配置予定技術者③ | BW19: 地域貢献・その他 | BZ19: 地域貢献・その他 | CC19: 地域貢献・その他 | CF19: 地域貢献・その他 | CI19: 地域貢献・その他 | CL19: 地域貢献・その他 | CO19: 地域貢献・その他 | CR19: 地域貢献・その他 | CU19: 地域貢献・その他 | CX19: 地域貢献・その他 | DA19: 地域貢献・その他 | DD19: 地域貢献・その他 | DG19: 地域貢献・その他 | DJ19: 【電気工事】、【塗装工事】企業 | DM19: 地域貢献・その他 | DP19: 地域貢献・その他 | DS19: 地域貢献・その他 | DV19: 地域貢献・その他 | DY19: 地域貢献・その他 | EB19: 地域貢献・その他 | EE19: 地域貢献・その他【水産】 | EH19: 地域貢献・その他 | EK19: 地域貢献・その他 | EN19: 地域貢献・その他 | EQ19: 地域貢献・その他 | ET19: 地理的条件 | EW19: 地理的条件 | EZ19: 地理的条件 | FC19: 地理的条件 | FF19: 地理的条件 | FI19: 地理的条件
A20: コピー専用行 | B20: a1 | C20: 工事成績評定点(JV3年用) | F20: 工事成績評定点(JV5年用) | I20: 施工実績 | L20: 優良工事表彰 | O20: 優良工事表彰(JV) | R20: 予備欄 | U20: 継続学習 | X20: 資格 | AA20: 施工経験 | AD20: 優秀建設技術者表彰 | AG20: 工事成績評定点（JV） | AJ20: 予備欄 | AM20: 継続学習 | AP20: 資格 | AS20: 施工経験 | AV20: 優秀建設技術者表彰 | AY20: 工事成績評定点（JV） | BB20: 予備欄 | BE20: 継続学習 | BH20: 資格 | BK20: 施工経験 | BN20: 優秀建設技術者表彰 | BQ20: 工事成績評定点（JV） | BT20: 予備欄 | BW20: 防災協定 | BZ20: BCP認定状況及び防災協定 | CC20: BCP認定状況及び防災協定(JV) | CF20: 家畜伝染病防疫協定 | CI20: BCP認定状況・家畜伝染病防疫協定 | CL20: BCP認定状況・家畜伝染病防疫協定(JV) | CO20: ボランティア | CR20: ボランティア（JV） | CU20: 維持管理 | CX20: 維持管理(JV) | DA20: 除雪業務 | DD20: 除雪業務(JV) | DG20: 労働福祉関連（JV） | DJ20: 登録基幹技能者 | DM20: 若手・中堅技術者配置 | DP20: 若手技術者・従業員の新規雇用（JV） | DS20: 建設機械保有状況 | DV20: 消防団協力事業所 | DY20: CCUSの活用 | EB20: ＩＣＴ施工実績 | EE20: 海上援助活動の実績 | EH20: 予備欄 | EK20: 予備欄 | EN20: 予備欄 | EQ20: 予備欄 | ET20: 近隣地域での施工実績 | EW20: 会社所在地 | EZ20: 工場・会社所在地 | FC20: サポート拠点 | FF20: 予備欄１ | FI20: 予備欄２
A21: コピー専用行 | B21: a | C21: =C39 -> 完成年度 | D21: =D39 -> 令和５年度から令和７年度（完成及び引き渡しが完了） | E21: =E39 -> 0 | F21: =F39 -> 完成年度 | G21: =G39 -> 令和３年度から令和７年度（完成及び引き渡しが完了） | H21: =H39 -> 0 | I21: =I39 -> 対象期間 | J21: =J39 -> 平成２８年度から入札公告日前日までに完成及び引き渡しが完了した島根県及び中国地方整備局発注工事 | L21: =L39 -> 対象年度・機関等 | M21: =M39 -> 島根県内の公共事業において、令和４年度から令和８年度に、島根県及び中国地方整備局発注工事で受けた優良工事表彰（優良工事施工団体表彰） | O21: =O39 -> 対象年度・機関等 | P21: =P39 -> 島根県内の公共事業において、令和４年度から令和８年度に、島根県及び中国地方整備局発注工事で受けた優良工事表彰（優良工事施工団体表彰） | Q21: =Q39 -> 0 | U21: =U39 -> 配置予定の主任（監理）技術者が保有するCPDSユニット | V21: =V39 -> 0 | W21: =W39 -> 0 | X21: =X39 -> 対象資格 | Y21: =Y39 -> 1級土木施工管理技士又は1級建設機械施工技士 | Z21: =Z39 -> 0 | AA21: =AA39 -> 対象年度・機関等 | AB21: =AB39 -> 平成２８年度から入札公告日前日までに完成及び引き渡しが完了した島根県及び中国地方整備局発注工事 | AD21: =AD39 -> 対象年度・機関等 | AE21: =AE39 -> 島根県内の公共事業において、令和４年度から令和８年度に、島根県及び中国地方整備局発注工事で主任（監理）技術者または現場代理人として受けた優秀建設技術者表彰 | AG21: =AG39 -> 完成年度 | AH21: =AH39 -> 令和３年度から令和７年度に完成及び引き渡しが完了した工事 | AI21: =AI39 | AM21: =AM39 -> 配置予定の主任（監理）技術者が保有するCPDSユニット | AN21: =AN39 -> 0 | AO21: =AO39 -> 0 | AP21: =AP39 -> 対象資格 | AQ21: =AQ39 -> 1級土木施工管理技士又は1級建設機械施工技士 | AR21: =AR39 -> 0 | AS21: =AS39 -> 対象年度・機関等 | AT21: =AT39 -> 平成２８年度から入札公告日前日までに完成及び引き渡しが完了した島根県及び中国地方整備局発注工事 | AV21: =AV39 -> 対象年度・機関等 | AW21: =AW39 -> 島根県内の公共事業において、令和４年度から令和８年度に、島根県及び中国地方整備局発注工事で主任（監理）技術者または現場代理人として受けた優秀建設技術者表彰 | AY21: =AY39 -> 完成年度 | AZ21: =AZ39 -> 令和３年度から令和７年度に完成及び引き渡しが完了した工事 | BA21: =BA39 | BE21: =BE39 -> 配置予定の主任（監理）技術者が保有するCPDSユニット | BF21: =BF39 -> 0 | BG21: =BG39 -> 0 | BH21: =BH39 -> 対象資格 | BI21: =BI39 -> 1級土木施工管理技士又は1級建設機械施工技士 | BJ21: =BJ39 -> 0 | BK21: =BK39 -> 対象年度・機関等 | BL21: =BL39 -> 平成２８年度から入札公告日前日までに完成及び引き渡しが完了した島根県及び中国地方整備局発注工事 | BN21: =BN39 -> 対象年度・機関等 | BO21: =BO39 -> 島根県内の公共事業において、令和４年度から令和８年度に、島根県及び中国地方整備局発注工事で主任（監理）技術者または現場代理人として受けた優秀建設技術者表彰 | BQ21: =BQ39 -> 完成年度 | BR21: =BR39 -> 令和３年度から令和７年度に完成及び引き渡しが完了した工事 | BS21: =BS39 | BW21: =BW39 -> 対象 | BX21: =BX39 -> 令和６年度及び令和７年度における島根県との防災協定の締結実績 | BY21: =BY39 -> 0 | BZ21: =BZ39 -> 入札公告日前日時点（令和8年9月24日時点）での事業継続計画（BCP）の認定状況 | CC21: =CC39 -> 入札公告日前日時点（令和8年9月24日時点）での事業継続計画（BCP）の認定状況 | CF21: =CF39 -> 対象 | CG21: =CG39 -> 令和６年度及び令和７年度における島根県との家畜伝染病防疫協定の締結実績 | CH21: =CH39 -> 0 | CI21: =CI39 -> 入札公告日前日時点（令和8年9月24日時点）での事業継続計画（BCP）の認定状況 | CL21: =CL39 -> 入札公告日前日時点（令和8年9月24日時点）での事業継続計画（BCP）の認定状況 | CO21: =CO39 -> 対象 | CP21: =CP39 -> 令和６年度及び令和７年度における島根県内で実施されたボランティア活動又はハートフルしまねへの参加実績 | CQ21: =CQ39 -> 0 | CR21: =CR39 -> 対象 | CS21: =CS39 -> 令和６年度及び令和７年度における島根県内で実施されたボランティア活動又はハートフルしまねへの参加実績 | CT21: =CT39 -> 0 | CU21: =CU39 -> 対象 | CV21: =CV39 -> 令和６年度及び令和７年度の県管理公共土木施設に関する維持管理業務または海岸漂着物の回収業務の契約実績 | ... DJ21: =DJ39 -> 登録電気基幹技能者の現場への配置 | DM21: =DM39 -> ４０歳未満の技術者を主任技術者又は監理技術者として配置 | DP21: =DP39 -> 対象 | DQ21: =DQ39 -> 令和６年4月1日以降に、若手技術者・若手従業員（30歳未満の者）の１人以上の新規雇用があること。 | DR21: =DR39 -> 0 | DS21: =DS39 -> 入札公告日前日時点（令和8年9月24日時点）で建設機械を３台以上保有もしくは長期リース契約していること | DV21: =DV39 -> 対象 | DW21: =DW39 -> 入札公告日前日時点での認定状況 | DX21: =DX39 -> 0 | DY21: =DY39 -> 対象 | DZ21: =DZ39 -> 当該工事での建設キャリアアップシステム（CCUS）の活用 | EA21: =EA39 -> 0 | EB21: =EB39 -> 対象工事 | EC21: =EC39 -> 令和６年度から入札公告前日までに完成及び引き渡しが完了した島根県発注のＩＣＴ活用工事 | EE21: =EE39 -> 対象 | EF21: =EF39 -> 令和３年度から令和７年度における県内で発生した海難事故等に伴う海上援助活動の実績 | EG21: =EG39 -> 0 | ET21: =ET39 -> 対象 | EU21: =EU39 -> 令和６年度及び令和７年度に完成及び引き渡しが完了した島根県（総務部、農林水産部、土木部）発注の下記工事 | EW21: =EW39 -> 対象 | EX21: =EX39 -> 入札公告日前日において、県央県土整備事務所管内に建設業法で規定する主たる営業所（本店）または従たる営業所（支店、営業所）がある者 | EY21: =EY39 -> 0 | EZ21: =EZ39 -> 対象 | FA21: =FA39 -> 島根県内における建設業法で規定する主たる営業所（本店）または従たる営業所（支店、営業所）がある者及び橋梁用桁製作の機能を有する工場がある者 | FB21: =FB39 -> 0 | FC21: =FC39 -> 対象 | FD21: =FD39 -> ○○内におけるサポート拠点の所在と技術者の在籍 | FE21: =FE39 -> 0
A22: コピー専用行 | B22: b | C22: =C40 -> 発注機関 | D22: =D40 -> 島根県（総務部、農林水産部、土木部） | E22: =E40 -> 0 | F22: =F40 -> 発注機関 | G22: =G40 -> 島根県（総務部、農林水産部、土木部） | H22: =H40 -> 0 | I22: =I40 -> 同種工事 | J22: =J40 -> １契約で最終数量９７台以上の道路トンネル照明器具設置（新設又は更新）を含む完成及び引き渡しが完了した工事 | O22: =O40 -> 0 | P22: =P40 -> 0 | Q22: =Q40 -> 0 | U22: =U40 -> 0 | V22: =V40 -> 0 | W22: =W40 -> 0 | X22: =X40 -> 0 | Y22: =Y40 -> 0 | Z22: =Z40 -> 0 | AA22: =AA40 -> 同種工事 | AB22: =AB40 -> １契約で最終数量９７台以上の道路トンネル照明器具設置（新設又は更新）を含む完成及び引き渡しが完了した工事 | AG22: =AG40 -> 発注機関 | AH22: =AH40 -> 島根県（総務部、農林水産部、土木部） | AI22: =AI40 | AM22: =AM40 -> 0 | AN22: =AN40 -> 0 | AO22: =AO40 -> 0 | AP22: =AP40 -> 0 | AQ22: =AQ40 -> 0 | AR22: =AR40 -> 0 | AS22: =AS40 -> 同種工事 | AT22: =AT40 -> １契約で最終数量９７台以上の道路トンネル照明器具設置（新設又は更新）を含む完成及び引き渡しが完了した工事 | AY22: =AY40 -> 発注機関 | AZ22: =AZ40 -> 島根県（総務部、農林水産部、土木部） | BA22: =BA40 | BE22: =BE40 -> 0 | BF22: =BF40 -> 0 | BG22: =BG40 -> 0 | BH22: =BH40 -> 0 | BI22: =BI40 -> 0 | BJ22: =BJ40 -> 0 | BK22: =BK40 -> 同種工事 | BL22: =BL40 -> １契約で最終数量９７台以上の道路トンネル照明器具設置（新設又は更新）を含む完成及び引き渡しが完了した工事 | BQ22: =BQ40 -> 発注機関 | BR22: =BR40 -> 島根県（総務部、農林水産部、土木部） | BS22: =BS40 | BW22: =BW40 -> 0 | BX22: =BX40 -> 0 | BY22: =BY40 -> 0 | CF22: =CF40 -> 0 | CG22: =CG40 -> 0 | CH22: =CH40 -> 0 | CO22: =CO40 -> 0 | CP22: =CP40 -> 0 | CQ22: =CQ40 -> 0 | CR22: =CR40 -> 0 | CS22: =CS40 -> 0 | CT22: =CT40 -> 0 | CU22: =CU40 -> 0 | CV22: =CV40 -> 0 | ... DI22: =DI40 -> 0 | DP22: =DP40 -> 0 | DQ22: =DQ40 -> 0 | DR22: =DR40 -> 0 | DV22: =DV40 -> 0 | DW22: =DW40 -> 0 | DX22: =DX40 -> 0 | DY22: =DY40 -> 0 | DZ22: =DZ40 -> 0 | EA22: =EA40 -> 0 | EE22: =EE40 -> 0 | EF22: =EF40 -> 0 | EG22: =EG40 -> 0 | ET22: =ET40 -> 対象工事 | EU22: =EU40 -> （例）○○県土整備事務所管内における請負金額５００万以上（税込）の工事 | EW22: =EW40 -> 0 | EX22: =EX40 -> 0 | EY22: =EY40 -> 0 | EZ22: =EZ40 -> 0 | FA22: =FA40 -> 0 | FB22: =FB40 -> 0 | FC22: =FC40 -> 0 | FD22: =FD40 -> 0 | FE22: =FE40 -> 0
A23: コピー専用行 | B23: c | C23: =C41 -> 工事種別 | D23: =D41 -> 電気工事 | E23: =E41 -> 0 | F23: =F41 -> 工事種別 | G23: =G41 -> 電気工事、維持修繕工事 | H23: =H41 -> 0 | I23: =I41 -> 工事種別 | J23: =J41 -> 電気工事、維持修繕工事 | L23: =L41 -> 工事種別 | M23: =M41 -> 電気工事 | O23: =O41 -> 0 | P23: =P41 -> 0 | Q23: =Q41 -> 0 | U23: =U41 -> 0 | V23: =V41 -> 0 | W23: =W41 -> 0 | X23: =X41 -> 0 | Y23: =Y41 -> 0 | Z23: =Z41 -> 0 | AA23: =AA41 -> 工事種別 | AB23: =AB41 -> 電気工事、維持修繕工事 | AD23: =AD41 -> 工事種別 | AE23: =AE41 -> 電気工事 | AG23: =AG41 -> 工事種別 | AH23: =AH41 -> 電気工事、維持修繕工事 | AI23: =AI41 | AM23: =AM41 -> 0 | AN23: =AN41 -> 0 | AO23: =AO41 -> 0 | AP23: =AP41 -> 0 | AQ23: =AQ41 -> 0 | AR23: =AR41 -> 0 | AS23: =AS41 -> 工事種別 | AT23: =AT41 -> 電気工事、維持修繕工事 | AV23: =AV41 -> 工事種別 | AW23: =AW41 -> 電気工事 | AY23: =AY41 -> 工事種別 | AZ23: =AZ41 -> 電気工事、維持修繕工事 | BA23: =BA41 | BE23: =BE41 -> 0 | BF23: =BF41 -> 0 | BG23: =BG41 -> 0 | BH23: =BH41 -> 0 | BI23: =BI41 -> 0 | BJ23: =BJ41 -> 0 | BK23: =BK41 -> 工事種別 | BL23: =BL41 -> 電気工事、維持修繕工事 | BN23: =BN41 -> 工事種別 | BO23: =BO41 -> 電気工事 | BQ23: =BQ41 -> 工事種別 | BR23: =BR41 -> 電気工事、維持修繕工事 | BS23: =BS41 | BW23: =BW41 -> 0 | BX23: =BX41 -> 0 | BY23: =BY41 -> 0 | BZ23: =BZ41 -> 令和６年度及び令和７年度における島根県との防災協定の締結実績 | CC23: =CC41 -> 令和６年度及び令和７年度における島根県との防災協定の締結実績 | CF23: =CF41 -> 0 | CG23: =CG41 -> 0 | CH23: =CH41 -> 0 | CI23: =CI41 -> 令和６年度及び令和７年度における島根県との家畜伝染病防疫協定の締結実績 | CL23: =CL41 -> 令和６年度及び令和７年度における島根県との家畜伝染病防疫協定の締結実績 | CO23: =CO41 -> 0 | CP23: =CP41 -> 0 | CQ23: =CQ41 -> 0 | CR23: =CR41 -> 0 | CS23: =CS41 -> 0 | CT23: =CT41 -> 0 | CU23: =CU41 -> 0 | CV23: =CV41 -> 0 | ... DI23: =DI41 -> 0 | DP23: =DP41 -> 0 | DQ23: =DQ41 -> 0 | DR23: =DR41 -> 0 | DV23: =DV41 -> 0 | DW23: =DW41 -> 0 | DX23: =DX41 -> 0 | DY23: =DY41 -> 0 | DZ23: =DZ41 -> 0 | EA23: =EA41 -> 0 | EE23: =EE41 -> 0 | EF23: =EF41 -> 0 | EG23: =EG41 -> 0 | ET23: =ET41 -> 工事種別 | EU23: =EU41 -> 電気工事、維持修繕工事 | EW23: =EW41 -> 0 | EX23: =EX41 -> 0 | EY23: =EY41 -> 0 | EZ23: =EZ41 -> 0 | FA23: =FA41 -> 0 | FB23: =FB41 -> 0 | FC23: =FC41 -> 0 | FD23: =FD41 -> 0 | FE23: =FE41 -> 0
A24: コピー専用行 | B24: d | C24: =C42 -> 建設工事の種類 | D24: =D42 -> 電気工事 | E24: =E42 -> 0 | F24: =F42 -> 建設工事の種類 | G24: =G42 -> 電気工事 | H24: =H42 -> 0 | I24: =I42 -> 建設工事の種類 | J24: =J42 -> 電気工事 | L24: =L42 -> 建設工事の種類 | M24: =M42 -> 電気工事 | O24: =O42 -> 0 | P24: =P42 -> 0 | Q24: =Q42 -> 0 | U24: =U42 -> 0 | V24: =V42 -> 0 | W24: =W42 -> 0 | X24: =X42 -> 0 | Y24: =Y42 -> 0 | Z24: =Z42 -> 0 | AA24: =AA42 -> 建設工事の種類 | AB24: =AB42 -> 電気工事 | AD24: =AD42 -> 建設工事の種類 | AE24: =AE42 -> 電気工事 | AG24: =AG42 -> 建設工事の種類 | AH24: =AH42 -> 電気工事 | AI24: =AI42 | AM24: =AM42 -> 0 | AN24: =AN42 -> 0 | AO24: =AO42 -> 0 | AP24: =AP42 -> 0 | AQ24: =AQ42 -> 0 | AR24: =AR42 -> 0 | AS24: =AS42 -> 建設工事の種類 | AT24: =AT42 -> 電気工事 | AV24: =AV42 -> 建設工事の種類 | AW24: =AW42 -> 電気工事 | AY24: =AY42 -> 建設工事の種類 | AZ24: =AZ42 -> 電気工事 | BA24: =BA42 | BE24: =BE42 -> 0 | BF24: =BF42 -> 0 | BG24: =BG42 -> 0 | BH24: =BH42 -> 0 | BI24: =BI42 -> 0 | BJ24: =BJ42 -> 0 | BK24: =BK42 -> 建設工事の種類 | BL24: =BL42 -> 電気工事 | BN24: =BN42 -> 建設工事の種類 | BO24: =BO42 -> 電気工事 | BQ24: =BQ42 -> 建設工事の種類 | BR24: =BR42 -> 電気工事 | BS24: =BS42 | BW24: =BW42 -> 0 | BX24: =BX42 -> 0 | BY24: =BY42 -> 0 | CF24: =CF42 -> 0 | CG24: =CG42 -> 0 | CH24: =CH42 -> 0 | CO24: =CO42 -> 0 | CP24: =CP42 -> 0 | CQ24: =CQ42 -> 0 | CR24: =CR42 -> 0 | CS24: =CS42 -> 0 | CT24: =CT42 -> 0 | CU24: =CU42 -> 0 | CV24: =CV42 -> 0 | ... DI24: =DI42 -> 0 | DP24: =DP42 -> 0 | DQ24: =DQ42 -> 0 | DR24: =DR42 -> 0 | DV24: =DV42 -> 0 | DW24: =DW42 -> 0 | DX24: =DX42 -> 0 | DY24: =DY42 -> 0 | DZ24: =DZ42 -> 0 | EA24: =EA42 -> 0 | EB24: =EB42 -> 対象ＩＣＴ工種 | EC24: =EC42 -> 舗装工（修繕工）、舗装工 | EE24: =EE42 -> 0 | EF24: =EF42 -> 0 | EG24: =EG42 -> 0 | ET24: =ET42 -> 建設工事の種類 | EU24: =EU42 -> 電気工事 | EW24: =EW42 -> 0 | EX24: =EX42 -> 0 | EY24: =EY42 -> 0 | EZ24: =EZ42 -> 0 | FA24: =FA42 -> 0 | FB24: =FB42 -> 0 | FC24: =FC42 -> 0 | FD24: =FD42 -> 0 | FE24: =FE42 -> 0
A25: コピー専用行 | B25: e | C25: =C43 -> 対象 | D25: =D43 -> 該当件数 | E25: =E43 -> 平均点 | F25: =F43 -> 対象 | G25: =G43 -> 該当件数 | H25: =H43 -> 平均点 | I25: =I43 -> 項目名 | J25: =J43 -> 工事① | ... M25: =M43 -> 実績 | O25: =O43 -> 受賞企業 | P25: =P43 -> 企業名 | U25: =U43 -> 項目名 | V25: =V43 -> ユニット数 | X25: =X43 -> 項目名 | Y25: =Y43 -> 状況 | AA25: =AA43 -> 項目名 | AB25: =AB43 -> 工事① | AC25: =AC43 -> 工事② | AD25: =AD43 -> 項目名 | AE25: =AE43 -> 実績 | AG25: =AG43 -> 該当企業 | AH25: =AH43 -> 件数 | AI25: =AI43 -> 平均点 | AM25: =AM43 -> 項目名 | AN25: =AN43 -> ユニット数 | AP25: =AP43 -> 項目名 | AQ25: =AQ43 -> 状況 | AS25: =AS43 -> 項目名 | AT25: =AT43 -> 工事① | AU25: =AU43 -> 工事② | AV25: =AV43 -> 項目名 | AW25: =AW43 -> 実績 | AY25: =AY43 -> 該当企業 | AZ25: =AZ43 -> 件数 | BA25: =BA43 -> 平均点 | BE25: =BE43 -> 項目名 | BF25: =BF43 -> ユニット数 | BH25: =BH43 -> 項目名 | BI25: =BI43 -> 状況 | BK25: =BK43 -> 項目名 | BL25: =BL43 -> 工事① | BM25: =BM43 -> 工事② | BN25: =BN43 -> 項目名 | BO25: =BO43 -> 実績 | BQ25: =BQ43 -> 該当企業 | BR25: =BR43 -> 件数 | BS25: =BS43 -> 平均点 | BW25: =BW43 -> 項目名 | BX25: =BX43 -> 令和４年度 | BY25: =BY43 -> 令和５年度 | BZ25: 項目名 | CA25: 状況 | CC25: 項目名 | CD25: 状況 | CF25: =CF43 -> 項目名 | CG25: =CG43 -> 令和４年度 | CH25: =CH43 -> 令和５年度 | CI25: 項目名 | CJ25: 状況 | CL25: 項目名 | CM25: 状況 | CO25: =CO43 -> 項目名 | CP25: =CP43 -> 令和４年度 | CQ25: =CQ43 -> 令和５年度 | CR25: =CR43 -> 対象企業 | CS25: =CS43 -> ボランティア | CT25: =CT43 -> ﾊｰﾄﾌﾙ | CU25: =CU43 -> 項目名 | CV25: =CV43 -> 令和４年度 | ... DH25: =DH43 -> 第2ｸﾞﾙｰﾌﾟ | DJ25: 項目名 | DK25: 状況 | DM25: =DM43 -> 項目名 | DN25: =DN43 -> 生年月日 | DO25: =DO43 -> 年齢 | DP25: =DP43 -> 第1ｸﾞﾙｰﾌﾟ | DQ25: =DQ43 -> 第2ｸﾞﾙｰﾌﾟ | DS25: =DS43 -> 項目名 | DU25: =DU43 -> 状況 | DV25: =DV43 -> 項目名 | DW25: =DW43 -> 状況 | DY25: =DY43 -> 項目名 | DZ25: =DZ43 -> 状況 | EB25: =EB43 -> 項目名 | EC25: =EC43 -> 実績① | EE25: =EE43 -> 項目名 | EF25: =EF43 -> 実績① | EG25: =EG43 -> 実績② | ET25: =ET43 -> 項目名 | EU25: =EU43 -> 工事① | EV25: =EV43 -> 工事② | EW25: =EW43 -> 項目名 | EX25: =EX43 -> 状況 | EZ25: =EZ43 -> 項目名 | FA25: =FA43 -> 状況 | FC25: =FC43 -> 項目名 | FD25: =FD43 -> 状況
A26: コピー専用行 | B26: 1 | C26: =C44 -> 第1ｸﾞﾙｰﾌﾟ | D26: =D44 | E26: =E44 | F26: =F44 -> 第1ｸﾞﾙｰﾌﾟ | G26: =G44 | H26: =H44 | I26: =I44 -> 工事名 | J26: =J44 -> 申請なし | ... M26: =M44 | O26: 第1ｸﾞﾙｰﾌﾟ | P26: =COUNTIF($O$44:$O$53,O26) -> 0 | U26: =U44 -> 配置なし | V26: =V44 | X26: =X44 -> 配置なし | Y26: =Y44 | AA26: =AA44 -> 工事名 | AB26: =AB44 -> 配置なし | AC26: =AC44 | AD26: =AD44 -> 配置なし | AE26: =AE44 | AG26: =AG44 -> 第1ｸﾞﾙｰﾌﾟ | AH26: =AH44 | AI26: =AI44 | AM26: =AM44 -> 配置なし | AN26: =AN44 | AP26: =AP44 -> 配置なし | AQ26: =AQ44 | AS26: =AS44 -> 工事名 | AT26: =AT44 -> 配置なし | AU26: =AU44 | AV26: =AV44 -> 配置なし | AW26: =AW44 | AY26: =AY44 -> 第1ｸﾞﾙｰﾌﾟ | AZ26: =AZ44 | BA26: =BA44 | BE26: =BE44 -> 配置なし | BF26: =BF44 | BH26: =BH44 -> 配置なし | BI26: =BI44 | BK26: =BK44 -> 工事名 | BL26: =BL44 -> 配置なし | BM26: =BM44 | BN26: =BN44 -> 配置なし | BO26: =BO44 | BQ26: =BQ44 -> 第1ｸﾞﾙｰﾌﾟ | BR26: =BR44 | BS26: =BS44 | BW26: =BW44 -> 協定実績 | BX26: =BX44 -> 申請なし | BY26: =BY44 -> 申請なし | BZ26: =BZ44 -> BCP認定の有無 | CA26: =CA44 -> 申請なし | CC26: 第1ｸﾞﾙｰﾌﾟ | CD26: =IF(CD45="","申請なし",IF(AND(CD45="有",発注者入力シート!$H$7<=CD46),"BCP認定有","BCP認定なし")) -> 申請なし | CF26: =CF44 -> 協定実績 | CG26: =CG44 -> 申請なし | CH26: =CH44 -> 申請なし | CI26: =CI44 -> BCP認定の有無 | CJ26: =CJ44 -> 申請なし | CL26: 第1ｸﾞﾙｰﾌﾟ | CM26: =IF(CM45="","申請なし",IF(AND(CM45="有",発注者入力シート!$H$7<=CM46),"BCP認定有","BCP認定なし")) -> 申請なし | CO26: =CO44 -> ボランティア活動内容 | CP26: =CP44 -> 申請なし | CQ26: =CQ44 -> 申請なし | CR26: 第1ｸﾞﾙｰﾌﾟ | CS26: =IF(CS44="有",CS44&"("&CS48&"人)",CS44) -> 申請なし | CT26: =IF(CT44="有",CT44&"("&CT48&"人)",CT44) -> 申請なし | CU26: =CU44 -> 業務名 | CV26: =CV44 | CW26: =CW44 | CX26: =CX44 -> 第1ｸﾞﾙｰﾌﾟ | CY26: =CY45 -> 申請なし | CZ26: =CZ45 -> 申請なし | DA26: =DA44 -> 業務名 | DB26: =DB44 | DC26: =DC44 | DD26: =DD44 -> 第1ｸﾞﾙｰﾌﾟ | DE26: =DE45 -> 申請なし | DF26: =DF45 -> 申請なし | DJ26: =DJ44 -> 配置の有無 | DK26: =DK44 -> 申請なし | DM26: =DM44 -> 技術者① | DN26: =DN44 -> 配置なし | DO26: =DO44 | DP26: =DP44 -> 雇用① | DQ26: =DQ44 -> 雇用① | DS26: 申請台数 | DU26: =COUNTA(DT44,DT46,DT48)-COUNTBLANK(DT44)-COUNTBLANK(DT46)-COUNTBLANK(DT48) -> 0 | DV26: =DV44 -> 認定有無 | DW26: =DW44 -> 申請なし | DY26: =DY44 -> 確約書の提出 | DZ26: =DZ44 -> 無 | EB26: =EB44 -> 工事名 | EC26: =EC44 -> 申請無し | EE26: =EE44 | EF26: =EF44 -> 申請なし | EG26: =EG44 -> 申請なし | ET26: =ET44 -> 工事名 | EU26: =EU44 -> 申請なし | EV26: =EV44 -> 申請なし | EW26: =EW44 -> 住所 | EX26: =EX44 -> 申請なし | EZ26: =EZ44 -> 営業所住所 | FA26: =FA44 -> 松江市○○町１２３－２ | FC26: =FC44 -> 拠点名1 | FD26: =FD44 -> 申請なし
A27: コピー専用行 | B27: 2 | C27: =C45 -> 第2ｸﾞﾙｰﾌﾟ | D27: =D45 | E27: =E45 | F27: =F45 -> 第2ｸﾞﾙｰﾌﾟ | G27: =G45 | H27: =H45 | I27: =I45 -> 発注機関 | J27: =J45 | K27: =K45 | O27: 第2ｸﾞﾙｰﾌﾟ | P27: =COUNTIF($O$44:$O$53,O27) -> 0 | X27: =X45 | Y27: =Y45 | AA27: =AA45 -> 発注機関 | AB27: =AB45 | AC27: =AC45 | AG27: =AG45 -> 第2ｸﾞﾙｰﾌﾟ | AH27: =AH45 | AI27: =AI45 | AP27: =AP45 | AQ27: =AQ45 | AS27: =AS45 -> 発注機関 | AT27: =AT45 | AU27: =AU45 | AY27: =AY45 -> 第2ｸﾞﾙｰﾌﾟ | AZ27: =AZ45 | BA27: =BA45 | BH27: =BH45 | BI27: =BI45 | BK27: =BK45 -> 発注機関 | BL27: =BL45 | BM27: =BM45 | BQ27: =BQ45 -> 第2ｸﾞﾙｰﾌﾟ | BR27: =BR45 | BS27: =BS45 | BZ27: =BZ45 -> 認定年月日 | CA27: =CA45 | CD27: =IF(CD47="","申請なし",IF(CD47="有",'BCP&防災協定 (JV用)'!E18&CHAR(10)&"実績あり",'BCP&防災協定 (JV用)'!E18&CHAR(10)&"実績なし")) -> 申請なし | CE27: =IF(CE47="","申請なし",IF(CE47="有",'BCP&防災協定 (JV用)'!G18&CHAR(10)&"実績あり",'BCP&防災協定 (JV用)'!G18&CHAR(10)&"実績なし")) -> 申請なし | CI27: =CI45 -> 認定年月日 | CJ27: =CJ45 | CM27: =IF(CM47="","申請なし",IF(CM47="有",'BCP&家畜伝染病防疫協定 (JV用)'!E18&CHAR(10)&"実績あり",'BCP&家畜伝染病防疫協定 (JV用)'!E18&CHAR(10)&"実績なし")) -> 申請なし | CN27: =IF(CN47="","申請なし",IF(CN47="有",'BCP&家畜伝染病防疫協定 (JV用)'!G18&CHAR(10)&"実績あり",'BCP&家畜伝染病防疫協定 (JV用)'!G18&CHAR(10)&"実績なし")) -> 申請なし | CO27: =CO45 | CP27: =CP45 | CQ27: =CQ45 | CR27: 従業員数 | CS27: =IF(CS44="無","",CS49) | CT27: =IF(CT44="無","",CT49) | CY27: =IF(CY45="申請なし","",CY46&CY48-CY47+1&"日") | CZ27: =IF(CZ45="申請なし","",CZ46&CZ48-CZ47+1&"日") | DE27: =IF(DE45="申請なし","",DE46&"") | DF27: =IF(DF45="申請なし","",DF46&"") | DM27: =DM45 -> 技術者② | DN27: =DN45 -> 配置なし | DO27: =DO45 | DP27: =DP45 -> 申請なし | DQ27: =DQ45 -> 申請なし | DS27: 保有台数 | DU27: =COUNTIF(DU44,"保有")+COUNTIF(DU46,"保有")+COUNTIF(DU48,"保有") -> 0 | EB27: =EB45 -> 発注機関 | EC27: =EC45 | ET27: =ET45 -> 発注機関 | EU27: =EU45 | EV27: =EV45 | EW27: =EW45 -> 種類 | EX27: =EX45 | EZ27: =EZ45 -> 営業所種類 | FA27: =FA45 -> 営業所 | FC27: =FC45 -> 所在地1 | FD27: =FD45
A28: コピー専用行 | B28: 3 | C28: =C44 -> 第1ｸﾞﾙｰﾌﾟ | E28: =IF(D26="","",IF(D26=1,ROUND(3/5*ROUNDDOWN(0.9*IF(E26<70,0,IF(E26<73,1,IF(80<=E26,5,ROUNDDOWN(1.5+(3.5*(E26-73)/7),1)))),1),1),IF(E26<70,0,IF(E26<73,0.6,IF(80<=E26,3,ROUND(3/5*ROUNDDOWN(1.5+(3.5*(E26-73)/7),1),1)))))) | F28: =F44 -> 第1ｸﾞﾙｰﾌﾟ | H28: =IF(G26="","",IF(G26=1,ROUND(3/5*ROUNDDOWN(0.9*IF(H26<70,0,IF(H26<73,1,IF(80<=H26,5,ROUNDDOWN(1.5+(3.5*(H26-73)/7),1)))),1),1),IF(H26<70,0,IF(H26<73,0.6,IF(80<=H26,3,ROUND(3/5*ROUNDDOWN(1.5+(3.5*(H26-73)/7),1),1)))))) | I28: =I46 -> 工事種別 | J28: =J46 | K28: =K46 | M28: =IF(M45="無","",M46) | O28: 合計 | P28: =P26+P27 -> 0 | AA28: =AA46 -> 施工場所 | AB28: =AB46 | AC28: =AC46 | AG28: =AG44 -> 第1ｸﾞﾙｰﾌﾟ | AI28: =IF(AH26="","",IF(AI26<70,0,IF(AH26>1,HLOOKUP(AI26,発注者入力シート!$AM$3:$AV$5,2)*2/5,IF(AH26=1,HLOOKUP(AI26,発注者入力シート!$AM$3:$AV$5,3)*2/5,"")))) | AS28: =AS46 -> 施工場所 | AT28: =AT46 | AU28: =AU46 | AY28: =AY44 -> 第1ｸﾞﾙｰﾌﾟ | BA28: =IF(AZ26="","",IF(BA26<70,0,IF(AZ26>1,HLOOKUP(BA26,発注者入力シート!$AM$3:$AV$5,2)*2/5,IF(AZ26=1,HLOOKUP(BA26,発注者入力シート!$AM$3:$AV$5,3)*2/5,"")))) | BK28: =BK46 -> 施工場所 | BL28: =BL46 | BM28: =BM46 | BQ28: =BQ44 -> 第1ｸﾞﾙｰﾌﾟ | BS28: =IF(BR26="","",IF(BS26<70,0,IF(BR26>1,HLOOKUP(BS26,発注者入力シート!$AM$3:$AV$5,2)*2/5,IF(BR26=1,HLOOKUP(BS26,発注者入力シート!$AM$3:$AV$5,3)*2/5,"")))) | BZ28: =BZ46 -> 有効期限 | CA28: =CA46 | CC28: 第2ｸﾞﾙｰﾌﾟ | CD28: =IF(CD50="","申請なし",IF(AND(CD50="有",発注者入力シート!$H$7<=CD51),"BCP認定有","BCP認定なし")) -> 申請なし | CI28: =CI46 -> 有効期限 | CJ28: =CJ46 | CL28: 第2ｸﾞﾙｰﾌﾟ | CM28: =IF(CM50="","申請なし",IF(AND(CM50="有",発注者入力シート!$H$7<=CM51),"BCP認定有","BCP認定なし")) -> 申請なし | CO28: =CO47&CHAR(10)&CO48 | CP28: =IF(OR(CP44="",,CP44="申請なし"),"","参加"&CP47&"人"&CHAR(10)&"従業員"&CP48&"人") | CQ28: =IF(OR(CQ44="",CQ44="申請なし"),"","参加"&CQ47&"人"&CHAR(10)&"従業員"&CQ48&"人") | CR28: 第2ｸﾞﾙｰﾌﾟ | CS28: =IF(CS50="有",CS50&"("&CS54&"人)",CS50) -> 申請なし | CT28: =IF(CT50="有",CT50&"("&CT54&"人)",CT50) -> 有(年度間延べ参加人数人) | CX28: =CX50 -> 第2ｸﾞﾙｰﾌﾟ | CY28: =CY51 -> 申請なし | CZ28: =CZ51 -> 申請なし | DD28: =DD51 -> 第2ｸﾞﾙｰﾌﾟ | DE28: =DE52 -> 申請なし | DF28: =DF52 -> 申請なし | DG28: 障がい者雇用 | DM28: =DM46 -> 技術者③ | DN28: =DN46 -> 配置なし | DO28: =DO46 | DP28: =DP46 -> 雇用② | DQ28: =DQ46 -> 雇用② | DS28: ﾘｰｽ台数 | DU28: =COUNTIF(DU44,"リース契約")+COUNTIF(DU46,"リース契約")+COUNTIF(DU48,"リース契約") -> 0 | EB28: =EB46 -> ＩＣＴ工種 | EC28: =EC46 | ET28: =ET46 -> 施工場所 | EU28: =EU46 | EV28: =EV46 | EZ28: =EZ46 -> 工場住所 | FA28: =FA46 -> 浜田市○○町３２１－３
A29: コピー専用行 | B29: 4 | C29: =C45 -> 第2ｸﾞﾙｰﾌﾟ | E29: =IF(D27="","",IF(D27=1,ROUND(2/5*ROUNDDOWN(0.9*IF(E27<70,0,IF(E27<73,1,IF(80<=E27,5,ROUNDDOWN(1.5+(3.5*(E27-73)/7),1)))),1),1),IF(E27<70,0,IF(E27<73,0.4,IF(80<=E27,3,ROUND(2/5*ROUNDDOWN(1.5+(3.5*(E27-73)/7),1),1)))))) | F29: =F45 -> 第2ｸﾞﾙｰﾌﾟ | H29: =IF(G27="","",IF(G27=1,ROUND(2/5*ROUNDDOWN(0.9*IF(H27<70,0,IF(H27<73,1,IF(80<=H27,5,ROUNDDOWN(1.5+(3.5*(H27-73)/7),1)))),1),1),IF(H27<70,0,IF(H27<73,0.4,IF(80<=H27,3,ROUND(2/5*ROUNDDOWN(1.5+(3.5*(H27-73)/7),1),1)))))) | I29: =I47 -> 建設工事の種類 | J29: =J47 | K29: =K47 | L29: =L45 | M29: =M45 | AA29: =AA47 -> 請負金額 | AB29: =AB47 | AC29: =AC47 | AD29: =AD45 | AE29: =AE45 | AG29: =AG45 -> 第2ｸﾞﾙｰﾌﾟ | AI29: =IF(AH27="","",IF(AI27<70,0,IF(AH27>1,HLOOKUP(AI27,発注者入力シート!$AM$3:$AV$5,2)*1/5,IF(AH27=1,HLOOKUP(AI27,発注者入力シート!$AM$3:$AV$5,3)*1/5,"")))) | AS29: =AS47 -> 請負金額 | AT29: =AT47 | AU29: =AU47 | AV29: =AV45 | AW29: =AW45 | AY29: =AY45 -> 第2ｸﾞﾙｰﾌﾟ | BA29: =IF(AZ27="","",IF(BA27<70,0,IF(AZ27>1,HLOOKUP(BA27,発注者入力シート!$AM$3:$AV$5,2)*1/5,IF(AZ27=1,HLOOKUP(BA27,発注者入力シート!$AM$3:$AV$5,3)*1/5,"")))) | BK29: =BK47 -> 請負金額 | BL29: =BL47 | BM29: =BM47 | BN29: =BN45 | BO29: =BO45 | BQ29: =BQ45 -> 第2ｸﾞﾙｰﾌﾟ | BS29: =IF(BR27="","",IF(BS27<70,0,IF(BR27>1,HLOOKUP(BS27,発注者入力シート!$AM$3:$AV$5,2)*1/5,IF(BR27=1,HLOOKUP(BS27,発注者入力シート!$AM$3:$AV$5,3)*1/5,"")))) | BZ29: 協定の有無 | CA29: H25 | CB29: =CA47 -> 申請なし | CD29: =IF(CD52="","申請なし",IF(CD52="有",'BCP&防災協定 (JV用)'!E18&CHAR(10)&"実績あり",'BCP&防災協定 (JV用)'!E18&CHAR(10)&"実績なし")) -> 申請なし | CE29: =IF(CE52="","申請なし",IF(CE52="有",'BCP&防災協定 (JV用)'!G18&CHAR(10)&"実績あり",'BCP&防災協定 (JV用)'!G18&CHAR(10)&"実績なし")) -> 申請なし | CI29: 協定の有無 | CJ29: H25 | CK29: =CJ47 -> 申請なし | CM29: =IF(CM52="","申請なし",IF(CM52="有",'BCP&家畜伝染病防疫協定 (JV用)'!E18&CHAR(10)&"実績あり",'BCP&家畜伝染病防疫協定 (JV用)'!E18&CHAR(10)&"実績なし")) -> 申請なし | CN29: =IF(CN52="","申請なし",IF(CN52="有",'BCP&家畜伝染病防疫協定 (JV用)'!G18&CHAR(10)&"実績あり",'BCP&家畜伝染病防疫協定 (JV用)'!G18&CHAR(10)&"実績なし")) -> 申請なし | CO29: =CO46 | CP29: =CP46 | CQ29: =CQ46 | CR29: 従業員数 | CS29: =IF(CS50="無","",CS55) | CT29: =IF(CT50="無","",CT55) -> 従業員数 | CU29: =CU45 -> 発注機関 | CV29: =CV45 | CW29: =CW45 | CY29: =IF(CY51="申請なし","",CY52&CY54-CY53+1&"日") | CZ29: =IF(CZ51="申請なし","",CZ52&CZ54-CZ53+1&"日") | DA29: =DA45 -> 発注機関 | DB29: =DB45 | DC29: =DC45 | DE29: =IF(DE52="申請なし","",DE53&"") | DF29: =IF(DF52="申請なし","",DF53&"") | DG29: =IF(DG47="","申請なし","雇用"&DG47&"人"&CHAR(10)&"義務数（人）："&DG48) -> 雇用0人 義務数（人）：法定雇用義務なし | DH29: =IF(DH47="","申請なし","雇用"&DH47&"人"&CHAR(10)&"義務数（人）："&DH48) -> 雇用0人 義務数（人）：法定雇用義務なし | DP29: =DP47 -> 申請なし | DQ29: =DQ47 -> 申請なし | DS29: うち誓約書による申請 | DU29: =COUNTA(DU44,DU46,DU48)-COUNTBLANK(DT45)-COUNTBLANK(DT47)-COUNTBLANK(DT49) -> 0 | EB29: 内容 | EC29: ="①"&EC47&"／②"&EC48&"／③"&EC49&"／④"&EC50&"／⑤"&EC51 -> ①／②／③／④／⑤ | EE29: =EE45 | EF29: =EF45 | EG29: =EG45 | ET29: =ET47 -> 請負金額 | EU29: =EU47 | EV29: =EV47 | FC29: =FC46 -> 技術者数1 | FD29: =FD46
A30: コピー専用行 | B30: 5 | C30: 合計 | E30: =SUM(E28,E29) -> 0 | F30: 合計 | H30: =SUM(H28,H29) -> 0 | I30: 工期 | J30: =J50&CHAR(10)&J51 | K30: =K50&CHAR(10)&K51 | L30: =L46 | M30: =M46 | AA30: 工期（従事期間） | AB30: =AB48&CHAR(10)&"("&AB49&")" -> () | AC30: =AC48&CHAR(10)&"("&AC49&")" -> () | AD30: =AD46 | AE30: =AE46 | AG30: 合計 | AI30: =SUM(AI28,AI29) -> 0 | AS30: 工期（従事期間） | AT30: =AT48&CHAR(10)&"("&AT49&")" -> () | AU30: =AU48&CHAR(10)&"("&AU49&")" -> () | AV30: =AV46 | AW30: =AW46 | AY30: 合計 | BA30: =SUM(BA28,BA29) -> 0 | BK30: 工期（従事期間） | BL30: =BL48&CHAR(10)&"("&BL49&")" -> () | BM30: =BM48&CHAR(10)&"("&BM49&")" -> () | BN30: =BN46 | BO30: =BO46 | BQ30: 合計 | BS30: =SUM(BS28,BS29) -> 0 | CA30: H26 | CB30: =CB47 -> 申請なし | CJ30: H26 | CK30: =CK47 -> 申請なし | CO30: =CO49 -> ﾊｰﾄﾌﾙ活動 | CP30: =CP49 -> 申請なし | CQ30: =CQ49 -> 申請なし | CU30: =CU46 -> 元請・下請区分 | CV30: =CV46 -> 0 | CW30: =CW46 -> 0 | DA30: =DA46 -> 元請・下請区分 | DB30: =DB46 | DC30: =DC46 | DG30: 育児・介護休業制度 | ET30: 工期 | EU30: =EU48&CHAR(10)&EU49 | EV30: =EV48&CHAR(10)&EV49 | FC30: =FC47 -> 拠点名2 | FD30: =FD47 -> 申請なし
A31: コピー専用行 | B31: 6 | I31: 施工規模／形式 | J31: =J52&"／"&J53&" "&J54&" "&J55&" "&J56 -> ／ | K31: =K52&"／"&K53&" "&K54&" "&K55&" "&K56 -> ／ | L31: 工事種別／建設工事の種類 | M31: =M47&"／"&M48 -> ／ | AA31: 工事種別／建設工事の種類 | AB31: =AB50&"／"&AB51 -> ／ | AC31: =AC50&"／"&AC51 -> ／ | AD31: =AD47 | AE31: =AE47 | AG31: =AG46 -> 第1ｸﾞﾙｰﾌﾟ 配置なし | AS31: 工事種別／建設工事の種類 | AT31: =AT50&"／"&AT51 -> ／ | AU31: =AU50&"／"&AU51 -> ／ | AV31: =AV47 | AW31: =AW47 | AY31: =AY46 -> 第1ｸﾞﾙｰﾌﾟ 配置なし | BK31: 工事種別／建設工事の種類 | BL31: =BL50&"／"&BL51 -> ／ | BM31: =BM50&"／"&BM51 -> ／ | BN31: =BN47 | BO31: =BO47 | BQ31: =BQ46 -> 第1ｸﾞﾙｰﾌﾟ 配置なし | CO31: =CO51&CHAR(10)&CO52 | CP31: =IF(CP50="","","参加"&CP51&"人"&CHAR(10)&"従業員"&CP52&"人") | CQ31: =IF(CQ50="","","参加"&CQ51&"人"&CHAR(10)&"従業員"&CQ52&"人") | CU31: =CU47 -> 契約(始) | CV31: =CV47 | CW31: =CW47 | DA31: =DA47 -> 契約(始) | DB31: =DB47 | DC31: =DC47 | DG31: =IF(AND(DG49="",DG50=""),"申請なし",IF(DG49="有","法を超える制度",IF(DG50="有","こっころ認定","無"))) -> 申請なし | DH31: =IF(AND(DH49="",DH50=""),"申請なし",IF(DH49="有","法を超える制度",IF(DH50="有","こっころ認定","無"))) -> 申請なし | EB31: 工期（始） | EC31: =EC53 -> #VALUE! | ET31: =ET50 -> 工事成績 | EU31: =EU50 | EV31: =EV50 | FC31: =FC48 -> 所在地2 | FD31: =FD48
A32: コピー専用行 | B32: 7 | I32: =I57 -> 工事成績 | J32: =J57 | K32: =K57 | AA32: 役職 工事成績 | AB32: =IF(AB52="","",AB52&CHAR(10)&"("&AB57&"点)") | AC32: =IF(AC52="","",AC52&CHAR(10)&"("&AC57&"点)") | AD32: =AD48 | AE32: =AE48 | AG32: =AG47 -> 第2ｸﾞﾙｰﾌﾟ 配置なし | AS32: 役職 工事成績 | AT32: =IF(AT52="","",AT52&CHAR(10)&"("&AT57&"点)") | AU32: =IF(AU52="","",AU52&CHAR(10)&"("&AU57&"点)") | AV32: =AV48 | AW32: =AW48 | AY32: =AY47 -> 第2ｸﾞﾙｰﾌﾟ 配置なし | BK32: 役職 工事成績 | BL32: =IF(BL52="","",BL52&CHAR(10)&"("&BL57&"点)") | BM32: =IF(BM52="","",BM52&CHAR(10)&"("&BM57&"点)") | BN32: =BN48 | BO32: =BO48 | BQ32: =BQ47 -> 第2ｸﾞﾙｰﾌﾟ 配置なし | CO32: =CO50 | CP32: =CP50 | CQ32: =CQ50 | CU32: =CU48 -> 契約(終) | CV32: =CV48 | CW32: =CW48 | DA32: =DA48 -> 契約(終) | DB32: =DB48 | DC32: =DC48 | EB32: 工期（終） | EC32: =EC54 -> #VALUE! | ET32: =ET53&"/"&ET54 -> 工事種別/建設工事の種類 | EU32: =EU53&"/"&EU54 -> / | EV32: =EV53&"/"&EV54 -> /
A33: コピー専用行 | B33: 8 | AA33: 施工規模／形式 | AB33: =AB53&"／"&AB54&" "&AB55&" "&AB56 -> ／ | AC33: =AC53&"／"&AC54&" "&AC55&" "&AC56 -> ／ | AS33: 施工規模／形式 | AT33: =AT53&"／"&AT54&" "&AT55&" "&AT56 -> ／ | AU33: =AU53&"／"&AU54&" "&AU55&" "&AU56 -> ／ | BK33: 施工規模／形式 | BL33: =BL53&"／"&BL54&" "&BL55&" "&BL56 -> ／ | BM33: =BM53&"／"&BM54&" "&BM55&" "&BM56 -> ／ | CU33: =CU49 -> 施工箇所 | CV33: =CV49 | CW33: =CW49 | DA33: =DA49 -> 施工箇所 | DB33: =DB49 | DC33: =DC49 | EB33: 工事成績 | EC33: =EC55 | FC33: =FC49 -> 技術者数2 | FD33: =FD49
U34: =IF(企業入力シート!C25="","配置なし","配置あり") -> 配置なし | X34: =IF(企業入力シート!C25="","配置なし","配置あり") -> 配置なし | AA34: =IF(企業入力シート!C25="","配置なし","配置あり") -> 配置なし | AD34: =IF(企業入力シート!C25="","配置なし","配置あり") -> 配置なし | AG34: =IF(企業入力シート!C25="","配置なし","配置あり") -> 配置なし | AH34: =IF(企業入力シート!C54="","配置なし","配置あり") -> 配置なし | AM34: =IF(企業入力シート!C26="","配置なし","配置あり") -> 配置なし | AP34: =IF(企業入力シート!C26="","配置なし","配置あり") -> 配置なし | AS34: =IF(企業入力シート!C26="","配置なし","配置あり") -> 配置なし | AV34: =IF(企業入力シート!C26="","配置なし","配置あり") -> 配置なし | AY34: =IF(企業入力シート!C26="","配置なし","配置あり") -> 配置なし | AZ34: =IF(企業入力シート!C55="","配置なし","配置あり") -> 配置なし | BE34: =IF(企業入力シート!C27="","配置なし","配置あり") -> 配置なし | BH34: =IF(企業入力シート!C27="","配置なし","配置あり") -> 配置なし | BK34: =IF(企業入力シート!C27="","配置なし","配置あり") -> 配置なし | BN34: =IF(企業入力シート!C27="","配置なし","配置あり") -> 配置なし | BQ34: =IF(企業入力シート!C27="","配置なし","配置あり") -> 配置なし | BR34: =IF(企業入力シート!C56="","配置なし","配置あり") -> 配置なし
A36: 以下、集計専用表（コピー箇所ではありません）
B37: a0 | C37: 企業 | F37: 企業 | I37: 企業 | L37: 企業 | O37: 企業 | R37: 企業 | U37: 配置予定技術者① | X37: 配置予定技術者① | AA37: 配置予定技術者① | AD37: 配置予定技術者① | AG37: 配置予定技術者① | AJ37: 配置予定技術者① | AM37: 配置予定技術者② | AP37: 配置予定技術者② | AS37: 配置予定技術者② | AV37: 配置予定技術者② | AY37: 配置予定技術者② | BB37: 配置予定技術者② | BE37: 配置予定技術者③ | BH37: 配置予定技術者③ | BK37: 配置予定技術者③ | BN37: 配置予定技術者③ | BQ37: 配置予定技術者③ | BT37: 配置予定技術者③ | BW37: 地域貢献・その他 | BZ37: 地域貢献・その他 | CC37: 地域貢献・その他 | CF37: 地域貢献・その他 | CI37: 地域貢献・その他 | CL37: 地域貢献・その他 | CO37: 地域貢献・その他 | CR37: 地域貢献・その他 | CU37: 地域貢献・その他 | CX37: 地域貢献・その他 | DA37: 地域貢献・その他 | DD37: 地域貢献・その他 | DG37: 地域貢献・その他 | DJ37: 【電気工事】、【塗装工事】企業 | DM37: 地域貢献・その他 | DP37: 地域貢献・その他 | DS37: 地域貢献・その他 | DV37: 地域貢献・その他 | DY37: 地域貢献・その他 | EB37: 地域貢献・その他 | EE37: 地域貢献・その他【水産】 | EH37: 地域貢献・その他 | EK37: 地域貢献・その他 | EN37: 地域貢献・その他 | EQ37: 地域貢献・その他 | ET37: 地理的条件 | EW37: 地理的条件 | EZ37: 地理的条件 | FC37: 地理的条件 | FF37: 地理的条件 | FI37: 地理的条件
B38: a1 | C38: 工事成績評定点(JV3年用) | F38: 工事成績評定点(JV5年用) | I38: 施工実績 | L38: 優良工事表彰 | O38: 優良工事表彰(JV) | R38: 予備欄 | U38: 継続学習 | X38: 資格 | AA38: 施工経験 | AD38: 優秀建設技術者表彰 | AG38: 工事成績評定点(JV) | AJ38: 予備欄 | AM38: 継続学習 | AP38: 資格 | AS38: 施工経験 | AV38: 優秀建設技術者表彰 | AY38: 工事成績評定点（JV） | BB38: 予備欄 | BE38: 継続学習 | BH38: 資格 | BK38: 施工経験 | BN38: 優秀建設技術者表彰 | BQ38: 工事成績評定点（JV） | BT38: 予備欄 | BW38: 防災協定 | BZ38: BCP認定状況及び防災協定 | CC38: BCP認定状況及び防災協定(JV) | CF38: 家畜伝染病防疫協定 | CI38: BCP認定状況及び家畜伝染病防疫協定 | CL38: BCP認定状況・家畜伝染病防疫協定(JV) | CO38: ボランティア | CR38: ボランティア（JV） | CU38: 維持管理業務 | CX38: 維持管理(JV) | DA38: 除雪業務 | DD38: 除雪業務(JV) | DG38: 労働福祉関連（JV） | DJ38: 登録基幹技能者 | DM38: 若手・中堅技術者配置 | DP38: 若手技術者・従業員の新規雇用（JV） | DS38: 建設機械保有状況 | DV38: 消防団協力事業所 | DY38: CCUSの活用 | EB38: ＩＣＴ施工実績 | EE38: 海上援助活動の実績 | EH38: 予備欄 | EK38: 予備欄 | EN38: 予備欄 | EQ38: 予備欄 | ET38: 近隣地域での施工実績 | EW38: 会社所在地 | EZ38: 工場・会社所在地 | FC38: サポート拠点
B39: a | C39: 完成年度 | D39: =IF('企業成績評定点 (JV3年用)'!G6="","",'企業成績評定点 (JV3年用)'!G6) -> 令和５年度から令和７年度（完成及び引き渡しが完了） | F39: 完成年度 | G39: =IF('企業成績評定点 (JV5年用) '!D7="","",'企業成績評定点 (JV5年用) '!D7) -> 令和３年度から令和７年度（完成及び引き渡しが完了） | I39: 対象期間 | J39: =IF(同種工事施工実績!F6="","",同種工事施工実績!F6) -> 平成２８年度から入札公告日前日までに完成及び引き渡しが完了した島根県及び中国地方整備局発注工事 | L39: 対象年度・機関等 | M39: =IF(優良工事表彰!E6="","",優良工事表彰!E6) -> 島根県内の公共事業において、令和４年度から令和８年度に、島根県及び中国地方整備局発注工事で受けた優良工事表彰（優良工事施工団体表彰） | O39: 対象年度・機関等 | P39: =IF('優良工事表彰 (JV) '!A6="","",'優良工事表彰 (JV) '!A6) -> 島根県内の公共事業において、令和４年度から令和８年度に、島根県及び中国地方整備局発注工事で受けた優良工事表彰（優良工事施工団体表彰） | U39: =IF(技術者継続学習!B8="","",技術者継続学習!B8) -> 配置予定の主任（監理）技術者が保有するCPDSユニット | X39: 対象資格 | Y39: =IF(技術者資格!B9="","",技術者資格!B9) -> 1級土木施工管理技士又は1級建設機械施工技士 | AA39: 対象年度・機関等 | AB39: =IF(同種工事施工経験!F6="","",同種工事施工経験!F6) -> 平成２８年度から入札公告日前日までに完成及び引き渡しが完了した島根県及び中国地方整備局発注工事 | AD39: 対象年度・機関等 | AE39: =IF(優秀技術者表彰!E6="","",優秀技術者表彰!E6) -> 島根県内の公共事業において、令和４年度から令和８年度に、島根県及び中国地方整備局発注工事で主任（監理）技術者または現場代理人として受けた優秀建設技術者表彰 | AG39: =IF('技術者成績評定点 (第1G用) '!C7="","",'技術者成績評定点 (第1G用) '!C7) -> 完成年度 | AH39: =IF('技術者成績評定点 (第1G用) '!F7="","",'技術者成績評定点 (第1G用) '!F7) -> 令和３年度から令和７年度に完成及び引き渡しが完了した工事 | AI39: =IF('技術者成績評定点 (第1G用) '!E7="","",'技術者成績評定点 (第1G用) '!E7) | AM39: =IF(技術者継続学習!B8="","",技術者継続学習!B8) -> 配置予定の主任（監理）技術者が保有するCPDSユニット | AP39: 対象資格 | AQ39: =IF(技術者資格!B9="","",技術者資格!B9) -> 1級土木施工管理技士又は1級建設機械施工技士 | AS39: 対象年度・機関等 | AT39: =IF(同種工事施工経験!F6="","",同種工事施工経験!F6) -> 平成２８年度から入札公告日前日までに完成及び引き渡しが完了した島根県及び中国地方整備局発注工事 | AV39: 対象年度・機関等 | AW39: =IF(優秀技術者表彰!E6="","",優秀技術者表彰!E6) -> 島根県内の公共事業において、令和４年度から令和８年度に、島根県及び中国地方整備局発注工事で主任（監理）技術者または現場代理人として受けた優秀建設技術者表彰 | AY39: =IF('技術者成績評定点 (第1G用) '!C7="","",'技術者成績評定点 (第1G用) '!C7) -> 完成年度 | AZ39: =IF('技術者成績評定点 (第1G用) '!F7="","",'技術者成績評定点 (第1G用) '!F7) -> 令和３年度から令和７年度に完成及び引き渡しが完了した工事 | BA39: =IF('技術者成績評定点 (第1G用) '!W7="","",'技術者成績評定点 (第1G用) '!W7) | BE39: =IF(技術者継続学習!B8="","",技術者継続学習!B8) -> 配置予定の主任（監理）技術者が保有するCPDSユニット | BH39: 対象資格 | BI39: =IF(技術者資格!B9="","",技術者資格!B9) -> 1級土木施工管理技士又は1級建設機械施工技士 | BK39: 対象年度・機関等 | BL39: =IF(同種工事施工経験!F6="","",同種工事施工経験!F6) -> 平成２８年度から入札公告日前日までに完成及び引き渡しが完了した島根県及び中国地方整備局発注工事 | BN39: 対象年度・機関等 | BO39: =IF(優秀技術者表彰!E6="","",優秀技術者表彰!E6) -> 島根県内の公共事業において、令和４年度から令和８年度に、島根県及び中国地方整備局発注工事で主任（監理）技術者または現場代理人として受けた優秀建設技術者表彰 | BQ39: =IF('技術者成績評定点 (第1G用) '!C7="","",'技術者成績評定点 (第1G用) '!C7) -> 完成年度 | BR39: =IF('技術者成績評定点 (第1G用) '!F7="","",'技術者成績評定点 (第1G用) '!F7) -> 令和３年度から令和７年度に完成及び引き渡しが完了した工事 | BS39: =IF('技術者成績評定点 (第1G用) '!AO7="","",'技術者成績評定点 (第1G用) '!AO7) | BW39: 対象 | BX39: =IF(防災協定!B8="","",防災協定!B8) -> 令和６年度及び令和７年度における島根県との防災協定の締結実績 | BZ39: =IF('BCP&防災協定'!B10="","",'BCP&防災協定'!B10) -> 入札公告日前日時点（令和8年9月24日時点）での事業継続計画（BCP）の認定状況 | CC39: =IF('BCP&防災協定 (JV用)'!B7="","",'BCP&防災協定 (JV用)'!B7) -> 入札公告日前日時点（令和8年9月24日時点）での事業継続計画（BCP）の認定状況 | CF39: 対象 | CG39: =IF(家畜伝染防疫協定!B8="","",家畜伝染防疫協定!B8) -> 令和６年度及び令和７年度における島根県との家畜伝染病防疫協定の締結実績 | CI39: =IF('BCP&家畜伝染病防疫協定'!B10="","",'BCP&家畜伝染病防疫協定'!B10) -> 入札公告日前日時点（令和8年9月24日時点）での事業継続計画（BCP）の認定状況 | CL39: ='BCP&家畜伝染病防疫協定 (JV用)'!B7 -> 入札公告日前日時点（令和8年9月24日時点）での事業継続計画（BCP）の認定状況 | CO39: 対象 | CP39: =IF(ボランティア!B6="","",ボランティア!B6) -> 令和６年度及び令和７年度における島根県内で実施されたボランティア活動又はハートフルしまねへの参加実績 | CR39: 対象 | CS39: =IF('ボランティア (JV)'!B7="","",'ボランティア (JV)'!B7) -> 令和６年度及び令和７年度における島根県内で実施されたボランティア活動又はハートフルしまねへの参加実績 | CU39: 対象 | CV39: =IF(維持管理業務!B7="","",維持管理業務!B7) -> 令和６年度及び令和７年度の県管理公共土木施設に関する維持管理業務または海岸漂着物の回収業務の契約実績 | CX39: 対象 | CY39: =IF('維持管理業務 (JV)'!B7="","",'維持管理業務 (JV)'!B7) -> 令和６年度及び令和７年度の県管理公共土木施設に関する維持管理業務または海岸漂着物の回収業務の契約実績 | DA39: 対象 | DB39: =IF(除雪業務!B8="","",除雪業務!B8) -> 令和６年度及び令和７年度の県管理道路・空港を含む除雪業務の契約実績 | DD39: 対象 | DE39: =IF('除雪業務 (JV)'!B8="","",'除雪業務 (JV)'!B8) -> 令和６年度及び令和７年度の県管理道路・空港を含む除雪業務の契約実績 | DG39: 対象 | DH39: 入札公告日前日時点での取り組み状況 | DJ39: =IF(登録基幹技能者!B9="","",登録基幹技能者!B9) -> 登録電気基幹技能者の現場への配置 | DM39: =IF(若手・中堅技術者の配置!B9="","",若手・中堅技術者の配置!B9) -> ４０歳未満の技術者を主任技術者又は監理技術者として配置 | DP39: 対象 | DQ39: ='若手技術者・従業員新規雇用（JV)'!B7 -> 令和６年4月1日以降に、若手技術者・若手従業員（30歳未満の者）の１人以上の新規雇用があること。 | DS39: =IF(建設機械の保有状況!B6="","",建設機械の保有状況!B6) -> 入札公告日前日時点（令和8年9月24日時点）で建設機械を３台以上保有もしくは長期リース契約していること | DV39: 対象 | DW39: 入札公告日前日時点での認定状況 | DY39: 対象 | DZ39: 当該工事での建設キャリアアップシステム（CCUS）の活用 | EB39: 対象工事 | EC39: =ＩＣＴ施工実績!F9 -> 令和６年度から入札公告前日までに完成及び引き渡しが完了した島根県発注のＩＣＴ活用工事 | EE39: 対象 | EF39: =IF(【水産】海上援助活動!B8="","",【水産】海上援助活動!B8) -> 令和３年度から令和７年度における県内で発生した海難事故等に伴う海上援助活動の実績 | ET39: 対象 | EU39: =IF(近隣施工実績!B10="","",近隣施工実績!B10) -> 令和６年度及び令和７年度に完成及び引き渡しが完了した島根県（総務部、農林水産部、土木部）発注の下記工事 | EW39: 対象 | EX39: =IF(会社所在地!B10="","",会社所在地!B10) -> 入札公告日前日において、県央県土整備事務所管内に建設業法で規定する主たる営業所（本店）または従たる営業所（支店、営業所）がある者 | EZ39: 対象 | FA39: =IF(【鋼橋上部】工場会社所在地!B10="","",【鋼橋上部】工場会社所在地!B10) -> 島根県内における建設業法で規定する主たる営業所（本店）または従たる営業所（支店、営業所）がある者及び橋梁用桁製作の機能を有する工場がある者 | FC39: 対象 | FD39: =IF(サポート拠点!B9="","",サポート拠点!B9) -> ○○内におけるサポート拠点の所在と技術者の在籍
B40: b | C40: 発注機関 | D40: =IF('企業成績評定点 (JV3年用)'!G7="","",'企業成績評定点 (JV3年用)'!G7) -> 島根県（総務部、農林水産部、土木部） | F40: 発注機関 | G40: =IF('企業成績評定点 (JV5年用) '!D8="","",'企業成績評定点 (JV5年用) '!D8) -> 島根県（総務部、農林水産部、土木部） | I40: 同種工事 | J40: =IF(同種工事施工実績!F10="","",同種工事施工実績!F10) -> １契約で最終数量９７台以上の道路トンネル照明器具設置（新設又は更新）を含む完成及び引き渡しが完了した工事 | AA40: 同種工事 | AB40: =IF(同種工事施工経験!F8="","",同種工事施工経験!F8) -> １契約で最終数量９７台以上の道路トンネル照明器具設置（新設又は更新）を含む完成及び引き渡しが完了した工事 | AG40: =IF('技術者成績評定点 (第1G用) '!C8="","",'技術者成績評定点 (第1G用) '!C8) -> 発注機関 | AH40: =IF('技術者成績評定点 (第1G用) '!F8="","",'技術者成績評定点 (第1G用) '!F8) -> 島根県（総務部、農林水産部、土木部） | AI40: =IF('技術者成績評定点 (第1G用) '!E8="","",'技術者成績評定点 (第1G用) '!E8) | AS40: 同種工事 | AT40: =IF(同種工事施工経験!F8="","",同種工事施工経験!F8) -> １契約で最終数量９７台以上の道路トンネル照明器具設置（新設又は更新）を含む完成及び引き渡しが完了した工事 | AY40: =IF('技術者成績評定点 (第1G用) '!C8="","",'技術者成績評定点 (第1G用) '!C8) -> 発注機関 | AZ40: =IF('技術者成績評定点 (第1G用) '!F8="","",'技術者成績評定点 (第1G用) '!F8) -> 島根県（総務部、農林水産部、土木部） | BA40: =IF('技術者成績評定点 (第1G用) '!W8="","",'技術者成績評定点 (第1G用) '!W8) | BK40: 同種工事 | BL40: =IF(同種工事施工経験!F8="","",同種工事施工経験!F8) -> １契約で最終数量９７台以上の道路トンネル照明器具設置（新設又は更新）を含む完成及び引き渡しが完了した工事 | BQ40: =IF('技術者成績評定点 (第1G用) '!C8="","",'技術者成績評定点 (第1G用) '!C8) -> 発注機関 | BR40: =IF('技術者成績評定点 (第1G用) '!F8="","",'技術者成績評定点 (第1G用) '!F8) -> 島根県（総務部、農林水産部、土木部） | BS40: =IF('技術者成績評定点 (第1G用) '!AO8="","",'技術者成績評定点 (第1G用) '!AO8) | ET40: 対象工事 | EU40: =IF(近隣施工実績!F12="","",近隣施工実績!F12) -> （例）○○県土整備事務所管内における請負金額５００万以上（税込）の工事
B41: c | C41: 工事種別 | D41: =IF('企業成績評定点 (JV3年用)'!G8="","",'企業成績評定点 (JV3年用)'!G8) -> 電気工事 | F41: 工事種別 | G41: =IF('企業成績評定点 (JV5年用) '!D9="","",'企業成績評定点 (JV5年用) '!D9) -> 電気工事、維持修繕工事 | I41: 工事種別 | J41: =IF(同種工事施工実績!F8="","",同種工事施工実績!F8) -> 電気工事、維持修繕工事 | L41: 工事種別 | M41: =IF(優良工事表彰!E9="","",優良工事表彰!E9) -> 電気工事 | AA41: 工事種別 | AB41: =IF(同種工事施工経験!F11="","",同種工事施工経験!F11) -> 電気工事、維持修繕工事 | AD41: 工事種別 | AE41: =IF(優秀技術者表彰!E9="","",優秀技術者表彰!E9) -> 電気工事 | AG41: =IF('技術者成績評定点 (第1G用) '!C9="","",'技術者成績評定点 (第1G用) '!C9) -> 工事種別 | AH41: =IF('技術者成績評定点 (第1G用) '!F9="","",'技術者成績評定点 (第1G用) '!F9) -> 電気工事、維持修繕工事 | AI41: =IF('技術者成績評定点 (第1G用) '!E9="","",'技術者成績評定点 (第1G用) '!E9) | AS41: 工事種別 | AT41: =IF(同種工事施工経験!F11="","",同種工事施工経験!F11) -> 電気工事、維持修繕工事 | AV41: 工事種別 | AW41: =IF(優秀技術者表彰!E9="","",優秀技術者表彰!E9) -> 電気工事 | AY41: =IF('技術者成績評定点 (第1G用) '!C9="","",'技術者成績評定点 (第1G用) '!C9) -> 工事種別 | AZ41: =IF('技術者成績評定点 (第1G用) '!F9="","",'技術者成績評定点 (第1G用) '!F9) -> 電気工事、維持修繕工事 | BA41: =IF('技術者成績評定点 (第1G用) '!W9="","",'技術者成績評定点 (第1G用) '!W9) | BK41: 工事種別 | BL41: =IF(同種工事施工経験!F11="","",同種工事施工経験!F11) -> 電気工事、維持修繕工事 | BN41: 工事種別 | BO41: =IF(優秀技術者表彰!E9="","",優秀技術者表彰!E9) -> 電気工事 | BQ41: =IF('技術者成績評定点 (第1G用) '!C9="","",'技術者成績評定点 (第1G用) '!C9) -> 工事種別 | BR41: =IF('技術者成績評定点 (第1G用) '!F9="","",'技術者成績評定点 (第1G用) '!F9) -> 電気工事、維持修繕工事 | BS41: =IF('技術者成績評定点 (第1G用) '!AO9="","",'技術者成績評定点 (第1G用) '!AO9) | BZ41: =IF('BCP&防災協定'!B18="","",'BCP&防災協定'!B18) -> 令和６年度及び令和７年度における島根県との防災協定の締結実績 | CC41: =IF('BCP&防災協定 (JV用)'!B15="","",'BCP&防災協定 (JV用)'!B15) -> 令和６年度及び令和７年度における島根県との防災協定の締結実績 | CI41: =IF('BCP&家畜伝染病防疫協定'!B17="","",'BCP&家畜伝染病防疫協定'!B17) -> 令和６年度及び令和７年度における島根県との家畜伝染病防疫協定の締結実績 | CL41: ='BCP&家畜伝染病防疫協定 (JV用)'!B15 -> 令和６年度及び令和７年度における島根県との家畜伝染病防疫協定の締結実績 | ET41: 工事種別 | EU41: =IF(近隣施工実績!F14="","",近隣施工実績!F14) -> 電気工事、維持修繕工事
B42: d | C42: 建設工事の種類 | D42: =IF('企業成績評定点 (JV3年用)'!G9="","",'企業成績評定点 (JV3年用)'!G9) -> 電気工事 | F42: 建設工事の種類 | G42: =IF('企業成績評定点 (JV5年用) '!D10="","",'企業成績評定点 (JV5年用) '!D10) -> 電気工事 | I42: 建設工事の種類 | J42: =IF(同種工事施工実績!F9="","",同種工事施工実績!F9) -> 電気工事 | L42: 建設工事の種類 | M42: =IF(優良工事表彰!E10="","",優良工事表彰!E10) -> 電気工事 | AA42: 建設工事の種類 | AB42: =IF(同種工事施工経験!F12="","",同種工事施工経験!F12) -> 電気工事 | AD42: 建設工事の種類 | AE42: =IF(優秀技術者表彰!E10="","",優秀技術者表彰!E10) -> 電気工事 | AG42: =IF('技術者成績評定点 (第1G用) '!C10="","",'技術者成績評定点 (第1G用) '!C10) -> 建設工事の種類 | AH42: =IF('技術者成績評定点 (第1G用) '!F10="","",'技術者成績評定点 (第1G用) '!F10) -> 電気工事 | AI42: =IF('技術者成績評定点 (第1G用) '!E10="","",'技術者成績評定点 (第1G用) '!E10) | AS42: 建設工事の種類 | AT42: =IF(同種工事施工経験!F12="","",同種工事施工経験!F12) -> 電気工事 | AV42: 建設工事の種類 | AW42: =IF(優秀技術者表彰!E10="","",優秀技術者表彰!E10) -> 電気工事 | AY42: =IF('技術者成績評定点 (第1G用) '!C10="","",'技術者成績評定点 (第1G用) '!C10) -> 建設工事の種類 | AZ42: =IF('技術者成績評定点 (第1G用) '!F10="","",'技術者成績評定点 (第1G用) '!F10) -> 電気工事 | BA42: =IF('技術者成績評定点 (第1G用) '!W10="","",'技術者成績評定点 (第1G用) '!W10) | BK42: 建設工事の種類 | BL42: =IF(同種工事施工経験!F12="","",同種工事施工経験!F12) -> 電気工事 | BN42: 建設工事の種類 | BO42: =IF(優秀技術者表彰!E10="","",優秀技術者表彰!E10) -> 電気工事 | BQ42: =IF('技術者成績評定点 (第1G用) '!C10="","",'技術者成績評定点 (第1G用) '!C10) -> 建設工事の種類 | BR42: =IF('技術者成績評定点 (第1G用) '!F10="","",'技術者成績評定点 (第1G用) '!F10) -> 電気工事 | BS42: =IF('技術者成績評定点 (第1G用) '!AO10="","",'技術者成績評定点 (第1G用) '!AO10) | EB42: 対象ＩＣＴ工種 | EC42: =ＩＣＴ施工実績!U11 -> 舗装工（修繕工）、舗装工 | ET42: 建設工事の種類 | EU42: =IF(近隣施工実績!F15="","",近隣施工実績!F15) -> 電気工事
B43: e | C43: 対象 | D43: 該当件数 | E43: 平均点 | F43: 対象 | G43: 該当件数 | H43: 平均点 | I43: 項目名 | J43: 工事① | K43: 工事② | L43: 表彰区分 | M43: 実績 | O43: 受賞企業 | P43: 企業名 | Q43: 工事名／工事種別／工事の種類 | U43: 項目名 | V43: ユニット数 | X43: 項目名 | Y43: 状況 | AA43: 項目名 | AB43: 工事① | AC43: 工事② | AD43: 項目名 | AE43: 実績 | AG43: 該当企業 | AH43: 件数 | AI43: 平均点 | AM43: 項目名 | AN43: ユニット数 | AP43: 項目名 | AQ43: 状況 | AS43: 項目名 | AT43: 工事① | AU43: 工事② | AV43: 項目名 | AW43: 実績 | AY43: 該当企業 | AZ43: 件数 | BA43: 平均点 | BE43: 項目名 | BF43: ユニット数 | BH43: 項目名 | BI43: 状況 | BK43: 項目名 | BL43: 工事① | BM43: 工事② | BN43: 項目名 | BO43: 実績 | BQ43: 該当企業 | BR43: 件数 | BS43: 平均点 | BW43: 項目名 | BX43: 令和４年度 | BY43: 令和５年度 | BZ43: 項目名 | CA43: 状況 | CC43: 項目名 | CD43: 状況 | CF43: 項目名 | CG43: 令和４年度 | CH43: 令和５年度 | CI43: 項目名 | CJ43: 状況 | CL43: 項目名 | CM43: 状況 | CO43: 項目名 | CP43: 令和４年度 | CQ43: 令和５年度 | CR43: 対象企業 | CS43: ボランティア | CT43: ﾊｰﾄﾌﾙ | CU43: 項目名 | CV43: 令和４年度 | CW43: 令和５年度 | CX43: 項目名 | CY43: 令和４年度 | CZ43: 令和５年度 | DA43: 項目名 | DB43: 令和４年度 | DC43: 令和５年度 | DD43: 項目名 | DE43: 令和４年度 | DF43: 令和５年度 | DG43: 第1ｸﾞﾙｰﾌﾟ | DH43: 第2ｸﾞﾙｰﾌﾟ | DJ43: 項目名 | DK43: 状況 | DM43: 項目名 | DN43: 生年月日 | DO43: 年齢 | DP43: 第1ｸﾞﾙｰﾌﾟ | DQ43: 第2ｸﾞﾙｰﾌﾟ | DS43: 項目名 | DU43: 状況 | DV43: 項目名 | DW43: 状況 | DY43: 項目名 | DZ43: 状況 | EB43: 項目名 | EC43: 実績① | ED43: 実績② | EE43: 項目名 | EF43: 実績① | EG43: 実績② | ET43: 項目名 | EU43: 工事① | EV43: 工事② | EW43: 項目名 | EX43: 状況 | EZ43: 項目名 | FA43: 状況 | FC43: 項目名 | FD43: 状況
B44: 1 | C44: 第1ｸﾞﾙｰﾌﾟ | D44: =IF('企業成績評定点 (JV3年用)'!G31="","",'企業成績評定点 (JV3年用)'!G31) | E44: =IF('企業成績評定点 (JV3年用)'!J31="","",'企業成績評定点 (JV3年用)'!J31) | F44: 第1ｸﾞﾙｰﾌﾟ | G44: =IF('企業成績評定点 (JV5年用) '!G19="","",'企業成績評定点 (JV5年用) '!G19) | H44: =IF('企業成績評定点 (JV5年用) '!J19="","",'企業成績評定点 (JV5年用) '!J19) | I44: 工事名 | J44: =IF(同種工事施工実績!F14="","申請なし",同種工事施工実績!F14) -> 申請なし | K44: =IF(同種工事施工実績!M14="","申請なし",同種工事施工実績!M14) -> 申請なし | L44: =IF(M45="","申請なし","工事名") -> 申請なし | M44: =IF(M45="","",IF(優良工事表彰!E14="","",優良工事表彰!E14)) | O44: =IF(OR('優良工事表彰 (JV) '!B11="",'優良工事表彰 (JV) '!L10=""),"",'優良工事表彰 (JV) '!B11) | P44: =IF('優良工事表彰 (JV) '!B10="","",'優良工事表彰 (JV) '!B10) | Q44: =IF('優良工事表彰 (JV) '!L10="","",'優良工事表彰 (JV) '!L10) | U44: =IF(U34="配置なし","配置なし",IF(V44="","申請なし","ﾕﾆｯﾄ数")) -> 配置なし | V44: =IF(U34="配置なし","",IF(技術者継続学習!F11="","",技術者継続学習!F11)) | X44: =IF(X34="配置なし","配置なし",IF(Y44="","申請なし","名称")) -> 配置なし | Y44: =IF(X34="配置なし","",IF(技術者資格!F12="","",技術者資格!F12)) | AA44: 工事名 | AB44: =IF(AA34="配置なし","配置なし",IF(同種工事施工経験!F15="","申請なし",同種工事施工経験!F15)) -> 配置なし | AC44: =IF(AA34="配置なし","",IF(同種工事施工経験!M15="","申請なし",同種工事施工経験!M15)) | AD44: =IF(AD34="配置なし","配置なし",IF(AE45="","申請なし","工事名")) -> 配置なし | AE44: =IF(AD34="配置なし","",IF(AE45="","",IF(優秀技術者表彰!F16="","",優秀技術者表彰!F16))) | AG44: 第1ｸﾞﾙｰﾌﾟ | AH44: =IF('技術者成績評定点 (第1G用) '!F15="","",'技術者成績評定点 (第1G用) '!F15) | AI44: =IF('技術者成績評定点 (第1G用) '!J15="","",'技術者成績評定点 (第1G用) '!J15) | AM44: =IF(AM34="配置なし","配置なし",IF(AN44="","申請なし","ﾕﾆｯﾄ数")) -> 配置なし | AN44: =IF(AM34="配置なし","",IF(技術者継続学習!F13="","",技術者継続学習!F13)) | AP44: =IF(AP34="配置なし","配置なし",IF(AQ44="","申請なし","名称")) -> 配置なし | AQ44: =IF(AP34="配置なし","",IF(技術者資格!F14="","",技術者資格!F14)) | AS44: 工事名 | AT44: =IF(AS34="配置なし","配置なし",IF(同種工事施工経験!F143="","申請なし",同種工事施工経験!F143)) -> 配置なし | AU44: =IF(AS34="配置なし","",IF(同種工事施工経験!M143="","申請なし",同種工事施工経験!M143)) | AV44: =IF(AV34="配置なし","配置なし",IF(AW45="","申請なし","工事名")) -> 配置なし | AW44: =IF(AV34="配置なし","",IF(AW45="","",IF(優秀技術者表彰!F24="","",優秀技術者表彰!F24))) | AY44: 第1ｸﾞﾙｰﾌﾟ | AZ44: =IF('技術者成績評定点 (第1G用) '!F22="","",'技術者成績評定点 (第1G用) '!F22) | BA44: =IF('技術者成績評定点 (第1G用) '!J22="","",'技術者成績評定点 (第1G用) '!J22) | BE44: =IF(BE34="配置なし","配置なし",IF(BF44="","申請なし","ﾕﾆｯﾄ数")) -> 配置なし | BF44: =IF(BE34="配置なし","",IF(技術者継続学習!F15="","",技術者継続学習!F15)) | BH44: =IF(BH34="配置なし","配置なし",IF(BI44="","申請なし","名称")) -> 配置なし | BI44: =IF(BH34="配置なし","",IF(技術者資格!F16="","",技術者資格!F16)) | BK44: 工事名 | BL44: =IF(BK34="配置なし","配置なし",IF(同種工事施工経験!F196="","申請なし",同種工事施工経験!F196)) -> 配置なし | BM44: =IF(BK34="配置なし","",IF(同種工事施工経験!M196="","申請なし",同種工事施工経験!M196)) | BN44: =IF(BN34="配置なし","配置なし",IF(BO45="","申請なし","工事名")) -> 配置なし | BO44: =IF(BN34="配置なし","",IF(BO45="","",IF(優秀技術者表彰!F32="","",優秀技術者表彰!F32))) | BQ44: 第1ｸﾞﾙｰﾌﾟ | BR44: =IF('技術者成績評定点 (第1G用) '!F29="","",'技術者成績評定点 (第1G用) '!F29) | BS44: =IF('技術者成績評定点 (第1G用) '!J29="","",'技術者成績評定点 (第1G用) '!J29) | BW44: 協定実績 | BX44: =IF(防災協定!G10="","申請なし",防災協定!G10) -> 申請なし | BY44: =IF(防災協定!G11="","申請なし",防災協定!G11) -> 申請なし | BZ44: BCP認定の有無 | CA44: =IF('BCP&防災協定'!A13="","申請なし",'BCP&防災協定'!A13) -> 申請なし | CC44: 第1ｸﾞﾙｰﾌﾟ | CF44: 協定実績 | CG44: =IF(家畜伝染防疫協定!G10="","申請なし",家畜伝染防疫協定!G10) -> 申請なし | CH44: =IF(家畜伝染防疫協定!G11="","申請なし",家畜伝染防疫協定!G11) -> 申請なし | CI44: BCP認定の有無 | CJ44: =IF('BCP&家畜伝染病防疫協定'!A12="","申請なし",'BCP&家畜伝染病防疫協定'!A12) -> 申請なし | CL44: 第1ｸﾞﾙｰﾌﾟ | CO44: ボランティア活動内容 | CP44: =IF(CP46="","申請なし",IF(ボランティア!F10="","",ボランティア!F10)) -> 申請なし | CQ44: =IF(CQ46="","申請なし",IF(ボランティア!F13="","",ボランティア!F13)) -> 申請なし | CR44: 第1ｸﾞﾙｰﾌﾟ | CS44: =IF(CS48="","申請なし","有") -> 申請なし | CT44: =IF(CT48="","申請なし","有") -> 申請なし | CU44: 業務名 | CV44: =IF(維持管理業務!I15="","",維持管理業務!I15) | CW44: =IF(維持管理業務!I20="","",維持管理業務!I20) | CX44: 第1ｸﾞﾙｰﾌﾟ | DA44: 業務名 | DB44: =IF(除雪業務!I16="","",除雪業務!I16) | DC44: =IF(除雪業務!I21="","",除雪業務!I21) | DD44: 第1ｸﾞﾙｰﾌﾟ | DJ44: 配置の有無 | DK44: =IF(登録基幹技能者!E10="","申請なし",登録基幹技能者!E10) -> 申請なし | DM44: 技術者① | DN44: =IF(若手・中堅技術者の配置!B12="","配置なし",若手・中堅技術者の配置!F12) -> 配置なし | DO44: =IF(若手・中堅技術者の配置!B12="","",若手・中堅技術者の配置!M12) | DP44: 雇用① | DQ44: 雇用① | DS44: ① | DT44: =IF(建設機械の保有状況!B12="","",建設機械の保有状況!B12) | DU44: =IF(建設機械の保有状況!E12="","",建設機械の保有状況!E12) | DV44: 認定有無 | DW44: =IF(消防団!L10="","申請なし",消防団!L10) -> 申請なし | DY44: 確約書の提出 | DZ44: =IF('建設キャリアアップシステム(CCUS)'!E11="","無",'建設キャリアアップシステム(CCUS)'!E11) -> 無 | EB44: 工事名 | EC44: =IF(ＩＣＴ施工実績!F15="","申請無し",ＩＣＴ施工実績!F15) -> 申請無し | EE44: =IF(AND(EF44="申請なし",EG44="申請なし"),"","活動内容") | EF44: =IF(【水産】海上援助活動!G12="","申請なし",【水産】海上援助活動!G12) -> 申請なし | EG44: =IF(【水産】海上援助活動!G13="","申請なし",【水産】海上援助活動!G13) -> 申請なし | ET44: 工事名 | EU44: =IF(近隣施工実績!F18="","申請なし",近隣施工実績!F18) -> 申請なし | EV44: =IF(近隣施工実績!M18="","申請なし",近隣施工実績!M18) -> 申請なし | EW44: 住所 | EX44: =IF(EX45="","申請なし",IF(会社所在地!F13="","",会社所在地!F13)) -> 申請なし | EZ44: 営業所住所 | FA44: =IF(FA45="","申請なし",IF(【鋼橋上部】工場会社所在地!F14="","",【鋼橋上部】工場会社所在地!F14)) -> 松江市○○町１２３－２ | FC44: 拠点名1 | FD44: =IF(サポート拠点!A11="","申請なし",サポート拠点!A11) -> 申請なし
B45: 2 | C45: 第2ｸﾞﾙｰﾌﾟ | D45: =IF('企業成績評定点 (JV3年用)'!G54="","",'企業成績評定点 (JV3年用)'!G54) | E45: =IF('企業成績評定点 (JV3年用)'!J54="","",'企業成績評定点 (JV3年用)'!J54) | F45: 第2ｸﾞﾙｰﾌﾟ | G45: =IF('企業成績評定点 (JV5年用) '!G30="","",'企業成績評定点 (JV5年用) '!G30) | H45: =IF('企業成績評定点 (JV5年用) '!J30="","",'企業成績評定点 (JV5年用) '!J30) | I45: 発注機関 | J45: =IF(J44="申請なし","",IF(同種工事施工実績!F19="","",同種工事施工実績!F19)) | K45: =IF(K44="申請なし","",IF(同種工事施工実績!M19="","",同種工事施工実績!M19)) | L45: =IF(M45="","","表彰種類") | M45: =IF(優良工事表彰!E12="","",優良工事表彰!E12) | O45: =IF(OR('優良工事表彰 (JV) '!B13="",'優良工事表彰 (JV) '!L12=""),"",'優良工事表彰 (JV) '!B13) | P45: =IF('優良工事表彰 (JV) '!B12="","",'優良工事表彰 (JV) '!B12) | Q45: =IF('優良工事表彰 (JV) '!L12="","",'優良工事表彰 (JV) '!L12) | X45: =IF(X34="配置なし","",IF(Y44="","","有効期限")) | Y45: =IF(X34="配置なし","",IF(技術者資格!J12="","",技術者資格!J12)) | AA45: 発注機関 | AB45: =IF(OR(AA34="配置なし",AB44="申請なし"),"",IF(同種工事施工経験!F20="","",同種工事施工経験!F20)) | AC45: =IF(OR(AA34="配置なし",AC44="申請なし"),"",IF(同種工事施工経験!M20="","",同種工事施工経験!M20)) | AD45: =IF(AD34="配置なし","",IF(AE45="","","表彰種類")) | AE45: =IF(AD34="配置なし","",IF(優秀技術者表彰!F14="","",優秀技術者表彰!F14)) | AG45: 第2ｸﾞﾙｰﾌﾟ | AH45: =IF('技術者成績評定点 (第2Ｇ用)'!F15="","",'技術者成績評定点 (第2Ｇ用)'!F15) | AI45: =IF('技術者成績評定点 (第2Ｇ用)'!J15="","",'技術者成績評定点 (第2Ｇ用)'!J15) | AP45: =IF(AP34="配置なし","",IF(AQ44="","","有効期限")) | AQ45: =IF(AP34="配置なし","",IF(技術者資格!J14="","",技術者資格!J14)) | AS45: 発注機関 | AT45: =IF(OR(AS34="配置なし",AT44="申請なし"),"",IF(同種工事施工経験!F148="","",同種工事施工経験!F148)) | AU45: =IF(OR(AS34="配置なし",AU44="申請なし"),"",IF(同種工事施工経験!M148="","",同種工事施工経験!M148)) | AV45: =IF(AV34="配置なし","",IF(AW45="","","表彰種類")) | AW45: =IF(AV34="配置なし","",IF(優秀技術者表彰!F22="","",優秀技術者表彰!F22)) | AY45: 第2ｸﾞﾙｰﾌﾟ | AZ45: =IF('技術者成績評定点 (第2Ｇ用)'!F22="","",'技術者成績評定点 (第2Ｇ用)'!F22) | BA45: =IF('技術者成績評定点 (第2Ｇ用)'!J22="","",'技術者成績評定点 (第2Ｇ用)'!J22) | BH45: =IF(BH34="配置なし","",IF(BI44="","","有効期限")) | BI45: =IF(BH34="配置なし","",IF(技術者資格!J16="","",技術者資格!J16)) | BK45: 発注機関 | BL45: =IF(OR(BK34="配置なし",BL44="申請なし"),"",IF(同種工事施工経験!F201="","",同種工事施工経験!F201)) | BM45: =IF(OR(BK34="配置なし",BM44="申請なし"),"",IF(同種工事施工経験!M201="","",同種工事施工経験!M201)) | BN45: =IF(BN34="配置なし","",IF(BO45="","","表彰種類")) | BO45: =IF(BN34="配置なし","",IF(優秀技術者表彰!F30="","",優秀技術者表彰!F30)) | BQ45: 第2ｸﾞﾙｰﾌﾟ | BR45: =IF('技術者成績評定点 (第2Ｇ用)'!F29="","",'技術者成績評定点 (第2Ｇ用)'!F29) | BS45: =IF('技術者成績評定点 (第2Ｇ用)'!J29="","",'技術者成績評定点 (第2Ｇ用)'!J29) | BZ45: 認定年月日 | CA45: =IF(CA44="申請なし","",IF('BCP&防災協定'!E13="","",'BCP&防災協定'!E13)) | CC45: BCP認定の有無 | CD45: =IF('BCP&防災協定 (JV用)'!E10="","",'BCP&防災協定 (JV用)'!E10) | CE45: =IF('BCP&防災協定 (JV用)'!G10="","",'BCP&防災協定 (JV用)'!G10) | CI45: 認定年月日 | CJ45: =IF(CJ44="申請なし","",IF('BCP&家畜伝染病防疫協定'!E12="","",'BCP&家畜伝染病防疫協定'!E12)) | CL45: BCP認定の有無 | CM45: =IF('BCP&家畜伝染病防疫協定 (JV用)'!E10="","",'BCP&家畜伝染病防疫協定 (JV用)'!E10) | CN45: =IF('BCP&家畜伝染病防疫協定 (JV用)'!G10="","",'BCP&家畜伝染病防疫協定 (JV用)'!G10) | CO45: =IF(AND(CP46="",CQ46=""),"","活動日") | CP45: =IF(CP46="","",IF(ボランティア!C10="","",ボランティア!C10)) | CQ45: =IF(CQ46="","",IF(ボランティア!C13="","",ボランティア!C13)) | CR45: 活動年月日 | CS45: =IF('ボランティア (JV)'!C12="","",'ボランティア (JV)'!C12) -> R６ | CU45: 発注機関 | CV45: =IF(維持管理業務!A15="","",維持管理業務!A15) | CW45: =IF(維持管理業務!A20="","",維持管理業務!A20) | CX45: 業務名 | CY45: =IF('維持管理業務 (JV)'!I17="","申請なし",'維持管理業務 (JV)'!I17) -> 申請なし | CZ45: =IF('維持管理業務 (JV)'!I22="","申請なし",'維持管理業務 (JV)'!I22) -> 申請なし | DA45: 発注機関 | DB45: =IF(除雪業務!A16="","",除雪業務!A16) | DC45: =IF(除雪業務!A21="","",除雪業務!A21) | DD45: 業務名 | DE45: =IF('除雪業務 (JV)'!I18="","申請なし",'除雪業務 (JV)'!I18) -> 申請なし | DF45: =IF('除雪業務 (JV)'!I23="","申請なし",'除雪業務 (JV)'!I23) -> 申請なし | DM45: 技術者② | DN45: =IF(若手・中堅技術者の配置!B13="","配置なし",若手・中堅技術者の配置!F13) -> 配置なし | DO45: =IF(若手・中堅技術者の配置!B13="","",若手・中堅技術者の配置!M13) | DP45: =IF('若手技術者・従業員新規雇用（JV)'!H14="","申請なし",IF(OR('若手技術者・従業員新規雇用（JV)'!H18="有",'若手技術者・従業員新規雇用（JV)'!H28="有"),"若手技術者",IF('若手技術者・従業員新規雇用（JV)'!H32="有","若手従業員","無"))) -> 申請なし | DQ45: =IF('若手技術者・従業員新規雇用（JV)'!H40="","申請なし",IF(OR('若手技術者・従業員新規雇用（JV)'!H44="有",'若手技術者・従業員新規雇用（JV)'!H54="有"),"若手技術者",IF('若手技術者・従業員新規雇用（JV)'!H58="有","若手従業員","無"))) -> 申請なし | DT45: =IF(建設機械の保有状況!K137="","",建設機械の保有状況!K137) | EB45: 発注機関 | EC45: =IF(ＩＣＴ施工実績!F19="","",ＩＣＴ施工実績!F19) | EE45: =IF(AND(EF44="申請なし",EG44="申請なし"),"","活動日") | EF45: =IF(EF44="申請なし","",IF(【水産】海上援助活動!C12="","",【水産】海上援助活動!C12)) | EG45: =IF(EG44="申請なし","",IF(【水産】海上援助活動!C13="","",【水産】海上援助活動!C13)) | ET45: 発注機関 | EU45: =IF(EU44="申請なし","",IF(近隣施工実績!F23="","",近隣施工実績!F23)) | EV45: =IF(EV44="申請なし","",IF(近隣施工実績!M23="","",近隣施工実績!M23)) | EW45: 種類 | EX45: =IF(会社所在地!A13="","",会社所在地!A13) | EZ45: 営業所種類 | FA45: =IF(【鋼橋上部】工場会社所在地!A14="","",【鋼橋上部】工場会社所在地!A14) -> 営業所 | FC45: 所在地1 | FD45: =IF(FD44="申請なし","",IF(サポート拠点!F11="","",サポート拠点!F11))
B46: 3 | I46: 工事種別 | J46: =IF(J44="申請なし","",IF(同種工事施工実績!F20="","",同種工事施工実績!F20)) | K46: =IF(K44="申請なし","",IF(同種工事施工実績!M20="","",同種工事施工実績!M20)) | L46: =IF(M45="","","受賞年度") | M46: =IF(M45="","",IF(優良工事表彰!E13="","",優良工事表彰!E13)) | O46: =IF(OR('優良工事表彰 (JV) '!B15="",'優良工事表彰 (JV) '!N14=""),"",'優良工事表彰 (JV) '!B15) | P46: =IF('優良工事表彰 (JV) '!B14="","",'優良工事表彰 (JV) '!B14) | Q46: =IF('優良工事表彰 (JV) '!N14="","",'優良工事表彰 (JV) '!N14) | AA46: 施工場所 | AB46: =IF(OR(AA34="配置なし",AB44="申請なし"),"",IF(同種工事施工経験!F21="","",同種工事施工経験!F21)) | AC46: =IF(OR(AA34="配置なし",AC44="申請なし"),"",IF(同種工事施工経験!M21="","",同種工事施工経験!M21)) | AD46: =IF(AD34="配置なし","",IF(AE45="","","受賞年度")) | AE46: =IF(AD34="配置なし","",IF(AE45="","",IF(優秀技術者表彰!F15="","",優秀技術者表彰!F15))) | AG46: =IF(AG34="配置なし","第1ｸﾞﾙｰﾌﾟ"&CHAR(10)&"配置なし",IF(AND(AG34="配置あり",NOT(AH44="")),"第1ｸﾞﾙｰﾌﾟ"&CHAR(10)&"申請あり","第1ｸﾞﾙｰﾌﾟ"&CHAR(10)&"申請なし")) -> 第1ｸﾞﾙｰﾌﾟ 配置なし | AS46: 施工場所 | AT46: =IF(OR(AS34="配置なし",AT44="申請なし"),"",IF(同種工事施工経験!F149="","",同種工事施工経験!F149)) | AU46: =IF(OR(AS34="配置なし",AU44="申請なし"),"",IF(同種工事施工経験!M149="","",同種工事施工経験!M149)) | AV46: =IF(AV34="配置なし","",IF(AW45="","","受賞年度")) | AW46: =IF(AV34="配置なし","",IF(AW45="","",IF(優秀技術者表彰!F23="","",優秀技術者表彰!F23))) | AY46: =IF(AY34="配置なし","第1ｸﾞﾙｰﾌﾟ"&CHAR(10)&"配置なし",IF(AND(AY34="配置あり",NOT(AZ44="")),"第1ｸﾞﾙｰﾌﾟ"&CHAR(10)&"申請あり","第1ｸﾞﾙｰﾌﾟ"&CHAR(10)&"申請なし")) -> 第1ｸﾞﾙｰﾌﾟ 配置なし | BK46: 施工場所 | BL46: =IF(OR(BK34="配置なし",BL44="申請なし"),"",IF(同種工事施工経験!F202="","",同種工事施工経験!F202)) | BM46: =IF(OR(BK34="配置なし",BM44="申請なし"),"",IF(同種工事施工経験!M202="","",同種工事施工経験!M202)) | BN46: =IF(BN34="配置なし","",IF(BO45="","","受賞年度")) | BO46: =IF(BN34="配置なし","",IF(BO45="","",IF(優秀技術者表彰!F31="","",優秀技術者表彰!F31))) | BQ46: =IF(BQ34="配置なし","第1ｸﾞﾙｰﾌﾟ"&CHAR(10)&"配置なし",IF(AND(BQ34="配置あり",NOT(BR44="")),"第1ｸﾞﾙｰﾌﾟ"&CHAR(10)&"申請あり","第1ｸﾞﾙｰﾌﾟ"&CHAR(10)&"申請なし")) -> 第1ｸﾞﾙｰﾌﾟ 配置なし | BZ46: 有効期限 | CA46: =IF(CA44="申請なし","",IF('BCP&防災協定'!I13="","",'BCP&防災協定'!I13)) | CC46: 有効期限 | CD46: =IF('BCP&防災協定 (JV用)'!K10="","",'BCP&防災協定 (JV用)'!K10) | CI46: 有効期限 | CJ46: =IF(CJ44="申請なし","",IF('BCP&家畜伝染病防疫協定'!I12="","",'BCP&家畜伝染病防疫協定'!I12)) | CL46: 有効期限 | CM46: =IF('BCP&家畜伝染病防疫協定 (JV用)'!K10="","",'BCP&家畜伝染病防疫協定 (JV用)'!K10) | CO46: =IF(AND(CP46="",CQ46=""),"","活動箇所") | CP46: =IF(ボランティア!K10="","",ボランティア!K10) | CQ46: =IF(ボランティア!K13="","",ボランティア!K13) | CR46: 活動内容 | CS46: =IF('ボランティア (JV)'!F12="","",'ボランティア (JV)'!F12) | CU46: 元請・下請区分 | CV46: =IF(維持管理業務!D15="","",維持管理業務!D15) -> 0 | CW46: =IF(維持管理業務!D20="","",維持管理業務!D20) -> 0 | CX46: 元請・下請区分 | CY46: =IF('維持管理業務 (JV)'!D17="","",'維持管理業務 (JV)'!D17) -> 0 | CZ46: =IF('維持管理業務 (JV)'!D22="","",'維持管理業務 (JV)'!D22) -> 0 | DA46: 元請・下請区分 | DB46: =IF(除雪業務!D16="","",除雪業務!D16) | DC46: =IF(除雪業務!D21="","",除雪業務!D21) | DD46: 発注機関 | DE46: =IF('除雪業務 (JV)'!A18="","",'除雪業務 (JV)'!A18) | DF46: =IF('除雪業務 (JV)'!A23="","",'除雪業務 (JV)'!A23) | DM46: 技術者③ | DN46: =IF(若手・中堅技術者の配置!B14="","配置なし",若手・中堅技術者の配置!F14) -> 配置なし | DO46: =IF(若手・中堅技術者の配置!B14="","",若手・中堅技術者の配置!M14) | DP46: 雇用② | DQ46: 雇用② | DS46: ② | DT46: =IF(建設機械の保有状況!B13="","",建設機械の保有状況!B13) | DU46: =IF(建設機械の保有状況!E13="","",建設機械の保有状況!E13) | EB46: ＩＣＴ工種 | EC46: =IF(ＩＣＴ施工実績!F21="","",ＩＣＴ施工実績!F21) | ET46: 施工場所 | EU46: =IF(EU44="申請なし","",IF(近隣施工実績!F26="","",近隣施工実績!F26)) | EV46: =IF(EV44="申請なし","",IF(近隣施工実績!M26="","",近隣施工実績!M26)) | EZ46: 工場住所 | FA46: =IF(FA45="","",IF(【鋼橋上部】工場会社所在地!F27="","",【鋼橋上部】工場会社所在地!F27)) -> 浜田市○○町３２１－３ | FC46: 技術者数1 | FD46: =IF(FD44="申請なし","",IF(サポート拠点!N11="","",サポート拠点!N11))
B47: 4 | I47: 建設工事の種類 | J47: =IF(J44="申請なし","",IF(同種工事施工実績!F21="","",同種工事施工実績!F21)) | K47: =IF(K44="申請なし","",IF(同種工事施工実績!M21="","",同種工事施工実績!M21)) | L47: =IF(OR(M34="有",M45=""),"","工事種別") | M47: =IF(M45="","",IF(優良工事表彰!E16="","",優良工事表彰!E16)) | O47: =IF(OR('優良工事表彰 (JV) '!B17="",'優良工事表彰 (JV) '!N16=""),"",'優良工事表彰 (JV) '!B17) | P47: =IF('優良工事表彰 (JV) '!B16="","",'優良工事表彰 (JV) '!B16) | Q47: =IF('優良工事表彰 (JV) '!N16="","",'優良工事表彰 (JV) '!N16) | AA47: 請負金額 | AB47: =IF(OR(AA34="配置なし",AB44="申請なし"),"",IF(同種工事施工経験!F23="","",同種工事施工経験!F23)) | AC47: =IF(OR(AA34="配置なし",AC44="申請なし"),"",IF(同種工事施工経験!M23="","",同種工事施工経験!M23)) | AD47: =IF(OR(AD34="配置なし",AE45=""),"","工事種別") | AE47: =IF(AD34="配置なし","",IF(AE45="","",IF(優秀技術者表彰!F18="","",優秀技術者表彰!F18))) | AG47: =IF(AH34="配置なし","第2ｸﾞﾙｰﾌﾟ"&CHAR(10)&"配置なし",IF(AND(AH34="配置あり",NOT(AH45="")),"第2ｸﾞﾙｰﾌﾟ"&CHAR(10)&"申請あり","第2ｸﾞﾙｰﾌﾟ"&CHAR(10)&"申請なし")) -> 第2ｸﾞﾙｰﾌﾟ 配置なし | AS47: 請負金額 | AT47: =IF(OR(AS34="配置なし",AT44="申請なし"),"",IF(同種工事施工経験!F151="","",同種工事施工経験!F151)) | AU47: =IF(OR(AS34="配置なし",AU44="申請なし"),"",IF(同種工事施工経験!M151="","",同種工事施工経験!M151)) | AV47: =IF(OR(AV34="配置なし",AW45=""),"","工事種別") | AW47: =IF(OR(AV34="配置なし",AW45=""),"",IF(優秀技術者表彰!F26="","",優秀技術者表彰!F26)) | AY47: =IF(AZ34="配置なし","第2ｸﾞﾙｰﾌﾟ"&CHAR(10)&"配置なし",IF(AND(AZ34="配置あり",NOT(AZ45="")),"第2ｸﾞﾙｰﾌﾟ"&CHAR(10)&"申請あり","第2ｸﾞﾙｰﾌﾟ"&CHAR(10)&"申請なし")) -> 第2ｸﾞﾙｰﾌﾟ 配置なし | BK47: 請負金額 | BL47: =IF(OR(BK34="配置なし",BL44="申請なし"),"",IF(同種工事施工経験!F204="","",同種工事施工経験!F204)) | BM47: =IF(OR(BK34="配置なし",BM44="申請なし"),"",IF(同種工事施工経験!M204="","",同種工事施工経験!M204)) | BN47: =IF(OR(BN34="配置なし",BO45=""),"","工事種別") | BO47: =IF(OR(BN34="配置なし",BO45=""),"",IF(優秀技術者表彰!F34="","",優秀技術者表彰!F34)) | BQ47: =IF(BR34="配置なし","第2ｸﾞﾙｰﾌﾟ"&CHAR(10)&"配置なし",IF(AND(BR34="配置あり",NOT(BR45="")),"第2ｸﾞﾙｰﾌﾟ"&CHAR(10)&"申請あり","第2ｸﾞﾙｰﾌﾟ"&CHAR(10)&"申請なし")) -> 第2ｸﾞﾙｰﾌﾟ 配置なし | BZ47: 協定実績 | CA47: =IF('BCP&防災協定'!G20="","申請なし",'BCP&防災協定'!G20) -> 申請なし | CB47: =IF('BCP&防災協定'!G21="","申請なし",'BCP&防災協定'!G21) -> 申請なし | CC47: 協定実績 | CD47: =IF('BCP&防災協定 (JV用)'!E19="","",'BCP&防災協定 (JV用)'!E19) | CE47: =IF('BCP&防災協定 (JV用)'!G19="","",'BCP&防災協定 (JV用)'!G19) | CI47: 協定実績 | CJ47: =IF('BCP&家畜伝染病防疫協定'!G19="","申請なし",'BCP&家畜伝染病防疫協定'!G19) -> 申請なし | CK47: =IF('BCP&家畜伝染病防疫協定'!G20="","申請なし",'BCP&家畜伝染病防疫協定'!G20) -> 申請なし | CL47: 協定実績 | CM47: =IF('BCP&家畜伝染病防疫協定 (JV用)'!E19="","",'BCP&家畜伝染病防疫協定 (JV用)'!E19) | CN47: =IF('BCP&家畜伝染病防疫協定 (JV用)'!G19="","",'BCP&家畜伝染病防疫協定 (JV用)'!G19) | CO47: =IF(AND(CP46="",CQ46=""),"","参加人数") | CP47: =IF(CP46="","",IF(ボランティア!O10="","",ボランティア!O10)) | CQ47: =IF(CQ46="","",IF(ボランティア!O13="","",ボランティア!O13)) | CR47: 活動箇所 | CS47: =IF('ボランティア (JV)'!K12="","",'ボランティア (JV)'!K12) | CT47: =IF('ボランティア (JV)'!I22="","",'ボランティア (JV)'!I22) | CU47: 契約(始) | CV47: =IF(維持管理業務!F15="","",維持管理業務!F15) | CW47: =IF(維持管理業務!F20="","",維持管理業務!F20) | CX47: 契約(始) | CY47: =IF('維持管理業務 (JV)'!F17="","",'維持管理業務 (JV)'!F17) | CZ47: =IF('維持管理業務 (JV)'!F22="","",'維持管理業務 (JV)'!F22) | DA47: 契約(始) | DB47: =IF(除雪業務!F16="","",除雪業務!F16) | DC47: =IF(除雪業務!F21="","",除雪業務!F21) | DD47: 元請・下請区分 | DE47: =IF('除雪業務 (JV)'!D18="","",'除雪業務 (JV)'!D18) | DF47: =IF('除雪業務 (JV)'!D23="","",'除雪業務 (JV)'!D23) | DG47: ='障がい者雇用（第1G用）'!M54 -> 0 | DH47: ='障がい者雇用（第2G用）'!M54 -> 0 | DP47: =IF('若手技術者・従業員新規雇用（JV)'!M14="","申請なし",IF(OR('若手技術者・従業員新規雇用（JV)'!M18="有",'若手技術者・従業員新規雇用（JV)'!M28="有"),"若手技術者",IF('若手技術者・従業員新規雇用（JV)'!M32="有","若手従業員","無"))) -> 申請なし | DQ47: =IF('若手技術者・従業員新規雇用（JV)'!M40="","申請なし",IF(OR('若手技術者・従業員新規雇用（JV)'!M44="有",'若手技術者・従業員新規雇用（JV)'!M54="有"),"若手技術者",IF('若手技術者・従業員新規雇用（JV)'!M58="有","若手従業員","無"))) -> 申請なし | DT47: =IF(建設機械の保有状況!K139="","",建設機械の保有状況!K139) | EB47: ①３次元起工測量 | EC47: =IF(ＩＣＴ施工実績!F22="","",ＩＣＴ施工実績!F22) | ET47: 請負金額 | EU47: =IF(EU44="申請なし","",IF(近隣施工実績!F28="","",近隣施工実績!F28)) | EV47: =IF(EV44="申請なし","",IF(近隣施工実績!M28="","",近隣施工実績!M28)) | FC47: 拠点名2 | FD47: =IF(サポート拠点!A13="","申請なし",サポート拠点!A13) -> 申請なし
B48: 5 | I48: 施工場所 | J48: =IF(J44="申請なし","",IF(同種工事施工実績!F22="","",同種工事施工実績!F22)) | K48: =IF(K44="申請なし","",IF(同種工事施工実績!M22="","",同種工事施工実績!M22)) | L48: =IF(OR(M34="有",M45=""),"","建設工事の種類") | M48: =IF(M45="","",IF(優良工事表彰!E17="","",優良工事表彰!E17)) | O48: =IF(OR('優良工事表彰 (JV) '!B19="",'優良工事表彰 (JV) '!N18=""),"",'優良工事表彰 (JV) '!B19) | P48: =IF('優良工事表彰 (JV) '!B18="","",'優良工事表彰 (JV) '!B18) | Q48: =IF('優良工事表彰 (JV) '!N18="","",'優良工事表彰 (JV) '!N18) | AA48: 工期 | AB48: =IF(OR(AA34="配置なし",AB44="申請なし"),"",IF(同種工事施工経験!G24="","",同種工事施工経験!F24&同種工事施工経験!G24&同種工事施工経験!H24&同種工事施工経験!I24&同種工事施工経験!J24&同種工事施工経験!K24&同種工事施工経験!L24&"～"))&IF(OR(AA34="配置なし",AB44="申請なし"),"",IF(同種工事施工経験!G25="","",同種工事施工経験!F25&同種工事施工経験!G25&同種工事施工経験!H25&同種工事施工経験!I25&同種工事施工経験!J25&同種工事施工経験!K25&同種工事施工経験!L25)) | AC48: =IF(OR(AA34="配置なし",AC44="申請なし"),"",IF(同種工事施工経験!N24="","",同種工事施工経験!M24&同種工事施工経験!N24&同種工事施工経験!O24&同種工事施工経験!P24&同種工事施工経験!Q24&同種工事施工経験!R24&同種工事施工経験!S24&"～"))&IF(OR(AA34="配置なし",AC44="申請なし"),"",IF(同種工事施工経験!N25="","",同種工事施工経験!M25&同種工事施工経験!N25&同種工事施工経験!O25&同種工事施工経験!P25&同種工事施工経験!Q25&同種工事施工経験!R25&同種工事施工経験!S25)) | AD48: =IF(OR(AD34="配置なし",AE45=""),"","建設工事の種類") | AE48: =IF(OR(AD34="配置なし",AE45=""),"",IF(優秀技術者表彰!F19="","",優秀技術者表彰!F19)) | AS48: 工期 | AT48: =IF(OR(AS34="配置なし",AT44="申請なし"),"",IF(OR(同種工事施工経験!G152="",同種工事施工経験!G152="○"),"",同種工事施工経験!F152&同種工事施工経験!G152&同種工事施工経験!H152&同種工事施工経験!I152&同種工事施工経験!J152&同種工事施工経験!K152&同種工事施工経験!L152&"～"))&IF(OR(AS34="配置なし",AT44="申請なし"),"",IF(同種工事施工経験!G153="","",同種工事施工経験!F153&同種工事施工経験!G153&同種工事施工経験!H153&同種工事施工経験!I153&同種工事施工経験!J153&同種工事施工経験!K153&同種工事施工経験!L153)) | AU48: =IF(OR(AS34="配置なし",AU44="申請なし"),"",IF(同種工事施工経験!N152="","",同種工事施工経験!M152&同種工事施工経験!N152&同種工事施工経験!O152&同種工事施工経験!P152&同種工事施工経験!Q152&同種工事施工経験!R152&同種工事施工経験!S152&"～"))&IF(OR(AS34="配置なし",AU44="申請なし"),"",IF(同種工事施工経験!N153="","",同種工事施工経験!M153&同種工事施工経験!N153&同種工事施工経験!O153&同種工事施工経験!P153&同種工事施工経験!Q153&同種工事施工経験!R153&同種工事施工経験!S153)) | AV48: =IF(OR(AV34="配置なし",AW45=""),"","建設工事の種類") | AW48: =IF(OR(AV34="配置なし",AW45=""),"",IF(優秀技術者表彰!F27="","",優秀技術者表彰!F27)) | BK48: 工期 | BL48: =IF(OR(BK34="配置なし",BL44="申請なし"),"",IF(同種工事施工経験!G205="","",同種工事施工経験!F205&同種工事施工経験!G205&同種工事施工経験!H205&同種工事施工経験!I205&同種工事施工経験!J205&同種工事施工経験!K205&同種工事施工経験!L205&"～"))&IF(OR(BK34="配置なし",BL44="申請なし"),"",IF(同種工事施工経験!G206="","",同種工事施工経験!F206&同種工事施工経験!G206&同種工事施工経験!H206&同種工事施工経験!I206&同種工事施工経験!J206&同種工事施工経験!K206&同種工事施工経験!L206)) | BM48: =IF(OR(BK34="配置なし",BM44="申請なし"),"",IF(同種工事施工経験!N205="","",同種工事施工経験!M205&同種工事施工経験!N205&同種工事施工経験!O205&同種工事施工経験!P205&同種工事施工経験!Q205&同種工事施工経験!R205&同種工事施工経験!S205&"～"))&IF(OR(BK34="配置なし",BM44="申請なし"),"",IF(同種工事施工経験!N206="","",同種工事施工経験!M206&同種工事施工経験!N206&同種工事施工経験!O206&同種工事施工経験!P206&同種工事施工経験!Q206&同種工事施工経験!R206&同種工事施工経験!S206)) | BN48: =IF(OR(BN34="配置なし",BO45=""),"","建設工事の種類") | BO48: =IF(OR(BN34="配置なし",BO45=""),"",IF(優秀技術者表彰!F35="","",優秀技術者表彰!F35)) | CO48: =IF(AND(CP46="",CQ46=""),"","従業員数") | CP48: =IF(CP46="","",IF(ボランティア!Q10="","",ボランティア!Q10)) | CQ48: =IF(CQ46="","",IF(ボランティア!Q13="","",ボランティア!Q13)) | CR48: 参加人数 | CS48: =IF('ボランティア (JV)'!O12="","",'ボランティア (JV)'!O12) | CT48: =IF('ボランティア (JV)'!N22="","",'ボランティア (JV)'!N22) | CU48: 契約(終) | CV48: =IF(維持管理業務!F16="","",維持管理業務!F16) | CW48: =IF(維持管理業務!F21="","",維持管理業務!F21) | CX48: 契約(終) | CY48: =IF('維持管理業務 (JV)'!F18="","",'維持管理業務 (JV)'!F18) | CZ48: =IF('維持管理業務 (JV)'!F23="","",'維持管理業務 (JV)'!F23) | DA48: 契約(終) | DB48: =IF(除雪業務!F17="","",除雪業務!F17) | DC48: =IF(除雪業務!F22="","",除雪業務!F22) | DD48: 契約(始) | DE48: =IF('除雪業務 (JV)'!F18="","",'除雪業務 (JV)'!F18) | DF48: =IF('除雪業務 (JV)'!F23="","",'除雪業務 (JV)'!F23) | DG48: ='障がい者雇用（第1G用）'!M52 -> 法定雇用義務なし | DH48: ='障がい者雇用（第2G用）'!M52 -> 法定雇用義務なし | DS48: ③ | DT48: =IF(建設機械の保有状況!B14="","",建設機械の保有状況!B14) | DU48: =IF(建設機械の保有状況!E14="","",建設機械の保有状況!E14) | EB48: ②３次元設計データ作成 | EC48: =IF(ＩＣＴ施工実績!F23="","",ＩＣＴ施工実績!F23) | ET48: 工期(始) | EU48: =IF(EU44="申請なし","",IF(近隣施工実績!G29="","",近隣施工実績!F29&近隣施工実績!G29&近隣施工実績!H29&近隣施工実績!I29&近隣施工実績!J29&近隣施工実績!K29&近隣施工実績!L29&"～")) | EV48: =IF(EV44="申請なし","",IF(近隣施工実績!N29="","",近隣施工実績!M29&近隣施工実績!N29&近隣施工実績!O29&近隣施工実績!P29&近隣施工実績!Q29&近隣施工実績!R29&近隣施工実績!S29&"～")) | FC48: 所在地2 | FD48: =IF(FD47="申請なし","",IF(サポート拠点!F13="","",サポート拠点!F13))
B49: 6 | I49: 請負金額 | J49: =IF(J44="申請なし","",IF(同種工事施工実績!F24="","",同種工事施工実績!F24)) | K49: =IF(K44="申請なし","",IF(同種工事施工実績!M24="","",同種工事施工実績!M24)) | O49: =IF(OR('優良工事表彰 (JV) '!B21="",'優良工事表彰 (JV) '!N20=""),"",'優良工事表彰 (JV) '!B21) | P49: =IF('優良工事表彰 (JV) '!B20="","",'優良工事表彰 (JV) '!B20) | Q49: =IF('優良工事表彰 (JV) '!N20="","",'優良工事表彰 (JV) '!N20) | AA49: 従事 | AB49: =IF(OR(AA34="配置なし",AB44="申請なし"),"",IF(同種工事施工経験!G26="","",同種工事施工経験!F26&同種工事施工経験!G26&同種工事施工経験!H26&同種工事施工経験!I26&同種工事施工経験!J26&同種工事施工経験!K26&同種工事施工経験!L26&"～"))&IF(OR(AA34="配置なし",AB44="申請なし"),"",IF(同種工事施工経験!G27="","",同種工事施工経験!F27&同種工事施工経験!G27&同種工事施工経験!H27&同種工事施工経験!I27&同種工事施工経験!J27&同種工事施工経験!K27&同種工事施工経験!L27)) | AC49: =IF(OR(AA34="配置なし",AC44="申請なし"),"",IF(同種工事施工経験!N26="","",同種工事施工経験!M26&同種工事施工経験!N26&同種工事施工経験!O26&同種工事施工経験!P26&同種工事施工経験!Q26&同種工事施工経験!R26&同種工事施工経験!S26&"～"))&IF(OR(AA34="配置なし",AC44="申請なし"),"",IF(同種工事施工経験!N27="","",同種工事施工経験!M27&同種工事施工経験!N27&同種工事施工経験!O27&同種工事施工経験!P27&同種工事施工経験!Q27&同種工事施工経験!R27&同種工事施工経験!S27)) | AS49: 従事 | AT49: =IF(OR(AS34="配置なし",AT44="申請なし"),"",IF(同種工事施工経験!G154="","",同種工事施工経験!F154&同種工事施工経験!G154&同種工事施工経験!H154&同種工事施工経験!I154&同種工事施工経験!J154&同種工事施工経験!K154&同種工事施工経験!L154&"～"))&IF(OR(AS34="配置なし",AT44="申請なし"),"",IF(同種工事施工経験!G155="","",同種工事施工経験!F155&同種工事施工経験!G155&同種工事施工経験!H155&同種工事施工経験!I155&同種工事施工経験!J155&同種工事施工経験!K155&同種工事施工経験!L155)) | AU49: =IF(OR(AS34="配置なし",AU44="申請なし"),"",IF(同種工事施工経験!N154="","",同種工事施工経験!M154&同種工事施工経験!N154&同種工事施工経験!O154&同種工事施工経験!P154&同種工事施工経験!Q154&同種工事施工経験!R154&同種工事施工経験!S154&"～"))&IF(OR(AS34="配置なし",AU44="申請なし"),"",IF(同種工事施工経験!N155="","",同種工事施工経験!M155&同種工事施工経験!N155&同種工事施工経験!O155&同種工事施工経験!P155&同種工事施工経験!Q155&同種工事施工経験!R155&同種工事施工経験!S155)) | BK49: 従事 | BL49: =IF(OR(BK34="配置なし",BL44="申請なし"),"",IF(同種工事施工経験!G207="","",同種工事施工経験!F207&同種工事施工経験!G207&同種工事施工経験!H207&同種工事施工経験!I207&同種工事施工経験!J207&同種工事施工経験!K207&同種工事施工経験!L207&"～"))&IF(OR(BK34="配置なし",BL44="申請なし"),"",IF(同種工事施工経験!G208="","",同種工事施工経験!F208&同種工事施工経験!G208&同種工事施工経験!H208&同種工事施工経験!I208&同種工事施工経験!J208&同種工事施工経験!K208&同種工事施工経験!L208)) | BM49: =IF(OR(BK34="配置なし",BM44="申請なし"),"",IF(同種工事施工経験!N207="","",同種工事施工経験!M207&同種工事施工経験!N207&同種工事施工経験!O207&同種工事施工経験!P207&同種工事施工経験!Q207&同種工事施工経験!R207&同種工事施工経験!S207&"～"))&IF(OR(BK34="配置なし",BM44="申請なし"),"",IF(同種工事施工経験!N208="","",同種工事施工経験!M208&同種工事施工経験!N208&同種工事施工経験!O208&同種工事施工経験!P208&同種工事施工経験!Q208&同種工事施工経験!R208&同種工事施工経験!S208)) | CC49: 第2ｸﾞﾙｰﾌﾟ | CL49: 第2ｸﾞﾙｰﾌﾟ | CO49: ﾊｰﾄﾌﾙ活動 | CP49: =IF(CP50="","申請なし","") -> 申請なし | CQ49: =IF(CQ50="","申請なし","") -> 申請なし | CR49: 従業員数 | CS49: =IF(OR(CS44="申請なし",'ボランティア (JV)'!Q12=""),"",'ボランティア (JV)'!Q12) | CT49: =IF(OR(CT44="申請なし",'ボランティア (JV)'!Q22=""),"",'ボランティア (JV)'!Q22) | CU49: 施工箇所 | CV49: =IF(維持管理業務!N15="","",維持管理業務!N15) | CW49: =IF(維持管理業務!N20="","",維持管理業務!N20) | CX49: 施工箇所 | CY49: =IF('維持管理業務 (JV)'!N17="","",'維持管理業務 (JV)'!N17) | CZ49: =IF('維持管理業務 (JV)'!N22="","",'維持管理業務 (JV)'!N22) | DA49: 施工箇所 | DB49: =IF(除雪業務!N16="","",除雪業務!N16) | DC49: =IF(除雪業務!N21="","",除雪業務!N21) | DD49: 契約(終) | DE49: =IF('除雪業務 (JV)'!F19="","",'除雪業務 (JV)'!F19) | DF49: =IF('除雪業務 (JV)'!F24="","",'除雪業務 (JV)'!F24) | DG49: =IF('育児・介護休業 (JV) '!E13="","",'育児・介護休業 (JV) '!E13) | DH49: =IF('育児・介護休業 (JV) '!E17="","",'育児・介護休業 (JV) '!E17) | DT49: =IF(建設機械の保有状況!K141="","",建設機械の保有状況!K141) | EB49: ③ICT建機による施工 | EC49: =IF(ＩＣＴ施工実績!F24="","",ＩＣＴ施工実績!F24) | ET49: 工期(終) | EU49: =IF(EU44="申請なし","",IF(近隣施工実績!G30="","",近隣施工実績!F30&近隣施工実績!G30&近隣施工実績!H30&近隣施工実績!I30&近隣施工実績!J30&近隣施工実績!K30&近隣施工実績!L30)) | EV49: =IF(EV44="申請なし","",IF(近隣施工実績!N30="","",近隣施工実績!M30&近隣施工実績!N30&近隣施工実績!O30&近隣施工実績!P30&近隣施工実績!Q30&近隣施工実績!R30&近隣施工実績!S30)) | FC49: 技術者数2 | FD49: =IF(FD47="申請なし","",IF(サポート拠点!N13="","",サポート拠点!N13))
B50: 7 | I50: 工期(始) | J50: =IF(J44="申請なし","",IF(同種工事施工実績!G25="","",同種工事施工実績!F25&同種工事施工実績!G25&同種工事施工実績!H25&同種工事施工実績!I25&同種工事施工実績!J25&同種工事施工実績!K25&同種工事施工実績!L25&"～")) | K50: =IF(K44="申請なし","",IF(同種工事施工実績!N25="","",同種工事施工実績!M25&同種工事施工実績!N25&同種工事施工実績!O25&同種工事施工実績!P25&同種工事施工実績!Q25&同種工事施工実績!R25&同種工事施工実績!S25&"～")) | O50: =IF(OR('優良工事表彰 (JV) '!B23="",'優良工事表彰 (JV) '!N22=""),"",'優良工事表彰 (JV) '!B23) | P50: =IF('優良工事表彰 (JV) '!B22="","",'優良工事表彰 (JV) '!B22) | Q50: =IF('優良工事表彰 (JV) '!N22="","",'優良工事表彰 (JV) '!N22) | AA50: 工事種別 | AB50: =IF(OR(AA34="配置なし",AB44="申請なし"),"",IF(同種工事施工経験!F31="","",同種工事施工経験!F31)) | AC50: =IF(OR(AA34="配置なし",AC44="申請なし"),"",IF(同種工事施工経験!M31="","",同種工事施工経験!M31)) | AS50: 工事種別 | AT50: =IF(OR(AS34="配置なし",AT44="申請なし"),"",IF(同種工事施工経験!F159="","",同種工事施工経験!F159)) | AU50: =IF(OR(AS34="配置なし",AU44="申請なし"),"",IF(同種工事施工経験!M159="","",同種工事施工経験!M159)) | BK50: 工事種別 | BL50: =IF(OR(BK34="配置なし",BL44="申請なし"),"",IF(同種工事施工経験!F212="","",同種工事施工経験!F212)) | BM50: =IF(OR(BK34="配置なし",BM44="申請なし"),"",IF(同種工事施工経験!M212="","",同種工事施工経験!M212)) | CC50: BCP認定の有無 | CD50: =IF('BCP&防災協定 (JV用)'!E11="","",'BCP&防災協定 (JV用)'!E11) | CE50: =IF('BCP&防災協定 (JV用)'!G11="","",'BCP&防災協定 (JV用)'!G11) | CL50: BCP認定の有無 | CM50: =IF('BCP&家畜伝染病防疫協定 (JV用)'!E11="","",'BCP&家畜伝染病防疫協定 (JV用)'!E11) | CN50: =IF('BCP&家畜伝染病防疫協定 (JV用)'!G11="","",'BCP&家畜伝染病防疫協定 (JV用)'!G11) | CO50: =IF(AND(CP50="",CQ50=""),"","活動箇所") | CP50: =IF(ボランティア!C24="","",ボランティア!C24) | CQ50: =IF(ボランティア!C25="","",ボランティア!C25) | CR50: 第2ｸﾞﾙｰﾌﾟ | CS50: =IF(CS54="","申請なし","有") -> 申請なし | CT50: =IF(CT54="","申請なし","有") -> 有 | CX50: 第2ｸﾞﾙｰﾌﾟ | DD50: 施工箇所 | DE50: =IF('除雪業務 (JV)'!N18="","",'除雪業務 (JV)'!N18) | DF50: =IF('除雪業務 (JV)'!N23="","",'除雪業務 (JV)'!N23) | DG50: =IF('育児・介護休業 (JV) '!L13="","",'育児・介護休業 (JV) '!L13) | DH50: =IF('育児・介護休業 (JV) '!L17="","",'育児・介護休業 (JV) '!L17) | EB50: ④３次元出来形管理等 | EC50: =IF(ＩＣＴ施工実績!F25="","",ＩＣＴ施工実績!F25) | ET50: 工事成績 | EU50: =IF(EU44="申請なし","",IF(近隣施工実績!F33="","",近隣施工実績!F33)) | EV50: =IF(EV44="申請なし","",IF(近隣施工実績!M33="","",近隣施工実績!M33))
B51: 8 | I51: 工期(終) | J51: =IF(J44="申請なし","",IF(同種工事施工実績!G26="","",同種工事施工実績!F26&同種工事施工実績!G26&同種工事施工実績!H26&同種工事施工実績!I26&同種工事施工実績!J26&同種工事施工実績!K26&同種工事施工実績!L26)) | K51: =IF(K44="申請なし","",IF(同種工事施工実績!N26="","",同種工事施工実績!M26&同種工事施工実績!N26&同種工事施工実績!O26&同種工事施工実績!P26&同種工事施工実績!Q26&同種工事施工実績!R26&同種工事施工実績!S26)) | O51: =IF(OR('優良工事表彰 (JV) '!B25="",'優良工事表彰 (JV) '!N24=""),"",'優良工事表彰 (JV) '!B25) | P51: =IF('優良工事表彰 (JV) '!B24="","",'優良工事表彰 (JV) '!B24) | Q51: =IF('優良工事表彰 (JV) '!N24="","",'優良工事表彰 (JV) '!N24) | AA51: 建設工事の種類 | AB51: =IF(OR(AA34="配置なし",AB44="申請なし"),"",IF(同種工事施工経験!F32="","",同種工事施工経験!F32)) | AC51: =IF(OR(AA34="配置なし",AC44="申請なし"),"",IF(同種工事施工経験!M32="","",同種工事施工経験!M32)) | AS51: 建設工事の種類 | AT51: =IF(OR(AS34="配置なし",AT44="申請なし"),"",IF(同種工事施工経験!F160="","",同種工事施工経験!F160)) | AU51: =IF(OR(AS34="配置なし",AU44="申請なし"),"",IF(同種工事施工経験!M160="","",同種工事施工経験!M160)) | BK51: 建設工事の種類 | BL51: =IF(OR(BK34="配置なし",BL44="申請なし"),"",IF(同種工事施工経験!F213="","",同種工事施工経験!F213)) | BM51: =IF(OR(BK34="配置なし",BM44="申請なし"),"",IF(同種工事施工経験!M213="","",同種工事施工経験!M213)) | CC51: 有効期限 | CD51: =IF('BCP&防災協定 (JV用)'!K11="","",'BCP&防災協定 (JV用)'!K11) | CL51: 有効期限 | CM51: =IF('BCP&家畜伝染病防疫協定 (JV用)'!K11="","",'BCP&家畜伝染病防疫協定 (JV用)'!K11) | CO51: =IF(AND(CP50="",CQ50=""),"","参加人数") | CP51: =IF(CP50="","",IF(ボランティア!J24="","",ボランティア!J24)) | CQ51: =IF(CQ50="","",IF(ボランティア!J25="","",ボランティア!J25)) | CR51: 活動年月日 | CS51: =IF('ボランティア (JV)'!C13="","",'ボランティア (JV)'!C13) -> R７ | CX51: 業務名 | CY51: =IF('維持管理業務 (JV)'!I30="","申請なし",'維持管理業務 (JV)'!I30) -> 申請なし | CZ51: =IF('維持管理業務 (JV)'!I35="","申請なし",'維持管理業務 (JV)'!I35) -> 申請なし | DD51: 第2ｸﾞﾙｰﾌﾟ | EB51: ⑤３次元データの納品 | EC51: =IF(ＩＣＴ施工実績!F26="","",ＩＣＴ施工実績!F26) | ET51: 受注形態 | EU51: =IF(EU44="申請なし","",IF(近隣施工実績!F31="","",近隣施工実績!F31)) | EV51: =IF(EV44="申請なし","",IF(近隣施工実績!M31="","",近隣施工実績!M31))
B52: 9 | I52: 施工規模 | J52: =IF(J44="申請なし","",IF(同種工事施工実績!F30="","",同種工事施工実績!F30)) | K52: =IF(K44="申請なし","",IF(同種工事施工実績!M30="","",同種工事施工実績!M30)) | O52: =IF(OR('優良工事表彰 (JV) '!B27="",'優良工事表彰 (JV) '!N26=""),"",'優良工事表彰 (JV) '!B27) | P52: =IF('優良工事表彰 (JV) '!B26="","",'優良工事表彰 (JV) '!B26) | Q52: =IF('優良工事表彰 (JV) '!N26="","",'優良工事表彰 (JV) '!N26) | AA52: 役職 | AB52: =IF(OR(AA34="配置なし",AB44="申請なし"),"",IF(同種工事施工経験!F28="","",同種工事施工経験!F28)) | AC52: =IF(OR(AA34="配置なし",AC44="申請なし"),"",IF(同種工事施工経験!M28="","",同種工事施工経験!M28)) | AS52: 役職 | AT52: =IF(OR(AS34="配置なし",AT44="申請なし"),"",IF(同種工事施工経験!F156="","",同種工事施工経験!F156)) | AU52: =IF(OR(AS34="配置なし",AU44="申請なし"),"",IF(同種工事施工経験!M156="","",同種工事施工経験!M156)) | BK52: 役職 | BL52: =IF(OR(BK34="配置なし",BL44="申請なし"),"",IF(同種工事施工経験!F209="","",同種工事施工経験!F209)) | BM52: =IF(OR(BK34="配置なし",BM44="申請なし"),"",IF(同種工事施工経験!M209="","",同種工事施工経験!M209)) | CC52: 協定実績 | CD52: =IF('BCP&防災協定 (JV用)'!E20="","",'BCP&防災協定 (JV用)'!E20) | CE52: =IF('BCP&防災協定 (JV用)'!G20="","",'BCP&防災協定 (JV用)'!G20) | CL52: 協定実績 | CM52: =IF('BCP&家畜伝染病防疫協定 (JV用)'!E20="","",'BCP&家畜伝染病防疫協定 (JV用)'!E20) | CN52: =IF('BCP&家畜伝染病防疫協定 (JV用)'!G20="","",'BCP&家畜伝染病防疫協定 (JV用)'!G20) | CO52: =IF(AND(CP50="",CQ50=""),"","従業員数") | CP52: =IF(CP50="","",IF(ボランティア!M24="","",ボランティア!M24)) | CQ52: =IF(CQ50="","",IF(ボランティア!M25="","",ボランティア!M25)) | CR52: 活動内容 | CS52: =IF('ボランティア (JV)'!F13="","",'ボランティア (JV)'!F13) | CX52: 元請・下請区分 | CY52: =IF('維持管理業務 (JV)'!D30="","",'維持管理業務 (JV)'!D30) -> 0 | CZ52: =IF('維持管理業務 (JV)'!D35="","",'維持管理業務 (JV)'!D35) -> 0 | DD52: 業務名 | DE52: =IF('除雪業務 (JV)'!I31="","申請なし",'除雪業務 (JV)'!I31) -> 申請なし | DF52: =IF('除雪業務 (JV)'!I36="","申請なし",'除雪業務 (JV)'!I36) -> 申請なし | ET52: 出資比率 | EU52: =IF(EU44="申請なし","",IF(近隣施工実績!F32="","",近隣施工実績!F32)) | EV52: =IF(EV44="申請なし","",IF(近隣施工実績!M32="","",近隣施工実績!M32))
B53: 10 | I53: 型式 | J53: =IF(J44="申請なし","",IF(同種工事施工実績!F32="","",同種工事施工実績!F32)) | K53: =IF(K44="申請なし","",IF(同種工事施工実績!M32="","",同種工事施工実績!M32)) | O53: =IF(OR('優良工事表彰 (JV) '!B29="",'優良工事表彰 (JV) '!N28=""),"",'優良工事表彰 (JV) '!B29) | P53: =IF('優良工事表彰 (JV) '!B28="","",'優良工事表彰 (JV) '!B28) | Q53: =IF('優良工事表彰 (JV) '!N28="","",'優良工事表彰 (JV) '!N28) | AA53: 施工規模 | AB53: =IF(OR(AA34="配置なし",AB44="申請なし"),"",IF(同種工事施工経験!F34="","",同種工事施工経験!F34)) | AC53: =IF(OR(AA34="配置なし",AC44="申請なし"),"",IF(同種工事施工経験!M34="","",同種工事施工経験!M34)) | AS53: 施工規模 | AT53: =IF(OR(AS34="配置なし",AT44="申請なし"),"",IF(同種工事施工経験!F162="","",同種工事施工経験!F162)) | AU53: =IF(OR(AS34="配置なし",AU44="申請なし"),"",IF(同種工事施工経験!M162="","",同種工事施工経験!M162)) | BK53: 施工規模 | BL53: =IF(OR(BK34="配置なし",BL44="申請なし"),"",IF(同種工事施工経験!F215="","",同種工事施工経験!F215)) | BM53: =IF(OR(BK34="配置なし",BM44="申請なし"),"",IF(同種工事施工経験!M215="","",同種工事施工経験!M215)) | CR53: 活動箇所 | CS53: =IF('ボランティア (JV)'!K13="","",'ボランティア (JV)'!K13) | CT53: =IF('ボランティア (JV)'!I23="","",'ボランティア (JV)'!I23) -> 活動箇所 | CX53: 契約(始) | CY53: =IF('維持管理業務 (JV)'!F30="","",'維持管理業務 (JV)'!F30) | CZ53: =IF('維持管理業務 (JV)'!F35="","",'維持管理業務 (JV)'!F35) | DD53: 発注機関 | DE53: =IF('除雪業務 (JV)'!A31="","",'除雪業務 (JV)'!A31) | DF53: =IF('除雪業務 (JV)'!A36="","",'除雪業務 (JV)'!A36) | EB53: 工期（始） | EC53: =IF(DH44="申請無し","",DATEVALUE(ＩＣＴ施工実績!F27&ＩＣＴ施工実績!G27&ＩＣＴ施工実績!H27&ＩＣＴ施工実績!I27&ＩＣＴ施工実績!J27&ＩＣＴ施工実績!K27&ＩＣＴ施工実績!L27)) -> #VALUE! | ET53: 工事種別 | EU53: =IF(EU44="申請なし","",IF(近隣施工実績!F24="","",近隣施工実績!F24)) | EV53: =IF(EV44="申請なし","",IF(近隣施工実績!M24="","",近隣施工実績!M24))
B54: 11 | J54: =IF(J44="申請なし","",IF(同種工事施工実績!F34="","",同種工事施工実績!F34)) | K54: =IF(K44="申請なし","",IF(同種工事施工実績!M34="","",同種工事施工実績!M34)) | AA54: 型式 | AB54: =IF(OR(AA34="配置なし",AB44="申請なし"),"",IF(同種工事施工経験!F36="","",同種工事施工経験!F36)) | AC54: =IF(OR(AA34="配置なし",AC44="申請なし"),"",IF(同種工事施工経験!M36="","",同種工事施工経験!M36)) | AS54: 型式 | AT54: =IF(OR(AS34="配置なし",AT44="申請なし"),"",IF(同種工事施工経験!F164="","",同種工事施工経験!F164)) | AU54: =IF(OR(AS34="配置なし",AU44="申請なし"),"",IF(同種工事施工経験!M164="","",同種工事施工経験!M164)) | BK54: 型式 | BL54: =IF(OR(BK34="配置なし",BL44="申請なし"),"",IF(同種工事施工経験!F217="","",同種工事施工経験!F217)) | BM54: =IF(OR(BK34="配置なし",BM44="申請なし"),"",IF(同種工事施工経験!M217="","",同種工事施工経験!M217)) | CR54: 参加人数 | CS54: =IF('ボランティア (JV)'!O13="","",'ボランティア (JV)'!O13) | CT54: =IF('ボランティア (JV)'!N23="","",'ボランティア (JV)'!N23) -> 年度間延べ参加人数 | CX54: 契約(終) | CY54: =IF('維持管理業務 (JV)'!F31="","",'維持管理業務 (JV)'!F31) | CZ54: =IF('維持管理業務 (JV)'!F36="","",'維持管理業務 (JV)'!F36) | DD54: 元請・下請区分 | DE54: =IF('除雪業務 (JV)'!D31="","",'除雪業務 (JV)'!D31) | DF54: =IF('除雪業務 (JV)'!D36="","",'除雪業務 (JV)'!D36) | EB54: 工期（終） | EC54: =IF(DH44="申請無し","",DATEVALUE(ＩＣＴ施工実績!F28&ＩＣＴ施工実績!G28&ＩＣＴ施工実績!H28&ＩＣＴ施工実績!I28&ＩＣＴ施工実績!J28&ＩＣＴ施工実績!K28&ＩＣＴ施工実績!L28)) -> #VALUE! | ET54: 建設工事の種類 | EU54: =IF(EU44="申請なし","",IF(近隣施工実績!F25="","",近隣施工実績!F25)) | EV54: =IF(EV44="申請なし","",IF(近隣施工実績!M25="","",近隣施工実績!M25))
B55: 12 | J55: =IF(J44="申請なし","",IF(同種工事施工実績!F36="","",同種工事施工実績!F36)) | K55: =IF(K44="申請なし","",IF(同種工事施工実績!M36="","",同種工事施工実績!M36)) | AB55: =IF(OR(AA34="配置なし",AB44="申請なし"),"",IF(同種工事施工経験!F38="","",同種工事施工経験!F38)) | AC55: =IF(OR(AA34="配置なし",AC44="申請なし"),"",IF(同種工事施工経験!M38="","",同種工事施工経験!M38)) | AT55: =IF(OR(AS34="配置なし",AT44="申請なし"),"",IF(同種工事施工経験!F166="","",同種工事施工経験!F166)) | AU55: =IF(OR(AS34="配置なし",AU44="申請なし"),"",IF(同種工事施工経験!M166="","",同種工事施工経験!M166)) | BL55: =IF(OR(BK34="配置なし",BL44="申請なし"),"",IF(同種工事施工経験!F219="","",同種工事施工経験!F219)) | BM55: =IF(OR(BK34="配置なし",BM44="申請なし"),"",IF(同種工事施工経験!M219="","",同種工事施工経験!M219)) | CR55: 従業員数 | CS55: =IF(OR(CS50="申請なし",'ボランティア (JV)'!Q13=""),"",'ボランティア (JV)'!Q13) | CT55: =IF(OR(CT50="申請なし",'ボランティア (JV)'!Q23=""),"",'ボランティア (JV)'!Q23) -> 従業員数 | CX55: 施工箇所 | CY55: =IF('維持管理業務 (JV)'!N30="","",'維持管理業務 (JV)'!N30) | CZ55: =IF('維持管理業務 (JV)'!N35="","",'維持管理業務 (JV)'!N35) | DD55: 契約(始) | DE55: =IF('除雪業務 (JV)'!F31="","",'除雪業務 (JV)'!F31) | DF55: =IF('除雪業務 (JV)'!F36="","",'除雪業務 (JV)'!F36) | EB55: 工事成績 | EC55: =IF(ＩＣＴ施工実績!F29="","",ＩＣＴ施工実績!F29)
B56: 13 | J56: =IF(J44="申請なし","",IF(同種工事施工実績!F38="","",同種工事施工実績!F38)) | K56: =IF(K44="申請なし","",IF(同種工事施工実績!M38="","",同種工事施工実績!M38)) | AB56: =IF(OR(AA34="配置なし",AB44="申請なし"),"",IF(同種工事施工経験!F40="","",同種工事施工経験!F40)) | AC56: =IF(OR(AA34="配置なし",AC44="申請なし"),"",IF(同種工事施工経験!M40="","",同種工事施工経験!M40)) | AT56: =IF(OR(AS34="配置なし",AT44="申請なし"),"",IF(同種工事施工経験!F168="","",同種工事施工経験!F168)) | AU56: =IF(OR(AS34="配置なし",AU44="申請なし"),"",IF(同種工事施工経験!M168="","",同種工事施工経験!M168)) | BL56: =IF(OR(BK34="配置なし",BL44="申請なし"),"",IF(同種工事施工経験!F221="","",同種工事施工経験!F221)) | BM56: =IF(OR(BK34="配置なし",BM44="申請なし"),"",IF(同種工事施工経験!M221="","",同種工事施工経験!M221)) | DD56: 契約(終) | DE56: =IF('除雪業務 (JV)'!F32="","",'除雪業務 (JV)'!F32) | DF56: =IF('除雪業務 (JV)'!F37="","",'除雪業務 (JV)'!F37)
B57: 14 | I57: 工事成績 | J57: =IF(J44="申請なし","",IF(同種工事施工実績!F29="","",同種工事施工実績!F29)) | K57: =IF(K44="申請なし","",IF(同種工事施工実績!M29="","",同種工事施工実績!M29)) | AA57: 工事成績 | AB57: =IF(OR(AA34="配置なし",AB44="申請なし"),"",IF(同種工事施工経験!F33="","",同種工事施工経験!F33)) | AC57: =IF(OR(AA34="配置なし",AC44="申請なし"),"",IF(同種工事施工経験!M33="","",同種工事施工経験!M33)) | AS57: 工事成績 | AT57: =IF(OR(AS34="配置なし",AT44="申請なし"),"",IF(同種工事施工経験!F161="","",同種工事施工経験!F161)) | AU57: =IF(OR(AS34="配置なし",AU44="申請なし"),"",IF(同種工事施工経験!M161="","",同種工事施工経験!M161)) | BK57: 工事成績 | BL57: =IF(OR(BK34="配置なし",BL44="申請なし"),"",IF(同種工事施工経験!F214="","",同種工事施工経験!F214)) | BM57: =IF(OR(BK34="配置なし",BM44="申請なし"),"",IF(同種工事施工経験!M214="","",同種工事施工経験!M214)) | DD57: 施工箇所 | DE57: =IF('除雪業務 (JV)'!N31="","",'除雪業務 (JV)'!N31) | DF57: =IF('除雪業務 (JV)'!N36="","",'除雪業務 (JV)'!N36)
B58: 15 | I58: 受注形態 | J58: =IF(J44="申請なし","",IF(同種工事施工実績!F27="","",同種工事施工実績!F27)) | K58: =IF(K44="申請なし","",IF(同種工事施工実績!M27="","",同種工事施工実績!M27)) | AA58: 受注形態 | AB58: =IF(OR(AA34="配置なし",AB44="申請なし"),"",IF(同種工事施工経験!F29="","",同種工事施工経験!F29)) | AC58: =IF(OR(AA34="配置なし",AC44="申請なし"),"",IF(同種工事施工経験!M29="","",同種工事施工経験!M29)) | AS58: 受注形態 | AT58: =IF(OR(AS34="配置なし",AT44="申請なし"),"",IF(同種工事施工経験!F157="","",同種工事施工経験!F157)) | AU58: =IF(OR(AS34="配置なし",AU44="申請なし"),"",IF(同種工事施工経験!M157="","",同種工事施工経験!M157)) | BK58: 受注形態 | BL58: =IF(OR(BK34="配置なし",BL44="申請なし"),"",IF(同種工事施工経験!F210="","",同種工事施工経験!F210)) | BM58: =IF(OR(BK34="配置なし",BM44="申請なし"),"",IF(同種工事施工経験!M210="","",同種工事施工経験!M210))
B59: 16 | I59: 出資比率 | J59: =IF(J44="申請なし","",IF(同種工事施工実績!F28="","",同種工事施工実績!F28)) | K59: =IF(K44="申請なし","",IF(同種工事施工実績!M28="","",同種工事施工実績!M28)) | AA59: 出資比率 | AB59: =IF(OR(AA34="配置なし",AB44="申請なし"),"",IF(同種工事施工経験!F30="","",同種工事施工経験!F30)) | AC59: =IF(OR(AA34="配置なし",AC44="申請なし"),"",IF(同種工事施工経験!M30="","",同種工事施工経験!M30)) | AS59: 出資比率 | AT59: =IF(OR(AS34="配置なし",AT44="申請なし"),"",IF(同種工事施工経験!F158="","",同種工事施工経験!F158)) | AU59: =IF(OR(AS34="配置なし",AU44="申請なし"),"",IF(同種工事施工経験!M158="","",同種工事施工経験!M158)) | BK59: 出資比率 | BL59: =IF(OR(BK34="配置なし",BL44="申請なし"),"",IF(同種工事施工経験!F211="","",同種工事施工経験!F211)) | BM59: =IF(OR(BK34="配置なし",BM44="申請なし"),"",IF(同種工事施工経験!M211="","",同種工事施工経験!M211))
B60: 17 | I60: コリンズ | J60: =IF(J44="申請なし","",IF(同種工事施工実績!F18="","",同種工事施工実績!F18)) | K60: =IF(K44="申請なし","",IF(同種工事施工実績!M18="","",同種工事施工実績!M18)) | AA60: コリンズ | AB60: =IF(OR(AA34="配置なし",AB44="申請なし"),"",IF(同種工事施工経験!F19="","",同種工事施工経験!F19)) | AC60: =IF(OR(AA34="配置なし",AC44="申請なし"),"",IF(同種工事施工経験!M19="","",同種工事施工経験!M19)) | AS60: コリンズ | AT60: =IF(OR(AS34="配置なし",AT44="申請なし"),"",IF(同種工事施工経験!F147="","",同種工事施工経験!F147)) | AU60: =IF(OR(AS34="配置なし",AU44="申請なし"),"",IF(同種工事施工経験!M147="","",同種工事施工経験!M147)) | BK60: コリンズ | BL60: =IF(OR(BK34="配置なし",BL44="申請なし"),"",IF(同種工事施工経験!F200="","",同種工事施工経験!F200)) | BM60: =IF(OR(BK34="配置なし",BM44="申請なし"),"",IF(同種工事施工経験!M200="","",同種工事施工経験!M200))
B62: ・各様式に記載された内容をこのシートの集計専用表で数式によりリンクさせています。
B63: ・集計専用表で集計した内容をコピー専用表で再集計していますので、企業震災内容の行数は１７行から８行に減っています。

Sheet 技術提案①
A1: =CONCATENATE("（様式－",発注者入力シート!E20,"）") -> （様式－） | U1: 着色セルの凡例
A2: =CONCATENATE("評価項目",発注者入力シート!F20,"－",発注者入力シート!G20) -> 評価項目－ | F2: 企業体名： | H2: =IF(企業入力シート!C5="","",企業入力シート!C5) -> ○○共同企業体 | U2: （企業）
V3: ：「企業入力シート」で入力（数式リンク有）
A4: 技術提案 | V4: ：セルに直接入力もしくはリストから選択が必要な箇所
A5: 課題： | B5: =IF(発注者入力シート!C20="","",発注者入力シート!C20)
A6: 技術提案の有無 | H6: （会社記載欄：必須） | U6: （発注者）
M7: 無の場合（標準案での施工） | V7: ：「発注者入力シート」で入力（数式リンク有）
A8: 技術提案が採用されなかった場合の標準案での施工の意志の有無 | H8: （会社記載欄：上表で『有』と選択した場合のみ必須） | V8: ：セルに直接入力が必要な箇所
A10: （発注者記載欄）
A11: 技術提案の記載方法等について | U11: 【印刷について】
A12: ・ | B12: 標準案は、入札説明書本文を参照すること。 | U12: このシートは「ページ設定」で「白黒印刷」と「印刷範囲」が設定されています。
A13: ・ | B13: 記載する内容は説明の要点（目的、具体的な手法＜施工数量、施工位置、施工範囲、施工期間、使用材料、使用機械等＞、効果、技術的な根拠、標準案に対する優位性等）が分かり易いようにまとめることとし、提案は３個までとする。 | U13: 技術提案記載欄より上の行は、印刷タイトルの設定をしています。
U14: 様式内の吹出しコメントは印刷されません。
A16: ・ | B16: 技術提案が「有」の場合、その提案が採用されなかった場合の標準案での施工の意志の記載がない又は「無」と記載すると、標準点を０点とする。 | U16: 注意事項
U17: 記入欄が不足する場合は、行を挿入してください。
A18: ・ | B18: 技術提案がない場合は、技術評価点の減点対象とする。 | U18: 企業記入欄のセルの解除はしないでください。
A19: 技術提案がある場合、以下に記載する（会社記載欄） | P19: ※評価結果 | U19: 提出資料が２P以上になる場合、体裁を整えた上で提出してください。
A20: ① ◯◯◯◯◯ （現場特性・概要） （時期、期間） （位置、範囲） （内容《誰が･何を･どうする》、数量、材料、機械等） （目的、効果、優位性） （効果の技術的根拠） （その他） | U20: 文字切れがないか必ず確認してください。
U23: 一つの提案内容（同一枠内）に複数提案が記載されている場合、「受発注者協議による実施の可能性」について、備考欄へ詳細に記入すること。（発注者）
U26: 【複数提案で○、△、×が混在する場合】
A27: ② ◯◯◯◯◯ （現場特性・概要） （時期、期間） （位置、範囲） （内容《誰が･何を･どうする》、数量、材料、機械等） （目的、効果、優位性） （効果の技術的根拠） （その他） | U27: 例 | V27: 評価 | W27: 履行義務 | Y27: 受発注者協議による実施の可能性
U28: ○、○ | V28: ○ | W28: すべて履行義務あり | Y28: －
U29: ○、△ | V29: △ | W29: 履行義務なし | Y29: すべて実施可能。
U30: ○、× | V30: × | W30: 履行義務なし | Y30: ×は実施を認めない。○は実施可能。
U31: △、× | V31: × | W31: 履行義務なし | Y31: ×は実施を認めない。△は実施可能。
A34: ③ ◯◯◯◯◯ （現場特性・概要） （時期、期間） （位置、範囲） （内容《誰が･何を･どうする》、数量、材料、機械等） （目的、効果、優位性） （効果の技術的根拠） （その他）
A41: ※備考
A44: ※印の欄には記入しないでください。（発注者記入欄）
A45: ※「○（評価する）」とした提案以外については、履行義務なしとする。「×」とした提案は実施を認めない。

Sheet 技術提案②
A1: =CONCATENATE("（様式－",発注者入力シート!E21,"）") -> （様式－） | U1: 着色セルの凡例
A2: =CONCATENATE("評価項目",発注者入力シート!F21,"－",発注者入力シート!G21) -> 評価項目－ | F2: 企業体名： | H2: =IF(企業入力シート!C5="","",企業入力シート!C5) -> ○○共同企業体 | U2: （企業）
V3: ：「企業入力シート」で入力（数式リンク有）
A4: 技術提案 | V4: ：セルに直接入力もしくはリストから選択が必要な箇所
A5: 課題： | B5: =IF(発注者入力シート!C21="","",発注者入力シート!C21)
A6: 技術提案の有無 | H6: （会社記載欄：必須） | U6: （発注者）
M7: 無の場合（標準案での施工） | V7: ：「発注者入力シート」で入力（数式リンク有）
A8: 技術提案が採用されなかった場合の標準案での施工の意志の有無 | H8: （会社記載欄：上表で『有』と選択した場合のみ必須） | V8: ：セルに直接入力が必要な箇所
A10: （発注者記載欄）
A11: 技術提案の記載方法等について | U11: 【印刷について】
A12: ・ | B12: 標準案は、入札説明書本文を参照すること。 | U12: このシートは「ページ設定」で「白黒印刷」と「印刷範囲」が設定されています。
A13: ・ | B13: 記載する内容は説明の要点（目的、具体的な手法＜施工数量、施工位置、施工範囲、施工期間、使用材料、使用機械等＞、効果、技術的な根拠、標準案に対する優位性等）が分かり易いようにまとめることとし、提案は３個までとする。 | U13: 技術提案記載欄より上の行は、印刷タイトルの設定をしています。
U14: 様式内の吹出しコメントは印刷されません。
A16: ・ | B16: 技術提案が「有」の場合、その提案が採用されなかった場合の標準案での施工の意志の記載がない又は「無」と記載すると、標準点を０点とする。 | U16: 注意事項
U17: 記入欄が不足する場合は、行を挿入してください。
A18: ・ | B18: 技術提案がない場合は、技術評価点の減点対象とする。 | U18: 企業記入欄のセルの解除はしないでください。
A19: 技術提案がある場合、以下に記載する（会社記載欄） | P19: ※評価結果 | U19: 提出資料が２P以上になる場合、体裁を整えた上で提出してください。
A20: ① ◯◯◯◯◯ （現場特性・概要） （時期、期間） （位置、範囲） （内容《誰が･何を･どうする》、数量、材料、機械等） （目的、効果、優位性） （効果の技術的根拠） （その他） | U20: 文字切れがないか必ず確認してください。
U23: 一つの提案内容（同一枠内）に複数提案が記載されている場合、「受発注者協議による実施の可能性」について、備考欄へ詳細に記入すること。（発注者）
U26: 【複数提案で○、△、×が混在する場合】
A27: ② ◯◯◯◯◯ （現場特性・概要） （時期、期間） （位置、範囲） （内容《誰が･何を･どうする》、数量、材料、機械等） （目的、効果、優位性） （効果の技術的根拠） （その他） | U27: 例 | V27: 評価 | W27: 履行義務 | Y27: 受発注者協議による実施の可能性
U28: ○、○ | V28: ○ | W28: すべて履行義務あり | Y28: －
U29: ○、△ | V29: △ | W29: 履行義務なし | Y29: すべて実施可能。
U30: ○、× | V30: × | W30: 履行義務なし | Y30: ×は実施を認めない。○は実施可能。
U31: △、× | V31: × | W31: 履行義務なし | Y31: ×は実施を認めない。△は実施可能。
A34: ③ ◯◯◯◯◯ （現場特性・概要） （時期、期間） （位置、範囲） （内容《誰が･何を･どうする》、数量、材料、機械等） （目的、効果、優位性） （効果の技術的根拠） （その他）
A41: ※備考
A44: ※印の欄には記入しないでください。（発注者記入欄）
A45: ※「○（評価する）」とした提案以外については、履行義務なしとする。「×」とした提案は実施を認めない。

Sheet 技術提案③
A1: =CONCATENATE("（様式－",発注者入力シート!E22,"）") -> （様式－） | U1: 着色セルの凡例
A2: =CONCATENATE("評価項目",発注者入力シート!F22,"－",発注者入力シート!G22) -> 評価項目－ | F2: 企業体名： | H2: =IF(企業入力シート!C5="","",企業入力シート!C5) -> ○○共同企業体 | U2: （企業）
V3: ：「企業入力シート」で入力（数式リンク有）
A4: 技術提案 | V4: ：セルに直接入力もしくはリストから選択が必要な箇所
A5: 課題： | B5: =IF(発注者入力シート!C22="","",発注者入力シート!C22)
A6: 技術提案の有無 | H6: （会社記載欄：必須） | U6: （発注者）
M7: 無の場合（標準案での施工） | V7: ：「発注者入力シート」で入力（数式リンク有）
A8: 技術提案が採用されなかった場合の標準案での施工の意志の有無 | H8: （会社記載欄：上表で『有』と選択した場合のみ必須） | V8: ：セルに直接入力が必要な箇所
A10: （発注者記載欄）
A11: 技術提案の記載方法等について | U11: 【印刷について】
A12: ・ | B12: 標準案は、入札説明書本文を参照すること。 | U12: このシートは「ページ設定」で「白黒印刷」と「印刷範囲」が設定されています。
A13: ・ | B13: 記載する内容は説明の要点（目的、具体的な手法＜施工数量、施工位置、施工範囲、施工期間、使用材料、使用機械等＞、効果、技術的な根拠、標準案に対する優位性等）が分かり易いようにまとめることとし、提案は３個までとする。 | U13: 技術提案記載欄より上の行は、印刷タイトルの設定をしています。
U14: 様式内の吹出しコメントは印刷されません。
A16: ・ | B16: 技術提案が「有」の場合、その提案が採用されなかった場合の標準案での施工の意志の記載がない又は「無」と記載すると、標準点を０点とする。 | U16: 注意事項
U17: 記入欄が不足する場合は、行を挿入してください。
A18: ・ | B18: 技術提案がない場合は、技術評価点の減点対象とする。 | U18: 企業記入欄のセルの解除はしないでください。
A19: 技術提案がある場合、以下に記載する（会社記載欄） | P19: ※評価結果 | U19: 提出資料が２P以上になる場合、体裁を整えた上で提出してください。
A20: ① ◯◯◯◯◯ （現場特性・概要） （時期、期間） （位置、範囲） （内容《誰が･何を･どうする》、数量、材料、機械等） （目的、効果、優位性） （効果の技術的根拠） （その他） | U20: 文字切れがないか必ず確認してください。
U23: 一つの提案内容（同一枠内）に複数提案が記載されている場合、「受発注者協議による実施の可能性」について、備考欄へ詳細に記入すること。（発注者）
U26: 【複数提案で○、△、×が混在する場合】
A27: ② ◯◯◯◯◯ （現場特性・概要） （時期、期間） （位置、範囲） （内容《誰が･何を･どうする》、数量、材料、機械等） （目的、効果、優位性） （効果の技術的根拠） （その他） | U27: 例 | V27: 評価 | W27: 履行義務 | Y27: 受発注者協議による実施の可能性
U28: ○、○ | V28: ○ | W28: すべて履行義務あり | Y28: －
U29: ○、△ | V29: △ | W29: 履行義務なし | Y29: すべて実施可能。
U30: ○、× | V30: × | W30: 履行義務なし | Y30: ×は実施を認めない。○は実施可能。
U31: △、× | V31: × | W31: 履行義務なし | Y31: ×は実施を認めない。△は実施可能。
A34: ③ ◯◯◯◯◯ （現場特性・概要） （時期、期間） （位置、範囲） （内容《誰が･何を･どうする》、数量、材料、機械等） （目的、効果、優位性） （効果の技術的根拠） （その他）
A41: ※備考
A44: ※印の欄には記入しないでください。（発注者記入欄）
A45: ※「○（評価する）」とした提案以外については、履行義務なしとする。「×」とした提案は実施を認めない。

Sheet 技術提案④
A1: =CONCATENATE("（様式－",発注者入力シート!E23,"）") -> （様式－） | U1: 着色セルの凡例
A2: =CONCATENATE("評価項目",発注者入力シート!F23,"－",発注者入力シート!G23) -> 評価項目－ | F2: 企業体名： | H2: =IF(企業入力シート!C5="","",企業入力シート!C5) -> ○○共同企業体 | U2: （企業）
V3: ：「企業入力シート」で入力（数式リンク有）
A4: 技術提案 | V4: ：セルに直接入力もしくはリストから選択が必要な箇所
A5: 課題： | B5: =IF(発注者入力シート!C23="","",発注者入力シート!C23)
A6: 技術提案の有無 | H6: （会社記載欄：必須） | U6: （発注者）
M7: 無の場合（標準案での施工） | V7: ：「発注者入力シート」で入力（数式リンク有）
A8: 技術提案が採用されなかった場合の標準案での施工の意志の有無 | H8: （会社記載欄：上表で『有』と選択した場合のみ必須） | V8: ：セルに直接入力が必要な箇所
A10: （発注者記載欄）
A11: 技術提案の記載方法等について | U11: 【印刷について】
A12: ・ | B12: 標準案は、入札説明書本文を参照すること。 | U12: このシートは「ページ設定」で「白黒印刷」と「印刷範囲」が設定されています。
A13: ・ | B13: 記載する内容は説明の要点（目的、具体的な手法＜施工数量、施工位置、施工範囲、施工期間、使用材料、使用機械等＞、効果、技術的な根拠、標準案に対する優位性等）が分かり易いようにまとめることとし、提案は３個までとする。 | U13: 技術提案記載欄より上の行は、印刷タイトルの設定をしています。
U14: 様式内の吹出しコメントは印刷されません。
A16: ・ | B16: 技術提案が「有」の場合、その提案が採用されなかった場合の標準案での施工の意志の記載がない又は「無」と記載すると、標準点を０点とする。 | U16: 注意事項
U17: 記入欄が不足する場合は、行を挿入してください。
A18: ・ | B18: 技術提案がない場合は、技術評価点の減点対象とする。 | U18: 企業記入欄のセルの解除はしないでください。
A19: 技術提案がある場合、以下に記載する（会社記載欄） | P19: ※評価結果 | U19: 提出資料が２P以上になる場合、体裁を整えた上で提出してください。
A20: ① ◯◯◯◯◯ （現場特性・概要） （時期、期間） （位置、範囲） （内容《誰が･何を･どうする》、数量、材料、機械等） （目的、効果、優位性） （効果の技術的根拠） （その他） | U20: 文字切れがないか必ず確認してください。
U23: 一つの提案内容（同一枠内）に複数提案が記載されている場合、「受発注者協議による実施の可能性」について、備考欄へ詳細に記入すること。（発注者）
U26: 【複数提案で○、△、×が混在する場合】
A27: ② ◯◯◯◯◯ （現場特性・概要） （時期、期間） （位置、範囲） （内容《誰が･何を･どうする》、数量、材料、機械等） （目的、効果、優位性） （効果の技術的根拠） （その他） | U27: 例 | V27: 評価 | W27: 履行義務 | Y27: 受発注者協議による実施の可能性
U28: ○、○ | V28: ○ | W28: すべて履行義務あり | Y28: －
U29: ○、△ | V29: △ | W29: 履行義務なし | Y29: すべて実施可能。
U30: ○、× | V30: × | W30: 履行義務なし | Y30: ×は実施を認めない。○は実施可能。
U31: △、× | V31: × | W31: 履行義務なし | Y31: ×は実施を認めない。△は実施可能。
A34: ③ ◯◯◯◯◯ （現場特性・概要） （時期、期間） （位置、範囲） （内容《誰が･何を･どうする》、数量、材料、機械等） （目的、効果、優位性） （効果の技術的根拠） （その他）
A41: ※備考
A44: ※印の欄には記入しないでください。（発注者記入欄）
A45: ※「○（評価する）」とした提案以外については、履行義務なしとする。「×」とした提案は実施を認めない。

Sheet 技術提案⑤
A1: =CONCATENATE("（様式－",発注者入力シート!E24,"）") -> （様式－） | U1: 着色セルの凡例
A2: =CONCATENATE("評価項目",発注者入力シート!F24,"－",発注者入力シート!G24) -> 評価項目－ | F2: 企業体名： | H2: =IF(企業入力シート!C5="","",企業入力シート!C5) -> ○○共同企業体 | U2: （企業）
V3: ：「企業入力シート」で入力（数式リンク有）
A4: 技術提案 | V4: ：セルに直接入力もしくはリストから選択が必要な箇所
A5: 課題： | B5: =IF(発注者入力シート!C24="","",発注者入力シート!C24)
A6: 技術提案の有無 | H6: （会社記載欄：必須） | U6: （発注者）
M7: 無の場合（標準案での施工） | V7: ：「発注者入力シート」で入力（数式リンク有）
A8: 技術提案が採用されなかった場合の標準案での施工の意志の有無 | H8: （会社記載欄：上表で『有』と選択した場合のみ必須） | V8: ：セルに直接入力が必要な箇所
A10: （発注者記載欄）
A11: 技術提案の記載方法等について | U11: 【印刷について】
A12: ・ | B12: 標準案は、入札説明書本文を参照すること。 | U12: このシートは「ページ設定」で「白黒印刷」と「印刷範囲」が設定されています。
A13: ・ | B13: 記載する内容は説明の要点（目的、具体的な手法＜施工数量、施工位置、施工範囲、施工期間、使用材料、使用機械等＞、効果、技術的な根拠、標準案に対する優位性等）が分かり易いようにまとめることとし、提案は３個までとする。 | U13: 技術提案記載欄より上の行は、印刷タイトルの設定をしています。
U14: 様式内の吹出しコメントは印刷されません。
A16: ・ | B16: 技術提案が「有」の場合、その提案が採用されなかった場合の標準案での施工の意志の記載がない又は「無」と記載すると、標準点を０点とする。 | U16: 注意事項
U17: 記入欄が不足する場合は、行を挿入してください。
A18: ・ | B18: 技術提案がない場合は、技術評価点の減点対象とする。 | U18: 企業記入欄のセルの解除はしないでください。
A19: 技術提案がある場合、以下に記載する（会社記載欄） | P19: ※評価結果 | U19: 提出資料が２P以上になる場合、体裁を整えた上で提出してください。
A20: ① ◯◯◯◯◯ （現場特性・概要） （時期、期間） （位置、範囲） （内容《誰が･何を･どうする》、数量、材料、機械等） （目的、効果、優位性） （効果の技術的根拠） （その他） | U20: 文字切れがないか必ず確認してください。
U23: 一つの提案内容（同一枠内）に複数提案が記載されている場合、「受発注者協議による実施の可能性」について、備考欄へ詳細に記入すること。（発注者）
U26: 【複数提案で○、△、×が混在する場合】
A27: ② ◯◯◯◯◯ （現場特性・概要） （時期、期間） （位置、範囲） （内容《誰が･何を･どうする》、数量、材料、機械等） （目的、効果、優位性） （効果の技術的根拠） （その他） | U27: 例 | V27: 評価 | W27: 履行義務 | Y27: 受発注者協議による実施の可能性
U28: ○、○ | V28: ○ | W28: すべて履行義務あり | Y28: －
U29: ○、△ | V29: △ | W29: 履行義務なし | Y29: すべて実施可能。
U30: ○、× | V30: × | W30: 履行義務なし | Y30: ×は実施を認めない。○は実施可能。
U31: △、× | V31: × | W31: 履行義務なし | Y31: ×は実施を認めない。△は実施可能。
A34: ③ ◯◯◯◯◯ （現場特性・概要） （時期、期間） （位置、範囲） （内容《誰が･何を･どうする》、数量、材料、機械等） （目的、効果、優位性） （効果の技術的根拠） （その他）
A41: ※備考
A44: ※印の欄には記入しないでください。（発注者記入欄）
A45: ※「○（評価する）」とした提案以外については、履行義務なしとする。「×」とした提案は実施を認めない。

Sheet 技術提案ｂ①
A1: =CONCATENATE("（様式－",発注者入力シート!E25,"）") -> （様式－） | U1: 着色セルの凡例
A2: =CONCATENATE("評価項目",発注者入力シート!F25,"－",発注者入力シート!G25) -> 評価項目－ | F2: 企業体名： | H2: =IF(企業入力シート!C5="","",企業入力シート!C5) -> ○○共同企業体 | U2: （企業）
V3: ：「企業入力シート」で入力（数式リンク有）
A4: 技術提案 | V4: ：セルに直接入力もしくはリストから選択が必要な箇所
A5: 課題： | B5: =IF(発注者入力シート!C25="","",発注者入力シート!C25)
A6: 技術提案の有無 | H6: （会社記載欄：必須） | U6: （発注者）
M7: 無の場合（標準案での施工） | V7: ：「発注者入力シート」で入力（数式リンク有）
A8: 技術提案が採用されなかった場合の標準案での施工の意志の有無 | H8: （会社記載欄：上表で『有』と選択した場合のみ必須） | V8: ：セルに直接入力が必要な箇所
A10: （発注者記載欄）
A11: 技術提案の記載方法等について | U11: 【印刷について】
A12: ・ | B12: 標準案は、入札説明書本文を参照すること。 | U12: このシートは「ページ設定」で「白黒印刷」と「印刷範囲」が設定されています。
A13: ・ | B13: 記載する内容は説明の要点（目的、具体的な手法＜施工数量、施工位置、施工範囲、施工期間、使用材料、使用機械等＞、効果、技術的な根拠、標準案に対する優位性等）が分かり易いようにまとめることとし、設定項目毎の提案は２個までとする。 | U13: 技術提案記載欄より上の行は、印刷タイトルの設定をしています。
U14: 様式内の吹出しコメントは印刷されません。
A16: ・ | B16: 技術提案が「有」の場合、その提案が採用されなかった場合の標準案での施工の意志の記載がない又は「無」と記載すると、標準点を０点とする。 | U16: 注意事項
U17: 記入欄が不足する場合は、行を挿入してください。
A18: ・ | B18: 技術提案がない場合は、技術評価点の減点対象とする。 | U18: 企業記入欄のセルの解除はしないでください。
A19: 技術提案がある場合、以下に記載する（会社記載欄） | P19: ※評価結果 | U19: 提出資料が２P以上になる場合、体裁を整えた上で提出してください。
A20: 1. | B20: 使用材料 | U20: 文字切れがないか必ず確認してください。
A21: ①
U23: 一つの提案内容（同一枠内）に複数提案が記載されている場合、「受発注者協議による実施の可能性」について、備考欄へ詳細に記入すること。（発注者）
A26: ② | U26: 【複数提案で○、△、×が混在する場合】
U27: 例 | V27: 評価 | W27: 履行義務 | Y27: 受発注者協議による実施の可能性
U28: ○、○ | V28: ○ | W28: すべて履行義務あり | Y28: －
U29: ○、△ | V29: △ | W29: 履行義務なし | Y29: すべて実施可能。
U30: ○、× | V30: × | W30: 履行義務なし | Y30: ×は実施を認めない。○は実施可能。
A31: 2. | B31: 使用材料 | U31: △、× | V31: × | W31: 履行義務なし | Y31: ×は実施を認めない。△は実施可能。
A32: ①
A37: ②
A42: 3. | B42: 使用材料
A43: ①
A48: ②
A53: ※備考
A56: ※印の欄には記入しないでください。（発注者記入欄）
A57: ※「○（評価する）」とした提案以外については、履行義務なしとする。「×」とした提案は実施を認めない。

Sheet 技術提案ｂ②
A1: =CONCATENATE("（様式－",発注者入力シート!E26,"）") -> （様式－） | U1: 着色セルの凡例
A2: =CONCATENATE("評価項目",発注者入力シート!F26,"－",発注者入力シート!G26) -> 評価項目－ | F2: 企業体名： | H2: =IF(企業入力シート!C5="","",企業入力シート!C5) -> ○○共同企業体 | U2: （企業）
V3: ：「企業入力シート」で入力（数式リンク有）
A4: 技術提案 | V4: ：セルに直接入力もしくはリストから選択が必要な箇所
A5: 課題： | B5: =IF(発注者入力シート!C26="","",発注者入力シート!C26)
A6: 技術提案の有無 | H6: （会社記載欄：必須） | U6: （発注者）
M7: 無の場合（標準案での施工） | V7: ：「発注者入力シート」で入力（数式リンク有）
A8: 技術提案が採用されなかった場合の標準案での施工の意志の有無 | H8: （会社記載欄：上表で『有』と選択した場合のみ必須） | V8: ：セルに直接入力が必要な箇所
A10: （発注者記載欄）
A11: 技術提案の記載方法等について | U11: 【印刷について】
A12: ・ | B12: 標準案は、入札説明書本文を参照すること。 | U12: このシートは「ページ設定」で「白黒印刷」と「印刷範囲」が設定されています。
A13: ・ | B13: 記載する内容は説明の要点（目的、具体的な手法＜施工数量、施工位置、施工範囲、施工期間、使用材料、使用機械等＞、効果、技術的な根拠、標準案に対する優位性等）が分かり易いようにまとめることとし、設定項目毎の提案は２個までとする。 | U13: 技術提案記載欄より上の行は、印刷タイトルの設定をしています。
U14: 様式内の吹出しコメントは印刷されません。
A16: ・ | B16: 技術提案が「有」の場合、その提案が採用されなかった場合の標準案での施工の意志の記載がない又は「無」と記載すると、標準点を０点とする。 | U16: 注意事項
U17: 記入欄が不足する場合は、行を挿入してください。
A18: ・ | B18: 技術提案がない場合は、技術評価点の減点対象とする。 | U18: 企業記入欄のセルの解除はしないでください。
A19: 技術提案がある場合、以下に記載する（会社記載欄） | P19: ※評価結果 | U19: 提出資料が２P以上になる場合、体裁を整えた上で提出してください。
A20: 1. | B20: 使用材料 | U20: 文字切れがないか必ず確認してください。
A21: ①
U23: 一つの提案内容（同一枠内）に複数提案が記載されている場合、「受発注者協議による実施の可能性」について、備考欄へ詳細に記入すること。（発注者）
A26: ② | U26: 【複数提案で○、△、×が混在する場合】
U27: 例 | V27: 評価 | W27: 履行義務 | Y27: 受発注者協議による実施の可能性
U28: ○、○ | V28: ○ | W28: すべて履行義務あり | Y28: －
U29: ○、△ | V29: △ | W29: 履行義務なし | Y29: すべて実施可能。
U30: ○、× | V30: × | W30: 履行義務なし | Y30: ×は実施を認めない。○は実施可能。
A31: 2. | B31: 使用材料 | U31: △、× | V31: × | W31: 履行義務なし | Y31: ×は実施を認めない。△は実施可能。
A32: ①
A37: ②
A42: 3. | B42: 使用材料
A43: ①
A48: ②
A53: ※備考
A56: ※印の欄には記入しないでください。（発注者記入欄）
A57: ※「○（評価する）」とした提案以外については、履行義務なしとする。「×」とした提案は実施を認めない。

Sheet 表紙
A1: 様式－ | B1: 1 | S1: 着色セルの凡例
M2: 提出日 | N2: =IF(企業入力シート!C11="","",企業入力シート!C11) | S2: （企業）
A3: （ 標準型 総合評価方式 ） | T3: ：「企業入力シート」で入力（数式リンク有）
A4: 総 合 評 価 技 術 資 料 | T4: ：セルに直接入力が必要な箇所
A5: 発注者
A6: =CONCATENATE(" ",発注者入力シート!C6,IF(COUNTIF(発注者入力シート!C6,"*センター*"),"所長","")," ","様") -> 島根県知事 様 | S6: （発注者）
T7: ：「発注者入力シート」で入力（数式リンク有）
C8: 共同企業体名 | F8: =IF(企業入力シート!C5="","",企業入力シート!C5) -> ○○共同企業体 | T8: ：セルに直接入力が必要な箇所
G10: （代表者） | S10: 【印刷について】
H11: 住所 | J11: =IF(企業入力シート!C13="","",企業入力シート!C13) | S11: このシートは「ページ設定」で「白黒印刷」と「印刷範囲」が設定されています。
G13: 商号又は名称 | J13: =IF(企業入力シート!C14="","",企業入力シート!C14) -> ○○建設
G14: 代表者氏名 | J14: =IF(企業入力シート!C15="","",企業入力シート!C15) -> ○○ ○○
A17: =CONCATENATE(" ","令和",(YEAR(発注者入力シート!C7)-2018),"年",MONTH(発注者入力シート!C7),"月",DAY(発注者入力シート!C7),"日付けで入札公告のありました下記工事について、別添のとおり書類を添えて提出いたします。") -> 令和8年9月25日付けで入札公告のありました下記工事について、別添のとおり書類を添えて提出いたします。
A20: １ 工事名 | C20: =発注者入力シート!C10 -> 国道３７５号（両国トンネル）防安交付金（照明LED化）トンネル照明設備工事
A22: ２ 提出書類（下記項目の該当するもの）
A23: =IF(発注者入力シート!C20="","#N/A"," ○技術提案（ "&発注者入力シート!C20&" ） （様式-２）") -> #N/A
A24: =IF(発注者入力シート!C21="","#N/A"," ○技術提案（ "&発注者入力シート!C21&" ） （様式-２）") -> #N/A
A25: =IF(発注者入力シート!C22="","#N/A"," ○技術提案（ "&発注者入力シート!C22&" ） （様式-２）") -> #N/A
A26: =IF(発注者入力シート!C23="","#N/A"," ○技術提案（ "&発注者入力シート!C23&" ） （様式-２）") -> #N/A
A27: =IF(発注者入力シート!C24="","#N/A"," ○技術提案（ "&発注者入力シート!C24&" ） （様式-２）") -> #N/A
A28: =IF(発注者入力シート!C25="","#N/A"," ○技術提案（ "&発注者入力シート!C25&" ） （様式-２）") -> #N/A
A29: =IF(発注者入力シート!C26="","#N/A"," ○技術提案（ "&発注者入力シート!C26&" ） （様式-２）") -> #N/A
A30: =IF(AND(IFERROR(OR(発注者入力シート!$L$64="２",発注者入力シート!$L$65="２"),FALSE),企業入力シート!$L$71=2),"",IF(COUNTIF($A$50:$A$66,"*"&VLOOKUP("２",発注者入力シート!$L$41:$N$77,3,FALSE)&"*")>=2,"",INDEX(発注者入力シート!$L$40:$O$83,MATCH("２",発注者入力シート!$L$40:$L$83,0),4))) -> ○企業の工事成績評定点 （様式-２-１、様式-２-２）
A31: =IF(AND(IFERROR(OR(発注者入力シート!$L$64="３",発注者入力シート!$L$65="３"),FALSE),企業入力シート!$L$71=2),"",IF(COUNTIF($A$50:$A$66,"*"&VLOOKUP("３",発注者入力シート!$L$41:$N$77,3,FALSE)&"*")>=2,"",INDEX(発注者入力シート!$L$40:$O$83,MATCH("３",発注者入力シート!$L$40:$L$83,0),4))) -> ○企業の同種工事の施工実績 （様式-３）
A32: =IF(AND(IFERROR(OR(発注者入力シート!$L$64="４",発注者入力シート!$L$65="４"),FALSE),企業入力シート!$L$71=2),"",IF(COUNTIF($A$50:$A$66,"*"&VLOOKUP("４",発注者入力シート!$L$41:$N$77,3,FALSE)&"*")>=2,"",INDEX(発注者入力シート!$L$40:$O$83,MATCH("４",発注者入力シート!$L$40:$L$83,0),4))) -> ○企業の優良工事表彰（優良工事施工団体表彰） （様式-４）
A33: =IF(AND(IFERROR(OR(発注者入力シート!$L$64="５",発注者入力シート!$L$65="５"),FALSE),企業入力シート!$L$71=2),"",IF(COUNTIF($A$50:$A$66,"*"&VLOOKUP("５",発注者入力シート!$L$41:$N$77,3,FALSE)&"*")>=2,"",INDEX(発注者入力シート!$L$40:$O$83,MATCH("５",発注者入力シート!$L$40:$L$83,0),4))) -> ○配置予定技術者の継続学習 （様式-５）
A34: =IF(AND(IFERROR(OR(発注者入力シート!$L$64="６",発注者入力シート!$L$65="６"),FALSE),企業入力シート!$L$71=2),"",IF(COUNTIF($A$50:$A$66,"*"&VLOOKUP("６",発注者入力シート!$L$41:$N$77,3,FALSE)&"*")>=2,"",INDEX(発注者入力シート!$L$40:$O$83,MATCH("６",発注者入力シート!$L$40:$L$83,0),4))) -> ○配置予定技術者の同種工事の施工経験 （様式-６）
A35: =IF(AND(IFERROR(OR(発注者入力シート!$L$64="７",発注者入力シート!$L$65="７"),FALSE),企業入力シート!$L$71=2),"",IF(COUNTIF($A$50:$A$66,"*"&VLOOKUP("７",発注者入力シート!$L$41:$N$77,3,FALSE)&"*")>=2,"",INDEX(発注者入力シート!$L$40:$O$83,MATCH("７",発注者入力シート!$L$40:$L$83,0),4))) -> ○配置予定技術者の優秀建設技術者表彰 （様式-７）
A36: =IF(AND(IFERROR(OR(発注者入力シート!$L$64="８",発注者入力シート!$L$65="８"),FALSE),企業入力シート!$L$71=2),"",IF(COUNTIF($A$50:$A$66,"*"&VLOOKUP("８",発注者入力シート!$L$41:$N$77,3,FALSE)&"*")>=2,"",INDEX(発注者入力シート!$L$40:$O$83,MATCH("８",発注者入力シート!$L$40:$L$83,0),4))) -> ○ボランティア活動又はハートフルしまねへの参加実績 （様式-８）
A37: =IF(AND(IFERROR(OR(発注者入力シート!$L$64="９",発注者入力シート!$L$65="９"),FALSE),企業入力シート!$L$71=2),"",IF(COUNTIF($A$50:$A$66,"*"&VLOOKUP("９",発注者入力シート!$L$41:$N$77,3,FALSE)&"*")>=2,"",INDEX(発注者入力シート!$L$40:$O$83,MATCH("９",発注者入力シート!$L$40:$L$83,0),4))) -> ○労働福祉関連の状況(a 障がい者雇用の実態) （様式-９）
A38: =IF(AND(IFERROR(OR(発注者入力シート!$L$64="１０",発注者入力シート!$L$65="１０"),FALSE),企業入力シート!$L$71=2),"",IF(COUNTIF($A$50:$A$66,"*"&VLOOKUP("１０",発注者入力シート!$L$41:$N$77,3,FALSE)&"*")>=2,"",INDEX(発注者入力シート!$L$40:$O$83,MATCH("１０",発注者入力シート!$L$40:$L$83,0),4))) -> ○労働福祉関連の状況(b 育児・介護休業に関する制度) （様式-１０）
A39: =IF(AND(IFERROR(OR(発注者入力シート!$L$64="１１",発注者入力シート!$L$65="１１"),FALSE),企業入力シート!$L$71=2),"",IF(COUNTIF($A$50:$A$66,"*"&VLOOKUP("１１",発注者入力シート!$L$41:$N$77,3,FALSE)&"*")>=2,"",INDEX(発注者入力シート!$L$40:$O$83,MATCH("１１",発注者入力シート!$L$40:$L$83,0),4))) -> ○育児・介護休業に関する制度 チェック表 （様式-１１）
A40: =IF(AND(IFERROR(OR(発注者入力シート!$L$64="１２",発注者入力シート!$L$65="１２"),FALSE),企業入力シート!$L$71=2),"",IF(COUNTIF($A$50:$A$66,"*"&VLOOKUP("１２",発注者入力シート!$L$41:$N$77,3,FALSE)&"*")>=2,"",INDEX(発注者入力シート!$L$40:$O$83,MATCH("１２",発注者入力シート!$L$40:$L$83,0),4))) -> ○登録基幹技能者の配置 （様式-１２）
A41: =IF(AND(IFERROR(OR(発注者入力シート!$L$64="１３",発注者入力シート!$L$65="１３"),FALSE),企業入力シート!$L$71=2),"",IF(COUNTIF($A$50:$A$66,"*"&VLOOKUP("１３",発注者入力シート!$L$41:$N$77,3,FALSE)&"*")>=2,"",INDEX(発注者入力シート!$L$40:$O$83,MATCH("１３",発注者入力シート!$L$40:$L$83,0),4))) -> ○地理的条件（会社所在地） （様式-１３）
A42: =IF(AND(IFERROR(OR(発注者入力シート!$L$64="１５",発注者入力シート!$L$65="１５"),FALSE),企業入力シート!$L$71=2),"",IF(COUNTIF($A$50:$A$66,"*"&VLOOKUP("１５",発注者入力シート!$L$41:$N$77,3,FALSE)&"*")>=2,"",INDEX(発注者入力シート!$L$40:$O$83,MATCH("１５",発注者入力シート!$L$40:$L$83,0),4))) -> #N/A
A43: =IF(AND(IFERROR(OR(発注者入力シート!$L$64="１６",発注者入力シート!$L$65="１６"),FALSE),企業入力シート!$L$71=2),"",IF(COUNTIF($A$50:$A$66,"*"&VLOOKUP("１６",発注者入力シート!$L$41:$N$77,3,FALSE)&"*")>=2,"",INDEX(発注者入力シート!$L$40:$O$83,MATCH("１６",発注者入力シート!$L$40:$L$83,0),4))) -> #N/A
A44: =IF(AND(IFERROR(OR(発注者入力シート!$L$64="１７",発注者入力シート!$L$65="１７"),FALSE),企業入力シート!$L$71=2),"",IF(COUNTIF($A$50:$A$66,"*"&VLOOKUP("１７",発注者入力シート!$L$41:$N$77,3,FALSE)&"*")>=2,"",INDEX(発注者入力シート!$L$40:$O$83,MATCH("１７",発注者入力シート!$L$40:$L$83,0),4))) -> #N/A
A45: =IF(AND(IFERROR(OR(発注者入力シート!$L$64="１８",発注者入力シート!$L$65="１８"),FALSE),企業入力シート!$L$71=2),"",IF(COUNTIF($A$50:$A$66,"*"&VLOOKUP("１８",発注者入力シート!$L$41:$N$77,3,FALSE)&"*")>=2,"",INDEX(発注者入力シート!$L$40:$O$83,MATCH("１８",発注者入力シート!$L$40:$L$83,0),4))) -> #N/A
A46: =IF(AND(IFERROR(OR(発注者入力シート!$L$64="１９",発注者入力シート!$L$65="１９"),FALSE),企業入力シート!$L$71=2),"",IF(COUNTIF($A$50:$A$66,"*"&VLOOKUP("１９",発注者入力シート!$L$41:$N$77,3,FALSE)&"*")>=2,"",INDEX(発注者入力シート!$L$40:$O$83,MATCH("１９",発注者入力シート!$L$40:$L$83,0),4))) -> #N/A
A47: =IF(AND(IFERROR(OR(発注者入力シート!$L$64="２０",発注者入力シート!$L$65="２０"),FALSE),企業入力シート!$L$71=2),"",IF(COUNTIF($A$50:$A$66,"*"&VLOOKUP("２０",発注者入力シート!$L$41:$N$77,3,FALSE)&"*")>=2,"",INDEX(発注者入力シート!$L$40:$O$83,MATCH("２０",発注者入力シート!$L$40:$L$83,0),4))) -> #N/A
A49: =IF(企業入力シート!A32+企業入力シート!A61=0,"","※事前審査・証明書による提出（技術資料及び添付資料省略）")
A50: =IF(企業入力シート!A32>0,"○第１グループ（"&企業入力シート!C14&"）",IF(企業入力シート!A61>0,"○第２グループ（"&企業入力シート!C48&"）",""))
A51: =IF(企業入力シート!$A$32>0," ・"&VLOOKUP(1,企業入力シート!$A$33:$I$42,3,FALSE),IF(企業入力シート!$A$61>0," ・"&VLOOKUP(1,企業入力シート!$A$62:$I$71,3,FALSE),""))
A52: =IF(企業入力シート!$A$32>0,IF(企業入力シート!$A$32>1," ・"&VLOOKUP(2,企業入力シート!$A$33:$I$42,3,FALSE),""),IF(企業入力シート!$A$61>1," ・"&VLOOKUP(2,企業入力シート!$A$62:$I$71,3,FALSE),""))
A53: =IF(企業入力シート!$A$32>0,IF(企業入力シート!$A$32>2," ・"&VLOOKUP(3,企業入力シート!$A$33:$I$42,3,FALSE),""),IF(企業入力シート!$A$61>2," ・"&VLOOKUP(3,企業入力シート!$A$62:$I$71,3,FALSE),""))
A54: =IF(企業入力シート!$A$32>0,IF(企業入力シート!$A$32>3," ・"&VLOOKUP(4,企業入力シート!$A$33:$I$42,3,FALSE),""),IF(企業入力シート!$A$61>3," ・"&VLOOKUP(4,企業入力シート!$A$62:$I$71,3,FALSE),""))
A55: =IF(企業入力シート!$A$32>0,IF(企業入力シート!$A$32>4," ・"&VLOOKUP(5,企業入力シート!$A$33:$I$42,3,FALSE),""),IF(企業入力シート!$A$61>4," ・"&VLOOKUP(5,企業入力シート!$A$62:$I$71,3,FALSE),""))
A56: =IF(企業入力シート!$A$32>0,IF(企業入力シート!$A$32>5," ・"&VLOOKUP(6,企業入力シート!$A$33:$I$42,3,FALSE),""),IF(企業入力シート!$A$61>5," ・"&VLOOKUP(6,企業入力シート!$A$62:$I$71,3,FALSE),""))
A57: =IF(企業入力シート!$A$32>0,IF(企業入力シート!$A$32>6," ・"&VLOOKUP(7,企業入力シート!$A$33:$I$42,3,FALSE),""),IF(企業入力シート!$A$61>6," ・"&VLOOKUP(7,企業入力シート!$A$62:$I$71,3,FALSE),""))
A59: =IF(AND(企業入力シート!A32>0,企業入力シート!A61>0),"○第２グループ（"&企業入力シート!C48&"）","")
A60: =IF(AND(企業入力シート!A32>0,企業入力シート!$A$61>0)," ・"&VLOOKUP(1,企業入力シート!$A$62:$I$71,3,FALSE),"")
A61: =IF(AND(企業入力シート!A32>0,企業入力シート!$A$61>1)," ・"&VLOOKUP(2,企業入力シート!$A$62:$I$71,3,FALSE),"")
A62: =IF(AND(企業入力シート!A32>0,企業入力シート!$A$61>2)," ・"&VLOOKUP(3,企業入力シート!$A$62:$I$71,3,FALSE),"")
A63: =IF(AND(企業入力シート!A32>0,企業入力シート!$A$61>3)," ・"&VLOOKUP(4,企業入力シート!$A$62:$I$71,3,FALSE),"")
A64: =IF(AND(企業入力シート!A32>0,企業入力シート!$A$61>4)," ・"&VLOOKUP(5,企業入力シート!$A$62:$I$71,3,FALSE),"")
A65: =IF(AND(企業入力シート!A32>0,企業入力シート!$A$61>5)," ・"&VLOOKUP(6,企業入力シート!$A$62:$I$71,3,FALSE),"")
A66: =IF(AND(企業入力シート!A32>0,企業入力シート!$A$61>6)," ・"&VLOOKUP(7,企業入力シート!$A$62:$I$71,3,FALSE),"")
A68: ３ 問い合わせ先
B69: 担当者 | D69: =IF(企業入力シート!C16="","",企業入力シート!C16)
B70: 部署 | D70: =IF(企業入力シート!C17="","",企業入力シート!C17)
B71: 電話番号 | D71: =IF(企業入力シート!C18="","",企業入力シート!C18)
B72: FAX番号 | D72: =IF(企業入力シート!C19="","",企業入力シート!C19)
B73: Ｅ－ｍａｉｌ | D73: =IF(企業入力シート!C20="","",企業入力シート!C20)

Sheet 企業成績評定点 (JV3年用)
A1: =CONCATENATE("（様式-",INDEX(発注者入力シート!$B$27:$G$31,MATCH(発注者入力シート!L6,発注者入力シート!$C$27:$C$31,0),4),"-１）") -> （様式-２-１） | R1: 着色セルの凡例
A2: =CONCATENATE("評価項目",INDEX(発注者入力シート!$B$27:$G$31,MATCH(発注者入力シート!L6,発注者入力シート!$C$27:$C$31,0),5),"-",INDEX(発注者入力シート!$B$27:$G$31,MATCH(発注者入力シート!L6,発注者入力シート!$C$27:$C$31,0),6)) -> 評価項目（１）-① | R2: （企業）
A3: 企業の工事成績評定点 | S3: ：「企業入力シート」、一覧表（別紙）で入力（数式リンク有）
D4: 企業体名： | F4: =IF(企業入力シート!C5="","",企業入力シート!C5) -> ○○共同企業体 | S4: ：リストから選択が必要な箇所
A6: 対象工事 | D6: 完成年度 | G6: 令和５年度から令和７年度（完成及び引き渡しが完了） | S6: ：自動計算
D7: 発注機関 | G7: 島根県（総務部、農林水産部、土木部） | R7: （発注者）
D8: 工事種別 | G8: 電気工事 | S8: ：「発注者入力シート」で入力（数式リンク有）
D9: 建設工事の種類 | G9: =INDEX(発注者入力シート!$AX$3:$BC$31,MATCH(発注者入力シート!$AY$2,発注者入力シート!$AZ$3:$AZ$31,0),5) -> 電気工事 | S9: ：セルに直接入力が必要な箇所
A12: 特別共同企業体の代表者（第１グループ）の実績 | K12: =IF(企業入力シート!C14="","",企業入力シート!C14) -> ○○建設
A13: 各工事成績評定点 | D13: 令和４年度 | G13: =IF('評定点一覧(第1G用_Ｒ５年度3年用)'!P10="","",'評定点一覧(第1G用_Ｒ５年度3年用)'!P10) | H13: =IF('評定点一覧(第1G用_Ｒ５年度3年用)'!P12="","",'評定点一覧(第1G用_Ｒ５年度3年用)'!P12) | I13: =IF('評定点一覧(第1G用_Ｒ５年度3年用)'!P14="","",'評定点一覧(第1G用_Ｒ５年度3年用)'!P14) | J13: =IF('評定点一覧(第1G用_Ｒ５年度3年用)'!P16="","",'評定点一覧(第1G用_Ｒ５年度3年用)'!P16) | K13: =IF('評定点一覧(第1G用_Ｒ５年度3年用)'!P18="","",'評定点一覧(第1G用_Ｒ５年度3年用)'!P18) | L13: =IF('評定点一覧(第1G用_Ｒ５年度3年用)'!P20="","",'評定点一覧(第1G用_Ｒ５年度3年用)'!P20) | M13: =IF('評定点一覧(第1G用_Ｒ５年度3年用)'!P22="","",'評定点一覧(第1G用_Ｒ５年度3年用)'!P22) | N13: =IF('評定点一覧(第1G用_Ｒ５年度3年用)'!P24="","",'評定点一覧(第1G用_Ｒ５年度3年用)'!P24) | O13: =IF('評定点一覧(第1G用_Ｒ５年度3年用)'!P26="","",'評定点一覧(第1G用_Ｒ５年度3年用)'!P26) | P13: =IF('評定点一覧(第1G用_Ｒ５年度3年用)'!P28="","",'評定点一覧(第1G用_Ｒ５年度3年用)'!P28)
G14: =IF('評定点一覧(第1G用_Ｒ５年度3年用)'!P30="","",'評定点一覧(第1G用_Ｒ５年度3年用)'!P30) | H14: =IF('評定点一覧(第1G用_Ｒ５年度3年用)'!P32="","",'評定点一覧(第1G用_Ｒ５年度3年用)'!P32) | I14: =IF('評定点一覧(第1G用_Ｒ５年度3年用)'!P34="","",'評定点一覧(第1G用_Ｒ５年度3年用)'!P34) | J14: =IF('評定点一覧(第1G用_Ｒ５年度3年用)'!P36="","",'評定点一覧(第1G用_Ｒ５年度3年用)'!P36) | K14: =IF('評定点一覧(第1G用_Ｒ５年度3年用)'!P38="","",'評定点一覧(第1G用_Ｒ５年度3年用)'!P38) | L14: =IF('評定点一覧(第1G用_Ｒ５年度3年用)'!P40="","",'評定点一覧(第1G用_Ｒ５年度3年用)'!P40) | M14: =IF('評定点一覧(第1G用_Ｒ５年度3年用)'!P42="","",'評定点一覧(第1G用_Ｒ５年度3年用)'!P42) | N14: =IF('評定点一覧(第1G用_Ｒ５年度3年用)'!P44="","",'評定点一覧(第1G用_Ｒ５年度3年用)'!P44) | O14: =IF('評定点一覧(第1G用_Ｒ５年度3年用)'!P46="","",'評定点一覧(第1G用_Ｒ５年度3年用)'!P46) | P14: =IF('評定点一覧(第1G用_Ｒ５年度3年用)'!P48="","",'評定点一覧(第1G用_Ｒ５年度3年用)'!P48)
G15: =IF('評定点一覧(第1G用_Ｒ５年度3年用)'!P62="","",'評定点一覧(第1G用_Ｒ５年度3年用)'!P62) | H15: =IF('評定点一覧(第1G用_Ｒ５年度3年用)'!P64="","",'評定点一覧(第1G用_Ｒ５年度3年用)'!P64) | I15: =IF('評定点一覧(第1G用_Ｒ５年度3年用)'!P66="","",'評定点一覧(第1G用_Ｒ５年度3年用)'!P66) | J15: =IF('評定点一覧(第1G用_Ｒ５年度3年用)'!P68="","",'評定点一覧(第1G用_Ｒ５年度3年用)'!P68) | K15: =IF('評定点一覧(第1G用_Ｒ５年度3年用)'!P70="","",'評定点一覧(第1G用_Ｒ５年度3年用)'!P70) | L15: =IF('評定点一覧(第1G用_Ｒ５年度3年用)'!P72="","",'評定点一覧(第1G用_Ｒ５年度3年用)'!P72) | M15: =IF('評定点一覧(第1G用_Ｒ５年度3年用)'!P74="","",'評定点一覧(第1G用_Ｒ５年度3年用)'!P74) | N15: =IF('評定点一覧(第1G用_Ｒ５年度3年用)'!P76="","",'評定点一覧(第1G用_Ｒ５年度3年用)'!P76) | O15: =IF('評定点一覧(第1G用_Ｒ５年度3年用)'!P78="","",'評定点一覧(第1G用_Ｒ５年度3年用)'!P78) | P15: =IF('評定点一覧(第1G用_Ｒ５年度3年用)'!P80="","",'評定点一覧(第1G用_Ｒ５年度3年用)'!P80)
G16: =IF('評定点一覧(第1G用_Ｒ５年度3年用)'!P82="","",'評定点一覧(第1G用_Ｒ５年度3年用)'!P82) | H16: =IF('評定点一覧(第1G用_Ｒ５年度3年用)'!P84="","",'評定点一覧(第1G用_Ｒ５年度3年用)'!P84) | I16: =IF('評定点一覧(第1G用_Ｒ５年度3年用)'!P86="","",'評定点一覧(第1G用_Ｒ５年度3年用)'!P86) | J16: =IF('評定点一覧(第1G用_Ｒ５年度3年用)'!P88="","",'評定点一覧(第1G用_Ｒ５年度3年用)'!P88) | K16: =IF('評定点一覧(第1G用_Ｒ５年度3年用)'!P90="","",'評定点一覧(第1G用_Ｒ５年度3年用)'!P90) | L16: =IF('評定点一覧(第1G用_Ｒ５年度3年用)'!P92="","",'評定点一覧(第1G用_Ｒ５年度3年用)'!P92) | M16: =IF('評定点一覧(第1G用_Ｒ５年度3年用)'!P94="","",'評定点一覧(第1G用_Ｒ５年度3年用)'!P94) | N16: =IF('評定点一覧(第1G用_Ｒ５年度3年用)'!P96="","",'評定点一覧(第1G用_Ｒ５年度3年用)'!P96) | O16: =IF('評定点一覧(第1G用_Ｒ５年度3年用)'!P98="","",'評定点一覧(第1G用_Ｒ５年度3年用)'!P98) | P16: =IF('評定点一覧(第1G用_Ｒ５年度3年用)'!P100="","",'評定点一覧(第1G用_Ｒ５年度3年用)'!P100)
G17: =IF('評定点一覧(第1G用_Ｒ５年度3年用)'!P114="","",'評定点一覧(第1G用_Ｒ５年度3年用)'!P114) | H17: =IF('評定点一覧(第1G用_Ｒ５年度3年用)'!P116="","",'評定点一覧(第1G用_Ｒ５年度3年用)'!P116) | I17: =IF('評定点一覧(第1G用_Ｒ５年度3年用)'!P118="","",'評定点一覧(第1G用_Ｒ５年度3年用)'!P118) | J17: =IF('評定点一覧(第1G用_Ｒ５年度3年用)'!P120="","",'評定点一覧(第1G用_Ｒ５年度3年用)'!P120) | K17: =IF('評定点一覧(第1G用_Ｒ５年度3年用)'!P122="","",'評定点一覧(第1G用_Ｒ５年度3年用)'!P122) | L17: =IF('評定点一覧(第1G用_Ｒ５年度3年用)'!P124="","",'評定点一覧(第1G用_Ｒ５年度3年用)'!P124) | M17: =IF('評定点一覧(第1G用_Ｒ５年度3年用)'!P126="","",'評定点一覧(第1G用_Ｒ５年度3年用)'!P126) | N17: =IF('評定点一覧(第1G用_Ｒ５年度3年用)'!P128="","",'評定点一覧(第1G用_Ｒ５年度3年用)'!P128) | O17: =IF('評定点一覧(第1G用_Ｒ５年度3年用)'!P130="","",'評定点一覧(第1G用_Ｒ５年度3年用)'!P130) | P17: =IF('評定点一覧(第1G用_Ｒ５年度3年用)'!P132="","",'評定点一覧(第1G用_Ｒ５年度3年用)'!P132)
G18: =IF('評定点一覧(第1G用_Ｒ５年度3年用)'!P134="","",'評定点一覧(第1G用_Ｒ５年度3年用)'!P134) | H18: =IF('評定点一覧(第1G用_Ｒ５年度3年用)'!P136="","",'評定点一覧(第1G用_Ｒ５年度3年用)'!P136) | I18: =IF('評定点一覧(第1G用_Ｒ５年度3年用)'!P138="","",'評定点一覧(第1G用_Ｒ５年度3年用)'!P138) | J18: =IF('評定点一覧(第1G用_Ｒ５年度3年用)'!P140="","",'評定点一覧(第1G用_Ｒ５年度3年用)'!P140) | K18: =IF('評定点一覧(第1G用_Ｒ５年度3年用)'!P142="","",'評定点一覧(第1G用_Ｒ５年度3年用)'!P142) | L18: =IF('評定点一覧(第1G用_Ｒ５年度3年用)'!P144="","",'評定点一覧(第1G用_Ｒ５年度3年用)'!P144) | M18: =IF('評定点一覧(第1G用_Ｒ５年度3年用)'!P146="","",'評定点一覧(第1G用_Ｒ５年度3年用)'!P146) | N18: =IF('評定点一覧(第1G用_Ｒ５年度3年用)'!P148="","",'評定点一覧(第1G用_Ｒ５年度3年用)'!P148) | O18: =IF('評定点一覧(第1G用_Ｒ５年度3年用)'!P150="","",'評定点一覧(第1G用_Ｒ５年度3年用)'!P150) | P18: =IF('評定点一覧(第1G用_Ｒ５年度3年用)'!P152="","",'評定点一覧(第1G用_Ｒ５年度3年用)'!P152)
D19: 令和５年度 | G19: =IF('評定点一覧(第1G用_Ｒ６年度3年用)'!P10="","",'評定点一覧(第1G用_Ｒ６年度3年用)'!P10) | H19: =IF('評定点一覧(第1G用_Ｒ６年度3年用)'!P12="","",'評定点一覧(第1G用_Ｒ６年度3年用)'!P12) | I19: =IF('評定点一覧(第1G用_Ｒ６年度3年用)'!P14="","",'評定点一覧(第1G用_Ｒ６年度3年用)'!P14) | J19: =IF('評定点一覧(第1G用_Ｒ６年度3年用)'!P16="","",'評定点一覧(第1G用_Ｒ６年度3年用)'!P16) | K19: =IF('評定点一覧(第1G用_Ｒ６年度3年用)'!P18="","",'評定点一覧(第1G用_Ｒ６年度3年用)'!P18) | L19: =IF('評定点一覧(第1G用_Ｒ６年度3年用)'!P20="","",'評定点一覧(第1G用_Ｒ６年度3年用)'!P20) | M19: =IF('評定点一覧(第1G用_Ｒ６年度3年用)'!P22="","",'評定点一覧(第1G用_Ｒ６年度3年用)'!P22) | N19: =IF('評定点一覧(第1G用_Ｒ６年度3年用)'!P24="","",'評定点一覧(第1G用_Ｒ６年度3年用)'!P24) | O19: =IF('評定点一覧(第1G用_Ｒ６年度3年用)'!P26="","",'評定点一覧(第1G用_Ｒ６年度3年用)'!P26) | P19: =IF('評定点一覧(第1G用_Ｒ６年度3年用)'!P28="","",'評定点一覧(第1G用_Ｒ６年度3年用)'!P28)
G20: =IF('評定点一覧(第1G用_Ｒ６年度3年用)'!P30="","",'評定点一覧(第1G用_Ｒ６年度3年用)'!P30) | H20: =IF('評定点一覧(第1G用_Ｒ６年度3年用)'!P32="","",'評定点一覧(第1G用_Ｒ６年度3年用)'!P32) | I20: =IF('評定点一覧(第1G用_Ｒ６年度3年用)'!P34="","",'評定点一覧(第1G用_Ｒ６年度3年用)'!P34) | J20: =IF('評定点一覧(第1G用_Ｒ６年度3年用)'!P36="","",'評定点一覧(第1G用_Ｒ６年度3年用)'!P36) | K20: =IF('評定点一覧(第1G用_Ｒ６年度3年用)'!P38="","",'評定点一覧(第1G用_Ｒ６年度3年用)'!P38) | L20: =IF('評定点一覧(第1G用_Ｒ６年度3年用)'!P40="","",'評定点一覧(第1G用_Ｒ６年度3年用)'!P40) | M20: =IF('評定点一覧(第1G用_Ｒ６年度3年用)'!P42="","",'評定点一覧(第1G用_Ｒ６年度3年用)'!P42) | N20: =IF('評定点一覧(第1G用_Ｒ６年度3年用)'!P44="","",'評定点一覧(第1G用_Ｒ６年度3年用)'!P44) | O20: =IF('評定点一覧(第1G用_Ｒ６年度3年用)'!P46="","",'評定点一覧(第1G用_Ｒ６年度3年用)'!P46) | P20: =IF('評定点一覧(第1G用_Ｒ６年度3年用)'!P48="","",'評定点一覧(第1G用_Ｒ６年度3年用)'!P48)
G21: =IF('評定点一覧(第1G用_Ｒ６年度3年用)'!P62="","",'評定点一覧(第1G用_Ｒ６年度3年用)'!P62) | H21: =IF('評定点一覧(第1G用_Ｒ６年度3年用)'!P64="","",'評定点一覧(第1G用_Ｒ６年度3年用)'!P64) | I21: =IF('評定点一覧(第1G用_Ｒ６年度3年用)'!P66="","",'評定点一覧(第1G用_Ｒ６年度3年用)'!P66) | J21: =IF('評定点一覧(第1G用_Ｒ６年度3年用)'!P68="","",'評定点一覧(第1G用_Ｒ６年度3年用)'!P68) | K21: =IF('評定点一覧(第1G用_Ｒ６年度3年用)'!P70="","",'評定点一覧(第1G用_Ｒ６年度3年用)'!P70) | L21: =IF('評定点一覧(第1G用_Ｒ６年度3年用)'!P72="","",'評定点一覧(第1G用_Ｒ６年度3年用)'!P72) | M21: =IF('評定点一覧(第1G用_Ｒ６年度3年用)'!P74="","",'評定点一覧(第1G用_Ｒ６年度3年用)'!P74) | N21: =IF('評定点一覧(第1G用_Ｒ６年度3年用)'!P76="","",'評定点一覧(第1G用_Ｒ６年度3年用)'!P76) | O21: =IF('評定点一覧(第1G用_Ｒ６年度3年用)'!P78="","",'評定点一覧(第1G用_Ｒ６年度3年用)'!P78) | P21: =IF('評定点一覧(第1G用_Ｒ６年度3年用)'!P80="","",'評定点一覧(第1G用_Ｒ６年度3年用)'!P80)
G22: =IF('評定点一覧(第1G用_Ｒ６年度3年用)'!P82="","",'評定点一覧(第1G用_Ｒ６年度3年用)'!P82) | H22: =IF('評定点一覧(第1G用_Ｒ６年度3年用)'!P84="","",'評定点一覧(第1G用_Ｒ６年度3年用)'!P84) | I22: =IF('評定点一覧(第1G用_Ｒ６年度3年用)'!P86="","",'評定点一覧(第1G用_Ｒ６年度3年用)'!P86) | J22: =IF('評定点一覧(第1G用_Ｒ６年度3年用)'!P88="","",'評定点一覧(第1G用_Ｒ６年度3年用)'!P88) | K22: =IF('評定点一覧(第1G用_Ｒ６年度3年用)'!P90="","",'評定点一覧(第1G用_Ｒ６年度3年用)'!P90) | L22: =IF('評定点一覧(第1G用_Ｒ６年度3年用)'!P92="","",'評定点一覧(第1G用_Ｒ６年度3年用)'!P92) | M22: =IF('評定点一覧(第1G用_Ｒ６年度3年用)'!P94="","",'評定点一覧(第1G用_Ｒ６年度3年用)'!P94) | N22: =IF('評定点一覧(第1G用_Ｒ６年度3年用)'!P96="","",'評定点一覧(第1G用_Ｒ６年度3年用)'!P96) | O22: =IF('評定点一覧(第1G用_Ｒ６年度3年用)'!P98="","",'評定点一覧(第1G用_Ｒ６年度3年用)'!P98) | P22: =IF('評定点一覧(第1G用_Ｒ６年度3年用)'!P100="","",'評定点一覧(第1G用_Ｒ６年度3年用)'!P100)
G23: =IF('評定点一覧(第1G用_Ｒ６年度3年用)'!P114="","",'評定点一覧(第1G用_Ｒ６年度3年用)'!P114) | H23: =IF('評定点一覧(第1G用_Ｒ６年度3年用)'!P116="","",'評定点一覧(第1G用_Ｒ６年度3年用)'!P116) | I23: =IF('評定点一覧(第1G用_Ｒ６年度3年用)'!P118="","",'評定点一覧(第1G用_Ｒ６年度3年用)'!P118) | J23: =IF('評定点一覧(第1G用_Ｒ６年度3年用)'!P120="","",'評定点一覧(第1G用_Ｒ６年度3年用)'!P120) | K23: =IF('評定点一覧(第1G用_Ｒ６年度3年用)'!P122="","",'評定点一覧(第1G用_Ｒ６年度3年用)'!P122) | L23: =IF('評定点一覧(第1G用_Ｒ６年度3年用)'!P124="","",'評定点一覧(第1G用_Ｒ６年度3年用)'!P124) | M23: =IF('評定点一覧(第1G用_Ｒ６年度3年用)'!P126="","",'評定点一覧(第1G用_Ｒ６年度3年用)'!P126) | N23: =IF('評定点一覧(第1G用_Ｒ６年度3年用)'!P128="","",'評定点一覧(第1G用_Ｒ６年度3年用)'!P128) | O23: =IF('評定点一覧(第1G用_Ｒ６年度3年用)'!P130="","",'評定点一覧(第1G用_Ｒ６年度3年用)'!P130) | P23: =IF('評定点一覧(第1G用_Ｒ６年度3年用)'!P132="","",'評定点一覧(第1G用_Ｒ６年度3年用)'!P132)
G24: =IF('評定点一覧(第1G用_Ｒ６年度3年用)'!P134="","",'評定点一覧(第1G用_Ｒ６年度3年用)'!P134) | H24: =IF('評定点一覧(第1G用_Ｒ６年度3年用)'!P136="","",'評定点一覧(第1G用_Ｒ６年度3年用)'!P136) | I24: =IF('評定点一覧(第1G用_Ｒ６年度3年用)'!P138="","",'評定点一覧(第1G用_Ｒ６年度3年用)'!P138) | J24: =IF('評定点一覧(第1G用_Ｒ６年度3年用)'!P140="","",'評定点一覧(第1G用_Ｒ６年度3年用)'!P140) | K24: =IF('評定点一覧(第1G用_Ｒ６年度3年用)'!P142="","",'評定点一覧(第1G用_Ｒ６年度3年用)'!P142) | L24: =IF('評定点一覧(第1G用_Ｒ６年度3年用)'!P144="","",'評定点一覧(第1G用_Ｒ６年度3年用)'!P144) | M24: =IF('評定点一覧(第1G用_Ｒ６年度3年用)'!P146="","",'評定点一覧(第1G用_Ｒ６年度3年用)'!P146) | N24: =IF('評定点一覧(第1G用_Ｒ６年度3年用)'!P148="","",'評定点一覧(第1G用_Ｒ６年度3年用)'!P148) | O24: =IF('評定点一覧(第1G用_Ｒ６年度3年用)'!P150="","",'評定点一覧(第1G用_Ｒ６年度3年用)'!P150) | P24: =IF('評定点一覧(第1G用_Ｒ６年度3年用)'!P152="","",'評定点一覧(第1G用_Ｒ６年度3年用)'!P152)
D25: 令和６年度 | G25: =IF('評定点一覧(第1G用_R７年度3年用)'!P10="","",'評定点一覧(第1G用_R７年度3年用)'!P10) | H25: =IF('評定点一覧(第1G用_R７年度3年用)'!P12="","",'評定点一覧(第1G用_R７年度3年用)'!P12) | I25: =IF('評定点一覧(第1G用_R７年度3年用)'!P14="","",'評定点一覧(第1G用_R７年度3年用)'!P14) | J25: =IF('評定点一覧(第1G用_R７年度3年用)'!P16="","",'評定点一覧(第1G用_R７年度3年用)'!P16) | K25: =IF('評定点一覧(第1G用_R７年度3年用)'!P18="","",'評定点一覧(第1G用_R７年度3年用)'!P18) | L25: =IF('評定点一覧(第1G用_R７年度3年用)'!P20="","",'評定点一覧(第1G用_R７年度3年用)'!P20) | M25: =IF('評定点一覧(第1G用_R７年度3年用)'!P22="","",'評定点一覧(第1G用_R７年度3年用)'!P22) | N25: =IF('評定点一覧(第1G用_R７年度3年用)'!P24="","",'評定点一覧(第1G用_R７年度3年用)'!P24) | O25: =IF('評定点一覧(第1G用_R７年度3年用)'!P26="","",'評定点一覧(第1G用_R７年度3年用)'!P26) | P25: =IF('評定点一覧(第1G用_R７年度3年用)'!P28="","",'評定点一覧(第1G用_R７年度3年用)'!P28)
G26: =IF('評定点一覧(第1G用_R７年度3年用)'!P30="","",'評定点一覧(第1G用_R７年度3年用)'!P30) | H26: =IF('評定点一覧(第1G用_R７年度3年用)'!P32="","",'評定点一覧(第1G用_R７年度3年用)'!P32) | I26: =IF('評定点一覧(第1G用_R７年度3年用)'!P34="","",'評定点一覧(第1G用_R７年度3年用)'!P34) | J26: =IF('評定点一覧(第1G用_R７年度3年用)'!P36="","",'評定点一覧(第1G用_R７年度3年用)'!P36) | K26: =IF('評定点一覧(第1G用_R７年度3年用)'!P38="","",'評定点一覧(第1G用_R７年度3年用)'!P38) | L26: =IF('評定点一覧(第1G用_R７年度3年用)'!P40="","",'評定点一覧(第1G用_R７年度3年用)'!P40) | M26: =IF('評定点一覧(第1G用_R７年度3年用)'!P42="","",'評定点一覧(第1G用_R７年度3年用)'!P42) | N26: =IF('評定点一覧(第1G用_R７年度3年用)'!P44="","",'評定点一覧(第1G用_R７年度3年用)'!P44) | O26: =IF('評定点一覧(第1G用_R７年度3年用)'!P46="","",'評定点一覧(第1G用_R７年度3年用)'!P46) | P26: =IF('評定点一覧(第1G用_R７年度3年用)'!P48="","",'評定点一覧(第1G用_R７年度3年用)'!P48)
G27: =IF('評定点一覧(第1G用_R７年度3年用)'!P62="","",'評定点一覧(第1G用_R７年度3年用)'!P62) | H27: =IF('評定点一覧(第1G用_R７年度3年用)'!P64="","",'評定点一覧(第1G用_R７年度3年用)'!P64) | I27: =IF('評定点一覧(第1G用_R７年度3年用)'!P66="","",'評定点一覧(第1G用_R７年度3年用)'!P66) | J27: =IF('評定点一覧(第1G用_R７年度3年用)'!P68="","",'評定点一覧(第1G用_R７年度3年用)'!P68) | K27: =IF('評定点一覧(第1G用_R７年度3年用)'!P70="","",'評定点一覧(第1G用_R７年度3年用)'!P70) | L27: =IF('評定点一覧(第1G用_R７年度3年用)'!P72="","",'評定点一覧(第1G用_R７年度3年用)'!P72) | M27: =IF('評定点一覧(第1G用_R７年度3年用)'!P74="","",'評定点一覧(第1G用_R７年度3年用)'!P74) | N27: =IF('評定点一覧(第1G用_R７年度3年用)'!P76="","",'評定点一覧(第1G用_R７年度3年用)'!P76) | O27: =IF('評定点一覧(第1G用_R７年度3年用)'!P78="","",'評定点一覧(第1G用_R７年度3年用)'!P78) | P27: =IF('評定点一覧(第1G用_R７年度3年用)'!P80="","",'評定点一覧(第1G用_R７年度3年用)'!P80)
G28: =IF('評定点一覧(第1G用_R７年度3年用)'!P82="","",'評定点一覧(第1G用_R７年度3年用)'!P82) | H28: =IF('評定点一覧(第1G用_R７年度3年用)'!P84="","",'評定点一覧(第1G用_R７年度3年用)'!P84) | I28: =IF('評定点一覧(第1G用_R７年度3年用)'!P86="","",'評定点一覧(第1G用_R７年度3年用)'!P86) | J28: =IF('評定点一覧(第1G用_R７年度3年用)'!P88="","",'評定点一覧(第1G用_R７年度3年用)'!P88) | K28: =IF('評定点一覧(第1G用_R７年度3年用)'!P90="","",'評定点一覧(第1G用_R７年度3年用)'!P90) | L28: =IF('評定点一覧(第1G用_R７年度3年用)'!P92="","",'評定点一覧(第1G用_R７年度3年用)'!P92) | M28: =IF('評定点一覧(第1G用_R７年度3年用)'!P94="","",'評定点一覧(第1G用_R７年度3年用)'!P94) | N28: =IF('評定点一覧(第1G用_R７年度3年用)'!P96="","",'評定点一覧(第1G用_R７年度3年用)'!P96) | O28: =IF('評定点一覧(第1G用_R７年度3年用)'!P98="","",'評定点一覧(第1G用_R７年度3年用)'!P98) | P28: =IF('評定点一覧(第1G用_R７年度3年用)'!P100="","",'評定点一覧(第1G用_R７年度3年用)'!P100)
G29: =IF('評定点一覧(第1G用_R７年度3年用)'!P114="","",'評定点一覧(第1G用_R７年度3年用)'!P114) | H29: =IF('評定点一覧(第1G用_R７年度3年用)'!P116="","",'評定点一覧(第1G用_R７年度3年用)'!P116) | I29: =IF('評定点一覧(第1G用_R７年度3年用)'!P118="","",'評定点一覧(第1G用_R７年度3年用)'!P118) | J29: =IF('評定点一覧(第1G用_R７年度3年用)'!P120="","",'評定点一覧(第1G用_R７年度3年用)'!P120) | K29: =IF('評定点一覧(第1G用_R７年度3年用)'!P122="","",'評定点一覧(第1G用_R７年度3年用)'!P122) | L29: =IF('評定点一覧(第1G用_R７年度3年用)'!P124="","",'評定点一覧(第1G用_R７年度3年用)'!P124) | M29: =IF('評定点一覧(第1G用_R７年度3年用)'!P126="","",'評定点一覧(第1G用_R７年度3年用)'!P126) | N29: =IF('評定点一覧(第1G用_R７年度3年用)'!P128="","",'評定点一覧(第1G用_R７年度3年用)'!P128) | O29: =IF('評定点一覧(第1G用_R７年度3年用)'!P130="","",'評定点一覧(第1G用_R７年度3年用)'!P130) | P29: =IF('評定点一覧(第1G用_R７年度3年用)'!P132="","",'評定点一覧(第1G用_R７年度3年用)'!P132)
G30: =IF('評定点一覧(第1G用_R７年度3年用)'!P134="","",'評定点一覧(第1G用_R７年度3年用)'!P134) | H30: =IF('評定点一覧(第1G用_R７年度3年用)'!P136="","",'評定点一覧(第1G用_R７年度3年用)'!P136) | I30: =IF('評定点一覧(第1G用_R７年度3年用)'!P138="","",'評定点一覧(第1G用_R７年度3年用)'!P138) | J30: =IF('評定点一覧(第1G用_R７年度3年用)'!P140="","",'評定点一覧(第1G用_R７年度3年用)'!P140) | K30: =IF('評定点一覧(第1G用_R７年度3年用)'!P142="","",'評定点一覧(第1G用_R７年度3年用)'!P142) | L30: =IF('評定点一覧(第1G用_R７年度3年用)'!P144="","",'評定点一覧(第1G用_R７年度3年用)'!P144) | M30: =IF('評定点一覧(第1G用_R７年度3年用)'!P146="","",'評定点一覧(第1G用_R７年度3年用)'!P146) | N30: =IF('評定点一覧(第1G用_R７年度3年用)'!P148="","",'評定点一覧(第1G用_R７年度3年用)'!P148) | O30: =IF('評定点一覧(第1G用_R７年度3年用)'!P150="","",'評定点一覧(第1G用_R７年度3年用)'!P150) | P30: =IF('評定点一覧(第1G用_R７年度3年用)'!P152="","",'評定点一覧(第1G用_R７年度3年用)'!P152)
A31: 工事成績評定点の平均 | G31: =IF((COUNTA(G13:P30)-COUNTBLANK(G13:P30))=0,"",COUNTA(G13:P30)-COUNTBLANK(G13:P30)) | I31: 件 | J31: =IF(OR(G31="",G31=0),"",ROUND(AVERAGE(G13:P30),1)) | L31: 点（小数第２位を四捨五入）
R32: 【印刷について】
R33: このシートは「ページ設定」で「白黒印刷」と「印刷範囲」が設定されています。
R34: 様式内の吹出しコメントは印刷されません。
A35: 特別共同企業体の代表者以外の構成員（第２グループ）の実績 | K35: =IF(企業入力シート!C48="","",企業入力シート!C48) -> △△建設
A36: 各工事成績評定点 | D36: 令和５年度 | G36: =IF('評定点一覧(第2G用_Ｒ５年度3年用)'!P10="","",'評定点一覧(第2G用_Ｒ５年度3年用)'!P10) | H36: =IF('評定点一覧(第2G用_Ｒ５年度3年用)'!P12="","",'評定点一覧(第2G用_Ｒ５年度3年用)'!P12) | I36: =IF('評定点一覧(第2G用_Ｒ５年度3年用)'!P14="","",'評定点一覧(第2G用_Ｒ５年度3年用)'!P14) | J36: =IF('評定点一覧(第2G用_Ｒ５年度3年用)'!P16="","",'評定点一覧(第2G用_Ｒ５年度3年用)'!P16) | K36: =IF('評定点一覧(第2G用_Ｒ５年度3年用)'!P18="","",'評定点一覧(第2G用_Ｒ５年度3年用)'!P18) | L36: =IF('評定点一覧(第2G用_Ｒ５年度3年用)'!P20="","",'評定点一覧(第2G用_Ｒ５年度3年用)'!P20) | M36: =IF('評定点一覧(第2G用_Ｒ５年度3年用)'!P22="","",'評定点一覧(第2G用_Ｒ５年度3年用)'!P22) | N36: =IF('評定点一覧(第2G用_Ｒ５年度3年用)'!P24="","",'評定点一覧(第2G用_Ｒ５年度3年用)'!P24) | O36: =IF('評定点一覧(第2G用_Ｒ５年度3年用)'!P26="","",'評定点一覧(第2G用_Ｒ５年度3年用)'!P26) | P36: =IF('評定点一覧(第2G用_Ｒ５年度3年用)'!P28="","",'評定点一覧(第2G用_Ｒ５年度3年用)'!P28)
G37: =IF('評定点一覧(第2G用_Ｒ５年度3年用)'!P30="","",'評定点一覧(第2G用_Ｒ５年度3年用)'!P30) | H37: =IF('評定点一覧(第2G用_Ｒ５年度3年用)'!P32="","",'評定点一覧(第2G用_Ｒ５年度3年用)'!P32) | I37: =IF('評定点一覧(第2G用_Ｒ５年度3年用)'!P34="","",'評定点一覧(第2G用_Ｒ５年度3年用)'!P34) | J37: =IF('評定点一覧(第2G用_Ｒ５年度3年用)'!P36="","",'評定点一覧(第2G用_Ｒ５年度3年用)'!P36) | K37: =IF('評定点一覧(第2G用_Ｒ５年度3年用)'!P38="","",'評定点一覧(第2G用_Ｒ５年度3年用)'!P38) | L37: =IF('評定点一覧(第2G用_Ｒ５年度3年用)'!P40="","",'評定点一覧(第2G用_Ｒ５年度3年用)'!P40) | M37: =IF('評定点一覧(第2G用_Ｒ５年度3年用)'!P42="","",'評定点一覧(第2G用_Ｒ５年度3年用)'!P42) | N37: =IF('評定点一覧(第2G用_Ｒ５年度3年用)'!P44="","",'評定点一覧(第2G用_Ｒ５年度3年用)'!P44) | O37: =IF('評定点一覧(第2G用_Ｒ５年度3年用)'!P46="","",'評定点一覧(第2G用_Ｒ５年度3年用)'!P46) | P37: =IF('評定点一覧(第2G用_Ｒ５年度3年用)'!P48="","",'評定点一覧(第2G用_Ｒ５年度3年用)'!P48)
G38: =IF('評定点一覧(第2G用_Ｒ５年度3年用)'!P62="","",'評定点一覧(第2G用_Ｒ５年度3年用)'!P62) | H38: =IF('評定点一覧(第2G用_Ｒ５年度3年用)'!P64="","",'評定点一覧(第2G用_Ｒ５年度3年用)'!P64) | I38: =IF('評定点一覧(第2G用_Ｒ５年度3年用)'!P66="","",'評定点一覧(第2G用_Ｒ５年度3年用)'!P66) | J38: =IF('評定点一覧(第2G用_Ｒ５年度3年用)'!P68="","",'評定点一覧(第2G用_Ｒ５年度3年用)'!P68) | K38: =IF('評定点一覧(第2G用_Ｒ５年度3年用)'!P70="","",'評定点一覧(第2G用_Ｒ５年度3年用)'!P70) | L38: =IF('評定点一覧(第2G用_Ｒ５年度3年用)'!P72="","",'評定点一覧(第2G用_Ｒ５年度3年用)'!P72) | M38: =IF('評定点一覧(第2G用_Ｒ５年度3年用)'!P74="","",'評定点一覧(第2G用_Ｒ５年度3年用)'!P74) | N38: =IF('評定点一覧(第2G用_Ｒ５年度3年用)'!P76="","",'評定点一覧(第2G用_Ｒ５年度3年用)'!P76) | O38: =IF('評定点一覧(第2G用_Ｒ５年度3年用)'!P78="","",'評定点一覧(第2G用_Ｒ５年度3年用)'!P78) | P38: =IF('評定点一覧(第2G用_Ｒ５年度3年用)'!P80="","",'評定点一覧(第2G用_Ｒ５年度3年用)'!P80)
G39: =IF('評定点一覧(第2G用_Ｒ５年度3年用)'!P82="","",'評定点一覧(第2G用_Ｒ５年度3年用)'!P82) | H39: =IF('評定点一覧(第2G用_Ｒ５年度3年用)'!P84="","",'評定点一覧(第2G用_Ｒ５年度3年用)'!P84) | I39: =IF('評定点一覧(第2G用_Ｒ５年度3年用)'!P86="","",'評定点一覧(第2G用_Ｒ５年度3年用)'!P86) | J39: =IF('評定点一覧(第2G用_Ｒ５年度3年用)'!P88="","",'評定点一覧(第2G用_Ｒ５年度3年用)'!P88) | K39: =IF('評定点一覧(第2G用_Ｒ５年度3年用)'!P90="","",'評定点一覧(第2G用_Ｒ５年度3年用)'!P90) | L39: =IF('評定点一覧(第2G用_Ｒ５年度3年用)'!P92="","",'評定点一覧(第2G用_Ｒ５年度3年用)'!P92) | M39: =IF('評定点一覧(第2G用_Ｒ５年度3年用)'!P94="","",'評定点一覧(第2G用_Ｒ５年度3年用)'!P94) | N39: =IF('評定点一覧(第2G用_Ｒ５年度3年用)'!P96="","",'評定点一覧(第2G用_Ｒ５年度3年用)'!P96) | O39: =IF('評定点一覧(第2G用_Ｒ５年度3年用)'!P98="","",'評定点一覧(第2G用_Ｒ５年度3年用)'!P98) | P39: =IF('評定点一覧(第2G用_Ｒ５年度3年用)'!P100="","",'評定点一覧(第2G用_Ｒ５年度3年用)'!P100)
G40: =IF('評定点一覧(第2G用_Ｒ５年度3年用)'!P114="","",'評定点一覧(第2G用_Ｒ５年度3年用)'!P114) | H40: =IF('評定点一覧(第2G用_Ｒ５年度3年用)'!P116="","",'評定点一覧(第2G用_Ｒ５年度3年用)'!P116) | I40: =IF('評定点一覧(第2G用_Ｒ５年度3年用)'!P118="","",'評定点一覧(第2G用_Ｒ５年度3年用)'!P118) | J40: =IF('評定点一覧(第2G用_Ｒ５年度3年用)'!P120="","",'評定点一覧(第2G用_Ｒ５年度3年用)'!P120) | K40: =IF('評定点一覧(第2G用_Ｒ５年度3年用)'!P122="","",'評定点一覧(第2G用_Ｒ５年度3年用)'!P122) | L40: =IF('評定点一覧(第2G用_Ｒ５年度3年用)'!P124="","",'評定点一覧(第2G用_Ｒ５年度3年用)'!P124) | M40: =IF('評定点一覧(第2G用_Ｒ５年度3年用)'!P126="","",'評定点一覧(第2G用_Ｒ５年度3年用)'!P126) | N40: =IF('評定点一覧(第2G用_Ｒ５年度3年用)'!P128="","",'評定点一覧(第2G用_Ｒ５年度3年用)'!P128) | O40: =IF('評定点一覧(第2G用_Ｒ５年度3年用)'!P130="","",'評定点一覧(第2G用_Ｒ５年度3年用)'!P130) | P40: =IF('評定点一覧(第2G用_Ｒ５年度3年用)'!P132="","",'評定点一覧(第2G用_Ｒ５年度3年用)'!P132)
G41: =IF('評定点一覧(第2G用_Ｒ５年度3年用)'!P134="","",'評定点一覧(第2G用_Ｒ５年度3年用)'!P134) | H41: =IF('評定点一覧(第2G用_Ｒ５年度3年用)'!P136="","",'評定点一覧(第2G用_Ｒ５年度3年用)'!P136) | I41: =IF('評定点一覧(第2G用_Ｒ５年度3年用)'!P138="","",'評定点一覧(第2G用_Ｒ５年度3年用)'!P138) | J41: =IF('評定点一覧(第2G用_Ｒ５年度3年用)'!P140="","",'評定点一覧(第2G用_Ｒ５年度3年用)'!P140) | K41: =IF('評定点一覧(第2G用_Ｒ５年度3年用)'!P142="","",'評定点一覧(第2G用_Ｒ５年度3年用)'!P142) | L41: =IF('評定点一覧(第2G用_Ｒ５年度3年用)'!P144="","",'評定点一覧(第2G用_Ｒ５年度3年用)'!P144) | M41: =IF('評定点一覧(第2G用_Ｒ５年度3年用)'!P146="","",'評定点一覧(第2G用_Ｒ５年度3年用)'!P146) | N41: =IF('評定点一覧(第2G用_Ｒ５年度3年用)'!P148="","",'評定点一覧(第2G用_Ｒ５年度3年用)'!P148) | O41: =IF('評定点一覧(第2G用_Ｒ５年度3年用)'!P150="","",'評定点一覧(第2G用_Ｒ５年度3年用)'!P150) | P41: =IF('評定点一覧(第2G用_Ｒ５年度3年用)'!P152="","",'評定点一覧(第2G用_Ｒ５年度3年用)'!P152)
D42: 令和６年度 | G42: =IF('評定点一覧(第2G用_R６年度3年用)'!P10="","",'評定点一覧(第2G用_R６年度3年用)'!P10) | H42: =IF('評定点一覧(第2G用_R６年度3年用)'!P12="","",'評定点一覧(第2G用_R６年度3年用)'!P12) | I42: =IF('評定点一覧(第2G用_R６年度3年用)'!P14="","",'評定点一覧(第2G用_R６年度3年用)'!P14) | J42: =IF('評定点一覧(第2G用_R６年度3年用)'!P16="","",'評定点一覧(第2G用_R６年度3年用)'!P16) | K42: =IF('評定点一覧(第2G用_R６年度3年用)'!P18="","",'評定点一覧(第2G用_R６年度3年用)'!P18) | L42: =IF('評定点一覧(第2G用_R６年度3年用)'!P20="","",'評定点一覧(第2G用_R６年度3年用)'!P20) | M42: =IF('評定点一覧(第2G用_R６年度3年用)'!P22="","",'評定点一覧(第2G用_R６年度3年用)'!P22) | N42: =IF('評定点一覧(第2G用_R６年度3年用)'!P24="","",'評定点一覧(第2G用_R６年度3年用)'!P24) | O42: =IF('評定点一覧(第2G用_R６年度3年用)'!P26="","",'評定点一覧(第2G用_R６年度3年用)'!P26) | P42: =IF('評定点一覧(第2G用_R６年度3年用)'!P28="","",'評定点一覧(第2G用_R６年度3年用)'!P28)
G43: =IF('評定点一覧(第2G用_R６年度3年用)'!P30="","",'評定点一覧(第2G用_R６年度3年用)'!P30) | H43: =IF('評定点一覧(第2G用_R６年度3年用)'!P32="","",'評定点一覧(第2G用_R６年度3年用)'!P32) | I43: =IF('評定点一覧(第2G用_R６年度3年用)'!P34="","",'評定点一覧(第2G用_R６年度3年用)'!P34) | J43: =IF('評定点一覧(第2G用_R６年度3年用)'!P36="","",'評定点一覧(第2G用_R６年度3年用)'!P36) | K43: =IF('評定点一覧(第2G用_R６年度3年用)'!P38="","",'評定点一覧(第2G用_R６年度3年用)'!P38) | L43: =IF('評定点一覧(第2G用_R６年度3年用)'!P40="","",'評定点一覧(第2G用_R６年度3年用)'!P40) | M43: =IF('評定点一覧(第2G用_R６年度3年用)'!P42="","",'評定点一覧(第2G用_R６年度3年用)'!P42) | N43: =IF('評定点一覧(第2G用_R６年度3年用)'!P44="","",'評定点一覧(第2G用_R６年度3年用)'!P44) | O43: =IF('評定点一覧(第2G用_R６年度3年用)'!P46="","",'評定点一覧(第2G用_R６年度3年用)'!P46) | P43: =IF('評定点一覧(第2G用_R６年度3年用)'!P48="","",'評定点一覧(第2G用_R６年度3年用)'!P48)
G44: =IF('評定点一覧(第2G用_R６年度3年用)'!P62="","",'評定点一覧(第2G用_R６年度3年用)'!P62) | H44: =IF('評定点一覧(第2G用_R６年度3年用)'!P64="","",'評定点一覧(第2G用_R６年度3年用)'!P64) | I44: =IF('評定点一覧(第2G用_R６年度3年用)'!P66="","",'評定点一覧(第2G用_R６年度3年用)'!P66) | J44: =IF('評定点一覧(第2G用_R６年度3年用)'!P68="","",'評定点一覧(第2G用_R６年度3年用)'!P68) | K44: =IF('評定点一覧(第2G用_R６年度3年用)'!P70="","",'評定点一覧(第2G用_R６年度3年用)'!P70) | L44: =IF('評定点一覧(第2G用_R６年度3年用)'!P72="","",'評定点一覧(第2G用_R６年度3年用)'!P72) | M44: =IF('評定点一覧(第2G用_R６年度3年用)'!P74="","",'評定点一覧(第2G用_R６年度3年用)'!P74) | N44: =IF('評定点一覧(第2G用_R６年度3年用)'!P76="","",'評定点一覧(第2G用_R６年度3年用)'!P76) | O44: =IF('評定点一覧(第2G用_R６年度3年用)'!P78="","",'評定点一覧(第2G用_R６年度3年用)'!P78) | P44: =IF('評定点一覧(第2G用_R６年度3年用)'!P80="","",'評定点一覧(第2G用_R６年度3年用)'!P80)
G45: =IF('評定点一覧(第2G用_R６年度3年用)'!P82="","",'評定点一覧(第2G用_R６年度3年用)'!P82) | H45: =IF('評定点一覧(第2G用_R６年度3年用)'!P84="","",'評定点一覧(第2G用_R６年度3年用)'!P84) | I45: =IF('評定点一覧(第2G用_R６年度3年用)'!P86="","",'評定点一覧(第2G用_R６年度3年用)'!P86) | J45: =IF('評定点一覧(第2G用_R６年度3年用)'!P88="","",'評定点一覧(第2G用_R６年度3年用)'!P88) | K45: =IF('評定点一覧(第2G用_R６年度3年用)'!P90="","",'評定点一覧(第2G用_R６年度3年用)'!P90) | L45: =IF('評定点一覧(第2G用_R６年度3年用)'!P92="","",'評定点一覧(第2G用_R６年度3年用)'!P92) | M45: =IF('評定点一覧(第2G用_R６年度3年用)'!P94="","",'評定点一覧(第2G用_R６年度3年用)'!P94) | N45: =IF('評定点一覧(第2G用_R６年度3年用)'!P96="","",'評定点一覧(第2G用_R６年度3年用)'!P96) | O45: =IF('評定点一覧(第2G用_R６年度3年用)'!P98="","",'評定点一覧(第2G用_R６年度3年用)'!P98) | P45: =IF('評定点一覧(第2G用_R６年度3年用)'!P100="","",'評定点一覧(第2G用_R６年度3年用)'!P100)
G46: =IF('評定点一覧(第2G用_R６年度3年用)'!P114="","",'評定点一覧(第2G用_R６年度3年用)'!P114) | H46: =IF('評定点一覧(第2G用_R６年度3年用)'!P116="","",'評定点一覧(第2G用_R６年度3年用)'!P116) | I46: =IF('評定点一覧(第2G用_R６年度3年用)'!P118="","",'評定点一覧(第2G用_R６年度3年用)'!P118) | J46: =IF('評定点一覧(第2G用_R６年度3年用)'!P120="","",'評定点一覧(第2G用_R６年度3年用)'!P120) | K46: =IF('評定点一覧(第2G用_R６年度3年用)'!P122="","",'評定点一覧(第2G用_R６年度3年用)'!P122) | L46: =IF('評定点一覧(第2G用_R６年度3年用)'!P124="","",'評定点一覧(第2G用_R６年度3年用)'!P124) | M46: =IF('評定点一覧(第2G用_R６年度3年用)'!P126="","",'評定点一覧(第2G用_R６年度3年用)'!P126) | N46: =IF('評定点一覧(第2G用_R６年度3年用)'!P128="","",'評定点一覧(第2G用_R６年度3年用)'!P128) | O46: =IF('評定点一覧(第2G用_R６年度3年用)'!P130="","",'評定点一覧(第2G用_R６年度3年用)'!P130) | P46: =IF('評定点一覧(第2G用_R６年度3年用)'!P132="","",'評定点一覧(第2G用_R６年度3年用)'!P132)
G47: =IF('評定点一覧(第2G用_R６年度3年用)'!P134="","",'評定点一覧(第2G用_R６年度3年用)'!P134) | H47: =IF('評定点一覧(第2G用_R６年度3年用)'!P136="","",'評定点一覧(第2G用_R６年度3年用)'!P136) | I47: =IF('評定点一覧(第2G用_R６年度3年用)'!P138="","",'評定点一覧(第2G用_R６年度3年用)'!P138) | J47: =IF('評定点一覧(第2G用_R６年度3年用)'!P140="","",'評定点一覧(第2G用_R６年度3年用)'!P140) | K47: =IF('評定点一覧(第2G用_R６年度3年用)'!P142="","",'評定点一覧(第2G用_R６年度3年用)'!P142) | L47: =IF('評定点一覧(第2G用_R６年度3年用)'!P144="","",'評定点一覧(第2G用_R６年度3年用)'!P144) | M47: =IF('評定点一覧(第2G用_R６年度3年用)'!P146="","",'評定点一覧(第2G用_R６年度3年用)'!P146) | N47: =IF('評定点一覧(第2G用_R６年度3年用)'!P148="","",'評定点一覧(第2G用_R６年度3年用)'!P148) | O47: =IF('評定点一覧(第2G用_R６年度3年用)'!P150="","",'評定点一覧(第2G用_R６年度3年用)'!P150) | P47: =IF('評定点一覧(第2G用_R６年度3年用)'!P152="","",'評定点一覧(第2G用_R６年度3年用)'!P152)
D48: 令和７年度 | G48: =IF('評定点一覧(第2G用_R７年度3年用)'!P10="","",'評定点一覧(第2G用_R７年度3年用)'!P10) | H48: =IF('評定点一覧(第2G用_R７年度3年用)'!P12="","",'評定点一覧(第2G用_R７年度3年用)'!P12) | I48: =IF('評定点一覧(第2G用_R７年度3年用)'!P14="","",'評定点一覧(第2G用_R７年度3年用)'!P14) | J48: =IF('評定点一覧(第2G用_R７年度3年用)'!P16="","",'評定点一覧(第2G用_R７年度3年用)'!P16) | K48: =IF('評定点一覧(第2G用_R７年度3年用)'!P18="","",'評定点一覧(第2G用_R７年度3年用)'!P18) | L48: =IF('評定点一覧(第2G用_R７年度3年用)'!P20="","",'評定点一覧(第2G用_R７年度3年用)'!P20) | M48: =IF('評定点一覧(第2G用_R７年度3年用)'!P22="","",'評定点一覧(第2G用_R７年度3年用)'!P22) | N48: =IF('評定点一覧(第2G用_R７年度3年用)'!P24="","",'評定点一覧(第2G用_R７年度3年用)'!P24) | O48: =IF('評定点一覧(第2G用_R７年度3年用)'!P26="","",'評定点一覧(第2G用_R７年度3年用)'!P26) | P48: =IF('評定点一覧(第2G用_R７年度3年用)'!P28="","",'評定点一覧(第2G用_R７年度3年用)'!P28)
G49: =IF('評定点一覧(第2G用_R７年度3年用)'!P30="","",'評定点一覧(第2G用_R７年度3年用)'!P30) | H49: =IF('評定点一覧(第2G用_R７年度3年用)'!P32="","",'評定点一覧(第2G用_R７年度3年用)'!P32) | I49: =IF('評定点一覧(第2G用_R７年度3年用)'!P34="","",'評定点一覧(第2G用_R７年度3年用)'!P34) | J49: =IF('評定点一覧(第2G用_R７年度3年用)'!P36="","",'評定点一覧(第2G用_R７年度3年用)'!P36) | K49: =IF('評定点一覧(第2G用_R７年度3年用)'!P38="","",'評定点一覧(第2G用_R７年度3年用)'!P38) | L49: =IF('評定点一覧(第2G用_R７年度3年用)'!P40="","",'評定点一覧(第2G用_R７年度3年用)'!P40) | M49: =IF('評定点一覧(第2G用_R７年度3年用)'!P42="","",'評定点一覧(第2G用_R７年度3年用)'!P42) | N49: =IF('評定点一覧(第2G用_R７年度3年用)'!P44="","",'評定点一覧(第2G用_R７年度3年用)'!P44) | O49: =IF('評定点一覧(第2G用_R７年度3年用)'!P46="","",'評定点一覧(第2G用_R７年度3年用)'!P46) | P49: =IF('評定点一覧(第2G用_R７年度3年用)'!P48="","",'評定点一覧(第2G用_R７年度3年用)'!P48)
G50: =IF('評定点一覧(第2G用_R７年度3年用)'!P62="","",'評定点一覧(第2G用_R７年度3年用)'!P62) | H50: =IF('評定点一覧(第2G用_R７年度3年用)'!P64="","",'評定点一覧(第2G用_R７年度3年用)'!P64) | I50: =IF('評定点一覧(第2G用_R７年度3年用)'!P66="","",'評定点一覧(第2G用_R７年度3年用)'!P66) | J50: =IF('評定点一覧(第2G用_R７年度3年用)'!P68="","",'評定点一覧(第2G用_R７年度3年用)'!P68) | K50: =IF('評定点一覧(第2G用_R７年度3年用)'!P70="","",'評定点一覧(第2G用_R７年度3年用)'!P70) | L50: =IF('評定点一覧(第2G用_R７年度3年用)'!P72="","",'評定点一覧(第2G用_R７年度3年用)'!P72) | M50: =IF('評定点一覧(第2G用_R７年度3年用)'!P74="","",'評定点一覧(第2G用_R７年度3年用)'!P74) | N50: =IF('評定点一覧(第2G用_R７年度3年用)'!P76="","",'評定点一覧(第2G用_R７年度3年用)'!P76) | O50: =IF('評定点一覧(第2G用_R７年度3年用)'!P78="","",'評定点一覧(第2G用_R７年度3年用)'!P78) | P50: =IF('評定点一覧(第2G用_R７年度3年用)'!P80="","",'評定点一覧(第2G用_R７年度3年用)'!P80)
G51: =IF('評定点一覧(第2G用_R７年度3年用)'!P82="","",'評定点一覧(第2G用_R７年度3年用)'!P82) | H51: =IF('評定点一覧(第2G用_R７年度3年用)'!P84="","",'評定点一覧(第2G用_R７年度3年用)'!P84) | I51: =IF('評定点一覧(第2G用_R７年度3年用)'!P86="","",'評定点一覧(第2G用_R７年度3年用)'!P86) | J51: =IF('評定点一覧(第2G用_R７年度3年用)'!P88="","",'評定点一覧(第2G用_R７年度3年用)'!P88) | K51: =IF('評定点一覧(第2G用_R７年度3年用)'!P90="","",'評定点一覧(第2G用_R７年度3年用)'!P90) | L51: =IF('評定点一覧(第2G用_R７年度3年用)'!P92="","",'評定点一覧(第2G用_R７年度3年用)'!P92) | M51: =IF('評定点一覧(第2G用_R７年度3年用)'!P94="","",'評定点一覧(第2G用_R７年度3年用)'!P94) | N51: =IF('評定点一覧(第2G用_R７年度3年用)'!P96="","",'評定点一覧(第2G用_R７年度3年用)'!P96) | O51: =IF('評定点一覧(第2G用_R７年度3年用)'!P98="","",'評定点一覧(第2G用_R７年度3年用)'!P98) | P51: =IF('評定点一覧(第2G用_R７年度3年用)'!P100="","",'評定点一覧(第2G用_R７年度3年用)'!P100)
G52: =IF('評定点一覧(第2G用_R７年度3年用)'!P114="","",'評定点一覧(第2G用_R７年度3年用)'!P114) | H52: =IF('評定点一覧(第2G用_R７年度3年用)'!P116="","",'評定点一覧(第2G用_R７年度3年用)'!P116) | I52: =IF('評定点一覧(第2G用_R７年度3年用)'!P118="","",'評定点一覧(第2G用_R７年度3年用)'!P118) | J52: =IF('評定点一覧(第2G用_R７年度3年用)'!P120="","",'評定点一覧(第2G用_R７年度3年用)'!P120) | K52: =IF('評定点一覧(第2G用_R７年度3年用)'!P122="","",'評定点一覧(第2G用_R７年度3年用)'!P122) | L52: =IF('評定点一覧(第2G用_R７年度3年用)'!P124="","",'評定点一覧(第2G用_R７年度3年用)'!P124) | M52: =IF('評定点一覧(第2G用_R７年度3年用)'!P126="","",'評定点一覧(第2G用_R７年度3年用)'!P126) | N52: =IF('評定点一覧(第2G用_R７年度3年用)'!P128="","",'評定点一覧(第2G用_R７年度3年用)'!P128) | O52: =IF('評定点一覧(第2G用_R７年度3年用)'!P130="","",'評定点一覧(第2G用_R７年度3年用)'!P130) | P52: =IF('評定点一覧(第2G用_R７年度3年用)'!P132="","",'評定点一覧(第2G用_R７年度3年用)'!P132)
G53: =IF('評定点一覧(第2G用_R７年度3年用)'!P134="","",'評定点一覧(第2G用_R７年度3年用)'!P134) | H53: =IF('評定点一覧(第2G用_R７年度3年用)'!P136="","",'評定点一覧(第2G用_R７年度3年用)'!P136) | I53: =IF('評定点一覧(第2G用_R７年度3年用)'!P138="","",'評定点一覧(第2G用_R７年度3年用)'!P138) | J53: =IF('評定点一覧(第2G用_R７年度3年用)'!P140="","",'評定点一覧(第2G用_R７年度3年用)'!P140) | K53: =IF('評定点一覧(第2G用_R７年度3年用)'!P142="","",'評定点一覧(第2G用_R７年度3年用)'!P142) | L53: =IF('評定点一覧(第2G用_R７年度3年用)'!P144="","",'評定点一覧(第2G用_R７年度3年用)'!P144) | M53: =IF('評定点一覧(第2G用_R７年度3年用)'!P146="","",'評定点一覧(第2G用_R７年度3年用)'!P146) | N53: =IF('評定点一覧(第2G用_R７年度3年用)'!P148="","",'評定点一覧(第2G用_R７年度3年用)'!P148) | O53: =IF('評定点一覧(第2G用_R７年度3年用)'!P150="","",'評定点一覧(第2G用_R７年度3年用)'!P150) | P53: =IF('評定点一覧(第2G用_R７年度3年用)'!P152="","",'評定点一覧(第2G用_R７年度3年用)'!P152)
A54: 工事成績評定点の平均 | G54: =IF((COUNTA(G36:P53)-COUNTBLANK(G36:P53))=0,"",COUNTA(G36:P53)-COUNTBLANK(G36:P53)) | I54: 件 | J54: =IF(OR(G54="",G54=0),"",ROUND(AVERAGE(G36:P53),1)) | L54: 点（小数第２位を四捨五入）
A56: (1) | B56: 対象工事の工事成績評定点一覧表（別紙）を添付すること。
A57: (2) | B57: 工事種別については、各工事の契約時における「島根県土木工事仕様書」等において確認すること。
A59: (3) | B59: 単年度の対象工事件数が６０件を超える場合、「工事成績評定点の平均」欄の「件数」及び「平均点」は、自動計算されないため、直接記入すること。 | R59: ※必要に応じて設定する事項
R60: 島根県（総務部、農林水産部、土木部）発注工事以外の工事を評価対象にする場合は、各工事の工事成績評定書の写しを添付すること。
A61: (4) | B61: 上記事項の外、入札説明書本文にある要件を必ず確認すること。
A64: ※必要に応じて設定する事項
B65: 島根県（総務部、農林水産部、土木部）発注工事以外の工事を評価対象にする場合は、各工事の工事成績評定書の写し及び工事種別・種類を証明する資料を添付すること。また、島根県発注工事以外の工事で成績評定対象外工事がある場合、成績評定対象外であることを確認するための発注者の証明書の写しを添付すること。

Sheet 評定点一覧(第1G用_Ｒ５年度3年用)
A1: =CONCATENATE("（様式-",INDEX(発注者入力シート!$B$27:$G$31,MATCH(発注者入力シート!L6,発注者入力シート!$C$27:$C$31,0),4),"-２）") -> （様式-２-２） | Q1: 特別共同企業体の代表者（第１グループ）用 | S1: 着色セルの凡例
A2: =CONCATENATE("評価項目",INDEX(発注者入力シート!$B$27:$G$31,MATCH(発注者入力シート!L6,発注者入力シート!$C$27:$C$31,0),5),"-",INDEX(発注者入力シート!$B$27:$G$31,MATCH(発注者入力シート!L6,発注者入力シート!$C$27:$C$31,0),6)) -> 評価項目（１）-① | Q2: 【令和５年度完成工事分】 | S2: （企業）
A3: 工事成績評定点一覧表(別紙１枚目) | T3: ：「企業入力シート」、一覧表（別紙）で入力（数式リンク有）
D4: 企業体名： | F4: =IF(企業入力シート!C5="","",企業入力シート!C5) -> ○○共同企業体 | T4: ：セルに直接入力が必要な箇所
D5: 代表者名： | F5: =IF(企業入力シート!C14="","",企業入力シート!C14) -> ○○建設
S6: （発注者）
T7: ：「発注者入力シート」で入力（数式リンク有）
A8: 申請 | B8: 完成 | C8: 発注機関名 | E8: 工事種別 | H8: 工事名 | P8: 工事成績 | T8: ：セルに直接入力が必要な箇所
A9: 番号 | B9: 年度 | E9: 建設工事の種類 | P9: 評定点
A10: 1 | B10: Ｒ５ | Q10: 点
A12: 2 | B12: =B10 -> Ｒ５ | Q12: 点
S13: 【印刷について】
A14: 3 | B14: =B12 -> Ｒ５ | Q14: 点 | S14: このシートは「ページ設定」で「白黒印刷」と「印刷範囲」が設定されています。
S15: 様式内の吹出しコメントは印刷されません。
A16: 4 | B16: =B14 -> Ｒ５ | Q16: 点
A18: 5 | B18: =B16 -> Ｒ５ | Q18: 点
A20: 6 | B20: =B18 -> Ｒ５ | Q20: 点
A22: 7 | B22: =B20 -> Ｒ５ | Q22: 点
A24: 8 | B24: =B22 -> Ｒ５ | Q24: 点
A26: 9 | B26: =B24 -> Ｒ５ | Q26: 点
A28: 10 | B28: =B26 -> Ｒ５ | Q28: 点
A30: 11 | B30: =B28 -> Ｒ５ | Q30: 点
A32: 12 | B32: =B30 -> Ｒ５ | Q32: 点
A34: 13 | B34: =B32 -> Ｒ５ | Q34: 点
A36: 14 | B36: =B34 -> Ｒ５ | Q36: 点
A38: 15 | B38: =B36 -> Ｒ５ | Q38: 点
... A48: 20 | B48: =B46 -> Ｒ５ | Q48: 点
A50: (1) | B50: 対象工事が６０件を超える場合は、本様式を複写し申請番号を修正のうえ、提出すること。
A51: (2) | B51: 工事種別、工事の種類は、各工事の契約時における「島根県土木工事仕様書」等において確認すること。
A53: =CONCATENATE("（様式-",INDEX(発注者入力シート!$B$27:$G$31,MATCH(発注者入力シート!L6,発注者入力シート!$C$27:$C$31,0),4),"-２）") -> （様式-２-２） | Q53: 特別共同企業体の代表者（第１グループ）用 | S53: 着色セルの凡例
A54: =CONCATENATE("評価項目",INDEX(発注者入力シート!$B$27:$G$31,MATCH(発注者入力シート!L6,発注者入力シート!$C$27:$C$31,0),5),"-",INDEX(発注者入力シート!$B$27:$G$31,MATCH(発注者入力シート!L6,発注者入力シート!$C$27:$C$31,0),6)) -> 評価項目（１）-① | Q54: =Q2 -> 【令和５年度完成工事分】 | S54: （企業）
A55: 工事成績評定点一覧表(別紙２枚目) | T55: ：「企業入力シート」、一覧表（別紙）で入力（数式リンク有）
T56: ：セルに直接入力が必要な箇所
D57: 企業体名： | F57: =IF(企業入力シート!C5="","",企業入力シート!C5) -> ○○共同企業体
D58: 代表者名： | F58: =IF(企業入力シート!C14="","",企業入力シート!C14) -> ○○建設 | S58: （発注者）
T59: ：「発注者入力シート」で入力（数式リンク有）
A60: 申請 | B60: 完成 | C60: 発注機関名 | E60: 工事種別 | H60: 工事名 | P60: 工事成績 | T60: ：セルに直接入力が必要な箇所
A61: 番号 | B61: 年度 | E61: 建設工事の種類 | P61: 評定点
A62: 21 | B62: =B48 -> Ｒ５ | Q62: 点 | S62: 【印刷について】
S63: このシートは「ページ設定」で「白黒印刷」と「印刷範囲」が設定されています。
A64: 22 | B64: =B62 -> Ｒ５ | Q64: 点
A66: 23 | B66: =B64 -> Ｒ５ | Q66: 点
A68: 24 | B68: =B66 -> Ｒ５ | Q68: 点
A70: 25 | B70: =B68 -> Ｒ５ | Q70: 点
A72: 26 | B72: =B70 -> Ｒ５ | Q72: 点
A74: 27 | B74: =B72 -> Ｒ５ | Q74: 点
A76: 28 | B76: =B74 -> Ｒ５ | Q76: 点
A78: 29 | B78: =B76 -> Ｒ５ | Q78: 点
A80: 30 | B80: =B78 -> Ｒ５ | Q80: 点
A82: 31 | B82: =B80 -> Ｒ５ | Q82: 点
A84: 32 | B84: =B82 -> Ｒ５ | Q84: 点
A86: 33 | B86: =B84 -> Ｒ５ | Q86: 点
... A100: 40 | B100: =B98 -> Ｒ５ | Q100: 点
A102: (1) | B102: 対象工事が６０件を超える場合は、本様式を複写し申請番号を修正のうえ、提出すること。
A103: (2) | B103: 工事種別、工事の種類は、各工事の契約時における「島根県土木工事仕様書」等において確認すること。
A105: =CONCATENATE("（様式-",INDEX(発注者入力シート!$B$27:$G$31,MATCH(発注者入力シート!L6,発注者入力シート!$C$27:$C$31,0),4),"-２）") -> （様式-２-２） | Q105: 特別共同企業体の代表者（第１グループ）用 | S105: 着色セルの凡例
A106: =CONCATENATE("評価項目",INDEX(発注者入力シート!$B$27:$G$31,MATCH(発注者入力シート!L6,発注者入力シート!$C$27:$C$31,0),5),"-",INDEX(発注者入力シート!$B$27:$G$31,MATCH(発注者入力シート!L6,発注者入力シート!$C$27:$C$31,0),6)) -> 評価項目（１）-① | Q106: =Q2 -> 【令和５年度完成工事分】 | S106: （企業）
A107: 工事成績評定点一覧表(別紙３枚目) | T107: ：「企業入力シート」、一覧表（別紙）で入力（数式リンク有）
T108: ：セルに直接入力が必要な箇所
D109: 企業体名： | F109: =IF(企業入力シート!C5="","",企業入力シート!C5) -> ○○共同企業体
D110: 代表者名： | F110: =IF(企業入力シート!C14="","",企業入力シート!C14) -> ○○建設 | S110: （発注者）
T111: ：「発注者入力シート」で入力（数式リンク有）
A112: 申請 | B112: 完成 | C112: 発注機関名 | E112: 工事種別 | H112: 工事名 | P112: 工事成績 | T112: ：セルに直接入力が必要な箇所
A113: 番号 | B113: 年度 | E113: 建設工事の種類 | P113: 評定点
A114: 41 | B114: =B100 -> Ｒ５ | Q114: 点 | S114: 【印刷について】
S115: このシートは「ページ設定」で「白黒印刷」と「印刷範囲」が設定されています。
A116: 42 | B116: =B114 -> Ｒ５ | Q116: 点
A118: 43 | B118: =B116 -> Ｒ５ | Q118: 点
A120: 44 | B120: =B118 -> Ｒ５ | Q120: 点
A122: 45 | B122: =B120 -> Ｒ５ | Q122: 点
A124: 46 | B124: =B122 -> Ｒ５ | Q124: 点
A126: 47 | B126: =B124 -> Ｒ５ | Q126: 点
A128: 48 | B128: =B126 -> Ｒ５ | Q128: 点
A130: 49 | B130: =B128 -> Ｒ５ | Q130: 点
A132: 50 | B132: =B130 -> Ｒ５ | Q132: 点
A134: 51 | B134: =B132 -> Ｒ５ | Q134: 点
A136: 52 | B136: =B134 -> Ｒ５ | Q136: 点
A138: 53 | B138: =B136 -> Ｒ５ | Q138: 点
... A152: 60 | B152: =B150 -> Ｒ５ | Q152: 点
A154: (1) | B154: 対象工事が６０件を超える場合は、本様式を複写し申請番号を修正のうえ、提出すること。
A155: (2) | B155: 工事種別、工事の種類は、各工事の契約時における「島根県土木工事仕様書」等において確認すること。

Sheet 評定点一覧(第1G用_Ｒ６年度3年用)
A1: =CONCATENATE("（様式-",INDEX(発注者入力シート!$B$27:$G$31,MATCH(発注者入力シート!L6,発注者入力シート!$C$27:$C$31,0),4),"-２）") -> （様式-２-２） | Q1: 特別共同企業体の代表者（第１グループ）用 | S1: 着色セルの凡例
A2: =CONCATENATE("評価項目",INDEX(発注者入力シート!$B$27:$G$31,MATCH(発注者入力シート!L6,発注者入力シート!$C$27:$C$31,0),5),"-",INDEX(発注者入力シート!$B$27:$G$31,MATCH(発注者入力シート!L6,発注者入力シート!$C$27:$C$31,0),6)) -> 評価項目（１）-① | Q2: 【令和６年度完成工事分】 | S2: （企業）
A3: 工事成績評定点一覧表(別紙１枚目) | T3: ：「企業入力シート」、一覧表（別紙）で入力（数式リンク有）
D4: 企業体名： | F4: =IF(企業入力シート!C5="","",企業入力シート!C5) -> ○○共同企業体 | T4: ：セルに直接入力が必要な箇所
D5: 代表者名： | F5: =IF(企業入力シート!C14="","",企業入力シート!C14) -> ○○建設
S6: （発注者）
T7: ：「発注者入力シート」で入力（数式リンク有）
A8: 申請 | B8: 完成 | C8: 発注機関名 | E8: 工事種別 | H8: 工事名 | P8: 工事成績 | T8: ：セルに直接入力が必要な箇所
A9: 番号 | B9: 年度 | E9: 建設工事の種類 | P9: 評定点
A10: 1 | B10: Ｒ６ | Q10: 点 | S10: 【印刷について】
S11: このシートは「ページ設定」で「白黒印刷」と「印刷範囲」が設定されています。
A12: 2 | B12: =B10 -> Ｒ６ | Q12: 点 | S12: 様式内の吹出しコメントは印刷されません。
A14: 3 | B14: =B12 -> Ｒ６ | Q14: 点
A16: 4 | B16: =B14 -> Ｒ６ | Q16: 点
A18: 5 | B18: =B16 -> Ｒ６ | Q18: 点
A20: 6 | B20: =B18 -> Ｒ６ | Q20: 点
A22: 7 | B22: =B20 -> Ｒ６ | Q22: 点
A24: 8 | B24: =B22 -> Ｒ６ | Q24: 点
A26: 9 | B26: =B24 -> Ｒ６ | Q26: 点
A28: 10 | B28: =B26 -> Ｒ６ | Q28: 点
A30: 11 | B30: =B28 -> Ｒ６ | Q30: 点
A32: 12 | B32: =B30 -> Ｒ６ | Q32: 点
A34: 13 | B34: =B32 -> Ｒ６ | Q34: 点
A36: 14 | B36: =B34 -> Ｒ６ | Q36: 点
... A48: 20 | B48: =B46 -> Ｒ６ | Q48: 点
A50: (1) | B50: 対象工事が６０件を超える場合は、本様式を複写し申請番号を修正のうえ、提出すること。
A51: (2) | B51: 工事種別、工事の種類は、各工事の契約時における「島根県土木工事仕様書」等において確認すること。
A53: =CONCATENATE("（様式-",INDEX(発注者入力シート!$B$27:$G$31,MATCH(発注者入力シート!L6,発注者入力シート!$C$27:$C$31,0),4),"-２）") -> （様式-２-２） | Q53: 特別共同企業体の代表者（第１グループ）用 | S53: 着色セルの凡例
A54: =CONCATENATE("評価項目",INDEX(発注者入力シート!$B$27:$G$31,MATCH(発注者入力シート!L6,発注者入力シート!$C$27:$C$31,0),5),"-",INDEX(発注者入力シート!$B$27:$G$31,MATCH(発注者入力シート!L6,発注者入力シート!$C$27:$C$31,0),6)) -> 評価項目（１）-① | Q54: =Q2 -> 【令和６年度完成工事分】 | S54: （企業）
A55: 工事成績評定点一覧表(別紙２枚目) | T55: ：「企業入力シート」、一覧表（別紙）で入力（数式リンク有）
T56: ：セルに直接入力が必要な箇所
D57: 企業体名： | F57: =IF(企業入力シート!C5="","",企業入力シート!C5) -> ○○共同企業体
D58: 代表者名： | F58: =IF(企業入力シート!C14="","",企業入力シート!C14) -> ○○建設 | S58: （発注者）
T59: ：「発注者入力シート」で入力（数式リンク有）
A60: 申請 | B60: 完成 | C60: 発注機関名 | E60: 工事種別 | H60: 工事名 | P60: 工事成績 | T60: ：セルに直接入力が必要な箇所
A61: 番号 | B61: 年度 | E61: 建設工事の種類 | P61: 評定点
A62: 21 | B62: =B48 -> Ｒ６ | Q62: 点 | S62: 【印刷について】
S63: このシートは「ページ設定」で「白黒印刷」と「印刷範囲」が設定されています。
A64: 22 | B64: =B62 -> Ｒ６ | Q64: 点
A66: 23 | B66: =B64 -> Ｒ６ | Q66: 点
A68: 24 | B68: =B66 -> Ｒ６ | Q68: 点
A70: 25 | B70: =B68 -> Ｒ６ | Q70: 点
A72: 26 | B72: =B70 -> Ｒ６ | Q72: 点
A74: 27 | B74: =B72 -> Ｒ６ | Q74: 点
A76: 28 | B76: =B74 -> Ｒ６ | Q76: 点
A78: 29 | B78: =B76 -> Ｒ６ | Q78: 点
A80: 30 | B80: =B78 -> Ｒ６ | Q80: 点
A82: 31 | B82: =B80 -> Ｒ６ | Q82: 点
A84: 32 | B84: =B82 -> Ｒ６ | Q84: 点
A86: 33 | B86: =B84 -> Ｒ６ | Q86: 点
... A100: 40 | B100: =B98 -> Ｒ６ | Q100: 点
A102: (1) | B102: 対象工事が６０件を超える場合は、本様式を複写し申請番号を修正のうえ、提出すること。
A103: (2) | B103: 工事種別、工事の種類は、各工事の契約時における「島根県土木工事仕様書」等において確認すること。
A105: =CONCATENATE("（様式-",INDEX(発注者入力シート!$B$27:$G$31,MATCH(発注者入力シート!L6,発注者入力シート!$C$27:$C$31,0),4),"-２）") -> （様式-２-２） | Q105: 特別共同企業体の代表者（第１グループ）用 | S105: 着色セルの凡例
A106: =CONCATENATE("評価項目",INDEX(発注者入力シート!$B$27:$G$31,MATCH(発注者入力シート!L6,発注者入力シート!$C$27:$C$31,0),5),"-",INDEX(発注者入力シート!$B$27:$G$31,MATCH(発注者入力シート!L6,発注者入力シート!$C$27:$C$31,0),6)) -> 評価項目（１）-① | Q106: =Q2 -> 【令和６年度完成工事分】 | S106: （企業）
A107: 工事成績評定点一覧表(別紙３枚目) | T107: ：「企業入力シート」、一覧表（別紙）で入力（数式リンク有）
T108: ：セルに直接入力が必要な箇所
D109: 企業体名： | F109: =IF(企業入力シート!C5="","",企業入力シート!C5) -> ○○共同企業体
D110: 代表者名： | F110: =IF(企業入力シート!C14="","",企業入力シート!C14) -> ○○建設 | S110: （発注者）
T111: ：「発注者入力シート」で入力（数式リンク有）
A112: 申請 | B112: 完成 | C112: 発注機関名 | E112: 工事種別 | H112: 工事名 | P112: 工事成績 | T112: ：セルに直接入力が必要な箇所
A113: 番号 | B113: 年度 | E113: 建設工事の種類 | P113: 評定点
A114: 41 | B114: =B100 -> Ｒ６ | Q114: 点 | S114: 【印刷について】
S115: このシートは「ページ設定」で「白黒印刷」と「印刷範囲」が設定されています。
A116: 42 | B116: =B114 -> Ｒ６ | Q116: 点
A118: 43 | B118: =B116 -> Ｒ６ | Q118: 点
A120: 44 | B120: =B118 -> Ｒ６ | Q120: 点
A122: 45 | B122: =B120 -> Ｒ６ | Q122: 点
A124: 46 | B124: =B122 -> Ｒ６ | Q124: 点
A126: 47 | B126: =B124 -> Ｒ６ | Q126: 点
A128: 48 | B128: =B126 -> Ｒ６ | Q128: 点
A130: 49 | B130: =B128 -> Ｒ６ | Q130: 点
A132: 50 | B132: =B130 -> Ｒ６ | Q132: 点
A134: 51 | B134: =B132 -> Ｒ６ | Q134: 点
A136: 52 | B136: =B134 -> Ｒ６ | Q136: 点
A138: 53 | B138: =B136 -> Ｒ６ | Q138: 点
... A152: 60 | B152: =B150 -> Ｒ６ | Q152: 点
A154: (1) | B154: 対象工事が６０件を超える場合は、本様式を複写し申請番号を修正のうえ、提出すること。
A155: (2) | B155: 工事種別、工事の種類は、各工事の契約時における「島根県土木工事仕様書」等において確認すること。

Sheet 評定点一覧(第1G用_R７年度3年用)
A1: =CONCATENATE("（様式-",INDEX(発注者入力シート!$B$27:$G$31,MATCH(発注者入力シート!L6,発注者入力シート!$C$27:$C$31,0),4),"-２）") -> （様式-２-２） | Q1: 特別共同企業体の代表者（第１グループ）用 | S1: 着色セルの凡例
A2: =CONCATENATE("評価項目",INDEX(発注者入力シート!$B$27:$G$31,MATCH(発注者入力シート!L6,発注者入力シート!$C$27:$C$31,0),5),"-",INDEX(発注者入力シート!$B$27:$G$31,MATCH(発注者入力シート!L6,発注者入力シート!$C$27:$C$31,0),6)) -> 評価項目（１）-① | Q2: 【令和７年度完成工事分】 | S2: （企業）
A3: 工事成績評定点一覧表(別紙１枚目) | T3: ：「企業入力シート」、一覧表（別紙）で入力（数式リンク有）
D4: 企業体名： | F4: =IF(企業入力シート!C5="","",企業入力シート!C5) -> ○○共同企業体 | T4: ：セルに直接入力が必要な箇所
D5: 代表者名： | F5: =IF(企業入力シート!C14="","",企業入力シート!C14) -> ○○建設
S6: （発注者）
T7: ：「発注者入力シート」で入力（数式リンク有）
A8: 申請 | B8: 完成 | C8: 発注機関名 | E8: 工事種別 | H8: 工事名 | P8: 工事成績 | T8: ：セルに直接入力が必要な箇所
A9: 番号 | B9: 年度 | E9: 建設工事の種類 | P9: 評定点
A10: 1 | B10: Ｒ７ | Q10: 点 | S10: 【印刷について】
S11: このシートは「ページ設定」で「白黒印刷」と「印刷範囲」が設定されています。
A12: 2 | B12: =B10 -> Ｒ７ | Q12: 点 | S12: 様式内の吹出しコメントは印刷されません。
A14: 3 | B14: =B12 -> Ｒ７ | Q14: 点
A16: 4 | B16: =B14 -> Ｒ７ | Q16: 点
A18: 5 | B18: =B16 -> Ｒ７ | Q18: 点
A20: 6 | B20: =B18 -> Ｒ７ | Q20: 点
A22: 7 | B22: =B20 -> Ｒ７ | Q22: 点
A24: 8 | B24: =B22 -> Ｒ７ | Q24: 点
A26: 9 | B26: =B24 -> Ｒ７ | Q26: 点
A28: 10 | B28: =B26 -> Ｒ７ | Q28: 点
A30: 11 | B30: =B28 -> Ｒ７ | Q30: 点
A32: 12 | B32: =B30 -> Ｒ７ | Q32: 点
A34: 13 | B34: =B32 -> Ｒ７ | Q34: 点
A36: 14 | B36: =B34 -> Ｒ７ | Q36: 点
... A48: 20 | B48: =B46 -> Ｒ７ | Q48: 点
A50: (1) | B50: 対象工事が６０件を超える場合は、本様式を複写し申請番号を修正のうえ、提出すること。
A51: (2) | B51: 工事種別、工事の種類は、各工事の契約時における「島根県土木工事仕様書」等において確認すること。
A53: =CONCATENATE("（様式-",INDEX(発注者入力シート!$B$27:$G$31,MATCH(発注者入力シート!L6,発注者入力シート!$C$27:$C$31,0),4),"-２）") -> （様式-２-２） | Q53: 特別共同企業体の代表者（第１グループ）用 | S53: 着色セルの凡例
A54: =CONCATENATE("評価項目",INDEX(発注者入力シート!$B$27:$G$31,MATCH(発注者入力シート!L6,発注者入力シート!$C$27:$C$31,0),5),"-",INDEX(発注者入力シート!$B$27:$G$31,MATCH(発注者入力シート!L6,発注者入力シート!$C$27:$C$31,0),6)) -> 評価項目（１）-① | Q54: =Q2 -> 【令和７年度完成工事分】 | S54: （企業）
A55: 工事成績評定点一覧表(別紙２枚目) | T55: ：「企業入力シート」、一覧表（別紙）で入力（数式リンク有）
T56: ：セルに直接入力が必要な箇所
D57: 企業体名： | F57: =IF(企業入力シート!C5="","",企業入力シート!C5) -> ○○共同企業体
D58: 代表者名： | F58: =IF(企業入力シート!C14="","",企業入力シート!C14) -> ○○建設 | S58: （発注者）
T59: ：「発注者入力シート」で入力（数式リンク有）
A60: 申請 | B60: 完成 | C60: 発注機関名 | E60: 工事種別 | H60: 工事名 | P60: 工事成績 | T60: ：セルに直接入力が必要な箇所
A61: 番号 | B61: 年度 | E61: 建設工事の種類 | P61: 評定点
A62: 21 | B62: =B48 -> Ｒ７ | Q62: 点 | S62: 【印刷について】
S63: このシートは「ページ設定」で「白黒印刷」と「印刷範囲」が設定されています。
A64: 22 | B64: =B62 -> Ｒ７ | Q64: 点
A66: 23 | B66: =B64 -> Ｒ７ | Q66: 点
A68: 24 | B68: =B66 -> Ｒ７ | Q68: 点
A70: 25 | B70: =B68 -> Ｒ７ | Q70: 点
A72: 26 | B72: =B70 -> Ｒ７ | Q72: 点
A74: 27 | B74: =B72 -> Ｒ７ | Q74: 点
A76: 28 | B76: =B74 -> Ｒ７ | Q76: 点
A78: 29 | B78: =B76 -> Ｒ７ | Q78: 点
A80: 30 | B80: =B78 -> Ｒ７ | Q80: 点
A82: 31 | B82: =B80 -> Ｒ７ | Q82: 点
A84: 32 | B84: =B82 -> Ｒ７ | Q84: 点
A86: 33 | B86: =B84 -> Ｒ７ | Q86: 点
... A100: 40 | B100: =B98 -> Ｒ７ | Q100: 点
A102: (1) | B102: 対象工事が６０件を超える場合は、本様式を複写し申請番号を修正のうえ、提出すること。
A103: (2) | B103: 工事種別、工事の種類は、各工事の契約時における「島根県土木工事仕様書」等において確認すること。
A105: =CONCATENATE("（様式-",INDEX(発注者入力シート!$B$27:$G$31,MATCH(発注者入力シート!L6,発注者入力シート!$C$27:$C$31,0),4),"-２）") -> （様式-２-２） | Q105: 特別共同企業体の代表者（第１グループ）用 | S105: 着色セルの凡例
A106: =CONCATENATE("評価項目",INDEX(発注者入力シート!$B$27:$G$31,MATCH(発注者入力シート!L6,発注者入力シート!$C$27:$C$31,0),5),"-",INDEX(発注者入力シート!$B$27:$G$31,MATCH(発注者入力シート!L6,発注者入力シート!$C$27:$C$31,0),6)) -> 評価項目（１）-① | Q106: =Q2 -> 【令和７年度完成工事分】 | S106: （企業）
A107: 工事成績評定点一覧表(別紙３枚目) | T107: ：「企業入力シート」、一覧表（別紙）で入力（数式リンク有）
T108: ：セルに直接入力が必要な箇所
D109: 企業体名： | F109: =IF(企業入力シート!C5="","",企業入力シート!C5) -> ○○共同企業体
D110: 代表者名： | F110: =IF(企業入力シート!C14="","",企業入力シート!C14) -> ○○建設 | S110: （発注者）
T111: ：「発注者入力シート」で入力（数式リンク有）
A112: 申請 | B112: 完成 | C112: 発注機関名 | E112: 工事種別 | H112: 工事名 | P112: 工事成績 | T112: ：セルに直接入力が必要な箇所
A113: 番号 | B113: 年度 | E113: 建設工事の種類 | P113: 評定点
A114: 41 | B114: =B100 -> Ｒ７ | Q114: 点 | S114: 【印刷について】
S115: このシートは「ページ設定」で「白黒印刷」と「印刷範囲」が設定されています。
A116: 42 | B116: =B114 -> Ｒ７ | Q116: 点
A118: 43 | B118: =B116 -> Ｒ７ | Q118: 点
A120: 44 | B120: =B118 -> Ｒ７ | Q120: 点
A122: 45 | B122: =B120 -> Ｒ７ | Q122: 点
A124: 46 | B124: =B122 -> Ｒ７ | Q124: 点
A126: 47 | B126: =B124 -> Ｒ７ | Q126: 点
A128: 48 | B128: =B126 -> Ｒ７ | Q128: 点
A130: 49 | B130: =B128 -> Ｒ７ | Q130: 点
A132: 50 | B132: =B130 -> Ｒ７ | Q132: 点
A134: 51 | B134: =B132 -> Ｒ７ | Q134: 点
A136: 52 | B136: =B134 -> Ｒ７ | Q136: 点
A138: 53 | B138: =B136 -> Ｒ７ | Q138: 点
... A152: 60 | B152: =B150 -> Ｒ７ | Q152: 点
A154: (1) | B154: 対象工事が６０件を超える場合は、本様式を複写し申請番号を修正のうえ、提出すること。
A155: (2) | B155: 工事種別、工事の種類は、各工事の契約時における「島根県土木工事仕様書」等において確認すること。

Sheet 評定点一覧(第2G用_Ｒ５年度3年用)
A1: =CONCATENATE("（様式-",INDEX(発注者入力シート!$B$27:$G$31,MATCH(発注者入力シート!L6,発注者入力シート!$C$27:$C$31,0),4),"-２）") -> （様式-２-２） | Q1: 特別共同企業体の代表者以外の構成員（第２グループ）用 | S1: 着色セルの凡例
A2: =CONCATENATE("評価項目",INDEX(発注者入力シート!$B$27:$G$31,MATCH(発注者入力シート!L6,発注者入力シート!$C$27:$C$31,0),5),"-",INDEX(発注者入力シート!$B$27:$G$31,MATCH(発注者入力シート!L6,発注者入力シート!$C$27:$C$31,0),6)) -> 評価項目（１）-① | Q2: ='評定点一覧(第1G用_Ｒ５年度3年用)'!Q2 -> 【令和５年度完成工事分】 | S2: （企業）
A3: 工事成績評定点一覧表(別紙１枚目) | T3: ：「企業入力シート」、一覧表（別紙）で入力（数式リンク有）
D4: 企業体名： | F4: =IF(企業入力シート!C5="","",企業入力シート!C5) -> ○○共同企業体 | T4: ：セルに直接入力が必要な箇所
D5: 構成員名： | F5: =IF(企業入力シート!C48="","",企業入力シート!C48) -> △△建設
S6: （発注者）
T7: ：「発注者入力シート」で入力（数式リンク有）
A8: 申請 | B8: 完成 | C8: 発注機関名 | E8: 工事種別 | H8: 工事名 | P8: 工事成績 | T8: ：セルに直接入力が必要な箇所
A9: 番号 | B9: 年度 | E9: 建設工事の種類 | P9: 評定点
A10: 1 | B10: ='評定点一覧(第1G用_Ｒ５年度3年用)'!B10:B11 -> Ｒ５ | Q10: 点 | S10: 【印刷について】
S11: このシートは「ページ設定」で「白黒印刷」と「印刷範囲」が設定されています。
A12: 2 | B12: =B10 -> Ｒ５ | Q12: 点
A14: 3 | B14: =B12 -> Ｒ５ | Q14: 点
A16: 4 | B16: =B14 -> Ｒ５ | Q16: 点
A18: 5 | B18: =B16 -> Ｒ５ | Q18: 点
A20: 6 | B20: =B18 -> Ｒ５ | Q20: 点
A22: 7 | B22: =B20 -> Ｒ５ | Q22: 点
A24: 8 | B24: =B22 -> Ｒ５ | Q24: 点
A26: 9 | B26: =B24 -> Ｒ５ | Q26: 点
A28: 10 | B28: =B26 -> Ｒ５ | Q28: 点
A30: 11 | B30: =B28 -> Ｒ５ | Q30: 点
A32: 12 | B32: =B30 -> Ｒ５ | Q32: 点
A34: 13 | B34: =B32 -> Ｒ５ | Q34: 点
... A48: 20 | B48: =B46 -> Ｒ５ | Q48: 点
A50: (1) | B50: 対象工事が６０件を超える場合は、本様式を複写し申請番号を修正のうえ、提出すること。
A51: (2) | B51: 工事種別、工事の種類は、各工事の契約時における「島根県土木工事仕様書」等において確認すること。
A53: =CONCATENATE("（様式-",INDEX(発注者入力シート!$B$27:$G$31,MATCH(発注者入力シート!L6,発注者入力シート!$C$27:$C$31,0),4),"-２）") -> （様式-２-２） | Q53: 特別共同企業体の代表者以外の構成員（第２グループ）用 | S53: 着色セルの凡例
A54: =CONCATENATE("評価項目",INDEX(発注者入力シート!$B$27:$G$31,MATCH(発注者入力シート!L6,発注者入力シート!$C$27:$C$31,0),5),"-",INDEX(発注者入力シート!$B$27:$G$31,MATCH(発注者入力シート!L6,発注者入力シート!$C$27:$C$31,0),6)) -> 評価項目（１）-① | Q54: =Q2 -> 【令和５年度完成工事分】 | S54: （企業）
A55: 工事成績評定点一覧表(別紙２枚目) | T55: ：「企業入力シート」、一覧表（別紙）で入力（数式リンク有）
T56: ：セルに直接入力が必要な箇所
D57: 企業体名： | F57: =IF(企業入力シート!C5="","",企業入力シート!C5) -> ○○共同企業体
D58: 構成員名： | F58: =IF(企業入力シート!C48="","",企業入力シート!C48) -> △△建設 | S58: （発注者）
T59: ：「発注者入力シート」で入力（数式リンク有）
A60: 申請 | B60: 完成 | C60: 発注機関名 | E60: 工事種別 | H60: 工事名 | P60: 工事成績 | T60: ：セルに直接入力が必要な箇所
A61: 番号 | B61: 年度 | E61: 建設工事の種類 | P61: 評定点
A62: 21 | B62: =B48 -> Ｒ５ | Q62: 点 | S62: 【印刷について】
S63: このシートは「ページ設定」で「白黒印刷」と「印刷範囲」が設定されています。
A64: 22 | B64: =B62 -> Ｒ５ | Q64: 点
A66: 23 | B66: =B64 -> Ｒ５ | Q66: 点
A68: 24 | B68: =B66 -> Ｒ５ | Q68: 点
A70: 25 | B70: =B68 -> Ｒ５ | Q70: 点
A72: 26 | B72: =B70 -> Ｒ５ | Q72: 点
A74: 27 | B74: =B72 -> Ｒ５ | Q74: 点
A76: 28 | B76: =B74 -> Ｒ５ | Q76: 点
A78: 29 | B78: =B76 -> Ｒ５ | Q78: 点
A80: 30 | B80: =B78 -> Ｒ５ | Q80: 点
A82: 31 | B82: =B80 -> Ｒ５ | Q82: 点
A84: 32 | B84: =B82 -> Ｒ５ | Q84: 点
A86: 33 | B86: =B84 -> Ｒ５ | Q86: 点
... A100: 40 | B100: =B98 -> Ｒ５ | Q100: 点
A102: (1) | B102: 対象工事が６０件を超える場合は、本様式を複写し申請番号を修正のうえ、提出すること。
A103: (2) | B103: 工事種別、工事の種類は、各工事の契約時における「島根県土木工事仕様書」等において確認すること。
A105: =CONCATENATE("（様式-",INDEX(発注者入力シート!$B$27:$G$31,MATCH(発注者入力シート!L6,発注者入力シート!$C$27:$C$31,0),4),"-２）") -> （様式-２-２） | Q105: 特別共同企業体の代表者以外の構成員（第２グループ）用 | S105: 着色セルの凡例
A106: =CONCATENATE("評価項目",INDEX(発注者入力シート!$B$27:$G$31,MATCH(発注者入力シート!L6,発注者入力シート!$C$27:$C$31,0),5),"-",INDEX(発注者入力シート!$B$27:$G$31,MATCH(発注者入力シート!L6,発注者入力シート!$C$27:$C$31,0),6)) -> 評価項目（１）-① | Q106: =Q2 -> 【令和５年度完成工事分】 | S106: （企業）
A107: 工事成績評定点一覧表(別紙３枚目) | T107: ：「企業入力シート」、一覧表（別紙）で入力（数式リンク有）
T108: ：セルに直接入力が必要な箇所
D109: 企業体名： | F109: =IF(企業入力シート!C5="","",企業入力シート!C5) -> ○○共同企業体
D110: 構成員名： | F110: =IF(企業入力シート!C48="","",企業入力シート!C48) -> △△建設 | S110: （発注者）
T111: ：「発注者入力シート」で入力（数式リンク有）
A112: 申請 | B112: 完成 | C112: 発注機関名 | E112: 工事種別 | H112: 工事名 | P112: 工事成績 | T112: ：セルに直接入力が必要な箇所
A113: 番号 | B113: 年度 | E113: 建設工事の種類 | P113: 評定点
A114: 41 | B114: =B100 -> Ｒ５ | Q114: 点 | S114: 【印刷について】
S115: このシートは「ページ設定」で「白黒印刷」と「印刷範囲」が設定されています。
A116: 42 | B116: =B114 -> Ｒ５ | Q116: 点
A118: 43 | B118: =B116 -> Ｒ５ | Q118: 点
A120: 44 | B120: =B118 -> Ｒ５ | Q120: 点
A122: 45 | B122: =B120 -> Ｒ５ | Q122: 点
A124: 46 | B124: =B122 -> Ｒ５ | Q124: 点
A126: 47 | B126: =B124 -> Ｒ５ | Q126: 点
A128: 48 | B128: =B126 -> Ｒ５ | Q128: 点
A130: 49 | B130: =B128 -> Ｒ５ | Q130: 点
A132: 50 | B132: =B130 -> Ｒ５ | Q132: 点
A134: 51 | B134: =B132 -> Ｒ５ | Q134: 点
A136: 52 | B136: =B134 -> Ｒ５ | Q136: 点
A138: 53 | B138: =B136 -> Ｒ５ | Q138: 点
... A152: 60 | B152: =B150 -> Ｒ５ | Q152: 点
A154: (1) | B154: 対象工事が６０件を超える場合は、本様式を複写し申請番号を修正のうえ、提出すること。
A155: (2) | B155: 工事種別、工事の種類は、各工事の契約時における「島根県土木工事仕様書」等において確認すること。

Sheet 評定点一覧(第2G用_R６年度3年用)
A1: =CONCATENATE("（様式-",INDEX(発注者入力シート!$B$27:$G$31,MATCH(発注者入力シート!L6,発注者入力シート!$C$27:$C$31,0),4),"-２）") -> （様式-２-２） | Q1: 特別共同企業体の代表者以外の構成員（第２グループ）用 | S1: 着色セルの凡例
A2: =CONCATENATE("評価項目",INDEX(発注者入力シート!$B$27:$G$31,MATCH(発注者入力シート!L6,発注者入力シート!$C$27:$C$31,0),5),"-",INDEX(発注者入力シート!$B$27:$G$31,MATCH(発注者入力シート!L6,発注者入力シート!$C$27:$C$31,0),6)) -> 評価項目（１）-① | Q2: ='評定点一覧(第1G用_Ｒ６年度3年用)'!Q2 -> 【令和６年度完成工事分】 | S2: （企業）
A3: 工事成績評定点一覧表(別紙１枚目) | T3: ：「企業入力シート」、一覧表（別紙）で入力（数式リンク有）
D4: 企業体名： | F4: =IF(企業入力シート!C5="","",企業入力シート!C5) -> ○○共同企業体 | T4: ：セルに直接入力が必要な箇所
D5: 構成員名： | F5: =IF(企業入力シート!C48="","",企業入力シート!C48) -> △△建設
S6: （発注者）
T7: ：「発注者入力シート」で入力（数式リンク有）
A8: 申請 | B8: 完成 | C8: 発注機関名 | E8: 工事種別 | H8: 工事名 | P8: 工事成績 | T8: ：セルに直接入力が必要な箇所
A9: 番号 | B9: 年度 | E9: 建設工事の種類 | P9: 評定点
A10: 1 | B10: ='評定点一覧(第1G用_Ｒ６年度3年用)'!B10:B11 -> Ｒ６ | Q10: 点 | S10: 【印刷について】
S11: このシートは「ページ設定」で「白黒印刷」と「印刷範囲」が設定されています。
A12: 2 | B12: =B10 -> Ｒ６ | Q12: 点
A14: 3 | B14: =B12 -> Ｒ６ | Q14: 点
A16: 4 | B16: =B14 -> Ｒ６ | Q16: 点
A18: 5 | B18: =B16 -> Ｒ６ | Q18: 点
A20: 6 | B20: =B18 -> Ｒ６ | Q20: 点
A22: 7 | B22: =B20 -> Ｒ６ | Q22: 点
A24: 8 | B24: =B22 -> Ｒ６ | Q24: 点
A26: 9 | B26: =B24 -> Ｒ６ | Q26: 点
A28: 10 | B28: =B26 -> Ｒ６ | Q28: 点
A30: 11 | B30: =B28 -> Ｒ６ | Q30: 点
A32: 12 | B32: =B30 -> Ｒ６ | Q32: 点
A34: 13 | B34: =B32 -> Ｒ６ | Q34: 点
... A48: 20 | B48: =B46 -> Ｒ６ | Q48: 点
A50: (1) | B50: 対象工事が６０件を超える場合は、本様式を複写し申請番号を修正のうえ、提出すること。
A51: (2) | B51: 工事種別、工事の種類は、各工事の契約時における「島根県土木工事仕様書」等において確認すること。
A53: =CONCATENATE("（様式-",INDEX(発注者入力シート!$B$27:$G$31,MATCH(発注者入力シート!L6,発注者入力シート!$C$27:$C$31,0),4),"-２）") -> （様式-２-２） | Q53: 特別共同企業体の代表者以外の構成員（第２グループ）用 | S53: 着色セルの凡例
A54: =CONCATENATE("評価項目",INDEX(発注者入力シート!$B$27:$G$31,MATCH(発注者入力シート!L6,発注者入力シート!$C$27:$C$31,0),5),"-",INDEX(発注者入力シート!$B$27:$G$31,MATCH(発注者入力シート!L6,発注者入力シート!$C$27:$C$31,0),6)) -> 評価項目（１）-① | Q54: =Q2 -> 【令和６年度完成工事分】 | S54: （企業）
A55: 工事成績評定点一覧表(別紙２枚目) | T55: ：「企業入力シート」、一覧表（別紙）で入力（数式リンク有）
T56: ：セルに直接入力が必要な箇所
D57: 企業体名： | F57: =IF(企業入力シート!C5="","",企業入力シート!C5) -> ○○共同企業体
D58: 構成員名： | F58: =IF(企業入力シート!C48="","",企業入力シート!C48) -> △△建設 | S58: （発注者）
T59: ：「発注者入力シート」で入力（数式リンク有）
A60: 申請 | B60: 完成 | C60: 発注機関名 | E60: 工事種別 | H60: 工事名 | P60: 工事成績 | T60: ：セルに直接入力が必要な箇所
A61: 番号 | B61: 年度 | E61: 建設工事の種類 | P61: 評定点
A62: 21 | B62: =B48 -> Ｒ６ | Q62: 点 | S62: 【印刷について】
S63: このシートは「ページ設定」で「白黒印刷」と「印刷範囲」が設定されています。
A64: 22 | B64: =B62 -> Ｒ６ | Q64: 点
A66: 23 | B66: =B64 -> Ｒ６ | Q66: 点
A68: 24 | B68: =B66 -> Ｒ６ | Q68: 点
A70: 25 | B70: =B68 -> Ｒ６ | Q70: 点
A72: 26 | B72: =B70 -> Ｒ６ | Q72: 点
A74: 27 | B74: =B72 -> Ｒ６ | Q74: 点
A76: 28 | B76: =B74 -> Ｒ６ | Q76: 点
A78: 29 | B78: =B76 -> Ｒ６ | Q78: 点
A80: 30 | B80: =B78 -> Ｒ６ | Q80: 点
A82: 31 | B82: =B80 -> Ｒ６ | Q82: 点
A84: 32 | B84: =B82 -> Ｒ６ | Q84: 点
A86: 33 | B86: =B84 -> Ｒ６ | Q86: 点
... A100: 40 | B100: =B98 -> Ｒ６ | Q100: 点
A102: (1) | B102: 対象工事が６０件を超える場合は、本様式を複写し申請番号を修正のうえ、提出すること。
A103: (2) | B103: 工事種別、工事の種類は、各工事の契約時における「島根県土木工事仕様書」等において確認すること。
A105: =CONCATENATE("（様式-",INDEX(発注者入力シート!$B$27:$G$31,MATCH(発注者入力シート!L6,発注者入力シート!$C$27:$C$31,0),4),"-２）") -> （様式-２-２） | Q105: 特別共同企業体の代表者以外の構成員（第２グループ）用 | S105: 着色セルの凡例
A106: =CONCATENATE("評価項目",INDEX(発注者入力シート!$B$27:$G$31,MATCH(発注者入力シート!L6,発注者入力シート!$C$27:$C$31,0),5),"-",INDEX(発注者入力シート!$B$27:$G$31,MATCH(発注者入力シート!L6,発注者入力シート!$C$27:$C$31,0),6)) -> 評価項目（１）-① | Q106: =Q2 -> 【令和６年度完成工事分】 | S106: （企業）
A107: 工事成績評定点一覧表(別紙３枚目) | T107: ：「企業入力シート」、一覧表（別紙）で入力（数式リンク有）
T108: ：セルに直接入力が必要な箇所
D109: 企業体名： | F109: =IF(企業入力シート!C5="","",企業入力シート!C5) -> ○○共同企業体
D110: 構成員名： | F110: =IF(企業入力シート!C48="","",企業入力シート!C48) -> △△建設 | S110: （発注者）
T111: ：「発注者入力シート」で入力（数式リンク有）
A112: 申請 | B112: 完成 | C112: 発注機関名 | E112: 工事種別 | H112: 工事名 | P112: 工事成績 | T112: ：セルに直接入力が必要な箇所
A113: 番号 | B113: 年度 | E113: 建設工事の種類 | P113: 評定点
A114: 41 | B114: =B100 -> Ｒ６ | Q114: 点 | S114: 【印刷について】
S115: このシートは「ページ設定」で「白黒印刷」と「印刷範囲」が設定されています。
A116: 42 | B116: =B114 -> Ｒ６ | Q116: 点
A118: 43 | B118: =B116 -> Ｒ６ | Q118: 点
A120: 44 | B120: =B118 -> Ｒ６ | Q120: 点
A122: 45 | B122: =B120 -> Ｒ６ | Q122: 点
A124: 46 | B124: =B122 -> Ｒ６ | Q124: 点
A126: 47 | B126: =B124 -> Ｒ６ | Q126: 点
A128: 48 | B128: =B126 -> Ｒ６ | Q128: 点
A130: 49 | B130: =B128 -> Ｒ６ | Q130: 点
A132: 50 | B132: =B130 -> Ｒ６ | Q132: 点
A134: 51 | B134: =B132 -> Ｒ６ | Q134: 点
A136: 52 | B136: =B134 -> Ｒ６ | Q136: 点
A138: 53 | B138: =B136 -> Ｒ６ | Q138: 点
... A152: 60 | B152: =B150 -> Ｒ６ | Q152: 点
A154: (1) | B154: 対象工事が６０件を超える場合は、本様式を複写し申請番号を修正のうえ、提出すること。
A155: (2) | B155: 工事種別、工事の種類は、各工事の契約時における「島根県土木工事仕様書」等において確認すること。

Sheet 評定点一覧(第2G用_R７年度3年用)
A1: =CONCATENATE("（様式-",INDEX(発注者入力シート!$B$27:$G$31,MATCH(発注者入力シート!L6,発注者入力シート!$C$27:$C$31,0),4),"-２）") -> （様式-２-２） | Q1: 特別共同企業体の代表者以外の構成員（第２グループ）用 | S1: 着色セルの凡例
A2: =CONCATENATE("評価項目",INDEX(発注者入力シート!$B$27:$G$31,MATCH(発注者入力シート!L6,発注者入力シート!$C$27:$C$31,0),5),"-",INDEX(発注者入力シート!$B$27:$G$31,MATCH(発注者入力シート!L6,発注者入力シート!$C$27:$C$31,0),6)) -> 評価項目（１）-① | Q2: ='評定点一覧(第1G用_R７年度3年用)'!Q2 -> 【令和７年度完成工事分】 | S2: （企業）
A3: 工事成績評定点一覧表(別紙１枚目) | T3: ：「企業入力シート」、一覧表（別紙）で入力（数式リンク有）
D4: 企業体名： | F4: =IF(企業入力シート!C5="","",企業入力シート!C5) -> ○○共同企業体 | T4: ：セルに直接入力が必要な箇所
D5: 構成員名： | F5: =IF(企業入力シート!C48="","",企業入力シート!C48) -> △△建設
S6: （発注者）
T7: ：「発注者入力シート」で入力（数式リンク有）
A8: 申請 | B8: 完成 | C8: 発注機関名 | E8: 工事種別 | H8: 工事名 | P8: 工事成績 | T8: ：セルに直接入力が必要な箇所
A9: 番号 | B9: 年度 | E9: 建設工事の種類 | P9: 評定点
A10: 1 | B10: ='評定点一覧(第1G用_R７年度3年用)'!B10:B11 -> Ｒ７ | Q10: 点 | S10: 【印刷について】
S11: このシートは「ページ設定」で「白黒印刷」と「印刷範囲」が設定されています。
A12: 2 | B12: =B10 -> Ｒ７ | Q12: 点 | S12: 様式内の吹出しコメントは印刷されません。
A14: 3 | B14: =B12 -> Ｒ７ | Q14: 点
A16: 4 | B16: =B14 -> Ｒ７ | Q16: 点
A18: 5 | B18: =B16 -> Ｒ７ | Q18: 点
A20: 6 | B20: =B18 -> Ｒ７ | Q20: 点
A22: 7 | B22: =B20 -> Ｒ７ | Q22: 点
A24: 8 | B24: =B22 -> Ｒ７ | Q24: 点
A26: 9 | B26: =B24 -> Ｒ７ | Q26: 点
A28: 10 | B28: =B26 -> Ｒ７ | Q28: 点
A30: 11 | B30: =B28 -> Ｒ７ | Q30: 点
A32: 12 | B32: =B30 -> Ｒ７ | Q32: 点
A34: 13 | B34: =B32 -> Ｒ７ | Q34: 点
A36: 14 | B36: =B34 -> Ｒ７ | Q36: 点
... A48: 20 | B48: =B46 -> Ｒ７ | Q48: 点
A50: (1) | B50: 対象工事が６０件を超える場合は、本様式を複写し申請番号を修正のうえ、提出すること。
A51: (2) | B51: 工事種別、工事の種類は、各工事の契約時における「島根県土木工事仕様書」等において確認すること。
A53: =CONCATENATE("（様式-",INDEX(発注者入力シート!$B$27:$G$31,MATCH(発注者入力シート!L6,発注者入力シート!$C$27:$C$31,0),4),"-２）") -> （様式-２-２） | Q53: 特別共同企業体の代表者（第１グループ）用 | S53: 着色セルの凡例
A54: =CONCATENATE("評価項目",INDEX(発注者入力シート!$B$27:$G$31,MATCH(発注者入力シート!L6,発注者入力シート!$C$27:$C$31,0),5),"-",INDEX(発注者入力シート!$B$27:$G$31,MATCH(発注者入力シート!L6,発注者入力シート!$C$27:$C$31,0),6)) -> 評価項目（１）-① | Q54: =Q2 -> 【令和７年度完成工事分】 | S54: （企業）
A55: 工事成績評定点一覧表(別紙２枚目) | T55: ：「企業入力シート」、一覧表（別紙）で入力（数式リンク有）
T56: ：セルに直接入力が必要な箇所
D57: 企業体名： | F57: =IF(企業入力シート!C5="","",企業入力シート!C5) -> ○○共同企業体
D58: 構成員名： | F58: =IF(企業入力シート!C48="","",企業入力シート!C48) -> △△建設 | S58: （発注者）
T59: ：「発注者入力シート」で入力（数式リンク有）
A60: 申請 | B60: 完成 | C60: 発注機関名 | E60: 工事種別 | H60: 工事名 | P60: 工事成績 | T60: ：セルに直接入力が必要な箇所
A61: 番号 | B61: 年度 | E61: 建設工事の種類 | P61: 評定点
A62: 21 | B62: =B48 -> Ｒ７ | Q62: 点 | S62: 【印刷について】
S63: このシートは「ページ設定」で「白黒印刷」と「印刷範囲」が設定されています。
A64: 22 | B64: =B62 -> Ｒ７ | Q64: 点
A66: 23 | B66: =B64 -> Ｒ７ | Q66: 点
A68: 24 | B68: =B66 -> Ｒ７ | Q68: 点
A70: 25 | B70: =B68 -> Ｒ７ | Q70: 点
A72: 26 | B72: =B70 -> Ｒ７ | Q72: 点
A74: 27 | B74: =B72 -> Ｒ７ | Q74: 点
A76: 28 | B76: =B74 -> Ｒ７ | Q76: 点
A78: 29 | B78: =B76 -> Ｒ７ | Q78: 点
A80: 30 | B80: =B78 -> Ｒ７ | Q80: 点
A82: 31 | B82: =B80 -> Ｒ７ | Q82: 点
A84: 32 | B84: =B82 -> Ｒ７ | Q84: 点
A86: 33 | B86: =B84 -> Ｒ７ | Q86: 点
... A100: 40 | B100: =B98 -> Ｒ７ | Q100: 点
A102: (1) | B102: 対象工事が６０件を超える場合は、本様式を複写し申請番号を修正のうえ、提出すること。
A103: (2) | B103: 工事種別、工事の種類は、各工事の契約時における「島根県土木工事仕様書」等において確認すること。
A105: =CONCATENATE("（様式-",INDEX(発注者入力シート!$B$27:$G$31,MATCH(発注者入力シート!L6,発注者入力シート!$C$27:$C$31,0),4),"-２）") -> （様式-２-２） | Q105: 特別共同企業体の代表者（第１グループ）用 | S105: 着色セルの凡例
A106: =CONCATENATE("評価項目",INDEX(発注者入力シート!$B$27:$G$31,MATCH(発注者入力シート!L6,発注者入力シート!$C$27:$C$31,0),5),"-",INDEX(発注者入力シート!$B$27:$G$31,MATCH(発注者入力シート!L6,発注者入力シート!$C$27:$C$31,0),6)) -> 評価項目（１）-① | Q106: =Q2 -> 【令和７年度完成工事分】 | S106: （企業）
A107: 工事成績評定点一覧表(別紙３枚目) | T107: ：「企業入力シート」、一覧表（別紙）で入力（数式リンク有）
T108: ：セルに直接入力が必要な箇所
D109: 企業体名： | F109: =IF(企業入力シート!C5="","",企業入力シート!C5) -> ○○共同企業体
D110: 構成員名： | F110: =IF(企業入力シート!C48="","",企業入力シート!C48) -> △△建設 | S110: （発注者）
T111: ：「発注者入力シート」で入力（数式リンク有）
A112: 申請 | B112: 完成 | C112: 発注機関名 | E112: 工事種別 | H112: 工事名 | P112: 工事成績 | T112: ：セルに直接入力が必要な箇所
A113: 番号 | B113: 年度 | E113: 建設工事の種類 | P113: 評定点
A114: 41 | B114: =B100 -> Ｒ７ | Q114: 点 | S114: 【印刷について】
S115: このシートは「ページ設定」で「白黒印刷」と「印刷範囲」が設定されています。
A116: 42 | B116: =B114 -> Ｒ７ | Q116: 点
A118: 43 | B118: =B116 -> Ｒ７ | Q118: 点
A120: 44 | B120: =B118 -> Ｒ７ | Q120: 点
A122: 45 | B122: =B120 -> Ｒ７ | Q122: 点
A124: 46 | B124: =B122 -> Ｒ７ | Q124: 点
A126: 47 | B126: =B124 -> Ｒ７ | Q126: 点
A128: 48 | B128: =B126 -> Ｒ７ | Q128: 点
A130: 49 | B130: =B128 -> Ｒ７ | Q130: 点
A132: 50 | B132: =B130 -> Ｒ７ | Q132: 点
A134: 51 | B134: =B132 -> Ｒ７ | Q134: 点
A136: 52 | B136: =B134 -> Ｒ７ | Q136: 点
A138: 53 | B138: =B136 -> Ｒ７ | Q138: 点
... A152: 60 | B152: =B150 -> Ｒ７ | Q152: 点
A154: (1) | B154: 対象工事が６０件を超える場合は、本様式を複写し申請番号を修正のうえ、提出すること。
A155: (2) | B155: 工事種別、工事の種類は、各工事の契約時における「島根県土木工事仕様書」等において確認すること。

Sheet 企業成績評定点 (JV5年用) 
A1: =CONCATENATE("（様式-",INDEX(発注者入力シート!$B$27:$G$31,MATCH(発注者入力シート!L6,発注者入力シート!$C$27:$C$31,0),4),"-１）") -> （様式-２-１） | R1: 着色セルの凡例
A2: =CONCATENATE("評価項目",INDEX(発注者入力シート!$B$27:$G$31,MATCH(発注者入力シート!L6,発注者入力シート!$C$27:$C$31,0),5),"-",INDEX(発注者入力シート!$B$27:$G$31,MATCH(発注者入力シート!L6,発注者入力シート!$C$27:$C$31,0),6)) -> 評価項目（１）-① | R2: （企業）
A3: 企業の工事成績評定点 | S3: ：「企業入力シート」で入力（数式リンク有）
D4: 企業体名： | F4: =IF(企業入力シート!C5="","",企業入力シート!C5) -> ○○共同企業体 | S4: ：リストから選択が必要な箇所
A6: 対象工事 | R6: （発注者）
A7: 完成年度 | D7: 令和３年度から令和７年度（完成及び引き渡しが完了） | S7: ：「発注者入力シート」で入力（数式リンク有）
