Workbook
Name イベント名: #REF!
Name イベント名: #REF!
Name イベント名: #REF!
Name イベント名: #REF!
Name イベント名: #REF!
Name イベント名: #REF!
Name イベント名: #REF!
Name イベント名: #REF!
Name 下請次数の制限: #REF!
Name 下請次数の制限: #REF!
Name 下請次数の制限: #REF!
Name 下請次数の制限: #REF!
Name 下請次数の制限: #REF!
Name 下請次数の制限: #REF!
Name 下請次数の制限: #REF!
Name 下請次数の制限: #REF!
Name 基幹技能者: #REF!
Name 基幹技能者: #REF!
Name 基幹技能者: #REF!
Name 基幹技能者: #REF!
Name 基幹技能者: #REF!
Name 基幹技能者: #REF!
Name 基幹技能者: #REF!
Name 基幹技能者: #REF!
Name 建設業許可1: #REF!
Name 建設業許可1: #REF!
Name 建設業許可1: #REF!
Name 建設業許可1: #REF!
Name 建設業許可1: #REF!
Name 建設業許可1: #REF!
Name 建設業許可1: #REF!
Name 建設業許可1: #REF!
Name 建設業許可2: #REF!
Name 建設業許可2: #REF!
Name 建設業許可2: #REF!
Name 建設業許可2: #REF!
Name 建設業許可2: #REF!
Name 建設業許可2: #REF!
Name 建設業許可2: #REF!
Name 建設業許可2: #REF!
Name 山地防災ヘルパー: #REF!
Name 山地防災ヘルパー: #REF!
Name 山地防災ヘルパー: #REF!
Name 山地防災ヘルパー: #REF!
Name 山地防災ヘルパー: #REF!
Name 山地防災ヘルパー: #REF!
Name 山地防災ヘルパー: #REF!
Name 山地防災ヘルパー: #REF!
Name 施工実績1: #REF!
Name 施工実績1: #REF!
Name 施工実績1: #REF!
Name 施工実績1: #REF!
Name 施工実績1: #REF!
Name 施工実績1: #REF!
Name 施工実績1: #REF!
Name 施工実績1: #REF!
Name 施工実績2: #REF!
Name 施工実績2: #REF!
Name 施工実績2: #REF!
Name 施工実績2: #REF!

Sheet 別記様式第0号
A1: =+H11 -> 0 | B1: =+H15 -> 知事 | C1: =+M15 -> 0
A3: 別記様式第0号：技術資料の一括提出申請書
B6: 茨城県○○土木（工事）事務所長 | K6: 殿
C9: 住所 | G9: ：
C11: 商号又は名称 | G11: ：
C13: 代表者氏名 | G13: ：
C15: 業者番号(単体) | G15: ： | H15: 知事 | J15: 特－ | P15: 号 | V15: 大臣 | X15: 特－ | Z15: 17 | AA15: 12345 | AD15: 号
V16: 知事 | X16: 般－
B19: 下記工事に係る技術資料の一括提出について申請します。
J21: 記
C24: 入札公告日 | F24: ： | G24: 令和 年 月 日
A26: 工事① | C26: 工事番号 | F26: ：
C27: 工事名 | F27: ：
A29: 工事② | C29: 工事番号 | F29: ：
C30: 工事名 | F30: ：
A32: 工事③ | C32: 工事番号 | F32: ：
C33: 工事名 | F33: ：
A35: 工事④ | C35: 工事番号 | F35: ：
C36: 工事名 | F36: ：
A38: 工事⑤ | C38: 工事番号 | F38: ：
C39: 工事名 | F39: ：
A42: （注意事項）
A43: ・一括提出を希望する工事番号及び工事名をすべて記載すること。
A44: ・記載がない工事案件の審査に係る技術資料には使用できない。

Sheet （様式第1号）自己採点表及び評価点算定一覧表
C1: 様式第１号【一括審査】 | G1: 特別簡易型(Ⅱ) ・県内型 ①地域内拠点なし・登録基幹技能者あり・ＩＣＴ施工技術の活用なし
C2: 自己採点表
C3: 兼評価点算定資料一覧表
I4: 令和 年 月 日
F6: 商号又は名称：
C8: 下記工事について、総合評価事後審査方式に伴う技術資料を提出します。
C9: なお、内容については事実と相違ないことを誓約します。
C11: 工事名①：
C12: 工事名②：
C13: 工事名③：
C14: 工事名④：
C15: 工事名⑤：
C16: 工事場所： | E16: 一般国道△△号 ××市□□地内
C18: 評価項目 | F18: 評価基準 | H18: 配点 | I18: 評価点 | J18: 該当 （入力） | K18: 自己 評点 | L18: 提出様式 （該当頁）等
C19: 1 | F19: 「81点以上かつ工事件数５件以上」 | H19: =MAX(I19:I26) -> 4 | I19: =VLOOKUP($G$1,$Q$90:$AZ$122,2,FALSE) -> 4 | K19: =IF(J19="○",I19,"")
F20: 「81点以上」又は「80～81点未満の工事件数５件以上」 | I20: =VLOOKUP($G$1,$Q$90:$AZ$122,3,FALSE) -> 3.5 | K20: =IF(J20="○",I20,"")
F21: =IF($H$19=3,E131,IF($H$19=4,F131)) -> 「80～81点未満」又は「78～80点未満の工事件数5件以上」 | I21: =VLOOKUP($G$1,$Q$90:$AZ$122,4,FALSE) -> 3 | K21: =IF(J21="○",I21,"")
D22: 工事成績評定 | F22: =IF($H$19=3,E132,IF($H$19=4,F132)) -> 「78～80点未満」又は「76～78点未満の工事件数5件以上」 | I22: =VLOOKUP($G$1,$Q$90:$AZ$122,5,FALSE) -> 2.5 | K22: =IF(J22="○",I22,"") | L22: （対象工事 件）
D23: （対象業種： | E23: 土木一式工事 | F23: =IF($H$19=3,E133,IF($H$19=4,F133)) -> 「76～78点未満」又は「74～76点未満の工事件数5件以上」 | I23: =VLOOKUP($G$1,$Q$90:$AZ$122,6,FALSE) -> 2 | K23: =IF(J23="○",I23,"")
F24: =IF($H$19=3,E134,IF($H$19=4,F134)) -> 「74～76点未満」又は「72～74点未満の工事件数5件以上」 | I24: =VLOOKUP($G$1,$Q$90:$AZ$122,7,FALSE) -> 1.5 | K24: =IF(J24="○",I24,"")
F25: =IF($H$19=3,E135,IF($H$19=4,F135)) -> 「72～74点未満」又は「70～72点未満の工事件数5件以上」 | I25: =VLOOKUP($G$1,$Q$90:$AZ$122,8,FALSE) -> 1 | K25: =IF(J25="○",I25,"") | L25: 様式第2号
F26: 72点未満・対象なし | I26: 0 | K26: =IF(J26="○",I26,"") | L26: (P ～)
C27: 2 | D27: 企業の施工実績 | F27: 同種工事の実績有り | H27: =MAX(I27:I29) -> 1 | I27: =VLOOKUP($G$1,$Q$91:$AZ$123,9,FALSE) -> 1 | K27: =IF(J27="○",I27,"") | L27: 様式第3号
F28: ○○以上○○未満の○○工事の実績有り | I28: =VLOOKUP($G$1,$Q$91:$AZ$123,10,FALSE) -> 0.5 | K28: =IF(J28="○",I28,"")
F29: 上記以外 | I29: 0 | K29: =IF(J29="○",I29,"") | L29: (P ～)
C30: 3 | D30: 配置予定技術者の施工経験 | F30: 同種工事の経験有り | H30: =MAX(I30:I32) -> 1 | I30: =VLOOKUP($G$1,$Q$91:$AZ$123,11,FALSE) -> 1 | K30: =IF(J30="○",I30,"") | L30: 様式第4号
F31: 類似工事の経験有り | I31: =VLOOKUP($G$1,$Q$91:$AZ$123,12,FALSE) -> 0.5 | K31: =IF(J31="○",I31,"")
F32: 上記以外 | I32: 0 | K32: =IF(J32="○",I32,"") | L32: (P ～)
C33: 4 | D33: 配置予定技術者の保有資格 | F33: 1級土木施工管理技士または 1級建設機械施工技士の資格を有する | H33: =MAX(I33:I35) -> 0 | I33: =VLOOKUP($G$1,$Q$91:$AZ$123,13,FALSE) -> ― | K33: =IF(J33="○",I33,"") | L33: 競争参加資格確認資料
F34: 2級土木施工管理技士または 2級建設機械施工技士の資格を有する | I34: =VLOOKUP($G$1,$Q$91:$AZ$123,14,FALSE) -> ― | K34: =IF(J34="○",I34,"") | L34: 【(5)に記載】
F35: 上記以外 | I35: 0 | K35: =IF(J35="○",I35,"") | L35: (P ～)
C36: 5 | D36: 配置予定技術者の受賞実績 | F36: 知事表彰（特別賞除く）又は企業局長表彰の受賞実績有り | H36: =MAX(I36:I38) -> 1 | I36: =VLOOKUP($G$1,$Q$91:$AZ$123,15,FALSE) -> 1 | K36: =IF(J36="○",I36,"") | L36: 年度
F37: 事務所長表彰の受賞実績有り | I37: =VLOOKUP($G$1,$Q$91:$AZ$123,16,FALSE) -> 0.5 | K37: =IF(J37="○",I37,"") | L37: 区分
F38: 受賞実績無し | I38: 0 | K38: =IF(J38="○",I38,"") | L38: 転籍
C39: 6 | D39: ＩＣＴ施工技術の活用 | F39: 全ての施工プロセスで活用する（５プロセス） | H39: =MAX(I39:I42) -> 0 | I39: =VLOOKUP($G$1,$Q$91:$AZ$123,17,FALSE) -> ― | K39: =IF(J39="○",I39,"")
F40: 一部の施工プロセスで活用する（４プロセス） | I40: =VLOOKUP($G$1,$Q$91:$AZ$123,18,FALSE) -> ―
F41: 一部の施工プロセスで活用する（１～３プロセス） | I41: =VLOOKUP($G$1,$Q$91:$AZ$123,19,FALSE) -> ― | K41: =IF(J41="○",I41,"") | L41: 様式第18号
F42: 活用なし | I42: 0 | K42: =IF(J42="○",I42,"") | L42: (P ～)
C43: 7 | D43: 災害協定に基づく地域貢献の実績 | F43: 工事箇所の存する市町村における夜間・休日の 地域貢献の実績有り | H43: =MAX(I43:I47) -> 3 | I43: =VLOOKUP($G$1,$Q$91:$AZ$123,20,FALSE) -> 3 | K43: =IF(J43="○",I43,"") | L43: 様式第6号 （P ～）
F44: 工事箇所の存する市町村における地域貢献の実績有り | I44: =VLOOKUP($G$1,$Q$91:$AZ$123,21,FALSE) -> 2 | K44: =IF(J44="○",I44,"")
...

Sheet 様式第2号
A1: 様式第2号（評価項目算定用）【一括審査】
A3: 工 事 成 績 評 定 評 価 対 象 工 事 資 料
B5: 工事名①： | C5: =別記様式第0号!G27 -> 0
B6: 工事名②： | C6: =別記様式第0号!G30 -> 0
B7: 工事名③： | C7: =別記様式第0号!G33 -> 0
B8: 工事名④： | C8: =別記様式第0号!G36 -> 0
B9: 工事名⑤： | C9: =別記様式第0号!G39 -> 0 | H9: 商号又は名称： | I9: =別記様式第0号!H11 -> 0
B11: 発注業種： | H11: 業者番号(単体)： | I11: =別記様式第0号!H15 -> 知事 | J11: =別記様式第0号!J15 -> 特－ | K11: =別記様式第0号!M15 -> 0 | L11: =別記様式第0号!P15 -> 号
A13: No | B13: 発注者名 | C13: 評価対象工事の 工事番号 | D13: 評価対象工事の名称 | E13: 工事場所 | F13: 受注金額（円） | G13: 工事期間 | H13: 業種 | I13: 工事 成績 | J13: 受注形態 | K13: 共同企業体による受注の場合の受注者名 | L13: 共同企業体による受注の場合の業者番号 （経常JVのみ）
A14: 1 | C14: 第 - - - - 号 | F14: ( ) | G14: R . . ～R . .
F15: ( )
F16: ( )
F17: ( )
F18: ( )
F19: ( )
F20: ( )
F21: ( )
F22: ( )
F23: ( )
F24: ( )
E25: 対象工事件数 | F25: =COUNT(A14:A24) -> 1 | G25: 工事成績評定点の合計 | I25: =SUM(I14:I24) -> 0 | J25: 平均値 | K25: =ROUND(I25/F25,1) -> 0
A26: (注) | K26: ↑小数第2位四捨五入
A27: １ 評価対象となるすべての工事について記載すること。
A28: （評価対象：直近の過去５ヶ年度(R3.4.1～R8.3.31)に竣工した茨城県土木部発注の１千万円以上の工事のうち、当該工事の発注業種と同一業種の工事 ※農林水産部、企業局
B29: (○○水道事務所含む)発注工事は対象外）
A30: ２ 当該評価項目について実績を有しない場合は、本書の提出を要しない。
A31: ３ 受注金額の（ ）は、共同企業体の場合の全体額を記入すること。
A32: ４ 受注形態は、単体又は○○・□□ＪＶ（出資比率○○％）と記載すること。
A33: ５ 共同企業体にあっては、すべての構成員の施工実績をそれぞれ記載すること。
A34: ６ 共同企業体としての実績は、出資比率が２０％以上のものに限る。
J38: 1 | K38: 土木一式工事
J39: 2 | K39: 建築一式工事
J40: 3 | K40: 大工工事
J41: 4 | K41: 左官工事
J42: 5 | K42: とび･土工･ｺﾝｸﾘｰﾄ工事
J43: 6 | K43: 石工事
J44: 7 | K44: 屋根工事
J45: 8 | K45: 電気工事
J46: 9 | K46: 管工事
J47: 10 | K47: ﾀｲﾙ･れんが・ﾌﾞﾛｯｸ工事
...

Sheet 様式第3号
A1: 様式第３号（評価項目算定用）【一括審査】
A3: 施 工 実 績 評 価 資 料
B5: 工事名①： | F5: =別記様式第0号!G27 -> 0
B6: 工事名②： | F6: =別記様式第0号!G30 -> 0
B7: 工事名③： | F7: =別記様式第0号!G33 -> 0
B8: 工事名④： | F8: =別記様式第0号!G36 -> 0
B9: 工事名⑤： | F9: =別記様式第0号!G39 -> 0
P11: 商号又は名称： | V11: =別記様式第0号!H11 -> 0
A13: 工 事 概 要 等 | C13: 発注者名
C15: 工 事 名
C17: 工事箇所
C19: 受注金額 | H19: 円（ 円）
C21: 工 期 | H21: 令和 年 月 日 ～ 令和 年 月 日
C23: 受注形態
C25: 工事概要
H26: （記載例）
H28: ・管推進工
H30: 工事延長 Ｌ＝○○○．○ｍ
H32: 管推進工（φ○○○㎜） Ｌ＝○○○．○ｍ（○スパン）
H34: マンホール設置工（φ○○○㎜） ○ 箇所
C40: コリンズ登録の有無 | H40: ・有（コリンズ登録番号） ・無
A42: （注）
A43: １ | B43: 記載する同種・類似工事の実績の件数は１件でよい。
A44: ２ | B44: 当該評価項目について実績を有しない場合は、本書の提出を要しない。
A45: ３ | B45: 受注金額の（ ）は、共同企業体の場合の全体額を記入すること。
A46: ４ | B46: 受注形態は、単体又は○○・□□ＪＶ（出資比率○○％）と記載すること。
A47: ５ | B47: 共同企業体としての実績は、出資比率が２０％以上のものに限る。
A48: ６ | B48: 工事概要は、評価基準に該当する工事であることが確認できるように記載すること。
A49: ７ | B49: 当該工事の内容を証明できるもの（竣工時工事カルテ、契約書、図面の写し等）を添付すること。

Sheet 様式第4号
A1: 様式第４号（評価項目算定用）【一括審査】
A3: 配 置 予 定 技 術 者 評 価 資 料
B5: 工事名①： | F5: =別記様式第0号!G27 -> 0
B6: 工事名②： | F6: =別記様式第0号!G30 -> 0
B7: 工事名③： | F7: =別記様式第0号!G33 -> 0
B8: 工事名④： | F8: =別記様式第0号!G36 -> 0
B9: 工事名⑤： | F9: =別記様式第0号!G39 -> 0
P11: 商号又は名称： | V11: =別記様式第0号!H11 -> 0
A13: 区 分 | J13: 主任技術者 監理技術者 | Q13: 氏名 | AB13: 年齢 | AH13: 歳
A16: 所 属 会 社 | T16: 建設業許可番号 | AD16: －
A18: 監理技術者資格者証番号 | T18: 取得年月日 | Z18: 年 月 日
A19: 監理技術者講習修了証番号 | T19: 修了年月日 | Z19: 年 月 日
A20: その他の資格 | K20: （資格の名称） | T20: 取得年月日 | Z20: 年 月 日
A21: 工事経験 | C21: 発注者名
C22: 工事
C23: 工事箇所
C24: 受注金額
C25: 工期 | K25: 令和 年 月 日 ～ 令和 年 月 日
C26: 従事役職
C27: 工事概要
C33: コリンズ登録の有無 | K33: ・有（コリンズ登録番号） ・無
A35: 申請時における他工事の 従事状況等 | C35: 発注者名
C36: 工事名
C37: 工事箇所
C38: 工期 | K38: 令和 年 月 日 ～ 令和 年 月 日
C39: 従事役職
C40: 本工事と重複する 場合の対応措置
C45: コリンズ登録の有無 | K45: ・有（コリンズ登録番号） ・無
A46: 注）
A47: （共通）
A48: １ | B48: 記載する同種・類似工事の実績の件数は１件でよい。
A49: ２ | B49: 当該評価項目について実績を有しない場合は、本書の提出を要しない。
A50: ３ | B50: 本工事に主任技術者又は監理技術者（特例監理技術者、又は専任特例の場合の監理技術者
B51: 含む）として配置する予定の技術者（以下「技術者」という。）１名について作成すること。
A52: ４ | B52: 実際の工事の施工にあたって、種々の状況からやむを得ないものとして発注者が承認した
B53: 場合のほかは、本書に記載した技術者以外の者への変更は認めない。
A54: （資格について）
A55: ５ | B55: 監理技術者（特例監理技術者、又は専任特例の場合の監理技術者含む）にあっては、監理技術
B56: 者資格者証及び監理技術者講習終了証の写しを添付すること。
B57: 【また（資格の名称）の資格認定証明書の写しを添付すること。】（必要がある場合のみ記載する。）
...

Sheet 様式第6号
A1: 様式第６号（評価項目算定用）【一括審査】
A3: 災 害 協 定 に 基 づ く 地 域 貢 献 実 績 評 価 資 料
A4: （県土木部が管理する公共施設に関する地域貢献（災害活動）実績）
B6: 工事名①： | F6: =別記様式第0号!G27 -> 0
B7: 工事名②： | F7: =別記様式第0号!G30 -> 0
B8: 工事名③： | F8: =別記様式第0号!G33 -> 0
B9: 工事名④： | F9: =別記様式第0号!G36 -> 0
B10: 工事名⑤： | F10: =別記様式第0号!G39 -> 0
Q12: 商号又は名称： | W12: =別記様式第0号!H11 -> 0
A14: 災害時の地域貢献の概要 | C14: 災害協定の名称
C15: 協定締結者 | K15: 茨城県 （※県担当課所：○○課・○○土木（工事）事務所） ○○協会
C17: 地域貢献の種類 （災害名等も記載） | K17: （例：令和元年東日本台風に基づく応急復旧工事、 令和 年 月 日 時 分発生地震（震度５）、大雨・洪水警報、暴風雪警報に基づく県道○○線パトロール）
C20: 地域貢献の 実施年月日 及び時間 | K20: （例：令和 年 月 日 時 分～ 時 分頃）
C23: 地域貢献の場所 | K23: ○○市町村 ○○地内 ほか
C25: 地域貢献の事実を確認できる貢献の相手方又は第三者等の住所・氏名・電話番号
C28: 地域貢献の実施内容
A31: 土木部防災訓練等の参加 | K31: 令和７年５月に実施した土木部防災訓練に参加している。
A33: （注）
A34: １ | B34: 土木部防災訓練等（土木部が認める災害協定に基づく連絡体制により実施した情報伝達訓練）に参加していない
B35: 場合は、本書の提出を要しない。
A36: ２ | B36: 茨城県と締結している県土木部が管理する公共施設に関する災害時の応急対策協定による要請に基づき行った
B37: 災害時地域貢献（災害活動）の実績及び土木部防災訓練等（情報伝達確認含む）について記載すること。
B38: なお、記載する実績は１件でよい。
A39: ３ | B39: 地域貢献の実績は、入札日の属する年度を除く直近５ケ年度において災害時の応急対策協定の要請により実施した
B40: 被害状況の調査（パトロール）・損壊箇所等の緊急措置・応急復旧工事・建設資材等の調達及輸送等の活動で、
B41: 活動に要した費用の支払いの有無に係わらず、協定に基づく活動実績について評価の対象とする。
A42: ４ | B42: 評価対象期間に地域貢献の実績があったとしても、入札公告日直近に実施した土木部防災訓練等（情報伝達確認
B43: 含む）に参加していない場合は評価対象外とする。
A44: ５ | B44: 災害協定を締結していることを証明する書類（協定書の写し）を添付すること。
A45: ６ | B45: 災害時地域貢献の実績内容を確認できるように記載すること。また、実績を証明する書類を添付すること。
B46: （協定の協力要請に基づく実績であることを証明する書類で、協定締結団体等の活動証明書など）
A47: ７ | B47: 地域貢献の種類については、災害名等も記載すること。
A48: ８ | B48: 地域貢献の時間については、概ねの作業時間を記載すること。
A49: ９ | B49: 評価基準「工事箇所に存する市町村における夜間・休日の実績有り」の評価において、夜間（１７時～８時）の時間帯）
B50: の実績とそれ以外の実績の時間がまたがる場合については、夜間の実績が１時間以上ある場合に評価する。
B51: また、実績を証明する書類を添付すること。（発注者に提出した書類の写しなど）
A52: 10 | B52: 地域貢献の事実を確認できる相手方の電話番号については、記載可能な場合に記載すること。
A53: 11 | B53: 本書記載事項に虚偽のあった場合には、指名停止措置等を行うことがある。

Sheet 様式第7号
A1: 様式第７号（評価項目算定用）【一括審査】
A3: 地 域 活 動（ボランティア）実 績 評 価 資 料
B5: 工事名①： | F5: =別記様式第0号!G27 -> 0
B6: 工事名②： | F6: =別記様式第0号!G30 -> 0
B7: 工事名③： | F7: =別記様式第0号!G33 -> 0
B8: 工事名④： | F8: =別記様式第0号!G36 -> 0
B9: 工事名⑤： | F9: =別記様式第0号!G39 -> 0
P11: 商号又は名称： | V11: =別記様式第0号!H11 -> 0
A13: 令和５年度の実績 | C13: 活動の種類
C15: 活動の期間 | K15: 令和 年 月 日 ～ 令和 年 月 日
C17: 活動の事実を確認できる活動の相手方又は地域の代表者等の住所・氏名・電話番号
C25: 活動の内容 （具体的に）
A28: 令和６年度の実績 | C28: 活動の種類
C30: 活動の期間 | K30: 令和 年 月 日 ～ 令和 年 月 日
C32: 活動の事実を確認できる活動の相手方又は地域の代表者等の住所・氏名・電話番号
C40: 活動の内容 （具体的に）
A43: （注）
A44: １ | B44: 地域活動の実績は、令和６年度及び令和７年度について１件ずつ記載すること。両年度のいずれにも実績が
B45: ある場合にのみ評価の対象とする。ただし、両年度の活動内容は共通のもので無くともよい。
A46: ２ | B46: 当該評価項目について実績を有しない場合は、本書の提出を要しない。
A47: ３ | B47: 企業として取り組み、対価を得ていない地域活動（ボランティア）について、実績内容を確認できるように
B48: 記載すること。
A49: ４ | B49: 評価の対象とする地域活動は、茨城県が管理する社会資本（道路、河川、公共施設等）の維持管理に関する
B50: ボランティア活動（除草、清掃、植栽等）で、第三者の客観的な証明書類（協定書、感謝状、新聞記事、
B51: 主催者の参加証明等）で確認できるものに限る。また、活動を証明する書類を添付すること。
A52: ５ | B52: 活動の事実を確認できる相手方等の電話番号については、記載可能な場合に記載すること。
A53: ６ | B53: 本書記載事項に虚偽のあった場合には、指名停止措置等を行うことがある。

Sheet 様式第9号
A1: 様式第９号（評価項目算定用）【一括審査】
A3: 県 内 下 請 負 の 選 定 評 価 資 料
B5: 工事名①： | F5: =別記様式第0号!G27 -> 0
B6: 工事名②： | F6: =別記様式第0号!G30 -> 0
B7: 工事名③： | F7: =別記様式第0号!G33 -> 0
B8: 工事名④： | F8: =別記様式第0号!G36 -> 0
B9: 工事名⑤： | F9: =別記様式第0号!G39 -> 0
P11: 商号又は名称： | V11: =別記様式第0号!H11 -> 0
A13: 評価項目 | J13: 回 答
A15: 県内下請負の選定計画 | J15: ・ 県内建設業者との契約予定金額の合計が○○万円以上 ・ 県内建設業者との契約予定金額の合計が△△万円以上○○万円未満 ・ 上記以外
A29: （注）
A30: １ | B30: 評価の対象とする下請計画は県内に建設業法に基づく主たる営業所を有する業者との一次下請契約とし、
B31: 回答欄で該当するものを○で囲むこと。
A32: ２ | B32: 本工事の落札契約後において、下請計画の履行確認を行う。履行確認は、下請契約書、下請負人通知
B33: 及び施工体制台帳等により行う。
A34: ３ | B34: 評価された下請計画が履行されない場合には、工事成績評定点の減点、指名停止の措置を講じる。

Sheet 様式第9号（橋梁上部工事）
A1: 様式第９号（評価項目算定用）（橋梁上部工事）【一括審査】
A3: 県 内 下 請 負 の 選 定 評 価 資 料
B5: 工事名①： | F5: =別記様式第0号!G27 -> 0
B6: 工事名②： | F6: =別記様式第0号!G30 -> 0
B7: 工事名③： | F7: =別記様式第0号!G33 -> 0
B8: 工事名④： | F8: =別記様式第0号!G36 -> 0
B9: 工事名⑤： | F9: =別記様式第0号!G39 -> 0
P11: 商号又は名称： | V11: =別記様式第0号!H11 -> 0
A13: 評価項目 | J13: 回 答
A15: 地域内拠点の有無及び 県内下請負の選定計画 | J15: ・ 茨城県内に本店を有する。又は茨城県内に支店等（営業所を含む） を有し、かつ県内建設業者との契約予定金額の合計が○○万円以上 ・ 茨城県内に支店等（営業所を含む）を有し、かつ県内建設業者との契約 予定金額の合計が△△万円以上○○万円未満。又は県内建設業者と の契約予定金額の合計が○○万円以上。 ・ 茨城県内に支店等（営業所を含む）を有する。又は県内建設業者との 契約予定金額の合計が△△万円以上○○万円未満。 ・ 上記以外
A29: （注）
A30: １ | B30: 評価の対象とする下請計画は県内に建設業法に基づく主たる営業所を有する業者との一次下請契約とし、
B31: 回答欄で該当するものを○で囲むこと。
A32: ２ | B32: 本工事の落札契約後において、下請計画の履行確認を行う。履行確認は、下請契約書、下請負人通知
B33: 及び施工体制台帳等により行う。
A34: ３ | B34: 評価された下請計画が履行されない場合には、工事成績評定点の減点、指名停止の措置を講じる。

Sheet 様式第14号
A1: 様式第１４号（評価項目算定用）【一括審査】
A3: 企 業 の 新 規 雇 用 実 績
B5: 工事名①： | F5: =別記様式第0号!G27 -> 0
B6: 工事名②： | F6: =別記様式第0号!G30 -> 0
B7: 工事名③： | F7: =別記様式第0号!G33 -> 0
B8: 工事名④： | F8: =別記様式第0号!G36 -> 0
B9: 工事名⑤： | F9: =別記様式第0号!G39 -> 0
P11: 商号又は名称： | V11: =別記様式第0号!H11 -> 0
A13: 氏名（被雇用者） | K13: ○○ ○○
A15: 雇用開始年月日 （雇 用 期 間） | K15: 令和 年 月 日～ （入札公告日現在 〇年〇カ月雇用）
A17: 雇用者住所・氏名 | K17: ○○県○○市○○町１－１ (株)○○建設
A19: 生 年 月 日 | K19: 平成○年○月○日
A21: 入札公告日時点の年齢 | K21: ○○歳
A23: 雇用前の勤務先 | K23: 同一企業または資本及び人事面で関連企業ではない
A26: （注）
A27: １ | B27: 評価対象となる新規雇用の実績が無い場合は、本書の提出を要しない。
A28: ２ | B28: 評価の対象は、令和６年４月１日以降に正規雇用（原則、企業で定める就業規則の所定労働
B29: 時間がフルタイムで期間の定めのない雇用契約)した従業員（被雇用者）を入札公告日まで
B30: ３か月以上継続雇用している場合とする。
B31: ※パート・アルバイト、派遣社員、契約社員、臨時社員、特定技能外国人（技能実習・特定技
B32: 能1号）等は評価対象外
A33: ３ | B33: 評価の対象とする従業員は、入札公告日時点で３５歳未満とし、雇用後の職種や勤務地・居住
B34: 地の限定はしないが、直接的かつ恒常的な雇用関係がある者とする。（事務や経理も可）
A35: ４ | B35: 新規雇用した従業員の雇用前（過去）の勤務先が、入札参加者（共同企業体の場合は代表構成員又は
B36: 構成員のいずれか）と同一企業又は、資本もしくは人事面において関連がある企業の場合は評価対
B37: 象外とする。
A38: ５ | B38: 受注形態が特定建設工事共同企業体の場合は、代表構成員又は構成員のいずれかの実績で良い。
A39: ６ | B39: 評価対象となる従業員（被雇用者）について以下すべての証明書類を添付すること
B40: 【添付資料】
C41: ①従業員の雇用年月日、入札公告日時点の年齢がわかる書類
D42: ・雇用保険被保険者資格取得等確認通知書の写し
D43: （雇用日は「被保険者となった年月日」とする）
C44: ②正規雇用されていることがわかる書類
D45: ・雇用契約書、労働条件通知書の写しなど
C46: ③従業員を３ケ月以上継続雇用したことを証明できる書類
D47: ・賃金台帳、出勤簿の写しなど
A48: ７ | B48: 本書記載事項に虚偽のあった場合には、指名停止措置等を行うことがある。

Sheet 様式第15号
A1: 様式第１５号（評価項目算定用）【一括審査】
A3: 若 手 又 は 女 性 技 術 者 の 配 置
B5: 工事名①： | F5: =別記様式第0号!G27 -> 0
B6: 工事名②： | F6: =別記様式第0号!G30 -> 0
B7: 工事名③： | F7: =別記様式第0号!G33 -> 0
B8: 工事名④： | F8: =別記様式第0号!G36 -> 0
B9: 工事名⑤： | F9: =別記様式第0号!G39 -> 0
P11: 商号又は名称： | V11: =別記様式第0号!H11 -> 0
C13: 該当する項目の□にチェックを入れてください。
A15: 若手又は女性技術者の配置 | K15: 現場代理人 主任(監理)技術者 として配置する
A17: 若手又は女性技術者名 | K17: ○○ ○○
A19: 要 件 | K19: 若年者（３５歳未満） ・ 女性
A21: 生年月日 | K21: 年 月 日
A23: 入札公告日時点の年齢 | K23: 歳
A25: 主任技術者又は監理技術者の資格要件の有無 | K25: 有 ・ 無
A27: 保有資格要件の内容 | K27: （例）○○施工管理技士等 ※証明資料添付
A29: （注）
A30: １ | B30: 評価対象となる若手又は女性技術者を配置しない場合は、本書の提出を要しない。
A31: ２ | B31: 評価の対象は、当該工事に現場代理人又は主任（監理）技術者として若手又は女性技術者を配置する場合
B32: とする。なお、当該工事において現場代理人及び主任（監理）技術者を兼任する場合も評価の対象とするが、
B33: 他工事と兼務する場合は評価の対象外（製作工における兼務は除く）とする。
A34: ３ | B34: 評価の対象は、入札公告日時点で３５歳未満の若手技術者、又は女性技術者とする。また、元請け業者と
B35: 直接的かつ恒常的な雇用関係があり、入札公告日以前に３ケ月以上の雇用関係がある者とする。
A36: ４ | B36: 当該工事の業種区分に該当する主任（監理）技術者の資格要件を有する若手又は女性技術者を現場代理人
B37: として配置する場合は、保有資格要件の内容を記入のうえ、資格を有することを証明する資料を添付すること。
B38: 【添付資料】
B39: ・保有資格の合格証明書の写し、実務経験の証明書類 等
B40: なお、主任（監理）技術者の資格要件は、建設業法第7条第2号、同法第15条第2号に
B41: 規定する資格とし、入札公告日時点において資格を有する場合とする。
A42: ５ | B42: 本工事において配置予定している若手又は女性技術者を申請時点で１名に特定できない場合は、現場代理人
B43: 及び主任（監理）技術者について、複数（それぞれ３名まで）の者を配置予定の若手又は女性技術者とすること
B44: ができる。この場合、本書はすべての配置予定若手又は女性技術者について提出するものとし、若手又は女性
B45: 技術者の評価点については、最も低い評価を受けたものをもって算定する。なお、落札者は、落札者決定から
B46: 契約前までの間に１名を選択するものとする。
A47: ６ | B47: 本書を提出し工事を落札した者は、本書に基づき、現場代理人及び主任・監理技術者等選（改）任通知書を
B48: 提出すること。なお、やむを得ない事情により、現場代理人等（本書に記載した若手又は女性技術者）が変更
B49: になる場合は、評価を受けた若手又は女性技術者と同等の評価を得られる技術者を配置することができる。
B50: 【製作工と架設工（現場据付工）の工種がある場合は、それぞれ別の技術者（評価を受けた若手又は女性
B51: 技術者と同等の評価を得られる技術者）を配置することができる。】
A52: ７ | B52: 本書どおりの履行がなされなかった場合には、工事成績評定点を減ずる措置を行う。

Sheet 様式第16-1号
A1: 様式第１６－１号（評価項目算定用）【一括審査】
A3: 登 録 基 幹 技 能 者 の 配 置
B5: 工事名①： | F5: =別記様式第0号!G27 -> 0
B6: 工事名②： | F6: =別記様式第0号!G30 -> 0
B7: 工事名③： | F7: =別記様式第0号!G33 -> 0
B8: 工事名④： | F8: =別記様式第0号!G36 -> 0
B9: 工事名⑤： | F9: =別記様式第0号!G39 -> 0
P11: 商号又は名称： | V11: =別記様式第0号!H11 -> 0
C14: 若手技術者の配置 | M14: 配置する
C16: 登録基幹技能者講習の 職種 | M16: 登録○○基幹技能者 （又は登録○○基幹技能者）
B24: （注）
B25: １ | C25: 登録基幹技能者を配置しない場合は、本書の提出を要しない。
B26: ２ | C26: 当該工事で指定した職種の登録基幹技能者を配置する場合に評価する。
C27: その他の登録基幹技能者については、評価の対象としない。
B28: ３ | C28: 本書には、当該工事で指定した職種の登録基幹技能者が複数の場合は、職種を複数記載する
C29: ことを可能とする。本書を提出し工事を落札した者は、そのうち１職種以上の登録基幹技能者
C30: を配置すること。（当該工事で指定した職種以外の登録基幹技能者が記載されている場合は、
C31: 評価の対象としない。）
B32: ４ | C32: 配置する登録基幹技能者については、元請業者又は下請業者が雇用する者で、元請けの監理
C33: （主任）技術者を除く者とする。
B34: ５ | C34: 本書を提出し工事を落札した者は、指定した職種の登録基幹技能者が従事する主要な工種
C35: については、全てに従事させなければならない。なお、主要な工種については、監督員と
C36: 協議の上決定すること。
B37: ６ | C37: 発注者から登録基幹技能者の従事状況の立会を求められた場合には、受注者はこれに応じ
C38: なければならない。また、受注者は工事竣工日までに様式１６－２号登録基幹技能者配置
C39: 実績報告書を提出すること。
B40: ７ | C40: やむを得ない事情（下請業者の変更等）がある場合は、発注者と協議のうえ、当該工事で指定した
C41: 登録基幹技能者に変更することができる。ただし、上記５の条件を満たすこと。
B42: ８ | C42: 本書どおりの履行がなされなかった場合には、工事成績評定点を減ずる措置を行う。

Sheet 様式第17号
A1: 様式第１７号（評価項目算定用）【一括審査】
A3: 災 害 時 の 基 礎 的 事 業 継 続 力 認 定 資 料
A4: （国土交通省関東地方整備局長から認定を受けた場合のみ対象）
B6: 工事名①： | F6: =別記様式第0号!G27 -> 0
B7: 工事名②： | F7: =別記様式第0号!G30 -> 0
B8: 工事名③： | F8: =別記様式第0号!G33 -> 0
B9: 工事名④： | F9: =別記様式第0号!G36 -> 0
B10: 工事名⑤： | F10: =別記様式第0号!G39 -> 0
P12: 商号又は名称： | V12: =別記様式第0号!H11 -> 0
A14: 認定の内容 | C14: 認定を受けた企業名
C16: 認 定 番 号
C18: 認 定 日 | M18: 令和 年 月 日
C20: 認 定 期 間 | M20: 令和 年 月 日 ～ 令和 年 月 日
A23: （注）
A24: １ | B24: 当該評価項目について認定を受けてない場合は、本書の提出を要しない。
A26: ２ | B26: 国土交通省関東地方整備局長から受けた災害時の基礎的事業継続力認定について、記載すること。
A28: ３ | B28: 国土交通省関東地方整備局長から受けた認定証の写しを添付すること。
A30: ４ | B30: 当該工事の入札公告日が認定期間である場合に評価対象とする。
A32: ５ | B32: 受注形態が特定建設工事協同企業体の場合は、代表構成員又は構成員のいずれかが認定を
B33: 受けていれば評価対象とする。

Sheet 様式第18号
A1: 様式第１８号（評価項目算定用）【一括審査】
A3: Ｉ Ｃ Ｔ 施 工 技 術 の 活 用 計 画 書
B5: 工事名①： | F5: =別記様式第0号!G27 -> 0
B6: 工事名②： | F6: =別記様式第0号!G30 -> 0
B7: 工事名③： | F7: =別記様式第0号!G33 -> 0
B8: 工事名④： | F8: =別記様式第0号!G36 -> 0
B9: 工事名⑤： | F9: =別記様式第0号!G39 -> 0
P11: 商号又は名称： | V11: =別記様式第0号!H11 -> 0
A13: 施工プロセス | N13: ＩＣＴ施工技術の内容
C15: (1)３次元起工測量 | N15: 以下から選択して３次元起工測量を実施 ※ア･オ･カはＩＣＴ土工・作業土工（床掘）のみ対象 ア 空中写真測量（無人航空機）を用いた起工測量 イ 地上型レーザースキャナーを用いた起工測量 ウ トータルステーション等光波方式を用いた起工測量 エ トータルステーション（ノンプリズム方式）を用いた起工測量 オ ＲＴＫ－ＧＮＳＳを用いた起工測量 カ 無人航空機搭載型レーザースキャナーを用いた起工測量 キ 地上移動体搭載型レーザースキャナーを用いた起工測量 ク その他の３次元計測技術を用いた起工測量
C22: (2)３次元設計データ作成 | N22: ３次元起工測量データと設計図書の図面データを用いて、３次元設計データを作成
C24: (3)ＩＣＴ建設機械による施工 | N24: ３次元設計データを用いて、以下に示すＩＣＴ建設機械を作業に応じて 選択して施工を実施する。 ア ３次元ＭＣまたは３次元ＭＧブルドーザ （３次元ＭＧ建機はＩＣＴ土工・作業土工（床掘）のみ対象） イ ３次元ＭＣまたは３次元ＭＧバックホウ （ＩＣＴ土工・作業土工（床掘）のみ対象） ウ ３次元ＭＣモーターグレーダ （ＩＣＴ舗装工のみ対象） ※ＭＣ：「マシンコントロール」の略称、ＭＧ：「マシンガイダンス」の略称
C29: (4)３次元出来形管理等の施工管理 | N29: ＩＣＴ建設機械による施工において、以下に示す方法で、出来形管理及び品質管理を実施 ア 出来形管理 ・空中写真測量（無人航空機）を用いた出来形管理 ・ＲＴＫ－ＧＮＳＳを用いた出来形管理 ・無人航空機搭載型レーザースキャナーを用いた出来形管理 ・地上型レーザースキャナーを用いた出来形管理 ・トータルステーション等光波方式を用いた出来形管理 ・トータルステーション（ノンプリズム方式）を用いた出来形管理 ・地上移動体搭載型レーザースキャナーを用いた出来形管理 ・その他の３次元計測技術を用いた出来形管理 イ 品質管理 ※ＩＣＴ土工・作業土工（床掘）のみ対象 ・ＴＳ・ＧＮＳＳを用いた締固め回数管理による品質管理
C39: (5)３次元データの納品 | N39: ３次元施工管理データを、工事完成図書として電子納品する。
A42: ※ＩＣＴ施工技術の活用を計画する全ての施工プロセスの左欄に○を記載して下さい。
A43: （注）
A44: １ | B44: 当該工事においてＩＣＴ施工技術の活用を計画しない場合は、本書の提出を要しない。
A45: ２ | B45: ＩＣＴ活用促進工事（土工・作業土工（床掘））又はＩＣＴ活用促進工事（舗装工）のいずれかで、ＩＣＴ施工技術を
B46: 活用する場合に評価の対象とする。
A47: ３ | B47: 「全ての施工プロセスで活用する」計画として評価を受けた場合に、当該工事の着手前に、発注者から別途工事等で
B48: 実施した３次元測量データの提供があった場合は、３次元起工測量を除く、他の全ての施工プロセス（上記（２）～（５））
B49: において、ＩＣＴ施工技術を活用すること。
A50: ４ | B50: 「一部の施工プロセスで活用する」計画として評価を受けた場合に、計画した施工プロセスでのＩＣＴ施工技術の活用が
B51: 困難な場合、受発注者協議のうえ、活用する施工プロセスの変更を可能とする。 ただし、いずれかの施工プロセスで
B52: ＩＣＴ施工技術を活用すること。
A53: ５ | B53: 落札決定後に受発注者間で協議を行い活用する施工技術を決定すること。なお、協議結果に基づき、当工事に
B54: おいてＩＣＴ施工技術を活用した場合は、評価の可否に係わらず設計変更の対象とする。
A55: ６ | B55: 一部の施工プロセスで活用する場合の組み合わせの例［(1)＋(2)、(1)＋(2)＋(3)、 (1)＋(2)＋(4)＋(5)］
A56: ７ | B56: ＩＣＴ施工技術の活用する規模が極めて小さい場合（一部の施工数量のみ等）は評価の対象外とする。
A57: ８ | B57: 受注者の責めにより、本書どおりの履行がなされなかった場合には、工事成績評定点を減ずる措置を行う。
B58: ただし、(注)４及び(注)５に該当する場合はこの限りではない。

Sheet 様式第20号
A1: 様式第２０号（評価項目算定用）【一括審査】
A3: 防 疫 協 定 に 基 づ く 防 疫 業 務 実 績 評 価 資 料
B6: 工事名①： | F6: =別記様式第0号!G27 -> 0
B7: 工事名②： | F7: =別記様式第0号!G30 -> 0
B8: 工事名③： | F8: =別記様式第0号!G33 -> 0
B9: 工事名④： | F9: =別記様式第0号!G36 -> 0
B10: 工事名⑤： | F10: =別記様式第0号!G39 -> 0
Q12: 商号又は名称： | W12: =別記様式第0号!H11 -> 0
A14: 防疫業務の概要 | C14: 防疫協定の名称 | K14: 特定家畜伝染病発生時の防疫業務に関する協定書
C15: 協定締結者 | K15: 茨城県畜産課 ○○協会
C17: 防疫作業の種類 | K17: （例：高病原性鳥インフルエンザ等 ）
C20: 防疫作業の 実施年月日 | K20: （例：令和 年 月 日 ～ 令和 年 月 日）
C23: 地域貢献の場所 | K23: ○○市町村 ○○地内 ほか
C25: 防疫作業の事実を確認できる証明書類 | K25: 茨城県畜産課が発行する災害活動証明書
C28: 防疫作業の実施内容 （具体的に） | K28: ○○農場で確認された高病原性鳥インフルエンザの防疫措置作業
A32: （注）
A33: １ | B33: 茨城県と締結している防疫協定に基づき行った防疫業務の実績について記載すること。なお、記載する実績は
B34: １件でよい。
A36: ２ | B36: 防疫業務の実績は、入札日の属する年度を除く直近の過去２ヶ年度のいずれかの防疫業務の実績とし、協定に基づく
B37: 活動実績について評価の対象とする。
A39: ３ | B39: 防疫業務の実績内容を確認できるように記載すること。また、実績を証明する書類を添付すること。
B40: （協定の協力要請に基づく実績であることを証明する書類で、協定締結団体等の活動証明書など）
A42: ４ | B42: 本書記載事項に虚偽のあった場合には、指名停止措置等を行うことがある。
A44: ５ | B44: 受注形態が特定建設工事協同企業体の場合は、代表構成員又は構成員のいずれかの活動証明書が
B45: あればよい。
