Workbook
Name イベント名: #REF!
Name イベント名: #REF!
Name イベント名: #REF!
Name イベント名: #REF!
Name イベント名: #REF!
Name イベント名: #REF!
Name イベント名: #REF!
Name イベント名: #REF!
Name 下請次数の制限: #REF!
Name 下請次数の制限: #REF!
Name 下請次数の制限: #REF!
Name 下請次数の制限: #REF!
Name 下請次数の制限: #REF!
Name 下請次数の制限: #REF!
Name 下請次数の制限: #REF!
Name 下請次数の制限: #REF!
Name 基幹技能者: #REF!
Name 基幹技能者: #REF!
Name 基幹技能者: #REF!
Name 基幹技能者: #REF!
Name 基幹技能者: #REF!
Name 基幹技能者: #REF!
Name 基幹技能者: #REF!
Name 基幹技能者: #REF!
Name 建設業許可1: #REF!
Name 建設業許可1: #REF!
Name 建設業許可1: #REF!
Name 建設業許可1: #REF!
Name 建設業許可1: #REF!
Name 建設業許可1: #REF!
Name 建設業許可1: #REF!
Name 建設業許可1: #REF!
Name 建設業許可2: #REF!
Name 建設業許可2: #REF!
Name 建設業許可2: #REF!
Name 建設業許可2: #REF!
Name 建設業許可2: #REF!
Name 建設業許可2: #REF!
Name 建設業許可2: #REF!
Name 建設業許可2: #REF!
Name 山地防災ヘルパー: #REF!
Name 山地防災ヘルパー: #REF!
Name 山地防災ヘルパー: #REF!
Name 山地防災ヘルパー: #REF!
Name 山地防災ヘルパー: #REF!
Name 山地防災ヘルパー: #REF!
Name 山地防災ヘルパー: #REF!
Name 山地防災ヘルパー: #REF!
Name 施工実績1: #REF!
Name 施工実績1: #REF!
Name 施工実績1: #REF!
Name 施工実績1: #REF!
Name 施工実績1: #REF!
Name 施工実績1: #REF!
Name 施工実績1: #REF!
Name 施工実績1: #REF!
Name 施工実績2: #REF!
Name 施工実績2: #REF!
Name 施工実績2: #REF!
Name 施工実績2: #REF!

Sheet 別記様式第0号
A1: =+H11 -> 0 | B1: =+H15 -> 知事 | C1: =+M15 -> 0
A3: 別記様式第0号：技術資料の一括提出申請書
B6: 茨城県○○土木（工事）事務所長 | K6: 殿
C9: 住所 | G9: ：
C11: 商号又は名称 | G11: ：
C13: 代表者氏名 | G13: ：
C15: 業者番号(単体) | G15: ： | H15: 知事 | J15: 特－ | P15: 号 | V15: 大臣 | X15: 特－ | Z15: 17 | AA15: 12345 | AD15: 号
V16: 知事 | X16: 般－
B19: 下記工事に係る技術資料の一括提出について申請します。
J21: 記
C24: 入札公告日 | F24: ： | G24: 令和 年 月 日
A26: 工事① | C26: 工事番号 | F26: ：
C27: 工事名 | F27: ：
A29: 工事② | C29: 工事番号 | F29: ：
C30: 工事名 | F30: ：
A32: 工事③ | C32: 工事番号 | F32: ：
C33: 工事名 | F33: ：
A35: 工事④ | C35: 工事番号 | F35: ：
C36: 工事名 | F36: ：
A38: 工事⑤ | C38: 工事番号 | F38: ：
C39: 工事名 | F39: ：
A42: （注意事項）
A43: ・一括提出を希望する工事番号及び工事名をすべて記載すること。
A44: ・記載がない工事案件の審査に係る技術資料には使用できない。

Sheet （様式第1号）自己採点表及び評価点算定一覧表
C1: 様式第１号【一括審査】 | G1: 特別簡易型(Ⅱ) ・県内型 ①地域内拠点なし・登録基幹技能者あり・ＩＣＴ施工技術の活用なし
C2: 自己採点表
C3: 兼評価点算定資料一覧表
I4: 令和 年 月 日
F6: 商号又は名称：
C8: 下記工事について、総合評価事後審査方式に伴う技術資料を提出します。
C9: なお、内容については事実と相違ないことを誓約します。
C11: 工事名①：
C12: 工事名②：
C13: 工事名③：
C14: 工事名④：
C15: 工事名⑤：
C16: 工事場所： | E16: 一般国道△△号 ××市□□地内
C18: 評価項目 | F18: 評価基準 | H18: 配点 | I18: 評価点 | J18: 該当 （入力） | K18: 自己 評点 | L18: 提出様式 （該当頁）等
C19: 1 | F19: 「81点以上かつ工事件数５件以上」 | H19: =MAX(I19:I26) -> 4 | I19: =VLOOKUP($G$1,$Q$90:$AZ$122,2,FALSE) -> 4 | K19: =IF(J19="○",I19,"")
F20: 「81点以上」又は「80～81点未満の工事件数５件以上」 | I20: =VLOOKUP($G$1,$Q$90:$AZ$122,3,FALSE) -> 3.5 | K20: =IF(J20="○",I20,"")
F21: =IF($H$19=3,E131,IF($H$19=4,F131)) -> 「80～81点未満」又は「78～80点未満の工事件数5件以上」 | I21: =VLOOKUP($G$1,$Q$90:$AZ$122,4,FALSE) -> 3 | K21: =IF(J21="○",I21,"")
D22: 工事成績評定 | F22: =IF($H$19=3,E132,IF($H$19=4,F132)) -> 「78～80点未満」又は「76～78点未満の工事件数5件以上」 | I22: =VLOOKUP($G$1,$Q$90:$AZ$122,5,FALSE) -> 2.5 | K22: =IF(J22="○",I22,"") | L22: （対象工事 件）
D23: （対象業種： | E23: 土木一式工事 | F23: =IF($H$19=3,E133,IF($H$19=4,F133)) -> 「76～78点未満」又は「74～76点未満の工事件数5件以上」 | I23: =VLOOKUP($G$1,$Q$90:$AZ$122,6,FALSE) -> 2 | K23: =IF(J23="○",I23,"")
F24: =IF($H$19=3,E134,IF($H$19=4,F134)) -> 「74～76点未満」又は「72～74点未満の工事件数5件以上」 | I24: =VLOOKUP($G$1,$Q$90:$AZ$122,7,FALSE) -> 1.5 | K24: =IF(J24="○",I24,"")
F25: =IF($H$19=3,E135,IF($H$19=4,F135)) -> 「72～74点未満」又は「70～72点未満の工事件数5件以上」 | I25: =VLOOKUP($G$1,$Q$90:$AZ$122,8,FALSE) -> 1 | K25: =IF(J25="○",I25,"") | L25: 様式第2号
F26: 72点未満・対象なし | I26: 0 | K26: =IF(J26="○",I26,"") | L26: (P ～)
C27: 2 | D27: 企業の施工実績 | F27: 同種工事の実績有り | H27: =MAX(I27:I29) -> 1 | I27: =VLOOKUP($G$1,$Q$91:$AZ$123,9,FALSE) -> 1 | K27: =IF(J27="○",I27,"") | L27: 様式第3号
F28: ○○以上○○未満の○○工事の実績有り | I28: =VLOOKUP($G$1,$Q$91:$AZ$123,10,FALSE) -> 0.5 | K28: =IF(J28="○",I28,"")
F29: 上記以外 | I29: 0 | K29: =IF(J29="○",I29,"") | L29: (P ～)
C30: 3 | D30: 配置予定技術者の施工経験 | F30: 同種工事の経験有り | H30: =MAX(I30:I32) -> 1 | I30: =VLOOKUP($G$1,$Q$91:$AZ$123,11,FALSE) -> 1 | K30: =IF(J30="○",I30,"") | L30: 様式第4号
F31: 類似工事の経験有り | I31: =VLOOKUP($G$1,$Q$91:$AZ$123,12,FALSE) -> 0.5 | K31: =IF(J31="○",I31,"")
F32: 上記以外 | I32: 0 | K32: =IF(J32="○",I32,"") | L32: (P ～)
C33: 4 | D33: 配置予定技術者の保有資格 | F33: 1級土木施工管理技士または 1級建設機械施工技士の資格を有する | H33: =MAX(I33:I35) -> 0 | I33: =VLOOKUP($G$1,$Q$91:$AZ$123,13,FALSE) -> ― | K33: =IF(J33="○",I33,"") | L33: 競争参加資格確認資料
F34: 2級土木施工管理技士または 2級建設機械施工技士の資格を有する | I34: =VLOOKUP($G$1,$Q$91:$AZ$123,14,FALSE) -> ― | K34: =IF(J34="○",I34,"") | L34: 【(5)に記載】
F35: 上記以外 | I35: 0 | K35: =IF(J35="○",I35,"") | L35: (P ～)
C36: 5 | D36: 配置予定技術者の受賞実績 | F36: 知事表彰（特別賞除く）又は企業局長表彰の受賞実績有り | H36: =MAX(I36:I38) -> 1 | I36: =VLOOKUP($G$1,$Q$91:$AZ$123,15,FALSE) -> 1 | K36: =IF(J36="○",I36,"") | L36: 年度
F37: 事務所長表彰の受賞実績有り | I37: =VLOOKUP($G$1,$Q$91:$AZ$123,16,FALSE) -> 0.5 | K37: =IF(J37="○",I37,"") | L37: 区分
F38: 受賞実績無し | I38: 0 | K38: =IF(J38="○",I38,"") | L38: 転籍
C39: 6 | D39: ＩＣＴ施工技術の活用 | F39: 全ての施工プロセスで活用する（５プロセス） | H39: =MAX(I39:I42) -> 0 | I39: =VLOOKUP($G$1,$Q$91:$AZ$123,17,FALSE) -> ― | K39: =IF(J39="○",I39,"")
F40: 一部の施工プロセスで活用する（４プロセス） | I40: =VLOOKUP($G$1,$Q$91:$AZ$123,18,FALSE) -> ―
F41: 一部の施工プロセスで活用する（１～３プロセス） | I41: =VLOOKUP($G$1,$Q$91:$AZ$123,19,FALSE) -> ― | K41: =IF(J41="○",I41,"") | L41: 様式第18号
F42: 活用なし | I42: 0 | K42: =IF(J42="○",I42,"") | L42: (P ～)
C43: 7 | D43: 災害協定に基づく地域貢献の実績 | F43: 工事箇所の存する市町村における夜間・休日の 地域貢献の実績有り | H43: =MAX(I43:I47) -> 3 | I43: =VLOOKUP($G$1,$Q$91:$AZ$123,20,FALSE) -> 3 | K43: =IF(J43="○",I43,"") | L43: 様式第6号 （P ～）
F44: 工事箇所の存する市町村における地域貢献の実績有り | I44: =VLOOKUP($G$1,$Q$91:$AZ$123,21,FALSE) -> 2 | K44: =IF(J44="○",I44,"")
F45: 地域貢献の実績有り | I45: =VLOOKUP($G$1,$Q$91:$AZ$123,22,FALSE) -> 1 | K45: =IF(J45="○",I45,"")
F46: 防災訓練等の参加有り | I46: =VLOOKUP($G$1,$Q$91:$AZ$123,23,FALSE) -> 0.5 | K46: =IF(J46="○",I46,"")
F47: 防災訓練等の参加無し | I47: 0 | K47: =IF(J47="○",I47,"")
C48: 8 | D48: 防疫業務の実績 | F48: 実績有り | H48: =MAX(I48:I49) -> 1 | I48: =VLOOKUP($G$1,$Q$91:$AZ$123,24,FALSE) -> 1 | K48: =IF(J48="○",I48,"") | L48: 様式第20号 （P ～）
F49: 実績無し | I49: 0 | K49: =IF(J49="○",I49,"")
C50: 9 | D50: 地域活動(ﾎﾞﾗﾝﾃｨｱ)の実績 | F50: 実績有り | H50: =MAX(I50:I51) -> 0.5 | I50: =VLOOKUP($G$1,$Q$91:$AZ$123,25,FALSE) -> 0.5 | K50: =IF(J50="○",I50,"") | L50: 様式第7号 （P ～）
F51: 実績無し | I51: 0 | K51: =IF(J51="○",I51,"")
C52: 10 | D52: 地域内拠点の有無 | F52: ○○に本店有り | H52: =MAX(I52:I54) -> 0 | I52: =VLOOKUP($G$1,$Q$91:$AZ$123,26,FALSE) -> ― | K52: =IF(J52="○",I52,"") | L52: 建設業許可申請様式第1号及び別紙2
I53: =VLOOKUP($G$1,$Q$91:$AZ$123,27,FALSE) -> ― | K53: =IF(J53="○",I53,"")
F54: 上記以外 | I54: 0 | K54: =IF(J54="○",I54,"")
C55: 11 | D55: 県内下請負の選定計画 | F55: 県内業者との契約予定金額の合計が○○万円以上 | H55: =MAX(I55:I57) -> 0 | I55: =VLOOKUP($G$1,$Q$91:$AZ$123,28,FALSE) -> ― | K55: =IF(J55="○",I55,"") | L55: 様式第9号 （P ～）
F56: 県内業者との契約予定金額の合計が△△万円以上○○万円未満 | I56: =VLOOKUP($G$1,$Q$91:$AZ$123,29,FALSE) -> ― | K56: =IF(J56="○",I56,"")
F57: 上記以外 | I57: 0 | K57: =IF(J57="○",I57,"")
C58: 12 | D58: 企業の新規雇用実績 | F58: 雇用実績有り | H58: =MAX(I58:I59) -> 1 | I58: =VLOOKUP($G$1,$Q$91:$AZ$123,30,FALSE) -> 1 | K58: =IF(J58="○",I58,"") | L58: 様式第14号 （P ～）
F59: 雇用実績無し | I59: 0 | K59: =IF(J59="○",I59,"")
C60: 13 | D60: 若手又は女性技術者の配置 | F60: 若手又は女性技術者の配置有り（主任・監理技術者の有資格者） | H60: =MAX(I60:I62) -> 1 | I60: =VLOOKUP($G$1,$Q$91:$AZ$123,31,FALSE) -> 1 | K60: =IF(J60="○",I60,"") | L60: 様式第15号 （P ～）
F61: 若手又は女性技術者を現場代理人に配置有り（資格要件無） | I61: =VLOOKUP($G$1,$Q$91:$AZ$123,32,FALSE) -> 0.5 | K61: =IF(J61="○",I61,"")
F62: 若手又は女性技術者の配置無し | I62: 0 | K62: =IF(J62="○",I62,"")
C63: 14 | D63: 登録基幹技能者の配置 | F63: 配置有り | H63: =MAX(I63:I64) -> 1 | I63: =VLOOKUP($G$1,$Q$91:$AZ$123,33,FALSE) -> 1 | K63: =IF(J63="○",I63,"") | L63: 様式第16-1号 （P ～）
F64: 配置無し | I64: 0 | K64: =IF(J64="○",I64,"")
C65: 15 | D65: 災害時の基礎的事業継続力の認定 | F65: 認定有り | H65: =MAX(I65:I66) -> 1 | I65: =VLOOKUP($G$1,$Q$91:$AZ$123,34,FALSE) -> 1 | K65: =IF(J65="○",I65,"") | L65: 様式第17号 （P ～）
F66: 認定無し | I66: 0 | K66: =IF(J66="○",I66,"")
C67: 16 | D67: 施工計画 | H67: =MAX(I67) -> 0 | I67: =VLOOKUP($G$1,$Q$91:$AZ$123,35,FALSE) -> ― | L67: 様式第5号（P ～）
C68: 17 | D68: 技術提案 | H68: =MAX(I68) -> 0 | I68: =VLOOKUP($G$1,$Q$91:$AZ$123,36,FALSE) -> ― | L68: 様式第8号（P ～）
C69: 合計 | H69: =SUM(H19:H68) -> 15.5 | K69: =SUM(K19:K68) -> 0 | L69: 全 頁
C70: （注）当様式の作成にあたっては別添の「留意事項」を必ず御確認願います。 | N70: P1
C72: ※当様式の計算式等に不具合が生じた場合は発注機関にご連絡願います。
R88: 2 | S88: 3 | T88: 4 | U88: 5 | V88: 6 | W88: 7 | X88: 8 | Y88: 9 | Z88: 10 | AA88: 11 | AB88: 12 | AC88: 13 | AD88: 14 | AE88: 15 | AF88: 16 | AG88: 17 | AH88: 18 | AI88: 19 | AJ88: 20 | AK88: 21 | AL88: 22 | AM88: 23 | AN88: 24 | AO88: 25 | AP88: 26 | AQ88: 27 | AR88: 28 | AS88: 29 | AT88: 30 | AU88: 31 | AV88: 32 | AW88: 33 | AX88: 34 | AY88: 35 | AZ88: 36 | BA88: 37
P89: 落札決定基準 | R89: 工事成績 評定 | Y89: 企業の 施工実績 | AA89: 配置予定技術者の施工経験 | AC89: 配置予定技術者の保有資格 | AE89: 配置予定技術者の 受賞実績 | AG89: ICT施工 技術の活用 | AJ89: 災害協定に基づく地域貢献の実績 | AN89: 防疫業務の実績 | AO89: 地域活動 の有無 | AP89: 地域内拠点 の有無 | AR89: 県内下請負の 選定計画 | AT89: 新規雇用 実績 | AU89: 若手技術者の配置 | AW89: 登録基幹技能者の配置 | AX89: 基礎的事業 継続力認定 | AY89: 施工計画の 評価 | AZ89: 技術提案の 評価 | BA89: 合計
R90: 81以上 | S90: 81以上 | T90: 80以上 | U90: 78以上 | V90: 76以上 | W90: 74以上 | X90: 72以上 | Y90: 満点 | Z90: 中間点 | AA90: 満点 | AB90: 中間点 | AC90: 満点 | AD90: 中間点 | AE90: 満点 | AF90: 中間点 | AG90: 満点 | AH90: 中間点2 | AI90: 中間点1 | AJ90: 夜間実績 | AK90: 地域実績 | AL90: 実績 | AM90: 訓練 | AP90: 満点 | AQ90: 中間点 | AR90: 満点 | AS90: 中間点 | AU90: 満点 | AV90: 中間点
P91: 特別簡易型(Ⅰ) | Q91: 特別簡易型(Ⅰ) ・県内型 ①地域内拠点なし・登録基幹技能者あり・ＩＣＴ施工技術の活用なし | R91: ― | S91: ― | T91: 3 | U91: 2.5 | V91: 2 | W91: 1.5 | X91: 1 | Y91: 1 | Z91: 0.5 | AA91: ― | AB91: ― | AC91: 2 | AD91: 1 | AE91: ― | AF91: ― | AG91: ― | AH91: ― | AI91: ― | AJ91: 3 | AK91: 2 | AL91: 1 | AM91: 0.5 | AN91: 1 | AO91: 0.5 | AP91: ― | AQ91: ― | AR91: ― | AS91: ― | AT91: ― | AU91: 1 | AV91: 0.5 | AW91: 1 | AX91: ― | AY91: ― | AZ91: ― | BA91: =SUM(R91:AZ91) -> 25
Q92: 特別簡易型(Ⅰ) ・県内型 ②地域内拠点なし・登録基幹技能者あり・ＩＣＴ施工技術の活用あり | R92: ― | S92: ― | T92: 3 | U92: 2.5 | V92: 2 | W92: 1.5 | X92: 1 | Y92: 1 | Z92: 0.5 | AA92: ― | AB92: ― | AC92: 2 | AD92: 1 | AE92: ― | AF92: ― | AG92: 2 | AH92: 1.5 | AI92: 1 | AJ92: 3 | AK92: 2 | AL92: 1 | AM92: 0.5 | AN92: 1 | AO92: 0.5 | AP92: ― | AQ92: ― | AR92: ― | AS92: ― | AT92: ― | AU92: 1 | AV92: 0.5 | AW92: 1 | AX92: ― | AY92: ― | AZ92: ― | BA92: =SUM(R92:AZ92) -> 29.5
Q93: 特別簡易型(Ⅰ) ・県内型 ③地域内拠点なし・登録基幹技能者なし・ＩＣＴ施工技術の活用なし | R93: ― | S93: ― | T93: 3 | U93: 2.5 | V93: 2 | W93: 1.5 | X93: 1 | Y93: 1 | Z93: 0.5 | AA93: 1 | AB93: 0.5 | AC93: 2 | AD93: 1 | AE93: ― | AF93: ― | AG93: ― | AH93: ― | AI93: ― | AJ93: 3 | AK93: 2 | AL93: 1 | AM93: 0.5 | AN93: 1 | AO93: 0.5 | AP93: ― | AQ93: ― | AR93: ― | AS93: ― | AT93: ― | AU93: 1 | AV93: 0.5 | AW93: ― | AX93: ― | AY93: ― | AZ93: ― | BA93: =SUM(R93:AZ93) -> 25.5
Q94: 特別簡易型(Ⅰ) ・県内型 ④地域内拠点なし・登録基幹技能者なし・ＩＣＴ施工技術の活用あり | R94: ― | S94: ― | T94: 3 | U94: 2.5 | V94: 2 | W94: 1.5 | X94: 1 | Y94: 1 | Z94: 0.5 | AA94: 1 | AB94: 0.5 | AC94: 2 | AD94: 1 | AE94: ― | AF94: ― | AG94: 2 | AH94: 1.5 | AI94: 1 | AJ94: 3 | AK94: 2 | AL94: 1 | AM94: 0.5 | AN94: 1 | AO94: 0.5 | AP94: ― | AQ94: ― | AR94: ― | AS94: ― | AT94: ― | AU94: 1 | AV94: 0.5 | AW94: ― | AX94: ― | AY94: ― | AZ94: ― | BA94: =SUM(R94:AZ94) -> 30
Q95: 特別簡易型(Ⅰ) ・県内型 ⑤地域内拠点あり・登録基幹技能者あり・ＩＣＴ施工技術の活用なし | R95: ― | S95: ― | T95: 3 | U95: 2.5 | V95: 2 | W95: 1.5 | X95: 1 | Y95: 1 | Z95: 0.5 | AA95: ― | AB95: ― | AC95: 2 | AD95: 1 | AE95: ― | AF95: ― | AG95: ― | AH95: ― | AI95: ― | AJ95: 3 | AK95: 2 | AL95: 1 | AM95: 0.5 | AN95: 1 | AO95: 0.5 | AP95: 2 | AQ95: 1 | AR95: ― | AS95: ― | AT95: ― | AU95: 1 | AV95: 0.5 | AW95: 1 | AX95: ― | AY95: ― | AZ95: ― | BA95: =SUM(R95:AZ95) -> 28
A96: 総合評価方式 | C96: 様式 | E96: 見出し | Q96: 特別簡易型(Ⅰ) ・県内型 ⑥地域内拠点あり・登録基幹技能者あり・ＩＣＴ施工技術の活用あり | R96: ― | S96: ― | T96: 3 | U96: 2.5 | V96: 2 | W96: 1.5 | X96: 1 | Y96: 1 | Z96: 0.5 | AA96: ― | AB96: ― | AC96: 2 | AD96: 1 | AE96: ― | AF96: ― | AG96: 2 | AH96: 1.5 | AI96: 1 | AJ96: 3 | AK96: 2 | AL96: 1 | AM96: 0.5 | AN96: 1 | AO96: 0.5 | AP96: 2 | AQ96: 1 | AR96: ― | AS96: ― | AT96: ― | AU96: 1 | AV96: 0.5 | AW96: 1 | AX96: ― | AY96: ― | AZ96: ― | BA96: =SUM(R96:AZ96) -> 32.5
A97: 事前審査方式 | C97: （様式第1-1号） | E97: 評価点算定資料一覧表 | G97: 下記工事について、総合評価事前審査方式に伴う技術資料を提出します。 | Q97: 特別簡易型(Ⅰ) ・県内型 ⑦地域内拠点あり・登録基幹技能者なし・ＩＣＴ施工技術の活用なし | R97: ― | S97: ― | T97: 3 | U97: 2.5 | V97: 2 | W97: 1.5 | X97: 1 | Y97: 1 | Z97: 0.5 | AA97: 1 | AB97: 0.5 | AC97: 2 | AD97: 1 | AE97: ― | AF97: ― | AG97: ― | AH97: ― | AI97: ― | AJ97: 3 | AK97: 2 | AL97: 1 | AM97: 0.5 | AN97: 1 | AO97: 0.5 | AP97: 2 | AQ97: 1 | AR97: ― | AS97: ― | AT97: ― | AU97: 1 | AV97: 0.5 | AW97: ― | AX97: ― | AY97: ― | AZ97: ― | BA97: =SUM(R97:AZ97) -> 28.5
A98: 事後審査方式 | C98: （様式第1-2号） | E98: 自己採点表 | F98: （兼評価点算定資料一覧表） | G98: 下記工事について、総合評価事後審査方式に伴う技術資料を提出します。 | Q98: 特別簡易型(Ⅰ) ・県内型 ⑧地域内拠点あり・登録基幹技能者なし・ＩＣＴ施工技術の活用あり | R98: ― | S98: ― | T98: 3 | U98: 2.5 | V98: 2 | W98: 1.5 | X98: 1 | Y98: 1 | Z98: 0.5 | AA98: 1 | AB98: 0.5 | AC98: 2 | AD98: 1 | AE98: ― | AF98: ― | AG98: 2 | AH98: 1.5 | AI98: 1 | AJ98: 3 | AK98: 2 | AL98: 1 | AM98: 0.5 | AN98: 1 | AO98: 0.5 | AP98: 2 | AQ98: 1 | AR98: ― | AS98: ― | AT98: ― | AU98: 1 | AV98: 0.5 | AW98: ― | AX98: ― | AY98: ― | AZ98: ― | BA98: =SUM(R98:AZ98) -> 33
P99: 特別簡易型(Ⅱ) 【県内型】 | Q99: 特別簡易型(Ⅱ) ・県内型 ①地域内拠点なし・登録基幹技能者あり・ＩＣＴ施工技術の活用なし | R99: 4 | S99: 3.5 | T99: 3 | U99: 2.5 | V99: 2 | W99: 1.5 | X99: 1 | Y99: 1 | Z99: 0.5 | AA99: 1 | AB99: 0.5 | AC99: ― | AD99: ― | AE99: 1 | AF99: 0.5 | AG99: ― | AH99: ― | AI99: ― | AJ99: 3 | AK99: 2 | AL99: 1 | AM99: 0.5 | AN99: 1 | AO99: 0.5 | AP99: ― | AQ99: ― | AR99: ― | AS99: ― | AT99: 1 | AU99: 1 | AV99: 0.5 | AW99: 1 | AX99: 1 | AY99: ― | AZ99: ― | BA99: =SUM(R99:AZ99) -> 34.5
A100: 【参考】 | Q100: 特別簡易型(Ⅱ) ・県内型 ②地域内拠点なし・登録基幹技能者あり・ＩＣＴ施工技術の活用あり | R100: 4 | S100: 3.5 | T100: 3 | U100: 2.5 | V100: 2 | W100: 1.5 | X100: 1 | Y100: 1 | Z100: 0.5 | AA100: 1 | AB100: 0.5 | AC100: ― | AD100: ― | AE100: 1 | AF100: 0.5 | AG100: 2 | AH100: 1.5 | AI100: 1 | AJ100: 3 | AK100: 2 | AL100: 1 | AM100: 0.5 | AN100: 1 | AO100: 0.5 | AP100: ― | AQ100: ― | AR100: ― | AS100: ― | AT100: 1 | AU100: 1 | AV100: 0.5 | AW100: 1 | AX100: 1 | AY100: ― | AZ100: ― | BA100: =SUM(R100:AZ100) -> 39
A101: タイプ | C101: 入札参加地域 | Q101: 特別簡易型(Ⅱ) ・県内型 ③地域内拠点なし・登録基幹技能者なし・ＩＣＴ施工技術の活用なし | R101: 4 | S101: 3.5 | T101: 3 | U101: 2.5 | V101: 2 | W101: 1.5 | X101: 1 | Y101: 1 | Z101: 0.5 | AA101: 2 | AB101: 1 | AC101: ― | AD101: ― | AE101: 1 | AF101: 0.5 | AG101: ― | AH101: ― | AI101: ― | AJ101: 3 | AK101: 2 | AL101: 1 | AM101: 0.5 | AN101: 1 | AO101: 0.5 | AP101: ― | AQ101: ― | AR101: ― | AS101: ― | AT101: 1 | AU101: 1 | AV101: 0.5 | AW101: ― | AX101: 1 | AY101: ― | AZ101: ― | BA101: =SUM(R101:AZ101) -> 35
A102: 特別簡易型（Ⅰ） | C102: 県内型 | Q102: 特別簡易型(Ⅱ) ・県内型 ④地域内拠点なし・登録基幹技能者なし・ＩＣＴ施工技術の活用あり | R102: 4 | S102: 3.5 | T102: 3 | U102: 2.5 | V102: 2 | W102: 1.5 | X102: 1 | Y102: 1 | Z102: 0.5 | AA102: 2 | AB102: 1 | AC102: ― | AD102: ― | AE102: 1 | AF102: 0.5 | AG102: 2 | AH102: 1.5 | AI102: 1 | AJ102: 3 | AK102: 2 | AL102: 1 | AM102: 0.5 | AN102: 1 | AO102: 0.5 | AP102: ― | AQ102: ― | AR102: ― | AS102: ― | AT102: 1 | AU102: 1 | AV102: 0.5 | AW102: ― | AX102: 1 | AY102: ― | AZ102: ― | BA102: =SUM(R102:AZ102) -> 39.5
A103: 特別簡易型（Ⅱ） | C103: 県内外型 | Q103: 特別簡易型(Ⅱ) ・県内型 ⑤地域内拠点あり・登録基幹技能者あり・ＩＣＴ施工技術の活用なし | R103: 4 | S103: 3.5 | T103: 3 | U103: 2.5 | V103: 2 | W103: 1.5 | X103: 1 | Y103: 1 | Z103: 0.5 | AA103: 1 | AB103: 0.5 | AC103: ― | AD103: ― | AE103: 1 | AF103: 0.5 | AG103: ― | AH103: ― | AI103: ― | AJ103: 3 | AK103: 2 | AL103: 1 | AM103: 0.5 | AN103: 1 | AO103: 0.5 | AP103: 2 | AQ103: 1 | AR103: ― | AS103: ― | AT103: 1 | AU103: 1 | AV103: 0.5 | AW103: 1 | AX103: 1 | AY103: ― | AZ103: ― | BA103: =SUM(R103:AZ103) -> 37.5
A104: 簡易型 | C104: 県外型 | Q104: 特別簡易型(Ⅱ) ・県内型 ⑥地域内拠点あり・登録基幹技能者あり・ＩＣＴ施工技術の活用あり | R104: 4 | S104: 3.5 | T104: 3 | U104: 2.5 | V104: 2 | W104: 1.5 | X104: 1 | Y104: 1 | Z104: 0.5 | AA104: 1 | AB104: 0.5 | AC104: ― | AD104: ― | AE104: 1 | AF104: 0.5 | AG104: 2 | AH104: 1.5 | AI104: 1 | AJ104: 3 | AK104: 2 | AL104: 1 | AM104: 0.5 | AN104: 1 | AO104: 0.5 | AP104: 2 | AQ104: 1 | AR104: ― | AS104: ― | AT104: 1 | AU104: 1 | AV104: 0.5 | AW104: 1 | AX104: 1 | AY104: ― | AZ104: ― | BA104: =SUM(R104:AZ104) -> 42
A105: 標準型 | Q105: 特別簡易型(Ⅱ) ・県内型 ⑦地域内拠点あり・登録基幹技能者なし・ＩＣＴ施工技術の活用なし | R105: 4 | S105: 3.5 | T105: 3 | U105: 2.5 | V105: 2 | W105: 1.5 | X105: 1 | Y105: 1 | Z105: 0.5 | AA105: 2 | AB105: 1 | AC105: ― | AD105: ― | AE105: 1 | AF105: 0.5 | AG105: ― | AH105: ― | AI105: ― | AJ105: 3 | AK105: 2 | AL105: 1 | AM105: 0.5 | AN105: 1 | AO105: 0.5 | AP105: 2 | AQ105: 1 | AR105: ― | AS105: ― | AT105: 1 | AU105: 1 | AV105: 0.5 | AW105: ― | AX105: 1 | AY105: ― | AZ105: ― | BA105: =SUM(R105:AZ105) -> 38
Q106: 特別簡易型(Ⅱ) ・県内型 ⑧地域内拠点あり・登録基幹技能者なし・ＩＣＴ施工技術の活用あり | R106: 4 | S106: 3.5 | T106: 3 | U106: 2.5 | V106: 2 | W106: 1.5 | X106: 1 | Y106: 1 | Z106: 0.5 | AA106: 2 | AB106: 1 | AC106: ― | AD106: ― | AE106: 1 | AF106: 0.5 | AG106: 2 | AH106: 1.5 | AI106: 1 | AJ106: 3 | AK106: 2 | AL106: 1 | AM106: 0.5 | AN106: 1 | AO106: 0.5 | AP106: 2 | AQ106: 1 | AR106: ― | AS106: ― | AT106: 1 | AU106: 1 | AV106: 0.5 | AW106: ― | AX106: 1 | AY106: ― | AZ106: ― | BA106: =SUM(R106:AZ106) -> 42.5
P107: 特別簡易型（Ⅱ） 【県内外型】 | Q107: 特別簡易型(Ⅱ) ・県内外型 ①標準・登録基幹技能者あり | R107: ― | S107: ― | T107: 3 | U107: 2.5 | V107: 2 | W107: 1.5 | X107: 1 | Y107: 2 | Z107: 1 | AA107: 2 | AB107: 1 | AC107: ― | AD107: ― | AE107: ― | AF107: ― | AG107: ― | AH107: ― | AI107: ― | AJ107: ― | AK107: ― | AL107: ― | AM107: ― | AN107: ― | AO107: ― | AP107: 3 | AQ107: 1.5 | AR107: ― | AS107: ― | AT107: 1 | AU107: 1 | AV107: 0.5 | AW107: 1 | AX107: ― | AY107: ― | AZ107: ― | BA107: =SUM(R107:AZ107) -> 24
Q108: 特別簡易型(Ⅱ) ・県内外型 ②標準・登録基幹技能者なし | R108: ― | S108: ― | T108: 3 | U108: 2.5 | V108: 2 | W108: 1.5 | X108: 1 | Y108: 2 | Z108: 1 | AA108: 3 | AB108: 1.5 | AC108: ― | AD108: ― | AE108: ― | AF108: ― | AG108: ― | AH108: ― | AI108: ― | AJ108: ― | AK108: ― | AL108: ― | AM108: ― | AN108: ― | AO108: ― | AP108: 3 | AQ108: 1.5 | AR108: ― | AS108: ― | AT108: 1 | AU108: 1 | AV108: 0.5 | AW108: ― | AX108: ― | AY108: ― | AZ108: ― | BA108: =SUM(R108:AZ108) -> 24.5
A109: 提出様式欄 | Q109: 特別簡易型(Ⅱ) ・県内外型 ③地域貢献重視型・登録基幹技能者あり | R109: ― | S109: ― | T109: 3 | U109: 2.5 | V109: 2 | W109: 1.5 | X109: 1 | Y109: 2 | Z109: 1 | AA109: 2 | AB109: 1 | AC109: ― | AD109: ― | AE109: ― | AF109: ― | AG109: ― | AH109: ― | AI109: ― | AJ109: ― | AK109: ― | AL109: 1 | AM109: 0.5 | AN109: 1 | AO109: ― | AP109: 3 | AQ109: 1.5 | AR109: ― | AS109: ― | AT109: 1 | AU109: 1 | AV109: 0.5 | AW109: 1 | AX109: ― | AY109: ― | AZ109: ― | BA109: =SUM(R109:AZ109) -> 26.5
A110: 評価項目（選択項目） | C110: 対象 | E110: 様式 | G110: 評価項目 | I110: 年度 | J110: 区分 | L110: 工種 | Q110: 特別簡易型(Ⅱ) ・県内外型 ④地域貢献重視型・登録基幹技能者なし | R110: ― | S110: ― | T110: 3 | U110: 2.5 | V110: 2 | W110: 1.5 | X110: 1 | Y110: 2 | Z110: 1 | AA110: 3 | AB110: 1.5 | AC110: ― | AD110: ― | AE110: ― | AF110: ― | AG110: ― | AH110: ― | AI110: ― | AJ110: ― | AK110: ― | AL110: 1 | AM110: 0.5 | AN110: 1 | AO110: ― | AP110: 3 | AQ110: 1.5 | AR110: ― | AS110: ― | AT110: 1 | AU110: 1 | AV110: 0.5 | AW110: ― | AX110: ― | AY110: ― | AZ110: ― | BA110: =SUM(R110:AZ110) -> 27
A111: 2.企業の施工実績 | C111: 特別簡易型(Ⅰ) | E111: 競争参加資格確認資料【(3)に記載】及び施工実績証明書類 | L111: 道路 | P111: 特別簡易型（Ⅱ） 【県外型】 | Q111: 特別簡易型(Ⅱ) ・県外型 ①標準・登録基幹技能者あり | R111: ― | S111: ― | T111: 3 | U111: 2.5 | V111: 2 | W111: 1.5 | X111: 1 | Y111: 2 | Z111: 1 | AA111: 2 | AB111: 1 | AC111: ― | AD111: ― | AE111: ― | AF111: ― | AG111: ― | AH111: ― | AI111: ― | AJ111: ― | AK111: ― | AL111: ― | AM111: ― | AN111: ― | AO111: ― | AP111: 1 | AQ111: 0.5 | AR111: 2 | AS111: 1 | AT111: 1 | AU111: 1 | AV111: 0.5 | AW111: 1 | AX111: ― | AY111: ― | AZ111: ― | BA111: =SUM(R111:AZ111) -> 24
C112: 上記以外 | E112: 様式第3号 | L112: 橋梁 | Q112: 特別簡易型(Ⅱ) ・県外型 ②標準・登録基幹技能者なし | R112: ― | S112: ― | T112: 3 | U112: 2.5 | V112: 2 | W112: 1.5 | X112: 1 | Y112: 2 | Z112: 1 | AA112: 3 | AB112: 1.5 | AC112: ― | AD112: ― | AE112: ― | AF112: ― | AG112: ― | AH112: ― | AI112: ― | AJ112: ― | AK112: ― | AL112: ― | AM112: ― | AN112: ― | AO112: ― | AP112: 1 | AQ112: 0.5 | AR112: 2 | AS112: 1 | AT112: 1 | AU112: 1 | AV112: 0.5 | AW112: ― | AX112: ― | AY112: ― | AZ112: ― | BA112: =SUM(R112:AZ112) -> 24.5
A113: 3.配置予定技術者の 施工経験 | C113: 特別簡易型(Ⅰ) | E113: 競争参加資格確認資料【(5)に記載】及び施工経験証明書類 | L113: 河川 | Q113: 特別簡易型(Ⅱ) ・県外型 ③地域貢献重視型・登録基幹技能者あり | R113: ― | S113: ― | T113: 3 | U113: 2.5 | V113: 2 | W113: 1.5 | X113: 1 | Y113: 2 | Z113: 1 | AA113: 2 | AB113: 1 | AC113: ― | AD113: ― | AE113: ― | AF113: ― | AG113: ― | AH113: ― | AI113: ― | AJ113: ― | AK113: ― | AL113: 1 | AM113: 0.5 | AN113: 1 | AO113: ― | AP113: 1 | AQ113: 0.5 | AR113: 2 | AS113: 1 | AT113: 1 | AU113: 1 | AV113: 0.5 | AW113: 1 | AX113: ― | AY113: ― | AZ113: ― | BA113: =SUM(R113:AZ113) -> 26.5
C114: 上記以外 | E114: 様式第4号 | L114: 海岸 | Q114: 特別簡易型(Ⅱ) ・県外型 ④地域貢献重視型・登録基幹技能者なし | R114: ― | S114: ― | T114: 3 | U114: 2.5 | V114: 2 | W114: 1.5 | X114: 1 | Y114: 2 | Z114: 1 | AA114: 3 | AB114: 1.5 | AC114: ― | AD114: ― | AE114: ― | AF114: ― | AG114: ― | AH114: ― | AI114: ― | AJ114: ― | AK114: ― | AL114: 1 | AM114: 0.5 | AN114: 1 | AO114: ― | AP114: 1 | AQ114: 0.5 | AR114: 2 | AS114: 1 | AT114: 1 | AU114: 1 | AV114: 0.5 | AW114: ― | AX114: ― | AY114: ― | AZ114: ― | BA114: =SUM(R114:AZ114) -> 27
A115: 4配置予定技術者の 保有資格 | C115: 特別簡易型(Ⅰ) | E115: 競争参加資格確認資料 | L115: 港湾 | P115: 特別簡易型（Ⅱ） 橋梁上部工事 【県内外型】 | Q115: 特別簡易型(Ⅱ) ・県内外型・橋梁上部工事（架設） | R115: ― | S115: ― | T115: 3 | U115: 2.5 | V115: 2 | W115: 1.5 | X115: 1 | Y115: 3 | Z115: 1.5 | AA115: 3 | AB115: 1.5 | AC115: ― | AD115: ― | AE115: ― | AF115: ― | AG115: ― | AH115: ― | AI115: ― | AJ115: ― | AK115: ― | AL115: ― | AM115: ― | AN115: ― | AO115: ― | AP115: 3 | AQ115: 1.5 | AR115: ― | AS115: ― | AT115: 1 | AU115: 1 | AV115: 0.5 | AW115: 1 | AX115: ― | AY115: ― | AZ115: ― | BA115: =SUM(R115:AZ115) -> 27
L116: 下水道 | Q116: 簡易型 ・県内外型・橋梁上部工事（架設） | R116: ― | S116: ― | T116: 3 | U116: 2.5 | V116: 2 | W116: 1.5 | X116: 1 | Y116: 3 | Z116: 1.5 | AA116: 3 | AB116: 1.5 | AC116: ― | AD116: ― | AE116: ― | AF116: ― | AG116: ― | AH116: ― | AI116: ― | AJ116: ― | AK116: ― | AL116: ― | AM116: ― | AN116: ― | AO116: ― | AP116: 3 | AQ116: 1.5 | AR116: ― | AS116: ― | AT116: 1 | AU116: 1 | AV116: 0.5 | AW116: 1 | AX116: ― | AY116: 10 | AZ116: ― | BA116: =SUM(R116:AZ116) -> 37
G117: 6優秀主任（監理） 技術者の受賞 | I117: R3 | J117: 【優秀技術者】 | L117: 建築 | Q117: 特別簡易型(Ⅱ) ・県内外型・橋梁上部工事（製作のみ） | R117: ― | S117: ― | T117: 3 | U117: 2.5 | V117: 2 | W117: 1.5 | X117: 1 | Y117: 3 | Z117: 1.5 | AA117: 4 | AB117: 2 | AC117: ― | AD117: ― | AE117: ― | AF117: ― | AG117: ― | AH117: ― | AI117: ― | AJ117: ― | AK117: ― | AL117: ― | AM117: ― | AN117: ― | AO117: ― | AP117: 3 | AQ117: 1.5 | AR117: ― | AS117: ― | AT117: 1 | AU117: 1 | AV117: 0.5 | AW117: ― | AX117: ― | AY117: ― | AZ117: ― | BA117: =SUM(R117:AZ117) -> 27.5
I118: R4 | J118: 知事 | L118: 水道 | P118: 特別簡易型（Ⅱ） 橋梁上部工事 【県外型】 | Q118: 特別簡易型(Ⅱ) ・県外型・橋梁上部工事（架設） | R118: ― | S118: ― | T118: 3 | U118: 2.5 | V118: 2 | W118: 1.5 | X118: 1 | Y118: 3 | Z118: 1.5 | AA118: 3 | AB118: 1.5 | AC118: ― | AD118: ― | AE118: ― | AF118: ― | AG118: ― | AH118: ― | AI118: ― | AJ118: ― | AK118: ― | AL118: ― | AM118: ― | AN118: ― | AO118: ― | AP118: 1 | AQ118: 0.5 | AR118: 2 | AS118: 1 | AT118: 1 | AU118: 1 | AV118: 0.5 | AW118: 1 | AX118: ― | AY118: ― | AZ118: ― | BA118: =SUM(R118:AZ118) -> 27
A119: 対象業種 | I119: R5 | J119: 企業局長 | L119: 舗装 | Q119: 簡易型 ・県外型・橋梁上部工事（架設） | R119: ― | S119: ― | T119: 3 | U119: 2.5 | V119: 2 | W119: 1.5 | X119: 1 | Y119: 3 | Z119: 1.5 | AA119: 3 | AB119: 1.5 | AC119: ― | AD119: ― | AE119: ― | AF119: ― | AG119: ― | AH119: ― | AI119: ― | AJ119: ― | AK119: ― | AL119: ― | AM119: ― | AN119: ― | AO119: ― | AP119: 1 | AQ119: 0.5 | AR119: 2 | AS119: 1 | AT119: 1 | AU119: 1 | AV119: 0.5 | AW119: 1 | AX119: ― | AY119: 10 | AZ119: ― | BA119: =SUM(R119:AZ119) -> 37
A120: 土木一式工事 | I120: R6 | J120: 事務所長 | L120: 電気 | Q120: 特別簡易型(Ⅱ) ・県外型・橋梁上部工事（製作のみ） | R120: ― | S120: ― | T120: 3 | U120: 2.5 | V120: 2 | W120: 1.5 | X120: 1 | Y120: 3 | Z120: 1.5 | AA120: 4 | AB120: 2 | AC120: ― | AD120: ― | AE120: ― | AF120: ― | AG120: ― | AH120: ― | AI120: ― | AJ120: ― | AK120: ― | AL120: ― | AM120: ― | AN120: ― | AO120: ― | AP120: 1 | AQ120: 0.5 | AR120: ― | AS120: ― | AT120: 1 | AU120: 1 | AV120: 0.5 | AW120: ― | AX120: ― | AY120: ― | AZ120: ― | BA120: =SUM(R120:AZ120) -> 24.5
...

Sheet 様式第2号
A1: 様式第2号（評価項目算定用）【一括審査】
A3: 工 事 成 績 評 定 評 価 対 象 工 事 資 料
B5: 工事名①： | C5: =別記様式第0号!G27 -> 0
B6: 工事名②： | C6: =別記様式第0号!G30 -> 0
B7: 工事名③： | C7: =別記様式第0号!G33 -> 0
B8: 工事名④： | C8: =別記様式第0号!G36 -> 0
B9: 工事名⑤： | C9: =別記様式第0号!G39 -> 0 | H9: 商号又は名称： | I9: =別記様式第0号!H11 -> 0
B11: 発注業種： | H11: 業者番号(単体)： | I11: =別記様式第0号!H15 -> 知事 | J11: =別記様式第0号!J15 -> 特－ | K11: =別記様式第0号!M15 -> 0 | L11: =別記様式第0号!P15 -> 号
A13: No | B13: 発注者名 | C13: 評価対象工事の 工事番号 | D13: 評価対象工事の名称 | E13: 工事場所 | F13: 受注金額（円） | G13: 工事期間 | H13: 業種 | I13: 工事 成績 | J13: 受注形態 | K13: 共同企業体による受注の場合の受注者名 | L13: 共同企業体による受注の場合の業者番号 （経常JVのみ）
A14: 1 | C14: 第 - - - - 号 | F14: ( ) | G14: R . . ～R . .
F15: ( )
F16: ( )
F17: ( )
F18: ( )
F19: ( )
F20: ( )
F21: ( )
F22: ( )
F23: ( )
F24: ( )
E25: 対象工事件数 | F25: =COUNT(A14:A24) -> 1 | G25: 工事成績評定点の合計 | I25: =SUM(I14:I24) -> 0 | J25: 平均値 | K25: =ROUND(I25/F25,1) -> 0
A26: (注) | K26: ↑小数第2位四捨五入
A27: １ 評価対象となるすべての工事について記載すること。
A28: （評価対象：直近の過去５ヶ年度(R3.4.1～R8.3.31)に竣工した茨城県土木部発注の１千万円以上の工事のうち、当該工事の発注業種と同一業種の工事 ※農林水産部、企業局
B29: (○○水道事務所含む)発注工事は対象外）
A30: ２ 当該評価項目について実績を有しない場合は、本書の提出を要しない。
A31: ３ 受注金額の（ ）は、共同企業体の場合の全体額を記入すること。
A32: ４ 受注形態は、単体又は○○・□□ＪＶ（出資比率○○％）と記載すること。
A33: ５ 共同企業体にあっては、すべての構成員の施工実績をそれぞれ記載すること。
A34: ６ 共同企業体としての実績は、出資比率が２０％以上のものに限る。
J38: 1 | K38: 土木一式工事
J39: 2 | K39: 建築一式工事
J40: 3 | K40: 大工工事
J41: 4 | K41: 左官工事
J42: 5 | K42: とび･土工･ｺﾝｸﾘｰﾄ工事
J43: 6 | K43: 石工事
J44: 7 | K44: 屋根工事
J45: 8 | K45: 電気工事
J46: 9 | K46: 管工事
J47: 10 | K47: ﾀｲﾙ･れんが・ﾌﾞﾛｯｸ工事
J48: 11 | K48: 鋼構造物工事
J49: 12 | K49: 鉄筋工事
... J66: 29 | K66: 解体工事

Sheet 様式第3号
A1: 様式第３号（評価項目算定用）【一括審査】
A3: 施 工 実 績 評 価 資 料
B5: 工事名①： | F5: =別記様式第0号!G27 -> 0
B6: 工事名②： | F6: =別記様式第0号!G30 -> 0
B7: 工事名③： | F7: =別記様式第0号!G33 -> 0
B8: 工事名④： | F8: =別記様式第0号!G36 -> 0
B9: 工事名⑤： | F9: =別記様式第0号!G39 -> 0
P11: 商号又は名称： | V11: =別記様式第0号!H11 -> 0
A13: 工 事 概 要 等 | C13: 発注者名
C15: 工 事 名
C17: 工事箇所
C19: 受注金額 | H19: 円（ 円）
C21: 工 期 | H21: 令和 年 月 日 ～ 令和 年 月 日
C23: 受注形態
C25: 工事概要
H26: （記載例）
H28: ・管推進工
H30: 工事延長 Ｌ＝○○○．○ｍ
H32: 管推進工（φ○○○㎜） Ｌ＝○○○．○ｍ（○スパン）
H34: マンホール設置工（φ○○○㎜） ○ 箇所
C40: コリンズ登録の有無 | H40: ・有（コリンズ登録番号） ・無
A42: （注）
A43: １ | B43: 記載する同種・類似工事の実績の件数は１件でよい。
A44: ２ | B44: 当該評価項目について実績を有しない場合は、本書の提出を要しない。
A45: ３ | B45: 受注金額の（ ）は、共同企業体の場合の全体額を記入すること。
A46: ４ | B46: 受注形態は、単体又は○○・□□ＪＶ（出資比率○○％）と記載すること。
A47: ５ | B47: 共同企業体としての実績は、出資比率が２０％以上のものに限る。
A48: ６ | B48: 工事概要は、評価基準に該当する工事であることが確認できるように記載すること。
A49: ７ | B49: 当該工事の内容を証明できるもの（竣工時工事カルテ、契約書、図面の写し等）を添付すること。

Sheet 様式第4号
A1: 様式第４号（評価項目算定用）【一括審査】
A3: 配 置 予 定 技 術 者 評 価 資 料
B5: 工事名①： | F5: =別記様式第0号!G27 -> 0
B6: 工事名②： | F6: =別記様式第0号!G30 -> 0
B7: 工事名③： | F7: =別記様式第0号!G33 -> 0
B8: 工事名④： | F8: =別記様式第0号!G36 -> 0
B9: 工事名⑤： | F9: =別記様式第0号!G39 -> 0
P11: 商号又は名称： | V11: =別記様式第0号!H11 -> 0
A13: 区 分 | J13: 主任技術者 監理技術者 | Q13: 氏名 | AB13: 年齢 | AH13: 歳
A16: 所 属 会 社 | T16: 建設業許可番号 | AD16: －
A18: 監理技術者資格者証番号 | T18: 取得年月日 | Z18: 年 月 日
A19: 監理技術者講習修了証番号 | T19: 修了年月日 | Z19: 年 月 日
A20: その他の資格 | K20: （資格の名称） | T20: 取得年月日 | Z20: 年 月 日
A21: 工事経験 | C21: 発注者名
C22: 工事
C23: 工事箇所
C24: 受注金額
C25: 工期 | K25: 令和 年 月 日 ～ 令和 年 月 日
C26: 従事役職
C27: 工事概要
C33: コリンズ登録の有無 | K33: ・有（コリンズ登録番号） ・無
A35: 申請時における他工事の 従事状況等 | C35: 発注者名
C36: 工事名
C37: 工事箇所
C38: 工期 | K38: 令和 年 月 日 ～ 令和 年 月 日
C39: 従事役職
C40: 本工事と重複する 場合の対応措置
C45: コリンズ登録の有無 | K45: ・有（コリンズ登録番号） ・無
A46: 注）
A47: （共通）
A48: １ | B48: 記載する同種・類似工事の実績の件数は１件でよい。
A49: ２ | B49: 当該評価項目について実績を有しない場合は、本書の提出を要しない。
A50: ３ | B50: 本工事に主任技術者又は監理技術者（特例監理技術者、又は専任特例の場合の監理技術者
B51: 含む）として配置する予定の技術者（以下「技術者」という。）１名について作成すること。
A52: ４ | B52: 実際の工事の施工にあたって、種々の状況からやむを得ないものとして発注者が承認した
B53: 場合のほかは、本書に記載した技術者以外の者への変更は認めない。
A54: （資格について）
A55: ５ | B55: 監理技術者（特例監理技術者、又は専任特例の場合の監理技術者含む）にあっては、監理技術
B56: 者資格者証及び監理技術者講習終了証の写しを添付すること。
B57: 【また（資格の名称）の資格認定証明書の写しを添付すること。】（必要がある場合のみ記載する。）
A58: （工事経験について）
A59: ６ | B59: 工事概要は、評価基準に該当する工事であることが確認できるように記載すること。
A60: ７ | B60: 工事経験を有する工事は、施工実績評価資料（様式第３号）の工事と同一でなくてもよい。
A61: ８ | B61: 共同企業体の構成員としての経験の場合は、出資比率２０％以上の場合に限る。
A62: ９ | B62: 当該工事の内容を証明できるもの（竣工時工事カルテ、契約書、図面の写し等）を添付すること。
A63: （他工事の従事状況について）
A64: 10 | B64: 本書の提出日現在における他工事の従事状況は、従事しているすべての工事について
B65: 記入すること。複数ある場合は、本書を従事工事数分作成すること。

Sheet 様式第6号
A1: 様式第６号（評価項目算定用）【一括審査】
A3: 災 害 協 定 に 基 づ く 地 域 貢 献 実 績 評 価 資 料
A4: （県土木部が管理する公共施設に関する地域貢献（災害活動）実績）
B6: 工事名①： | F6: =別記様式第0号!G27 -> 0
B7: 工事名②： | F7: =別記様式第0号!G30 -> 0
B8: 工事名③： | F8: =別記様式第0号!G33 -> 0
B9: 工事名④： | F9: =別記様式第0号!G36 -> 0
B10: 工事名⑤： | F10: =別記様式第0号!G39 -> 0
Q12: 商号又は名称： | W12: =別記様式第0号!H11 -> 0
A14: 災害時の地域貢献の概要 | C14: 災害協定の名称
C15: 協定締結者 | K15: 茨城県 （※県担当課所：○○課・○○土木（工事）事務所） ○○協会
C17: 地域貢献の種類 （災害名等も記載） | K17: （例：令和元年東日本台風に基づく応急復旧工事、 令和 年 月 日 時 分発生地震（震度５）、大雨・洪水警報、暴風雪警報に基づく県道○○線パトロール）
C20: 地域貢献の 実施年月日 及び時間 | K20: （例：令和 年 月 日 時 分～ 時 分頃）
C23: 地域貢献の場所 | K23: ○○市町村 ○○地内 ほか
C25: 地域貢献の事実を確認できる貢献の相手方又は第三者等の住所・氏名・電話番号
C28: 地域貢献の実施内容
A31: 土木部防災訓練等の参加 | K31: 令和７年５月に実施した土木部防災訓練に参加している。
A33: （注）
A34: １ | B34: 土木部防災訓練等（土木部が認める災害協定に基づく連絡体制により実施した情報伝達訓練）に参加していない
B35: 場合は、本書の提出を要しない。
A36: ２ | B36: 茨城県と締結している県土木部が管理する公共施設に関する災害時の応急対策協定による要請に基づき行った
B37: 災害時地域貢献（災害活動）の実績及び土木部防災訓練等（情報伝達確認含む）について記載すること。
B38: なお、記載する実績は１件でよい。
A39: ３ | B39: 地域貢献の実績は、入札日の属する年度を除く直近５ケ年度において災害時の応急対策協定の要請により実施した
B40: 被害状況の調査（パトロール）・損壊箇所等の緊急措置・応急復旧工事・建設資材等の調達及輸送等の活動で、
B41: 活動に要した費用の支払いの有無に係わらず、協定に基づく活動実績について評価の対象とする。
A42: ４ | B42: 評価対象期間に地域貢献の実績があったとしても、入札公告日直近に実施した土木部防災訓練等（情報伝達確認
B43: 含む）に参加していない場合は評価対象外とする。
A44: ５ | B44: 災害協定を締結していることを証明する書類（協定書の写し）を添付すること。
A45: ６ | B45: 災害時地域貢献の実績内容を確認できるように記載すること。また、実績を証明する書類を添付すること。
B46: （協定の協力要請に基づく実績であることを証明する書類で、協定締結団体等の活動証明書など）
A47: ７ | B47: 地域貢献の種類については、災害名等も記載すること。
A48: ８ | B48: 地域貢献の時間については、概ねの作業時間を記載すること。
A49: ９ | B49: 評価基準「工事箇所に存する市町村における夜間・休日の実績有り」の評価において、夜間（１７時～８時）の時間帯）
B50: の実績とそれ以外の実績の時間がまたがる場合については、夜間の実績が１時間以上ある場合に評価する。
B51: また、実績を証明する書類を添付すること。（発注者に提出した書類の写しなど）
A52: 10 | B52: 地域貢献の事実を確認できる相手方の電話番号については、記載可能な場合に記載すること。
A53: 11 | B53: 本書記載事項に虚偽のあった場合には、指名停止措置等を行うことがある。

Sheet 様式第7号
A1: 様式第７号（評価項目算定用）【一括審査】
A3: 地 域 活 動（ボランティア）実 績 評 価 資 料
B5: 工事名①： | F5: =別記様式第0号!G27 -> 0
B6: 工事名②： | F6: =別記様式第0号!G30 -> 0
B7: 工事名③： | F7: =別記様式第0号!G33 -> 0
B8: 工事名④： | F8: =別記様式第0号!G36 -> 0
B9: 工事名⑤： | F9: =別記様式第0号!G39 -> 0
P11: 商号又は名称： | V11: =別記様式第0号!H11 -> 0
A13: 令和５年度の実績 | C13: 活動の種類
C15: 活動の期間 | K15: 令和 年 月 日 ～ 令和 年 月 日
C17: 活動の事実を確認できる活動の相手方又は地域の代表者等の住所・氏名・電話番号
C25: 活動の内容 （具体的に）
A28: 令和６年度の実績 | C28: 活動の種類
C30: 活動の期間 | K30: 令和 年 月 日 ～ 令和 年 月 日
C32: 活動の事実を確認できる活動の相手方又は地域の代表者等の住所・氏名・電話番号
C40: 活動の内容 （具体的に）
A43: （注）
A44: １ | B44: 地域活動の実績は、令和６年度及び令和７年度について１件ずつ記載すること。両年度のいずれにも実績が
B45: ある場合にのみ評価の対象とする。ただし、両年度の活動内容は共通のもので無くともよい。
A46: ２ | B46: 当該評価項目について実績を有しない場合は、本書の提出を要しない。
A47: ３ | B47: 企業として取り組み、対価を得ていない地域活動（ボランティア）について、実績内容を確認できるように
B48: 記載すること。
A49: ４ | B49: 評価の対象とする地域活動は、茨城県が管理する社会資本（道路、河川、公共施設等）の維持管理に関する
B50: ボランティア活動（除草、清掃、植栽等）で、第三者の客観的な証明書類（協定書、感謝状、新聞記事、
B51: 主催者の参加証明等）で確認できるものに限る。また、活動を証明する書類を添付すること。
A52: ５ | B52: 活動の事実を確認できる相手方等の電話番号については、記載可能な場合に記載すること。
A53: ６ | B53: 本書記載事項に虚偽のあった場合には、指名停止措置等を行うことがある。

Sheet 様式第9号
A1: 様式第９号（評価項目算定用）【一括審査】
A3: 県 内 下 請 負 の 選 定 評 価 資 料
B5: 工事名①： | F5: =別記様式第0号!G27 -> 0
B6: 工事名②： | F6: =別記様式第0号!G30 -> 0
B7: 工事名③： | F7: =別記様式第0号!G33 -> 0
B8: 工事名④： | F8: =別記様式第0号!G36 -> 0
B9: 工事名⑤： | F9: =別記様式第0号!G39 -> 0
P11: 商号又は名称： | V11: =別記様式第0号!H11 -> 0
A13: 評価項目 | J13: 回 答
A15: 県内下請負の選定計画 | J15: ・ 県内建設業者との契約予定金額の合計が○○万円以上 ・ 県内建設業者との契約予定金額の合計が△△万円以上○○万円未満 ・ 上記以外
A29: （注）
A30: １ | B30: 評価の対象とする下請計画は県内に建設業法に基づく主たる営業所を有する業者との一次下請契約とし、
B31: 回答欄で該当するものを○で囲むこと。
A32: ２ | B32: 本工事の落札契約後において、下請計画の履行確認を行う。履行確認は、下請契約書、下請負人通知
B33: 及び施工体制台帳等により行う。
A34: ３ | B34: 評価された下請計画が履行されない場合には、工事成績評定点の減点、指名停止の措置を講じる。

Sheet 様式第9号（橋梁上部工事）
A1: 様式第９号（評価項目算定用）（橋梁上部工事）【一括審査】
A3: 県 内 下 請 負 の 選 定 評 価 資 料
B5: 工事名①： | F5: =別記様式第0号!G27 -> 0
B6: 工事名②： | F6: =別記様式第0号!G30 -> 0
B7: 工事名③： | F7: =別記様式第0号!G33 -> 0
B8: 工事名④： | F8: =別記様式第0号!G36 -> 0
B9: 工事名⑤： | F9: =別記様式第0号!G39 -> 0
P11: 商号又は名称： | V11: =別記様式第0号!H11 -> 0
A13: 評価項目 | J13: 回 答
A15: 地域内拠点の有無及び 県内下請負の選定計画 | J15: ・ 茨城県内に本店を有する。又は茨城県内に支店等（営業所を含む） を有し、かつ県内建設業者との契約予定金額の合計が○○万円以上 ・ 茨城県内に支店等（営業所を含む）を有し、かつ県内建設業者との契約 予定金額の合計が△△万円以上○○万円未満。又は県内建設業者と の契約予定金額の合計が○○万円以上。 ・ 茨城県内に支店等（営業所を含む）を有する。又は県内建設業者との 契約予定金額の合計が△△万円以上○○万円未満。 ・ 上記以外
A29: （注）
A30: １ | B30: 評価の対象とする下請計画は県内に建設業法に基づく主たる営業所を有する業者との一次下請契約とし、
B31: 回答欄で該当するものを○で囲むこと。
A32: ２ | B32: 本工事の落札契約後において、下請計画の履行確認を行う。履行確認は、下請契約書、下請負人通知
B33: 及び施工体制台帳等により行う。
A34: ３ | B34: 評価された下請計画が履行されない場合には、工事成績評定点の減点、指名停止の措置を講じる。

Sheet 様式第14号
A1: 様式第１４号（評価項目算定用）【一括審査】
A3: 企 業 の 新 規 雇 用 実 績
B5: 工事名①： | F5: =別記様式第0号!G27 -> 0
B6: 工事名②： | F6: =別記様式第0号!G30 -> 0
B7: 工事名③： | F7: =別記様式第0号!G33 -> 0
B8: 工事名④： | F8: =別記様式第0号!G36 -> 0
B9: 工事名⑤： | F9: =別記様式第0号!G39 -> 0
P11: 商号又は名称： | V11: =別記様式第0号!H11 -> 0
A13: 氏名（被雇用者） | K13: ○○ ○○
A15: 雇用開始年月日 （雇 用 期 間） | K15: 令和 年 月 日～ （入札公告日現在 〇年〇カ月雇用）
A17: 雇用者住所・氏名 | K17: ○○県○○市○○町１－１ (株)○○建設
A19: 生 年 月 日 | K19: 平成○年○月○日
A21: 入札公告日時点の年齢 | K21: ○○歳
A23: 雇用前の勤務先 | K23: 同一企業または資本及び人事面で関連企業ではない
A26: （注）
A27: １ | B27: 評価対象となる新規雇用の実績が無い場合は、本書の提出を要しない。
A28: ２ | B28: 評価の対象は、令和６年４月１日以降に正規雇用（原則、企業で定める就業規則の所定労働
B29: 時間がフルタイムで期間の定めのない雇用契約)した従業員（被雇用者）を入札公告日まで
B30: ３か月以上継続雇用している場合とする。
B31: ※パート・アルバイト、派遣社員、契約社員、臨時社員、特定技能外国人（技能実習・特定技
B32: 能1号）等は評価対象外
A33: ３ | B33: 評価の対象とする従業員は、入札公告日時点で３５歳未満とし、雇用後の職種や勤務地・居住
B34: 地の限定はしないが、直接的かつ恒常的な雇用関係がある者とする。（事務や経理も可）
A35: ４ | B35: 新規雇用した従業員の雇用前（過去）の勤務先が、入札参加者（共同企業体の場合は代表構成員又は
B36: 構成員のいずれか）と同一企業又は、資本もしくは人事面において関連がある企業の場合は評価対
B37: 象外とする。
A38: ５ | B38: 受注形態が特定建設工事共同企業体の場合は、代表構成員又は構成員のいずれかの実績で良い。
A39: ６ | B39: 評価対象となる従業員（被雇用者）について以下すべての証明書類を添付すること
B40: 【添付資料】
C41: ①従業員の雇用年月日、入札公告日時点の年齢がわかる書類
D42: ・雇用保険被保険者資格取得等確認通知書の写し
D43: （雇用日は「被保険者となった年月日」とする）
C44: ②正規雇用されていることがわかる書類
D45: ・雇用契約書、労働条件通知書の写しなど
C46: ③従業員を３ケ月以上継続雇用したことを証明できる書類
D47: ・賃金台帳、出勤簿の写しなど
A48: ７ | B48: 本書記載事項に虚偽のあった場合には、指名停止措置等を行うことがある。

Sheet 様式第15号
A1: 様式第１５号（評価項目算定用）【一括審査】
A3: 若 手 又 は 女 性 技 術 者 の 配 置
B5: 工事名①： | F5: =別記様式第0号!G27 -> 0
B6: 工事名②： | F6: =別記様式第0号!G30 -> 0
B7: 工事名③： | F7: =別記様式第0号!G33 -> 0
B8: 工事名④： | F8: =別記様式第0号!G36 -> 0
B9: 工事名⑤： | F9: =別記様式第0号!G39 -> 0
P11: 商号又は名称： | V11: =別記様式第0号!H11 -> 0
C13: 該当する項目の□にチェックを入れてください。
A15: 若手又は女性技術者の配置 | K15: 現場代理人 主任(監理)技術者 として配置する
A17: 若手又は女性技術者名 | K17: ○○ ○○
A19: 要 件 | K19: 若年者（３５歳未満） ・ 女性
A21: 生年月日 | K21: 年 月 日
A23: 入札公告日時点の年齢 | K23: 歳
A25: 主任技術者又は監理技術者の資格要件の有無 | K25: 有 ・ 無
A27: 保有資格要件の内容 | K27: （例）○○施工管理技士等 ※証明資料添付
A29: （注）
A30: １ | B30: 評価対象となる若手又は女性技術者を配置しない場合は、本書の提出を要しない。
A31: ２ | B31: 評価の対象は、当該工事に現場代理人又は主任（監理）技術者として若手又は女性技術者を配置する場合
B32: とする。なお、当該工事において現場代理人及び主任（監理）技術者を兼任する場合も評価の対象とするが、
B33: 他工事と兼務する場合は評価の対象外（製作工における兼務は除く）とする。
A34: ３ | B34: 評価の対象は、入札公告日時点で３５歳未満の若手技術者、又は女性技術者とする。また、元請け業者と
B35: 直接的かつ恒常的な雇用関係があり、入札公告日以前に３ケ月以上の雇用関係がある者とする。
A36: ４ | B36: 当該工事の業種区分に該当する主任（監理）技術者の資格要件を有する若手又は女性技術者を現場代理人
B37: として配置する場合は、保有資格要件の内容を記入のうえ、資格を有することを証明する資料を添付すること。
B38: 【添付資料】
B39: ・保有資格の合格証明書の写し、実務経験の証明書類 等
B40: なお、主任（監理）技術者の資格要件は、建設業法第7条第2号、同法第15条第2号に
B41: 規定する資格とし、入札公告日時点において資格を有する場合とする。
A42: ５ | B42: 本工事において配置予定している若手又は女性技術者を申請時点で１名に特定できない場合は、現場代理人
B43: 及び主任（監理）技術者について、複数（それぞれ３名まで）の者を配置予定の若手又は女性技術者とすること
B44: ができる。この場合、本書はすべての配置予定若手又は女性技術者について提出するものとし、若手又は女性
B45: 技術者の評価点については、最も低い評価を受けたものをもって算定する。なお、落札者は、落札者決定から
B46: 契約前までの間に１名を選択するものとする。
A47: ６ | B47: 本書を提出し工事を落札した者は、本書に基づき、現場代理人及び主任・監理技術者等選（改）任通知書を
B48: 提出すること。なお、やむを得ない事情により、現場代理人等（本書に記載した若手又は女性技術者）が変更
B49: になる場合は、評価を受けた若手又は女性技術者と同等の評価を得られる技術者を配置することができる。
B50: 【製作工と架設工（現場据付工）の工種がある場合は、それぞれ別の技術者（評価を受けた若手又は女性
B51: 技術者と同等の評価を得られる技術者）を配置することができる。】
A52: ７ | B52: 本書どおりの履行がなされなかった場合には、工事成績評定点を減ずる措置を行う。

Sheet 様式第16-1号
A1: 様式第１６－１号（評価項目算定用）【一括審査】
A3: 登 録 基 幹 技 能 者 の 配 置
B5: 工事名①： | F5: =別記様式第0号!G27 -> 0
B6: 工事名②： | F6: =別記様式第0号!G30 -> 0
B7: 工事名③： | F7: =別記様式第0号!G33 -> 0
B8: 工事名④： | F8: =別記様式第0号!G36 -> 0
B9: 工事名⑤： | F9: =別記様式第0号!G39 -> 0
P11: 商号又は名称： | V11: =別記様式第0号!H11 -> 0
C14: 若手技術者の配置 | M14: 配置する
C16: 登録基幹技能者講習の 職種 | M16: 登録○○基幹技能者 （又は登録○○基幹技能者）
B24: （注）
B25: １ | C25: 登録基幹技能者を配置しない場合は、本書の提出を要しない。
B26: ２ | C26: 当該工事で指定した職種の登録基幹技能者を配置する場合に評価する。
C27: その他の登録基幹技能者については、評価の対象としない。
B28: ３ | C28: 本書には、当該工事で指定した職種の登録基幹技能者が複数の場合は、職種を複数記載する
C29: ことを可能とする。本書を提出し工事を落札した者は、そのうち１職種以上の登録基幹技能者
C30: を配置すること。（当該工事で指定した職種以外の登録基幹技能者が記載されている場合は、
C31: 評価の対象としない。）
B32: ４ | C32: 配置する登録基幹技能者については、元請業者又は下請業者が雇用する者で、元請けの監理
C33: （主任）技術者を除く者とする。
B34: ５ | C34: 本書を提出し工事を落札した者は、指定した職種の登録基幹技能者が従事する主要な工種
C35: については、全てに従事させなければならない。なお、主要な工種については、監督員と
C36: 協議の上決定すること。
B37: ６ | C37: 発注者から登録基幹技能者の従事状況の立会を求められた場合には、受注者はこれに応じ
C38: なければならない。また、受注者は工事竣工日までに様式１６－２号登録基幹技能者配置
C39: 実績報告書を提出すること。
B40: ７ | C40: やむを得ない事情（下請業者の変更等）がある場合は、発注者と協議のうえ、当該工事で指定した
C41: 登録基幹技能者に変更することができる。ただし、上記５の条件を満たすこと。
B42: ８ | C42: 本書どおりの履行がなされなかった場合には、工事成績評定点を減ずる措置を行う。

Sheet 様式第17号
A1: 様式第１７号（評価項目算定用）【一括審査】
A3: 災 害 時 の 基 礎 的 事 業 継 続 力 認 定 資 料
A4: （国土交通省関東地方整備局長から認定を受けた場合のみ対象）
B6: 工事名①： | F6: =別記様式第0号!G27 -> 0
B7: 工事名②： | F7: =別記様式第0号!G30 -> 0
B8: 工事名③： | F8: =別記様式第0号!G33 -> 0
B9: 工事名④： | F9: =別記様式第0号!G36 -> 0
B10: 工事名⑤： | F10: =別記様式第0号!G39 -> 0
P12: 商号又は名称： | V12: =別記様式第0号!H11 -> 0
A14: 認定の内容 | C14: 認定を受けた企業名
C16: 認 定 番 号
C18: 認 定 日 | M18: 令和 年 月 日
C20: 認 定 期 間 | M20: 令和 年 月 日 ～ 令和 年 月 日
A23: （注）
A24: １ | B24: 当該評価項目について認定を受けてない場合は、本書の提出を要しない。
A26: ２ | B26: 国土交通省関東地方整備局長から受けた災害時の基礎的事業継続力認定について、記載すること。
A28: ３ | B28: 国土交通省関東地方整備局長から受けた認定証の写しを添付すること。
A30: ４ | B30: 当該工事の入札公告日が認定期間である場合に評価対象とする。
A32: ５ | B32: 受注形態が特定建設工事協同企業体の場合は、代表構成員又は構成員のいずれかが認定を
B33: 受けていれば評価対象とする。

Sheet 様式第18号
A1: 様式第１８号（評価項目算定用）【一括審査】
A3: Ｉ Ｃ Ｔ 施 工 技 術 の 活 用 計 画 書
B5: 工事名①： | F5: =別記様式第0号!G27 -> 0
B6: 工事名②： | F6: =別記様式第0号!G30 -> 0
B7: 工事名③： | F7: =別記様式第0号!G33 -> 0
B8: 工事名④： | F8: =別記様式第0号!G36 -> 0
B9: 工事名⑤： | F9: =別記様式第0号!G39 -> 0
P11: 商号又は名称： | V11: =別記様式第0号!H11 -> 0
A13: 施工プロセス | N13: ＩＣＴ施工技術の内容
C15: (1)３次元起工測量 | N15: 以下から選択して３次元起工測量を実施 ※ア･オ･カはＩＣＴ土工・作業土工（床掘）のみ対象 ア 空中写真測量（無人航空機）を用いた起工測量 イ 地上型レーザースキャナーを用いた起工測量 ウ トータルステーション等光波方式を用いた起工測量 エ トータルステーション（ノンプリズム方式）を用いた起工測量 オ ＲＴＫ－ＧＮＳＳを用いた起工測量 カ 無人航空機搭載型レーザースキャナーを用いた起工測量 キ 地上移動体搭載型レーザースキャナーを用いた起工測量 ク その他の３次元計測技術を用いた起工測量
C22: (2)３次元設計データ作成 | N22: ３次元起工測量データと設計図書の図面データを用いて、３次元設計データを作成
C24: (3)ＩＣＴ建設機械による施工 | N24: ３次元設計データを用いて、以下に示すＩＣＴ建設機械を作業に応じて 選択して施工を実施する。 ア ３次元ＭＣまたは３次元ＭＧブルドーザ （３次元ＭＧ建機はＩＣＴ土工・作業土工（床掘）のみ対象） イ ３次元ＭＣまたは３次元ＭＧバックホウ （ＩＣＴ土工・作業土工（床掘）のみ対象） ウ ３次元ＭＣモーターグレーダ （ＩＣＴ舗装工のみ対象） ※ＭＣ：「マシンコントロール」の略称、ＭＧ：「マシンガイダンス」の略称
C29: (4)３次元出来形管理等の施工管理 | N29: ＩＣＴ建設機械による施工において、以下に示す方法で、出来形管理及び品質管理を実施 ア 出来形管理 ・空中写真測量（無人航空機）を用いた出来形管理 ・ＲＴＫ－ＧＮＳＳを用いた出来形管理 ・無人航空機搭載型レーザースキャナーを用いた出来形管理 ・地上型レーザースキャナーを用いた出来形管理 ・トータルステーション等光波方式を用いた出来形管理 ・トータルステーション（ノンプリズム方式）を用いた出来形管理 ・地上移動体搭載型レーザースキャナーを用いた出来形管理 ・その他の３次元計測技術を用いた出来形管理 イ 品質管理 ※ＩＣＴ土工・作業土工（床掘）のみ対象 ・ＴＳ・ＧＮＳＳを用いた締固め回数管理による品質管理
C39: (5)３次元データの納品 | N39: ３次元施工管理データを、工事完成図書として電子納品する。
A42: ※ＩＣＴ施工技術の活用を計画する全ての施工プロセスの左欄に○を記載して下さい。
A43: （注）
A44: １ | B44: 当該工事においてＩＣＴ施工技術の活用を計画しない場合は、本書の提出を要しない。
A45: ２ | B45: ＩＣＴ活用促進工事（土工・作業土工（床掘））又はＩＣＴ活用促進工事（舗装工）のいずれかで、ＩＣＴ施工技術を
B46: 活用する場合に評価の対象とする。
A47: ３ | B47: 「全ての施工プロセスで活用する」計画として評価を受けた場合に、当該工事の着手前に、発注者から別途工事等で
B48: 実施した３次元測量データの提供があった場合は、３次元起工測量を除く、他の全ての施工プロセス（上記（２）～（５））
B49: において、ＩＣＴ施工技術を活用すること。
A50: ４ | B50: 「一部の施工プロセスで活用する」計画として評価を受けた場合に、計画した施工プロセスでのＩＣＴ施工技術の活用が
B51: 困難な場合、受発注者協議のうえ、活用する施工プロセスの変更を可能とする。 ただし、いずれかの施工プロセスで
B52: ＩＣＴ施工技術を活用すること。
A53: ５ | B53: 落札決定後に受発注者間で協議を行い活用する施工技術を決定すること。なお、協議結果に基づき、当工事に
B54: おいてＩＣＴ施工技術を活用した場合は、評価の可否に係わらず設計変更の対象とする。
A55: ６ | B55: 一部の施工プロセスで活用する場合の組み合わせの例［(1)＋(2)、(1)＋(2)＋(3)、 (1)＋(2)＋(4)＋(5)］
A56: ７ | B56: ＩＣＴ施工技術の活用する規模が極めて小さい場合（一部の施工数量のみ等）は評価の対象外とする。
A57: ８ | B57: 受注者の責めにより、本書どおりの履行がなされなかった場合には、工事成績評定点を減ずる措置を行う。
B58: ただし、(注)４及び(注)５に該当する場合はこの限りではない。

Sheet 様式第20号
A1: 様式第２０号（評価項目算定用）【一括審査】
A3: 防 疫 協 定 に 基 づ く 防 疫 業 務 実 績 評 価 資 料
B6: 工事名①： | F6: =別記様式第0号!G27 -> 0
B7: 工事名②： | F7: =別記様式第0号!G30 -> 0
B8: 工事名③： | F8: =別記様式第0号!G33 -> 0
B9: 工事名④： | F9: =別記様式第0号!G36 -> 0
B10: 工事名⑤： | F10: =別記様式第0号!G39 -> 0
Q12: 商号又は名称： | W12: =別記様式第0号!H11 -> 0
A14: 防疫業務の概要 | C14: 防疫協定の名称 | K14: 特定家畜伝染病発生時の防疫業務に関する協定書
C15: 協定締結者 | K15: 茨城県畜産課 ○○協会
C17: 防疫作業の種類 | K17: （例：高病原性鳥インフルエンザ等 ）
C20: 防疫作業の 実施年月日 | K20: （例：令和 年 月 日 ～ 令和 年 月 日）
C23: 地域貢献の場所 | K23: ○○市町村 ○○地内 ほか
C25: 防疫作業の事実を確認できる証明書類 | K25: 茨城県畜産課が発行する災害活動証明書
C28: 防疫作業の実施内容 （具体的に） | K28: ○○農場で確認された高病原性鳥インフルエンザの防疫措置作業
A32: （注）
A33: １ | B33: 茨城県と締結している防疫協定に基づき行った防疫業務の実績について記載すること。なお、記載する実績は
B34: １件でよい。
A36: ２ | B36: 防疫業務の実績は、入札日の属する年度を除く直近の過去２ヶ年度のいずれかの防疫業務の実績とし、協定に基づく
B37: 活動実績について評価の対象とする。
A39: ３ | B39: 防疫業務の実績内容を確認できるように記載すること。また、実績を証明する書類を添付すること。
B40: （協定の協力要請に基づく実績であることを証明する書類で、協定締結団体等の活動証明書など）
A42: ４ | B42: 本書記載事項に虚偽のあった場合には、指名停止措置等を行うことがある。
A44: ５ | B44: 受注形態が特定建設工事協同企業体の場合は、代表構成員又は構成員のいずれかの活動証明書が
B45: あればよい。
