Workbook

Sheet （発注所属）
C8: 水色のセルは、直接入力してください。
C10: 黄色のセルは、プルダウンから選択してください。
B12: 発注情報
B13: 所属長名 | C13: 藤沢水道営業所長 | D13: ← 直接入力
B14: 工事番号 | C14: 企藤第19号
B15: 工事名 | C15: 藤沢市本町２丁目９番地配水管改良工事（概数設計）
B17: タイプ | C17: 特別簡易型(Ⅱ) | D17: ← プルダウン
B19: 落札者決定基準 | D19: 基準 | F19: 当該発注工事
B20: 企業の技術的能力（技術提案等） | D20: 適用 | E20: 評価点 | F20: 適用 | G20: 評価点 | H20: 備考 | J20: 備考
B21: =+IF(C17=I53,J53,IF(C17=I54,J54,J55)) -> － | D21: =+IF(C17=I53,N53,IF(C17=I54,N53,K55)) -> － | E21: =+IF(C17=I53,K53,IF(C17=I54,K54,K55)) -> － | F21: ― | H21: 提出様式 | I21: =+IF(C17=I53,L53,IF(C17=I54,IF(G21=10,L54,IF(G21=15,L55,"評価点を記入")),L56)) -> －
B22: 企業の技術的能力
B23: ① | C23: 過去の同種工事の施工実績 | D23: =+IF(C17=I53,N54,IF(C17=I54,N53,IF(C17=I55,N53,K55))) -> － | E23: 1 | F23: － | G23: =+IF(F23="〇",E23," ") | H23: 対象年度 | I23: 令和３年度～令和７年度 | J23: ← プルダウン（過去３～１０年間年度） ※対象年度リストは適宜修正してください
B24: ② | C24: 過去３年間の工事成績評定点の平均点 | D24: =+IF(C17=I53,N54,N53) -> 必須 | E24: 2 | F24: 〇 | G24: =+IF(F24="〇",E24," ") -> 2 | H24: 登録業種 | I24: 水道施設工事業
B25: ③ | C25: 優良工事等表彰の受賞実績 | D25: =D23 -> － | E25: 1.5 | F25: － | G25: =+IF(F25="〇",E25," ")
B26: ④ | C26: 地域精通度 | D26: =+IF(C17=I53,N54,IF(C17=I54,N54,IF(C17=I55,N54,K55))) -> － | E26: 1 | F26: － | G26: =+IF(F26="〇",E26," ")
B27: ⑤ | C27: ISO9001の認証取得 | D27: =D26 -> － | E27: 0.5 | F27: － | G27: =+IF(F27="〇",E27," ")
B28: ⑥ | C28: ISO14001の認証取得 | D28: =D26 -> － | E28: 0.5 | F28: － | G28: =+IF(F28="〇",E28," ")
B29: 配置予定技術者 の技術的能力
B30: ⑦ | C30: 過去の同種工事の施工実績 | D30: =+IF(C17=I53,N54,N53) -> 必須 | E30: 1又は2 | F30: 〇 | G30: 1 | H30: =+H23 -> 対象年度 | I30: =+I23 -> 令和３年度～令和７年度 | J30: ←特別簡易型（Ⅱ）は１点、それ以外は２点
B31: ⑧ | C31: 過去３年間の工事成績評定実績 | D31: =+IF(C17=I53,N54,N53) -> 必須 | E31: 1又は2 | F31: 〇 | G31: 1 | H31: 登録業種 | I31: =+I24 -> 水道施設工事業 | J31: ←特別簡易型（Ⅱ）は１点、それ以外は２点
B32: ⑨ | C32: 取得資格 | D32: =+IF(C17=I53,N54,N53) -> 必須 | E32: 1 | F32: 〇 | G32: =+IF(F32="〇",E32," ") -> 1
B33: ⑩ | C33: 継続教育（CPD）実績 | D33: =D26 -> － | E33: 0.5 | F33: － | G33: =+IF(F33="〇",E33," ")
B34: ⑪ | C34: 若手技術者・担い手の育成実績 | D34: =D26 -> － | E34: 1 | F34: － | G34: =+IF(F34="〇",E34," ")
B35: 企業の 社会性･信頼性
B36: ⑫ | C36: 災害時等の地域貢献 | D36: =+IF(C17=I53,N54,IF(C17=I54,N54,IF(C17=I55,N54,IF(C17=I56,N54)))) -> 選択 | E36: 1 | F36: 〇 | G36: =+IF(F36="〇",E36," ") -> 1
B37: ⑬ | C37: 建設業労働災害防止協会への加入 | D37: =D23 -> － | E37: 0.5 | F37: － | G37: =+IF(F37="〇",E37," ")
B38: ⑭ | C38: 登録基幹技能者の配置 | D38: =D26 -> － | E38: 1 | F38: － | G38: =+IF(F38="〇",E38," ") | H38: 種類 | J38: ← 直接入力
B39: ⑮ | C39: 新卒者の雇用実績 | D39: =D26 -> － | E39: 1 | F39: － | G39: =+IF(F39="〇",E39," ")
B40: ⑯ | C40: 建設ｷｬﾘｱｱｯﾌﾟｼｽﾃﾑの事業者登録【試行】 | D40: =D26 -> － | E40: 1 | F40: － | G40: =+IF(F40="〇",E40," ")
B41: ⑰ | C41: 女性技術者の活躍 | D41: =+D23 -> － | E41: 1 | F41: － | G41: =+IF(F41="〇",E41," ")
B42: 地域特有の課題 （施策）への 取組
B43: ⑱ | C43: 自由設定項目－１ | D43: =D26 -> － | E43: 1又は2 | F43: － | H43: =+IF(F43="－",IF(G43>=1,"err"," "),"2又は1を選択してください。") | J43: ← 直接入力（適用しない場合は、空欄にしてください）
C44: 自由設定項目－２ | D44: =D26 -> － | E44: 1 | F44: －
C45: 自由設定項目－３ | D45: =D26 -> － | E45: 1 | F45: －
B47: 評価点計 | G47: =SUM(G21:G45) -> 6
E49: ⑰は自動計算されないので注意
D53: 〇 | E53: 2 | F53: 15 | G53: 令和５年度～令和７年度 | I53: 標準型 | J53: 技術提案及び技術提案に係る施工計画 | K53: 15 | L53: 様式－1a | N53: 必須
D54: － | E54: 1 | F54: 10 | G54: 令和３年度～令和７年度 | I54: 簡易型 | J54: 簡易な施工計画の技術的所見 | K54: 10 | L54: 様式－1ｂ | N54: 選択
E55: 0 | G55: 平成28年度～令和７年度 | I55: 特別簡易型(Ⅰ) | J55: － | K55: － | L55: ―
I56: 特別簡易型(Ⅱ) | L56: －
E58: 2 | F58: 1.5
E59: 1 | F59: 1
E60: 0 | F60: 0.5
E61: -1 | F61: 0
E62: -2

Sheet 技術資料表紙（入札参加者）
F1: 令和 年 月 日
C2: 自己評価点申請書
D4: ="神奈川県"&+'（発注所属）'!C13&" 殿" -> 神奈川県藤沢水道営業所長 殿
E5: （入札参加者） | F5: =+IF(OR(E6="",E7="",E8="",E9="",E10=""),"↓入力","") -> ↓入力
D6: 所在地 | K6: =+IF(E6="",2,1) -> 2
D7: 商号又は名称 | K7: =+IF(E7="",2,1) -> 2
D8: 代表者名 | K8: =+IF(E8="",2,1) -> 2
D9: (※）責任者 | K9: =+IF(E9="",2,1) -> 2
D10: (※）連絡担当者 | K10: =+IF(E10="",2,1) -> 2
D11: (※）電話番号
D12: 次の工事について、技術資料（提出様式と添付資料）を提出します。内容については、事実と相違ないことを誓約します。
D13: =+"工事番号："&'（発注所属）'!C14 -> 工事番号：企藤第19号
D14: =+"工事名 ："&'（発注所属）'!C15 -> 工事名 ：藤沢市本町２丁目９番地配水管改良工事（概数設計）
C16: 「総合評価方式に係る説明書」の記載の評価基準に基づき、自己評価による点数を自己評価点（入札者記載欄）に記載してください。 提出様式の内容に誤りが無くても、本申請書の自己評価点の記載が誤っている場合には、当該評価項目は評価しません。 JVとして⼊札に参加する場合は、構成員ではなくJVとしての⾃⼰評価点を記載してください。 （※）「責任者」、「連絡担当者」及び「電話番号」を記載した場合は、押印を省略できます。 押印を省略する場合、「責任者」、「連絡担当者」及び「電話番号」の記載が無かった場合は、技術資料を無効とします。
C17: 評価種別・評価項目 | E17: 評価基準 | F17: 点数 | G17: 自己評価点 | H17: 提出様式
G18: (入札者記載欄)
C19: =+'（発注所属）'!B21 -> － | E19: － | F19: =IF('（発注所属）'!G21="","－",'（発注所属）'!G21) -> － | G19: － | H19: =+'（発注所属）'!I21 -> －
C20: 企業の技術的能力
C21: ① | D21: 過去の同種工事の施工実績 | E21: =+IF('（発注所属）'!F23="〇","あり","－") -> － | F21: =+IF(E21="あり",1,"－") -> － | H21: =+IF('（発注所属）'!F23="〇","様式－2a","－") -> － | I21: =+IF('（発注所属）'!F23='（発注所属）'!D54," ",IF(G21="","←入力","")) | K21: =+IF(G21="",2,1) -> 2
E22: =+IF('（発注所属）'!F23="〇","なし","－") -> － | F22: =+IF(E22="なし",0,"－") -> －
C23: ② | D23: 過去３年間の工事成績評定点の平均点 | E23: =+IF('（発注所属）'!F24="〇","80点以上","－") -> 80点以上 | F23: =+IF(E23="80点以上",2,"－") -> 2 | H23: =+IF('（発注所属）'!F24="〇","様式－2a 様式－2b","－") -> 様式－2a 様式－2b | I23: =+IF('（発注所属）'!F24='（発注所属）'!D54," ",IF(G23="","←入力","")) -> ←入力 | K23: =+IF(G23="",2,1) -> 2
E24: =+IF('（発注所属）'!F24="〇","75点以上80点未満","－") -> 75点以上80点未満 | F24: =+IF(E24="75点以上80点未満",1,"－") -> 1
E25: =+IF('（発注所属）'!F24="〇","65点以上75点未満","－") -> 65点以上75点未満 | F25: =+IF(E25="65点以上75点未満",0,"－") -> 0
E26: =+IF('（発注所属）'!F24="〇","55点以上65点未満","－") -> 55点以上65点未満 | F26: =+IF(E26="55点以上65点未満",-1,"－") -> -1
E27: =+IF('（発注所属）'!F24="〇","55点未満","－") -> 55点未満 | F27: =+IF(E27="55点未満",-2,"－") -> -2
E28: =+IF('（発注所属）'!F24="〇","実績なし","－") -> 実績なし | F28: =+IF(E28="実績なし",0,"－") -> 0
C29: ③ | D29: 優良工事等表彰の受賞実績 | E29: =+IF('（発注所属）'!F25="〇","過去３年間に同じ工事分野で実績あり","－") -> － | F29: =+IF(E29="過去３年間に同じ工事分野で実績あり",1.5,"－") -> － | H29: =+IF('（発注所属）'!F25="〇","様式－2a","－") -> － | I29: =+IF('（発注所属）'!F25='（発注所属）'!D54," ",IF(G29="","←入力","")) | K29: =+IF(G29="",2,1) -> 2
E30: =+IF('（発注所属）'!F25="〇","過去３年間に異なる工事分野で実績あり","－") -> － | F30: =+IF(E30="過去３年間に異なる工事分野で実績あり",1,"－") -> －
E31: =+IF('（発注所属）'!F25="〇","過去10～４年間に同じ工事分野で実績あり","－") -> － | F31: =+IF(E31="過去10～４年間に同じ工事分野で実績あり",1,"－") -> －
E32: =+IF('（発注所属）'!F25="〇","過去10～４年間に異なる工事分野で実績あり","－") -> － | F32: =+IF(E32="過去10～４年間に異なる工事分野で実績あり",0.5,"－") -> －
E33: =+IF('（発注所属）'!F25="〇","なし","－") -> － | F33: =+IF(E33="なし",0,"－") -> －
C34: ④ | D34: 地域精通度 | E34: =+IF('（発注所属）'!F26="〇","あり","－") -> － | F34: =+IF(E34="あり",1,"－") -> － | H34: =+IF('（発注所属）'!F26="〇","様式－2a","－") -> － | I34: =+IF('（発注所属）'!F26='（発注所属）'!D54," ",IF(G34="","←入力","")) | K34: =+IF(G34="",2,1) -> 2
E35: =+IF('（発注所属）'!F26="〇","なし","－") -> － | F35: =+IF(E35="なし",0,"－") -> － | K35: =+IF('（発注所属）'!F26='（発注所属）'!D54,3,0) -> 3
C36: ⑤ | D36: ISO9001の認証取得 | E36: =+IF('（発注所属）'!F27="〇","あり","－") -> － | F36: =+IF(E37="なし",0.5,"－") -> － | H36: =+IF('（発注所属）'!F27="〇","様式－2a","－") -> － | I36: =IF('（発注所属）'!F27='（発注所属）'!D54,"",IF(G36="","←入力","")) | K36: =+IF(G36="",2,1) -> 2
E37: =+IF('（発注所属）'!F27="〇","なし","－") -> － | F37: =+IF(E37="なし",0,"－") -> － | K37: =IF('（発注所属）'!F27='（発注所属）'!D54,3,0) -> 3
C38: ⑥ | D38: ISO14001の認証取得 | E38: =+IF('（発注所属）'!F28="〇","あり","－") -> － | F38: =+IF(E39="なし",0.5,"－") -> － | H38: =+IF('（発注所属）'!F28="〇","様式－2a","－") -> － | I38: =+IF('（発注所属）'!F28='（発注所属）'!D54,"",IF(G38="","←入力","")) | K38: =+IF(G38="",2,1) -> 2
E39: =+IF('（発注所属）'!F28="〇","なし","－") -> － | F39: =+IF(E39="なし",0,"－") -> － | K39: =+IF('（発注所属）'!F28='（発注所属）'!D54,3,0) -> 3
C40: 配置予定技術者の技術的能力
C41: ⑦ | D41: 過去の同種工事の施工実績 | E41: =+IF('（発注所属）'!F30="〇","あり","－") -> あり | F41: =+IF(E41="あり",'（発注所属）'!G30,"－") -> 1 | H41: =+IF('（発注所属）'!F30="〇","様式－3","－") -> 様式－3 | I41: =+IF('（発注所属）'!F30='（発注所属）'!D54," ",IF(G41="","←入力","")) -> ←入力 | K41: =+IF(G41="",2,1) -> 2
E42: =+IF('（発注所属）'!F30="〇","なし","－") -> なし | F42: =+IF(E42="なし",0,"－") -> 0
C43: ⑧ | D43: 過去３年間の工事成績評定実績 | E43: =+IF('（発注所属）'!F31="〇","あり","－") -> あり | F43: =+IF(E43="あり",'（発注所属）'!G31,"－") -> 1 | H43: =+IF('（発注所属）'!F31="〇","様式－3","－") -> 様式－3 | I43: =+IF('（発注所属）'!F31='（発注所属）'!D54," ",IF(G43="","←入力","")) -> ←入力 | K43: =+IF(G43="",2,1) -> 2
E44: =+IF('（発注所属）'!F31="〇","なし","－") -> なし | F44: =+IF(E44="なし",0,"－") -> 0
C45: ⑨ | D45: 取得資格 | E45: =+IF('（発注所属）'!F32="〇","あり","－") -> あり | F45: =+IF(E45="あり",1,"－") -> 1 | H45: =+IF('（発注所属）'!F32="〇","様式－3","－") -> 様式－3 | I45: =+IF('（発注所属）'!F32='（発注所属）'!D54," ",IF(G45="","←入力","")) -> ←入力 | K45: =+IF(G45="",2,1) -> 2
E46: =+IF('（発注所属）'!F32="〇","なし","－") -> なし | F46: =+IF(E46="なし",0,"－") -> 0 | K46: =+IF('（発注所属）'!F32='（発注所属）'!D54,3,0) -> 0
C47: ⑩ | D47: 継続教育（CPD）実績 | E47: =+IF('（発注所属）'!F33="〇","あり","－") -> － | F47: =+IF(E47="あり",0.5,"－") -> － | H47: =+IF('（発注所属）'!F33="〇","様式－3","－") -> － | I47: =+IF('（発注所属）'!F33='（発注所属）'!D54," ",IF(G47="","←入力","")) | K47: =+IF(G47="",2,1) -> 2
E48: =+IF('（発注所属）'!F33="〇","なし","－") -> － | F48: =+IF(E48="なし",0,"－") -> － | K48: =+IF('（発注所属）'!F33='（発注所属）'!D54,3,0) -> 3
C49: ⑪ | D49: 若手技術者の育成実績 | E49: =+IF('（発注所属）'!F34="〇","あり","－") -> － | F49: =+IF(E50="なし",1,"－") -> － | H49: =+IF('（発注所属）'!F34="〇","様式－3","－") -> － | I49: =+IF('（発注所属）'!F34='（発注所属）'!D54," ",IF(G49="","←入力","")) | K49: =+IF(G49="",2,1) -> 2
E50: =+IF('（発注所属）'!F34="〇","なし","－") -> － | F50: =+IF(E50="なし",0,"－") -> － | K50: =+IF('（発注所属）'!F34='（発注所属）'!D54,3,0) -> 3
C51: 企業の社会性･信頼性
C52: ⑫ | D52: 災害時等の地域貢献 | E52: =+IF('（発注所属）'!F36="〇","あり","－") -> あり | F52: =+IF(E52="あり",1,"－") -> 1 | H52: =+IF('（発注所属）'!F36="〇","様式－4","－") -> 様式－4 | I52: =+IF('（発注所属）'!F36='（発注所属）'!D54,"",IF(G52="","←入力","")) -> ←入力 | K52: =+IF(G52="",2,1) -> 2
E53: =+IF('（発注所属）'!F36="〇","なし","－") -> なし | F53: =+IF(E53="なし",0,"－") -> 0 | K53: =+IF('（発注所属）'!F36='（発注所属）'!D54,3,0) -> 0
C54: ⑬ | D54: 建設業労働災害防止協会への加入 | E54: =+IF('（発注所属）'!F37="〇","あり","－") -> － | F54: =+IF(E54="あり",0.5,"－") -> － | H54: =+IF('（発注所属）'!F37="〇","様式－4","－") -> － | I54: =+IF('（発注所属）'!F37='（発注所属）'!D54,"",IF(G54="","←入力","")) | K54: =+IF(G54="",2,1) -> 2
E55: =+IF('（発注所属）'!F37="〇","なし","－") -> － | F55: =+IF(E55="なし",0,"－") -> － | K55: =+IF('（発注所属）'!F37='（発注所属）'!D54,3,0) -> 3
C56: ⑭ | D56: 登録基幹技能者の配置 | E56: =+IF('（発注所属）'!F38="〇","あり","－") -> － | F56: =+IF(E56="あり",1,"－") -> － | H56: =+IF('（発注所属）'!F38="〇","様式－4","－") -> － | I56: =+IF('（発注所属）'!F38='（発注所属）'!D54,"",IF(G56="","←入力","")) | K56: =+IF(G56="",2,1) -> 2
E57: =+IF('（発注所属）'!F38="〇","なし","－") -> － | F57: =+IF(E57="なし",0,"－") -> － | K57: =+IF('（発注所属）'!F38='（発注所属）'!D54,3,0) -> 3
C58: ⑮ | D58: 新卒者の雇用実績 | E58: =+IF('（発注所属）'!F39="〇","あり（指定学科）","－") -> － | F58: =+IF(E58="あり（指定学科）",1,"－") -> － | H58: =+IF('（発注所属）'!F39="〇","様式－4","－") -> － | I58: =+IF('（発注所属）'!F39='（発注所属）'!D54,"",IF(G58="","←入力","")) | K58: =+IF(G58="",2,1) -> 2
E59: =+IF('（発注所属）'!F39="〇","あり（指定学科以外）","－") -> － | F59: =+IF(E59="あり（指定学科以外）",0.5,"－") -> －
E60: =+IF('（発注所属）'!F39="〇","なし","－") -> － | F60: =+IF(E60="なし",0,"－") -> － | K60: =+IF('（発注所属）'!F39='（発注所属）'!D54,3,0) -> 3
C61: ⑯ | D61: 建設ｷｬﾘｱｱｯﾌﾟｼｽﾃﾑの事業者登録【試行】 | E61: =+IF('（発注所属）'!F40="〇","あり","－") -> － | F61: =+IF(E61="あり",1,"－") -> － | H61: =+IF('（発注所属）'!F40="〇","様式－4","－") -> － | I61: =+IF('（発注所属）'!F40='（発注所属）'!D54,"",IF(G61="","←入力","")) | K61: =+IF(G61="",2,1) -> 2
E62: =+IF('（発注所属）'!F40="〇","なし","－") -> － | F62: =+IF(E62="なし",0,"－") -> － | K62: =+IF('（発注所属）'!F40='（発注所属）'!D54,3,0) -> 3
C63: ⑰ | D63: 女性技術者の活躍 | E63: =+IF('（発注所属）'!F41="〇","あり","－") -> － | F63: =+IF(E63="あり",1,"－") -> － | H63: =+IF('（発注所属）'!F41="〇","様式－4","－") -> － | I63: =+IF('（発注所属）'!F41='（発注所属）'!D54,"",IF(G63="","←入力","")) | K63: =+IF(G63="",2,1) -> 2
E64: =+IF('（発注所属）'!F41="〇","なし","－") -> － | F64: =+IF(E64="なし",0,"－") -> － | K64: =+IF('（発注所属）'!F41='（発注所属）'!D54,3,0) -> 3
C65: 地域特有の課題（施策）への取組
C66: ⑱ | D66: 自由設定項目－１ | E66: =+IF('（発注所属）'!F43="〇","あり","－") -> － | F66: =+IF(E66="あり",'（発注所属）'!G43,"－") -> － | H66: =+IF('（発注所属）'!F43="〇","様式－5","－") -> － | I66: =+IF('（発注所属）'!F43='（発注所属）'!D54,"",IF(G66="","←入力","")) | K66: =+IF(G66="",2,1) -> 2
E67: =+IF('（発注所属）'!F43="〇","なし","－") -> － | F67: =+IF(E67="なし",0,"－") -> － | K67: =+IF('（発注所属）'!F43='（発注所属）'!D54,3,0) -> 3
D68: 自由設定項目－２ | E68: =+IF('（発注所属）'!F44="〇","あり","－") -> － | F68: =+IF(E68="あり",1,"－") -> － | H68: =+IF('（発注所属）'!F44="〇","様式－5","－") -> － | I68: =+IF('（発注所属）'!F44='（発注所属）'!D54," ",IF(G68="","←入力","")) | K68: =+IF(G68="",2,1) -> 2
E69: =+IF('（発注所属）'!F44="〇","なし","－") -> － | F69: =+IF(E69="なし",0,"－") -> － | K69: =+IF('（発注所属）'!F44='（発注所属）'!D54,3,0) -> 3
D70: 自由設定項目－３ | E70: =+IF('（発注所属）'!F45="〇","あり","－") -> － | F70: =+IF(E70="あり",1,"－") -> － | H70: =+IF('（発注所属）'!F45="〇","様式－5","－") -> － | I70: =+IF('（発注所属）'!F45='（発注所属）'!D54," ",IF(G70="","←入力","")) | K70: =+IF(G70="",2,1) -> 2
E71: =+IF('（発注所属）'!F45="〇","なし","－") -> － | F71: =+IF(E71="なし",0,"－") -> － | K71: =+IF('（発注所属）'!F45='（発注所属）'!D54,3,0) -> 3
C72: 合 計（①～⑱の合計） | G72: =+G21+G23+G29+G34+G36+G38+G41+G43+G45+G47+G49+G52+G54+G56+G58+G61+G63+G66+G68+G70 -> 0

Sheet 技術者情報
B2: =+IF('技術資料表紙（入札参加者）'!E7=0,"商号又は名称： ","商号又は名称："&'技術資料表紙（入札参加者）'!E7) -> 商号又は名称：
B5: 配置予定技術者一覧
B8: 1 | C8: 配置予定技術者は、下記に氏名を記載し、記載した全ての技術者の技術資料（様式－３、添付資料）を作成してください。
B10: 2 | C10: 配置予定技術者が、評価項目⑰「女性技術者の活躍」の対象である場合には、氏名欄右の枠に「○」を入力するとともに、技術資料（様式－４、添付資料）を作成してください。 女性技術者の欄に「〇」が無い場合には、様式－４に記載がある場合でも評価しません。
B12: 3 | C12: なお、技術資料提出時に、配置予定技術者を特定できない場合は、複数の候補者を立てることができますが、その場合は、全ての候補者の氏名を記載してください。
B14: 4 | C14: 評価値の算出にあたっては、各候補者のうち、「配置予定技術者の技術的能力」の評価点の合計が最も低い者で評価します。（「配置予定技術者の技術的能力」の評価点合計には、「女性技術者の活躍」は含みません）
B16: （注意） | D16: ・この様式に未記載の者や、記載があっても様式－３が無い者（様式－３に氏名の記載 が無い者を含む）は、候補者になり得ません。
D18: ※ＪＶとして入札参加する場合には、所属企業名も記載してください。ただし、単体企業として入札参加する場合は記載は不要です。
C20: 配置予定技術者１ | Q20: ※所属企業名
C21: ふりがな | N21: 女性技術者
C22: 氏 名
C25: 配置予定技術者２ | Q25: ※所属企業名
C26: ふりがな | N26: 女性技術者
C27: 氏 名
C30: 配置予定技術者３ | Q30: ※所属企業名
C31: ふりがな | N31: 女性技術者
C32: 氏 名
C35: 配置予定技術者４ | Q35: ※所属企業名
C36: ふりがな | N36: 女性技術者
C37: 氏 名
C40: 配置予定技術者５ | Q40: ※所属企業名
C41: ふりがな | N41: 女性技術者
C42: 氏 名
Y47: 【リスト】
Y48: 女性技術者
Y49: ○

Sheet 様式- 2a
C7: （様式－２ａ） | F7: =+IF('技術資料表紙（入札参加者）'!E7=0,"商号又は名称： ","商号又は名称："&'技術資料表紙（入札参加者）'!E7) -> 商号又は名称：
C9: 企業の技術的能力
C11: 太枠内の着色したセルに記載してください。
C12: この様式に関係する添付資料は、この様式の後に綴じてください。
C14: 〔評価項目①〕過去の同種工事の施工実績
C15: 実績の有無 | I15: あり | M15: =IF(COUNTBLANK(F15:H16)=6," ← 該当する方に○",IF(COUNTBLANK(F15:H16)=4," ← どちらか一方に○","")) -> ← 該当する方に○ | AI15: 〇
I16: なし
C17: 工 事 名
C18: 発注所属名
C19: 工期(最終) | F19: 令和 | J19: 年 | M19: 月 | P19: 日 | Q19: から | S19: 令和 | W19: 年 | Z19: 月 | AC19: 日 | AD19: まで
C20: ｺﾘﾝｽﾞ登録番号 | P20: =IF(COUNTBLANK(F20:O20)>0," ← 10桁の番号を入力","") -> ← 10桁の番号を入力
C21: 評価項目⑦ 添付資料の省略 | I21: ← 評価項目①の添付資料が、評価項目⑦「過去の同種工事の施工実績」の添付資料を兼ねる場合は○
C22: 備考※
C24: 〔添付資料〕 | F24: 工事実績を証明するコリンズデータの写しを添付してください。コリンズデータのみで証明できない場合は、その工事の契約書や図面、数量総括表等の写しをあわせて添付してください。
F26: ※評価項目①の添付資料が評価項目⑦「過去の同種工事の施工実績」の添付資料も兼ねる場合には、備考欄にその旨を記載すること。
F27: ※ 同種工事実績に該当することの補足説明が必要な場合は、備考欄に記載すること。
C28: 〔評価項目②〕過去３年間の工事成績評定点の平均点
C29: 実績の有無 | I29: あり | M29: =IF(COUNTBLANK(F29:H30)=6," ← 該当する方に○",IF(COUNTBLANK(F29:H30)=4," ← どちらか一方に○","")) -> ← 該当する方に○
I30: なし
C31: 平均点 | F31: =+IF(F29="〇",#REF!,"") | I31: 点 | J31: （小数点以下切捨、整数止）
F32: ※ 過去３年間に該当工事がある場合は、「様式－２b」を提出してください。
C34: 〔評価項目③〕優良工事等表彰の受賞実績
C35: 実績の有無 | I35: 過去３年間に同じ工事分野で実績あり | X35: =IF(COUNTBLANK(F35:H39)=15," ← 該当するところに○",IF(COUNTBLANK(F35:H39)=13," ← どちらか一方に○",IF(COUNTBLANK(F35:H39)=12," ← いずれか一つに○",IF(COUNTBLANK(F35:H39)=11," ← いずれか一つに○",IF(COUNTBLANK(F35:H39)=10," ← いずれか一つに○",""))))) -> ← 該当するところに○
I36: 過去３年間に異なる工事分野で実績あり
I37: 過去10～４年間に同じ工事分野で実績あり
I38: 過去10～４年間に異なる工事分野で実績あり
I39: なし
C40: 受賞年度 | F40: 令和 | J40: 年度 | L40: 発注所属名
C41: 表彰の種類 | I41: 神奈川県優良工事等表彰（知事表彰） | X41: =IF(COUNTBLANK(F41:H42)=6," ← 該当する方に○",IF(COUNTBLANK(F41:H42)=4," ← どちらか一方に○","")) -> ← 該当する方に○
I42: 県土整備局（部）優良工事等局（部）長表彰
C44: 〔評価項目④〕地域精通度
C45: 所在の有無 | I45: あり | M45: =IF(COUNTBLANK(F45:H46)=6," ← 該当する方に○",IF(COUNTBLANK(F45:H46)=4," ← どちらか一方に○","")) -> ← 該当する方に○
I46: なし
C47: 〔添付資料〕 | F47: 建設業の許可証等（過去５年前からの所在を証明する書類）の写しを添付してください。
C49: 〔評価項目⑤〕ISO9001の認証取得
C50: 取得の有無 | I50: あり | M50: =IF(COUNTBLANK(F50:H51)=6," ← 該当する方に○",IF(COUNTBLANK(F50:H51)=4," ← どちらか一方に○","")) -> ← 該当する方に○
I51: なし
C52: 〔添付資料〕 | F52: 建設工事に関する「ISO9001」認証の登録証の写しを添付してください。
C54: 〔評価項目⑥〕ISO14001の認証取得
C55: 実績の有無 | I55: あり | M55: =IF(COUNTBLANK(F55:H56)=6," ← 該当する方に○",IF(COUNTBLANK(F55:H56)=4," ← どちらか一方に○","")) -> ← 該当する方に○
I56: なし
C57: 〔添付資料〕 | F57: 環境マネジメントの「ISO14001」認証の登録証の写しを添付してください。

Sheet 様式－2b
C7: （様式－２ｂ） | F7: =+IF('技術資料表紙（入札参加者）'!E7=0,"商号又は名称： ","商号又は名称："&'技術資料表紙（入札参加者）'!E7) -> 商号又は名称：
C9: 工事成績の実績表
D11: 該当する全ての工事案件について、「工事の情報」、「工事成績評定点」を記載してください。
D12: ※ ＪＶとして入札参加する場合には、所属企業名（略称での記載可）も記載してください。略称単体企業として入札参加する場合は記載は不要です。
D13: 注１：「工事成績評定点」の記載に誤りがある場合は０点とするが、平均点が65点未満となる場合は、評価基準に基づき減点する。
D14: 注２：該当する全ての工事案件を記載することとし、欄が不足する場合は用紙を追加し記載すること。
D15: 注３：該当する工事案件の記載漏れがある場合と、該当しない工事案件の記載がある場合は、この評価項目の評価点は、０点とする。
D16: 注４：該当する完成検査のみ記入すること（「出来形検査」や「部分指定に係る完成検査」は記入しないこと）。
C17: 番号 | D17: 工事の情報 | AG17: 工事成績 評定点 | AJ17: 所属 企業名※ | AN17: =IF(AG18=0," ",ROUNDDOWN(AN18/AM18,0))
C18: 1 | D18: 完成年度 | G18: 令和 | K18: 年度 | M18: 工事番号 | U18: 発注所属名 | AI18: 点 | AM18: =SUM(AM19:AM38) -> 0 | AN18: =SUM(AN19:AN38) -> 0
AL19: 1 | AM19: =+IF(AN19=0,0,1) -> 0 | AN19: =+AG18 -> 0
C20: 2 | D20: 完成年度 | G20: 令和 | K20: 年度 | M20: 工事番号 | U20: 発注所属名 | AI20: 点 | AL20: 2 | AM20: =+IF(AN20=0,0,1) -> 0 | AN20: =+AG20 -> 0
AL21: 3 | AM21: =+IF(AN21=0,0,1) -> 0 | AN21: =+AG22 -> 0
C22: 3 | D22: 完成年度 | G22: 令和 | K22: 年度 | M22: 工事番号 | U22: 発注所属名 | AI22: 点 | AL22: 4 | AM22: =+IF(AN22=0,0,1) -> 0 | AN22: =+AG24 -> 0
AL23: 5 | AM23: =+IF(AN23=0,0,1) -> 0 | AN23: =+AG26 -> 0
C24: 4 | D24: 完成年度 | G24: 令和 | K24: 年度 | M24: 工事番号 | U24: 発注所属名 | AI24: 点 | AL24: 6 | AM24: =+IF(AN24=0,0,1) -> 0 | AN24: =+AG28 -> 0
AL25: 7 | AM25: =+IF(AN25=0,0,1) -> 0 | AN25: =+AG30 -> 0
C26: 5 | D26: 完成年度 | G26: 令和 | K26: 年度 | M26: 工事番号 | U26: 発注所属名 | AI26: 点 | AL26: 8 | AM26: =+IF(AN26=0,0,1) -> 0 | AN26: =+AG32 -> 0
AL27: 9 | AM27: =+IF(AN27=0,0,1) -> 0 | AN27: =+AG34 -> 0
C28: 6 | D28: 完成年度 | G28: 令和 | K28: 年度 | M28: 工事番号 | U28: 発注所属名 | AI28: 点 | AL28: 10 | AM28: =+IF(AN28=0,0,1) -> 0 | AN28: =+AG36 -> 0
AL29: 11 | AM29: =+IF(AN29=0,0,1) -> 0 | AN29: =+AG38 -> 0
C30: 7 | D30: 完成年度 | G30: 令和 | K30: 年度 | M30: 工事番号 | U30: 発注所属名 | AI30: 点 | AL30: 12 | AM30: =+IF(AN30=0,0,1) -> 0 | AN30: =+AG40 -> 0
AL31: 13 | AM31: =+IF(AN31=0,0,1) -> 0 | AN31: =+AG42 -> 0
C32: 8 | D32: 完成年度 | G32: 令和 | K32: 年度 | M32: 工事番号 | U32: 発注所属名 | AI32: 点 | AL32: 14 | AM32: =+IF(AN32=0,0,1) -> 0 | AN32: =+AG44 -> 0
AL33: 15 | AM33: =+IF(AN33=0,0,1) -> 0 | AN33: =+AG46 -> 0
C34: 9 | D34: 完成年度 | G34: 令和 | K34: 年度 | M34: 工事番号 | U34: 発注所属名 | AI34: 点 | AL34: 16 | AM34: =+IF(AN34=0,0,1) -> 0 | AN34: =+AG48 -> 0
AL35: 17 | AM35: =+IF(AN35=0,0,1) -> 0 | AN35: =+AG50 -> 0
C36: 10 | D36: 完成年度 | G36: 令和 | K36: 年度 | M36: 工事番号 | U36: 発注所属名 | AI36: 点 | AL36: 18 | AM36: =+IF(AN36=0,0,1) -> 0 | AN36: =+AG52 -> 0
AL37: 19 | AM37: =+IF(AN37=0,0,1) -> 0 | AN37: =+AG54 -> 0
C38: 11 | D38: 完成年度 | G38: 令和 | K38: 年度 | M38: 工事番号 | U38: 発注所属名 | AI38: 点 | AL38: 20 | AM38: =+IF(AN38=0,0,1) -> 0 | AN38: =+AG56 -> 0
C40: 12 | D40: 完成年度 | G40: 令和 | K40: 年度 | M40: 工事番号 | U40: 発注所属名 | AI40: 点
C42: 13 | D42: 完成年度 | G42: 令和 | K42: 年度 | M42: 工事番号 | U42: 発注所属名 | AI42: 点
C44: 14 | D44: 完成年度 | G44: 令和 | K44: 年度 | M44: 工事番号 | U44: 発注所属名 | AI44: 点
C46: 15 | D46: 完成年度 | G46: 令和 | K46: 年度 | M46: 工事番号 | U46: 発注所属名 | AI46: 点
C48: 16 | D48: 完成年度 | G48: 令和 | K48: 年度 | M48: 工事番号 | U48: 発注所属名 | AI48: 点
C50: 17 | D50: 完成年度 | G50: 令和 | K50: 年度 | M50: 工事番号 | U50: 発注所属名 | AI50: 点
C52: 18 | D52: 完成年度 | G52: 令和 | K52: 年度 | M52: 工事番号 | U52: 発注所属名 | AI52: 点
C54: 19 | D54: 完成年度 | G54: 令和 | K54: 年度 | M54: 工事番号 | U54: 発注所属名 | AI54: 点
C56: 20 | D56: 完成年度 | G56: 令和 | K56: 年度 | M56: 工事番号 | U56: 発注所属名 | AI56: 点

Sheet 様式-3
C8: （様式－３） | F8: =+IF('技術資料表紙（入札参加者）'!E7=0,"商号又は名称： ","商号又は名称："&'技術資料表紙（入札参加者）'!E7) -> 商号又は名称：
C10: 配置予定技術者の技術的能力
C12: 太枠内の着色したセルに記載してください。配置予定技術者の氏名が未記載の場合は、その技術者の評価点は０点とします。
C13: この様式に関係する添付資料は、この様式の後に綴じてください。
C15: 配置予定技術者の氏名 | I15: 1
C17: 〔評価項目⑦〕過去の同種工事の施工実績
C18: 実績の有無 | I18: あり | M18: =IF(COUNTBLANK(F18:H19)=6," ← 該当する方に○",IF(COUNTBLANK(F18:H19)=4," ← どちらか一方に○","")) -> ← 該当する方に○ | AI18: 〇
I19: なし
C20: 工 事 名
C21: 発注所属名
C22: 工期(最終) | F22: 令和 | J22: 年 | M22: 月 | P22: 日 | Q22: から | S22: 令和 | W22: 年 | Z22: 月 | AC22: 日 | AD22: まで
C23: ｺﾘﾝｽﾞ登録番号 | P23: =IF(COUNTBLANK(F23:O23)>0," ← 10桁の番号を入力","") -> ← 10桁の番号を入力
C24: 備 考 ※
C26: 〔添付資料〕 | F26: 工事実績を証明するコリンズデータの写しを添付してください。コリンズデータのみで証明できない場合は、その工事の契約書や図面、数量総括表等の写しをあわせて添付してください。
F28: 評価項目①の添付資料が、評価項目⑦の添付資料を兼ねる場合には添付資料を省略することができる。（添付を省略する場合は、評価項目①の省略欄にチェックを入れること。）
F29: ※ 同種工事実績に該当することの補足説明が必要な場合は、備考欄に記載すること。
C31: 〔評価項目⑧〕過去３年間の工事成績評定実績
C32: 実績の有無 | I32: あり | M32: =IF(COUNTBLANK(F32:H33)=6," ← 該当する方に○",IF(COUNTBLANK(F32:H33)=4," ← どちらか一方に○","")) -> ← 該当する方に○
I33: なし
C34: 完成年度 | F34: 令和 | I34: 年度 | J34: 工事番号 | P34: 発注所属名 | Z34: 評定点 | AE34: 点
C35: ※ 上記の「完成年度」～「評定点」まで、いずれかの記載ができない場合と、別の企業での実績の場合は、下記も記載してください。
C36: 工事名
C37: 工事場所
C38: 工期(最終) | F38: 令和 | J38: 年 | M38: 月 | P38: 日 | Q38: から | S38: 令和 | W38: 年 | Z38: 月 | AC38: 日 | AD38: まで
C39: 請負会社名 | P39: =IF(COUNTBLANK(F39)>0," ← 現在の企業と別の企業の実績の場合に記入","") -> ← 現在の企業と別の企業の実績の場合に記入
C41: 〔評価項目⑨〕取得資格
C42: 資格の有無 | I42: あり | M42: =IF(COUNTBLANK(F42:H43)=6," ← 該当する方に○",IF(COUNTBLANK(F42:H43)=4," ← どちらか一方に○","")) -> ← 該当する方に○
I43: なし
C44: 〔添付資料〕 | F44: 監理技術者資格者証の写し（表面及び裏面）を添付してください。
C47: 〔評価項目⑩〕継続教育（CPD）実績
C48: 実績の有無 | I48: あり | M48: =IF(COUNTBLANK(F48:H49)=6," ← 該当する方に○",IF(COUNTBLANK(F48:H49)=4," ← どちらか一方に○","")) -> ← 該当する方に○
I49: なし
C50: 〔添付資料〕 | F50: 証明（認定）機関が発行する証明書の写しを添付してください。
C52: 〔評価項目⑪〕若手技術者・担い手の育成実績
C53: 実績の有無 | I53: 35歳未満で実績あり | S53: =IF(COUNTBLANK(F53:H55)=9," ← 該当するところに○",IF(COUNTBLANK(F53:H54)=7," ← どちらか一方に○",IF(COUNTBLANK(F53:H54)=6," ← いずれか一つに○",""))) -> ← 該当するところに○
I54: なし
C55: 完成検査日の年齢 | I55: 歳 | J55: =IF(COUNTBLANK(F55)>0," ← 下記に記載する工事の完成検査日時点の年齢を記入してください。","") -> ← 下記に記載する工事の完成検査日時点の年齢を記入してください。
C56: 完成年度 | F56: 令和 | I56: 年度 | J56: 工事番号 | P56: 発注所属名 | Z56: 評定点 | AE56: 点
C57: ※ 上記の「完成年度」～「評定点」まで、いずれかの記載ができない場合は、下記も記載してください。
C58: 工事名
C59: 工事場所
C60: 工期(最終) | F60: 令和 | J60: 年 | M60: 月 | P60: 日 | Q60: から | S60: 令和 | W60: 年 | Z60: 月 | AC60: 日 | AD60: まで
C61: 〔添付資料〕 | F61: 「氏名」と「生年月日」が記載されている公の機関が発行した証明書等の写しを添付してください。

Sheet 様式-3 (2人目)
C8: （様式－３） | F8: =+IF('技術資料表紙（入札参加者）'!E7=0,"商号又は名称： ","商号又は名称："&'技術資料表紙（入札参加者）'!E7) -> 商号又は名称：
C10: 配置予定技術者の技術的能力
C12: 太枠内の着色したセルに記載してください。配置予定技術者の氏名が未記載の場合は、その技術者の評価点は０点とします。
C13: この様式に関係する添付資料は、この様式の後に綴じてください。
C15: 配置予定技術者の氏名 | I15: 2
C17: 〔評価項目⑦〕過去の同種工事の施工実績
C18: 実績の有無 | I18: あり | M18: =IF(COUNTBLANK(F18:H19)=6," ← 該当する方に○",IF(COUNTBLANK(F18:H19)=4," ← どちらか一方に○","")) -> ← 該当する方に○ | AI18: 〇
I19: なし
C20: 工 事 名
C21: 発注所属名
C22: 工期(最終) | F22: 令和 | J22: 年 | M22: 月 | P22: 日 | Q22: から | S22: 令和 | W22: 年 | Z22: 月 | AC22: 日 | AD22: まで
C23: ｺﾘﾝｽﾞ登録番号 | P23: =IF(COUNTBLANK(F23:O23)>0," ← 10桁の番号を入力","") -> ← 10桁の番号を入力
C24: 備 考 ※
C26: 〔添付資料〕 | F26: 工事実績を証明するコリンズデータの写しを添付してください。コリンズデータのみで証明できない場合は、その工事の契約書や図面、数量総括表等の写しをあわせて添付してください。
F28: 評価項目①の添付資料が、評価項目⑦の添付資料を兼ねる場合には添付資料を省略することができる。（添付を省略する場合は、評価項目①の省略欄にチェックを入れること。）
F29: ※ 同種工事実績に該当することの補足説明が必要な場合は、備考欄に記載すること。
C31: 〔評価項目⑧〕過去３年間の工事成績評定実績
C32: 実績の有無 | I32: あり | M32: =IF(COUNTBLANK(F32:H33)=6," ← 該当する方に○",IF(COUNTBLANK(F32:H33)=4," ← どちらか一方に○","")) -> ← 該当する方に○
I33: なし
C34: 完成年度 | F34: 令和 | I34: 年度 | J34: 工事番号 | P34: 発注所属名 | Z34: 評定点 | AE34: 点
C35: ※ 上記の「完成年度」～「評定点」まで、いずれかの記載ができない場合と、別の企業での実績の場合は、下記も記載してください。
C36: 工事名
C37: 工事場所
C38: 工期(最終) | F38: 令和 | J38: 年 | M38: 月 | P38: 日 | Q38: から | S38: 令和 | W38: 年 | Z38: 月 | AC38: 日 | AD38: まで
C39: 請負会社名 | P39: =IF(COUNTBLANK(F39)>0," ← 現在の企業と別の企業の実績の場合に記入","") -> ← 現在の企業と別の企業の実績の場合に記入
C41: 〔評価項目⑨〕取得資格
C42: 資格の有無 | I42: あり | M42: =IF(COUNTBLANK(F42:H43)=6," ← 該当する方に○",IF(COUNTBLANK(F42:H43)=4," ← どちらか一方に○","")) -> ← 該当する方に○
I43: なし
C44: 〔添付資料〕 | F44: 監理技術者資格者証の写し及び監理技術者講習修了証の写しを添付してください。
C47: 〔評価項目⑩〕継続教育（CPD）実績
C48: 実績の有無 | I48: あり | M48: =IF(COUNTBLANK(F48:H49)=6," ← 該当する方に○",IF(COUNTBLANK(F48:H49)=4," ← どちらか一方に○","")) -> ← 該当する方に○
I49: なし
C50: 〔添付資料〕 | F50: 証明（認定）機関が発行する証明書の写しを添付してください。
C52: 〔評価項目⑪〕若手技術者・担い手の育成実績
C53: 実績の有無 | I53: 35歳未満で実績あり | S53: =IF(COUNTBLANK(F53:H54)=6," ← 該当するところに○",IF(COUNTBLANK(F53:H54)=4," ← どちらか一方に○","")) -> ← 該当するところに○
I54: なし
C55: 完成検査日の年齢 | I55: 歳 | J55: =IF(COUNTBLANK(F55)>0," ← 下記に記載する工事の完成検査日時点の年齢を記入してください。","") -> ← 下記に記載する工事の完成検査日時点の年齢を記入してください。
C56: 完成年度 | F56: 令和 | I56: 年度 | J56: 工事番号 | P56: 発注所属名 | Z56: 評定点 | AE56: 点
C57: ※ 上記の「完成年度」～「評定点」まで、いずれかの記載ができない場合は、下記も記載してください。
C58: 工事名
C59: 工事場所
C60: 工期(最終) | F60: 令和 | J60: 年 | M60: 月 | P60: 日 | Q60: から | S60: 令和 | W60: 年 | Z60: 月 | AC60: 日 | AD60: まで
C61: 〔添付資料〕 | F61: 「氏名」と「生年月日」が記載されている公の機関が発行した証明書等の写しを添付してください。

Sheet 様式- 4
C9: （様式－４） | F9: =+IF('技術資料表紙（入札参加者）'!E7=0,"商号又は名称： ","商号又は名称："&'技術資料表紙（入札参加者）'!E7) -> 商号又は名称：
C11: 企業の社会性・信頼性
C13: 太枠内の着色したセルに記載してください。
C14: この様式に関係する添付資料は、この様式の後に綴じてください。
C16: 〔評価項目⑫災害時等の地域貢献
C17: 協定等の 有無 | I17: あり | M17: =IF(COUNTBLANK(F17:H18)=6," ← 該当する方に○",IF(COUNTBLANK(F17:H18)=4," ← どちらか一方に○","")) -> ← 該当する方に○ | AI17: 〇
I18: なし
C19: 〔添付資料〕 | F19: 協定等の写しを添付してください。協定等の締結者が団体等である場合は、その協定等に基づき実際に出動するものであることを締結者が証明する資料も添付してください。
C22: 〔評価項目⑬〕建設業労働災害防止協会への加入
C23: 加入の有無 | I23: あり | M23: =IF(COUNTBLANK(F23:H24)=6," ← 該当する方に○",IF(COUNTBLANK(F23:H24)=4," ← どちらか一方に○","")) -> ← 該当する方に○
I24: なし
C25: 〔添付資料〕 | F25: 建設業労働災害防止協会神奈川支部の加入証明書の写しを添付してください。
C27: 〔評価項目⑭〕登録基幹技能者の配置
C28: 配置の有無 | I28: あり | M28: =IF(COUNTBLANK(F28:H29)=6," ← 該当する方に○",IF(COUNTBLANK(F28:H29)=4," ← どちらか一方に○","")) -> ← 該当する方に○
I29: なし
C30: 〔添付資料〕 | F30: 登録基幹技能者講習修了証（複数指定の場合は、全て）の写しを添付してください。
C32: 〔評価項目⑮〕新卒者の雇用実績
C33: 雇用実績の 有無 | I33: あり（指定学科） | O33: =IF(COUNTBLANK(F33:H34)=6," ← 該当する方に○",IF(COUNTBLANK(F33:H34)=4," ← どちらか一方に○","")) -> ← 該当する方に○
I34: あり（指定学科以外）
I35: なし
C36: 〔添付資料〕 | F36: 雇用年月日を確認する資料として「健康保険・厚生年金保険被保険者標準報酬決定通知書」等の写しを添付してください。 正規雇用を確認する資料として、雇用契約書や労働条件通知書等の写しを添付してください。 卒業年次及び指定学科の卒業であることを確認する資料として卒業証書の写し又は卒業証明書等を添付してください。
C41: 〔評価項目⑯〕建設ｷｬﾘｱｱｯﾌﾟｼｽﾃﾑの事業者登録
C42: 事業者登録の 有無 | I42: あり | M42: =IF(COUNTBLANK(F42:H43)=6," ← 該当する方に○",IF(COUNTBLANK(F42:H43)=4," ← どちらか一方に○","")) -> ← 該当する方に○
I43: なし
C44: 〔添付資料〕 | F44: 技術資料提出期限（提出期間の最終日）時点における元請負者の事業者登録を確認する資料として、事業者登録完了のお知らせ（はがき）の写し、事業者登録完了メールの写し、建設ｷｬﾘｱｱｯﾌﾟｼｽﾃﾑの事業者情報画面を印刷したもの、のいずれかを添付してください。
C49: 〔評価項目⑰〕女性技術者の活躍
C50: 女性技術者 配置の有無 | I50: あり | M50: =IF(COUNTBLANK(F50:H51)=6," ← 該当する方に○",IF(COUNTBLANK(F50:H51)=4," ← どちらか一方に○","")) -> ← 該当する方に○
I51: なし
C52: 〔添付資料〕 | F52: 性別を確認する資料として、公の機関等が発行した証明書（「マイナンバーカード（おもて面）」、「パスポート」又は「雇用保険被保険者資格取得等確認通知書（事業主通知用）」）の写しを添付してください。また、技術資料提出時に配置予定の女性技術者を特定出来ない場合は、複数の女性技術者に関する資料を添付してください。 なお、マイナンバーカード（おもて面）の写しの提出にあたっては、氏名・性別確認に不要な「臓器提供意思表示欄」等は黒塗り等のマスキングを施してください。また、マイナンバーが記載されたカード裏面の写しは提出しないでください。マイナンバーが記載されたカード裏面の写しが提出された場合には、県にて当該資料を廃棄し、本評価項目は評価しませんのでご留意ください。

Sheet 様式- 5
C8: （様式－５） | F8: =+IF('技術資料表紙（入札参加者）'!E7=0,"商号又は名称： ","商号又は名称："&'技術資料表紙（入札参加者）'!E7) -> 商号又は名称：
C10: 地域特有の課題（施策）への取組
C13: 太枠内の着色したセルに記載してください。
C14: この様式に関係する添付資料は、この様式の後に綴じてください。
C16: 〔評価項目⑱〕自由設定項目－１
C17: 該当の有無 | I17: あり | M17: =IF(COUNTBLANK(F17:H18)=6," ← 該当する方に○",IF(COUNTBLANK(F17:H18)=4," ← どちらか一方に○","")) -> ← 該当する方に○ | AI17: 〇
I18: なし
C19: 〔添付資料〕 | F19: 該当事項を証明する資料の写しを添付すること。
C22: 〔評価項目⑱〕自由設定項目－２
C23: 該当の有無 | I23: あり | M23: =IF(COUNTBLANK(F23:H24)=6," ← 該当する方に○",IF(COUNTBLANK(F23:H24)=4," ← どちらか一方に○","")) -> ← 該当する方に○
I24: なし
C25: 〔添付資料〕 | F25: 該当事項を証明する資料の写しを添付すること。
C28: 〔評価項目⑱〕自由設定項目－３
C29: 該当の有無 | I29: あり | M29: =IF(COUNTBLANK(F29:H30)=6," ← 該当する方に○",IF(COUNTBLANK(F29:H30)=4," ← どちらか一方に○","")) -> ← 該当する方に○
I30: なし
C31: 〔添付資料〕 | F31: 該当事項を証明する資料の写しを添付すること。

Sheet 登録基幹技能者配置表
B3: 工事名：
B4: 受注者：
C5: 技能者氏名 | D5: 配置する 工種名 | E5: 資格者の 修了証番号 | F5: 所属企業名 | G5: 備 考
C6: 注
B7: 登録○○基幹技能者
C9: 技能者氏名 | D9: 配置する 工種名 | E9: 資格者の 修了証番号 | F9: 所属企業名 | G9: 備 考
C10: 注
B11: 登録○○基幹技能者
C13: 技能者氏名 | D13: 配置する 工種名 | E13: 資格者の 修了証番号 | F13: 所属企業名 | G13: 備 考
C14: 注
B15: 登録○○基幹技能者
B17: 注 技能者氏名欄には、技術資料に記述した登録基幹技能者の資格者を記載してください。ただし、やむを得ない事情
B18: （下請業者の変更等）がある場合は、監督員と協議してください。
