Workbook

Sheet （発注所属入力）
C7: 水色のセルは、直接入力してください。
C9: 黄色のセルは、プルダウンから選択してください。
B11: 発注情報
B12: 所属長名 | C12: 神奈川県知事 黒岩 祐治 | D12: ← 直接入力
B13: 委託業務番号 | C13: 県土経２-14
B14: 委託業務名 | C14: 令和８年度 路面下空洞調査業務委託
B16: タイプ | C16: 簡易型 | D16: ← プルダウン
B18: 落札者決定基準 | D18: 基準 | F18: 当該発注業務
B19: 企業の技術力 | D19: 適用 | E19: 評価点 | F19: 適用 | G19: 評価点 | H19: 備考
B20: =+IF(C16=I47,J47,IF(C16=I48,J48)) -> 業務実施方針 | D20: － | E20: =+IF(C16=I47,K47,IF(C16=I48,K48)) -> 5 | F20: － | G20: =+E20 -> 5
B21: 企業の技術的能力
B22: ① | C22: 過去の同種業務実績 | D22: 必須 | E22: 1 | F22: 〇 | G22: 1 | H22: 求める実績件数 | I22: 1 | J22: ←求める実績件数を選択
B23: ② | C23: 地域精通度 | D23: 必須 | E23: 1 | F23: 〇 | G23: =+IF(F23="〇",E23," ") -> 1
B24: ③ | C24: 過去３年間の業務成績評定点の平均点 | D24: 必須 | E24: 2 | F24: 〇 | G24: 2 | H24: 営業種目 | I24: 「道路」又は「土質及び基礎」
B25: ④ | C25: ISO9001の認証取得 | D25: 選択 | E25: 1 | F25: － | G25: =+IF(F25="〇",E25," ")
B26: 配置予定管理技術者 の技術的能力
B27: ⑤ | C27: 取得資格 | D27: 必須 | E27: 1 | F27: 〇 | G27: =+IF(F27="〇",E27," ") -> 1
B28: ⑥ | C28: 過去の同種業務実績 | D28: 必須 | E28: 1 | F28: 〇 | G28: =+IF(F28="〇",E28," ") -> 1
B29: ⑦ | C29: 過去３年間の業務成績実績 | D29: 必須 | E29: 1 | F29: 〇 | G29: =+IF(F29="〇",E29," ") -> 1
B30: ⑧ | C30: 手持ち業務数 | D30: 必須 | E30: 1 | F30: 〇 | G30: =+IF(F30="〇",E30," ") -> 1
B31: ⑨ | C31: 継続教育（CPD）実績 | D31: 選択 | E31: 1 | F31: 〇 | G31: =+IF(F31="〇",E31," ") -> 1
B32: 配置予定担当技術者 の技術的能力
B33: ⑩ | C33: 取得資格 | D33: 必須 | E33: 1 | F33: 〇 | G33: =+IF(F33="〇",E33," ") -> 1
B34: ⑪ | C34: 過去の同種業務実績 | D34: 必須 | E34: 1 | F34: 〇 | G34: =+IF(F34="〇",E34," ") -> 1
B35: ⑫ | C35: 手持ち業務数 | D35: 必須 | E35: 1 | F35: 〇 | G35: =+IF(F35="〇",E35," ") -> 1
B36: ⑬ | C36: 若手技術者の活用 | D36: 選択 | E36: 1 | F36: 〇 | G36: =+IF(F36="〇",E36," ") -> 1
B37: 企業の社会性・信頼性、地域特有の課題 （施策）への 取組み
B38: ⑭ | C38: 災害協定に基づく活動実績 | D38: 選択 | E38: 1 | F38: － | G38: =+IF(F38="〇",E38," ")
B39: ⑮ | C39: 自由設定項目 | D39: 選択 | E39: 1 | F39: － | G39: =+IF(F39="〇",E39," ")
B41: 評価点計 | G41: =SUM(G20:G39) -> 18
D47: 〇 | E47: 2 | F47: 1 | I47: 簡易型 | J47: 業務実施方針 | K47: 5
D48: － | E48: 1 | F48: 3 | I48: 特別簡易型 | J48: － | K48: －
E49: 0

Sheet 技術資料表紙（入札参加者）
B2: 自己評価点申請書
E3: 令和 年 月 日
B4: ="神奈川県"&+'（発注所属入力）'!C12&" 殿" -> 神奈川県神奈川県知事 黒岩 祐治 殿
D5: （入札参加者） | F5: =+IF(OR(D7="",D6="",D9="",D7="",D10="",D11=""),"↓入力","") -> ↓入力
C6: 所在地
C7: 商号又は名称
C8: 代表者名
C9: （※）責任者
C10: （※）連絡担当者
C11: （※）電話番号
C13: 次の委託業務について、技術資料を提出します。内容については、事実と相違ないことを誓約します。
C14: =+"委託業務番号："&'（発注所属入力）'!C13 -> 委託業務番号：県土経２-14
C15: =+"委託業務名 ："&'（発注所属入力）'!C14 -> 委託業務名 ：令和８年度 路面下空洞調査業務委託
B16: 「総合評価方式に係る説明書」に記載の評価基準に基づき、自己評価による点数を自己評価点（入札者記入欄）に記載してください。
B17: （※）「責任者」、「連絡担当者」及び「電話番号」を記載した場合は、押印を省略できます。
B18: 押印を省略する場合で、「責任者」、「連絡担当者」及び「電話番号」の記載が無かった場合は、技術資料を無効とします。
B20: 評価種別・評価項目 | D20: 評価基準 | E20: 点数 | F20: 自己評価点 （入札者記入欄） | G20: 提出様式
B21: 業務実施方針 | D21: － | E21: =IF('（発注所属入力）'!G20="","－",'（発注所属入力）'!G20) -> 5 | F21: － | G21: 様式－1a 様式－1b
B22: 企業の技術的能力
B23: ① | C23: 過去の同種業務実績 | D23: あり | E23: 1 | G23: 様式－2a | H23: =+IF('（発注所属入力）'!F22='（発注所属入力）'!$D$48," ",IF(F23="","←入力","")) -> ←入力
D24: なし | E24: 0
B25: ② | C25: 地域精通度 | D25: =+IF('（発注所属入力）'!F23="〇","あり","－") -> あり | E25: =+IF(D25="あり",1,"－") -> 1 | G25: 様式－2a | H25: =+IF('（発注所属入力）'!F23='（発注所属入力）'!$D$48," ",IF(F25="","←入力","")) -> ←入力
D26: =+IF('（発注所属入力）'!F23="〇","なし","－") -> なし | E26: =+IF(D26="なし",0,"－") -> 0
B27: ③ | C27: 過去３年間の業務成績評定点の平均点 | D27: 80点以上 | E27: 2 | G27: 様式－2a様式－2b | H27: =+IF('（発注所属入力）'!F24='（発注所属入力）'!$D$48," ",IF(F27="","←入力","")) -> ←入力
D28: 75点以上80点未満 | E28: 1
D29: 60点以上75点未満 | E29: 0
D30: 55点以上60点未満 | E30: -1
D31: 55点未満 | E31: -2
D32: 実績なし | E32: 0
B33: ④ | C33: ISO9001の認証取得 | D33: =+IF('（発注所属入力）'!F25="〇","あり","－") -> － | E33: =+IF(D34="なし",1,"－") -> － | G33: 様式－2a | H33: =+IF('（発注所属入力）'!F25='（発注所属入力）'!$D$48," ",IF(F33="","←入力",""))
D34: =+IF('（発注所属入力）'!F25="〇","なし","－") -> － | E34: =+IF(D34="なし",0,"－") -> －
B35: 配置予定管理技術者 の技術的能力
B36: ⑤ | C36: 取得資格 | D36: あり | E36: 1 | G36: 様式－3 | H36: =+IF('（発注所属入力）'!F27='（発注所属入力）'!$D$48," ",IF(F36="","←入力","")) -> ←入力
D37: なし | E37: 0
B38: ⑥ | C38: 過去の同種業務実績 | D38: あり | E38: 1 | G38: 様式－3 | H38: =+IF('（発注所属入力）'!F28='（発注所属入力）'!$D$48," ",IF(F38="","←入力","")) -> ←入力
D39: なし | E39: 0
B40: ⑦ | C40: 過去３年間の業務成績評定点実績 | D40: あり | E40: 1 | G40: 様式－3 | H40: =+IF('（発注所属入力）'!F29='（発注所属入力）'!$D$48," ",IF(F40="","←入力","")) -> ←入力
D41: なし | E41: 0
B42: ⑧ | C42: 手持ち業務数 | D42: 評価基準の件数未満 | E42: 1 | G42: 様式－3 | H42: =+IF('（発注所属入力）'!F30='（発注所属入力）'!$D$48," ",IF(F42="","←入力","")) -> ←入力
D43: 評価基準の件数以上 | E43: 0
...

Sheet 様式- 2a
C7: （様式－２ａ） | F7: =+IF('技術資料表紙（入札参加者）'!D7=0,"商号又は名称： ","商号又は名称："&'技術資料表紙（入札参加者）'!D7) -> 商号又は名称：
C9: 企業の技術的能力
C11: 太枠内の着色したセルに記載してください。
C12: この様式に関係する添付資料は、この様式の後に綴じてください。
C14: 〔評価項目①〕過去の同種業務実績
A15: 1 | C15: 求める実績件数 | F15: =+'（発注所属入力）'!I22 -> 1 | G15: 件 | AH15: =IF(F15="3","〇","")
C16: 実績の有無 | I16: あり | M16: =IF(COUNTBLANK(F16:H17)=6," ← 該当する方に○",IF(COUNTBLANK(F16:H17)=4," ← どちらか一方に○","")) -> ← 該当する方に○ | AI16: 〇
I17: なし
C18: 業 務 名
C19: 発注機関名
C20: 工期(最終) | F20: 令和 | J20: 年 | M20: 月 | P20: 日 | Q20: から | S20: 令和 | W20: 年 | Z20: 月 | AC20: 日 | AD20: まで
C21: テクリス登録番号 | P21: =IF(COUNTBLANK(F21:O21)>0," ← 10桁の番号を入力","") -> ← 10桁の番号を入力
C22: 評価項目⑥・⑪ 添付資料の省略 ※１ | I22: ←評価項目①の添付資料が、評価項目⑥及び評価項目⑪「過去の同種業務実績」の 添付資料を兼ねる場合は〇
C24: 備 考※2
C25: 業 務 名
C26: 発注機関名
C27: 工期(最終) | F27: 令和 | J27: 年 | M27: 月 | P27: 日 | Q27: から | S27: 令和 | W27: 年 | Z27: 月 | AC27: 日 | AD27: まで
C28: テクリス登録番号 | P28: =IF(COUNTBLANK(F28:O28)>0," ← 10桁の番号を入力","") -> ← 10桁の番号を入力
C29: 備 考※2
C30: 業 務 名
C31: 発注機関名
C32: 工期(最終) | F32: 令和 | J32: 年 | M32: 月 | P32: 日 | Q32: から | S32: 令和 | W32: 年 | Z32: 月 | AC32: 日 | AD32: まで
C33: テクリス登録番号 | P33: =IF(COUNTBLANK(F33:O33)>0," ← 10桁の番号を入力","") -> ← 10桁の番号を入力
C34: 備 考※2
C35: 〔添付資料〕 | F35: 実績を確認する資料として、テクリスデータの写しを添付してください。TECRISにより業務内容が確認できないもの、及び発注機関からTECRIS登録が義務づけられていない業務については、総合評価方式に係る説明書で示した評価基準となる同種業務の実績が明確かつ容易に確認できる資料（契約書・内訳書・仕様書等から該当する箇所）の写しを添付のこと。なお、添付資料で明確かつ容易に確認できない場合はその実績は認めない。
F37: ※1 評価項目①の添付資料が、評価項目⑥「過去の同種業務実績」の添付資料を兼ねる場合は〇を記載すること。
F38: ※2 同種業務実績に該当することの補足説明が必要な場合は、備考欄に記載すること。
C40: 〔評価項目②〕地域精通度
C41: 実績の有無 | I41: あり | M41: =IF(COUNTBLANK(F41:H42)=6," ← 該当する方に○",IF(COUNTBLANK(F41:H42)=4," ← どちらか一方に○","")) -> ← 該当する方に○
I42: なし
C43: テクリス登録番号 | P43: =IF(COUNTBLANK(F43:O43)>0," ← 10桁の番号を入力","") -> ← 10桁の番号を入力
C44: 〔添付資料〕 | F44: TECRISにより業務内容が確認できないもの、及び発注機関からTECRIS登録が義務づけられていない業務については、総合評価方式に係る説明書で示した評価基準となる同種業務の実績が明確かつ容易に確認できる資料（契約書・内訳書・仕様書等から該当する箇所）の写しを添付のこと。なお、添付資料で明確かつ容易に確認できない場合はその実績は認めない。
F46: ※ 地域精通度の実績が「あり」の場合、該当する業務のTECRIS登録番号を１件記入する。
C48: 〔評価項目③〕過去３年間の業務成績評定点の平均点
C49: 実績の有無 | I49: あり | M49: =IF(COUNTBLANK(F49:H50)=6," ← 該当する方に○",IF(COUNTBLANK(F49:H50)=4," ← どちらか一方に○","")) -> ← 該当する方に○
I50: なし
C51: 平均点 | F51: =+IF(F49="〇",'様式－2b'!AN17,"") | I51: 点 | J51: （小数点以下切捨、整数止）
F52: ※ 過去３年間に該当業務がある場合は、「様式－２b」を提出してください。
C54: 〔評価項目④〕ISO9001の認証取得
C55: 取得の有無 | I55: あり | M55: =IF(COUNTBLANK(F55:H56)=6," ← 該当する方に○",IF(COUNTBLANK(F55:H56)=4," ← どちらか一方に○","")) -> ← 該当する方に○
...

Sheet 様式－2b
C7: （様式－２ｂ） | F7: =+IF('技術資料表紙（入札参加者）'!D7=0,"商号又は名称： ","商号又は名称："&'技術資料表紙（入札参加者）'!D7) -> 商号又は名称：
C9: 業務成績の実績表
D11: 該当する全ての業務案件について、「業務の情報」、「業務成績評定点」を記載してください。
D13: 注１：「業務成績評定点」の記載に誤りがある場合は０点とするが、平均点が60点未満となる場合は、評価基準に基づき減点する。
D14: 注２：該当する全ての業務案件を記載することとし、欄が不足する場合は用紙を追加し記載すること。
D15: 注３：該当する業務案件の記載漏れがある場合と、該当しない業務案件の記載がある場合は、この評価項目の評価点は、０点とする。
D16: 注４：完成検査時の成績のみを記入すること。
C17: 番号 | D17: 業務の情報 | AG17: 業務成績 評定点 | AN17: =IF(AG18=0," ",ROUNDDOWN(AN18/AM18,0))
C18: 1 | D18: 完成年度 | G18: 令和 | K18: 年度 | M18: 検査番号 | U18: 発注所属名 | AI18: 点 | AM18: =SUM(AM19:AM38) -> 0 | AN18: =SUM(AN19:AN38) -> 0
AL19: 1 | AM19: =+IF(AN19=0,0,1) -> 0 | AN19: =+AG18 -> 0
C20: 2 | D20: 完成年度 | G20: 令和 | K20: 年度 | M20: 検査番号 | U20: 発注所属名 | AI20: 点 | AL20: 2 | AM20: =+IF(AN20=0,0,1) -> 0 | AN20: =+AG20 -> 0
AL21: 3 | AM21: =+IF(AN21=0,0,1) -> 0 | AN21: =+AG22 -> 0
C22: 3 | D22: 完成年度 | G22: 令和 | K22: 年度 | M22: 検査番号 | U22: 発注所属名 | AI22: 点 | AL22: 4 | AM22: =+IF(AN22=0,0,1) -> 0 | AN22: =+AG24 -> 0
AL23: 5 | AM23: =+IF(AN23=0,0,1) -> 0 | AN23: =+AG26 -> 0
C24: 4 | D24: 完成年度 | G24: 令和 | K24: 年度 | M24: 検査番号 | U24: 発注所属名 | AI24: 点 | AL24: 6 | AM24: =+IF(AN24=0,0,1) -> 0 | AN24: =+AG28 -> 0
AL25: 7 | AM25: =+IF(AN25=0,0,1) -> 0 | AN25: =+AG30 -> 0
C26: 5 | D26: 完成年度 | G26: 令和 | K26: 年度 | M26: 検査番号 | U26: 発注所属名 | AI26: 点 | AL26: 8 | AM26: =+IF(AN26=0,0,1) -> 0 | AN26: =+AG32 -> 0
AL27: 9 | AM27: =+IF(AN27=0,0,1) -> 0 | AN27: =+AG34 -> 0
C28: 6 | D28: 完成年度 | G28: 令和 | K28: 年度 | M28: 検査番号 | U28: 発注所属名 | AI28: 点 | AL28: 10 | AM28: =+IF(AN28=0,0,1) -> 0 | AN28: =+AG36 -> 0
AL29: 11 | AM29: =+IF(AN29=0,0,1) -> 0 | AN29: =+AG38 -> 0
C30: 7 | D30: 完成年度 | G30: 令和 | K30: 年度 | M30: 検査番号 | U30: 発注所属名 | AI30: 点 | AL30: 12 | AM30: =+IF(AN30=0,0,1) -> 0 | AN30: =+AG40 -> 0
AL31: 13 | AM31: =+IF(AN31=0,0,1) -> 0 | AN31: =+AG42 -> 0
C32: 8 | D32: 完成年度 | G32: 令和 | K32: 年度 | M32: 検査番号 | U32: 発注所属名 | AI32: 点 | AL32: 14 | AM32: =+IF(AN32=0,0,1) -> 0 | AN32: =+AG44 -> 0
AL33: 15 | AM33: =+IF(AN33=0,0,1) -> 0 | AN33: =+AG46 -> 0
C34: 9 | D34: 完成年度 | G34: 令和 | K34: 年度 | M34: 検査番号 | U34: 発注所属名 | AI34: 点 | AL34: 16 | AM34: =+IF(AN34=0,0,1) -> 0 | AN34: =+AG48 -> 0
AL35: 17 | AM35: =+IF(AN35=0,0,1) -> 0 | AN35: =+AG50 -> 0
C36: 10 | D36: 完成年度 | G36: 令和 | K36: 年度 | M36: 検査番号 | U36: 発注所属名 | AI36: 点 | AL36: 18 | AM36: =+IF(AN36=0,0,1) -> 0 | AN36: =+AG52 -> 0
AL37: 19 | AM37: =+IF(AN37=0,0,1) -> 0 | AN37: =+AG54 -> 0
C38: 11 | D38: 完成年度 | G38: 令和 | K38: 年度 | M38: 検査番号 | U38: 発注所属名 | AI38: 点 | AL38: 20 | AM38: =+IF(AN38=0,0,1) -> 0 | AN38: =+AG56 -> 0
C40: 12 | D40: 完成年度 | G40: 令和 | K40: 年度 | M40: 検査番号 | U40: 発注所属名 | AI40: 点
C42: 13 | D42: 完成年度 | G42: 令和 | K42: 年度 | M42: 検査番号 | U42: 発注所属名 | AI42: 点
C44: 14 | D44: 完成年度 | G44: 令和 | K44: 年度 | M44: 検査番号 | U44: 発注所属名 | AI44: 点
C46: 15 | D46: 完成年度 | G46: 令和 | K46: 年度 | M46: 検査番号 | U46: 発注所属名 | AI46: 点
C48: 16 | D48: 完成年度 | G48: 令和 | K48: 年度 | M48: 検査番号 | U48: 発注所属名 | AI48: 点
C50: 17 | D50: 完成年度 | G50: 令和 | K50: 年度 | M50: 検査番号 | U50: 発注所属名 | AI50: 点
C52: 18 | D52: 完成年度 | G52: 令和 | K52: 年度 | M52: 検査番号 | U52: 発注所属名 | AI52: 点
C54: 19 | D54: 完成年度 | G54: 令和 | K54: 年度 | M54: 検査番号 | U54: 発注所属名 | AI54: 点
C56: 20 | D56: 完成年度 | G56: 令和 | K56: 年度 | M56: 検査番号 | U56: 発注所属名 | AI56: 点

Sheet 様式-3
C8: （様式－３） | F8: =+IF('技術資料表紙（入札参加者）'!D7=0,"商号又は名称： ","商号又は名称："&'技術資料表紙（入札参加者）'!D7) -> 商号又は名称：
C10: 配置予定管理技術者の技術的能力
C12: 太枠内の着色したセルに記載してください。配置予定技術者の氏名が未記載の場合は、その技術者の評価点は０点とします。
C13: この様式に関係する添付資料は、この様式の後に綴じてください。
C14: 技術資料提出時に配置予定管理技術者を特定できない場合は、競争参加資格の要件を満たす複数の候補者の技術資料を提出することができる。この場合、評価値の算出にあたっては、各候補者のうち、評価点の合計が最も低い者で評価する。
C16: 配置予定管理技術者の氏名
C18: 〔評価項目⑤〕取得資格
C19: 資格の有無 | I19: あり | M19: =IF(COUNTBLANK(F19:H20)=6," ← 該当する方に○",IF(COUNTBLANK(F19:H20)=4," ← どちらか一方に○","")) -> ← 該当する方に○
I20: なし
C21: 〔添付資料〕 | F21: 「総合評価方式に係る説明書」に記載されている評価対象の資格の取得（登録）を確認する資料として、資格証等の写しを添付してください
C23: 〔評価項目⑥〕過去の同種業務実績
C24: 実績の有無 | I24: あり | M24: =IF(COUNTBLANK(F24:H25)=6," ← 該当する方に○",IF(COUNTBLANK(F24:H25)=4," ← どちらか一方に○","")) -> ← 該当する方に○ | AI24: 〇
I25: なし
C26: 業 務 名
C27: 発注機関名
C28: 工期(最終) | F28: 令和 | J28: 年 | M28: 月 | P28: 日 | Q28: から | S28: 令和 | W28: 年 | Z28: 月 | AC28: 日 | AD28: まで
C29: テクリス登録番号 | P29: =IF(COUNTBLANK(F29:O29)>0," ← 10桁の番号を入力","") -> ← 10桁の番号を入力
C30: 備 考※
C31: 〔添付資料〕 | F31: 実績を確認する資料として、テクリスデータの写しを添付してください。TECRISにより業務内容が確認できないもの、及び発注機関からTECRIS登録が義務づけられていない業務については、総合評価方式に係る説明書で示した評価基準となる同種業務の実績が明確かつ容易に確認できる資料（契約書・内訳書・仕様書等から該当する箇所）の写しを添付のこと。なお、添付資料で明確かつ容易に確認できない場合はその実績は認めない。
F33: ※評価項目①の添付資料が、評価項目⑥「過去の同種業務実績」の添付資料を兼ねる場合には添付を省略することができる。 (添付を省略する場合は、評価項目①の省略欄にチェックを入れること。）
F34: ※ 同種業務実績に該当することの補足説明が必要な場合は、備考欄に記載すること。
F35: ※ 代表的な評価対象業務を１件、記載すること。
C37: 〔評価項目⑦〕過去３年間の業務成績評定点の実績
C38: 実績の有無 | I38: あり | M38: =IF(COUNTBLANK(F38:H39)=6," ← 該当する方に○",IF(COUNTBLANK(F38:H39)=4," ← どちらか一方に○","")) -> ← 該当する方に○
I39: なし
C40: 完成年度 | F40: 令和 | I40: 年度 | J40: 検査番号 | P40: 発注所属名 | Z40: 評定点 | AE40: 点
C41: ※ 別の企業での実績の場合は、下記も記載してください。
C42: 業 務 名
C43: 業務場所
C44: 工期(最終) | F44: 令和 | J44: 年 | M44: 月 | P44: 日 | Q44: から | S44: 令和 | W44: 年 | Z44: 月 | AC44: 日 | AD44: まで
C45: 受注業者名
C47: 〔評価項目⑧〕手持ち業務数
C48: 実績の有無 | I48: 評価基準の件数未満 | P48: =IF(COUNTBLANK(F48:H49)=6," ← 該当する方に○",IF(COUNTBLANK(F48:H49)=4," ← どちらか一方に○","")) -> ← 該当する方に○
I49: 評価基準の件数以上
C50: 手持ち業務数 | H50: 件
C51: 1 | D51: 業 務 名
D52: 工期(最終) | F52: 令和 | J52: 年 | M52: 月 | P52: 日 | Q52: から | S52: 令和 | W52: 年 | Z52: 月 | AC52: 日 | AD52: まで
D53: 契約金額 | L53: テクリス登録番号 | Y53: =IF(COUNTBLANK(O53:X53)>0," ← 10桁の番号を入力","") -> ← 10桁の番号を入力
C54: 2 | D54: 業 務 名
D55: 工期(最終) | F55: 令和 | J55: 年 | M55: 月 | P55: 日 | Q55: から | S55: 令和 | W55: 年 | Z55: 月 | AC55: 日 | AD55: まで
...

Sheet 様式-4
C8: （様式－４） | F8: =+IF('技術資料表紙（入札参加者）'!D7=0,"商号又は名称： ","商号又は名称："&'技術資料表紙（入札参加者）'!D7) -> 商号又は名称：
C10: 配置予定担当技術者の技術的能力
C12: 太枠内の着色したセルに記載してください。配置予定技術者の氏名が未記載の場合は、その技術者の評価点は０点とします。
C13: この様式に関係する添付資料は、この様式の後に綴じてください。
C14: 配置予定担当技術者を複数配置する場合で、技術資料提出時にすべての配置予定担当技術者を特定できる場合は、配置予定技術者のうち、最も評価点が高い者の技術資料のみ提出すること。（若手技術者を除く） 技術資料提出時に配置予定担当技術者を特定できない場合は、競争参加資格の要件を満たす複数の候補者の技術資料を提出することができる。この場合、評価値の算出にあたっては、各候補者のうち、評価点の合計(若手技術者を除く)が最も低い者で評価する。
C16: 配置予定担当技術者の氏名 （評価項目⑩～⑫）
C17: 配置予定担当技術者の氏名 （評価項目⑬）
C19: 〔評価項目⑩〕取得資格
C20: 資格の有無 | I20: あり | M20: =IF(COUNTBLANK(F20:H21)=6," ← 該当する方に○",IF(COUNTBLANK(F20:H21)=4," ← どちらか一方に○","")) -> ← 該当する方に○
I21: なし
C22: 〔添付資料〕 | F22: 「総合評価方式に係る説明書」に記載されている評価対象の資格の取得（登録）を確認する資料として、資格証等の写しを添付してください
C24: 〔評価項目⑪〕過去の同種業務実績
C25: 実績の有無 | I25: あり | M25: =IF(COUNTBLANK(F25:H26)=6," ← 該当する方に○",IF(COUNTBLANK(F25:H26)=4," ← どちらか一方に○","")) -> ← 該当する方に○ | AI25: 〇
I26: なし
C27: 業 務 名
C28: 発注機関名
C29: 工期(最終) | F29: 令和 | J29: 年 | M29: 月 | P29: 日 | Q29: から | S29: 令和 | W29: 年 | Z29: 月 | AC29: 日 | AD29: まで
C30: テクリス登録番号 | P30: =IF(COUNTBLANK(F30:O30)>0," ← 10桁の番号を入力","") -> ← 10桁の番号を入力
C31: 備 考※
C32: 〔添付資料〕 | F32: 実績を確認する資料として、テクリスデータの写しを添付してください。TECRISにより業務内容が確認できないもの、及び発注機関からTECRIS登録が義務づけられていない業務については、総合評価方式に係る説明書で示した評価基準となる同種業務の実績が明確かつ容易に確認できる資料（契約書・内訳書・仕様書等から該当する箇所）の写しを添付のこと。なお、添付資料で明確かつ容易に確認できない場合はその実績は認めない。
F34: ※評価項目①の添付資料が、評価項目⑪「過去の同種業務実績」の添付資料を兼ねる場合には添付を省略することができる。 (添付を省略する場合は、評価項目①の省略欄にチェックを入れること。）
F35: ※ 同種業務実績に該当することの補足説明が必要な場合は、備考欄に記載すること。
F36: ※ 代表的な評価対象業務を１件、記載すること。
C38: 〔評価項目⑫〕手持ち業務数
C39: 実績の有無 | I39: 評価基準の件数未満 | P39: =IF(COUNTBLANK(F39:H40)=6," ← 該当する方に○",IF(COUNTBLANK(F39:H40)=4," ← どちらか一方に○","")) -> ← 該当する方に○
I40: 評価基準の件数以上
C41: 手持ち業務数 | H41: 件
C42: 1 | D42: 業 務 名
D43: 工期(最終) | F43: 令和 | J43: 年 | M43: 月 | P43: 日 | Q43: から | S43: 令和 | W43: 年 | Z43: 月 | AC43: 日 | AD43: まで
D44: 契約金額 | L44: テクリス登録番号 | Y44: =IF(COUNTBLANK(O44:X44)>0," ← 10桁の番号を入力","") -> ← 10桁の番号を入力
C45: 2 | D45: 業 務 名
D46: 工期(最終) | F46: 令和 | J46: 年 | M46: 月 | P46: 日 | Q46: から | S46: 令和 | W46: 年 | Z46: 月 | AC46: 日 | AD46: まで
D47: 契約金額 | L47: テクリス登録番号 | Y47: =IF(COUNTBLANK(O47:X47)>0," ← 10桁の番号を入力","") -> ← 10桁の番号を入力
C48: 3 | D48: 業 務 名
D49: 工期(最終) | F49: 令和 | J49: 年 | M49: 月 | P49: 日 | Q49: から | S49: 令和 | W49: 年 | Z49: 月 | AC49: 日 | AD49: まで
D50: 契約金額 | L50: テクリス登録番号 | Y50: =IF(COUNTBLANK(O50:X50)>0," ← 10桁の番号を入力","") -> ← 10桁の番号を入力
C51: 4 | D51: 業 務 名
D52: 工期(最終) | F52: 令和 | J52: 年 | M52: 月 | P52: 日 | Q52: から | S52: 令和 | W52: 年 | Z52: 月 | AC52: 日 | AD52: まで
D53: 契約金額 | L53: テクリス登録番号 | Y53: =IF(COUNTBLANK(O53:X53)>0," ← 10桁の番号を入力","") -> ← 10桁の番号を入力
C54: 5 | D54: 業 務 名
...

Sheet 様式- 5
C8: （様式－５） | F8: =+IF('技術資料表紙（入札参加者）'!D7=0,"商号又は名称： ","商号又は名称："&'技術資料表紙（入札参加者）'!D7) -> 商号又は名称：
C10: 企業の社会性・信頼性及び地域特有の課題（施策）への取組
C13: 太枠内の着色したセルに記載してください。
C14: この様式に関係する添付資料は、この様式の後に綴じてください。
C16: 〔評価項目⑭〕災害協定に基づく活動実績
C17: 実績の有無 | I17: あり | M17: =IF(COUNTBLANK(F17:H18)=6," ← 該当する方に○",IF(COUNTBLANK(F17:H18)=4," ← どちらか一方に○","")) -> ← 該当する方に○ | AI17: 〇
I18: なし
C19: 〔添付資料〕 | F19: 「契約書の写し」及び「応急対策業務に関する支援要請書」等の資料の写しを添付すること。
F20: ※ 代表的な評価対象業務１件について、資料を添付すること。
C22: 〔評価項目⑮〕自由設定項目
C23: 該当の有無 | I23: あり | M23: =IF(COUNTBLANK(F23:H24)=6," ← 該当する方に○",IF(COUNTBLANK(F23:H24)=4," ← どちらか一方に○","")) -> ← 該当する方に○ | AI23: 〇
I24: なし
C25: 〔添付資料〕 | F25: 該当事項を証明する資料の写しを添付すること。
