Workbook
Name PC橋梁_上部_工事: 様式5!$BA$57:$BA$68
Name PC橋梁_上部_工事: 例＿様式４!$BA$57:$BA$68
Name PC橋梁_上部_工事: 例＿様式5!$BA$57:$BA$68
Name PC橋梁_上部_工事: 様式４!$BA$57:$BA$68
Name 衛生工学: 例＿様式5!$BP$54:$BP$55
Name 衛生工学: 様式5!$BP$54:$BP$55
Name 機械: 例＿様式5!$BL$54:$BL$56
Name 機械: 様式5!$BL$54:$BL$56
Name 技術士: 例＿様式5!$BM$33:$BM$43
Name 技術士: 様式5!$BM$33:$BM$43
Name 技術士部門: #REF!
Name 技術士部門名前: 例＿様式5!$BN$33:$BN$43
Name 技術士部門名前: 様式5!$BN$33:$BN$43
Name 建設: 例＿様式5!$BI$54:$BI$55
Name 建設: 様式5!$BI$54:$BI$55
Name 建築士: 例＿様式5!$BK$33:$BK$44
Name 建築士: 様式5!$BK$33:$BK$44
Name 建築士名前: 例＿様式5!$BL$33:$BL$44
Name 建築士名前: 様式5!$BL$33:$BL$44
Name 工種: 様式5!$C$93:$C$97
Name 工種: 例＿様式４!$C$92:$C$96
Name 工種: 例＿様式5!$C$92:$C$96
Name 工種: 様式４!$C$92:$C$96
Name 工種1: 様式5!$AY$57:$AY$68
Name 工種1: 例＿様式４!$AZ$91:$AZ$102
Name 工種1: 例＿様式5!$AY$57:$AY$68
Name 工種1: 様式４!$AZ$91:$AZ$102
Name 工種2: 様式5!$AZ$57:$AZ$68
Name 工種2: 例＿様式４!$BA$91:$BA$102
Name 工種2: 例＿様式5!$AZ$57:$AZ$68
Name 工種2: 様式４!$BA$91:$BA$102
Name 工種3: 様式5!$BA$57:$BA$68
Name 工種3: 例＿様式４!$BB$91:$BB$102
Name 工種3: 例＿様式5!$BA$57:$BA$68
Name 工種3: 様式４!$BB$91:$BB$102
Name 工種4: 様式5!$BB$57:$BB$68
Name 工種4: 例＿様式４!$BC$91:$BC$102
Name 工種4: 例＿様式5!$BB$57:$BB$68
Name 工種4: 様式４!$BC$91:$BC$102
Name 工種5: 様式5!$BC$57:$BC$68
Name 工種5: 例＿様式４!$BD$91:$BD$102
Name 工種5: 例＿様式5!$BC$57:$BC$68
Name 工種5: 様式４!$BD$91:$BD$102
Name 施工管理技士: 例＿様式5!$BI$33:$BI$44
Name 施工管理技士: 様式5!$BI$33:$BI$44
Name 施工管理技士名前: 例＿様式5!$BJ$33:$BJ$44
Name 施工管理技士名前: 様式5!$BJ$33:$BJ$44
Name 資格区分: #REF!
Name 上下水道: 例＿様式5!$BM$54:$BM$56
Name 上下水道: 様式5!$BM$54:$BM$56
Name 森林: 例＿様式5!$BO$54:$BO$56
Name 森林: 様式5!$BO$54:$BO$56
Name 水産: 例＿様式5!$BN$54:$BN$55
Name 水産: 様式5!$BN$54:$BN$55
Name 電気電子: 例＿様式5!$BK$54:$BK$55
Name 電気電子: 様式5!$BK$54:$BK$55
Name 農業: 例＿様式5!$BJ$54:$BJ$56
Name 農業: 様式5!$BJ$54:$BJ$56
Name 不要: 例＿様式5!$BQ$54
Name 不要: 様式5!$BQ$54

Sheet チェック用
A1: このシートは触らないでください。
A2: 同種工事の施工実績 | B2: 有り | C2: 有り | D2: 有り | E2: 有り | F2: 無し | G2: 無し | H2: 無し | I2: 無し | L2: 国土交通大臣 | M2: 0
A3: 地域固有の社会貢献活動 | B3: 有り（１点） | C3: 有り（２点） | D3: 有り（２項目） | E3: 無し | F3: 有り（１点） | G3: 有り（２点） | H3: 有り（２項目） | I3: 無し | L3: 兵庫県知事 | M3: 28
A4: 自己評価申告書内容 | L4: 北海道知事 | M4: 1
A5: 建設業許可番号 | B5: =IF('様式2（case①）'!$J4="","",INT(TEXT(VLOOKUP('様式2（case①）'!$J4,L2:M47,2,),"00")&TEXT('様式2（case①）'!$L4,"000000"))) | C5: =IF(#REF!="","",INT(TEXT(VLOOKUP(#REF!,L2:M47,2,),"00")&TEXT(#REF!,"000000"))) -> #REF! | D5: =IF(#REF!="","",INT(TEXT(VLOOKUP(#REF!,L2:M47,2,),"00")&TEXT(#REF!,"000000"))) -> #REF! | E5: =IF(#REF!="","",INT(TEXT(VLOOKUP(#REF!,L2:M47,2,),"00")&TEXT(#REF!,"000000"))) -> #REF! | F5: =IF(#REF!="","",INT(TEXT(VLOOKUP(#REF!,L2:M47,2,),"00")&TEXT(#REF!,"000000"))) -> #REF! | G5: =IF(#REF!="","",INT(TEXT(VLOOKUP(#REF!,L2:M47,2,),"00")&TEXT(#REF!,"000000"))) -> #REF! | H5: =IF(#REF!="","",INT(TEXT(VLOOKUP(#REF!,L2:M47,2,),"00")&TEXT(#REF!,"000000"))) -> #REF! | I5: =IF(#REF!="","",INT(TEXT(VLOOKUP(#REF!,L2:M47,2,),"00")&TEXT(#REF!,"000000"))) -> #REF! | L5: 青森県知事 | M5: 2
A6: 会社名 | B6: =IF('様式2（case①）'!$J5="","",'様式2（case①）'!$J5) -> 0 | C6: =IF(#REF!="","",#REF!) -> #REF! | D6: =IF(#REF!="","",#REF!) -> #REF! | E6: =IF(#REF!="","",#REF!) -> #REF! | F6: =IF(#REF!="","",#REF!) -> #REF! | G6: =IF(#REF!="","",#REF!) -> #REF! | H6: =IF(#REF!="","",#REF!) -> #REF! | I6: =IF(#REF!="","",#REF!) -> #REF! | L6: 岩手県知事 | M6: 3
A7: 企業の施工能力 | L7: 宮城県知事 | M7: 4
A8: 同種工事の施工実績 | B8: ='様式2（case①）'!$J12 -> 0 | C8: =#REF! -> #REF! | D8: =#REF! -> #REF! | E8: =#REF! -> #REF! | F8: - | G8: - | H8: - | I8: - | L8: 秋田県知事 | M8: 5
A9: 工事成績 | B9: ='様式2（case①）'!J14 -> 0 | C9: =#REF! -> #REF! | D9: =#REF! -> #REF! | E9: =#REF! -> #REF! | F9: =#REF! -> #REF! | G9: =#REF! -> #REF! | H9: =#REF! -> #REF! | I9: =#REF! -> #REF! | L9: 山形県知事 | M9: 6
A10: 社会貢献点数 | B10: ='様式2（case①）'!J19 -> 0 | C10: =#REF! -> #REF! | D10: =#REF! -> #REF! | E10: =#REF! -> #REF! | F10: =#REF! -> #REF! | G10: =#REF! -> #REF! | H10: =#REF! -> #REF! | I10: =#REF! -> #REF! | L10: 福島県知事 | M10: 7
A11: 地域固有の社会貢献活動 | B11: ='様式2（case①）'!J24 -> 0 | C11: =#REF! -> #REF! | D11: =#REF! -> #REF! | E11: - | F11: =#REF! -> #REF! | G11: =#REF! -> #REF! | H11: =#REF! -> #REF! | I11: - | L11: 茨城県知事 | M11: 8
A12: 配置予定技術者の技術力 | L12: 栃木県知事 | M12: 9
A13: 同種工事の施工実績 | B13: ='様式2（case①）'!J27 -> 0 | C13: =#REF! -> #REF! | D13: =#REF! -> #REF! | E13: =#REF! -> #REF! | F13: - | G13: - | H13: - | I13: - | L13: 群馬県知事 | M13: 10
A14: 工事成績 | B14: ='様式2（case①）'!J29 -> 0 | C14: =#REF! -> #REF! | D14: =#REF! -> #REF! | E14: =#REF! -> #REF! | F14: =#REF! -> #REF! | G14: =#REF! -> #REF! | H14: =#REF! -> #REF! | I14: =#REF! -> #REF! | L14: 埼玉県知事 | M14: 11
A15: 継続学習(CPD)の取得状況 | B15: ='様式2（case①）'!J34 -> 0 | C15: =#REF! -> #REF! | D15: =#REF! -> #REF! | E15: =#REF! -> #REF! | F15: =#REF! -> #REF! | G15: =#REF! -> #REF! | H15: =#REF! -> #REF! | I15: =#REF! -> #REF! | L15: 千葉県知事 | M15: 12
A16: 地域建設業者の育成 | L16: 東京都知事 | M16: 13
A17: 地域精通度 | B17: ='様式2（case①）'!J36 -> 0 | C17: =#REF! -> #REF! | D17: =#REF! -> #REF! | E17: =#REF! -> #REF! | F17: =#REF! -> #REF! | G17: =#REF! -> #REF! | H17: =#REF! -> #REF! | I17: =#REF! -> #REF! | L17: 神奈川県知事 | M17: 14
A18: 県内企業の下請負人活用状況 | B18: ='様式2（case①）'!J38 -> 0 | C18: =#REF! -> #REF! | D18: =#REF! -> #REF! | E18: =#REF! -> #REF! | F18: =#REF! -> #REF! | G18: =#REF! -> #REF! | H18: =#REF! -> #REF! | I18: =#REF! -> #REF! | L18: 新潟県知事 | M18: 15
A19: 新技術・新工法の活用 | B19: ='様式2（case①）'!J40 -> 0 | C19: =#REF! -> #REF! | D19: =#REF! -> #REF! | E19: =#REF! -> #REF! | F19: =#REF! -> #REF! | G19: =#REF! -> #REF! | H19: =#REF! -> #REF! | I19: =#REF! -> #REF! | L19: 富山県知事 | M19: 16
A20: 県内産資材の活用 | B20: - | C20: - | D20: - | E20: - | F20: - | G20: - | H20: - | I20: - | L20: 石川県知事 | M20: 17
A21: 技術者の育成 | B21: ='様式2（case①）'!J42 -> 0 | C21: =#REF! -> #REF! | D21: =#REF! -> #REF! | E21: =#REF! -> #REF! | F21: =#REF! -> #REF! | G21: =#REF! -> #REF! | H21: =#REF! -> #REF! | I21: =#REF! -> #REF! | L21: 福井県知事 | M21: 18
A22: その他の確認事項 | L22: 山梨県知事 | M22: 19
A23: 女性技術者 | B23: - | C23: - | D23: - | E23: - | F23: - | G23: - | H23: - | I23: - | L23: 長野県知事 | M23: 20
A24: 専任補助者の配置 | B24: =IF('様式2（case①）'!I26="専任補助者","○","") | C24: =IF(#REF!="専任補助者","○","") -> #REF! | D24: =IF(#REF!="専任補助者","○","") -> #REF! | E24: =IF(#REF!="専任補助者","○","") -> #REF! | F24: =IF(#REF!="専任補助者","○","") -> #REF! | G24: =IF(#REF!="専任補助者","○","") -> #REF! | H24: =IF(#REF!="専任補助者","○","") -> #REF! | I24: =IF(#REF!="専任補助者","○","") -> #REF! | L24: 岐阜県知事 | M24: 21
L25: 静岡県知事 | M25: 22
A26: 減点個運目項目 | B26: ='様式2（case①）'!J55 -> 0 | C26: =#REF! -> #REF! | D26: =#REF! -> #REF! | E26: =#REF! -> #REF! | F26: =#REF! -> #REF! | G26: =#REF! -> #REF! | H26: =#REF! -> #REF! | I26: =#REF! -> #REF! | L26: 愛知県知事 | M26: 23
L27: 三重県知事 | M27: 24
A28: 追加資料の提出意思 | B28: - | C28: - | D28: - | E28: - | F28: - | G28: - | H28: - | I28: - | L28: 滋賀県知事 | M28: 25
A29: 地域建設業者の育成２ | L29: 奈良県知事 | M29: 29
A30: CCUSの活用 | B30: ='様式2（case①）'!J46 -> 0 | C30: =#REF! -> #REF! | D30: =#REF! -> #REF! | E30: =#REF! -> #REF! | F30: =#REF! -> #REF! | G30: =#REF! -> #REF! | H30: =#REF! -> #REF! | I30: =#REF! -> #REF! | L30: 和歌山県知事 | M30: 30
A31: ＩＣＴの活用 | B31: ='様式2（case①）'!J48 -> 0 | C31: =#REF! -> #REF! | D31: =#REF! -> #REF! | E31: =#REF! -> #REF! | F31: =#REF! -> #REF! | G31: =#REF! -> #REF! | H31: =#REF! -> #REF! | I31: =#REF! -> #REF! | L31: 鳥取県知事 | M31: 31
A32: 当該工事で使用する作業船 | B32: ='様式2（case①）'!J50 -> 0 | C32: =#REF! -> #REF! | D32: =#REF! -> #REF! | E32: =#REF! -> #REF! | F32: =#REF! -> #REF! | G32: =#REF! -> #REF! | H32: =#REF! -> #REF! | I32: =#REF! -> #REF! | L32: 島根県知事 | M32: 32
L33: 岡山県知事 | M33: 33
L34: 広島県知事 | M34: 34
L35: 山口県知事 | M35: 35
L36: 徳島県知事 | M36: 36
L37: 香川県知事 | M37: 37
L38: 愛媛県知事 | M38: 38
L39: 高知県知事 | M39: 39
L40: 福岡県知事 | M40: 40
...

Sheet 様式１（表紙）
Q1: 施工能力評価型様式１号
A2: 施工能力評価型 技術資料 表紙
Q3: 令和 年 月 日
A4: 兵庫県阪神北県民局長 | H4: 様
J5: 住所 | K5: ：
J6: 商号又は名称 | K6: ：
J7: 代表者氏名 | K7: ：
B9: 令和 年 月 日 | H9: 付けで入札公告のありました、
B10: 工事番号 | E10: 街無電柱 第８００１－１－００２号
B11: （都）塚口長尾線（昆陽南） 街路整備工事（その４） | K11: について、以下の通り技術資料を提出します。
A13: １ 提出書類 | E13: 《 提出する根拠資料を確認（ｱﾝﾀﾞｰﾗｲﾝ、赤囲等で明示）の上「✓」を記載（提出のない資料は「－」）すること 》
B14: 様式番号（技術資料名） | I14: 提出する根拠資料（必須）
B15: 様式１号（施工能力評価型 技術資料 表紙）
B16: 様式２号（自己評価申告書）
C17: 地域建設業者の育成 | D17: 地域精通度 | I17: － | J17: 建設工事入札参加資格者名簿（個票）
D18: 建設ｷｬﾘｱｱｯﾌﾟｼｽﾃﾑ（CCUS） の活用 | I18: － | J18: CCUSﾎｰﾑﾍﾟｰｼﾞﾛｸﾞｲﾝ後の「事業者情報」画面 | Q18: ※WEBブラウザから直接印刷したもの
I19: － | J19: CCUSﾎｰﾑﾍﾟｰｼﾞﾛｸﾞｲﾝ後の「管理者ID利用料明細」画面 | Q19: ※WEBブラウザから直接印刷したもの
B20: 様式３号（企業の施工能力）
C21: 企業の 施工能力 | D21: 同種工事の施工実績 | I21: － | J21: 登録内容確認書（ｺﾘﾝｽﾞ） | M21: ※竣工時又は竣工後訂正したもの | O21: － | P21: 工事請負契約書等（契約図書含む） | R21: ← | S21: 選択して提出すること。
I22: － | J22: 工事成績評定結果の通知 | N22: ※入札参加申込期限日2週間前以降の工期（完成日） の場合で引渡し日を入力する場合 | R22: ← | S22: ただし、一方で確認できない場合は両方提出すること。
D23: 工事成績 | I23: － | J23: 登録内容確認書（ｺﾘﾝｽﾞ）※竣工時又は竣工後訂正したもの
I24: － | J24: 工事成績評定結果の通知
D25: 社会貢献点数 | I25: － | J25: 建設工事入札参加資格者名簿（個票）
D26: 地域固有の社会貢献活動 （制限付き一般競争入札に限る） | I26: － | J26: 登録内容確認書（ｺﾘﾝｽﾞ） | M26: ※竣工時又は竣工後訂正したもの | O26: － | P26: 契約書等（契約図書含む） | R26: ← | S26: 選択して提出すること。
B27: 様式４号（配置予定技術者の技術力） | S27: ただし、一方で確認できない場合は両方提出すること。
C28: 配置予定技術者の 技術力 | D28: 同種工事の施工実績 | I28: － | J28: 登録内容確認書又は 技術者実績確認書（ｺﾘﾝｽﾞ） | M28: ※竣工時又は竣工後訂正したもの | O28: － | P28: 工事請負契約書等（契約図書含む） | R28: ← | S28: 選択して提出すること。
I29: － | J29: 工事成績評定結果の通知 | N29: ※入札参加申込期限日2週間前以降の工期（完成日） の場合で引渡し日を入力する場合又は技術者の配置根拠資料 | R29: ← | S29: ただし、一方で確認できない場合は両方提出すること。
D30: 工事成績 | I30: － | J30: 登録内容確認書又は技術者実績確認書（ｺﾘﾝｽﾞ） | Q30: ※竣工時又は竣工後訂正したもの
I31: － | J31: 工事成績評定結果の通知 | S31: 評価項目になっていない場合提出不要だが、専任補助者を配置する場合は専任補助者の同種工事の施工実績の根拠資料の提出は必要。
E32: ※現場代理人として従事した 工事成績を申告する場合 | I32: － | J32: 従事した工事の開始日以前に、建設業法（昭和24年法律第100号）第26条に規定された主任技術者として従事できる国家資格を取得していることが分かる資料（合格証等）
E33: ※専任補助者として従事した 工事成績を申告する場合 | I33: － | J33: 専任補助者として従事した工事の技術資料 （工事成績評定結果の通知で確認できない場合）
D34: 継続学習（CPD)の取組状況 | I34: － | J34: 学習履歴証明書
B35: 様式５号（技術者の育成）
C36: 地域建設業者の 育成 | D36: 技術者の育成 | E36: ※若手・女性技術者を配置する場合 | I36: － | J36: 生年月日（年齢）及び女性の場合性別が分かる資料（マイナンバーカード等）
F37: ※専任補助者を 配置する場合 | I37: － | J37: 専任補助者が配置技術者に対する全ての入札参加資格要件を満たすことが確認できる資料
E38: ※直近８年以内に国家資格を取得している場合 | I38: － | J38: 配置予定技術者の建設業法（昭和24年法律第100号）第26条に規定された監理技術者として従事できる国家資格の取得年度が分かる資料（合格証等）
B39: 様式６号（不履行項目数）
C40: 減点 | D40: 不履行項目数 | I40: － | J40: 工事成績評定結果の通知
B41: 様式７号（当該工事で使用する作業船）
C42: 地域建設 業者の 育成 | D42: 当該工事で使用する作業船 | I42: － | J42: 船舶の所有者等が確認できる資料（「その他資料」に資料名を記載すること。）
...

Sheet 様式2（case①）
B1: 《※「同種工事の施工実績」評価あり、「地域固有の社会貢献活動」評価あり（1項目1点）》 | K1: 施工能力評価型様式２号
B2: 自己評価申告書
B4: 工事番号 | C4: ='様式１（表紙）'!E10 -> 街無電柱 第８００１－１－００２号 | H4: 許可番号 | K4: 許可 第 | M4: 号
B5: 工事名 | C5: ='様式１（表紙）'!B11 -> （都）塚口長尾線（昆陽南） 街路整備工事（その４） | H5: 会社名 | J5: ='様式１（表紙）'!L6 -> 0
H6: 作成者 | J6: ='様式１（表紙）'!F53 -> 0
B10: 評価区分 | C10: 評価項目 | D10: 配点 | E10: 評価方法 | I10: 入札参加者（申告者） | K10: （発注者記載欄）
E11: 評価方法 | G11: 評価内容 | H11: 評価点 | I11: 評価内容 | J11: 評価点 | K11: 自己評価 | L11: 技術資料 | M11: 備 考
B12: 企業の施工能力【様式３号】 | C12: 同種工事 の施工実績 | D12: 1点 | E12: 同種工事の施工実績がある。 | G12: あり | H12: 1 | I12: =IF(様式３!$A$9=様式３!$D$59,"なし","あり") -> なし | J12: =IF(I12="","",IF(I12=G12,H12,H13)) -> 0
E13: 同種工事の施工実績がない。 | G13: なし | H13: 0
C14: 工事成績 | D14: 2点 | E14: 85点以上 | G14: 該当する 工事件数 を記載 （4件） | H14: 0.5 | I14: =様式３!$AD$14&"件" -> 0件 | J14: =IF(AND(I14="",I15="",I16="",I17="",I18=""),"",IF(OR(I14="",I15="",I16="",I17="",I18=""),"全て選択してください。",IF(LEFT(I14)+LEFT(I15)+LEFT(I16)+LEFT(I17)+LEFT(I18)=4,LEFT(I14)*H14+LEFT(I15)*H15+LEFT(I16)*H16+LEFT(I17)*H17+LEFT(I18)*H18,"合計4件にしてください"))) -> 0
E15: 80点以上 85点未満 | H15: 0.4 | I15: =様式３!$AD$16&"件" -> 0件
E16: 75点以上 80点未満 | H16: 0.3 | I16: =様式３!$AD$18&"件" -> 0件
E17: 70点以上 75点未満 | H17: 0.2 | I17: =様式３!$AD$20&"件" -> 0件
E18: 70点未満、該当工事なし | H18: 0 | I18: =様式３!$AD$22&"件" -> 4件
C19: 社会貢献点数 | D19: 2点 | E19: 100点以上 | G19: 社会貢献 点数を 記載 | H19: 2 | I19: =様式３!$M$35 -> 0 | J19: =IF(I19>=100,2,IF(AND(80<=I19,I19<100),1.5,IF(AND(60<=I19,I19<80),1,IF(AND(40<=I19,I19<60),0.5,IF(I19="","",0))))) -> 0
E20: 80点以上 100点未満 | H20: 1.5
E21: 60点以上 80点未満 | H21: 1
E22: 40点以上 60点未満 | H22: 0.5
E23: 40点未満 | H23: 0
C24: 地域固有の 社会貢献活動 | D24: 1点 | E24: 地域固有の社会貢献活動の実績がある。 | G24: あり | H24: 1 | I24: =IF(様式３!$B$51=様式３!$D$91,"あり","なし") -> なし | J24: =IF(I24="","",IF(I24=G24,H24,H25)) -> 0
E25: 地域固有の社会貢献活動の実績がない。 | G25: なし | H25: 0
B26: 配置予定技術者の技術力【様式4号】 | C26: 専任補助者の配置 | D26: － | E26: 当該評価項目において評価対象とする技術者 | I26: =IF(COUNTIF(様式４!$A$22:$A$27,"○")>=2,"×",IF(様式４!$R$11="する","専任補助者","配置予定技術者")) -> 配置予定技術者 | O26: ←「×」が表示される場合は、様式４号の「評価対象」が複数選択されています。
C27: 同種工事 の施工実績 | D27: 2点 | E27: 同種工事の施工実績がある。 | G27: あり | H27: 2 | I27: =IF(AND(様式４!A22=様式４!C81,様式４!E22=様式４!C86),"あり",IF(AND(様式４!A24=様式４!C81,様式４!E24=様式４!C86),"あり",IF(AND(様式４!A26=様式４!C81,様式４!E26=様式４!C86),"あり","なし"))) -> なし | J27: =IF(I27="","",IF(I27=G27,H27,H28)) -> 0
E28: 同種工事の施工実績がない。 | G28: なし | H28: 0
C29: 工事成績 | D29: 4点 | E29: 主任（監理）技術者、専任補助者又は要件を満たす現場代理人として従事した工事 | F29: 85点以上 | G29: 該当する 工事件数 を記載 （2件） | H29: 2 | I29: =様式４!AI46&"件" -> 0件 | J29: =IF(AND(I29="",I30="",I31="",I32="",I33=""),"",IF(OR(I29="",I30="",I31="",I32="",I33=""),"全ての項目を選択してください。",IF(LEFT(I29)+LEFT(I30)+LEFT(I31)+LEFT(I32)+LEFT(I33)=2,LEFT(I29)*H29+LEFT(I30)*H30+LEFT(I31)*H31+LEFT(I32)*H32+LEFT(I33)*H33,"合計2件にしてください"))) -> 0
F30: 80点以上 85点未満 | H30: 1.5 | I30: =様式４!AI48&"件" -> 0件
F31: 75点以上 80点未満 | H31: 1 | I31: =様式４!AI49&"件" -> 0件
F32: 70点以上 75点未満 | H32: 0.5 | I32: =様式４!AI51&"件" -> 0件
E33: 従事役職を問わず、70点未満、該当工事なし | H33: 0 | I33: =様式４!AI53&"件" -> 2件
C34: 継続学習（CPD） の取組状況 | D34: 3点 | E34: 推奨単位以上の取得実績がある。 | G34: あり | H34: 3 | I34: なし | J34: =IF(I34="","",IF(I34=G34,H34,H35)) -> 0
E35: 推奨単位以上の取得実績がない。 | G35: なし | H35: 0
B36: 地域建設業者の育成 | C36: 地域精通度 （本店所在地） | D36: 1点 | E36: 本店（主たる営業所）の所在地が契約期間中、継続して指定地域内にある。 | G36: あり | H36: 1 | I36: なし | J36: =IF(I36="","",IF(I36=G36,H36,H37)) -> 0
E37: 上記に該当しない。 | G37: なし | H37: 0
C38: 県内企業の 下請負人活用 状況 | D38: 1点 | E38: 下請負人の全てを県内企業とする、 又は元請負人が県内企業であり自社施工する。 | G38: あり | H38: 1 | I38: なし | J38: =IF(I38="","",IF(I38=G38,H38,H39)) -> 0
E39: 上記に該当しない。 | G39: なし | H39: 0
C40: 新技術・新工法 の活用 | D40: 1点 | E40: 当該工事において適用する。 | G40: あり | H40: 1 | I40: なし | J40: =IF(I40="","",IF(I40=G40,H40,H41)) -> 0
E41: 当該工事において適用しない。 | G41: なし | H41: 0
C42: 技術者の育成 【様式５号】 | D42: 1点 | E42: 若手・女性 技術者 | G42: 該当 | H42: 0.5 | I42: =IF(様式5!AJ25="○",$G$42,$G$43) -> 非該当 | J42: =IF(OR(I42="",I44=""),"",IF(I42=G42,H42,H43)+IF(I44=G44,H44,H45)) -> 0
G43: 非該当 | H43: 0
E44: 直近８年以内に国家資格を取得した者 | G44: 該当 | H44: 0.5 | I44: =IF(様式5!AN25="○",$G$44,$G$45) -> 非該当
...

Sheet 様式３
AA1: 施工能力評価型様式３号
A2: 企業の施工能力
U3: 商号又は名称 | X3: ： | Y3: ='様式１（表紙）'!L6 -> 0
U4: 工事名 | X4: ： | Y4: ='様式１（表紙）'!B11 -> （都）塚口長尾線（昆陽南） 街路整備工事（その４）
A5: ■同種工事の施工実績 | G5: ="対象期間："&TEXT(IF(AND(MONTH(様式４!R48)>=1,MONTH(様式４!R48)<=3),EOMONTH(様式４!R48,-16*12),EOMONTH(様式４!R48,-15*12)),"[$-ja-JP-x-gannen]ggge")&"年度～入札参加申込期限日" -> 対象期間：平成23年度～入札参加申込期限日 | M5: （15年間＋参加申込期限日迄） | N5: 同種工事： | Q5: 電線共同溝（道路延長）Ｌ＝１００ｍ以上の施工実績 | AG5: ←（Ｑ列５行のセル）公募型で同種工事の施工実績を入札参加資格に設定する場合も、同種工事の施工実績のプルダウンで空白を選択する前に、求める同種工事の内容を必ず入力すること（様式４で専任補助者を配置するを選択した場合、表示されるため）
A7: 対象工事 | B7: 発注機関名 | F7: 工事名 | K7: 工期 | N7: 発注形態 | V7: 施工実績 | AC7: 備考
K8: （完成日） | S8: 規模・寸法 | V8: 構造型式 | Z8: 使用機材・数量
A9: 該当なし | K9: ～
N10: =IF(N9=$D$67,"（出資比率","") | R10: =IF(N10="","","％）")
A12: ■工事成績 | G12: ="対象期間："&TEXT(IF(AND(MONTH(様式４!R48)>=1,MONTH(様式４!R48)<=6),EOMONTH(様式４!R48,-9*12),EOMONTH(様式４!R48,-8*12)),"[$-ja-JP-x-gannen]ggge")&"年度～"&TEXT(IF(AND(MONTH(様式４!R48)>=1,MONTH(様式４!R48)<=6),EOMONTH(様式４!R48,-2*12),EOMONTH(様式４!R48,-1*12)),"[$-ja-JP-x-gannen]ggge")&"年度" -> 対象期間：平成30年度～令和7年度 | M12: （８年間）
A14: 対象工事 | B14: 発注機関名 | F14: 工事名 | K14: 工期 （完成日） | N14: 発注形態 | S14: 工種 | V14: 検査年月日 | Y14: 工事 成績 | AB14: 85点以上 | AD14: =COUNTIF($Y$16:$Y$23,">=85") -> 0
E15: ( | F15: 施工場所 | J15: )
A16: 該当なし | K16: ～ | AB16: 80点以上85点未満 | AD16: =COUNTIF($Y$16:$Y$23,">=80")-AD14 -> 0
E17: ( | F17: =IF(AND(B16<>$F$86,B16<>""),"※記載不要","") | J17: ) | N17: =IF(N16=$D$67,"（出資比率","") | R17: =IF(N17="","","％）")
A18: 該当なし | K18: ～ | AB18: 75点以上80点未満 | AD18: =COUNTIF($Y$16:$Y$23,">=75")-SUM(AD14:AD17) -> 0
E19: ( | F19: =IF(AND(B18<>$F$86,B18<>""),"※記載不要","") | J19: ) | N19: =IF(N18=$D$67,"（出資比率","") | R19: =IF(N19="","","％）")
A20: 該当なし | K20: ～ | AB20: 70点以上75点未満 | AD20: =COUNTIF($Y$16:$Y$23,">=70")-SUM(AD14:AD19) -> 0
E21: ( | F21: =IF(AND(B20<>$F$86,B20<>""),"※記載不要","") | J21: ) | N21: =IF(N20=$D$67,"（出資比率","") | R21: =IF(N21="","","％）")
A22: 該当なし | K22: ～ | AB22: 70点未満、 該当なし | AD22: =4-SUM(AD14:AD21) -> 4
E23: ( | F23: =IF(AND(B22<>$F$86,B22<>""),"※記載不要","") | J23: ) | N23: =IF(N22=$D$67,"（出資比率","") | R23: =IF(N23="","","％）")
R25: 注意事項
A26: ■社会貢献点数
R27: 注１ | S27: ： 様式１号に記載している根拠資料を添付し本様式と整合させること。
A29: 入札参加申込期限日において有効な兵庫県の建設工事入札参加資格者名簿（個票）における | S29: なお、根拠資料の該当箇所を明示すること。（ｱﾝﾀﾞｰﾗｲﾝ等）
A30: 評価項目 | M30: 点数 | R30: 注２ | S30: ： 「発注機関名」欄で「その他の機関」を選択した場合は、官庁名等を
A31: ①技術・社会貢献評価数値の合計の点数 | S31: 記載すること。
R32: 注３ | S32: ： 同種工事の施工実績の工期（完成日）が入札参加申込期限より2週間（14日）以内の場合、
A33: ②技術評価数値のうち、工事成績によって加点された点数（該当工種※の点数） | S33: 背景が黄色となる。この場合、工期（完成日）ではなく検査年月日（引渡し完了日）を記載すること。
A34: （※一般土木工事、アスファルト舗装工事、造園工事） | R34: 注４ | S34: ： 工事成績評定通知書等に検査年月日の記載がなく、確認がとれない
A35: 社会貢献点数（①－②） | M35: =M31-M33 -> 0 | S35: 場合は、「検査年月日」欄に「－」を記載すること。
R36: 注５ | S36: ： 評価対象となる項目がない場合は「対象工事」欄、「施工実績」欄で
S37: 「該当なし」を選択すること。
A38: ■地域固有の社会貢献活動 | G38: ※１件のみ記載できる | R38: 注６ | S38: ： 入札参加申込期限日において有効な兵庫県の建設工事入札参加
S39: 資格者名簿（個票）に登載された点数を記載すること。
A41: ※評価対象とする地域固有の社会貢献活動 | R41: 注７ | S41: ： その他の事項については、様式２の「注１」～「注３」を
C43: 対象発注機関 | E43: ： | F43: 阪神北県民局宝塚土木事務所 | S43: 確認し本様式を記載すること。
D44: =IF(F44=D95,G91,G92) -> 対象業務 | E44: ： | F44: 除雪又は凍結防止剤散布業務の実績
D45: 対象年度 | E45: ： | F45: 2 | H45: ( | I45: =(EDATE(様式４!R48,(-F45)*12-3)) -> 45487 | L45: ～ | M45: =(EDATE(様式４!R48,-15)) -> 45852 | P45: ）
D46: 業務箇所 | E46: ： | F46: 宝塚土木事務所管内
D47: 評価点 | E47: ： | F47: 除雪又は凍結防止剤散布１点
...

Sheet 様式４
AN1: 施工能力評価型様式４号
A2: 配置予定技術者の技術力
AG3: 商号又は名称 | AK3: ： | AL3: =様式３!Y3 -> 0
AG4: 工事名 | AK4: ： | AL4: =様式３!Y4 -> （都）塚口長尾線（昆陽南） 街路整備工事（その４）
A5: ■配置予定技術者 | Q5: ■専任補助者 | X5: 全ての配置予定技術者が若手又は女性技術者であるため、 専任補助者を配置できる要件を満たしています。
A7: 配置予定 | C7: 技術者氏名 | D7: ( | E7: 性別 | F7: ) | G7: 【参考】 入札公告に示す配置技術者の入札参加資格要件の確認 | Y7: 配置予定 | AA7: 専任補助者氏名 | AG7: 入札公告に示す配置技術者の入札参加資格要件の確認 | AV7: 専任補助者対象 | AY7: 様式２判定用
B8: ( | C8: 生年月日 | D8: ： | E8: 年齢 | F8: ) | G8: 合格証書等の有無） | Z8: ( | AA8: 生年月日 | AF8: ) | AG8: 建設業法の規定による技術者（技術者証の有無） | AV8: 1 | AW8: =IF(OR(A9="○",A9=""),IF(OR(A9="○",A9=""),IF(OR(E9="女性",AND(E9="男性",AND(E10<40,NOT(E10=0))),AND(E9="",AND(E10<40,NOT(E10=0)))),"○","×")),IF(A9="工場製作","対象外","")) | AY8: =IF(OR(AW8="×",AW10="×",AW12="×",R11="しない"),"×","○") -> ×
A9: 該当なし | R9: 専任補助者の 配置を | Y9: ○
B10: ( | D10: ： | E10: =IF(NOT(C10=""),DATEDIF(C10,$R$48,"Y"),"") | F10: ) | Z10: ( | AF10: ) | AV10: 2 | AW10: =IF(OR(A11="○",A11=""),IF(OR(A11="○",A11=""),IF(OR(E11="女性",AND(E11="男性",AND(E12<40,NOT(E12=0))),AND(E11="",AND(E12<40,NOT(E12=0)))),"○","×")),IF(A11="工場製作","対象外",""))
A11: 該当なし | D11: ( | F11: ) | R11: しない | Y11: 該当なし
B12: ( | D12: ： | E12: =IF(NOT(C12=""),DATEDIF(C12,$R$48,"Y"),"") | F12: ) | Z12: ( | AF12: ) | AV12: 3 | AW12: =IF(OR(A13="○",A13=""),IF(OR(A13="○",A13=""),IF(OR(E13="女性",AND(E13="男性",AND(E14<40,NOT(E14=0))),AND(E13="",AND(E14<40,NOT(E14=0)))),"○","×")),IF(A13="工場製作","対象外",""))
A13: 該当なし | D13: ( | F13: ) | Y13: 該当なし
B14: ( | D14: ： | E14: =IF(NOT(C14=""),DATEDIF(C14,$R$48,"Y"),"") | F14: ) | Z14: ( | AF14: )
H16: （15年間＋参加申込期限日迄） | U16: =IF(様式３!A5 = "","入札公告に示す配置技術者の同種工事の施工実績","")
A17: =IF(様式３!A5=B78,B78,IF(R11="する",B78,"")) -> ■同種工事の施工実績 | H17: =様式３!$G$5 -> 対象期間：平成23年度～入札参加申込期限日 | U17: 同種工事： | X17: =様式３!$Q$5 -> 電線共同溝（道路延長）Ｌ＝１００ｍ以上の施工実績
A20: 評価 対象 | C20: 技術者氏名 | E20: 対象工事 | F20: 発注機関名 | L20: 工事名 | W20: 工期 | AB20: 発注形態 | AG20: 施工実績 | AR20: 備考
B21: ( | C21: 生年月日 | D21: ) | AG21: =様式３!S8 -> 規模・寸法 | AK21: =様式３!V8 -> 構造型式 | AO21: =様式３!Z8 -> 使用機材・数量
C22: =IF($AY$8="○",IF(Y9=$C$81,AA9,""),IF(A9=$C$81,C9,"")) | E22: 該当なし | AR22: 主任技術者、監理技術者又は現場代理人
B23: ( | C23: =IF($AY$8="○",IF(Y9=$C$81,AA10,""),IF(A9=$C$81,C10,"")) | D23: ) | W23: ～ | AB23: =IF(AB22=$C$90,"（出資比率","") | AE23: =IF(AB23="","","％）")
C24: =IF($AY$8="○",IF(Y11=$C$81,AA11,""),IF(A11=$C$81,C11,"")) | E24: 該当なし | AR24: 主任技術者、監理技術者又は現場代理人
B25: ( | C25: =IF($AY$8="○",IF(Y11=$C$81,AA12,""),IF(A11=$C$81,C12,"")) | D25: ) | W25: ～ | AB25: =IF(AB24=$C$90,"（出資比率","") | AE25: =IF(AB25="","","％）")
C26: =IF($AY$8="○",IF(Y13=$C$81,AA13,""),IF(A13=$C$81,C13,"")) | E26: 該当なし | AR26: 主任技術者、監理技術者又は現場代理人
B27: ( | C27: =IF($AY$8="○",IF(Y13=$C$81,AA14,""),IF(A13=$C$81,C14,"")) | D27: ) | W27: ～ | AB27: =IF(AB26=$C$90,"（出資比率","") | AE27: =IF(AB27="","","％）")
A29: ■工事成績 | H29: =様式３!$G$12 -> 対象期間：平成30年度～令和7年度 | Q29: （８年間）
A31: 評価 対象 | C31: 技術者氏名 | E31: 対象工事 | F31: 発注機関名 | L31: 工事名 | W31: 工期 | AB31: 発注形態 | AG31: 工種 | AL31: 従事役職 | AP31: 検査年月日 | AS31: 工事 成績 | AV31: 最小値の対象者 | AW31: 氏名 | AX31: 同種工事 | AY31: 工事成績（最大4点） | BE31: CPD | BF31: 合計
B32: ( | C32: 生年月日 | D32: ) | K32: ( | L32: 施工場所 | V32: ) | AG32: 保有していた国家資格
A33: =IF(A22="","",A22) | E33: 該当なし | AZ33: 監理技術者・主任技術者・現場代理人
C34: =IF(C22="","",C22) | K34: ( | L34: =IF(AND(F33<>$E$110,F33<>""),"※記載不要","") | V34: ) | W34: ～ | AB34: =IF(AB33=$C$90,"（出資比率","") | AE34: =IF(AB34="","","％）")
B35: ( | C35: =IF(C23="","",C23) | D35: ) | E35: 該当なし | AX35: 有:２点 | AY35: 点/件 | AZ35: 2 | BA35: 1.5 | BB35: 1 | BC35: 0.5 | BD35: 0 | BE35: 取得３点 | BF35: 最大9点
K36: ( | L36: =IF(AND(F35<>$E$110,F35<>""),"※記載不要","") | V36: ) | W36: ～ | AB36: =IF(AB35=$C$90,"（出資比率","") | AE36: =IF(AB36="","","％）")
A37: =IF(A24="","",A24) | E37: 該当なし | AY37: 未満 | BA37: 85 | BB37: 80 | BC37: 75 | BD37: 70
C38: =IF(C24="","",C24) | K38: ( | L38: =IF(AND(F37<>$E$110,F37<>""),"※記載不要","") | V38: ) | W38: ～ | AB38: =IF(AB37=$C$90,"（出資比率","") | AE38: =IF(AB38="","","％）") | AY38: 以上 | AZ38: 85 | BA38: 80 | BB38: 75 | BC38: 70 | BD38: 0
B39: ( | C39: =IF(C25="","",C25) | D39: ) | E39: 該当なし | AV39: =IF(BF40=$BF$45,"○","-") -> - | AY39: 件数 | AZ39: =COUNTIFS(AS33:AS36,">=85") -> 0 | BA39: =COUNTIFS(AS33:AS36,">=80",AS33:AS36,"<85") -> 0 | BB39: =COUNTIFS(AS33:AS36,">=75",AS33:AS36,"<80") -> 0 | BC39: =COUNTIFS(AS33:AS36,">=70",AS33:AS36,"<75") -> 0 | BD39: =COUNTIFS(AS33:AS36,">=0",AS33:AS36,"<70") -> 0
K40: ( | L40: =IF(AND(F39<>$E$110,F39<>""),"※記載不要","") | V40: ) | W40: ～ | AB40: =IF(AB39=$C$90,"（出資比率","") | AE40: =IF(AB40="","","％）") | AW40: =C22 | AX40: =IF(E22="該当なし",0,2) -> 0 | AY40: 点数 | AZ40: =AZ$35*AZ39 -> 0 | BA40: =BA$35*BA39 -> 0 | BB40: =BB$35*BB39 -> 0 | BC40: =BC$35*BC39 -> 0 | BD40: =BD$35*BD39 -> 0 | BE40: =IF(T57="○",3,0) -> 0 | BF40: =IF($AY$8="○",IF(C22="","-",IF(Y9=$C$82,"-",SUM(AX40,AZ40,BA40,BB40,BC40,BD40,BE40))),IF(C22="","-",IF(A9=$C$82,"-",SUM(AX40,AZ40,BA40,BB40,BC40,BD40,BE40)))) -> -
A41: =IF(A26="","",A26) | E41: 該当なし | AV41: =IF(BF42=$BF$45,"○","-") -> - | AY41: 件数 | AZ41: =COUNTIFS(AS37:AS40,">=85") -> 0 | BA41: =COUNTIFS(AS37:AS40,">=80",AS37:AS40,"<85") -> 0 | BB41: =COUNTIFS(AS37:AS40,">=75",AS37:AS40,"<80") -> 0 | BC41: =COUNTIFS(AS37:AS40,">=70",AS37:AS40,"<75") -> 0 | BD41: =COUNTIFS(AS37:AS40,">=0",AS37:AS40,"<70") -> 0
C42: =IF(C26="","",C26) | K42: ( | L42: =IF(AND(F41<>$E$110,F41<>""),"※記載不要","") | V42: ) | W42: ～ | AB42: =IF(AB41=$C$90,"（出資比率","") | AE42: =IF(AB42="","","％）") | AW42: =C24 | AX42: =IF(E24="該当なし",0,2) -> 0 | AY42: 点数 | AZ42: =AZ$35*AZ41 -> 0 | BA42: =BA$35*BA41 -> 0 | BB42: =BB$35*BB41 -> 0 | BC42: =BC$35*BC41 -> 0 | BD42: =BD$35*BD41 -> 0 | BE42: =IF(T59="○",3,0) -> 0 | BF42: =IF($AY$8="○",IF(C24="","-",IF(Y11=$C$82,"-",SUM(AX42,AZ42,BA42,BB42,BC42,BD42,BE42))),IF(C24="","-",IF(A11=$C$82,"-",SUM(AX42,AZ42,BA42,BB42,BC42,BD42,BE42)))) -> -
B43: ( | C43: =IF(C27="","",C27) | D43: ) | E43: 該当なし | AV43: =IF(BF44=$BF$45,"○","-") -> - | AY43: 件数 | AZ43: =COUNTIFS(AS41:AS44,">=85") -> 0 | BA43: =COUNTIFS(AS41:AS44,">=80",AS41:AS44,"<85") -> 0 | BB43: =COUNTIFS(AS41:AS44,">=75",AS41:AS44,"<80") -> 0 | BC43: =COUNTIFS(AS41:AS44,">=70",AS41:AS44,"<75") -> 0 | BD43: =COUNTIFS(AS41:AS44,">=0",AS41:AS44,"<70") -> 0
K44: ( | L44: =IF(AND(F43<>$E$110,F43<>""),"※記載不要","") | V44: ) | W44: ～ | AB44: =IF(AB43=$C$90,"（出資比率","") | AE44: =IF(AB44="","","％）") | AW44: =C26 | AX44: =IF(E26="該当なし",0,2) -> 0 | AY44: 点数 | AZ44: =AZ$35*AZ43 -> 0 | BA44: =BA$35*BA43 -> 0 | BB44: =BB$35*BB43 -> 0 | BC44: =BC$35*BC43 -> 0 | BD44: =BD$35*BD43 -> 0 | BE44: =IF(T61="○",3,0) -> 0 | BF44: =IF($AY$8="○",IF(C26="","-",IF(Y13=$C$82,"-",SUM(AX44,AZ44,BA44,BB44,BC44,BD44,BE44))),IF(C26="","-",IF(A13=$C$82,"-",SUM(AX44,AZ44,BA44,BB44,BC44,BD44,BE44)))) -> -
BE45: 最小値 | BF45: =MIN(BF40,BF42,BF44) -> 0
Y46: 監理技術者 主任技術者 専任補助者 現場代理人 | AC46: 85点以上 | AI46: =IF($A$33=$C$81,$AZ$39,IF($A$37=$C$81,$AZ$41,IF($A$41=$C$81,$AZ$43,0))) -> 0
...

Sheet 様式5
AN1: 施工能力評価型様式５号
A2: 地域建設業者の育成（技術者の育成）
AG3: 商号又は名称 | AK3: ： | AL3: =様式３!Y3 -> 0
AG4: 工事名 | AK4: ： | AL4: =様式３!Y4 -> （都）塚口長尾線（昆陽南） 街路整備工事（その４）
A5: ■配置予定技術者
A7: 配置予定 | C7: 技術者氏名 | D7: ( | E7: 性別 | F7: ) | G7: 【参考】 入札公告に示す配置技術者の入札参加資格要件の確認
B8: ( | C8: 生年月日 | D8: ： | E8: 年齢 | F8: ) | G8: 合格証書等の有無）
A9: =様式４!A9 -> 該当なし | C9: =IF($A9="該当なし","",IF(LEN(TRIM(様式４!C9))=0,"",様式４!C9)) | E9: =IF($A9="該当なし","",IF(LEN(TRIM(様式４!E9))=0,"",様式４!E9)) | G9: =IF(A9="該当なし","",IF(LEN(TRIM(様式４!G9))=0,"",様式４!G9))
B10: ( | C10: =IF($A9="該当なし","",IF(LEN(TRIM(様式４!C10))=0,"",様式４!C10)) | D10: ： | E10: =IF($A9="該当なし","",IF(LEN(TRIM(様式４!E10))=0,"",様式４!E10)) | F10: )
A11: =様式４!A11 -> 該当なし | C11: =IF($A11="該当なし","",IF(LEN(TRIM(様式４!C11))=0,"",様式４!C11)) | E11: =IF($A11="該当なし","",IF(LEN(TRIM(様式４!E11))=0,"",様式４!E11)) | G11: =IF(A11="該当なし","",IF(LEN(TRIM(様式４!G11))=0,"",様式４!G11))
B12: ( | C12: =IF($A11="該当なし","",IF(LEN(TRIM(様式４!C12))=0,"",様式４!C12)) | D12: ： | E12: =IF($A11="該当なし","",IF(LEN(TRIM(様式４!E12))=0,"",様式４!E12)) | F12: )
A13: =様式４!A13 -> 該当なし | C13: =IF($A13="該当なし","",IF(LEN(TRIM(様式４!C13))=0,"",様式４!C13)) | E13: =IF($A13="該当なし","",IF(LEN(TRIM(様式４!E13))=0,"",様式４!E13)) | G13: =IF(A13="該当なし","",IF(LEN(TRIM(様式４!G13))=0,"",様式４!G13))
B14: ( | C14: =IF($A13="該当なし","",IF(LEN(TRIM(様式４!C14))=0,"",様式４!C14)) | D14: ： | E14: =IF($A13="該当なし","",IF(LEN(TRIM(様式４!E14))=0,"",様式４!E14)) | F14: )
A17: ■国家資格の取得状況 | H17: ="対象期間："&TEXT(IF(AND(MONTH(様式４!R48)>=1,MONTH(様式４!R48)<=3),EOMONTH(様式４!R48,-9*12),EOMONTH(様式４!R48,-8*12)),"[$-ja-JP-x-gannen]ggge")&"年度～入札参加申込期限日" -> 対象期間：平成30年度～入札参加申込期限日 | U17: （8年間＋参加申込期限日迄）
A18: 評価対象 | B18: 技術者氏名 | E18: 若手女性 | G18: 国家資格 | I18: 対象期間内に取得した国家資格 | AV18: 最小値の対象者 | AW18: 氏名 | AX18: 若手 女性 | AY18: 国家 資格 | AZ18: 点数
B20: ( | C20: 生年月日 | D20: ) | I20: 資格区分 | O20: 資格名称又は対象部門及び科目 | AE20: 取得年度
A21: =IF(+AV21="○","○","") | C21: =IF(C9="","",IF(OR(A9=様式４!$C$82,A9=様式４!$C$83),"",C9)) | E21: =IF(OR(A9="工場製作",A9="該当なし"),"",IF(E10<40,"若手",IF(E9="女性","女性","×"))) | AG21: 年度 | AV21: =IF(AZ21=$AZ$27,"○","") | AW21: =IF(OR(A9="○",A9="工場製作"),C9,"") | AX21: =IF(OR(A9="工場製作",A9="該当なし",A9=""),"-",IF(OR(E9="女性",E10<40),"○","×")) -> - | AY21: =IF(OR(A9="工場製作",A9="該当なし",A9=""),"-",IF(G21="あり","○","×")) -> - | AZ21: =IF(A9="工場製作","対象外",IF(OR(A9="該当なし",A9=""),"",COUNTIF(AX21:AY22,"○")*0.5))
B22: ( | C22: =IF(C10="","",IF(OR(A9=様式４!$C$82,A9=様式４!$C$83),"",C10)) | D22: )
A23: =IF(A21="○","",+AV23) | C23: =IF(C11="","",IF(OR(A11=様式４!$C$82,A11=様式４!$C$83),"",C11)) | E23: =IF(OR(A11="工場製作",A11="該当なし"),"",IF(E12<40,"若手",IF(E11="女性","女性","×"))) | U23: =IF(OR(I23=$BI$32,I23=$BK$32,O23=$BM$33,O23=$BM$35,O23=$BM$36,O23=$BM$37,O23=$BM$38,O23=$BM$39,O23=$BM$43,),$BQ$54,"") | AG23: 年度 | AJ23: 若手・女性 技術者 | AN23: 国家資格 | AV23: =IF(AZ23=$AZ$27,"○","") | AW23: =IF(OR(A11="○",A11="工場製作"),C11,"") | AX23: =IF(OR(A11="工場製作",A11="該当なし",A11=""),"-",IF(OR(E11="女性",E12<40),"○","×")) -> - | AY23: =IF(OR(A11="工場製作",A11="該当なし",A11=""),"-",IF(G23="あり","○","×")) -> - | AZ23: =IF(A11="工場製作","対象外",IF(OR(A11="該当なし",A11=""),"",COUNTIF(AX23:AY24,"○")*0.5))
B24: ( | C24: =IF(C12="","",IF(OR(A11=様式４!$C$82,A11=様式４!$C$83),"",C12)) | D24: )
A25: =IF(A21="○","",IF(A23="○","",+AV25)) | C25: =IF(C13="","",IF(OR(A13=様式４!$C$82,A13=様式４!$C$83),"",C13)) | E25: =IF(OR(A13="工場製作",A13="該当なし"),"",IF(E14<40,"若手",IF(E13="女性","女性","×"))) | U25: =IF(OR(I25=$BI$32,I25=$BK$32,O25=$BM$33,O25=$BM$35,O25=$BM$36,O25=$BM$37,O25=$BM$38,O25=$BM$39,O25=$BM$43,),$BQ$54,"") | AG25: 年度 | AJ25: =IF(A21="○",$AX$21,IF(A23=$C$68,$AX$23,IF(A25=$C$68,$AX$25,""))) | AN25: =IF(A21=$C$68,$AY$21,IF(A23=$C$68,$AY$23,IF(A25=$C$68,$AY$25,""))) | AV25: =IF(AZ25=$AZ$27,"○","") | AW25: =IF(OR(A13="○",A13="工場製作"),C13,"") | AX25: =IF(OR(A13="工場製作",A13="該当なし",A13=""),"-",IF(OR(E13="女性",E14<40),"○","×")) -> - | AY25: =IF(OR(A13="工場製作",A13="該当なし",A13=""),"-",IF(G25="あり","○","×")) -> - | AZ25: =IF(A13="工場製作","対象外",IF(OR(A13="該当なし",A13=""),"",COUNTIF(AX25:AY26,"○")*0.5))
B26: ( | C26: =IF(C14="","",IF(OR(A13=様式４!$C$82,A13=様式４!$C$83),"",C14)) | D26: )
AY27: 最小点数 | AZ27: =MIN(AZ21,AZ23,AZ25) -> 0
U31: 注意事項 | AV31: 最小値の対象者 | AW31: 氏名 | AX31: 同種工事 | AY31: 工事成績（最大4点） | BE31: CPD | BF31: 合計
U32: 注１ | W32: ： 本評価項目の評価対象欄は、国家資格の取得状況の表の評価対象による。 | BI32: 施工管理技士 | BJ32: 施工管理技士名前 | BK32: 建築士 | BL32: 建築士名前 | BM32: 技術士 | BN32: 技術士部門名前
W33: なお、本様式枠外にて、評価対象となる技術者を選定し、〇を自動で入力しているが、間違いないか | AZ33: 監理技術者・主任技術者・現場代理人 | BI33: １級建設機械施工管理技士 | BJ33: 不要 | BK33: １級建築士 | BL33: 不要 | BM33: 建設 | BN33: 建設
W34: 確認の上、修正が必要な場合、評価対象に「○」を記載すること。 | BI34: １級土木施工管理技士 | BJ34: 不要 | BM34: 農業 | BN34: 農業
U35: 注２ | W35: ： 「若手女性」欄は、配置予定技術者の情報より自動入力されるので間違いないか確認すること。 | AX35: 有:２点 | AY35: 点/件 | AZ35: 2 | BA35: 1.5 | BB35: 1 | BC35: 0.5 | BD35: 0 | BE35: 取得３点 | BF35: 最大9点 | BI35: １級建築施工管理技士 | BJ35: 不要 | BM35: 電気電子 | BN35: 電気電子
U36: 注３ | W36: ： 配置予定技術者の入力内容は、様式４の記載内容と同じ内容で自動入力される。間違いないか | BI36: １級電気工事施工管理技士 | BJ36: 不要 | BM36: 電気・電子 | BN36: 電気電子
W37: 確認の上、修正が必要な場合は、様式４の配置予定技術者の入力内容の修正を行うこと。 | AY37: 未満 | BA37: 85 | BB37: 80 | BC37: 75 | BD37: 70 | BI37: １級管工事施工管理技士 | BJ37: 不要 | BM37: 機械 | BN37: 機械
U38: 注４ | W38: ： 様式４配置予定技術者の合格者証の入力内容と、国家資格の取得状況の国家資格の入力内容の資格は | AY38: 以上 | AZ38: 85 | BA38: 80 | BB38: 75 | BC38: 70 | BD38: 0 | BI38: １級電気通信工事施工管理技士 | BJ38: 不要 | BM38: 上下水道 | BN38: 上下水道
W39: 同一の資格でなくてもよい。 | AV39: =IF(BF40=$BF$45,"○","-") -> - | AY39: 件数 | AZ39: =COUNTIFS(AS33:AS36,">=85") -> 0 | BA39: =COUNTIFS(AS33:AS36,">=80",AS33:AS36,"<85") -> 0 | BB39: =COUNTIFS(AS33:AS36,">=75",AS33:AS36,"<80") -> 0 | BC39: =COUNTIFS(AS33:AS36,">=70",AS33:AS36,"<75") -> 0 | BD39: =COUNTIFS(AS33:AS36,">=0",AS33:AS36,"<70") -> 0 | BI39: １級造園施工管理技士 | BJ39: 不要 | BM39: 水道 | BN39: 上下水道
U40: 注５ | W40: ： 評価対象者の「若手・女性技術者」の加点の〇×、「国家資格」（取得者）の加点の〇×に間違い | AW40: =C21 | AX40: =IF(AG22="",0,2) -> 0 | AY40: 点数 | AZ40: =AZ$35*AZ39 -> 0 | BA40: =BA$35*BA39 -> 0 | BB40: =BB$35*BB39 -> 0 | BC40: =BC$35*BC39 -> 0 | BD40: =BD$35*BD39 -> 0 | BE40: =IF(T57="○",3,0) -> 0 | BF40: =IF(C22="","-",IF(A22=$C$82,"-",SUM(AX40,AZ40,BA40,BB40,BC40,BD40,BE40))) -> - | BM40: 水産 | BN40: 水産
W41: がないか確認すること。 | AV41: =IF(BF42=$BF$45,"○","-") -> - | AY41: 件数 | AZ41: =COUNTIFS(AS37:AS40,">=85") -> 0 | BA41: =COUNTIFS(AS37:AS40,">=80",AS37:AS40,"<85") -> 0 | BB41: =COUNTIFS(AS37:AS40,">=75",AS37:AS40,"<80") -> 0 | BC41: =COUNTIFS(AS37:AS40,">=70",AS37:AS40,"<75") -> 0 | BD41: =COUNTIFS(AS37:AS40,">=0",AS37:AS40,"<70") -> 0 | BM41: 森林 | BN41: 森林
U42: 注６ | W42: ： その他の事項については、様式２「注１」～「注３」を確認し本様式を記載すること。 | AW42: =C23 | AX42: =IF(AG24="",0,2) -> 0 | AY42: 点数 | AZ42: =AZ$35*AZ41 -> 0 | BA42: =BA$35*BA41 -> 0 | BB42: =BB$35*BB41 -> 0 | BC42: =BC$35*BC41 -> 0 | BD42: =BD$35*BD41 -> 0 | BE42: =IF(T59="○",3,0) -> 0 | BF42: =IF(C24="","-",IF(A24=$C$82,"-",SUM(AX42,AZ42,BA42,BB42,BC42,BD42,BE42))) -> - | BM42: 林業 | BN42: 森林
AV43: =IF(BF44=$BF$45,"○","-") -> - | AY43: 件数 | AZ43: =COUNTIFS(AS41:AS44,">=85") -> 0 | BA43: =COUNTIFS(AS41:AS44,">=80",AS41:AS44,"<85") -> 0 | BB43: =COUNTIFS(AS41:AS44,">=75",AS41:AS44,"<80") -> 0 | BC43: =COUNTIFS(AS41:AS44,">=70",AS41:AS44,"<75") -> 0 | BD43: =COUNTIFS(AS41:AS44,">=0",AS41:AS44,"<70") -> 0 | BM43: 衛生工学 | BN43: 衛生工学
AW44: =C26 | AX44: =IF(AG26="",0,2) -> 0 | AY44: 点数 | AZ44: =AZ$35*AZ43 -> 0 | BA44: =BA$35*BA43 -> 0 | BB44: =BB$35*BB43 -> 0 | BC44: =BC$35*BC43 -> 0 | BD44: =BD$35*BD43 -> 0 | BE44: =IF(T61="○",3,0) -> 0 | BF44: =IF(C26="","-",IF(A26=$C$82,"-",SUM(AX44,AZ44,BA44,BB44,BC44,BD44,BE44))) -> - | BM44: １級建設機械施工管理技士 | BN44: 不要
BE45: 最小値 | BF45: =MIN(BF40,BF42,BF44) -> 0 | BM45: １級土木施工管理技士 | BN45: 不要
BM46: １級建築施工管理技士 | BN46: 不要
BM47: １級電気工事施工管理技士 | BN47: 不要
...

Sheet 様式６
H1: 施工能力評価型様式６号
A2: 不履行項目数
A4: ="対象期間："&TEXT(IF(AND(MONTH(様式４!R48)>=1,MONTH(様式４!R48)<=6),EOMONTH(様式４!R48,-2*12),EOMONTH(様式４!R48,-1*12)),"[$-ja-JP-x-gannen]ggge")&"年度" -> 対象期間：令和7年度 | E4: 商号又は名称： | F4: =様式３!Y3 -> 0
E5: 工事名： | F5: =様式３!Y4 -> （都）塚口長尾線（昆陽南） 街路整備工事（その４）
A7: 不履行が発生した工事
A8: 工事 番号 | B8: 発注機関名 | D8: 工事名 | F8: 工期 （完成日） | H8: 検査年月日 | I8: 不履行
I9: 項目数
A10: 該当なし | F10: ～
A12: 該当なし | F12: ～
A14: 該当なし | F14: ～
H18: 不履行項目数の合計 （対象期間通算） | I18: 該当
H19: 不履行なし | I19: =IF(SUM(I10:I15)=0,"○","") -> ○
H20: 1項目 | I20: =IF(SUM(I10:I15)=1,"○","")
H21: 2項目 | I21: =IF(SUM(I10:I15)=2,"○","")
H22: 3項目以上 | I22: =IF(SUM(I10:I15)>=3,"○","")
A24: 注意事項
A25: 注１： | B25: 対象期間内に不履行が発生した工事はすべて記載すること。不履行がない場合は、「工事番号」欄で「該当なし」を選択すること。
A26: 注２： | B26: 記載された内容に誤りがあることが判明した場合は、当該評価項目の最低点（－６点）とする。
A27: 注３： | B27: 発注機関名は、県民局（センター）の名称を記載すること。
A28: 注４： | B28: 次の資料を添付すること。（コピー可。また、記載事項に該当する箇所をアンダーライン・赤囲み等により明示すること。）
B29: 工事成績評定結果の通知（不履行項目数が記載されたもの）（※必須（該当する工事がない場合は不要））
A30: 注５： | B30: 工事成績評定結果の通知等に検査年月日の記載がなく、検査年月日が不明な場合は、検査年月日欄に「－」を記載すること。
A31: 注６： | B31: その他の事項については、様式２の「注１」～「注３」確認し本様式を記載すること。
A36: リスト
A37: ① | B37: 該当なし
A38: ② | B38: 該当なし | K38: 1
A39: ③ | B39: 該当なし | K39: 2
K40: 3
A41: 神戸県民センター
A42: 阪神南県民センター
A43: 阪神北県民局
A44: 北播磨県民局
A45: 東播磨県民局
A46: 中播磨県民センター
A47: 西播磨県民局
A48: 但馬県民局
A49: 丹波県民局
A50: 淡路県民局

Sheet 【参考】誓約書（引渡し完了日）
A7: 誓約書
B11: ='様式１（表紙）'!B9 -> 令和 年 月 日 | E11: 付けで入札公告のありました
B12: ='様式１（表紙）'!B11 -> （都）塚口長尾線（昆陽南） 街路整備工事（その４）
B13: の技術提案書の提出に係り、下記事項について誓約します。
B18: 同種工事の施工実績に係る引渡し完了日については
D19: のとおりであり、引渡し完了日を証明する資料については
B20: 発注者より届き次第提出します。
B30: 兵庫県
B31: 契約担当者
B32: ='様式１（表紙）'!A4 -> 兵庫県阪神北県民局長
B36: ='様式１（表紙）'!Q3 -> 令和 年 月 日
E40: 特別共同企業体名
E41: 商号又は名称 | G41: ='様式１（表紙）'!L6 -> 0
E42: 住所 | G42: ='様式１（表紙）'!L5 -> 0
E43: 代表者氏名 | G43: ='様式１（表紙）'!L7 -> 0
E44: 電話番号
E45: 電子メール
A54: 注）電話番号および電子メールを記載すること。
B60: 様式第３号
B61: 様式第４号
B62: 様式第３号、４号

Sheet 【参考】誓約書（CCUS）
A7: 誓約書
B11: ='様式１（表紙）'!B9 -> 令和 年 月 日 | E11: 付けで入札公告のありました
B12: ='様式１（表紙）'!B11 -> （都）塚口長尾線（昆陽南） 街路整備工事（その４）
B13: の技術提案書の提出に係り、下記事項について誓約します。
B18: １ 建設キャリアアップシステム（ＣＣＵＳ）管理者ＩＤ利用料明細に係る
B19: 有効期限について、遅滞なく更新手続きを行います。
B22: ２ 上記有効期限の更新後、有効期限が更新された建設キャリアアップシステム
B23: （ＣＣＵＳ）のホームページ上の「管理者ＩＤ利用明細」の写しを
B24: 令和○年○月○日 | E24: （予定）までに提出します。
B30: 兵庫県
B31: 契約担当者
B32: ='様式１（表紙）'!A4 -> 兵庫県阪神北県民局長
B36: ='様式１（表紙）'!Q3 -> 令和 年 月 日
E40: 特別共同企業体名
E41: 商号又は名称 | G41: ='様式１（表紙）'!L6 -> 0
E42: 住所 | G42: ='様式１（表紙）'!L5 -> 0
E43: 代表者氏名 | G43: ='様式１（表紙）'!L7 -> 0
E44: 電話番号
E45: 電子メール
A54: 注）電話番号および電子メールを記載すること。

Sheet ≪記載例≫

Sheet 例＿様式１
Q1: 施工能力評価型様式１号
A2: 施工能力評価型 技術資料 表紙
Q3: 令和〇年〇月〇日
A4: 兵庫県〇〇県民局（センター）長 | H4: 様
J5: 住所 | K5: ： | L5: 〇〇市〇〇町 〇－〇
J6: 商号又は名称 | K6: ： | L6: ○○○○○建設
J7: 代表者氏名 | K7: ： | L7: 〇〇 〇〇
B9: 令和〇年〇月〇日 | H9: 付けで入札公告のありました、
B10: 工事番号 | E10: ●●第0000-0-0号
B11: 県道○○線 ○○○○○○○○○工事 | K11: について、以下の通り技術資料を提出します。
A13: １ 提出書類 | E13: 《 提出する根拠資料を確認（ｱﾝﾀﾞｰﾗｲﾝ、赤囲等で明示）の上「✓」を記載（提出のない資料は「－」）すること 》
B14: 様式番号（技術資料名） | I14: 提出する根拠資料（必須）
B15: 様式１号（施工能力評価型 技術資料 表紙）
B16: 様式２号（自己評価申告書）
C17: 地域建設業者の育成 | D17: 地域精通度 | I17: ✓ | J17: 建設工事入札参加資格者名簿（個票）
D18: 建設ｷｬﾘｱｱｯﾌﾟｼｽﾃﾑ（CCUS） の活用 | I18: ✓ | J18: CCUSﾎｰﾑﾍﾟｰｼﾞﾛｸﾞｲﾝ後の「事業者情報」画面 | Q18: ※WEBブラウザから直接印刷したもの
I19: ✓ | J19: CCUSﾎｰﾑﾍﾟｰｼﾞﾛｸﾞｲﾝ後の「管理者ID利用料明細」画面 | Q19: ※WEBブラウザから直接印刷したもの
B20: 様式３号（企業の施工能力）
C21: 企業の 施工能力 | D21: 同種工事の施工実績 | I21: ✓ | J21: 登録内容確認書（ｺﾘﾝｽﾞ） | M21: ※竣工時又は竣工後訂正したもの | O21: － | P21: 工事請負契約書等（契約図書含む） | R21: ← | S21: 選択して提出すること。
I22: － | J22: 工事成績評定結果の通知 | N22: ※入札参加申込期限日2週間前以降の工期（完成日） の場合で引渡し日を入力する場合 | R22: ← | S22: ただし、一方で確認できない場合は両方提出すること。
D23: 工事成績 | I23: ✓ | J23: 登録内容確認書（ｺﾘﾝｽﾞ）※竣工時又は竣工後訂正したもの
I24: ✓ | J24: 工事成績評定結果の通知
D25: 社会貢献点数 | I25: ✓ | J25: 建設工事入札参加資格者名簿（個票）
D26: 地域固有の社会貢献活動 （制限付き一般競争入札に限る） | I26: － | J26: 登録内容確認書（ｺﾘﾝｽﾞ） | M26: ※竣工時又は竣工後訂正したもの | O26: ✓ | P26: 契約書等（契約図書含む） | R26: ← | S26: 選択して提出すること。
B27: 様式４号（配置予定技術者の技術力） | S27: ただし、一方で確認できない場合は両方提出すること。
C28: 配置予定技術者の 技術力 | D28: 同種工事の施工実績 | I28: ✓ | J28: 登録内容確認書又は 技術者実績確認書（ｺﾘﾝｽﾞ） | M28: ※竣工時又は竣工後訂正したもの | O28: － | P28: 工事請負契約書等（契約図書含む） | R28: ← | S28: 選択して提出すること。
I29: － | J29: 工事成績評定結果の通知 | N29: ※入札参加申込期限日2週間前以降の工期（完成日）の場合で引渡し日を入力する場合又は技術者の配置根拠資料 | R29: ← | S29: ただし、一方で確認できない場合は両方提出すること。
D30: 工事成績 | I30: ✓ | J30: 登録内容確認書又は技術者実績確認書（ｺﾘﾝｽﾞ） | Q30: ※竣工時又は竣工後訂正したもの
I31: ✓ | J31: 工事成績評定結果の通知
E32: ※現場代理人として従事した 工事成績を申告する場合 | I32: － | J32: 従事した工事の開始日以前に、建設業法（昭和24年法律第100号）第26条に規定された主任技術者として従事できる国家資格を取得していることが分かる資料（合格証等）
E33: ※専任補助者として従事した 工事成績を申告する場合 | I33: ✓ | J33: 専任補助者として従事した工事の技術資料 （工事成績評定結果の通知で確認できない場合）
D34: 継続学習（CPD)の取組状況 | I34: ✓ | J34: 学習履歴証明書
B35: 様式５号（技術者の育成）
C36: 地域建設業者の 育成 | D36: 技術者の育成 | E36: ※若手・女性技術者を配置する場合 | I36: － | J36: 生年月日（年齢）及び女性の場合性別が分かる資料（マイナンバーカード等）
F37: ※専任補助者を 配置する場合 | I37: － | J37: 専任補助者が配置技術者に対する全ての入札参加資格要件を満たすことが確認できる資料
E38: ※直近８年以内に国家資格を取得している場合 | I38: － | J38: 配置予定技術者の建設業法（昭和24年法律第100号）第26条に規定された監理技術者として従事できる国家資格の取得年度が分かる資料（合格証等）
B39: 様式６号（不履行項目数）
C40: 減点 | D40: 不履行項目数 | I40: － | J40: 工事成績評定結果の通知
B41: 様式７号（当該工事で使用する作業船）
C42: 地域建設 業者の 育成 | D42: 当該工事で使用する作業船 | I42: － | J42: 船舶の所有者等が確認できる資料（「その他資料」に資料名を記載すること。）
...

Sheet 例＿様式2
B1: 《※「同種工事の施工実績」評価あり、「地域固有の社会貢献活動」評価あり（1項目1点）》 | K1: 施工能力評価型様式２号
B2: 自己評価申告書
B4: 工事番号 | C4: =例＿様式１!E10 -> ●●第0000-0-0号 | H4: 許可番号 | J4: 兵庫県知事 | K4: 許可 第 | L4: 123456 | M4: 号
B5: 工事名 | C5: =例＿様式１!B11 -> 県道○○線 ○○○○○○○○○工事 | H5: 会社名 | J5: =例＿様式１!L6 -> ○○○○○建設
H6: 作成者 | J6: =例＿様式１!F53 -> 〇〇 〇〇
B10: 評価区分 | C10: 評価項目 | D10: 配点 | E10: 評価方法 | I10: 入札参加者（申告者） | K10: （発注者記載欄）
E11: 評価方法 | G11: 評価内容 | H11: 評価点 | I11: 評価内容 | J11: 評価点 | K11: 自己評価 | L11: 技術資料 | M11: 備 考
B12: 企業の施工能力【様式３号】 | C12: 同種工事 の施工実績 | D12: 1点 | E12: 同種工事の施工実績がある。 | G12: あり | H12: 1 | I12: =IF(様式３!$A$9=様式３!$D$59,"なし","あり") -> なし | J12: =IF(I12="","",IF(I12=G12,H12,H13)) -> 0
E13: 同種工事の施工実績がない。 | G13: なし | H13: 0
C14: 工事成績 | D14: 2点 | E14: 85点以上 | G14: 該当する 工事件数 を記載 （4件） | H14: 0.5 | I14: 1件 | J14: =IF(AND(I14="",I15="",I16="",I17="",I18=""),"",IF(OR(I14="",I15="",I16="",I17="",I18=""),"全て選択してください。",IF(LEFT(I14)+LEFT(I15)+LEFT(I16)+LEFT(I17)+LEFT(I18)=4,LEFT(I14)*H14+LEFT(I15)*H15+LEFT(I16)*H16+LEFT(I17)*H17+LEFT(I18)*H18,"合計4件にしてください"))) -> 1.1
E15: 80点以上 85点未満 | H15: 0.4 | I15: 1件
E16: 75点以上 80点未満 | H16: 0.3 | I16: =様式３!$AD$18&"件" -> 0件
E17: 70点以上 75点未満 | H17: 0.2 | I17: 1件
E18: 70点未満、該当工事なし | H18: 0 | I18: 1件
C19: 社会貢献点数 | D19: 2点 | E19: 100点以上 | G19: 社会貢献 点数を 記載 | H19: 2 | I19: 110 | J19: =IF(I19>=100,2,IF(AND(80<=I19,I19<100),1.5,IF(AND(60<=I19,I19<80),1,IF(AND(40<=I19,I19<60),0.5,IF(I19="","",0))))) -> 2
E20: 80点以上 100点未満 | H20: 1.5
E21: 60点以上 80点未満 | H21: 1
E22: 40点以上 60点未満 | H22: 0.5
E23: 40点未満 | H23: 0
C24: 地域固有の 社会貢献活動 | D24: 1点 | E24: 地域固有の社会貢献活動の実績がある。 | G24: あり | H24: 1 | I24: =IF(様式３!$B$51=様式３!$D$91,"あり","なし") -> なし | J24: =IF(I24="","",IF(I24=G24,H24,H25)) -> 0
E25: 地域固有の社会貢献活動の実績がない。 | G25: なし | H25: 0
B26: 配置予定技術者の技術力【様式4号】 | C26: 専任補助者の配置 | D26: － | E26: 当該評価項目において評価対象とする技術者 | I26: 専任補助者 | O26: ←「×」が表示される場合は、様式４号の「評価対象」が複数選択されています。
C27: 同種工事 の施工実績 | D27: 2点 | E27: 同種工事の施工実績がある。 | G27: あり | H27: 2 | I27: あり | J27: =IF(I27="","",IF(I27=G27,H27,H28)) -> 2
E28: 同種工事の施工実績がない。 | G28: なし | H28: 0
C29: 工事成績 | D29: 4点 | E29: 主任（監理）技術者又は要件を満たす現場代理人として従事した工事 | F29: 85点以上 | G29: 該当する 工事件数 を記載 （2件） | H29: 2 | I29: 1件 | J29: =IF(AND(I29="",I30="",I31="",I32="",I33=""),"",IF(OR(I29="",I30="",I31="",I32="",I33=""),"全ての項目を選択してください。",IF(LEFT(I29)+LEFT(I30)+LEFT(I31)+LEFT(I32)+LEFT(I33)=2,LEFT(I29)*H29+LEFT(I30)*H30+LEFT(I31)*H31+LEFT(I32)*H32+LEFT(I33)*H33,"合計2件にしてください"))) -> 2
F30: 80点以上 85点未満 | H30: 1.5 | I30: 0件
F31: 75点以上 80点未満 | H31: 1 | I31: 0件
F32: 70点以上 75点未満 | H32: 0.5 | I32: =様式４!AI51&"件" -> 0件
F33: 70点未満、該当工事なし | H33: 0 | I33: 1件
C34: 継続学習（CPD） の取組状況 | D34: 3点 | E34: 推奨単位以上の取得実績がある。 | G34: あり | H34: 3 | I34: あり | J34: =IF(I34="","",IF(I34=G34,H34,H35)) -> 3
E35: 推奨単位以上の取得実績がない。 | G35: なし | H35: 0
B36: 地域建設業者の育成 | C36: 地域精通度 （本店所在地） | D36: 1点 | E36: 本店（主たる営業所）の所在地が契約期間中、継続して指定地域内にある。 | G36: あり | H36: 1 | I36: あり | J36: =IF(I36="","",IF(I36=G36,H36,H37)) -> 1
E37: 上記に該当しない。 | G37: なし | H37: 0
C38: 県内企業の 下請負人活用 状況 | D38: 1点 | E38: 下請負人の全てを県内企業とする、 又は元請負人が県内企業であり自社施工する。 | G38: あり | H38: 1 | I38: あり | J38: =IF(I38="","",IF(I38=G38,H38,H39)) -> 1
E39: 上記に該当しない。 | G39: なし | H39: 0
C40: 新技術・新工法 の活用 | D40: 1点 | E40: 当該工事において適用する。 | G40: あり | H40: 1 | I40: あり | J40: =IF(I40="","",IF(I40=G40,H40,H41)) -> 1
E41: 当該工事において適用しない。 | G41: なし | H41: 0
C42: 技術者の育成 【様式５号】 | D42: 1点 | E42: 若手・女性 技術者 | G42: 該当 | H42: 0.5 | I42: 該当 | J42: =IF(OR(I42="",I44=""),"",IF(I42=G42,H42,H43)+IF(I44=G44,H44,H45)) -> 0.5
G43: 非該当 | H43: 0
E44: 直近８年以内に国家資格を取得した者 | G44: 該当 | H44: 0.5 | I44: 非該当
...

Sheet 例＿様式３ 
AA1: 施工能力評価型様式３号
A2: 企業の施工能力
U3: 商号又は名称 | X3: ： | Y3: =例＿様式１!L6 -> ○○○○○建設
U4: 工事名 | X4: ： | Y4: =例＿様式１!B11 -> 県道○○線 ○○○○○○○○○工事
A5: ■同種工事の施工実績 | G5: ="対象期間："&TEXT(IF(AND(MONTH(様式４!R48)>=1,MONTH(様式４!R48)<=3),EOMONTH(様式４!R48,-16*12),EOMONTH(様式４!R48,-15*12)),"[$-ja-JP-x-gannen]ggge")&"年度～入札参加申込期限日" -> 対象期間：平成23年度～入札参加申込期限日 | M5: （15年間＋参加申込期限日迄） | N5: 同種工事： | Q5: 河川工事において同一工事で高さ○m以上のコンクリートブロック積で●m2以上の施工実績
A7: 対象工事 | B7: 発注機関名 | F7: 工事名 | K7: 工期 | N7: 発注形態 | V7: 施工実績 | AC7: 備考
K8: （完成日） | S8: 規模・寸法 | V8: 構造型式 | Z8: 使用機材・数量
A9: 該当あり | B9: その他の機関 | F9: 〇〇工事 | K9: 平成〇年〇月〇日 | N9: 単体 | S9: Ｈ＝○.○ｍ | V9: ｺﾝｸﾘｰﾄﾌﾞﾛｯｸ積 | Z9: ○○○○m2
B10: 〇〇市 | N10: =IF(N9=$D$67,"（出資比率","") | R10: =IF(N10="","","％）")
A12: ■工事成績 | G12: ="対象期間："&TEXT(IF(AND(MONTH(様式４!R48)>=1,MONTH(様式４!R48)<=6),EOMONTH(様式４!R48,-108),EOMONTH(様式４!R48,-96)),"[$-ja-JP-x-gannen]ggge")&"年度～"&TEXT(IF(AND(MONTH(様式４!R48)>=1,MONTH(様式４!R48)<=6),EOMONTH(様式４!R48,-24),EOMONTH(様式４!R48,-12)),"[$-ja-JP-x-gannen]ggge")&"年度" -> 対象期間：平成30年度～令和7年度 | M12: （８年間）
A14: 対象工事 | B14: 発注機関名 | F14: 工事名 | K14: 工期 （完成日） | N14: 発注形態 | S14: 工種 | V14: 検査年月日 | Y14: 工事 成績 | AB14: 85点以上 | AD14: =COUNTIF($Y$16:$Y$23,">=85") -> 1
E15: ( | F15: 施工場所 | J15: )
A16: 該当有① | B16: その他の機関 | F16: 〇〇工事 | K16: ～ | L16: 平成〇年〇月〇日 | N16: 特別共同企業体 | S16: 一般土木工事 又は、港湾土木工事 | V16: 平成〇年〇月〇日 | Y16: 86 | AB16: 80点以上85点未満 | AD16: =COUNTIF($Y$16:$Y$23,">=80")-AD14 -> 1
B17: 近畿地方整備局 | E17: ( | F17: 兵庫県〇〇市 | J17: ) | N17: （出資比率 | Q17: 20 | R17: ％）
A18: 該当有② | B18: 兵庫県 | F18: 〇〇工事 | K18: ～ | L18: 平成〇年〇月〇日 | N18: 単体 | S18: 一般土木工事 又は、港湾土木工事 | V18: 平成〇年〇月〇日 | Y18: 84 | AB18: 75点以上80点未満 | AD18: =COUNTIF($Y$16:$Y$23,">=75")-SUM(AD14:AD17) -> 0
E19: ( | F19: ※記載不要 | J19: ) | N19: =IF(N18=$D$67,"（出資比率","") | R19: =IF(N19="","","％）")
A20: 該当有③ | B20: 神戸市 | F20: 〇〇工事 | K20: ～ | L20: 平成〇年〇月〇日 | N20: 単体 | S20: 一般土木工事 又は、港湾土木工事 | V20: 平成〇年〇月〇日 | Y20: 74 | AB20: 70点以上75点未満 | AD20: =COUNTIF($Y$16:$Y$23,">=70")-SUM(AD14:AD19) -> 1
E21: ( | F21: ※記載不要 | J21: ) | N21: =IF(N20=$D$67,"（出資比率","") | R21: =IF(N21="","","％）")
A22: なし | K22: ～ | AB22: 70点未満、 該当なし | AD22: =4-SUM(AD14:AD21) -> 1
E23: ( | F23: =IF(AND(B22<>$F$86,B22<>""),"※記載不要","") | J23: ) | N23: =IF(N22=$D$67,"（出資比率","") | R23: =IF(N23="","","％）")
R25: 注意事項
A26: ■社会貢献点数
R27: 注１ | S27: ： 様式１号に記載している根拠資料を添付し本様式と整合させること。
A29: 入札参加申込期限日において有効な兵庫県の建設工事入札参加資格者名簿（個票）における | S29: なお、根拠資料の該当箇所を明示すること。（ｱﾝﾀﾞｰﾗｲﾝ等）
A30: 評価項目 | M30: 点数 | R30: 注２ | S30: ： 「発注機関名」欄で「その他の機関」を選択した場合は、官庁名等を
A31: ①技術・社会貢献評価数値の合計の点数 | M31: 200 | S31: 記載すること。
R32: 注３ | S32: ： 同種工事の施工実績の工期（完成日）が入札参加申込期限より2週間（14日）以内の場合、
A33: ②技術評価数値のうち、工事成績によって加点された点数（該当工種※の点数） | M33: 90 | S33: 背景が黄色となる。この場合、工期（完成日）ではなく検査年月日（引渡し完了日）を記載すること。
A34: （※一般土木工事、アスファルト舗装工事、造園工事） | R34: 注４ | S34: ： 工事成績評定通知書等に検査年月日の記載がなく、確認がとれない
A35: 社会貢献点数（①－②） | M35: =M31-M33 -> 110 | S35: 場合は、「検査年月日」欄に「－」を記載すること。
R36: 注５ | S36: ： 評価対象となる項目がない場合は「対象工事」欄、「施工実績」欄で
S37: 「該当なし」を選択すること。
A38: ■地域固有の社会貢献活動 | G38: ※１件のみ記載できる | R38: 注６ | S38: ： 入札参加申込期限日において有効な兵庫県の建設工事入札参加
S39: 資格者名簿（個票）に登載された点数を記載すること。
A41: ※評価対象とする地域固有の社会貢献活動 | R41: 注７ | S41: ： その他の事項については、様式２の「注１」～「注３」を
C43: 対象発注機関 | E43: ： | F43: ○○県民局 | S43: 確認し本様式を記載すること。
D44: =IF(F44=D95,G91,G92) -> 対象業務 | E44: ： | F44: 除雪又は凍結防止剤散布業務の実績
D45: 対象年度 | E45: ： | F45: 2 | H45: ( | I45: 令和5年度 | L45: ～ | M45: 令和6年度 | P45: ）
D46: 業務箇所 | E46: ： | F46: ○○市又は○○町に限る
D47: 評価点 | E47: ： | F47: 除雪２点、凍結防止剤散布１点
...

Sheet 例＿様式４
AN1: 施工能力評価型様式４号
A2: 配置予定技術者の技術力
AG3: 商号又は名称 | AK3: ： | AL3: =例＿様式１!L6 -> ○○○○○建設
AG4: 工事名 | AK4: ： | AL4: =例＿様式１!B11 -> 県道○○線 ○○○○○○○○○工事
A5: ■配置予定技術者 | Q5: ■専任補助者 | X5: 全ての配置予定技術者が若手又は女性技術者であるため、 専任補助者を配置できる要件を満たしています。
A7: 配置予定 | C7: 技術者氏名 | D7: ( | E7: 性別 | F7: ) | G7: 【参考】 入札公告に示す配置技術者の入札参加資格要件の確認 | Y7: 配置予定 | AA7: 専任補助者氏名 | AG7: 入札公告に示す配置技術者の入札参加資格要件の確認 | AV7: 専任補助者対象
B8: ( | C8: 生年月日 | D8: ： | E8: 年齢 | F8: ) | G8: 合格証書等の有無） | Z8: ( | AA8: 生年月日 | AF8: ) | AG8: 建設業法の規定による技術者（技術者証の有無） | AV8: 1 | AW8: =IF(OR(A9="○",A9=""),IF(OR(A9="○",A9=""),IF(OR(E9="女性",AND(E9="男性",AND(E10<40,NOT(E10=0))),AND(E9="",AND(E10<40,NOT(E10=0)))),"○","×")),IF(A9="工場製作","対象外","")) -> ○
A9: ○ | C9: ●● 〇〇 | E9: 男性 | G9: 有：１級施工管理技士 | R9: 専任補助者の 配置を | Y9: ○ | AA9: 〇× ▲□ | AG9: 有：１級施工監理技士
B10: ( | C10: 35828 | D10: ： | E10: =IF(NOT(C10=""),DATEDIF(C10,$R$48,"Y"),"") -> 27 | F10: ) | Z10: ( | AA10: 27456 | AF10: ) | AV10: 2 | AW10: =IF(OR(A11="○",A11=""),IF(OR(A11="○",A11=""),IF(OR(E11="女性",AND(E11="男性",AND(E12<40,NOT(E12=0))),AND(E11="",AND(E12<40,NOT(E12=0)))),"○","×")),IF(A11="工場製作","対象外","")) -> ○
A11: ○ | C11: △△ ▲▲ | D11: ( | E11: 女性 | F11: ) | G11: 有：２級施工管理技士 | R11: する | Y11: ○ | AA11: □★ 〇▽ | AG11: 有：２級施工管理技士
B12: ( | C12: 31841 | D12: ： | E12: =IF(NOT(C12=""),DATEDIF(C12,$R$48,"Y"),"") -> 38 | F12: ) | Z12: ( | AA12: 27154 | AF12: ) | AV12: 3 | AW12: =IF(OR(A13="○",A13=""),IF(OR(A13="○",A13=""),IF(OR(E13="女性",AND(E13="男性",AND(E14<40,NOT(E14=0))),AND(E13="",AND(E14<40,NOT(E14=0)))),"○","×")),IF(A13="工場製作","対象外","")) -> 対象外
A13: 工場製作 | C13: □□ □□ | D13: ( | F13: ) | Y13: 該当なし
B14: ( | D14: ： | E14: =IF(NOT(C14=""),DATEDIF(C14,$R$48,"Y"),"") | F14: ) | Z14: ( | AF14: )
A16: =IF(AND(様式３!A5 = "",R11="しない"),"【参考】","") | H16: （15年間＋参加申込期限日迄） | U16: =IF(様式３!A5 = "","入札公告に示す配置技術者の同種工事の施工実績","")
A17: =IF(様式３!A5=B78,B78,"■同種工事の施工実績") -> ■同種工事の施工実績 | H17: =様式３!$G$5 -> 対象期間：平成23年度～入札参加申込期限日 | U17: 同種工事： | X17: =様式３!$Q$5 -> 電線共同溝（道路延長）Ｌ＝１００ｍ以上の施工実績
A20: 評価 対象 | C20: 技術者氏名 | E20: 対象工事 | F20: 発注機関名 | L20: 工事名 | W20: 工期 | AB20: 発注形態 | AG20: 施工実績 | AR20: 備考
B21: ( | C21: 生年月日 | D21: ) | AG21: =様式３!S8 -> 規模・寸法 | AK21: =様式３!V8 -> 構造型式 | AO21: =様式３!Z8 -> 使用機材・数量
A22: ○ | C22: =IF($R$11=$C$75,IF(Y9=$C$81,AA9,""),IF(A9=$C$81,C9,"")) -> 〇× ▲□ | E22: 該当あり | F22: その他の機関 | L22: ○×◇工事 | X22: 42186 | AB22: 単体 | AG22: 高さ | AK22: コンクリート | AO22: 面積 | AR22: 主任技術者、監理技術者又は現場代理人
B23: ( | C23: =IF($R$11=$C$75,IF(Y9=$C$81,AA10,""),IF(A9=$C$81,C10,"")) -> 27456 | D23: ) | F23: 近畿地方整備局 | W23: ～ | X23: 42454 | AB23: =IF(AB22=$C$90,"（出資比率","") | AE23: =IF(AB23="","","％）") | AG23: □m | AK23: ブロック積 | AO23: ○○.〇㎡
C24: =IF($R$11=$C$75,IF(Y11=$C$81,AA11,""),IF(A11=$C$81,C11,"")) -> □★ 〇▽ | E24: 該当なし | AR24: 主任技術者、監理技術者又は現場代理人
B25: ( | C25: =IF($R$11=$C$75,IF(Y11=$C$81,AA12,""),IF(A11=$C$81,C12,"")) -> 27154 | D25: ) | W25: ～ | AB25: =IF(AB24=$C$90,"（出資比率","") | AE25: =IF(AB25="","","％）")
C26: =IF($R$11=$C$75,IF(Y13=$C$81,AA13,""),IF(A13=$C$81,C13,"")) | E26: 該当なし | AR26: 主任技術者、監理技術者又は現場代理人
B27: ( | C27: =IF($R$11=$C$75,IF(Y13=$C$81,AA14,""),IF(A13=$C$81,C14,"")) | D27: ) | W27: ～ | AB27: =IF(AB26=$C$90,"（出資比率","") | AE27: =IF(AB27="","","％）")
A29: ■工事成績 | H29: =様式３!$G$12 -> 対象期間：平成30年度～令和7年度 | Q29: （８年間）
A31: 評価 対象 | C31: 技術者氏名 | E31: 対象工事 | F31: 発注機関名 | L31: 工事名 | W31: 工期 | AB31: 発注形態 | AG31: 工種 | AL31: 従事役職 | AP31: 検査年月日 | AS31: 工事 成績 | AV31: 最小値の対象者 | AW31: 氏名 | AX31: 同種工事 | AY31: 工事成績（最大4点） | BE31: CPD | BF31: 合計
B32: ( | C32: 生年月日 | D32: ) | K32: ( | L32: 施工場所 | V32: ) | AG32: 保有していた国家資格
A33: =IF(A22="","",A22) -> ○ | E33: 該当あり | F33: その他の機関 | L33: 〇▲××工事 | X33: 44449 | AB33: 単体 | AG33: 一般土木工事 又は、港湾土木工事 | AL33: 主任（監理）技術者 | AP33: 44627 | AS33: 85 | AZ33: 監理技術者・主任技術者・現場代理人
C34: =IF(C22="","",C22) -> 〇× ▲□ | F34: 兵庫県道路公社 | K34: ( | L34: 兵庫県神崎郡市川町 | V34: ) | W34: ～ | X34: 44620 | AB34: =IF(AB33=$C$90,"（出資比率","") | AE34: =IF(AB34="","","％）")
B35: ( | C35: =IF(C23="","",C23) -> 27456 | D35: ) | E35: 該当なし | AX35: 有:２点 | AY35: 点/件 | AZ35: 2 | BA35: 1.5 | BB35: 1 | BC35: 0.5 | BD35: 0 | BE35: 取得３点 | BF35: 最大9点
K36: ( | L36: =IF(AND(F35<>$E$110,F35<>""),"※記載不要","") | V36: ) | W36: ～ | AB36: =IF(AB35=$C$90,"（出資比率","") | AE36: =IF(AB36="","","％）")
A37: =IF(A24="","",A24) | E37: 該当あり | F37: 兵庫県 | L37: ◇●〇×工事 | X37: 45224 | AB37: 単体 | AG37: 一般土木工事 又は、港湾土木工事 | AL37: 現場代理人（国家資格） | AP37: 45382 | AS37: 81 | AY37: 未満 | BA37: 85 | BB37: 80 | BC37: 75 | BD37: 70
C38: =IF(C24="","",C24) -> □★ 〇▽ | K38: ( | L38: =IF(AND(F37<>$E$110,F37<>""),"※記載不要","") -> ※記載不要 | V38: ) | W38: ～ | X38: 45376 | AB38: =IF(AB37=$C$90,"（出資比率","") | AE38: =IF(AB38="","","％）") | AG38: ２級土木施工管理技士（種別は「土木」に限る） | AY38: 以上 | AZ38: 85 | BA38: 80 | BB38: 75 | BC38: 70 | BD38: 0
B39: ( | C39: =IF(C25="","",C25) -> 27154 | D39: ) | E39: 該当あり | F39: その他の機関 | L39: 〇×▽工事 | X39: 43588 | AB39: 特別共同企業体 | AG39: 一般土木工事 又は、港湾土木工事 | AL39: 主任（監理）技術者 | AP39: 44235 | AS39: 79 | AV39: =IF(BF40=$BF$45,"○","-") -> - | AY39: 件数 | AZ39: =COUNTIFS(AS33:AS36,">=85") -> 1 | BA39: =COUNTIFS(AS33:AS36,">=80",AS33:AS36,"<85") -> 0 | BB39: =COUNTIFS(AS33:AS36,">=75",AS33:AS36,"<80") -> 0 | BC39: =COUNTIFS(AS33:AS36,">=70",AS33:AS36,"<75") -> 0 | BD39: =COUNTIFS(AS33:AS36,">=0",AS33:AS36,"<70") -> 0
F40: 阪神高速道路(株) | K40: ( | L40: 兵庫県尼崎市 | V40: ) | W40: ～ | X40: 44227 | AB40: =IF(AB39=$C$90,"（出資比率","") -> （出資比率 | AD40: 60 | AE40: =IF(AB40="","","％）") -> ％） | AW40: =C22 -> 〇× ▲□ | AX40: =IF(E22="なし",0,2) -> 2 | AY40: 点数 | AZ40: =AZ$35*AZ39 -> 2 | BA40: =BA$35*BA39 -> 0 | BB40: =BB$35*BB39 -> 0 | BC40: =BC$35*BC39 -> 0 | BD40: =BD$35*BD39 -> 0 | BE40: =IF(T57="○",3,0) -> 3 | BF40: =IF(C22="","-",IF(A22=$C$82,"-",SUM(AX40,AZ40,BA40,BB40,BC40,BD40,BE40))) -> 7
A41: =IF(A26="","",A26) | E41: 該当なし | AV41: =IF(BF42=$BF$45,"○","-") -> ○ | AY41: 件数 | AZ41: =COUNTIFS(AS37:AS40,">=85") -> 0 | BA41: =COUNTIFS(AS37:AS40,">=80",AS37:AS40,"<85") -> 1 | BB41: =COUNTIFS(AS37:AS40,">=75",AS37:AS40,"<80") -> 1 | BC41: =COUNTIFS(AS37:AS40,">=70",AS37:AS40,"<75") -> 0 | BD41: =COUNTIFS(AS37:AS40,">=0",AS37:AS40,"<70") -> 0
C42: =IF(C26="","",C26) | K42: ( | L42: =IF(AND(F41<>$E$110,F41<>""),"※記載不要","") | V42: ) | W42: ～ | AB42: =IF(AB41=$C$90,"（出資比率","") | AE42: =IF(AB42="","","％）") | AW42: =C24 -> □★ 〇▽ | AX42: =IF(E24="なし",0,2) -> 2 | AY42: 点数 | AZ42: =AZ$35*AZ41 -> 0 | BA42: =BA$35*BA41 -> 1.5 | BB42: =BB$35*BB41 -> 1 | BC42: =BC$35*BC41 -> 0 | BD42: =BD$35*BD41 -> 0 | BE42: =IF(T59="○",3,0) -> 0 | BF42: =IF(C24="","-",IF(A24=$C$82,"-",SUM(AX42,AZ42,BA42,BB42,BC42,BD42,BE42))) -> 4.5
B43: ( | C43: =IF(C27="","",C27) | D43: ) | E43: 該当なし | AV43: =IF(BF44=$BF$45,"○","-") -> - | AY43: 件数 | AZ43: =COUNTIFS(AS41:AS44,">=85") -> 0 | BA43: =COUNTIFS(AS41:AS44,">=80",AS41:AS44,"<85") -> 0 | BB43: =COUNTIFS(AS41:AS44,">=75",AS41:AS44,"<80") -> 0 | BC43: =COUNTIFS(AS41:AS44,">=70",AS41:AS44,"<75") -> 0 | BD43: =COUNTIFS(AS41:AS44,">=0",AS41:AS44,"<70") -> 0
K44: ( | L44: =IF(AND(F43<>$E$110,F43<>""),"※記載不要","") | V44: ) | W44: ～ | AB44: =IF(AB43=$C$90,"（出資比率","") | AE44: =IF(AB44="","","％）") | AW44: =C26 | AX44: =IF(E26="なし",0,2) -> 2 | AY44: 点数 | AZ44: =AZ$35*AZ43 -> 0 | BA44: =BA$35*BA43 -> 0 | BB44: =BB$35*BB43 -> 0 | BC44: =BC$35*BC43 -> 0 | BD44: =BD$35*BD43 -> 0 | BE44: =IF(T61="○",3,0) -> 0 | BF44: =IF(C26="","-",IF(A26=$C$82,"-",SUM(AX44,AZ44,BA44,BB44,BC44,BD44,BE44))) -> -
BE45: 最小値 | BF45: =MIN(BF40,BF42,BF44) -> 4.5
Y46: 監理技術者 主任技術者 専任補助者 現場代理人 | AC46: 85点以上 | AI46: =IF($A$33=$C$81,$AZ$39,IF($A$37=$C$81,$AZ$41,IF($A$41=$C$81,$AZ$43,0))) -> 1
...

Sheet 例＿様式5
AN1: 施工能力評価型様式５号
A2: 地域建設業者の育成（技術者の育成）
AG3: 商号又は名称 | AK3: ： | AL3: =+例＿様式2!J5 -> ○○○○○建設
AG4: 工事名 | AK4: ： | AL4: =+例＿様式2!C5 -> 県道○○線 ○○○○○○○○○工事
A5: ■配置予定技術者
A7: 配置予定 | C7: 技術者氏名 | D7: ( | E7: 性別 | F7: ) | G7: 【参考】 入札公告に示す配置技術者の入札参加資格要件の確認
B8: ( | C8: 生年月日 | D8: ： | E8: 年齢 | F8: ) | G8: 合格証書等の有無）
A9: =例＿様式４!A9 -> ○ | C9: =IF($A9="該当なし","",IF(LEN(TRIM(例＿様式４!C9))=0,"",例＿様式４!C9)) -> ●● 〇〇 | E9: =IF($A9="該当なし","",IF(LEN(TRIM(例＿様式４!E9))=0,"",例＿様式４!E9)) -> 男性 | G9: =IF(A9="該当なし","",IF(LEN(TRIM(例＿様式４!G9))=0,"",例＿様式４!G9)) -> 有：１級施工管理技士
B10: ( | C10: =IF($A9="該当なし","",IF(LEN(TRIM(例＿様式４!C10))=0,"",例＿様式４!C10)) -> 35828 | D10: ： | E10: =IF($A9="該当なし","",IF(LEN(TRIM(例＿様式４!E10))=0,"",例＿様式４!E10)) -> 27 | F10: )
A11: =例＿様式４!A11 -> ○ | C11: =IF($A11="該当なし","",IF(LEN(TRIM(例＿様式４!C11))=0,"",例＿様式４!C11)) -> △△ ▲▲ | E11: =IF($A11="該当なし","",IF(LEN(TRIM(例＿様式４!E11))=0,"",例＿様式４!E11)) -> 女性 | G11: =IF(A11="該当なし","",IF(LEN(TRIM(例＿様式４!G11))=0,"",例＿様式４!G11)) -> 有：２級施工管理技士
B12: ( | C12: =IF($A11="該当なし","",IF(LEN(TRIM(例＿様式４!C12))=0,"",例＿様式４!C12)) -> 31841 | D12: ： | E12: =IF($A11="該当なし","",IF(LEN(TRIM(例＿様式４!E12))=0,"",例＿様式４!E12)) -> 38 | F12: )
A13: =例＿様式４!A13 -> 工場製作 | C13: =IF($A13="該当なし","",IF(LEN(TRIM(例＿様式４!C13))=0,"",例＿様式４!C13)) -> □□ □□ | E13: =IF($A13="該当なし","",IF(LEN(TRIM(例＿様式４!E13))=0,"",例＿様式４!E13)) | G13: =IF(A13="該当なし","",IF(LEN(TRIM(例＿様式４!G13))=0,"",例＿様式４!G13))
B14: ( | C14: =IF($A13="該当なし","",IF(LEN(TRIM(例＿様式４!C14))=0,"",例＿様式４!C14)) | D14: ： | E14: =IF($A13="該当なし","",IF(LEN(TRIM(例＿様式４!E14))=0,"",例＿様式４!E14)) | F14: )
A17: ■国家資格の取得状況 | H17: ="対象期間："&TEXT(IF(AND(MONTH(例＿様式４!R48)>=1,MONTH(例＿様式４!R48)<=3),EOMONTH(例＿様式４!R48,-9*12),EOMONTH(例＿様式４!R48,-8*12)),"[$-ja-JP-x-gannen]ggge")&"年度～入札参加申込期限日" -> 対象期間：平成29年度～入札参加申込期限日 | U17: （8年間＋参加申込期限日迄）
A18: 評価対象 | B18: 技術者氏名 | E18: 若手女性 | G18: 国家資格 | I18: 対象期間内に取得した国家資格 | AV18: 最小値の対象者 | AW18: 氏名 | AX18: 若手 女性 | AY18: 国家 資格 | AZ18: 点数
B20: ( | C20: 生年月日 | D20: ) | I20: 資格区分 | O20: 資格名称又は対象部門及び科目 | AE20: 取得年度
A21: =IF(+AV21="○","○","") | C21: =IF(C9="","",IF(OR(A9=例＿様式４!$C$82,A9=例＿様式４!$C$83),"",C9)) -> ●● 〇〇 | E21: =IF(OR(A9="工場製作",A9="該当なし"),"",IF(E10<40,"若手",IF(E9="女性","女性","×"))) -> 若手 | G21: あり | I21: 施工管理技士 | O21: １級造園施工管理技士 | U21: =IF(OR(I21=$BI$32,I21=$BK$32,O21=$BM$33,O21=$BM$35,O21=$BM$36,O21=$BM$37,O21=$BM$38,O21=$BM$39,O21=$BM$43,),$BQ$54,"") -> ※記載不要 | AE21: 平成 | AF21: 30 | AG21: 年度 | AV21: =IF(AZ21=$AZ$27,"○","") | AW21: =IF(OR(A9="○",A9="工場製作"),C9,"") -> ●● 〇〇 | AX21: =IF(OR(A9="工場製作",A9="該当なし",A9=""),"-",IF(OR(E9="女性",E10<40),"○","×")) -> ○ | AY21: =IF(OR(A9="工場製作",A9="該当なし",A9=""),"-",IF(G21="あり","○","×")) -> ○ | AZ21: =IF(A9="工場製作","対象外",IF(OR(A9="該当なし",A9=""),"",COUNTIF(AX21:AY22,"○")*0.5)) -> 1
B22: ( | C22: =IF(C10="","",IF(OR(A9=例＿様式４!$C$82,A9=例＿様式４!$C$83),"",C10)) -> 35828 | D22: )
A23: =IF(A21="○","",+AV23) -> ○ | C23: =IF(C11="","",IF(OR(A11=例＿様式４!$C$82,A11=例＿様式４!$C$83),"",C11)) -> △△ ▲▲ | E23: =IF(OR(A11="工場製作",A11="該当なし"),"",IF(E12<40,"若手",IF(E11="女性","女性","×"))) -> 若手 | G23: なし | U23: =IF(OR(I23=$BI$32,I23=$BK$32,O23=$BM$33,O23=$BM$35,O23=$BM$36,O23=$BM$37,O23=$BM$38,O23=$BM$39,O23=$BM$43,),$BQ$54,"") | AG23: 年度 | AJ23: 若手・女性 技術者 | AN23: 国家資格 | AV23: =IF(AZ23=$AZ$27,"○","") -> ○ | AW23: =IF(OR(A11="○",A11="工場製作"),C11,"") -> △△ ▲▲ | AX23: =IF(OR(A11="工場製作",A11="該当なし",A11=""),"-",IF(OR(E11="女性",E12<40),"○","×")) -> ○ | AY23: =IF(OR(A11="工場製作",A11="該当なし",A11=""),"-",IF(G23="あり","○","×")) -> × | AZ23: =IF(A11="工場製作","対象外",IF(OR(A11="該当なし",A11=""),"",COUNTIF(AX23:AY24,"○")*0.5)) -> 0.5
B24: ( | C24: =IF(C12="","",IF(OR(A11=例＿様式４!$C$82,A11=例＿様式４!$C$83),"",C12)) -> 31841 | D24: )
A25: =IF(A21="○","",IF(A23="○","",+AV25)) | C25: =IF(C13="","",IF(OR(A13=例＿様式４!$C$82,A13=例＿様式４!$C$83),"",C13)) | E25: =IF(OR(A13="工場製作",A13="該当なし"),"",IF(E14<40,"若手",IF(E13="女性","女性","×"))) | G25: なし | U25: =IF(OR(I25=$BI$32,I25=$BK$32,O25=$BM$33,O25=$BM$35,O25=$BM$36,O25=$BM$37,O25=$BM$38,O25=$BM$39,O25=$BM$43,),$BQ$54,"") | AG25: 年度 | AJ25: =IF(A21="○",$AX$21,IF(A23=$C$68,$AX$23,IF(A25=$C$68,$AX$25,""))) -> ○ | AN25: =IF(A21=$C$68,$AY$21,IF(A23=$C$68,$AY$23,IF(A25=$C$68,$AY$25,""))) -> × | AV25: =IF(AZ25=$AZ$27,"○","") | AW25: =IF(OR(A13="○",A13="工場製作"),C13,"") -> □□ □□ | AX25: =IF(OR(A13="工場製作",A13="該当なし",A13=""),"-",IF(OR(E13="女性",E14<40),"○","×")) -> - | AY25: =IF(OR(A13="工場製作",A13="該当なし",A13=""),"-",IF(G25="あり","○","×")) -> - | AZ25: =IF(A13="工場製作","対象外",IF(OR(A13="該当なし",A13=""),"",COUNTIF(AX25:AY26,"○")*0.5)) -> 対象外
B26: ( | C26: =IF(C14="","",IF(OR(A13=例＿様式４!$C$82,A13=例＿様式４!$C$83),"",C14)) | D26: )
AY27: 最小点数 | AZ27: =MIN(AZ21,AZ23,AZ25) -> 0.5
U31: 注意事項 | AV31: 最小値の対象者 | AW31: 氏名 | AX31: 同種工事 | AY31: 工事成績（最大4点） | BE31: CPD | BF31: 合計
U32: 注１ | W32: ： 本評価項目の評価対象欄は、国家資格の取得状況の表の評価対象による。 | BI32: 施工管理技士 | BJ32: 施工管理技士名前 | BK32: 建築士 | BL32: 建築士名前 | BM32: 技術士 | BN32: 技術士部門名前
W33: なお、本様式枠外にて、評価対象となる技術者を選定し、〇を自動で入力しているが、間違いないか | AZ33: 監理技術者・主任技術者・現場代理人 | BI33: １級建設機械施工管理技士 | BJ33: 不要 | BK33: １級建築士 | BL33: 不要 | BM33: 建設 | BN33: 建設
W34: 確認の上、修正が必要な場合、評価対象に「○」を記載すること。 | BI34: １級土木施工管理技士 | BJ34: 不要 | BM34: 農業 | BN34: 農業
U35: 注２ | W35: ： 「若手女性」欄は、配置予定技術者の情報より自動入力されるので間違いないか確認すること。 | AX35: 有:２点 | AY35: 点/件 | AZ35: 2 | BA35: 1.5 | BB35: 1 | BC35: 0.5 | BD35: 0 | BE35: 取得３点 | BF35: 最大9点 | BI35: １級建築施工管理技士 | BJ35: 不要 | BM35: 電気電子 | BN35: 電気電子
U36: 注３ | W36: ： 配置予定技術者の入力内容は、様式４の記載内容と同じ内容で自動入力される。間違いないか | BI36: １級電気工事施工管理技士 | BJ36: 不要 | BM36: 電気・電子 | BN36: 電気電子
W37: 確認の上、修正が必要な場合は、様式４の配置予定技術者の入力内容の修正を行うこと。 | AY37: 未満 | BA37: 85 | BB37: 80 | BC37: 75 | BD37: 70 | BI37: １級管工事施工管理技士 | BJ37: 不要 | BM37: 機械 | BN37: 機械
U38: 注４ | W38: ： 様式４配置予定技術者の合格者証の入力内容と、国家資格の取得状況の国家資格の入力内容の資格は | AY38: 以上 | AZ38: 85 | BA38: 80 | BB38: 75 | BC38: 70 | BD38: 0 | BI38: １級電気通信工事施工管理技士 | BJ38: 不要 | BM38: 上下水道 | BN38: 上下水道
W39: 同一の資格でなくてもよい。 | AV39: =IF(BF40=$BF$45,"○","-") -> - | AY39: 件数 | AZ39: =COUNTIFS(AS33:AS36,">=85") -> 0 | BA39: =COUNTIFS(AS33:AS36,">=80",AS33:AS36,"<85") -> 0 | BB39: =COUNTIFS(AS33:AS36,">=75",AS33:AS36,"<80") -> 0 | BC39: =COUNTIFS(AS33:AS36,">=70",AS33:AS36,"<75") -> 0 | BD39: =COUNTIFS(AS33:AS36,">=0",AS33:AS36,"<70") -> 0 | BI39: １級造園施工管理技士 | BJ39: 不要 | BM39: 水道 | BN39: 上下水道
U40: 注５ | W40: ： 評価対象者の「若手・女性技術者」の加点の〇×、「国家資格」（取得者）の加点の〇×に間違い | AW40: =C21 -> ●● 〇〇 | AX40: =IF(AG22="",0,2) -> 0 | AY40: 点数 | AZ40: =AZ$35*AZ39 -> 0 | BA40: =BA$35*BA39 -> 0 | BB40: =BB$35*BB39 -> 0 | BC40: =BC$35*BC39 -> 0 | BD40: =BD$35*BD39 -> 0 | BE40: =IF(T57="○",3,0) -> 0 | BF40: =IF(C22="","-",IF(A22=$C$82,"-",SUM(AX40,AZ40,BA40,BB40,BC40,BD40,BE40))) -> - | BM40: 水産 | BN40: 水産
W41: がないか確認すること。 | AV41: =IF(BF42=$BF$45,"○","-") -> - | AY41: 件数 | AZ41: =COUNTIFS(AS37:AS40,">=85") -> 0 | BA41: =COUNTIFS(AS37:AS40,">=80",AS37:AS40,"<85") -> 0 | BB41: =COUNTIFS(AS37:AS40,">=75",AS37:AS40,"<80") -> 0 | BC41: =COUNTIFS(AS37:AS40,">=70",AS37:AS40,"<75") -> 0 | BD41: =COUNTIFS(AS37:AS40,">=0",AS37:AS40,"<70") -> 0 | BM41: 森林 | BN41: 森林
U42: 注６ | W42: ： その他の事項については、様式２「注１」～「注３」を確認し本様式を記載すること。 | AW42: =C23 -> △△ ▲▲ | AX42: =IF(AG24="",0,2) -> 0 | AY42: 点数 | AZ42: =AZ$35*AZ41 -> 0 | BA42: =BA$35*BA41 -> 0 | BB42: =BB$35*BB41 -> 0 | BC42: =BC$35*BC41 -> 0 | BD42: =BD$35*BD41 -> 0 | BE42: =IF(T59="○",3,0) -> 0 | BF42: =IF(C24="","-",IF(A24=$C$82,"-",SUM(AX42,AZ42,BA42,BB42,BC42,BD42,BE42))) -> - | BM42: 林業 | BN42: 森林
AV43: =IF(BF44=$BF$45,"○","-") -> - | AY43: 件数 | AZ43: =COUNTIFS(AS41:AS44,">=85") -> 0 | BA43: =COUNTIFS(AS41:AS44,">=80",AS41:AS44,"<85") -> 0 | BB43: =COUNTIFS(AS41:AS44,">=75",AS41:AS44,"<80") -> 0 | BC43: =COUNTIFS(AS41:AS44,">=70",AS41:AS44,"<75") -> 0 | BD43: =COUNTIFS(AS41:AS44,">=0",AS41:AS44,"<70") -> 0 | BM43: 衛生工学 | BN43: 衛生工学
AW44: =C26 | AX44: =IF(AG26="",0,2) -> 0 | AY44: 点数 | AZ44: =AZ$35*AZ43 -> 0 | BA44: =BA$35*BA43 -> 0 | BB44: =BB$35*BB43 -> 0 | BC44: =BC$35*BC43 -> 0 | BD44: =BD$35*BD43 -> 0 | BE44: =IF(T61="○",3,0) -> 0 | BF44: =IF(C26="","-",IF(A26=$C$82,"-",SUM(AX44,AZ44,BA44,BB44,BC44,BD44,BE44))) -> - | BM44: １級建設機械施工管理技士 | BN44: 不要
BE45: 最小値 | BF45: =MIN(BF40,BF42,BF44) -> 0 | BM45: １級土木施工管理技士 | BN45: 不要
BM46: １級建築施工管理技士 | BN46: 不要
BM47: １級電気工事施工管理技士 | BN47: 不要
...

Sheet 例＿様式６
H1: 施工能力評価型様式６号
A2: 不履行項目数
A4: 対象期間：令和○○年度 | E4: 商号又は名称： | F4: =様式３!Y3 -> 0
E5: 工事名： | F5: =様式３!Y4 -> （都）塚口長尾線（昆陽南） 街路整備工事（その４）
A7: 不履行が発生した工事
A8: 工事 番号 | B8: 発注機関名 | D8: 工事名 | F8: 工期 ※末日のみ記載 | H8: 検査年月日 | I8: 不履行
I9: 項目数
A10: ① | B10: 東播磨県民局 | D10: ○○工事 | F10: ～ | G10: 令和○年○月○日 | H10: 令和○年○月○日 | I10: 1
A12: 該当なし | F12: ～
A14: 該当なし | F14: ～
H18: 不履行項目数の合計 （対象期間通算） | I18: 該当
H19: 不履行なし | I19: =IF(SUM(I10:I15)=0,"○","")
H20: 1項目 | I20: =IF(SUM(I10:I15)=1,"○","") -> ○
H21: 2項目 | I21: =IF(SUM(I10:I15)=2,"○","")
H22: 3項目以上 | I22: =IF(SUM(I10:I15)>=3,"○","")
A24: 注意事項
A25: 注１： | B25: 対象期間内に不履行が発生した工事はすべて記載すること。不履行がない場合は、「工事番号」欄で「該当なし」を選択すること。
A26: 注２： | B26: 記載された内容に誤りがあることが判明した場合は、当該評価項目の最低点（－６点）とする。
A27: 注３： | B27: 発注機関名は、県民局（センター）の名称を記載すること。
A28: 注４： | B28: 次の資料を添付すること。（コピー可。また、記載事項に該当する箇所をアンダーライン・赤囲み等により明示すること。）
B29: 工事成績評定結果の通知（不履行項目数が記載されたもの）（※必須（該当する工事がない場合は不要））
A30: 注５： | B30: 工事成績評定結果の通知等に検査年月日の記載がなく、検査年月日が不明な場合は、検査年月日欄に「－」を記載すること。
A31: 注６： | B31: その他の事項については、様式２の「注１」～「注３」確認し本様式を記載すること。

Sheet 例＿様式７
L1: 施工能力標型様式７号
A2: 当該工事で使用する作業船
F3: 商号又は名称 | H3: ： | I3: ○○○○○建設
F4: 工事名 | H4: ： | I4: 県道○○線 ○○○○○○○○○工事
