Workbook

Sheet 様式１
B1: [様式１]
A2: 総合評価落札方式（特別簡易型）技術資料申請書
V4: 令和 年 月 日
B6: 薩摩川内市長 田中 良二 殿
L8: 住 所
L9: 商号又は名称 | Q9: 株式会社 〇〇建設
L10: 代 表 者 | AF10: 印
A12: 総合評価落札方式（特別簡易型）技術資料申請書の提出について
B14: 鹿島浄化センター大型浄化槽設置工事の技術資料を提出します。
B15: 添付資料の内容については、事実と相違ないことを誓約します。
B16: また、本入札においては、入札金額とともに本技術資料をもって入札することを誓約します。
B17: なお、提出資料及び問い合わせ先は下記のとおりです。
A19: 記
B21: １ 提出資料 | K21: ※提出資料（各様式、添付資料、写真）は、原則白黒両面コピー
B22: 評価項目 | N22: 様式 | Q22: 頁番号 | T22: 実績がある場合の添付資料 | AF22: 頁番号
N23: （必須）
B24: 配置予定技術者の資格保有 | N24: ［様式２］ | T24: ・資格者証の写し
B27: 過去５年間における 優秀技術者表彰の有無 | N27: ［様式３］ | T27: ・健康保険被保険者証の写し ・表彰状等の写し ・工種が分かる書類(CORINSの写しなど)
B30: 過去６年間の直近２回の配置予定技術者の工事成績評定の平均点 | N30: ［様式４］ | T30: ・工事成績通知書の写し ・担当をしたことを証明する書類の写し
B33: 過去１０年間の工事の実績 （配置予定技術者の実績） | N33: ［様式５］ | T33: ・工事実績を証明するCORINSの写し、又は契約書等の写し及び工程表など工種がわかる書類
B36: 公共施設等へのボランティア活動の実績 | N36: ［様式６］ | T36: ・行政機関等施設管理者の証明書、自治会長若しくは地区コミュニティ協議会長の証明、又はボランティア活動の主催者の証明 ・実施状況の分かる写真、又は新聞記事の写しなど
B41: 高齢化が著しい町内でのボランティア活動の実績 | N41: ［様式７］ | T41: ・自治会長若しくは地区コミュニティ協議会長の証明書 ・実施状況が分かる写真、又は新聞記事の写しなど
B45: 消防団員の雇用の有無 | N45: ［様式８］ | T45: ・健康保険・厚生年金保険資格取得及び標準報酬決定通知書等の写し ・消防団員の証明書類
B48: 過去５年間の３５歳未満の雇用実績 | N48: ［様式９］ | T48: ・健康保険・厚生年金保険資格取得及び標準報酬決定通知書等の写し
B51: 過去５年間における 優良工事等表彰の有無 | N51: ［様式10］ | T51: ・表彰状等の写し ・工種が分かる書類(CORINSの写しなど)
B54: 過去１０年間の工事の実績 （会社の実績） | N54: ［様式11］ | T54: ・工事実績を証明するCORINSの写し、又は契約書等の写し及び工程表など工種がわかる書類
B58: ２ 問い合わせ先
D59: 担 当 者 ：
D60: 電話番号 ：

Sheet 様式２
B1: ［様式２］
A3: 配置予定技術者の資格保有
N5: 工事名： | O5: 鹿島浄化センター大型浄化槽設置工事
N6: 会社名： | O6: =様式１!Q9 -> 株式会社 〇〇建設
B8: 配置予定技術者の従事役職・氏名 | N8: ○○技術者 ○○ ○○
B9: 資格保有の有無 | Q9: 有 | S9: ・ | U9: 無
B10: 技術者資格名
B12: 資格者証交付年月日
B13: 資格者証交付番号
B15: 配置予定技術者の従事役職・氏名 | N15: ○○技術者 ○○ ○○
B16: 資格保有の有無 | Q16: 有 | S16: ・ | U16: 無
B17: 技術者資格名
B19: 資格者証交付年月日
B20: 資格者証交付番号
B22: 実績がある場合で、今年度、本市発注の総合評価落札方式で、すでに資格保有の添付資料を提出済みである場合の工事名（注７）
B24: 工事名 | N24: （添付資料を提出した工事名を記載すること）
B25: 注）１．配置予定技術者は、主任技術者又は監理技術者とする。
B26: ２．資格がなくても、配置予定技術者名は記載すること。
B27: ３．資格者証の写しを添付すること。
B28: ４．技術資料に記載した配置予定技術者は、病気、死亡、退職等の極めて特別な理由がない
B29: 限り変更できない。
B30: ５．配置予定技術者が特定できない場合、資格等の案件を満たす複数の候補者を配置予定技
B31: 術者とすることができるが、その場合、審査については各候補者のうち評価が最も低い者
B32: で評価する。
B33: ６．複数の配置予定技術者候補がある場合は、各候補者毎に資料を作成すること。
B34: ７．今年度において、本市発注の本工事以前の他の総合評価落札方式の工事において、
B35: 取得状況を証明する添付資料を提出済みである場合、添付資料を省略することができる。
B36: その際は、該当工事名を記入すること。
B37: 【頁番号を記載】

Sheet 様式３
B1: ［様式３］
A2: 過去５年間における優秀技術者表彰の有無
M4: 工事名： | N4: =様式２!O5 -> 鹿島浄化センター大型浄化槽設置工事
M5: 会社名： | N5: =+様式１!Q9 -> 株式会社 〇〇建設
B7: 配置予定技術者の従事役職・氏名 | N7: =様式２!N8 -> ○○技術者 ○○ ○○
B8: 優秀技術者表彰の有無 | Q8: 有 | S8: ・ | U8: 無
B9: 表彰が ある場合 | F9: 対象工事の受注会社 | N9: 現在の会社 以前の会社
F10: 表 彰 名
F11: 工事名称
F12: 表 彰 者
F13: 年 月 日
B15: 配置予定技術者の従事役職・氏名
B16: 優秀技術者表彰の有無 | Q16: 有 | S16: ・ | U16: 無
B17: 表彰が ある場合 | F17: 対象工事の受注会社 | N17: 現在の会社 以前の会社
F18: 表 彰 名
F19: 工事名称
F20: 表 彰 者
F21: 年 月 日
B23: 表彰実績がある場合で、今年度、本市発注の総合評価落札方式で、すでに実績の添付資料を提出済みである場合の工事名（注９）
B25: 工事名 | N25: （添付資料を提出した工事名を記載すること）
B26: 注） | C26: １．配置予定技術者は、主任技術者又は監理技術者とする。
C27: ２．表彰実績がなくても、配置予定技術者名は記載すること。
C28: ３．雇用の確認のため、健康保険・厚生年金保険資格取得及び標準報酬決定通知書等
C29: の写しを添付すること。
C30: ４．表彰の実績がある場合は、表彰状等の写し及び会社名、工種が分かる書類
C31: (CORINSの写しなど)を添付すること。
C32: ５．技術資料に記載した配置予定技術者は、病気、死亡、退職等の極めて特別な理由がない限り
C33: 変更できない。
C34: ６．配置予定技術者が特定できない場合、資格等の案件を満たす複数の候補者を配置予定技術者と
C35: することができるが、その場合、審査については各候補者のうち評価が最も低い者で評価する。
C36: ７．複数の配置予定技術者候補がある場合は、各候補者毎に資料を作成すること。
C37: ８．本年度表彰予定の場合は、表彰式案内決定通知文の写しを添付すること。
C38: ９．今年度において、本市発注の本工事以前の他の総合評価落札方式の工事において、表彰を
... C40: その際は、該当工事名を記入すること。
B42: 【参考】（下記について、記入すること。）
B43: 名 称 | F43: 氏 名 | Q43: 生年月日 | V43: 営業所の名称
B44: 専任技術者
B46: 注） | C46: １ 建設業許可において届出を行っている全ての営業所の専任技術者について記入する。
C47: 2 専任技術者が３名以上となる場合には、適宜、様式に追加して記入すること。
C48: 3 営業所の専任技術者は、「専任」を要する主任技術者若しくは監理技術者又は現場代理人との兼任はできない。
...

Sheet 様式４ 
B1: ［様式４］
A2: 過去６年間の直近２回の配置予定技術者の工事成績評定の平均点
V4: 工事名： | W4: =様式２!O5 -> 鹿島浄化センター大型浄化槽設置工事
V5: 会社名： | W5: =様式２!O6 -> 株式会社 〇〇建設
AB6: 配置予定技術者役職氏名： | AC6: =様式２!N8 -> ○○技術者 ○○ ○○
B7: 工事の実績
C8: 工事名 | M8: 施工場所 | V8: 契約金額（円） | AD8: 工 期 | AM8: 工事成績評定
B9: 1
B10: 2
B11: 平 均 点
B13: 実績がある場合で、今年度、本市発注の総合評価落札方式で、すでに工事成績の添付資料を提出済みで更新がない場合の工事名（注１１）
B14: 工事名 | N14: （直近に工事成績の通知がないか、確認のこと）
C15: 注） | E15: １．配置予定技術者は、主任技術者又は監理技術者とする。
E16: ２．評定点がなくても、配置予定技術者名は記載すること。
E17: ３．本市工事成績評定点（管工事）で直近２回の工事成績評定の平均点とする。
E18: ４．ＪＶでの実績では、契約金額の欄には、当該工事の契約金額に出資比率を乗じた金額を記入すること。
E19: ５．配置予定技術者が、過去に主任技術者、監理技術者又は現場代理人を務めた工事の実績とする。(以前の会社での成績も含めて直近２回)
E20: ６．技術者としての元請（単独又はＪＶ構成員）工事の実績とする。
E21: ７．実績を証明する資料としては、工事成績通知書の写し及び担当をしたことを証明する書類の写し（ＣＯＲＩＮＳの写しなど）を添付すること。
E22: ８．複数の配置予定技術者候補がある場合は、各候補者毎に資料を作成すること。
E23: ９．上記期間内における工事成績評定が１回のみの場合も評価する。
E24: 10．評価期間内に完成した工事で、公告日までに工事成績の通知があるものが対象となる。
E25: 11．今年度において、本市発注の本工事以前の他の総合評価落札方式の工事において、工事成績を証明する添付資料を提出済みである場合、
F26: 添付資料を省略することができる。 その際は、該当工事名を記入すること。
E27: 12．工事成績の通知が同一日に複数ある場合は、①検査日②完成日③工期の順に判断する。
B28: 【頁番号を記載】

Sheet 様式５
B1: ［様式５］
A2: 過去１０年間の工事の実績（配置予定技術者の実績）
N4: 工事名： | O4: =様式２!O5 -> 鹿島浄化センター大型浄化槽設置工事
N5: 会社名： | O5: =様式２!O6 -> 株式会社 〇〇建設
L6: 配置予定技術者役職氏名： | U6: =様式２!N8 -> ○○技術者 ○○ ○○
B7: 工事の実績
B8: 対象工事の受注会社 | J8: 現在の会社 以前の会社
B9: 工事名
B10: 施工場所
B11: 契約金額（円）
B12: 工 期
B13: 工事概要
B15: 実績がある場合で、今年度、本市発注の総合評価落札方式で、すでに工事実績の添付資料を提出済みである場合の工事名（注４）
B17: 工事名 | N17: （添付資料を提出した工事名を記載すること）
B19: 注） | D19: １．配置予定技術者は、主任技術者又は監理技術者とする。
D20: ２．実績がなくても、配置予定技術者名は記載すること。
D21: ３．県内での管工事（1,200万円以上）の元請工事完成実績とする。 （対象：国・県・市発注工事）
C23: ４．今年度において、本市発注の本工事以前の他の総合評価落札方式の工事において、
D24: 工事実績（注３の同種工事）を証明する添付資料を提出済みである場合、添付資料を
D25: 添付資料を省略することができる。その際は、該当工事名を記入すること。
D26: ５．ＪＶでの実績では、契約金額の欄には、当該工事の契約金額に出資比率を乗じた金額を記入する こと。
D28: ６．配置予定技術者が、過去に主任技術者、監理技術者又は現場代理人を務めた工事の実績とする。
D29: ７．実績を証明する資料としては、CORINSの写し、又は契約書等の写し及び工程表など工種が分かる 書類を添付すること。なお、管理実績としては、工期の１／２を上回る期間従事した場合を認め ることとする。
D32: ８．複数の配置予定技術者候補がある場合は、各候補者毎に資料を作成すること。
B39: 【頁番号を記載】

Sheet 様式６
B1: ［様式６］
A3: 公共施設等へのボランティア活動の実績
L5: 工事名： | M5: =様式２!O5 -> 鹿島浄化センター大型浄化槽設置工事
L6: 会社名： | M6: =様式２!O6 -> 株式会社 〇〇建設
B8: 活動実績の有無 | Q8: 有 | S8: ・ | U8: 無
B10: 実績がある場合いずれかの年度に記載
B11: 年度 | D11: 年月日 | L11: 実施内容
B12: 令和 年度
B15: 令和 年度
B19: 実績がある場合で、今年度、本市発注の総合評価落札方式で、すでにボランティアの実績の添付資料を提出済みである場合の工事名（注７）
B21: 工事名 | N21: （添付資料を提出した工事名を記載すること）
C23: 注）１．会社としての実績を記載すること。
C24: ２．実施内容は、概要が判明する程度で記載すること。
C25: ３．公共施設等へのボランティア活動の実績は、本市内の公共施設等へのボランティア活動を
C26: 行った実績とする。
C27: ４．公共施設等とは、国・県・市の管理施設、コミュニティセンター、自治会館又は介護施設、
C28: 保育園等の公共性の高い民間施設とする。
C29: ５．公共施設等へのボランティア活動を証明する資料としては、行政機関等施設管理者の証明
C30: 書（様式自由）、自治会長若しくは地区コミュニティ協議会長等の証明（様式自由）又はボ
C31: ランティア活動の主催者の証明（様式自由、ただし自社主催の場合を除く）、及び実施状況
C32: の分かる写真又は新聞記事の写しなど活動を証明する資料を添付すること。
C33: ６．一つのボランティア活動が、「公共施設等へのボランティア活動の実績」と「高齢化が
C34: 著しい町内でのボランティア活動の実績」の両方の条件を満たす場合は一方のみにしか
... C39: 【頁番号を記載】

Sheet 様式７
B1: ［様式７］
A3: 高齢化が著しい町内でのボランティア活動の実績
L5: 工事名： | M5: =様式２!O5 -> 鹿島浄化センター大型浄化槽設置工事
L6: 会社名： | M6: =様式２!O6 -> 株式会社 〇〇建設
B8: 活動実績の有無 | Q8: 有 | S8: ・ | U8: 無
B10: 実績がある場合いずれかの年度に記載
B11: 年度 | D11: 年月日 | L11: 実施集落又は町及び実施内容
B12: 令和 年度
B15: 令和 年度
B19: 実績がある場合で、今年度、本市発注の総合評価落札方式で、すでにボランティアの実績の添付資料を提出済みである場合の工事名（注６）
B21: 工事名 | N21: （添付資料を提出した工事名を記載すること）
C23: 注）１．会社としての実績を記載すること。
C24: ２．実施内容は、概要が判明する程度で記載すること。
C25: ３．高齢化が著しい町内でのボランティア活動を証明する資料としては、自治会長もしくは
C26: 地区コミュニティ協議会長等の証明書（様式自由）、及び実施状況の分かる写真、
C27: 又は新聞記事の写しなどを添付すること。（行政機関等の証明書は不要）
C28: ４．高齢化が著しい町内でのボランティア活動の内容については、住民サービス等も
C29: 評価対象とし、公共施設等へのボランティアに限らない。
C30: ５．一つのボランティア活動が、「公共施設等へのボランティア活動の実績」と「高齢化が
C31: 著しい町内でのボランティア活動の実績」の両方の条件を満たす場合は一方のみしか
C32: 記載できません。
C33: ６．今年度において、本市発注の本工事以前の他の総合評価落札方式の工事において、ボラン
C34: ティア活動を証明する添付資料を提出済みである場合は、添付資料を省略することができる。
... C38: ５０パーセント以上である町をいう。
F39: ※統計データは以下の薩摩川内市ホームページで確認してください。
E40: ホーム＞組織から探す＞行政経営課＞行政改革・文書統計グループ＞薩摩川内市の概要＞統計・オープンデータ＞統計データ
C41: 【頁番号を記載】

Sheet 様式８
B1: ［様式８］
A3: 消防団員の雇用の有無
L5: 工事名： | M5: =様式２!O5 -> 鹿島浄化センター大型浄化槽設置工事
L6: 会社名： | M6: =様式２!O6 -> 株式会社 〇〇建設
D8: 雇用の有無 ※必ず記載 | P8: 有 | X8: ・ | Y8: 無
B10: 上表で「雇用を有」とした場合は、下表にその実績について記入するとともに確認資料を提出すること。
B11: 雇用がある場合 | C11: 氏 名 | S11: 交 付 年 月 日
C12: 〇〇 〇〇 | S12: 令和 | Y12: 年 | AC12: 月 | AG12: 日
B14: 実績がある場合で、今年度、本市発注の総合評価落札方式で、すでに消防団員の雇用の有無の添付資料を提出済みである場合の工事名（注５）
B16: 工事名 | N16: （添付資料を提出した工事名を記載すること）
B18: 注）１．消防団員証の交付を受け、現在も有効であるものに限る。
B19: ２．自社(連結決算会社も含む)の常時雇用労働者に限る。また、職種(技術職，事務職等)は問
B20: わない。なお，社長が消防団員の場合も該当する。
B21: ３．消防団員の氏名、事業所、雇用年月日が確認できる健康保険・厚生年金保険資格取得及び
B22: 標準報酬決定通知書等の写し等を添付すること。（提出必須）
B23: ４．証明書類として、下記の①、②のいずれかを添付すること。(提出必須）
B24: ① 消防団員証の写し(表と裏)
B25: ② 消防団の証明書の写し
B26: ※①の消防団員証については、現在保持しているものの写しを添付する。
B27: ②については、消防団員となった日付け（交付年月日，任命日等）を記載の上，
B28: 薩摩川内市消防局警防課又は消防団から証明書の交付を受けること。
B29: ５．今年度において、本市発注の本工事以前の他の総合評価落札方式の工事において、消防団員
... B31: その際は、該当工事名を記入すること。
C34: 【頁番号を記載】

Sheet 様式８証明書例
A1: ［市町村又は消防団の証明書の例］
A3: 消防団員雇用状況確認（申請）書
G5: 年 月 日
A9: 薩摩川内市消防局警防課長 | D9: 殿
G11: 所在地
G12: 商号又は名称
G13: 代表者氏名
A16: 薩摩川内市が発注する建設工事の総合評価方式技術資料の申請にあたり、下記の者が
A17: 薩摩川内市の消防団員として任命されていることを確認して頂きますよう申請します。
A18: なお、申請にあたっては、下記の者が当社における正規雇用職員であることを誓約
A19: いたします。
A21: 記
A23: 氏 名 | C23: 交付年月日 （又は任命日） | D23: 住 所 | I23: 生年月日
A36: 上記記載の内容に相違ないことを確認します。
A39: 年 月 日
D42: 薩摩川内市消防局警防課長
I45: 印

Sheet 様式９
B1: ［様式９］
A3: 過去５年間の３５歳未満の雇用実績
L5: 工事名： | M5: =様式２!O5 -> 鹿島浄化センター大型浄化槽設置工事
L6: 会社名： | M6: =様式２!O6 -> 株式会社 〇〇建設
D8: 雇用実績の有無 ※必ず記載 | P8: 有 | X8: ・ | Y8: 無
B10: 上表で「雇用実績を有」とした場合は，下表にその実績について記入するとともに確認資料を提出すること。
B11: 実績がある場合 | C11: 氏 名 | S11: 採 用 年 月 日 | AE11: 採用時年齢
C12: 〇〇 〇〇 | S12: 令和 | W12: 年 | Z12: 月 | AC12: 日 | AG12: 歳
S13: 生 年 月 日 | AE13: 年 齢
W14: 年 | Z14: 月 | AC14: 日 | AG14: 歳
B16: 実績がある場合で、今年度、本市発注の総合評価落札方式で、すでに３５歳未満の雇用実績の添付資料を提出済みである場合の工事名（注３）
B18: 工事名 | N18: （添付資料を提出した工事名を記載すること）
B20: 注）１．自社の常時雇用労働者に限る。また，職種(技術職，事務職等)は問わない。
B21: ２．被雇用者の採用年月，氏名、年齢を確認できる健康保険・厚生年金保険資格取得確認および
B22: 標準報酬決定通知書等の写しを添付すること。（提出必須）
B23: ３．今年度において、本市発注の本工事以前の他の総合評価落札方式の工事において、消防団員
B24: の雇用の有無を証明する添付資料を提出済みである場合は、添付資料を省略することができる。
B25: その際は、該当工事名を記入すること。
C40: 【頁番号を記載】

Sheet 様式10
B1: ［様式１０］
A3: 過去５年間における優良工事等表彰の有無
J6: 工事名： | K6: =様式２!O5 -> 鹿島浄化センター大型浄化槽設置工事
J7: 会社名： | K7: =様式２!O6 -> 株式会社 〇〇建設
B11: 優良工事等表彰の有無 | T11: 有 | V11: ・ | X11: 無
B13: 表彰がある場合
B14: 表 彰 名
B15: 工事名称
B16: 年 月 日
B18: 表彰実績がある場合で、今年度、本市発注の総合評価落札方式で、すでに実績の添付資料を提出済みである場合の工事名（注２）
B20: 工事名 | N20: （添付資料を提出した工事名を記載すること）
C21: 注）１．表彰の実績がある場合は、表彰状等の写し及び工種が分かる書類(CORINSの写しなど)
C22: を添付すること。
C23: ２．今年度において、本市発注の本工事以前の他の総合評価落札方式の工事において、
C24: 表彰を証明する添付資料を提出済みである場合、
C25: 添付資料を省略することができる。
C26: その際は、該当工事名を記入すること。
B38: 【頁番号を記載】

Sheet 様式11
B1: ［様式１１］
A2: 過去１０年間の工事の実績（会社の実績）
AE4: 工事名： | AF4: =様式２!O5 -> 鹿島浄化センター大型浄化槽設置工事
AE5: 会社名： | AF5: =様式２!O6 -> 株式会社 〇〇建設
B7: 工事の実績
C8: 工事名 | M8: 施工場所 | V8: 契約金額（円） | AD8: 工 期 | AM8: 工事概要
B9: 1
B10: 2
B11: 3
B12: 4
B13: 5
B14: 6
B17: 実績がある場合で、今年度、本市発注の総合評価落札方式で、すでに工事実績の添付資料を提出済みである場合の工事名（注２）
B19: 工事名 | N19: （添付資料を提出した工事名を記載すること）
C20: 注） | E20: １．本市域内での管工事（１，２００万円以上）の元請工事実績（対象：国・県・市発注工事）
D21: ２．今年度において、本市発注の本工事以前の他の総合評価落札方式の工事において、工事実績（注１の同種工事）を証明する添付資料を
D22: 提出済みである場合、添付資料を添付資料を省略することができる。
D23: その際は、該当工事名を記入すること。
E24: ３．ＪＶでの実績では、契約金額の欄には、当該工事の契約金額に出資比率を乗じた金額を記入すること。
E25: ４．会社としての元請（単独又はＪＶ構成員）工事の実績とする。
E26: ５．工事実績を証明する資料としては、CORINSの写し、又は契約書等の写し及び工程表など工種が分かる書類を添付すること。
B27: 【頁番号を記載】

Sheet 作成要領
B1: 総合評価落札方式（特別簡易型）に係る技術資料の作成要領
B3: １ 提出資料
B4: 評価項目 | N4: 様式 （必須） | R4: 添付資料
B5: 配置予定技術者の資格保有 | N5: ［様式２］ | S5: 「資格者証の写し」を添付
B7: 過去５年間における優秀技術者表彰の有無 | N7: ［様式３］ | S7: 「健康保険被保険者証の写し」及び表彰の実績がある場合は、「表彰状等の写し」及び「工種が分かる書類(CORINSの写しなど)」を添付
B9: 過去６年間の直近２回の配置予定技術者の工事成績評定の平均点 | N9: ［様式４］ | S9: 「工事成績通知書の写し」及び「担当をしたことを証明する書類の写し」を添付
B11: 過去１０年間の工事の実績 （配置予定技術者の実績） | N11: ［様式５］ | S11: 工事実績を証明する「CORINSの写し」、又は「契約書等の写し」及び「工程表など工種が分かる書類」を添付
B13: 公共施設等へのボランティア活動の実績 | N13: ［様式６］ | S13: 「行政機関等施設管理者の証明書」、「自治会長若しくは地区コミュニティ協議会長の証明」又は「ボランティア活動の主催者の証明」、及び「実施状況の分かる写真」又は「新聞記事の写し」などを添付
B17: 高齢化が著しい町内でのボランティア活動の実績 | N17: ［様式７］ | S17: 「自治会長若しくは地区コミュニティ協議会長の証明書」及び「実施状況の分かる写真」又は「新聞記事の写し」などを添付
B19: 消防団員の雇用の有無 | N19: ［様式８］ | S19: 「健康保険・厚生年金保険資格取得及び標準報酬決定通知書等の写し」及び「消防団員の証明書類」などを添付
B21: 過去５年間の３５歳未満の雇用実績 | N21: ［様式９］ | S21: 「健康保険・厚生年金保険資格取得及び標準報酬決定通知書等の写し」を添付
B23: 過去５年間における優良工事等表彰の有無 | N23: ［様式10］ | S23: 表彰の実績がある場合は、「表彰状等の写し」及び「工種が分かる書類(CORINSの写しなど)」を添付
B25: 過去１０年間の工事の実績 （会社の実績） | N25: ［様式11］ | S25: 工事実績を証明する「CORINSの写し」、又は「契約書等の写し」及び「工程表など工種が分かる書類」を添付
C27: 注） | D27: １． | F27: 書類は、全てＡ４サイズで、白黒両面コピーで作成すること。
D28: ２． | F28: クリップ留めの状態で提出すること。（ホチキスで留めないこと）
D29: ３． | F29: [様式３]、[様式４]、[様式５]、[様式10]、[様式11]の添付資料
F30: について、同一のものであるときは、一つの様式に添付することにより、他の様式では
F31: 省略することができる。
D32: ４． | F32: 記載内容及び添付資料に疑義が生じた場合、発注者から確認を行うことがある。
D33: ５． | F33: 直接持参により提出すること。
E34: ※事前に必ず電話連絡をし、来庁時間の確認をした上で持参してください。
E35: ※ただし、主な事業所を甑島地域に有する者は、郵送による提出（提出期限までに必着）を
E36: 認めるものとします。
A42: －１－
B43: ２ 留意事項
B44: 評価項目 | H44: 記載内容に関する留意事項及び記載条件
B45: 配置予定技術者の資格保有 | I45: ①評価する配置予定技術者は、（ＪＶ代表者の）主任技術者又は監理技術者とする。
I46: ②配置予定技術者は，１級管工事施工管理技士若しくは技術士（水道部門、衛生工学部門・選択科目「水質管理」又は総合技術監理部門・選択科目（水質管理））の資格を保有しているか。
I49: ③技術資料に記載した配置予定技術者は、病気、死亡、退職等の極めて特別な理由がない限り変更できない。
I50: ④配置予定技術者が特定できない場合、資格等の案件を満たす複数の候補者を配置予定技術者とすることができるが、その場合、審査については各候補者のうち評価が最も低い者で評価する。
B52: 過去５年間における優秀技術者表彰の有無 | I52: ①評価する配置予定技術者は、主任技術者又は監理技術者とする。
I53: ②令和２年度から令和６年度までに完成した工事（管工事）について、九州地方整備局から優秀技術者表彰（局長表彰、事務所長表彰）を受けた実績とする。 令和２年度から令和６年度までに完成した工事（管工事）について、県（土木部、農政部、環境林務部）優良工事等表彰実施要領に基づき優秀技術者表彰を受けた実績とする。 令和２年度から令和６年度までに完成した工事（管工事）について、薩摩川内市優良建設工事施工企業等表彰実施要領に基づき優秀技術者表彰を受けた実績とする。
B58: 過去６年間の直近２回の配置予定技術者の工事成績評定の平均点 | I58: ①評価する配置予定技術者は、主任技術者又は監理技術者とする。
I59: ②令和２年４月１日以降に完成した工事から本件公告日時点における、薩摩川内市工事成績評定点（管工事）で直近２回の工事成績評定の平均点とする。
I61: ③配置予定技術者が、過去に主任技術者、監理技術者又は現場代理人を務めた工事の実績とする。
I62: ④技術者としての元請（単独又はＪＶ構成員）工事の実績とする。
B63: 過去１０年間の工事の実績（配置予定技術者の実績） | I63: ①評価する配置予定技術者は、主任技術者又は監理技術者とする。
I64: ②平成２８年４月１日から公告日時点における、以下の工事の完成実績とする。 ・県内での管工事（１, ２００万円以上）の元請工事完成実績とする。（対象：国・県・市発注工事）
I67: ③配置予定技術者が、過去に主任技術者、監理技術者又は現場代理人を務めた工事の実績とする。
B68: 公共施設等へのボランティア活動の実績 | I68: ①令和７年４月１日から本件公告日前日までに、本市内の公共施設等へのボランティア活動を行った実績とする。 ・公共施設等とは、国・県・市の管理施設、コミュニティーセンター、自治会館又は介護施設、保育園等の公共性の高い民間施設とする。
...

Sheet 入札時の注意点 
A1: ※ 総合評価落札方式での入札時の注意点について
A4: 入札書入力画面（受注者側画面）

Sheet 配置予定技術者調書
A1: 配置予定技術者調書
C2: (工 事）
E3: 所在地
E4: 商号又は名称
E5: 代表者名
A7: 下記のとおり、配置予定技術者を届出ます。
D8: 記
A9: 工事名
A10: 配置予定技術者
A11: 現場代理人 | B11: 氏名
B12: ※上記の者は、当該工事請負期間中は専任であり、他の現場を兼務することはありません。
A13: 法令による取得資格及び免許番号 （取得している場合）
A14: ※１又は２のいずれかに記入してください（申込日から３ヶ月以内に雇用した者は従事できません。）。
A15: １．主任技術者 | B15: 氏名
A16: ２．監理技術者 | B16: 氏名
A17: ３．監理技術者補佐 | B17: 氏名
A18: 法令による取得資格及び免許番号 （取得している場合）
A19: 上記技術者の 他工事の 従事状況 | B19: ※他工事と兼務する場合は下欄に記入してください。
B20: 兼務する工事の内容 | C20: 件 名：
C21: 発注者：
C22: 工 期：
C23: （薩摩川内市電子入札用：配置予定技術者調書）

Sheet 工事費内訳書様式
L2: 令和 年 月 日
A4: 薩摩川内市長 様
G6: 住所
G7: 商号又は名称
G8: 代表者氏名
C10: 工 事 費 内 訳 書
B12: 工 事 名
B13: 工事場所
B15: 工種等 | D15: 見積金額（円） | P15: 割合 （％）

Sheet 工事費内訳書記載例
A1: （別紙１）「工事費内訳書」記載例
S2: 注意事項
L4: 令和○年○月○日 | S4: ※入札年月日は、入札の日を記載する。
A6: 薩摩川内市長 様
G9: 住所 | I9: 薩摩川内市○○町○○番○号 | S9: ※所在地、商号又は名称、代表者氏名を記載する。
I10: ○○会社 ○○建設 | S10: ※代理による入札の場合は、代理人氏名も記載する。
G11: 氏名 | I11: 代表取締役 ○○○○
I12: 代理人 ○○○○
C14: 工 事 費 内 訳 書
B16: 工 事 名 | D16: 道路新設工事（○○工区） | S16: ※工事名、工事場所は、入札参加指名通知書又は公告文により記載する。
B17: 工事場所 | D17: 市道○○線 薩摩川内市○○町○○地内
B19: 工種等 | D19: 見積金額（円） | P19: 割合 （％）
B20: 道路改良 | H20: 6 | I20: 1 | J20: 3 | K20: 9 | L20: 7 | M20: 0 | N20: 6 | O20: 2 | P20: 100 | S20: ※工事の工種ごとに見積金額を記載する。
B21: 土工 | H21: 1 | I21: 8 | J21: 1 | K21: 8 | L21: 6 | M21: 1 | N21: 5 | O21: 2 | P21: 30 | S21: ※積算体系のレベル２「工種」まで記載する。
B22: 法面工 | H22: 1 | I22: 5 | J22: 6 | K22: 7 | L22: 8 | M22: 9 | N22: 4 | O22: 3 | P22: 25 | S22: ※直接工事費については、各工種一式にて計上し、記載する。
B23: 擁壁工 | H23: 2 | I23: 3 | J23: 8 | K23: 5 | L23: 4 | M23: 9 | N23: 1 | O23: 5 | P23: 39 | S23: ※「割合」には、直接工事費に対する工種ごとの割合（％）を記載する。
B24: 雑工 | I24: 3 | J24: 6 | K24: 7 | L24: 7 | M24: 0 | N24: 5 | O24: 2 | P24: 6
B25: 直接工事費 | H25: 6 | I25: 1 | J25: 3 | K25: 9 | L25: 7 | M25: 0 | N25: 6 | O25: 2 | P25: 100
B26: うち材料費
B27: うち労務費
B28: 共通仮設費計 | I28: 5 | J28: 7 | K28: 0 | L28: 3 | M28: 7 | N28: 8 | O28: 7
B29: 純工事費 | H29: 6 | I29: 7 | J29: 1 | K29: 0 | L29: 0 | M29: 8 | N29: 4 | O29: 9
B30: 現場管理費 | H30: 1 | I30: 0 | J30: 4 | K30: 7 | L30: 4 | M30: 4 | N30: 4 | O30: 2
B31: うち法定福利費の事業主負担額（※１）
B32: うち建退共制度の掛金
B33: 工事原価 | H33: 7 | I33: 7 | J33: 5 | K33: 7 | L33: 5 | M33: 2 | N33: 9 | O33: 1
B34: 一般管理費計 | I34: 8 | J34: 7 | K34: 5 | L34: 9 | M34: 7 | N34: 0 | O34: 9
B35: 工事価格 | H35: 8 | I35: 6 | J35: 3 | K35: 3 | L35: 5 | M35: 0 | N35: 0 | O35: 0
B36: うち安全衛生経費（※２）
B38: ※１ 建築用の場合、「工事原価のうち法定福利費の事業主負担額」
B39: ※２ 建築用の場合、「工事原価のうち安全衛生経費」
