Workbook
Name 【企業】評価項目: 発注者入力シート!$L$6:$L$13
Name 【技術者】評価項目: 発注者入力シート!$M$6:$M$12
Name 【地域貢献】評価項目: 発注者入力シート!$N$6:$N$27
Name 【地理的条件】評価項目: 発注者入力シート!$O$6:$O$11
Name 企業回答: 発注者入力シート!$Z$6:$Z$9
Name 企業回答1: 発注者入力シート!$V$6:$V$8
Name 企業回答10: 発注者入力シート!$AE$6:$AE$9
Name 企業回答11: 発注者入力シート!$AF$6:$AF$9
Name 企業回答12: 発注者入力シート!$AG$6:$AG$8
Name 企業回答13: [1]発注者入力シート!$AH$6:$AH$8
Name 企業回答14: [1]発注者入力シート!$AI$6:$AI$9
Name 企業回答2: 発注者入力シート!$W$6:$W$11
Name 企業回答3: 発注者入力シート!$X$6:$X$11
Name 企業回答4: 発注者入力シート!$Y$6:$Y$8
Name 企業回答5: 発注者入力シート!$Z$6:$Z$9
Name 企業回答6: 発注者入力シート!$AA$6:$AA$11
Name 企業回答7: 発注者入力シート!$AB$6:$AB$9
Name 企業回答8: 発注者入力シート!$AC$6:$AC$17
Name 企業回答9: 発注者入力シート!$AD$6:$AD$8
Name 建設工事の種類: 発注者入力シート!$U$6:$U$22
Name 工事種別: 発注者入力シート!$T$6:$T$22
Name 地域密着型: 発注者入力シート!$S$6:$S$7
Name 評価項目番号: 発注者入力シート!$Q$6:$Q$12
Name 評価項目番号_枝番: 発注者入力シート!$R$6:$R$16
Name 様式番号: 発注者入力シート!$P$6:$P$32

Sheet 発注者入力シート
A1: 発注までに必要な作業 | L1: 【表３】プルダウンリスト | AX1: 技術資料「企業の工事成績評定点」、「配置予定技術者の工事成績評定点」の表示
A2: （１）発注工事の基本情報 | L2: 【表３】を編集すると評価項目（C列）のリストが変更できます（原則、着色セル以外編集不可）。 | AX2: 入力状況 | AY2: =C8&C9 -> 一般土木工事土木一式工事
B3: １．【表１】のC列に基本情報を直接入力してください | L3: 表中の着色セルを予備欄です。項目が不足する場合ここに入力すれば、プルダウンリストを追加できます。 | AX3: 工事種別 | AY3: 建設工事の種類 | AZ3: 判定用 | BA3: 表示（工事種別） | BB3: 表示（建設工事の種類） | BC3: 工事成績評価対象期間
B4: 【表１】 | L4: 【表３】 | AX4: 一般土木工事 | AY4: 土木一式工事 | AZ4: =AX4&AY4 -> 一般土木工事土木一式工事 | BA4: 一般土木工事、維持修繕工事 | BB4: 土木一式工事、とび・土工・ｺﾝｸﾘｰﾄ工事、しゅんせつ工事 | BC4: 工事成績（過去3年間で評価）
B5: 入力項目名 | C5: 入力欄 | L5: 【企業】評価項目 | M5: 【技術者】評価項目 | N5: 【地域貢献・その他】評価項目 | O5: 【地理的条件】評価項目 | P5: 様式番号 | Q5: 評価項目番号 | R5: 評価項目番号（枝番） | S5: 地域密着 | T5: 工事種別 | U5: 建設工事の種類 | V5: 企業回答1 | W5: 企業回答2 | X5: 企業回答3 | Y5: 企業回答4 | Z5: 企業回答5 | AA5: 企業回答6 | AB5: 企業回答7 | AC5: 企業回答8 | AD5: 企業回答9 | AE5: 企業回答10 | AF5: 企業回答11 | AG5: 企業回答12 | AX5: 一般土木工事 | AY5: とび・土工・コンクリート工事 | AZ5: =AX5&AY5 -> 一般土木工事とび・土工・コンクリート工事 | BA5: 一般土木工事、維持修繕工事 | BB5: 土木一式工事、とび・土工・ｺﾝｸﾘｰﾄ工事、しゅんせつ工事 | BC5: 工事成績（過去3年間で評価）
B6: 発注事務所名 | C6: 島根県知事 | D6: ←直接入力 | L6: 工事成績 | M6: 保有資格 | N6: 防災協定 | O6: 近隣施工実績 | P6: ２ | Q6: （１） | R6: ① | T6: 一般土木工事 | U6: 土木一式工事 | V6: 有 | W6: 国局長 | X6: 国局長の表彰 | Y6: 契約工事名 | Z6: 単体 | AA6: 監理技術者 | AB6: 本店 | AC6: ｼｮﾍﾞﾙ系掘削機(ｼｮﾍﾞﾙ) | AD6: 保有 | AE6: 第1ｸﾞﾙｰﾌﾟ | AF6: 2回 | AG6: 元請 | AX6: 一般土木工事 | AY6: しゅんせつ工事 | AZ6: =AX6&AY6 -> 一般土木工事しゅんせつ工事 | BA6: 一般土木工事、維持修繕工事 | BB6: 土木一式工事、とび・土工・ｺﾝｸﾘｰﾄ工事、しゅんせつ工事 | BC6: 工事成績（過去3年間で評価）
B7: 入札公告日 | C7: 46295 | D7: ←ｙｙｙｙ/m/dで入力【重要】 | G7: 入札公告日前日 | H7: =C7-1 -> 46294 | I7: ←削除厳禁 | L7: 同種工事実績 | M7: 同種工事経験 | N7: BCP&防災協定 | O7: 会社所在地 | P7: ３ | Q7: （２） | R7: ② | T7: アスファルト舗装工事・特殊舗装工事（旧舗装工事） | U7: とび・土工・コンクリート工事 | V7: 無 | W7: 国事務所長 | X7: 国事務所長の表彰 | Y7: 表彰状記載工事名 | Z7: 特別（特定）JV | AA7: 主任技術者 | AB7: 支店 | AC7: ｼｮﾍﾞﾙ系掘削機(ﾊﾞｯｸﾎｳ) | AD7: リース契約 | AE7: 第2ｸﾞﾙｰﾌﾟ | AF7: 1回 | AG7: 下請 | AX7: 維持修繕工事 | AY7: 土木一式工事 | AZ7: =AX7&AY7 -> 維持修繕工事土木一式工事 | BA7: 一般土木工事、維持修繕工事 | BB7: 土木一式工事、とび・土工・ｺﾝｸﾘｰﾄ工事、しゅんせつ工事 | BC7: 工事成績（過去3年間で評価）
B8: 工事種別 | C8: 一般土木工事 | D8: ←必須【入力結果が技術資料(企業成績評定点、技術者成績評定点）シートの対象工事欄に反映される】 | L8: 優良工事表彰 | M8: 技術者の表彰 | N8: 家畜伝染防疫病協定 | O8: 工場・会社所在地 | P8: ４ | Q8: （３） | R8: ③ | T8: 鋼橋上部工事 | U8: 鋼構造物工事 | W8: 知事 | X8: 知事表彰該当工事の表彰 | Z8: 一般（経常）JV | AA8: 現場代理人 | AB8: 営業所 | AC8: ｼｮﾍﾞﾙ系掘削機(ﾄﾞﾗｸﾞﾗｲﾝ) | AE8: 第3ｸﾞﾙｰﾌﾟ | AF8: 0回 | AX8: 維持修繕工事 | AY8: とび・土工・コンクリート工事 | AZ8: =AX8&AY8 -> 維持修繕工事とび・土工・コンクリート工事 | BA8: 一般土木工事、維持修繕工事 | BB8: 土木一式工事、とび・土工・ｺﾝｸﾘｰﾄ工事、しゅんせつ工事 | BC8: 工事成績（過去3年間で評価）
B9: 建設工事の種類 | C9: 土木一式工事 | D9: =IF(INDEX(AX3:BC31,MATCH(AY2,AZ3:AZ31,0),3)=AY2,INDEX(AX3:BC31,MATCH(AY2,AZ3:AZ31,0),6),"err") -> 工事成績（過去3年間で評価） | G9: ←エラー表示の場合、工事種別と建設工事の種類を再確認 | L9: プラント保有 | M9: 継続学習 | N9: BCP&家畜伝染防疫病協定 | O9: サポート拠点 | P9: ５ | Q9: （４） | R9: ④ | T9: ﾌﾟﾚｽﾄﾚｽﾄｺﾝｸﾘｰﾄ構造物工事 | U9: 舗装工事 | W9: 県課長 | X9: 県課長表彰該当工事の表彰 | AA9: 監理技術者補佐 | AC9: ｼｮﾍﾞﾙ系掘削機(ｸﾗﾑｼｪﾙ) | AG9: 除雪業務 | AX9: アスファルト舗装工事・特殊舗装工事（旧舗装工事） | AY9: 舗装工事 | AZ9: =AX9&AY9 -> アスファルト舗装工事・特殊舗装工事（旧舗装工事）舗装工事 | BA9: アスファルト舗装工事・特殊舗装工事（旧舗装工事）、維持修繕工事 | BB9: 舗装工事 | BC9: 工事成績（過去3年間で評価）
B10: 工事名 | C10: 蛇喰川 防安交付金（総流防）工事 第２期 | L10: 法面機械保有 | M10: 技術者の成績 | N10: ボランティア活動又はハートフルしまね | O10: - | P10: ６ | Q10: （５） | R10: ⑤ | T10: 港湾工事 | U10: しゅんせつ工事 | W10: 県事務所長 | X10: 県事務所長表彰該当工事の表彰 | AC10: ｼｮﾍﾞﾙ系掘削機(ｸﾚｰﾝ) | AG10: 散布業務 | AX10: 維持修繕工事 | AY10: 舗装工事 | AZ10: =AX10&AY10 -> 維持修繕工事舗装工事 | BA10: アスファルト舗装工事・特殊舗装工事（旧舗装工事）、維持修繕工事 | BB10: 舗装工事 | BC10: 工事成績（過去3年間で評価）
L11: OPD制度参加登録 | M11: - | N11: 維持管理業務 | P11: ７ | Q11: （６） | R11: ⑥ | T11: 機械設備工事 | U11: 機械器具設置工事 | AC11: ｼｮﾍﾞﾙ系掘削機(ﾊﾟｲﾙﾄﾞﾗｲﾊﾞｰ) | AG11: 除雪・散布業務 | AX11: 鋼橋上部工事 | AY11: 鋼構造物工事 | AZ11: =AX11&AY11 -> 鋼橋上部工事鋼構造物工事 | BA11: 鋼橋上部工事 | BB11: 鋼構造物工事 | BC11: 工事成績（過去3年間で評価）
A12: （２）総合評価方式の評価項目、技術資料様式の番号情報 | L12: 登録基幹技能者 | N12: 除雪業務 | P12: ８ | R12: ⑦ | T12: 塗装工事 | U12: 塗装工事 | AC12: ﾌﾞﾙﾄﾞｰｻﾞｰ | AX12: ﾌﾟﾚｽﾄﾚｽﾄｺﾝｸﾘｰﾄ構造物工事 | AY12: 土木一式工事 | AZ12: =AX12&AY12 -> ﾌﾟﾚｽﾄﾚｽﾄｺﾝｸﾘｰﾄ構造物工事土木一式工事 | BA12: ﾌﾟﾚｽﾄﾚｽﾄｺﾝｸﾘｰﾄ構造物工事（旧ﾌﾟﾚｽﾄﾚｽﾄｺﾝｸﾘｰﾄ工事） | BB12: 土木一式工事 | BC12: 工事成績（過去3年間で評価）
B13: １．【表２】C列に発注工事の評価項目を入力してください（技術提案は、直接入力、その他の項目はプルダウンリストから選択） | N13: 労働福祉（障がい者雇用） | P13: ９ | R13: ⑧ | T13: 造園工事 | U13: 造園工事 | AC13: ﾄﾗｸﾀｰｼｮﾍﾞﾙ | AX13: 港湾工事 | AY13: 土木一式工事 | AZ13: =AX13&AY13 -> 港湾工事土木一式工事 | BA13: 港湾工事 | BB13: 土木一式工事、しゅんせつ工事 | BC13: 工事成績（過去3年間で評価）
B14: （特殊な評価項目でプルダウンリストに項目がない場合は、【表３】で項目を追加してください） | N14: 労働福祉（育児介護制度） | P14: １０ | R14: ⑨ | T14: さく井工事 | U14: さく井工事 | AC14: ﾓｰﾀｰｸﾞﾚｰﾀﾞｰ | AX14: 港湾工事 | AY14: しゅんせつ工事 | AZ14: =AX14&AY14 -> 港湾工事しゅんせつ工事 | BA14: 港湾工事 | BB14: 土木一式工事、しゅんせつ工事 | BC14: 工事成績（過去3年間で評価）
B15: ２．【表２】E～G列に様式番号と評価項目の番号をプルダウンリストで選択してください。 | N15: 育児介護チェック表 | P15: １１ | R15: ⑩ | T15: 法面処理工事 | U15: 電気工事 | AC15: 移動式ｸﾚｰﾝ | AX15: 機械設備工事 | AY15: 機械器具設置工事 | AZ15: =AX15&AY15 -> 機械設備工事機械器具設置工事 | BA15: 機械設備工事 | BB15: 機械器具設置工事、鋼構造物工事 | BC15: 工事成績（過去5年間で評価）
B16: （様式番号は表紙が1になるため、2から始まります。評価項目の番号は、入札説明書に記載する見出し番号とあわせてください） | N16: 登録基幹技能者 | P16: １２ | T16: 維持修繕工事 | U16: 管工事 | AC16: 大型ﾀﾞﾝﾌﾟ車 | AX16: 機械設備工事 | AY16: 鋼構造物工事 | AZ16: =AX16&AY16 -> 機械設備工事鋼構造物工事 | BA16: 機械設備工事 | BB16: 機械器具設置工事、鋼構造物工事 | BC16: 工事成績（過去5年間で評価）
B17: ３．地域条件を設定する評価項目は、【表２】D列で【地域設定】を選択してください | N17: 若手・中堅技術者配置 | P17: １３ | T17: グラウト工事 | U17: 水道施設工事 | AX17: 塗装工事 | AY17: 塗装工事 | AZ17: =AX17&AY17 -> 塗装工事塗装工事 | BA17: 塗装工事、維持修繕工事 | BB17: 塗装工事 | BC17: 工事成績（過去5年間で評価）
B18: 【表２】 | F18: 様式番号 | G18: 評価項目（１）－①（例） | N18: 若手技術者・従業員の新規雇用 | P18: １４ | T18: 管工事 | U18: 消防施設工事 | AX18: 維持修繕工事 | AY18: 塗装工事 | AZ18: =AX18&AY18 -> 維持修繕工事塗装工事 | BA18: 塗装工事、維持修繕工事 | BB18: 塗装工事 | BC18: 工事成績（過去5年間で評価）
B19: 区分 | C19: 評価項目 | D19: 地域設定 | E19: 様式－○ | F19: 評価項目○－○ | N19: 建設機械保有状況 | P19: １５ | T19: 電気工事 | U19: 電気通信工事 | AX19: 造園工事 | AY19: 造園工事 | AZ19: =AX19&AY19 -> 造園工事造園工事 | BA19: 造園工事 | BB19: 造園工事 | BC19: 工事成績（過去5年間で評価）
B20: 技術提案 | C20: コンクリートの品質・耐久性の向上 | E20: ２ | F20: （１） | G20: ① | H20: 技術提案① | N20: 消防団協力事業所 | P20: １６ | T20: 通信設備工事 | AX20: さく井工事 | AY20: さく井工事 | AZ20: =AX20&AY20 -> さく井工事さく井工事 | BA20: さく井工事 | BB20: さく井工事 | BC20: 工事成績（過去5年間で評価）
B21: 技術提案 | C21: 地盤改良の施工管理 | E21: ３ | F21: （１） | G21: ② | H21: 技術提案② | N21: CCUSの活用 | P21: １７ | AX21: 法面処理工事 | AY21: とび・土工・コンクリート工事 | AZ21: =AX21&AY21 -> 法面処理工事とび・土工・コンクリート工事 | BA21: 法面処理工事 | BB21: とび・土工・コンクリート工事 | BC21: 工事成績（過去3年間で評価）
B22: 技術提案 | C22: 地域住民等とのコミュニケーション | E22: ４ | F22: （１） | G22: ③ | H22: 技術提案③ | N22: ＩＣＴ活用工事施工実績 | P22: １８ | AX22: 電気工事 | AY22: 電気工事 | AZ22: =AX22&AY22 -> 電気工事電気工事 | BA22: 電気工事、維持修繕工事 | BB22: 電気工事 | BC22: 工事成績（過去5年間で評価）
B23: 技術提案 | H23: 技術提案④ | N23: 海上援助活動 | P23: １９ | AX23: 電気工事 | AY23: 消防施設工事 | AZ23: =AX23&AY23 -> 電気工事消防施設工事 | BA23: 電気工事、維持修繕工事 | BB23: 電気工事 | BC23: 工事成績（過去5年間で評価）
B24: 技術提案 | H24: 技術提案⑤ | N24: 応急危険度判定士 | P24: ２０ | AX24: 維持修繕工事 | AY24: 電気工事 | AZ24: =AX24&AY24 -> 維持修繕工事電気工事 | BA24: 電気工事、維持修繕工事 | BB24: 電気工事 | BC24: 工事成績（過去5年間で評価）
B25: 技術提案 | H25: 技術提案b① | N25: - | P25: ２１ | AX25: グラウト工事 | AY25: 土木一式工事 | AZ25: =AX25&AY25 -> グラウト工事土木一式工事 | BA25: グラウト工事 | BB25: 土木一式工事、とび・土工・ｺﾝｸﾘｰﾄ工事 | BC25: 工事成績（過去5年間で評価）
B26: 技術提案 | H26: 技術提案b② | N26: - | P26: ２２ | AX26: グラウト工事 | AY26: とび・土工・コンクリート工事 | AZ26: =AX26&AY26 -> グラウト工事とび・土工・コンクリート工事 | BA26: グラウト工事 | BB26: 土木一式工事、とび・土工・ｺﾝｸﾘｰﾄ工事 | BC26: 工事成績（過去5年間で評価）
B27: 企業 | C27: 工事成績 | E27: ５ | F27: （２） | G27: ① | P27: ２３ | AX27: 管工事 | AY27: 管工事 | AZ27: =AX27&AY27 -> 管工事管工事 | BA27: 管工事 | BB27: 管工事、水道施設工事 | BC27: 工事成績（過去5年間で評価）
B28: 企業 | C28: 同種工事実績 | E28: ６ | F28: （２） | G28: ② | P28: ２４ | AX28: 管工事 | AY28: 水道施設工事 | AZ28: =AX28&AY28 -> 管工事水道施設工事 | BA28: 管工事 | BB28: 管工事、水道施設工事 | BC28: 工事成績（過去5年間で評価）
B29: 企業 | C29: 優良工事表彰 | E29: ７ | F29: （２） | G29: ③ | P29: ２５ | AX29: 通信設備工事 | AY29: 電気通信工事 | AZ29: =AX29&AY29 -> 通信設備工事電気通信工事 | BA29: 通信設備工事 | BB29: 電気通信工事 | BC29: 工事成績（過去5年間で評価）
B30: 企業 | C30: 登録基幹技能者 | E30: ８ | F30: （２） | G30: ④ | P30: ２６ | AX30: 一般土木工事 | AY30: 鋼構造物工事 | AZ30: =AX30&AY30 -> 一般土木工事鋼構造物工事 | BC30: 評価対象工事は、個別判断
B31: 企業 | P31: ２７ | AX31: 維持修繕工事 | AY31: 鋼構造物工事 | AZ31: =AX31&AY31 -> 維持修繕工事鋼構造物工事 | BC31: 評価対象工事は、個別判断
B32: 配置予定技術者 | C32: 継続学習 | E32: ９ | F32: （３） | G32: ①
B33: 配置予定技術者 | C33: 同種工事経験 | E33: １０ | F33: （３） | G33: ②
B34: 配置予定技術者 | C34: 技術者の表彰 | E34: １１ | F34: （３） | G34: ③
B35: 配置予定技術者 | L35: 【表４】表紙記載文リスト
B36: 地域貢献・その他 | C36: BCP&防災協定 | E36: １２ | F36: （４） | G36: ① | L36: 【表４】を編集すると技術資料（表紙）「2 提出書類（必要な項目について）」で記載する様式の名称変更ができます。
B37: 地域貢献・その他 | C37: ボランティア活動又はハートフルしまね | E37: １３ | F37: （４） | G37: ② | L37: （【隠岐】企業の法面機械保有は、機械名が○○になっていますので、必ず編集が必要です。）
B38: 地域貢献・その他 | C38: 維持管理業務 | E38: １４ | F38: （４） | G38: ③ | L38: 【表４】
B39: 地域貢献・その他 | C39: 除雪業務 | E39: １５ | F39: （４） | G39: ④ | L39: ↓【重要】表２のD列で項目を記載したもの以外は、エラー表示される【編集厳禁】
B40: 地域貢献・その他 | C40: CCUSの活用 | E40: １６ | F40: （４） | G40: ⑤ | L40: 様式番号 | M40: 区分 | N40: 評価項目名 | O40: 表紙記載文
B41: 地域貢献・その他 | L41: =INDEX($B$27:$G$47,MATCH(N41,$C$27:$C$47,0),4) -> ５ | M41: 企業 | N41: =L6 -> 工事成績 | O41: =CONCATENATE(" ○企業の工事成績評定点 （様式-",L41,"-１、様式-",L41,"-２）") -> ○企業の工事成績評定点 （様式-５-１、様式-５-２）
B42: 地域貢献・その他 | L42: =INDEX($B$27:$G$47,MATCH(N42,$C$27:$C$47,0),4) -> ６ | N42: =L7 -> 同種工事実績 | O42: =CONCATENATE(" ○企業の同種工事の施工実績 （様式-",L42,"）") -> ○企業の同種工事の施工実績 （様式-６）
B43: 地域貢献・その他 | L43: =INDEX($B$27:$G$47,MATCH(N43,$C$27:$C$47,0),4) -> ７ | N43: =L8 -> 優良工事表彰 | O43: =CONCATENATE(" ○企業の優良工事表彰（優良工事施工団体表彰） （様式-",L43,"）") -> ○企業の優良工事表彰（優良工事施工団体表彰） （様式-７）
B44: 地域貢献・その他 | L44: =INDEX($B$27:$G$47,MATCH(N44,$C$27:$C$47,0),4) -> #N/A | N44: =L9 -> プラント保有 | O44: =CONCATENATE(" ○アスファルト合材プラント保有の有無 （様式-",L44,"）") -> #N/A
B45: 地域貢献・その他 | L45: =INDEX($B$27:$G$47,MATCH(N45,$C$27:$C$47,0),4) -> #N/A | N45: =L10 -> 法面機械保有 | O45: =CONCATENATE(" ○企業の○○機の保有の有無 （様式-",L45,"）") -> #N/A
B46: 地理的条件 | L46: =INDEX($B$27:$G$47,MATCH(N46,$C$27:$C$47,0),4) -> #N/A | N46: =L11 -> OPD制度参加登録 | O46: =CONCATENATE(" ○企業の継続能力（CPD）制度の参加登録 （様式-",L46,"）") -> #N/A
B47: 地理的条件 | L47: =INDEX($B$27:$G$31,MATCH(N47,$C$27:$C$31,0),4) -> ８ | N47: =L12 -> 登録基幹技能者 | O47: =CONCATENATE(" ○登録基幹技能者の配置 （様式-",L47,"）") -> ○登録基幹技能者の配置 （様式-８）
B48: その他様式 | C48: 設計図書、技術資料質問書 | E48: １７ | L48: =INDEX($B$27:$G$47,MATCH(N48,$C$27:$C$47,0),4) -> #N/A | N48: =L13 -> 0 | O48: 表３【企業】評価項目の着色セルに項目を記入した場合、ここに記載文を直接入力！
B49: その他様式 | C49: 設計図書、技術資料回答書 | E49: １８ | L49: =INDEX($B$27:$G$47,MATCH(N49,$C$27:$C$47,0),4) -> #N/A | M49: 技術者 | N49: =M6 -> 保有資格 | O49: =CONCATENATE(" ○配置予定技術者の資格 （様式-",L49,"）") -> #N/A
B50: その他様式 | C50: 技術提案採否結果等通知書 | E50: １９ | L50: =INDEX($B$27:$G$47,MATCH(N50,$C$27:$C$47,0),4) -> １０ | N50: =M7 -> 同種工事経験 | O50: =CONCATENATE(" ○配置予定技術者の同種工事の施工経験 （様式-",L50,"）") -> ○配置予定技術者の同種工事の施工経験 （様式-１０）
B51: その他様式 | C51: 技術提案不採用理由説明要求書 | E51: ２０ | L51: =INDEX($B$27:$G$47,MATCH(N51,$C$27:$C$47,0),4) -> １１ | N51: =M8 -> 技術者の表彰 | O51: =CONCATENATE(" ○配置予定技術者の優秀建設技術者表彰 （様式-",L51,"）") -> ○配置予定技術者の優秀建設技術者表彰 （様式-１１）
B52: その他様式 | C52: 技術提案不採用理由回答書 | E52: ２１ | L52: =INDEX($B$27:$G$47,MATCH(N52,$C$27:$C$47,0),4) -> ９ | N52: =M9 -> 継続学習 | O52: =CONCATENATE(" ○配置予定技術者の継続学習 （様式-",L52,"）") -> ○配置予定技術者の継続学習 （様式-９）
B53: その他様式 | C53: 評価内容説明要求書 | E53: ２２ | L53: =INDEX($B$27:$G$47,MATCH(N53,$C$27:$C$47,0),4) -> #N/A | N53: =M10 -> 技術者の成績 | O53: =CONCATENATE(" ○配置予定技術者の工事成績評定点 （様式-",L53,"-１、様式-",L53,"-２）") -> #N/A
B54: その他様式 | C54: 評価内容回答書 | E54: ２３ | L54: =INDEX($B$27:$G$47,MATCH(N54,$C$27:$C$47,0),4) -> #N/A | N54: =M11 -> - | O54: 対象外
B55: その他様式 | C55: 技術提案改善要請書 | E55: ２４ | L55: =INDEX($B$27:$G$47,MATCH(N55,$C$27:$C$47,0),4) -> #N/A | N55: =M12 -> 0 | O55: 表３【技術者】評価項目の着色セルに項目を記入した場合、ここに記載文を直接入力！
B56: その他様式 | C56: 改善技術提案書 | E56: ２５ | L56: =INDEX($B$27:$G$47,MATCH(N56,$C$27:$C$47,0),4) -> #N/A | M56: 地域貢献・その他 | N56: =N6 -> 防災協定 | O56: =CONCATENATE(" ○防災協定の締結実績 （様式-",L56,"）") -> #N/A
L57: =INDEX($B$27:$G$47,MATCH(N57,$C$27:$C$47,0),4) -> １２ | N57: =N7 -> BCP&防災協定 | O57: =CONCATENATE(" ○事業継続計画（BCP）認定及び防災協定の締結実績 （様式-",L57,"）") -> ○事業継続計画（BCP）認定及び防災協定の締結実績 （様式-１２）
A58: （３）確認・修正作業【重要】 | L58: =INDEX($B$27:$G$47,MATCH(N58,$C$27:$C$47,0),4) -> #N/A | N58: =N8 -> 家畜伝染防疫病協定 | O58: =CONCATENATE(" ○家畜伝染病防疫協定の締結実績 （様式-",L58,"）") -> #N/A
A59: １．【技術資料（表紙）の確認・修正事項】 | L59: =INDEX($B$27:$G$47,MATCH(N59,$C$27:$C$47,0),4) -> #N/A | N59: =N9 -> BCP&家畜伝染防疫病協定 | O59: =CONCATENATE(" ○事業継続計画（BCP）認定及び家畜伝染病防疫協定の締結実績 （様式-",L59,"）") -> #N/A
B60: ①「2 提出書類（必要な項目について）」を確認してください。記載文の修正が必要な場合、【表４】O列数式内の記載文を編集してください。 | L60: =INDEX($B$27:$G$47,MATCH(N60,$C$27:$C$47,0),4) -> １３ | N60: =N10 -> ボランティア活動又はハートフルしまね | O60: =CONCATENATE(" ○ボランティア活動又はハートフルしまねへの参加実績 （様式-",L60,"）") -> ○ボランティア活動又はハートフルしまねへの参加実績 （様式-１３）
B61: （【隠岐】企業の法面機械保有は、機械名が○○になっていますので、必ず編集が必要です。） | L61: =INDEX($B$27:$G$47,MATCH(N61,$C$27:$C$47,0),4) -> １４ | N61: =N11 -> 維持管理業務 | O61: =CONCATENATE(" ○県管理公共土木施設に関する維持管理業務または海岸漂着物の回収業務の契約実績 （様式-",L61,"）") -> ○県管理公共土木施設に関する維持管理業務または海岸漂着物の回収業務の契約実績 （様式-１４）
B62: ②エラー表示がでている行を非表示にしてください（行の削除厳禁）。 | L62: =INDEX($B$27:$G$47,MATCH(N62,$C$27:$C$47,0),4) -> １５ | N62: =N12 -> 除雪業務 | O62: =CONCATENATE(" ○県管理道路・空港を含む除雪業務の契約実績 （様式-",L62,"）") -> ○県管理道路・空港を含む除雪業務の契約実績 （様式-１５）
L63: =INDEX($B$27:$G$47,MATCH(N63,$C$27:$C$47,0),4) -> #N/A | N63: =N13 -> 労働福祉（障がい者雇用） | O63: =CONCATENATE(" ○労働福祉関連の状況(a 障がい者雇用の実態) （様式-",L63,"）") -> #N/A
A64: ２．【技術資料（各種様式）の確認・修正事項】 | L64: =INDEX($B$27:$G$47,MATCH(N64,$C$27:$C$47,0),4) -> #N/A | N64: =N14 -> 労働福祉（育児介護制度） | O64: =CONCATENATE(" ○労働福祉関連の状況(b 育児・介護休業に関する制度) （様式-",L64,"）") -> #N/A
B65: ①技術資料の緑着色セルに正しく情報が転記されているか確認してください | L65: =INDEX($B$27:$G$47,MATCH(N65,$C$27:$C$47,0),4) -> #N/A | N65: =N15 -> 育児介護チェック表 | O65: =CONCATENATE(" ○育児・介護休業に関する制度 チェック表 （様式-",L65,"）") -> #N/A
B66: （転記されていない場合は、もう一度【表１～４】の入力条件を確認後、必要に応じ緑着色セルを直接入力により修正してください） | L66: =INDEX($B$27:$G$47,MATCH(N66,$C$27:$C$47,0),4) -> ８ | N66: =N16 -> 登録基幹技能者 | O66: =CONCATENATE(" ○登録基幹技能者の配置 （様式-",L66,"）") -> ○登録基幹技能者の配置 （様式-８）
B67: ②技術資料の黄色着色セルに必要な情報を直接入力してください | L67: =INDEX($B$27:$G$47,MATCH(N67,$C$27:$C$47,0),4) -> #N/A | N67: =N17 -> 若手・中堅技術者配置 | O67: =CONCATENATE(" ○若手・中堅技術者の配置 （様式-",L67,"）") -> #N/A
B68: ③その他箇所の記載文や文字切れなど不備がないか確認し、必要に応じて修正してください | L68: =INDEX($B$27:$G$47,MATCH(N68,$C$27:$C$47,0),4) -> #N/A | N68: =N18 -> 若手技術者・従業員の新規雇用 | O68: =CONCATENATE(" ○若手技術者・若手従業員の新規雇用 （様式-",L68,"）") -> #N/A
L69: =INDEX($B$27:$G$47,MATCH(N69,$C$27:$C$47,0),4) -> #N/A | N69: =N19 -> 建設機械保有状況 | O69: =CONCATENATE(" ○建設機械の保有状況 （様式-",L69,"）") -> #N/A
A70: ３．【評価基準の確認】 | L70: =INDEX($B$27:$G$47,MATCH(N70,$C$27:$C$47,0),4) -> #N/A | N70: =N20 -> 消防団協力事業所 | O70: =CONCATENATE(" ○消防団協力事業所の認定 （様式-",L70,"）") -> #N/A
B71: ①「発注者設定内容確認シート」で入札説明書に記載した内容と様式に記載した内容が一致しているか確認してください | L71: =INDEX($B$27:$G$47,MATCH(N71,$C$27:$C$47,0),4) -> １６ | N71: =N21 -> CCUSの活用 | O71: =CONCATENATE(" ○建設キャリアアップシステム（CCUS）の活用 （様式-",L71,"）") -> ○建設キャリアアップシステム（CCUS）の活用 （様式-１６）
L72: =INDEX($B$27:$G$47,MATCH(N72,$C$27:$C$47,0),4) -> #N/A | N72: =N22 -> ＩＣＴ活用工事施工実績 | O72: =CONCATENATE(" ○ＩＣＴ活用工事の施工実績 （様式-",L72,"）") -> #N/A
A73: ４．【PPI掲載用ファイルの作成】 | L73: =INDEX($B$32:$G$47,MATCH(N73,$C$32:$C$47,0),4) -> #N/A | N73: =N23 -> 海上援助活動 | O73: =CONCATENATE(" ○海上援助活動の実績 （様式-",L73,"）") -> #N/A
B74: ①PPI掲載用ファイルを別ファイルで作成してください（シート削除するとシートの復活できないので、必ず削除作業前に別ファイルを作成してください） | L74: =INDEX($B$27:$G$47,MATCH(N74,$C$27:$C$47,0),4) -> #N/A | N74: =N24 -> 応急危険度判定士 | O74: =CONCATENATE(" ○島根県地震被災建築物応急危険度判定士の登録 （様式-",L74,"）") -> #N/A
B75: ②不要な技術資料様式は、シート毎削除してください | L75: =INDEX($B$27:$G$47,MATCH(N75,$C$27:$C$47,0),4) -> #N/A | N75: =N25 -> - | O75: 対象外
B76: ③収受印を発行しない様式は、破線以下を全て削除してください | L76: =INDEX($B$27:$G$47,MATCH(N76,$C$27:$C$47,0),4) -> #N/A | N76: - | O76: 対象外
B77: ④「企業入力シート」の「３提出資料確認欄」について、不要項目などを削除・修正してください | L77: =INDEX($B$27:$G$47,MATCH(N77,$C$27:$C$47,0),4) -> #N/A | N77: 0 | O77: 表３【地域貢献・その他】評価項目の着色セルに項目を記入した場合、ここに記載文を直接入力！
B78: （収受印を発行しない発注機関は、「３提出資料確認欄」を全て削除） | L78: =INDEX($B$27:$G$47,MATCH(N78,$C$27:$C$47,0),4) -> #N/A | M78: 地理的条件 | N78: =O6 -> 近隣施工実績 | O78: =CONCATENATE(" ○地理的条件（近隣地域での施工実績） （様式-",L78,"）") -> #N/A
L79: =INDEX($B$27:$G$47,MATCH(N79,$C$27:$C$47,0),4) -> #N/A | N79: =O7 -> 会社所在地 | O79: =CONCATENATE(" ○地理的条件（会社所在地） （様式-",L79,"）") -> #N/A
A80: ５．【技術審査（競争参加資格委員会）の準備作業】 | L80: =INDEX($B$27:$G$47,MATCH(N80,$C$27:$C$47,0),4) -> #N/A | N80: =O8 -> 工場・会社所在地 | O80: =CONCATENATE(" ○地理的条件（橋梁用桁製作の機能を有する工場及び建設業法上の営業所所在地） （様式-",L80,"）") -> #N/A
B81: ①「発注者審査作業用」シートに記載されている表中の不要な項目の列全体を削除してください | L81: =INDEX($B$27:$G$47,MATCH(N81,$C$27:$C$47,0),4) -> #N/A | N81: =O9 -> サポート拠点 | O81: =CONCATENATE(" ○地理的条件（サポート拠点の所在地及び技術者の在籍） （様式-",L81,"）") -> #N/A
B82: （文字のサイズ、セルの結合、列幅の調整などは、「技術審査用ファイル」で行うため、「発注者作業用シート」では、体裁を整える必要はありません） | L82: =INDEX($B$27:$G$47,MATCH(N82,$C$27:$C$47,0),4) -> #N/A | N82: =O10 -> - | O82: 対象外
L83: =INDEX($B$27:$G$47,MATCH(N83,$C$27:$C$47,0),4) -> #N/A | N83: =O11 -> 0 | O83: 表３【地理的条件】評価項目の着色セルに項目を記入した場合、ここに記載文を直接入力！
B84: ※「発注者審査作業用」シート
B85: 企業の申請内容を数式でリンクさせて評価項目毎に一覧表で整理。指定された範囲を「技術審査用ファイル」の「作業用シート」に一括コピーすることで、
B86: 技術審査（競争参加資格委員会）や入札結果調書を簡単に作成することが可能
B88: ※技術審査用ファイル
B89: このファイルの「発注者作業用シート」から各企業の申請内容を一括コピーし、「技術審査用ファイル」で集計することで、技術審査（競争参加資格委員会）
B90: 用の資料や入札結果調書が簡単に作成可能
A92: ＜発注準備から入札結果調書作成までの全体イメージ＞

Sheet 企業入力シート
A1: 1.企業情報
A2: 表のC列（赤枠内）に企業情報を入力してください。入力した情報は、各種様式に反映されます。
B3: 項目名 | C3: 企業情報記入欄
A4: 1 | B4: 提出日 | D4: ←ｙｙｙｙ/m/dで入力
A5: 2
A6: 3 | B6: 住所
A7: 4 | B7: 商号又は名称 | C7: ○○建設
A8: 5 | B8: 代表者 | C8: ○○ ○○
A9: 6 | B9: 担当者
A10: 7 | B10: 部署
A11: 8 | B11: 電話番号
A12: 9 | B12: ＦＡＸ番号
A13: 10 | B13: Ｅ－mail
A15: 2.配置予定技術者の氏名
A16: 表のC・D列（赤枠内）に配置予定技術者情報を入力してください。入力した情報は、各種様式に反映されます。
B17: 配置予定技術者 | C17: 氏名記入欄 | D17: 生年月日
A18: 1 | B18: 配置予定技術者① | E18: ←ｙｙｙｙ/m/dで入力
A19: 2 | B19: 配置予定技術者② | E19: ←ｙｙｙｙ/m/dで入力
A20: 3 | B20: 配置予定技術者③ | E20: ←ｙｙｙｙ/m/dで入力
A22: 3.事前審査・証明書による申請
A23: 事前審査・証明書で提出する評価項目がある場合、該当するものに「○」を入力してください。事前審査・証明書で提出する項目については、技術資料及び添付資料を提出する必要はありません。
A24: 下欄の入力内容は「表紙」シートに反映されます。
A25: =COUNTA(B26:B35) -> 0 | B25: 証明書での提出 | C25: 項目 | K25: ○
A26: =COUNTA(B26) -> 0 | C26: 【土木一式】企業の工事成績評定点（県）
A27: =COUNTA($B$26:B27) -> 0 | C27: 【舗装】企業の工事成績評定点（県）
A28: =COUNTA($B$26:B28) -> 0 | C28: 【法面】企業の工事成績評定点（県）
A29: =COUNTA($B$26:B29) -> 0 | C29: 【港湾】企業の工事成績評定点（県）
A30: =COUNTA($B$26:B30) -> 0 | C30: 防災協定の締結実績
A31: =COUNTA($B$26:B31) -> 0 | C31: 家畜伝染病防疫協定の締結実績
A32: =COUNTA($B$26:B32) -> 0 | C32: ボランティア活動又はハートフルしまねへの参加実績
A33: =COUNTA($B$26:B33) -> 0 | C33: 維持管理業務等の契約実績（県）
A34: =COUNTA($B$26:B34) -> 0 | C34: 除雪業務の契約実績（県）
A35: =COUNTA($B$26:B35) -> 0 | C35: 労働福祉関連（育児介護・こっころ）

Sheet ファイル使用上の注意事項
A1: 技術資料作成用エクセル形式の電子ファイル使用上の注意事項
A3: ○技術資料【PDF形式】と参考資料【本エクセル形式】の位置づけについて
A4: (1) | B4: 本エクセル形式で作成したデータをPDF形式に変換したものを「技術資料」として、提出しなければなりません。 （提出：必須）
A6: (2) | B6: 本エクセル形式は、発注者が技術資料の審査を行う際に「参考資料」として使用しますので、提出の協力をお願いします。 本エクセル形式のみの提出をもって、技術資料を提出したことにはなりませんので、ご注意ください。
A11: ○エクセル形式使用時及び技術資料提出時の注意事項について
A12: (1) | B12: 行高・列幅不足により文字切れや「＃＃＃＃」表示で出力されていないか、提出する前に必ず印刷物で確認してください。
A14: (2) | B14: 文字切れや「＃＃＃＃」表示になっている場合、行高・列幅を広げる、文字を縮小して表示させるなど調整してください。
A16: (3) | B16: 発注者専用シート（シート名が赤色シート）には触れないでください。
A17: (4) | B17: 記入しない様式があっても、シートは絶対に削除しないでください。
A18: (5) | B18: 各様式の企業直接入力欄（青色着色セル）に記入する際、結合されたセルは絶対に解除しないでください。
A20: (6) | B20: 技術資料様式は、「ページ設定」で「白黒印刷」と「印刷範囲」を設定していますので、画面表示の着色セルも白色で印刷されます。
A22: (7) | B22: 技術提案や施工上の留意点の様式に図や表など貼り付けないで下さい。図や表を用いる場合は、必ず別ファイル（PDFファイル）で提出してください。
A24: (8) | B24: 「技術提案」、「施工上の留意点」様式は、提案記入欄より上部を印刷タイトルの設定で固定していますので、提出資料が複数ページに跨る場合、固定部分は全てのページで自動的に表示されます。
A27: ○数式に不具合があった場合の対応について
A28: (1) | B28: 本エクセル形式に設定されている数式に不具合があり、正しく表示されない場合がありましたら、直接セルに正しいものを記入してください。
A31: ○技術資料の審査について
A32: (1) | B32: 発注者は、技術資料【PDF形式】に記載された内容により審査しますので、提出書類に記載漏れ、添付漏れ、文字切れ等の不備がないか必ず確認してください。
A35: ○本エクセル形式のシート名着色の区分について
A36: シート名着色の区分は次のとおりです
B37: ：発注者専用シート（企業は入力厳禁です！！）
B38: ：企業専用シート（企業入力シート（申請企業の基本情報を入力）、質問書など）
B40: ：技術資料様式の表紙シート、ファイル使用上の注意事項シート
B41: ：「技術提案」、「施工上の留意点」様式シート
B42: ：「企業の評価」様式シート
B43: ：「配置予定技術者」様式シート
B44: ：「地域貢献・その他の評価」様式シート
B45: ：「地理的条件の評価」様式シート
A47: ○技術資料様式の凡例について
A48: 技術資料様式のセルの着色の凡例は次の通りです
A49: 着色セルの凡例
A50: （企業）
B51: ：「企業入力シート」で入力した情報が表示される箇所（数式でリンク有）
B52: ：セルに直接入力が必要な箇所
A54: （発注者）
B55: ：「発注者入力シート」や他のシートで入力した情報が表示される箇所（数式でリンク有）
B56: ：セルに直接入力が必要な箇所
A58: （企業・発注者共通事項）
B59: ：同じシート内で入力した情報が表示される箇所（数式でリンク有）

Sheet 発注者設定内容確認シート
A1: 入札公告日： | D1: =発注者入力シート!C7 -> 46295
A2: 工事名： | D2: =発注者入力シート!C10 -> 蛇喰川 防安交付金（総流防）工事 第２期
A3: 不要な項目は、非表示にしてください（行の削除厳禁）
A4: 発注者入力シートで選択していない項目は、エラー表示になります
A5: 評価項目番号 | D5: 区分 | E5: 評価項目 | F5: 評価対象事項 | G5: 評価基準（様式記載内容）
A6: =発注者入力シート!F20 -> （１） | B6: - | C6: =発注者入力シート!G20 -> ① | D6: 技術提案 | E6: =IF(技術提案①!B5="","",技術提案①!B5) -> コンクリートの品質・耐久性の向上
A7: =発注者入力シート!F21 -> （１） | B7: - | C7: =発注者入力シート!G21 -> ② | E7: =IF(技術提案②!B5="","",技術提案②!B5) -> 地盤改良の施工管理
A8: =発注者入力シート!F22 -> （１） | B8: - | C8: =発注者入力シート!G22 -> ③ | E8: =IF(技術提案③!B5="","",技術提案③!B5) -> 地域住民等とのコミュニケーション
A9: =発注者入力シート!F23 -> 0 | B9: - | C9: =発注者入力シート!G23 -> 0 | E9: =IF(#REF!="","",#REF!) -> #REF!
A10: =発注者入力シート!F24 -> 0 | B10: - | C10: =発注者入力シート!G24 -> 0 | E10: =IF(#REF!="","",#REF!) -> #REF!
A11: =発注者入力シート!F25 -> 0 | B11: - | C11: =発注者入力シート!G25 -> 0 | E11: =IF(#REF!="","",#REF!) -> #REF!
A12: =発注者入力シート!F26 -> 0 | B12: - | C12: =発注者入力シート!G26 -> 0 | E12: =IF(#REF!="","",#REF!) -> #REF!
A13: =INDEX(発注者入力シート!$B$27:$G$31,MATCH(発注者入力シート!L6,発注者入力シート!$C$27:$C$31,0),5) -> （２） | B13: - | C13: =INDEX(発注者入力シート!$B$27:$G$31,MATCH(発注者入力シート!L6,発注者入力シート!$C$27:$C$31,0),6) -> ① | D13: 企業 | E13: 工事成績(3年用) | F13: 完成年度 | G13: =IF('企業成績評定点(3年用)'!G6="","",'企業成績評定点(3年用)'!G6) -> 令和５年度から令和７年度（完成及び引き渡しが完了）
A14: =A13 -> （２） | B14: - | C14: =C13 -> ① | F14: 発注機関 | G14: =IF('企業成績評定点(3年用)'!G7="","",'企業成績評定点(3年用)'!G7) -> 島根県（総務部、農林水産部、土木部）
A15: =A13 -> （２） | B15: - | C15: =C13 -> ① | F15: 工事種別 | G15: =IF('企業成績評定点(3年用)'!G8="","",'企業成績評定点(3年用)'!G8) -> 一般土木工事、維持修繕工事
A16: =A13 -> （２） | B16: - | C16: =C13 -> ① | F16: 建設工事の種類 | G16: =IF('企業成績評定点(3年用)'!G9="","",'企業成績評定点(3年用)'!G9) -> 土木一式工事、とび・土工・ｺﾝｸﾘｰﾄ工事、しゅんせつ工事
A17: =INDEX(発注者入力シート!$B$27:$G$31,MATCH(発注者入力シート!L6,発注者入力シート!$C$27:$C$31,0),5) -> （２） | B17: - | C17: =INDEX(発注者入力シート!$B$27:$G$31,MATCH(発注者入力シート!L6,発注者入力シート!$C$27:$C$31,0),6) -> ① | D17: 企業 | E17: 工事成績(5年用) | F17: 完成年度 | G17: =IF(#REF!="","",#REF!) -> #REF!
A18: =A17 -> （２） | B18: - | C18: =C17 -> ① | F18: 発注機関 | G18: =IF(#REF!="","",#REF!) -> #REF!
A19: =A17 -> （２） | B19: - | C19: =C17 -> ① | F19: 工事種別 | G19: =IF(#REF!="","",#REF!) -> #REF!
A20: =A17 -> （２） | B20: - | C20: =C17 -> ① | F20: 建設工事の種類 | G20: =IF(#REF!="","",#REF!) -> #REF!
A21: =INDEX(発注者入力シート!$B$27:$G$31,MATCH(発注者入力シート!L7,発注者入力シート!$C$27:$C$31,0),5) -> （２） | B21: - | C21: =INDEX(発注者入力シート!$B$27:$G$31,MATCH(発注者入力シート!L7,発注者入力シート!$C$27:$C$31,0),6) -> ② | D21: 企業 | E21: =発注者入力シート!L7 -> 同種工事実績 | F21: 対象年度・機関等 | G21: =IF(同種工事施工実績!F6="","",同種工事施工実績!F6) -> 平成２８年度から入札公告日前日までに完成及び引き渡しが完了した島根県発注工事
A22: =A21 -> （２） | B22: - | C22: =C21 -> ② | F22: 同種工事 | G22: =IF(同種工事施工実績!F10="","",同種工事施工実績!F10) -> １契約で１構造物種別あたり単体で最終数量２７０㎥以上のコンクリートを打設した現場打ＲＣ構造物を含む完成及び引き渡しが完了した工事
A23: =A22 -> （２） | B23: - | C23: =C22 -> ② | F23: 工事種別 | G23: =IF(同種工事施工実績!F8="","",同種工事施工実績!F8) -> 一般土木工事、維持修繕工事
A24: =A23 -> （２） | B24: - | C24: =C23 -> ② | F24: 建設工事の種類 | G24: =IF(同種工事施工実績!F9="","",同種工事施工実績!F9) -> 土木一式工事、とび・土工・ｺﾝｸﾘｰﾄ工事、しゅんせつ工事
A25: =INDEX(発注者入力シート!$B$27:$G$31,MATCH(発注者入力シート!L8,発注者入力シート!$C$27:$C$31,0),5) -> （２） | B25: - | C25: =INDEX(発注者入力シート!$B$27:$G$31,MATCH(発注者入力シート!L8,発注者入力シート!$C$27:$C$31,0),6) -> ③ | D25: 企業 | E25: =発注者入力シート!L8 -> 優良工事表彰 | F25: 対象年度・機関等 | G25: =IF(優良工事表彰!E6="","",優良工事表彰!E6) -> 島根県内の公共事業において、令和４年度から令和８年度に、島根県及び中国地方整備局発注工事で受けた優良工事表彰（優良工事施工団体表彰）
A26: =A25 -> （２） | B26: =B25 -> - | C26: =C25 -> ③ | F26: 工事種別 | G26: =IF(優良工事表彰!E9="","",優良工事表彰!E9) -> 一般土木工事、維持修繕工事
A27: =A26 -> （２） | B27: =B26 -> - | C27: =C26 -> ③ | F27: 建設工事の種類 | G27: =IF(優良工事表彰!E10="","",優良工事表彰!E10) -> 土木一式工事、とび・土工・ｺﾝｸﾘｰﾄ工事、しゅんせつ工事
A28: =INDEX(発注者入力シート!$B$27:$G$31,MATCH(発注者入力シート!L12,発注者入力シート!$C$27:$C$31,0),5) -> （２） | B28: - | C28: =INDEX(発注者入力シート!$B$27:$G$31,MATCH(発注者入力シート!L12,発注者入力シート!$C$27:$C$31,0),6) -> ④ | D28: 企業 | E28: 登録基幹技能者 | F28: 対象 | G28: =IF(登録基幹技能者!B9="","",登録基幹技能者!B9) -> 登録コンクリート圧送基幹技能者の現場への配置者数
A29: =INDEX(発注者入力シート!$B$32:$G$35,MATCH(発注者入力シート!M9,発注者入力シート!$C$32:$C$35,0),5) -> （３） | B29: - | C29: =INDEX(発注者入力シート!$B$32:$G$35,MATCH(発注者入力シート!M9,発注者入力シート!$C$32:$C$35,0),6) -> ① | D29: 配置予定技術者 | E29: 継続学習
A30: =INDEX(発注者入力シート!$B$32:$G$35,MATCH(発注者入力シート!M6,発注者入力シート!$C$32:$C$35,0),5) -> #N/A | B30: - | C30: =INDEX(発注者入力シート!$B$32:$G$35,MATCH(発注者入力シート!M6,発注者入力シート!$C$32:$C$35,0),6) -> #N/A | D30: 配置予定技術者 | E30: 資格 | F30: 対象資格 | G30: =IF(#REF!="","",#REF!) -> #REF!
A31: =INDEX(発注者入力シート!$B$32:$G$35,MATCH(発注者入力シート!M7,発注者入力シート!$C$32:$C$35,0),5) -> （３） | B31: - | C31: =INDEX(発注者入力シート!$B$32:$G$35,MATCH(発注者入力シート!M7,発注者入力シート!$C$32:$C$35,0),6) -> ② | D31: 配置予定技術者 | E31: 施工経験 | F31: 対象年度・機関等 | G31: =IF(同種工事施工経験!F6="","",同種工事施工経験!F6) -> 平成２８年度から入札公告日前日までに完成及び引き渡しが完了した島根県発注工事
A32: =A31 -> （３） | B32: - | C32: =C31 -> ② | F32: 同種工事 | G32: =IF(同種工事施工経験!F8="","",同種工事施工経験!F8) -> １契約で１構造物種別あたり単体で最終数量１３０㎥以上のコンクリートを打設した現場打ＲＣ構造物を含む完成及び引き渡しが完了した工事
A33: =A32 -> （３） | B33: - | C33: =C32 -> ② | F33: 工事種別 | G33: =IF(同種工事施工経験!F11="","",同種工事施工経験!F11) -> 一般土木工事、維持修繕工事
A34: =A33 -> （３） | B34: - | C34: =C33 -> ② | F34: 建設工事の種類 | G34: =IF(同種工事施工経験!F12="","",同種工事施工経験!F12) -> 土木一式工事、とび・土工・ｺﾝｸﾘｰﾄ工事、しゅんせつ工事
A35: =INDEX(発注者入力シート!$B$32:$G$35,MATCH(発注者入力シート!M8,発注者入力シート!$C$32:$C$35,0),5) -> （３） | B35: - | C35: =INDEX(発注者入力シート!$B$32:$G$35,MATCH(発注者入力シート!M8,発注者入力シート!$C$32:$C$35,0),6) -> ③ | D35: 配置予定技術者 | E35: 優秀建設技術者表彰 | F35: 対象年度・機関等 | G35: =IF(優秀技術者表彰!F6="","",優秀技術者表彰!F6) -> 島根県内の公共事業において、令和４年度から令和８年度に、島根県及び中国地方整備局発注工事で主任（監理）技術者または現場代理人として受けた優秀建設技術者表彰
A36: =A35 -> （３） | B36: =B35 -> - | C36: =C35 -> ③ | F36: 工事種別 | G36: =IF(優秀技術者表彰!F9="","",優秀技術者表彰!F9) -> 一般土木工事、維持修繕工事
A37: =A36 -> （３） | B37: =B36 -> - | C37: =C36 -> ③ | F37: 建設工事の種類 | G37: =IF(優秀技術者表彰!F10="","",優秀技術者表彰!F10) -> 土木一式工事、とび・土工・ｺﾝｸﾘｰﾄ工事、しゅんせつ工事
A38: =INDEX(発注者入力シート!$B$32:$G$35,MATCH(発注者入力シート!M10,発注者入力シート!$C$32:$C$35,0),5) -> #N/A | B38: - | C38: =INDEX(発注者入力シート!$B$32:$G$35,MATCH(発注者入力シート!M10,発注者入力シート!$C$32:$C$35,0),6) -> #N/A | D38: 配置予定技術者 | E38: 配置予定技術者の工事成績評定点 | F38: 完成年度 | G38: =IF(#REF!="","",#REF!) -> #REF!
A39: =A38 -> #N/A | B39: - | C39: =C38 -> #N/A | F39: 発注機関 | G39: =IF(#REF!="","",#REF!) -> #REF!
A40: =A38 -> #N/A | B40: - | C40: =C38 -> #N/A | F40: 工事種別 | G40: =IF(#REF!="","",#REF!) -> #REF!
A41: =A38 -> #N/A | B41: - | C41: =C38 -> #N/A | F41: 建設工事の種類 | G41: =IF(#REF!="","",#REF!) -> #REF!
A42: =INDEX(発注者入力シート!$B$36:$G$45,MATCH(発注者入力シート!N6,発注者入力シート!$C$36:$C$45,0),5) -> #N/A | B42: - | C42: =INDEX(発注者入力シート!$B$36:$G$45,MATCH(発注者入力シート!N6,発注者入力シート!$C$36:$C$45,0),6) -> #N/A | D42: 地域貢献・その他 | E42: 防災協定 | F42: 対象 | G42: =IF(#REF!=1,#REF!,"－") -> #REF!
A43: =INDEX(発注者入力シート!$B$36:$G$45,MATCH(発注者入力シート!N7,発注者入力シート!$C$36:$C$45,0),5) -> （４） | B43: - | C43: =INDEX(発注者入力シート!$B$36:$G$45,MATCH(発注者入力シート!N7,発注者入力シート!$C$36:$C$45,0),6) -> ① | D43: 地域貢献・その他 | E43: BCP&防災協定 | F43: 対象 | G43: =IF('BCP&防災協定・家畜伝染病防疫協定'!T15=1,'BCP&防災協定・家畜伝染病防疫協定'!B10,"－") -> 入札公告日前日時点（令和8年9月29日時点）での事業継続計画（BCP）の認定状況
A44: =A43 -> （４） | B44: - | C44: =C43 -> ① | F44: 対象 | G44: =IF('BCP&防災協定・家畜伝染病防疫協定'!T15=1,'BCP&防災協定・家畜伝染病防疫協定'!B18,"－") -> 0
A45: =INDEX(発注者入力シート!$B$36:$G$45,MATCH(発注者入力シート!N8,発注者入力シート!$C$36:$C$45,0),5) -> #N/A | B45: - | C45: =INDEX(発注者入力シート!$B$36:$G$45,MATCH(発注者入力シート!N8,発注者入力シート!$C$36:$C$45,0),6) -> #N/A | D45: 地域貢献・その他 | E45: 家畜伝染病防疫協定 | F45: 対象 | G45: =IF(#REF!=2,#REF!,"－") -> #REF!
A46: =INDEX(発注者入力シート!$B$36:$G$45,MATCH(発注者入力シート!N9,発注者入力シート!$C$36:$C$45,0),5) -> #N/A | B46: - | C46: =INDEX(発注者入力シート!$B$36:$G$45,MATCH(発注者入力シート!N9,発注者入力シート!$C$36:$C$45,0),6) -> #N/A | D46: 地域貢献・その他 | E46: BCP&家畜伝染防疫病協定 | F46: 対象 | G46: =IF('BCP&防災協定・家畜伝染病防疫協定'!T15=2,'BCP&防災協定・家畜伝染病防疫協定'!B10,"－") -> －
A47: =A46 -> #N/A | B47: - | C47: =C46 -> #N/A | F47: 対象 | G47: =IF('BCP&防災協定・家畜伝染病防疫協定'!T15=2,'BCP&防災協定・家畜伝染病防疫協定'!B18,"－") -> －
A48: =INDEX(発注者入力シート!$B$36:$G$45,MATCH(発注者入力シート!N10,発注者入力シート!$C$36:$C$45,0),5) -> （４） | B48: - | C48: =INDEX(発注者入力シート!$B$36:$G$45,MATCH(発注者入力シート!N10,発注者入力シート!$C$36:$C$45,0),6) -> ② | D48: 地域貢献・その他 | E48: ボランティア | F48: 対象 | G48: =IF(ボランティア!B6="","",ボランティア!B6) -> 令和６年度及び令和７年度における島根県内で実施されたボランティア活動又はハートフルしまねへの参加実績
A49: =INDEX(発注者入力シート!$B$36:$G$45,MATCH(発注者入力シート!N11,発注者入力シート!$C$36:$C$45,0),5) -> （４） | B49: - | C49: =INDEX(発注者入力シート!$B$36:$G$45,MATCH(発注者入力シート!N11,発注者入力シート!$C$36:$C$45,0),6) -> ③ | D49: 地域貢献・その他 | E49: 維持管理業務 | F49: 対象 | G49: =IF(維持管理業務!B7="","",維持管理業務!B7) -> 令和６年度及び令和７年度の県管理公共土木施設に関する維持管理業務または海岸漂着物の回収業務の契約実績
A50: =INDEX(発注者入力シート!$B$36:$G$45,MATCH(発注者入力シート!N12,発注者入力シート!$C$36:$C$45,0),5) -> （４） | B50: - | C50: =INDEX(発注者入力シート!$B$36:$G$45,MATCH(発注者入力シート!N12,発注者入力シート!$C$36:$C$45,0),6) -> ④ | D50: 地域貢献・その他 | E50: 除雪業務 | F50: 対象 | G50: =IF(除雪業務!B8="","",除雪業務!B8) -> 令和６年度及び令和７年度の県管理道路・空港を含む除雪業務の契約実績
A51: =INDEX(発注者入力シート!$B$36:$G$45,MATCH(発注者入力シート!N13,発注者入力シート!$C$36:$C$45,0),5) -> #N/A | B51: - | C51: =INDEX(発注者入力シート!$B$36:$G$45,MATCH(発注者入力シート!N13,発注者入力シート!$C$36:$C$45,0),6) -> #N/A | D51: 地域貢献・その他 | E51: 労働福祉関連 | F51: 障がい者雇用
A52: =INDEX(発注者入力シート!$B$36:$G$45,MATCH(発注者入力シート!N14,発注者入力シート!$C$36:$C$45,0),5) -> #N/A | B52: - | C52: =INDEX(発注者入力シート!$B$36:$G$45,MATCH(発注者入力シート!N14,発注者入力シート!$C$36:$C$45,0),6) -> #N/A | F52: 育児・介護休業制度
A53: =INDEX(発注者入力シート!$B$36:$G$45,MATCH(発注者入力シート!N17,発注者入力シート!$C$36:$C$45,0),5) -> #N/A | B53: - | C53: =INDEX(発注者入力シート!$B$36:$G$45,MATCH(発注者入力シート!N17,発注者入力シート!$C$36:$C$45,0),6) -> #N/A | D53: 地域貢献・その他 | E53: 若手・中堅技術者配置 | F53: 対象 | G53: =IF(#REF!="","",#REF!) -> #REF!
A54: =INDEX(発注者入力シート!$B$36:$G$45,MATCH(発注者入力シート!N18,発注者入力シート!$C$36:$C$45,0),5) -> #N/A | B54: - | C54: =INDEX(発注者入力シート!$B$36:$G$45,MATCH(発注者入力シート!N18,発注者入力シート!$C$36:$C$45,0),6) -> #N/A | D54: 地域貢献・その他 | E54: 若手技術者・若手従業員の新規雇用 | F54: 対象 | G54: =IF(#REF!="","",#REF!) -> #REF!
A55: =INDEX(発注者入力シート!$B$36:$G$45,MATCH(発注者入力シート!N19,発注者入力シート!$C$36:$C$45,0),5) -> #N/A | B55: - | C55: =INDEX(発注者入力シート!$B$36:$G$45,MATCH(発注者入力シート!N19,発注者入力シート!$C$36:$C$45,0),6) -> #N/A | D55: 地域貢献・その他 | E55: 建設機械保有状況 | F55: 対象 | G55: =IF(#REF!="","",#REF!) -> #REF!
A56: =INDEX(発注者入力シート!$B$36:$G$45,MATCH(発注者入力シート!N20,発注者入力シート!$C$36:$C$45,0),5) -> #N/A | B56: - | C56: =INDEX(発注者入力シート!$B$36:$G$45,MATCH(発注者入力シート!N20,発注者入力シート!$C$36:$C$45,0),6) -> #N/A | D56: 地域貢献・その他 | E56: 消防団協力事業所
A57: =INDEX(発注者入力シート!$B$36:$G$45,MATCH(発注者入力シート!N21,発注者入力シート!$C$36:$C$45,0),5) -> （４） | B57: - | C57: =INDEX(発注者入力シート!$B$36:$G$45,MATCH(発注者入力シート!N21,発注者入力シート!$C$36:$C$45,0),6) -> ⑤ | D57: 地域貢献・その他 | E57: CCUSの活用 | F57: 対象 | G57: =IF('建設キャリアアップシステム(CCUS)'!B8="","",'建設キャリアアップシステム(CCUS)'!B8) -> 当該工事における建設キャリアアップシステム（CCUS）の活用することの確約
A58: =INDEX(発注者入力シート!$B$36:$G$45,MATCH(発注者入力シート!N22,発注者入力シート!$C$36:$C$45,0),5) -> #N/A | B58: - | C58: =INDEX(発注者入力シート!$B$36:$G$45,MATCH(発注者入力シート!N22,発注者入力シート!$C$36:$C$45,0),6) -> #N/A | D58: 地域貢献・その他 | E58: ＩＣＴ活用工事施工実績 | F58: 対象 | G58: =IF(#REF!="","",#REF!) -> #REF!
A59: =A58 -> #N/A | B59: - | C59: =C58 -> #N/A | F59: 対象ＩＣＴ工種 | G59: =IF(#REF!="","",#REF!) -> #REF!
A60: =INDEX(発注者入力シート!$B$36:$G$45,MATCH(発注者入力シート!N23,発注者入力シート!$C$36:$C$45,0),5) -> #N/A | B60: - | C60: =INDEX(発注者入力シート!$B$36:$G$45,MATCH(発注者入力シート!N23,発注者入力シート!$C$36:$C$45,0),6) -> #N/A | D60: 地域貢献・その他 | E60: 海上援助活動の実績 | F60: 対象 | G60: =IF(#REF!="","",#REF!) -> #REF!
A61: =INDEX(発注者入力シート!$B$46:$G$47,MATCH(発注者入力シート!O6,発注者入力シート!$C$46:$C$47,0),5) -> #N/A | B61: - | C61: =INDEX(発注者入力シート!$B$46:$G$47,MATCH(発注者入力シート!O6,発注者入力シート!$C$46:$C$47,0),6) -> #N/A | D61: 地理的条件 | E61: 近隣地域での施工実績 | F61: 対象年度・機関等 | G61: =IF(#REF!="","",#REF!) -> #REF!
A62: =A61 -> #N/A | B62: - | C62: =C61 -> #N/A | F62: 対象工事 | G62: =IF(#REF!="","",#REF!) -> #REF!
A63: =A62 -> #N/A | B63: - | C63: =C62 -> #N/A | F63: 工事種別 | G63: =IF(#REF!="","",#REF!) -> #REF!
A64: =A63 -> #N/A | B64: - | C64: =C63 -> #N/A | F64: 建設工事の種類 | G64: =IF(#REF!="","",#REF!) -> #REF!
A65: =INDEX(発注者入力シート!$B$46:$G$47,MATCH(発注者入力シート!O7,発注者入力シート!$C$46:$C$47,0),5) -> #N/A | B65: - | C65: =INDEX(発注者入力シート!$B$46:$G$47,MATCH(発注者入力シート!O7,発注者入力シート!$C$46:$C$47,0),6) -> #N/A | D65: 地理的条件 | E65: 会社所在地 | F65: 対象 | G65: =IF(#REF!="","",#REF!) -> #REF!
A66: =INDEX(発注者入力シート!$B$46:$G$47,MATCH(発注者入力シート!O8,発注者入力シート!$C$46:$C$47,0),5) -> #N/A | B66: - | C66: =INDEX(発注者入力シート!$B$46:$G$47,MATCH(発注者入力シート!O8,発注者入力シート!$C$46:$C$47,0),6) -> #N/A | D66: 地理的条件 | E66: 工場・会社所在地 | F66: 対象 | G66: =IF(#REF!="","",#REF!) -> #REF!
A67: =INDEX(発注者入力シート!$B$46:$G$47,MATCH(発注者入力シート!O9,発注者入力シート!$C$46:$C$47,0),5) -> #N/A | B67: - | C67: =INDEX(発注者入力シート!$B$46:$G$47,MATCH(発注者入力シート!O9,発注者入力シート!$C$46:$C$47,0),6) -> #N/A | D67: 地理的条件 | E67: サポート拠点 | F67: 対象 | G67: =IF(#REF!="","",#REF!) -> #REF!

Sheet 発注者審査作業用シート (技術提案)
A1: このシートは、「技術審査用ファイル」の「技術提案①～⑥」にコピー作業を行うためのものです
B2: 技術提案
B3: 技術提案① | C3: 技術提案② | D3: 技術提案③ | E3: 技術提案④ | F3: 技術提案⑤ | G3: 技術提案b① | H3: 技術提案b②
B4: =IF(技術提案①!B5="","",技術提案①!B5) -> コンクリートの品質・耐久性の向上 | C4: =IF(技術提案②!B5="","",技術提案②!B5) -> 地盤改良の施工管理 | D4: =IF(技術提案③!B5="","",技術提案③!B5) -> 地域住民等とのコミュニケーション | E4: =IF(#REF!="","",#REF!) -> #REF! | F4: =IF(#REF!="","",#REF!) -> #REF! | G4: =IF(#REF!="","",#REF!) -> #REF! | H4: =IF(#REF!="","",#REF!) -> #REF!
B8: =IF(技術提案①!A20="","",技術提案①!A20) -> ① ◯◯◯◯◯ （現場特性・概要） （時期、期間） （位置、範囲） （内容《誰が･何を･どうする》、数量、材料、機械等） （目的、効果、優位性） （効果の技術的根拠） （その他） | C8: =IF(技術提案②!A20="","",技術提案②!A20) -> ① ◯◯◯◯◯ （現場特性・概要） （時期、期間） （位置、範囲） （内容《誰が･何を･どうする》、数量、材料、機械等） （目的、効果、優位性） （効果の技術的根拠） （その他） | D8: =IF(技術提案③!A20="","",技術提案③!A20) -> ① ◯◯◯◯◯ （現場特性・概要） （時期、期間） （位置、範囲） （内容《誰が･何を･どうする》、数量、材料、機械等） （目的、効果、優位性） （効果の技術的根拠） （その他） | E8: =IF(#REF!="","",#REF!) -> #REF! | F8: =IF(#REF!="","",#REF!) -> #REF! | G8: =IF(#REF!="","",#REF!) -> #REF! | H8: =IF(#REF!="","",#REF!) -> #REF!
B9: =IF(技術提案①!A27="","",技術提案①!A27) -> ② ◯◯◯◯◯ （現場特性・概要） （時期、期間） （位置、範囲） （内容《誰が･何を･どうする》、数量、材料、機械等） （目的、効果、優位性） （効果の技術的根拠） （その他） | C9: =IF(技術提案②!A27="","",技術提案②!A27) -> ② ◯◯◯◯◯ （現場特性・概要） （時期、期間） （位置、範囲） （内容《誰が･何を･どうする》、数量、材料、機械等） （目的、効果、優位性） （効果の技術的根拠） （その他） | D9: =IF(技術提案③!A27="","",技術提案③!A27) -> ② ◯◯◯◯◯ （現場特性・概要） （時期、期間） （位置、範囲） （内容《誰が･何を･どうする》、数量、材料、機械等） （目的、効果、優位性） （効果の技術的根拠） （その他） | E9: =IF(#REF!="","",#REF!) -> #REF! | F9: =IF(#REF!="","",#REF!) -> #REF! | G9: =IF(#REF!="","",#REF!) -> #REF! | H9: =IF(#REF!="","",#REF!) -> #REF!
B10: =IF(技術提案①!A34="","",技術提案①!A34) -> ③ ◯◯◯◯◯ （現場特性・概要） （時期、期間） （位置、範囲） （内容《誰が･何を･どうする》、数量、材料、機械等） （目的、効果、優位性） （効果の技術的根拠） （その他） | C10: =IF(技術提案②!A34="","",技術提案②!A34) -> ③ ◯◯◯◯◯ （現場特性・概要） （時期、期間） （位置、範囲） （内容《誰が･何を･どうする》、数量、材料、機械等） （目的、効果、優位性） （効果の技術的根拠） （その他） | D10: =IF(技術提案③!A34="","",技術提案③!A34) -> ③ ◯◯◯◯◯ （現場特性・概要） （時期、期間） （位置、範囲） （内容《誰が･何を･どうする》、数量、材料、機械等） （目的、効果、優位性） （効果の技術的根拠） （その他） | E10: =IF(#REF!="","",#REF!) -> #REF! | F10: =IF(#REF!="","",#REF!) -> #REF! | G10: =IF(#REF!="","",#REF!) -> #REF! | H10: =IF(#REF!="","",#REF!) -> #REF!
G11: =IF(#REF!="","",#REF!) -> #REF! | H11: =IF(#REF!="","",#REF!) -> #REF!
G12: =IF(#REF!="","",#REF!) -> #REF! | H12: =IF(#REF!="","",#REF!) -> #REF!
G13: =IF(#REF!="","",#REF!) -> #REF! | H13: =IF(#REF!="","",#REF!) -> #REF!
G14: =IF(#REF!="","",#REF!) -> #REF! | H14: =IF(#REF!="","",#REF!) -> #REF!
G15: =IF(#REF!="","",#REF!) -> #REF! | H15: =IF(#REF!="","",#REF!) -> #REF!
G16: =IF(#REF!="","",#REF!) -> #REF! | H16: =IF(#REF!="","",#REF!) -> #REF!

Sheet 発注者審査作業用シート（提案以外）
A1: このシートは、「技術審査用ファイル」の「作業用シート」に一括コピー作業を行うためのものです
A2: ＜シートの説明＞
B3: ・「技術審査用ファイル」の「作業用シート」へ一括コピーするため、「コピー専用表」をこのシートに設定しています。
B4: ・コピーする範囲は、「コピー専用表」の薄オレンジ部分（評価項目：１９～２５行）と白色部分（企業申請内容：２６行～３３行）です。
B5: ・文字切れやフォントサイズの修正は、「技術審査用ファイル」で行いますので、このシートでは作業不要です。
B6: ・「コピー専用表」は、「技術審査用ファイル」の「技術審査用シート」で見えやすいように概ね書式調整しています。「技術審査用シート」で見えにくいときのみ、コピー専用表の書式を修正してください。
A7: ＜作業手順＞・・・・以下の作業は、必ず別ファイルとして公告用ファイルを作成し、公告用ファイルで作業してください（１回シートや列を削除すると元の状態に戻せなくなります）。
A8: 準備作業： | B8: 不要な評価項目の列全体をこのシートから削除。不要な様式も削除してください。
B9: 評価項目の列全体を削除する際、コピー先の配列（「技術審査用ファイル」）に合わせておく必要があります（「技術審査用ファイル」の自動集計に支障が生じるため）。
B10: 予備欄等を活用して配列を合わせてください。
B11: 「技術審査用ファイル」の固定配列（※１項目３列で設定してあります）
B12: 企業：４項目、配置予定技術者①：４項目、配置予定技術者②：４項目、配置予定技術者③：４項目、地域貢献・その他：７項目、地理的条件：２項目
A13: 手順①： | B13: 「コピー専用表」の薄オレンジ部分全体を指定しコピー後、「技術審査用ファイル」の「作業用シート」の「貼り付け箇所A」に、貼り付けオプションの「値」で貼り付け。
A14: 手順②： | B14: 手順①の後、同じ場所（貼り付け箇所A）に貼り付けオプションの「書式設定」で貼り付けると、コピー専用行で設定された書式でコピー可能。
A15: 手順③： | B15: 手順①、手順②の方法により、「コピー専用表」の白色部分全体を「技術審査用ファイル」の「作業用シート」の「貼り付け箇所B」に貼り付け。
A17: 以下、審査用ファイルの「作業用」シートへの「コピー専用表」 | AG17: 審査用ファイルコピー先の列数と合わせるための列 | AY17: 審査用ファイルコピー先の列数と合わせるための列 | BQ17: 審査用ファイルコピー先の列数と合わせるための列 | DG17: 審査用ファイルコピー先の列数と合わせるための列 | DJ17: 審査用ファイルコピー先の列数と合わせるための欄 | DM17: 審査用ファイルコピー先の列数と合わせるための欄 | DP17: 審査用ファイルコピー先の列数と合わせるための欄 | EH17: 審査用ファイルコピー先の列数と合わせるための列
B18: 行番号 | C18: =CONCATENATE("様式-",INDEX(発注者入力シート!$B$27:$G$31,MATCH(発注者入力シート!L6,発注者入力シート!$C$27:$C$31,0),4)) -> 様式-５ | F18: =CONCATENATE("様式-",INDEX(発注者入力シート!$B$27:$G$31,MATCH(発注者入力シート!L6,発注者入力シート!$C$27:$C$31,0),4)) -> 様式-５ | I18: =CONCATENATE("様式-",INDEX(発注者入力シート!$B$27:$G$31,MATCH(発注者入力シート!L7,発注者入力シート!$C$27:$C$31,0),4)) -> 様式-６ | L18: =CONCATENATE("様式-",INDEX(発注者入力シート!$B$27:$G$31,MATCH(発注者入力シート!L8,発注者入力シート!$C$27:$C$31,0),4)) -> 様式-７ | O18: =CONCATENATE("様式-",INDEX(発注者入力シート!$B$27:$G$31,MATCH(発注者入力シート!L13,発注者入力シート!$C$27:$C$31,0),4)) -> #N/A | R18: =CONCATENATE("様式-",INDEX(発注者入力シート!$B$32:$G$35,MATCH(発注者入力シート!M9,発注者入力シート!$C$32:$C$35,0),4)) -> 様式-９ | U18: =CONCATENATE("様式-",INDEX(発注者入力シート!$B$32:$G$35,MATCH(発注者入力シート!M6,発注者入力シート!$C$32:$C$35,0),4)) -> #N/A | X18: =CONCATENATE("様式-",INDEX(発注者入力シート!$B$32:$G$35,MATCH(発注者入力シート!M7,発注者入力シート!$C$32:$C$35,0),4)) -> 様式-１０ | AA18: =CONCATENATE("様式-",INDEX(発注者入力シート!$B$32:$G$35,MATCH(発注者入力シート!M8,発注者入力シート!$C$32:$C$35,0),4)) -> 様式-１１ | AD18: =CONCATENATE("様式-",INDEX(発注者入力シート!$B$32:$G$35,MATCH(発注者入力シート!M10,発注者入力シート!$C$32:$C$35,0),4)) -> #N/A | AG18: =CONCATENATE("様式-",INDEX(発注者入力シート!$B$32:$G$35,MATCH(発注者入力シート!M12,発注者入力シート!$C$32:$C$35,0),4)) -> #N/A | AJ18: =CONCATENATE("様式-",INDEX(発注者入力シート!$B$32:$G$35,MATCH(発注者入力シート!M9,発注者入力シート!$C$32:$C$35,0),4)) -> 様式-９ | AM18: =CONCATENATE("様式-",INDEX(発注者入力シート!$B$32:$G$35,MATCH(発注者入力シート!M6,発注者入力シート!$C$32:$C$35,0),4)) -> #N/A | AP18: =CONCATENATE("様式-",INDEX(発注者入力シート!$B$32:$G$35,MATCH(発注者入力シート!M7,発注者入力シート!$C$32:$C$35,0),4)) -> 様式-１０ | AS18: =CONCATENATE("様式-",INDEX(発注者入力シート!$B$32:$G$35,MATCH(発注者入力シート!M8,発注者入力シート!$C$32:$C$35,0),4)) -> 様式-１１ | AV18: =CONCATENATE("様式-",INDEX(発注者入力シート!$B$32:$G$35,MATCH(発注者入力シート!M10,発注者入力シート!$C$32:$C$35,0),4)) -> #N/A | AY18: =CONCATENATE("様式-",INDEX(発注者入力シート!$B$32:$G$35,MATCH(発注者入力シート!M12,発注者入力シート!$C$32:$C$35,0),4)) -> #N/A | BB18: =CONCATENATE("様式-",INDEX(発注者入力シート!$B$32:$G$35,MATCH(発注者入力シート!M9,発注者入力シート!$C$32:$C$35,0),4)) -> 様式-９ | BE18: =CONCATENATE("様式-",INDEX(発注者入力シート!$B$32:$G$35,MATCH(発注者入力シート!M6,発注者入力シート!$C$32:$C$35,0),4)) -> #N/A | BH18: =CONCATENATE("様式-",INDEX(発注者入力シート!$B$32:$G$35,MATCH(発注者入力シート!M7,発注者入力シート!$C$32:$C$35,0),4)) -> 様式-１０ | BK18: =CONCATENATE("様式-",INDEX(発注者入力シート!$B$32:$G$35,MATCH(発注者入力シート!M8,発注者入力シート!$C$32:$C$35,0),4)) -> 様式-１１ | BN18: =CONCATENATE("様式-",INDEX(発注者入力シート!$B$32:$G$35,MATCH(発注者入力シート!M10,発注者入力シート!$C$32:$C$35,0),4)) -> #N/A | BQ18: =CONCATENATE("様式-",INDEX(発注者入力シート!$B$32:$G$35,MATCH(発注者入力シート!M12,発注者入力シート!$C$32:$C$35,0),4)) -> #N/A | BT18: {=CONCATENATE("様式-",INDEX(発注者入力シート!$B$36:$G$45,MATCH(TRUE,(発注者入力シート!$C$36:$C$45=発注者入力シート!N6)+(発注者入力シート!$C$36:$C$45=発注者入力シート!N8)>0,0),4))} -> #N/A | BW18: {=CONCATENATE("様式-",INDEX(発注者入力シート!$B$36:$G$45,MATCH(TRUE,(発注者入力シート!$C$36:$C$45=発注者入力シート!N7)+(発注者入力シート!$C$36:$C$45=発注者入力シート!N9)>0,0),4))} -> 様式-１２ | BZ18: =CONCATENATE("様式-",INDEX(発注者入力シート!$B$36:$G$45,MATCH(発注者入力シート!N10,発注者入力シート!$C$36:$C$45,0),4)) -> 様式-１３ | CC18: =CONCATENATE("様式-",INDEX(発注者入力シート!$B$36:$G$45,MATCH(発注者入力シート!N11,発注者入力シート!$C$36:$C$45,0),4)) -> 様式-１４ | CF18: =CONCATENATE("様式-",INDEX(発注者入力シート!$B$36:$G$45,MATCH(発注者入力シート!N12,発注者入力シート!$C$36:$C$45,0),4)) -> 様式-１５ | CI18: =CONCATENATE("様式-",INDEX(発注者入力シート!$B$36:$G$45,MATCH(発注者入力シート!N13,発注者入力シート!$C$36:$C$45,0),4),"など") -> #N/A | CL18: =CONCATENATE("様式-",INDEX(発注者入力シート!$B$36:$G$45,MATCH(発注者入力シート!N17,発注者入力シート!$C$36:$C$45,0),4)) -> #N/A | CO18: =CONCATENATE("様式-",INDEX(発注者入力シート!$B$36:$G$45,MATCH(発注者入力シート!N18,発注者入力シート!$C$36:$C$45,0),4)) -> #N/A | CR18: =CONCATENATE("様式-",INDEX(発注者入力シート!$B$36:$G$45,MATCH(発注者入力シート!N19,発注者入力シート!$C$36:$C$45,0),4)) -> #N/A | CU18: =CONCATENATE("様式-",INDEX(発注者入力シート!$B$36:$G$45,MATCH(発注者入力シート!N20,発注者入力シート!$C$36:$C$45,0),4)) -> #N/A | CX18: =CONCATENATE("様式-",INDEX(発注者入力シート!$B$36:$G$45,MATCH(発注者入力シート!N21,発注者入力シート!$C$36:$C$45,0),4)) -> 様式-１６ | DA18: =CONCATENATE("様式-",INDEX(発注者入力シート!$B$36:$G$45,MATCH(発注者入力シート!N22,発注者入力シート!$C$36:$C$45,0),4)) -> #N/A | DD18: =CONCATENATE("様式-",INDEX(発注者入力シート!$B$36:$G$45,MATCH(発注者入力シート!N23,発注者入力シート!$C$36:$C$45,0),4)) -> #N/A | DS18: =CONCATENATE("様式-",INDEX(発注者入力シート!$B$46:$G$47,MATCH(発注者入力シート!O6,発注者入力シート!$C$46:$C$47,0),4)) -> #N/A | DV18: =CONCATENATE("様式-",INDEX(発注者入力シート!$B$46:$G$47,MATCH(発注者入力シート!O7,発注者入力シート!$C$46:$C$47,0),4)) -> #N/A | DY18: =CONCATENATE("様式-",INDEX(発注者入力シート!$B$46:$G$47,MATCH(発注者入力シート!O8,発注者入力シート!$C$46:$C$47,0),4)) -> #N/A | EB18: =CONCATENATE("様式-",INDEX(発注者入力シート!$B$46:$G$47,MATCH(発注者入力シート!O9,発注者入力シート!$C$46:$C$47,0),4)) -> #N/A | EE18: =CONCATENATE("様式-",INDEX(発注者入力シート!$B$46:$G$47,MATCH(発注者入力シート!O11,発注者入力シート!$C$46:$C$47,0),4)) -> #N/A
A19: コピー専用行 | B19: a0 | C19: 企業 | F19: 企業 | I19: 企業 | L19: 企業 | O19: 企業 | R19: 配置予定技術者① | U19: 配置予定技術者① | X19: 配置予定技術者① | AA19: 配置予定技術者① | AD19: 配置予定技術者① | AG19: 配置予定技術者① | AJ19: 配置予定技術者② | AM19: 配置予定技術者② | AP19: 配置予定技術者② | AS19: 配置予定技術者② | AV19: 配置予定技術者② | AY19: 配置予定技術者② | BB19: 配置予定技術者③ | BE19: 配置予定技術者③ | BH19: 配置予定技術者③ | BK19: 配置予定技術者③ | BN19: 配置予定技術者③ | BQ19: 配置予定技術者③ | BT19: 地域貢献・その他 | BW19: 地域貢献・その他 | BZ19: 地域貢献・その他 | CC19: 地域貢献・その他 | CF19: 地域貢献・その他 | CI19: 地域貢献・その他 | CL19: 地域貢献・その他 | CO19: 地域貢献・その他 | CR19: 地域貢献・その他 | CU19: 地域貢献・その他 | CX19: 地域貢献・その他 | DA19: 地域貢献・その他 | DD19: 地域貢献・その他【水産】 | DG19: 地域貢献・その他 | DJ19: 地域貢献・その他 | DM19: 地域貢献・その他 | DP19: 地域貢献・その他 | DS19: 地理的条件 | DV19: 地理的条件 | DY19: 地理的条件 | EB19: 地理的条件 | EE19: 地理的条件 | EH19: 地理的条件
A20: コピー専用行 | B20: a1 | C20: 工事成績評定点 | F20: 工事成績評定点(5年間) | I20: 施工実績 | L20: 優良工事表彰 | O20: 登録基幹技能者 | R20: 継続学習 | U20: 資格 | X20: 施工経験 | AA20: 優秀建設技術者表彰 | AD20: 工事成績評定点 | AG20: 予備欄 | AJ20: 継続学習 | AM20: 資格 | AP20: 施工経験 | AS20: 優秀建設技術者表彰 | AV20: 工事成績評定点 | AY20: 予備欄 | BB20: 継続学習 | BE20: 資格 | BH20: 施工経験 | BK20: 優秀建設技術者表彰 | BN20: 工事成績評定点 | BQ20: 予備欄 | BT20: =BT38 -> #REF! | BW20: =BW38 -> BCP認定状況及び防災協定 | BZ20: ボランティア | CC20: 維持管理 | CF20: 除雪業務 | CI20: 労働福祉関連 | CL20: 若手・中堅技術者配置 | CO20: 若手技術者・従業員の新規雇用 | CR20: 建設機械保有状況 | CU20: 消防団協力事業所 | CX20: CCUSの活用 | DA20: ＩＣＴ施工実績 | DD20: 海上援助活動の実績 | DG20: 予備欄 | DJ20: 予備欄 | DM20: 予備欄 | DP20: 予備欄 | DS20: 近隣地域での施工実績 | DV20: 会社所在地 | DY20: 工場・会社所在地 | EB20: サポート拠点 | EE20: 予備欄１ | EH20: 予備欄２
A21: コピー専用行 | B21: a | C21: =C39 -> 完成年度 | D21: =D39 -> 令和５年度から令和７年度（完成及び引き渡しが完了） | E21: =E39 -> 0 | F21: =F39 -> 完成年度 | G21: =G39 -> #REF! | H21: =H39 -> 0 | I21: =I39 -> 対象期間 | J21: =J39 -> 平成２８年度から入札公告日前日までに完成及び引き渡しが完了した島根県発注工事 | L21: =L39 -> 対象年度・機関等 | M21: =M39 -> 島根県内の公共事業において、令和４年度から令和８年度に、島根県及び中国地方整備局発注工事で受けた優良工事表彰（優良工事施工団体表彰） | O21: =O39 -> 登録コンクリート圧送基幹技能者の現場への配置者数 | R21: =R39 -> 配置予定の主任（監理）技術者が保有するCPDSユニット | S21: =S39 -> 0 | T21: =T39 -> 0 | U21: =U39 -> 対象資格 | V21: =V39 -> #REF! | W21: =W39 -> 0 | X21: =X39 -> 対象年度・機関等 | Y21: =Y39 -> 平成２８年度から入札公告日前日までに完成及び引き渡しが完了した島根県発注工事 | AA21: =AA39 -> 対象年度・機関等 | AB21: =AB39 -> 島根県内の公共事業において、令和４年度から令和８年度に、島根県及び中国地方整備局発注工事で主任（監理）技術者または現場代理人として受けた優秀建設技術者表彰 | AD21: =AD39 -> 完成年度 | AE21: =AE39 -> #REF! | AF21: =AF39 -> 0 | AJ21: =AJ39 -> 配置予定の主任（監理）技術者が保有するCPDSユニット | AK21: =AK39 -> 0 | AL21: =AL39 -> 0 | AM21: =AM39 -> 対象資格 | AN21: =AN39 -> #REF! | AO21: =AO39 -> 0 | AP21: =AP39 -> 対象年度・機関等 | AQ21: =AQ39 -> 平成２８年度から入札公告日前日までに完成及び引き渡しが完了した島根県発注工事 | AS21: =AS39 -> 対象年度・機関等 | AT21: =AT39 -> 島根県内の公共事業において、令和４年度から令和８年度に、島根県及び中国地方整備局発注工事で主任（監理）技術者または現場代理人として受けた優秀建設技術者表彰 | AV21: =AV39 -> 完成年度 | AW21: =AW39 -> #REF! | AX21: =AX39 -> 0 | BB21: =BB39 -> 配置予定の主任（監理）技術者が保有するCPDSユニット | BC21: =BC39 -> 0 | BD21: =BD39 -> 0 | BE21: =BE39 -> 対象資格 | BF21: =BF39 -> #REF! | BG21: =BG39 -> 0 | BH21: =BH39 -> 対象年度・機関等 | BI21: =BI39 -> 平成２８年度から入札公告日前日までに完成及び引き渡しが完了した島根県発注工事 | BK21: =BK39 -> 対象年度・機関等 | BL21: =BL39 -> 島根県内の公共事業において、令和４年度から令和８年度に、島根県及び中国地方整備局発注工事で主任（監理）技術者または現場代理人として受けた優秀建設技術者表彰 | BN21: =BN39 -> 完成年度 | BO21: =BO39 -> #REF! | BP21: =BP39 -> 0 | BT21: =BT39 -> 対象 | BU21: =BU39 -> #REF! | BV21: =BV39 -> 0 | BW21: =BW39 -> 入札公告日前日時点（令和8年9月29日時点）での事業継続計画（BCP）の認定状況 | BZ21: =BZ39 -> 対象 | CA21: =CA39 -> 令和６年度及び令和７年度における島根県内で実施されたボランティア活動又はハートフルしまねへの参加実績 | CB21: =CB39 -> 0 | CC21: =CC39 -> 対象 | CD21: =CD39 -> 令和６年度及び令和７年度の県管理公共土木施設に関する維持管理業務または海岸漂着物の回収業務の契約実績 | CE21: =CE39 -> 0 | CF21: =CF39 -> 対象 | CG21: =CG39 -> 令和６年度及び令和７年度の県管理道路・空港を含む除雪業務の契約実績 | ... CL21: =CL39 -> #REF! | CO21: =CO39 -> 対象 | CP21: =CP39 -> #REF! | CQ21: =CQ39 -> 0 | CR21: =CR39 -> #REF! | CU21: =CU39 -> 対象 | CV21: =CV39 -> #REF! | CW21: =CW39 -> 0 | CX21: =CX39 -> 対象 | CY21: =CY39 -> 当該工事での建設キャリアアップシステム（CCUS）の活用 | CZ21: =CZ39 -> 0 | DA21: =DA39 -> 対象工事 | DB21: =DB39 -> #REF! | DD21: =DD39 -> 対象 | DE21: =DE39 -> #REF! | DF21: =DF39 -> 0 | DS21: =DS39 -> 対象 | DT21: =DT39 -> #REF! | DV21: =DV39 -> 対象 | DW21: =DW39 -> #REF! | DX21: =DX39 -> 0 | DY21: =DY39 -> 対象 | DZ21: =DZ39 -> #REF! | EA21: =EA39 -> 0 | EB21: =EB39 -> 対象 | EC21: =EC39 -> #REF! | ED21: =ED39 -> 0
A22: コピー専用行 | B22: b | C22: =C40 -> 発注機関 | D22: =D40 -> 島根県（総務部、農林水産部、土木部） | E22: =E40 -> 0 | F22: =F40 -> 発注機関 | G22: =G40 -> #REF! | H22: =H40 -> 0 | I22: =I40 -> 同種工事 | J22: =J40 -> １契約で１構造物種別あたり単体で最終数量２７０㎥以上のコンクリートを打設した現場打ＲＣ構造物を含む完成及び引き渡しが完了した工事 | R22: =R40 -> 0 | S22: =S40 -> 0 | T22: =T40 -> 0 | U22: =U40 -> 0 | V22: =V40 -> 0 | W22: =W40 -> 0 | X22: =X40 -> 同種工事 | Y22: =Y40 -> １契約で１構造物種別あたり単体で最終数量１３０㎥以上のコンクリートを打設した現場打ＲＣ構造物を含む完成及び引き渡しが完了した工事 | AD22: =AD40 -> 発注機関 | AE22: =AE40 -> #REF! | AF22: =AF40 -> 0 | AJ22: =AJ40 -> 0 | AK22: =AK40 -> 0 | AL22: =AL40 -> 0 | AM22: =AM40 -> 0 | AN22: =AN40 -> 0 | AO22: =AO40 -> 0 | AP22: =AP40 -> 同種工事 | AQ22: =AQ40 -> １契約で１構造物種別あたり単体で最終数量１３０㎥以上のコンクリートを打設した現場打ＲＣ構造物を含む完成及び引き渡しが完了した工事 | AV22: =AV40 -> 発注機関 | AW22: =AW40 -> #REF! | AX22: =AX40 -> 0 | BB22: =BB40 -> 0 | BC22: =BC40 -> 0 | BD22: =BD40 -> 0 | BE22: =BE40 -> 0 | BF22: =BF40 -> 0 | BG22: =BG40 -> 0 | BH22: =BH40 -> 同種工事 | BI22: =BI40 -> １契約で１構造物種別あたり単体で最終数量１３０㎥以上のコンクリートを打設した現場打ＲＣ構造物を含む完成及び引き渡しが完了した工事 | BN22: =BN40 -> 発注機関 | BO22: =BO40 -> #REF! | BP22: =BP40 -> 0 | BT22: =BT40 -> 0 | BU22: =BU40 -> 0 | BV22: =BV40 -> 0 | BZ22: =BZ40 -> 0 | CA22: =CA40 -> 0 | CB22: =CB40 -> 0 | CC22: =CC40 -> 0 | CD22: =CD40 -> 0 | CE22: =CE40 -> 0 | CF22: =CF40 -> 0 | CG22: =CG40 -> 0 | ... CK22: =CK40 -> 0 | CO22: =CO40 -> 0 | CP22: =CP40 -> 0 | CQ22: =CQ40 -> 0 | CU22: =CU40 -> 0 | CV22: =CV40 -> 0 | CW22: =CW40 -> 0 | CX22: =CX40 -> 0 | CY22: =CY40 -> 0 | CZ22: =CZ40 -> 0 | DD22: =DD40 -> 0 | DE22: =DE40 -> 0 | DF22: =DF40 -> 0 | DS22: =DS40 -> 対象工事 | DT22: =DT40 -> #REF! | DV22: =DV40 -> 0 | DW22: =DW40 -> 0 | DX22: =DX40 -> 0 | DY22: =DY40 -> 0 | DZ22: =DZ40 -> 0 | EA22: =EA40 -> 0 | EB22: =EB40 -> 0 | EC22: =EC40 -> 0 | ED22: =ED40 -> 0
A23: コピー専用行 | B23: c | C23: =C41 -> 工事種別 | D23: =D41 -> 一般土木工事、維持修繕工事 | E23: =E41 -> 0 | F23: =F41 -> 工事種別 | G23: =G41 -> #REF! | H23: =H41 -> 0 | I23: =I41 -> 工事種別 | J23: =J41 -> 一般土木工事、維持修繕工事 | L23: =L41 -> 工事種別 | M23: =M41 -> 一般土木工事、維持修繕工事 | R23: =R41 -> 0 | S23: =S41 -> 0 | T23: =T41 -> 0 | U23: =U41 -> 0 | V23: =V41 -> 0 | W23: =W41 -> 0 | X23: =X41 -> 工事種別 | Y23: =Y41 -> 一般土木工事、維持修繕工事 | AA23: =AA41 -> 工事種別 | AB23: =AB41 -> 一般土木工事、維持修繕工事 | AD23: =AD41 -> 工事種別 | AE23: =AE41 -> #REF! | AF23: =AF41 -> 0 | AJ23: =AJ41 -> 0 | AK23: =AK41 -> 0 | AL23: =AL41 -> 0 | AM23: =AM41 -> 0 | AN23: =AN41 -> 0 | AO23: =AO41 -> 0 | AP23: =AP41 -> 工事種別 | AQ23: =AQ41 -> 一般土木工事、維持修繕工事 | AS23: =AS41 -> 工事種別 | AT23: =AT41 -> 一般土木工事、維持修繕工事 | AV23: =AV41 -> 工事種別 | AW23: =AW41 -> #REF! | AX23: =AX41 -> 0 | BB23: =BB41 -> 0 | BC23: =BC41 -> 0 | BD23: =BD41 -> 0 | BE23: =BE41 -> 0 | BF23: =BF41 -> 0 | BG23: =BG41 -> 0 | BH23: =BH41 -> 工事種別 | BI23: =BI41 -> 一般土木工事、維持修繕工事 | BK23: =BK41 -> 工事種別 | BL23: =BL41 -> 一般土木工事、維持修繕工事 | BN23: =BN41 -> 工事種別 | BO23: =BO41 -> #REF! | BP23: =BP41 -> 0 | BT23: =BT41 -> 0 | BU23: =BU41 -> 0 | BV23: =BV41 -> 0 | BW23: =BW41 -> 令和６年度及び令和７年度における島根県との防災協定の締結実績 | BZ23: =BZ41 -> 0 | CA23: =CA41 -> 0 | CB23: =CB41 -> 0 | CC23: =CC41 -> 0 | CD23: =CD41 -> 0 | CE23: =CE41 -> 0 | CF23: =CF41 -> 0 | CG23: =CG41 -> 0 | ... CK23: =CK41 -> 0 | CO23: =CO41 -> 0 | CP23: =CP41 -> 0 | CQ23: =CQ41 -> 0 | CU23: =CU41 -> 0 | CV23: =CV41 -> 0 | CW23: =CW41 -> 0 | CX23: =CX41 -> 0 | CY23: =CY41 -> 0 | CZ23: =CZ41 -> 0 | DD23: =DD41 -> 0 | DE23: =DE41 -> 0 | DF23: =DF41 -> 0 | DS23: =DS41 -> 工事種別 | DT23: =DT41 -> #REF! | DV23: =DV41 -> 0 | DW23: =DW41 -> 0 | DX23: =DX41 -> 0 | DY23: =DY41 -> 0 | DZ23: =DZ41 -> 0 | EA23: =EA41 -> 0 | EB23: =EB41 -> 0 | EC23: =EC41 -> 0 | ED23: =ED41 -> 0
A24: コピー専用行 | B24: d | C24: =C42 -> 建設工事の種類 | D24: =D42 -> 土木一式工事、とび・土工・ｺﾝｸﾘｰﾄ工事、しゅんせつ工事 | E24: =E42 -> 0 | F24: =F42 -> 建設工事の種類 | G24: =G42 -> #REF! | H24: =H42 -> 0 | I24: =I42 -> 建設工事の種類 | J24: =J42 -> 土木一式工事、とび・土工・ｺﾝｸﾘｰﾄ工事、しゅんせつ工事 | L24: =L42 -> 建設工事の種類 | M24: =M42 -> 土木一式工事、とび・土工・ｺﾝｸﾘｰﾄ工事、しゅんせつ工事 | R24: =R42 -> 0 | S24: =S42 -> 0 | T24: =T42 -> 0 | U24: =U42 -> 0 | V24: =V42 -> 0 | W24: =W42 -> 0 | X24: =X42 -> 建設工事の種類 | Y24: =Y42 -> 土木一式工事、とび・土工・ｺﾝｸﾘｰﾄ工事、しゅんせつ工事 | AA24: =AA42 -> 建設工事の種類 | AB24: =AB42 -> 土木一式工事、とび・土工・ｺﾝｸﾘｰﾄ工事、しゅんせつ工事 | AD24: =AD42 -> 建設工事の種類 | AE24: =AE42 -> #REF! | AF24: =AF42 -> 0 | AJ24: =AJ42 -> 0 | AK24: =AK42 -> 0 | AL24: =AL42 -> 0 | AM24: =AM42 -> 0 | AN24: =AN42 -> 0 | AO24: =AO42 -> 0 | AP24: =AP42 -> 建設工事の種類 | AQ24: =AQ42 -> 土木一式工事、とび・土工・ｺﾝｸﾘｰﾄ工事、しゅんせつ工事 | AS24: =AS42 -> 建設工事の種類 | AT24: =AT42 -> 土木一式工事、とび・土工・ｺﾝｸﾘｰﾄ工事、しゅんせつ工事 | AV24: =AV42 -> 建設工事の種類 | AW24: =AW42 -> #REF! | AX24: =AX42 -> 0 | BB24: =BB42 -> 0 | BC24: =BC42 -> 0 | BD24: =BD42 -> 0 | BE24: =BE42 -> 0 | BF24: =BF42 -> 0 | BG24: =BG42 -> 0 | BH24: =BH42 -> 建設工事の種類 | BI24: =BI42 -> 土木一式工事、とび・土工・ｺﾝｸﾘｰﾄ工事、しゅんせつ工事 | BK24: =BK42 -> 建設工事の種類 | BL24: =BL42 -> 土木一式工事、とび・土工・ｺﾝｸﾘｰﾄ工事、しゅんせつ工事 | BN24: =BN42 -> 建設工事の種類 | BO24: =BO42 -> #REF! | BP24: =BP42 -> 0 | BT24: =BT42 -> 0 | BU24: =BU42 -> 0 | BV24: =BV42 -> 0 | BZ24: =BZ42 -> 0 | CA24: =CA42 -> 0 | CB24: =CB42 -> 0 | CC24: =CC42 -> 0 | CD24: =CD42 -> 0 | CE24: =CE42 -> 0 | CF24: =CF42 -> 0 | CG24: =CG42 -> 0 | ... CK24: =CK42 -> 0 | CO24: =CO42 -> 0 | CP24: =CP42 -> 0 | CQ24: =CQ42 -> 0 | CU24: =CU42 -> 0 | CV24: =CV42 -> 0 | CW24: =CW42 -> 0 | CX24: =CX42 -> 0 | CY24: =CY42 -> 0 | CZ24: =CZ42 -> 0 | DA24: =DA42 -> 対象ＩＣＴ工種 | DB24: =DB42 -> #REF! | DD24: =DD42 -> 0 | DE24: =DE42 -> 0 | DF24: =DF42 -> 0 | DS24: =DS42 -> 建設工事の種類 | DT24: =DT42 -> #REF! | DV24: =DV42 -> 0 | DW24: =DW42 -> 0 | DX24: =DX42 -> 0 | DY24: =DY42 -> 0 | DZ24: =DZ42 -> 0 | EA24: =EA42 -> 0 | EB24: =EB42 -> 0 | EC24: =EC42 -> 0 | ED24: =ED42 -> 0
A25: コピー専用行 | B25: e | C25: =C43 -> 該当件数 | D25: =D43 -> 平均点 | F25: =F43 -> 該当件数 | G25: =G43 -> 平均点 | I25: =I43 -> 項目名 | J25: =J43 -> 工事① | K25: =K43 -> 工事② | L25: =L43 -> 表彰区分 | M25: =M43 -> 実績 | O25: 項目名 | P25: 状況 | R25: =R43 -> 項目名 | S25: =S43 -> ユニット数 | U25: =U43 -> 項目名 | V25: =V43 -> 状況 | X25: =X43 -> 項目名 | Y25: =Y43 -> 工事① | Z25: =Z43 -> 工事② | AA25: =AA43 -> 項目名 | AB25: =AB43 -> 実績 | AD25: =AD43 -> 該当件数 | AE25: =AE43 -> 平均点 | AJ25: =AJ43 -> 項目名 | AK25: =AK43 -> ユニット数 | AM25: =AM43 -> 項目名 | AN25: =AN43 -> 状況 | AP25: =AP43 -> 項目名 | AQ25: =AQ43 -> 工事① | AR25: =AR43 -> 工事② | AS25: =AS43 -> 項目名 | AT25: =AT43 -> 実績 | AV25: =AV43 -> 該当件数 | AW25: =AW43 -> 平均点 | BB25: =BB43 -> 項目名 | BC25: =BC43 -> ユニット数 | BE25: =BE43 -> 項目名 | BF25: =BF43 -> 状況 | BH25: =BH43 -> 項目名 | BI25: =BI43 -> 工事① | BJ25: =BJ43 -> 工事② | BK25: =BK43 -> 項目名 | BL25: =BL43 -> 実績 | BN25: =BN43 -> 該当件数 | BO25: =BO43 -> 平均点 | BT25: =BT43 -> 項目名 | BU25: =BU43 -> 令和５年度 | BV25: =BV43 -> 令和６年度 | BW25: 項目名 | BX25: 状況 | BZ25: =BZ43 -> 項目名 | CA25: =CA43 -> 令和５年度 | CB25: =CB43 -> 令和６年度 | CC25: =CC43 -> 項目名 | CD25: =CD43 -> 令和５年度 | CE25: =CE43 -> 令和６年度 | CF25: =CF43 -> 項目名 | CG25: =CG43 -> 令和５年度 | ... CJ25: =CJ43 -> 状況 | CL25: =CL43 -> 項目名 | CM25: =CM43 -> 生年月日 | CN25: =CN43 -> 年齢 | CO25: =CO43 -> 項目名 | CP25: =CP43 -> 雇用① | CQ25: =CQ43 -> 雇用② | CR25: =CR43 -> 項目名 | CT25: =CT43 -> 状況 | CU25: =CU43 -> 項目名 | CV25: =CV43 -> 状況 | CX25: =CX43 -> 項目名 | CY25: =CY43 -> 状況 | DA25: =DA43 -> 項目名 | DB25: =DB43 -> 実績① | DD25: =DD43 -> 項目名 | DE25: =DE43 -> 実績① | DF25: =DF43 -> 実績② | DS25: =DS43 -> 項目名 | DT25: =DT43 -> 工事① | DU25: =DU43 -> 工事② | DV25: =DV43 -> 項目名 | DW25: =DW43 -> 状況 | DY25: =DY43 -> 項目名 | DZ25: =DZ43 -> 状況 | EB25: =EB43 -> 項目名 | EC25: =EC43 -> 状況
A26: コピー専用行 | B26: 1 | C26: =C44 | D26: =D44 | F26: =F44 -> #REF! | G26: =G44 -> #REF! | I26: =I44 -> 工事名 | J26: =J44 -> 申請なし | K26: =K44 -> 申請なし | L26: =L44 -> 申請なし | M26: =M44 | O26: =O44 -> 配置者数 | P26: =P44 -> 申請なし | R26: =R44 -> 配置なし | S26: =S44 | U26: =U44 -> 配置なし | V26: =V44 | X26: =X44 -> 工事名 | Y26: =Y44 -> 配置なし | Z26: =Z44 | AA26: =AA44 -> 配置なし | AB26: =AB44 | AD26: =AD44 -> #REF! | AE26: =AE44 -> #REF! | AJ26: =AJ44 -> 配置なし | AK26: =AK44 | AM26: =AM44 -> 配置なし | AN26: =AN44 | AP26: =AP44 -> 工事名 | AQ26: =AQ44 -> 配置なし | AR26: =AR44 | AS26: =AS44 -> 配置なし | AT26: =AT44 | AV26: =AV44 -> #REF! | AW26: =AW44 -> #REF! | BB26: =BB44 -> 配置なし | BC26: =BC44 | BE26: =BE44 -> 配置なし | BF26: =BF44 | BH26: =BH44 -> 工事名 | BI26: =BI44 -> 配置なし | BJ26: =BJ44 | BK26: =BK44 -> 配置なし | BL26: =BL44 | BN26: =BN44 -> #REF! | BO26: =BO44 -> #REF! | BT26: =BT44 -> 協定実績 | BU26: =BU44 -> #REF! | BV26: =BV44 -> #REF! | BW26: =BW44 -> BCP認定の有無 | BX26: =BX44 -> 申請なし | BZ26: =BZ44 -> ボランティア活動内容 | CA26: =CA44 -> 申請なし | CB26: =CB44 -> 申請なし | CC26: =CC44 -> 業務名 | CD26: =CD44 | CE26: =CE44 | CF26: =CF44 -> 業務名 | CG26: =IF(OR(CG50="有",CG50=""),CG44,"実績なし") | CH26: =IF(OR(CH50="有",CH50=""),CH44,"実績なし") | CL26: =CL44 -> 技術者① | CM26: =CM44 -> #REF! | CN26: =CN44 -> #REF! | CO26: =CO44 -> 雇用の内容 | CP26: =CP44 -> #REF! | CQ26: =CQ44 -> #REF! | CR26: 申請台数 | CT26: =COUNTA(CS44,CS46,CS48)-COUNTBLANK(CS44)-COUNTBLANK(CS46)-COUNTBLANK(CS48) -> 3 | CU26: =CU44 -> 認定有無 | CV26: =CV44 -> #REF! | CX26: =CX44 -> 確約書の提出 | CY26: =CY44 -> 無 | DA26: =DA44 -> 工事名 | DB26: =DB44 -> #REF! | DD26: =DD44 -> #REF! | DE26: =DE44 -> #REF! | DF26: =DF44 -> #REF! | DS26: =DS44 -> 工事名 | DT26: =DT44 -> #REF! | DU26: =DU44 -> #REF! | DV26: =DV44 -> 住所 | DW26: =DW44 -> #REF! | DY26: =DY44 -> 営業所住所 | DZ26: =DZ44 -> #REF! | EB26: =EB44 -> 拠点名1 | EC26: =EC44 -> #REF!
A27: コピー専用行 | B27: 2 | I27: =I45 -> 発注機関 | J27: =J45 | K27: =K45 | U27: =U45 | V27: =V45 | X27: =X45 -> 発注機関 | Y27: =Y45 | Z27: =Z45 | AD27: =AD45 -> 配置なし | AE27: =IF(AD26="","",IF(AE26<70,0,IF(AD26>1,HLOOKUP(AE26,発注者入力シート!$AL$3:$AU$5,2)*3/5,IF(AD26=1,HLOOKUP(AE26,発注者入力シート!$AL$3:$AU$5,3)*3/5,"")))) -> #REF! | AM27: =AM45 | AN27: =AN45 | AP27: =AP45 -> 発注機関 | AQ27: =AQ45 | AR27: =AR45 | AV27: =AV45 -> 配置なし | AW27: =IF(AV26="","",IF(AW26<70,0,IF(AV26>1,HLOOKUP(AW26,発注者入力シート!$AL$3:$AU$5,2)*3/5,IF(AV26=1,HLOOKUP(AW26,発注者入力シート!$AL$3:$AU$5,3)*3/5,"")))) -> #REF! | BE27: =BE45 | BF27: =BF45 | BH27: =BH45 -> 発注機関 | BI27: =BI45 | BJ27: =BJ45 | BN27: =BN45 -> 配置なし | BO27: =IF(BN26="","",IF(BO26<70,0,IF(BN26>1,HLOOKUP(BO26,発注者入力シート!$AL$3:$AU$5,2)*3/5,IF(BN26=1,HLOOKUP(BO26,発注者入力シート!$AL$3:$AU$5,3)*3/5,"")))) -> #REF! | BW27: =BW45 -> 認定年月日 | BX27: =BX45 | BZ27: =BZ45 | CA27: =CA45 | CB27: =CB45 | CI27: =CI47 -> 障がい者 | CJ27: =CJ47 -> 障がい者雇用数 | CK27: =CK47 -> #REF! | CL27: =CL45 -> 技術者② | CM27: =CM45 -> #REF! | CN27: =CN45 -> #REF! | CO27: =CO45 -> #REF! | CP27: =CP45 -> #REF! | CQ27: =CQ45 -> #REF! | CR27: 保有台数 | CT27: =COUNTIF(CT44,"保有")+COUNTIF(CT46,"保有")+COUNTIF(CT48,"保有") -> 0 | DA27: =DA45 -> 発注機関 | DB27: =DB45 -> #REF! | DS27: =DS45 -> 発注機関 | DT27: =DT45 -> #REF! | DU27: =DU45 -> #REF! | DV27: =DV45 -> 種類 | DW27: =DW45 -> #REF! | DY27: =DY45 -> 営業所種類 | DZ27: =DZ45 -> #REF! | EB27: =EB45 -> 所在地1 | EC27: =EC45 -> #REF!
A28: コピー専用行 | B28: 3 | I28: =I46 -> 工事種別 | J28: =J46 | K28: =K46 | M28: =IF(M45="無","",M46) | X28: =X46 -> 施工場所 | Y28: =Y46 | Z28: =Z46 | AP28: =AP46 -> 施工場所 | AQ28: =AQ46 | AR28: =AR46 | BH28: =BH46 -> 施工場所 | BI28: =BI46 | BJ28: =BJ46 | BW28: =BW46 -> 有効期限 | BX28: =BX46 | BZ28: =BZ47&CHAR(10)&BZ48 | CA28: =IF(OR(CA44="",,CA44="申請なし"),"","参加"&CA47&"人"&CHAR(10)&"従業員"&CA48&"人") | CB28: =IF(OR(CB44="",CB44="申請なし"),"","参加"&CB47&"人"&CHAR(10)&"従業員"&CB48&"人") | CJ28: =CJ48 -> 法定雇用義務数 | CK28: =CK48 -> #REF! | CL28: =CL46 -> 技術者③ | CM28: =CM46 -> #REF! | CN28: =CN46 -> #REF! | CO28: =CO46 -> #REF! | CP28: =CP46 -> #REF! | CQ28: =CQ46 -> #REF! | CR28: ﾘｰｽ台数 | CT28: =COUNTIF(CT44,"リース契約")+COUNTIF(CT46,"リース契約")+COUNTIF(CT48,"リース契約") -> 0 | DA28: =DA46 -> ＩＣＴ工種 | DB28: =DB46 -> #REF! | DS28: =DS46 -> 施工場所 | DT28: =DT46 -> #REF! | DU28: =DU46 -> #REF! | DY28: =DY46 -> 工場住所 | DZ28: =DZ46 -> #REF!
A29: コピー専用行 | B29: 4 | I29: =I47 -> 建設工事の種類 | J29: =J47 | K29: =K47 | L29: =L45 | M29: =M45 | N29: =N45 -> 0 | X29: =X47 -> 請負金額 | Y29: =Y47 | Z29: =Z47 | AA29: =AA45 | AB29: =AB45 | AP29: =AP47 -> 請負金額 | AQ29: =AQ47 | AR29: =AR47 | AS29: =AS45 | AT29: =AT45 | BH29: =BH47 -> 請負金額 | BI29: =BI47 | BJ29: =BJ47 | BK29: =BK45 | BL29: =BL45 | BW29: 協定の有無 | BX29: 令和５年度 | BY29: =BX47 -> 申請なし | BZ29: =BZ46 | CA29: =CA46 | CB29: =CB46 | CC29: =CC45 -> 発注機関 | CD29: =CD45 | CE29: =CE45 | CF29: =CF45 -> 発注機関 | CG29: =IF(CG50="無","",CG45) | CH29: =IF(CH50="無","",CH45) | CI29: =CI50 -> 育児介護 | CJ29: =IF(AND(CK50="",CK51=""),"申請なし",IF(CK50="有",CJ50,IF(CK51="有",CJ51,"無"))) -> #REF! | CR29: うち誓約書による申請 | CT29: =COUNTA(CT44,CT46,CT48)-COUNTBLANK(CS45)-COUNTBLANK(CS47)-COUNTBLANK(CS49) -> 3 | DA29: 内容 | DB29: ="①"&DB47&"／②"&DB48&"／③"&DB49&"／④"&DB50&"／⑤"&DB51 -> #REF! | DD29: =DD45 -> #REF! | DE29: =DE45 -> #REF! | DF29: =DF45 -> #REF! | DS29: =DS47 -> 請負金額 | DT29: =DT47 -> #REF! | DU29: =DU47 -> #REF! | EB29: =EB46 -> 技術者数1 | EC29: =EC46 -> #REF!
A30: コピー専用行 | B30: 5 | I30: 工期 | J30: =J50&CHAR(10)&J51 | K30: =K50&CHAR(10)&K51 | L30: =L46 | M30: =M46 | N30: =N46 -> 0 | X30: 工期（従事期間） | Y30: =Y48&CHAR(10)&"("&Y49&")" -> () | Z30: =Z48&CHAR(10)&"("&Z49&")" -> () | AA30: =AA46 | AB30: =AB46 | AP30: 工期（従事期間） | AQ30: =AQ48&CHAR(10)&"("&AQ49&")" -> () | AR30: =AR48&CHAR(10)&"("&AR49&")" -> () | AS30: =AS46 | AT30: =AT46 | BH30: 工期（従事期間） | BI30: =BI48&CHAR(10)&"("&BI49&")" -> () | BJ30: =BJ48&CHAR(10)&"("&BJ49&")" -> () | BK30: =BK46 | BL30: =BL46 | BX30: 令和６年度 | BY30: =BY47 -> 申請なし | BZ30: =BZ49 -> ﾊｰﾄﾌﾙ活動 | CA30: =CA49 -> 申請なし | CB30: =CB49 -> 申請なし | CC30: =CC46 -> 元請・下請区分 | CD30: =CD46 -> 0 | CE30: =CE46 -> 0 | CF30: =CF46 -> 元請・下請区分 | CG30: =IF(CG50="無","",CG46) | CH30: =IF(CH50="無","",CH46) | CJ30: =IF(CK51="有",CJ52,"") -> #REF! | CK30: =IF(CK51="有",CK52,"") -> #REF! | DS30: 工期 | DT30: =DT48&CHAR(10)&DT49 -> #REF! | DU30: =DU48&CHAR(10)&DU49 -> #REF! | EB30: =EB47 -> 拠点名2 | EC30: =EC47 -> #REF!
A31: コピー専用行 | B31: 6 | I31: 施工規模／形式 | J31: =J52&"／"&J53&" "&J54&" "&J55&" "&J56 -> ／ | K31: =K52&"／"&K53&" "&K54&" "&K55&" "&K56 -> ／ | L31: 工事種別／建設工事の種類 | M31: =M47&"／"&M48 -> ／ | X31: 工事種別／建設工事の種類 | Y31: =Y50&"／"&Y51 -> ／ | Z31: =Z50&"／"&Z51 -> ／ | AA31: =AA47 | AB31: =AB47 | AP31: 工事種別／建設工事の種類 | AQ31: =AQ50&"／"&AQ51 -> ／ | AR31: =AR50&"／"&AR51 -> ／ | AS31: =AS47 | AT31: =AT47 | BH31: 工事種別／建設工事の種類 | BI31: =BI50&"／"&BI51 -> ／ | BJ31: =BJ50&"／"&BJ51 -> ／ | BK31: =BK47 | BL31: =BL47 | BZ31: =BZ51&CHAR(10)&BZ52 | CA31: =IF(CA50="","","参加"&CA51&"人"&CHAR(10)&"従業員"&CA52&"人") | CB31: =IF(CB50="","","参加"&CB51&"人"&CHAR(10)&"従業員"&CB52&"人") | CC31: =CC47 -> 契約（始） | CD31: =CD47 | CE31: =CE47 | CF31: =CF47 -> 契約（始） | CG31: =IF(CG50="無","",CG47) | CH31: =IF(CH50="無","",CH47) | DA31: 工期（始） | DB31: =DB53 -> #REF! | DS31: =DS50 -> 工事成績 | DT31: =DT50 -> #REF! | DU31: =DU50 -> #REF! | EB31: =EB48 -> 所在地2 | EC31: =EC48 -> #REF!
A32: コピー専用行 | B32: 7 | I32: =I57 -> 工事成績 | J32: =J57 | K32: =K57 | X32: 役職 工事成績 | Y32: =IF(Y52="","",Y52&CHAR(10)&"("&Y57&"点)") | Z32: =IF(Z52="","",Z52&CHAR(10)&"("&Z57&"点)") | AA32: =AA48 | AB32: =AB48 | AP32: 役職 工事成績 | AQ32: =IF(AQ52="","",AQ52&CHAR(10)&"("&AQ57&"点)") | AR32: =IF(AR52="","",AR52&CHAR(10)&"("&AR57&"点)") | AS32: =AS48 | AT32: =AT48 | BH32: 役職 工事成績 | BI32: =IF(BI52="","",BI52&CHAR(10)&"("&BI57&"点)") | BJ32: =IF(BJ52="","",BJ52&CHAR(10)&"("&BJ57&"点)") | BK32: =BK48 | BL32: =BL48 | BZ32: =BZ50 | CA32: =CA50 | CB32: =CB50 | CC32: =CC48 -> 契約（終） | CD32: =CD48 | CE32: =CE48 | CF32: =CF48 -> 契約（終） | CG32: =IF(CG50="無","",CG48) | CH32: =IF(CH50="無","",CH48) | DA32: 工期（終） | DB32: =DB54 -> #REF! | DS32: =DS53&"/"&DS54 -> 工事種別/建設工事の種類 | DT32: =DT53&"／"&DT54 -> #REF! | DU32: =DU53&"／"&DU54 -> #REF!
A33: コピー専用行 | B33: 8 | X33: 施工規模／形式 | Y33: =Y53&"／"&Y54&" "&Y55&" "&Y56 -> ／ | Z33: =Z53&"／"&Z54&" "&Z55&" "&Z56 -> ／ | AP33: 施工規模／形式 | AQ33: =AQ53&"／"&AQ54&" "&AQ55&" "&AQ56 -> ／ | AR33: =AR53&"／"&AR54&" "&AR55&" "&AR56 -> ／ | BH33: 施工規模／形式 | BI33: =BI53&"／"&BI54&" "&BI55&" "&BI56 -> ／ | BJ33: =BJ53&"／"&BJ54&" "&BJ55&" "&BJ56 -> ／ | CC33: =CC49 -> 施工箇所 | CD33: =CD49 | CE33: =CE49 | CF33: =CF49 -> 施工箇所 | CG33: =IF(CG50="無","",CG49) | CH33: =IF(CH50="無","",CH49) | DA33: 工事成績 | DB33: =DB55 -> #REF! | EB33: =EB49 -> 技術者数2 | EC33: =EC49 -> #REF!
T34: =IF(企業入力シート!C18="","配置なし","配置あり") -> 配置なし | W34: =IF(企業入力シート!C18="","配置なし","配置あり") -> 配置なし | Z34: =IF(企業入力シート!C18="","配置なし","配置あり") -> 配置なし | AC34: =IF(企業入力シート!C18="","配置なし","配置あり") -> 配置なし | AF34: =IF(企業入力シート!C18="","配置なし","配置あり") -> 配置なし | AL34: =IF(企業入力シート!C19="","配置なし","配置あり") -> 配置なし | AO34: =IF(企業入力シート!C19="","配置なし","配置あり") -> 配置なし | AR34: =IF(企業入力シート!C19="","配置なし","配置あり") -> 配置なし | AU34: =IF(企業入力シート!C19="","配置なし","配置あり") -> 配置なし | AX34: =IF(企業入力シート!C19="","配置なし","配置あり") -> 配置なし | BD34: =IF(企業入力シート!C20="","配置なし","配置あり") -> 配置なし | BG34: =IF(企業入力シート!C20="","配置なし","配置あり") -> 配置なし | BJ34: =IF(企業入力シート!C20="","配置なし","配置あり") -> 配置なし | BM34: =IF(企業入力シート!C20="","配置なし","配置あり") -> 配置なし | BP34: =IF(企業入力シート!C20="","配置なし","配置あり") -> 配置なし
A36: 以下、集計専用表（コピー箇所ではありません）
B37: a0 | C37: 企業 | F37: 企業 | I37: 企業 | L37: 企業 | O37: 企業 | R37: 配置予定技術者① | U37: 配置予定技術者① | X37: 配置予定技術者① | AA37: 配置予定技術者① | AD37: 配置予定技術者① | AG37: 配置予定技術者① | AJ37: 配置予定技術者② | AM37: 配置予定技術者② | AP37: 配置予定技術者② | AS37: 配置予定技術者② | AV37: 配置予定技術者② | AY37: 配置予定技術者② | BB37: 配置予定技術者③ | BE37: 配置予定技術者③ | BH37: 配置予定技術者③ | BK37: 配置予定技術者③ | BN37: 配置予定技術者③ | BQ37: 配置予定技術者③ | BT37: 地域貢献・その他 | BW37: 地域貢献・その他 | BZ37: 地域貢献・その他 | CC37: 地域貢献・その他 | CF37: 地域貢献・その他 | CI37: 地域貢献・その他 | CL37: 地域貢献・その他 | CO37: 地域貢献・その他 | CR37: 地域貢献・その他 | CU37: 地域貢献・その他 | CX37: 地域貢献・その他 | DA37: 地域貢献・その他 | DD37: 地域貢献・その他【水産】 | DG37: 地域貢献・その他 | DJ37: 地域貢献・その他 | DM37: 地域貢献・その他 | DP37: 地域貢献・その他 | DS37: 地理的条件 | DV37: 地理的条件 | DY37: 地理的条件 | EB37: 地理的条件 | EE37: 地理的条件 | EH37: 地理的条件
B38: a1 | C38: 工事成績評定点 | F38: 工事成績評定点(5年間) | I38: 施工実績 | L38: 優良工事表彰 | O38: 登録基幹技能者 | R38: 継続学習 | U38: 資格 | X38: 施工経験 | AA38: 優秀建設技術者表彰 | AD38: 工事成績評定点 | AG38: 予備欄 | AJ38: 継続学習 | AM38: 資格 | AP38: 施工経験 | AS38: 優秀建設技術者表彰 | AV38: 工事成績評定点 | AY38: 予備欄 | BB38: 継続学習 | BE38: 資格 | BH38: 施工経験 | BK38: 優秀建設技術者表彰 | BN38: 工事成績評定点 | BQ38: 予備欄 | BT38: =IF(#REF!=1,"防災",IF(#REF!=2,"家畜伝染病防疫","防災協定・家畜伝染病防疫"))&"協定" -> #REF! | BW38: ="BCP認定状況及び"&IF('BCP&防災協定・家畜伝染病防疫協定'!T15=1,"防災",IF('BCP&防災協定・家畜伝染病防疫協定'!T15=2,"家畜伝染病防疫","防災協定・家畜伝染病防疫"))&"協定" -> BCP認定状況及び防災協定 | BZ38: ボランティア | CC38: 維持管理業務 | CF38: 除雪業務 | CI38: 労働福祉関連 | CL38: 若手・中堅技術者配置 | CO38: 若手技術者・従業員の新規雇用 | CR38: 建設機械保有状況 | CU38: 消防団協力事業所 | CX38: CCUSの活用 | DA38: ＩＣＴ施工実績 | DD38: 海上援助活動の実績 | DG38: 予備欄 | DJ38: 予備欄 | DM38: 予備欄 | DP38: 予備欄 | DS38: 近隣地域での施工実績 | DV38: 会社所在地 | DY38: 工場・会社所在地 | EB38: サポート拠点
B39: a | C39: 完成年度 | D39: =IF('企業成績評定点(3年用)'!G6="","",'企業成績評定点(3年用)'!G6) -> 令和５年度から令和７年度（完成及び引き渡しが完了） | F39: 完成年度 | G39: =IF(#REF!="","",#REF!) -> #REF! | I39: 対象期間 | J39: =IF(同種工事施工実績!F6="","",同種工事施工実績!F6) -> 平成２８年度から入札公告日前日までに完成及び引き渡しが完了した島根県発注工事 | L39: 対象年度・機関等 | M39: =IF(優良工事表彰!E6="","",優良工事表彰!E6) -> 島根県内の公共事業において、令和４年度から令和８年度に、島根県及び中国地方整備局発注工事で受けた優良工事表彰（優良工事施工団体表彰） | O39: =IF(登録基幹技能者!B9="","",登録基幹技能者!B9) -> 登録コンクリート圧送基幹技能者の現場への配置者数 | R39: =IF(技術者継続学習!B8="","",技術者継続学習!B8) -> 配置予定の主任（監理）技術者が保有するCPDSユニット | U39: 対象資格 | V39: =IF(#REF!="","",#REF!) -> #REF! | X39: 対象年度・機関等 | Y39: =IF(同種工事施工経験!F6="","",同種工事施工経験!F6) -> 平成２８年度から入札公告日前日までに完成及び引き渡しが完了した島根県発注工事 | AA39: 対象年度・機関等 | AB39: =IF(優秀技術者表彰!F6="","",優秀技術者表彰!F6) -> 島根県内の公共事業において、令和４年度から令和８年度に、島根県及び中国地方整備局発注工事で主任（監理）技術者または現場代理人として受けた優秀建設技術者表彰 | AD39: 完成年度 | AE39: =IF(#REF!="","",#REF!) -> #REF! | AJ39: =IF(技術者継続学習!B8="","",技術者継続学習!B8) -> 配置予定の主任（監理）技術者が保有するCPDSユニット | AM39: 対象資格 | AN39: =IF(#REF!="","",#REF!) -> #REF! | AP39: 対象年度・機関等 | AQ39: =IF(同種工事施工経験!F6="","",同種工事施工経験!F6) -> 平成２８年度から入札公告日前日までに完成及び引き渡しが完了した島根県発注工事 | AS39: 対象年度・機関等 | AT39: =IF(優秀技術者表彰!F6="","",優秀技術者表彰!F6) -> 島根県内の公共事業において、令和４年度から令和８年度に、島根県及び中国地方整備局発注工事で主任（監理）技術者または現場代理人として受けた優秀建設技術者表彰 | AV39: 完成年度 | AW39: =IF(#REF!="","",#REF!) -> #REF! | BB39: =IF(技術者継続学習!B8="","",技術者継続学習!B8) -> 配置予定の主任（監理）技術者が保有するCPDSユニット | BE39: 対象資格 | BF39: =IF(#REF!="","",#REF!) -> #REF! | BH39: 対象年度・機関等 | BI39: =IF(同種工事施工経験!F6="","",同種工事施工経験!F6) -> 平成２８年度から入札公告日前日までに完成及び引き渡しが完了した島根県発注工事 | BK39: 対象年度・機関等 | BL39: =IF(優秀技術者表彰!F6="","",優秀技術者表彰!F6) -> 島根県内の公共事業において、令和４年度から令和８年度に、島根県及び中国地方整備局発注工事で主任（監理）技術者または現場代理人として受けた優秀建設技術者表彰 | BN39: 完成年度 | BO39: =IF(#REF!="","",#REF!) -> #REF! | BT39: 対象 | BU39: =IF(#REF!="","",#REF!) -> #REF! | BW39: =IF('BCP&防災協定・家畜伝染病防疫協定'!B10="","",'BCP&防災協定・家畜伝染病防疫協定'!B10) -> 入札公告日前日時点（令和8年9月29日時点）での事業継続計画（BCP）の認定状況 | BZ39: 対象 | CA39: =IF(ボランティア!B6="","",ボランティア!B6) -> 令和６年度及び令和７年度における島根県内で実施されたボランティア活動又はハートフルしまねへの参加実績 | CC39: 対象 | CD39: =IF(維持管理業務!B7="","",維持管理業務!B7) -> 令和６年度及び令和７年度の県管理公共土木施設に関する維持管理業務または海岸漂着物の回収業務の契約実績 | CF39: 対象 | CG39: =IF(除雪業務!B8="","",除雪業務!B8) -> 令和６年度及び令和７年度の県管理道路・空港を含む除雪業務の契約実績 | CI39: 対象 | CJ39: 入札公告日前日時点での取り組み状況 | CL39: =IF(#REF!="","",#REF!) -> #REF! | CO39: 対象 | CP39: =#REF! -> #REF! | CR39: =IF(#REF!="","",#REF!) -> #REF! | CU39: 対象 | CV39: =IF(#REF!="","",#REF!) -> #REF! | CX39: 対象 | CY39: 当該工事での建設キャリアアップシステム（CCUS）の活用 | DA39: 対象工事 | DB39: =#REF! -> #REF! | DD39: 対象 | DE39: =IF(#REF!="","",#REF!) -> #REF! | DS39: 対象 | DT39: =IF(#REF!="","",#REF!) -> #REF! | DV39: 対象 | DW39: =IF(#REF!="","",#REF!) -> #REF! | DY39: 対象 | DZ39: =IF(#REF!="","",#REF!) -> #REF! | EB39: 対象 | EC39: =IF(#REF!="","",#REF!) -> #REF!
B40: b | C40: 発注機関 | D40: =IF('企業成績評定点(3年用)'!G7="","",'企業成績評定点(3年用)'!G7) -> 島根県（総務部、農林水産部、土木部） | F40: 発注機関 | G40: =IF(#REF!="","",#REF!) -> #REF! | I40: 同種工事 | J40: =IF(同種工事施工実績!F10="","",同種工事施工実績!F10) -> １契約で１構造物種別あたり単体で最終数量２７０㎥以上のコンクリートを打設した現場打ＲＣ構造物を含む完成及び引き渡しが完了した工事 | X40: 同種工事 | Y40: =IF(同種工事施工経験!F8="","",同種工事施工経験!F8) -> １契約で１構造物種別あたり単体で最終数量１３０㎥以上のコンクリートを打設した現場打ＲＣ構造物を含む完成及び引き渡しが完了した工事 | AD40: 発注機関 | AE40: =IF(#REF!="","",#REF!) -> #REF! | AP40: 同種工事 | AQ40: =IF(同種工事施工経験!F8="","",同種工事施工経験!F8) -> １契約で１構造物種別あたり単体で最終数量１３０㎥以上のコンクリートを打設した現場打ＲＣ構造物を含む完成及び引き渡しが完了した工事 | AV40: 発注機関 | AW40: =IF(#REF!="","",#REF!) -> #REF! | BH40: 同種工事 | BI40: =IF(同種工事施工経験!F8="","",同種工事施工経験!F8) -> １契約で１構造物種別あたり単体で最終数量１３０㎥以上のコンクリートを打設した現場打ＲＣ構造物を含む完成及び引き渡しが完了した工事 | BN40: 発注機関 | BO40: =IF(#REF!="","",#REF!) -> #REF! | DS40: 対象工事 | DT40: =IF(#REF!="","",#REF!) -> #REF!
B41: c | C41: 工事種別 | D41: =IF('企業成績評定点(3年用)'!G8="","",'企業成績評定点(3年用)'!G8) -> 一般土木工事、維持修繕工事 | F41: 工事種別 | G41: =IF(#REF!="","",#REF!) -> #REF! | I41: 工事種別 | J41: =IF(同種工事施工実績!F8="","",同種工事施工実績!F8) -> 一般土木工事、維持修繕工事 | L41: 工事種別 | M41: =IF(優良工事表彰!E9="","",優良工事表彰!E9) -> 一般土木工事、維持修繕工事 | X41: 工事種別 | Y41: =IF(同種工事施工経験!F11="","",同種工事施工経験!F11) -> 一般土木工事、維持修繕工事 | AA41: 工事種別 | AB41: =IF(優秀技術者表彰!F9="","",優秀技術者表彰!F9) -> 一般土木工事、維持修繕工事 | AD41: 工事種別 | AE41: =IF(#REF!="","",#REF!) -> #REF! | AP41: 工事種別 | AQ41: =IF(同種工事施工経験!F11="","",同種工事施工経験!F11) -> 一般土木工事、維持修繕工事 | AS41: 工事種別 | AT41: =IF(優秀技術者表彰!F9="","",優秀技術者表彰!F9) -> 一般土木工事、維持修繕工事 | AV41: 工事種別 | AW41: =IF(#REF!="","",#REF!) -> #REF! | BH41: 工事種別 | BI41: =IF(同種工事施工経験!F11="","",同種工事施工経験!F11) -> 一般土木工事、維持修繕工事 | BK41: 工事種別 | BL41: =IF(優秀技術者表彰!F9="","",優秀技術者表彰!F9) -> 一般土木工事、維持修繕工事 | BN41: 工事種別 | BO41: =IF(#REF!="","",#REF!) -> #REF! | BW41: =IF('BCP&防災協定・家畜伝染病防疫協定'!B17="","",'BCP&防災協定・家畜伝染病防疫協定'!B17) -> 令和６年度及び令和７年度における島根県との防災協定の締結実績 | DS41: 工事種別 | DT41: =IF(#REF!="","",#REF!) -> #REF!
B42: d | C42: 建設工事の種類 | D42: =IF('企業成績評定点(3年用)'!G9="","",'企業成績評定点(3年用)'!G9) -> 土木一式工事、とび・土工・ｺﾝｸﾘｰﾄ工事、しゅんせつ工事 | F42: 建設工事の種類 | G42: =IF(#REF!="","",#REF!) -> #REF! | I42: 建設工事の種類 | J42: =IF(同種工事施工実績!F9="","",同種工事施工実績!F9) -> 土木一式工事、とび・土工・ｺﾝｸﾘｰﾄ工事、しゅんせつ工事 | L42: 建設工事の種類 | M42: =IF(優良工事表彰!E10="","",優良工事表彰!E10) -> 土木一式工事、とび・土工・ｺﾝｸﾘｰﾄ工事、しゅんせつ工事 | X42: 建設工事の種類 | Y42: =IF(同種工事施工経験!F12="","",同種工事施工経験!F12) -> 土木一式工事、とび・土工・ｺﾝｸﾘｰﾄ工事、しゅんせつ工事 | AA42: 建設工事の種類 | AB42: =IF(優秀技術者表彰!F10="","",優秀技術者表彰!F10) -> 土木一式工事、とび・土工・ｺﾝｸﾘｰﾄ工事、しゅんせつ工事 | AD42: 建設工事の種類 | AE42: =IF(#REF!="","",#REF!) -> #REF! | AP42: 建設工事の種類 | AQ42: =IF(同種工事施工経験!F12="","",同種工事施工経験!F12) -> 土木一式工事、とび・土工・ｺﾝｸﾘｰﾄ工事、しゅんせつ工事 | AS42: 建設工事の種類 | AT42: =IF(優秀技術者表彰!F10="","",優秀技術者表彰!F10) -> 土木一式工事、とび・土工・ｺﾝｸﾘｰﾄ工事、しゅんせつ工事 | AV42: 建設工事の種類 | AW42: =IF(#REF!="","",#REF!) -> #REF! | BH42: 建設工事の種類 | BI42: =IF(同種工事施工経験!F12="","",同種工事施工経験!F12) -> 土木一式工事、とび・土工・ｺﾝｸﾘｰﾄ工事、しゅんせつ工事 | BK42: 建設工事の種類 | BL42: =IF(優秀技術者表彰!F10="","",優秀技術者表彰!F10) -> 土木一式工事、とび・土工・ｺﾝｸﾘｰﾄ工事、しゅんせつ工事 | BN42: 建設工事の種類 | BO42: =IF(#REF!="","",#REF!) -> #REF! | DA42: 対象ＩＣＴ工種 | DB42: =#REF! -> #REF! | DS42: 建設工事の種類 | DT42: =IF(#REF!="","",#REF!) -> #REF!
B43: e | C43: 該当件数 | D43: 平均点 | F43: 該当件数 | G43: 平均点 | I43: 項目名 | J43: 工事① | K43: 工事② | L43: 表彰区分 | M43: 実績 | O43: 項目名 | P43: 状況 | R43: 項目名 | S43: ユニット数 | U43: 項目名 | V43: 状況 | X43: 項目名 | Y43: 工事① | Z43: 工事② | AA43: 項目名 | AB43: 実績 | AD43: 該当件数 | AE43: 平均点 | AJ43: 項目名 | AK43: ユニット数 | AM43: 項目名 | AN43: 状況 | AP43: 項目名 | AQ43: 工事① | AR43: 工事② | AS43: 項目名 | AT43: 実績 | AV43: 該当件数 | AW43: 平均点 | BB43: 項目名 | BC43: ユニット数 | BE43: 項目名 | BF43: 状況 | BH43: 項目名 | BI43: 工事① | BJ43: 工事② | BK43: 項目名 | BL43: 実績 | BN43: 該当件数 | BO43: 平均点 | BT43: 項目名 | BU43: 令和５年度 | BV43: 令和６年度 | BW43: 項目名 | BX43: 状況 | BZ43: 項目名 | CA43: 令和５年度 | CB43: 令和６年度 | CC43: 項目名 | CD43: 令和５年度 | CE43: 令和６年度 | CF43: 項目名 | CG43: 令和５年度 | CH43: 令和６年度 | CI43: 項目名 | CJ43: 状況 | CL43: 項目名 | CM43: 生年月日 | CN43: 年齢 | CO43: 項目名 | CP43: 雇用① | CQ43: 雇用② | CR43: 項目名 | CT43: 状況 | CU43: 項目名 | CV43: 状況 | CX43: 項目名 | CY43: 状況 | DA43: 項目名 | DB43: 実績① | DC43: 実績② | DD43: 項目名 | DE43: 実績① | DF43: 実績② | DS43: 項目名 | DT43: 工事① | DU43: 工事② | DV43: 項目名 | DW43: 状況 | DY43: 項目名 | DZ43: 状況 | EB43: 項目名 | EC43: 状況
B44: 1 | C44: =IF('企業成績評定点(3年用)'!G30="","",'企業成績評定点(3年用)'!G30) | D44: =IF('企業成績評定点(3年用)'!J30="","",'企業成績評定点(3年用)'!J30) | F44: =IF(#REF!="","",#REF!) -> #REF! | G44: =IF(#REF!="","",#REF!) -> #REF! | I44: 工事名 | J44: =IF(同種工事施工実績!F14="","申請なし",同種工事施工実績!F14) -> 申請なし | K44: =IF(同種工事施工実績!M14="","申請なし",同種工事施工実績!M14) -> 申請なし | L44: =IF(M45="","申請なし","工事名") -> 申請なし | M44: =IF(M45="","",IF(優良工事表彰!E14="","",優良工事表彰!E14)) | O44: 配置者数 | P44: =IF(登録基幹技能者!E10="","申請なし",登録基幹技能者!E10) -> 申請なし | R44: =IF(T34="配置なし","配置なし",IF(S44="","申請なし","ﾕﾆｯﾄ数")) -> 配置なし | S44: =IF(T34="配置なし","",IF(技術者継続学習!F11="","",技術者継続学習!F11)) | U44: =IF(W34="配置なし","配置なし",IF(V44="","申請なし","名称")) -> 配置なし | V44: =IF(W34="配置なし","",IF(#REF!="","",#REF!)) | X44: 工事名 | Y44: =IF(Z34="配置なし","配置なし",IF(同種工事施工経験!F15="","申請なし",同種工事施工経験!F15)) -> 配置なし | Z44: =IF(Z34="配置なし","",IF(同種工事施工経験!M15="","申請なし",同種工事施工経験!M15)) | AA44: =IF(AC34="配置なし","配置なし",IF(AB45="","申請なし","工事名")) -> 配置なし | AB44: =IF(AC34="配置なし","",IF(AB45="","",IF(優秀技術者表彰!F16="","",優秀技術者表彰!F16))) | AD44: =IF(#REF!="","",#REF!) -> #REF! | AE44: =IF(#REF!="","",#REF!) -> #REF! | AJ44: =IF(AL34="配置なし","配置なし",IF(AK44="","申請なし","ﾕﾆｯﾄ数")) -> 配置なし | AK44: =IF(AL34="配置なし","",IF(技術者継続学習!F13="","",技術者継続学習!F13)) | AM44: =IF(AO34="配置なし","配置なし",IF(AN44="","申請なし","名称")) -> 配置なし | AN44: =IF(AO34="配置なし","",IF(#REF!="","",#REF!)) | AP44: 工事名 | AQ44: =IF(AR34="配置なし","配置なし",IF(同種工事施工経験!F143="","申請なし",同種工事施工経験!F143)) -> 配置なし | AR44: =IF(AR34="配置なし","",IF(同種工事施工経験!M143="","申請なし",同種工事施工経験!M143)) | AS44: =IF(AU34="配置なし","配置なし",IF(AT45="","申請なし","工事名")) -> 配置なし | AT44: =IF(AU34="配置なし","",IF(AT45="","",IF(優秀技術者表彰!F32="","",優秀技術者表彰!F32))) | AV44: =IF(#REF!="","",#REF!) -> #REF! | AW44: =IF(#REF!="","",#REF!) -> #REF! | BB44: =IF(BD34="配置なし","配置なし",IF(BC44="","申請なし","ﾕﾆｯﾄ数")) -> 配置なし | BC44: =IF(BD34="配置なし","",IF(技術者継続学習!F15="","",技術者継続学習!F15)) | BE44: =IF(BG34="配置なし","配置なし",IF(BF44="","申請なし","名称")) -> 配置なし | BF44: =IF(BG34="配置なし","",IF(#REF!="","",#REF!)) | BH44: 工事名 | BI44: =IF(BJ34="配置なし","配置なし",IF(同種工事施工経験!F196="","申請なし",同種工事施工経験!F196)) -> 配置なし | BJ44: =IF(BJ34="配置なし","",IF(同種工事施工経験!M196="","申請なし",同種工事施工経験!M196)) | BK44: =IF(BM34="配置なし","配置なし",IF(BL45="","申請なし","工事名")) -> 配置なし | BL44: =IF(BM34="配置なし","",IF(BL45="","",IF(優秀技術者表彰!F48="","",優秀技術者表彰!F48))) | BN44: =IF(#REF!="","",#REF!) -> #REF! | BO44: =IF(#REF!="","",#REF!) -> #REF! | BT44: 協定実績 | BU44: =IF(#REF!="","申請なし",#REF!) -> #REF! | BV44: =IF(#REF!="","申請なし",#REF!) -> #REF! | BW44: BCP認定の有無 | BX44: =IF('BCP&防災協定・家畜伝染病防疫協定'!A12="","申請なし",'BCP&防災協定・家畜伝染病防疫協定'!A12) -> 申請なし | BZ44: ボランティア活動内容 | CA44: =IF(CA46="","申請なし",IF(ボランティア!F10="","",ボランティア!F10)) -> 申請なし | CB44: =IF(CB46="","申請なし",IF(ボランティア!F13="","",ボランティア!F13)) -> 申請なし | CC44: 業務名 | CD44: =IF(維持管理業務!I15="","",維持管理業務!I15) | CE44: =IF(維持管理業務!I20="","",維持管理業務!I20) | CF44: 業務名 | CG44: =IF(除雪業務!I16="","",除雪業務!I16) | CH44: =IF(除雪業務!I21="","",除雪業務!I21) | CL44: 技術者① | CM44: =IF(#REF!="","配置なし",#REF!) -> #REF! | CN44: =IF(#REF!="","",#REF!) -> #REF! | CO44: 雇用の内容 | CP44: =IF(#REF!="","申請なし",IF(#REF!="有","若手技術者(指定学科卒)",IF(#REF!="有","若手技術者(資格有)",IF(#REF!="有","若手従業員","無")))) -> #REF! | CQ44: =IF(#REF!="","申請なし",IF(#REF!="有","若手技術者(指定学科卒)",IF(#REF!="有","若手技術者(資格有)",IF(#REF!="有","若手従業員","無")))) -> #REF! | CR44: ① | CS44: =IF(#REF!="","",#REF!) -> #REF! | CT44: =IF(#REF!="","",#REF!) -> #REF! | CU44: 認定有無 | CV44: =IF(#REF!="","申請なし",#REF!) -> #REF! | CX44: 確約書の提出 | CY44: =IF('建設キャリアアップシステム(CCUS)'!E11="","無",'建設キャリアアップシステム(CCUS)'!E11) -> 無 | DA44: 工事名 | DB44: =IF(#REF!="","申請無し",#REF!) -> #REF! | DD44: =IF(AND(DE44="申請なし",DF44="申請なし"),"","活動内容") -> #REF! | DE44: =IF(#REF!="","申請なし",#REF!) -> #REF! | DF44: =IF(#REF!="","申請なし",#REF!) -> #REF! | DS44: 工事名 | DT44: =IF(#REF!="","申請なし",#REF!) -> #REF! | DU44: =IF(#REF!="","申請なし",#REF!) -> #REF! | DV44: 住所 | DW44: =IF(DW45="","申請なし",IF(#REF!="","",#REF!)) -> #REF! | DY44: 営業所住所 | DZ44: =IF(DZ45="","申請なし",IF(#REF!="","",#REF!)) -> #REF! | EB44: 拠点名1 | EC44: =IF(#REF!="","申請なし",#REF!) -> #REF!
B45: 2 | I45: 発注機関 | J45: =IF(J44="申請なし","",IF(同種工事施工実績!F19="","",同種工事施工実績!F19)) | K45: =IF(K44="申請なし","",IF(同種工事施工実績!M19="","",同種工事施工実績!M19)) | L45: =IF(M45="","","表彰種類") | M45: =IF(優良工事表彰!E12="","",優良工事表彰!E12) | U45: =IF(W34="配置なし","",IF(V44="","","有効期限")) | V45: =IF(W34="配置なし","",IF(V44="","",IF(#REF!="","",#REF!))) | X45: 発注機関 | Y45: =IF(OR(Y44="申請なし",Z34="配置なし"),"",IF(同種工事施工経験!F20="","",同種工事施工経験!F20)) | Z45: =IF(OR(Z34="配置なし",Z44="申請なし"),"",IF(同種工事施工経験!M20="","",同種工事施工経験!M20)) | AA45: =IF(AC34="配置なし","",IF(AB45="","","表彰種類")) | AB45: =IF(AC34="配置なし","",IF(優秀技術者表彰!F14="","",優秀技術者表彰!F14)) | AD45: =IF(AF34="配置なし","配置なし",IF(AND(AF34="配置あり",NOT(AD44="")),"申請あり","申請なし")) -> 配置なし | AM45: =IF(AO34="配置なし","",IF(AN44="","","有効期限")) | AN45: =IF(AO34="配置なし","",IF(AN44="","",IF(#REF!="","",#REF!))) | AP45: 発注機関 | AQ45: =IF(OR(AR34="配置なし",AQ44="申請なし"),"",IF(同種工事施工経験!F148="","",同種工事施工経験!F148)) | AR45: =IF(OR(AR34="配置なし",AR44="申請なし"),"",IF(同種工事施工経験!M148="","",同種工事施工経験!M148)) | AS45: =IF(AU34="配置なし","",IF(AT45="","","表彰種類")) | AT45: =IF(AU34="配置なし","",IF(優秀技術者表彰!F30="","",優秀技術者表彰!F30)) | AV45: =IF(AX34="配置なし","配置なし",IF(AND(AX34="配置あり",NOT(AV44="")),"申請あり","申請なし")) -> 配置なし | BE45: =IF(BG34="配置なし","",IF(BF44="","","有効期限")) | BF45: =IF(BG34="配置なし","",IF(BF44="","",IF(#REF!="","",#REF!))) | BH45: 発注機関 | BI45: =IF(OR(BJ34="配置なし",BI44="申請なし"),"",IF(同種工事施工経験!F201="","",同種工事施工経験!F201)) | BJ45: =IF(OR(BJ34="配置なし",BJ44="申請なし"),"",IF(同種工事施工経験!M201="","",同種工事施工経験!M201)) | BK45: =IF(BM34="配置なし","",IF(BL45="","","表彰種類")) | BL45: =IF(BM34="配置なし","",IF(優秀技術者表彰!F46="","",優秀技術者表彰!F46)) | BN45: =IF(BP34="配置なし","配置なし",IF(AND(BP34="配置あり",NOT(BN44="")),"申請あり","申請なし")) -> 配置なし | BW45: 認定年月日 | BX45: =IF(BX44="申請なし","",IF('BCP&防災協定・家畜伝染病防疫協定'!E12="","",'BCP&防災協定・家畜伝染病防疫協定'!E12)) | BZ45: =IF(AND(CA46="",CB46=""),"","活動日") | CA45: =IF(CA46="","",IF(ボランティア!C10="","",ボランティア!C10)) | CB45: =IF(CB46="","",IF(ボランティア!C13="","",ボランティア!C13)) | CC45: 発注機関 | CD45: =IF(維持管理業務!A15="","",維持管理業務!A15) | CE45: =IF(維持管理業務!A20="","",維持管理業務!A20) | CF45: 発注機関 | CG45: =IF(除雪業務!A16="","",除雪業務!A16) | CH45: =IF(除雪業務!A21="","",除雪業務!A21) | CL45: 技術者② | CM45: =IF(#REF!="","配置なし",#REF!) -> #REF! | CN45: =IF(#REF!="","",#REF!) -> #REF! | CO45: =IF(AND(CP44="申請なし",CQ44="申請なし"),"","生年月日") -> #REF! | CP45: =IF(OR(CP44="申請なし",CP44="無"),"",#REF!) -> #REF! | CQ45: =IF(OR(CQ44="申請なし",CQ44="無"),"",#REF!) -> #REF! | CS45: =IF(#REF!="","",#REF!) -> #REF! | DA45: 発注機関 | DB45: =IF(#REF!="","",#REF!) -> #REF! | DD45: =IF(AND(DE44="申請なし",DF44="申請なし"),"","活動日") -> #REF! | DE45: =IF(DE44="申請なし","",IF(#REF!="","",#REF!)) -> #REF! | DF45: =IF(DF44="申請なし","",IF(#REF!="","",#REF!)) -> #REF! | DS45: 発注機関 | DT45: =IF(DT44="申請なし","",IF(#REF!="","",#REF!)) -> #REF! | DU45: =IF(DU44="申請なし","",IF(#REF!="","",#REF!)) -> #REF! | DV45: 種類 | DW45: =IF(#REF!="","",#REF!) -> #REF! | DY45: 営業所種類 | DZ45: =IF(#REF!="","",#REF!) -> #REF! | EB45: 所在地1 | EC45: =IF(EC44="申請なし","",IF(#REF!="","",#REF!)) -> #REF!
B46: 3 | I46: 工事種別 | J46: =IF(J44="申請なし","",IF(同種工事施工実績!F20="","",同種工事施工実績!F20)) | K46: =IF(K44="申請なし","",IF(同種工事施工実績!M20="","",同種工事施工実績!M20)) | L46: =IF(M45="","","受賞年度") | M46: =IF(M45="","",IF(優良工事表彰!E13="","",優良工事表彰!E13)) | X46: 施工場所 | Y46: =IF(OR(Z34="配置なし",Y44="申請なし"),"",IF(同種工事施工経験!F21="","",同種工事施工経験!F21)) | Z46: =IF(OR(Z34="配置なし",Z44="申請なし"),"",IF(同種工事施工経験!M21="","",同種工事施工経験!M21)) | AA46: =IF(AC34="配置なし","",IF(AB45="","","受賞年度")) | AB46: =IF(AC34="配置なし","",IF(AB45="","",IF(優秀技術者表彰!F15="","",優秀技術者表彰!F15))) | AP46: 施工場所 | AQ46: =IF(OR(AR34="配置なし",AQ44="申請なし"),"",IF(同種工事施工経験!F149="","",同種工事施工経験!F149)) | AR46: =IF(OR(AR34="配置なし",AR44="申請なし"),"",IF(同種工事施工経験!M149="","",同種工事施工経験!M149)) | AS46: =IF(AU34="配置なし","",IF(AT45="","","受賞年度")) | AT46: =IF(AU34="配置なし","",IF(AT45="","",IF(優秀技術者表彰!F31="","",優秀技術者表彰!F31))) | BH46: 施工場所 | BI46: =IF(OR(BJ34="配置なし",BI44="申請なし"),"",IF(同種工事施工経験!F202="","",同種工事施工経験!F202)) | BJ46: =IF(OR(BJ34="配置なし",BJ44="申請なし"),"",IF(同種工事施工経験!M202="","",同種工事施工経験!M202)) | BK46: =IF(BM34="配置なし","",IF(BL45="","","受賞年度")) | BL46: =IF(BM34="配置なし","",IF(BL45="","",IF(優秀技術者表彰!F47="","",優秀技術者表彰!F47))) | BW46: 有効期限 | BX46: =IF(BX44="申請なし","",IF('BCP&防災協定・家畜伝染病防疫協定'!I12="","",'BCP&防災協定・家畜伝染病防疫協定'!I12)) | BZ46: =IF(AND(CA46="",CB46=""),"","活動箇所") | CA46: =IF(ボランティア!K10="","",ボランティア!K10) | CB46: =IF(ボランティア!K13="","",ボランティア!K13) | CC46: 元請・下請区分 | CD46: =IF(維持管理業務!D15="","",維持管理業務!D15) -> 0 | CE46: =IF(維持管理業務!D20="","",維持管理業務!D20) -> 0 | CF46: 元請・下請区分 | CG46: =IF(除雪業務!D16="","",除雪業務!D16) | CH46: =IF(除雪業務!D21="","",除雪業務!D21) | CL46: 技術者③ | CM46: =IF(#REF!="","配置なし",#REF!) -> #REF! | CN46: =IF(#REF!="","",#REF!) -> #REF! | CO46: =IF(AND(CP44="申請なし",CQ44="申請なし"),"","雇用年月日") -> #REF! | CP46: =IF(OR(CP44="申請なし",CP44="無"),"",#REF!) -> #REF! | CQ46: =IF(OR(CQ44="申請なし",CQ44="無"),"",#REF!) -> #REF! | CR46: ② | CS46: =IF(#REF!="","",#REF!) -> #REF! | CT46: =IF(#REF!="","",#REF!) -> #REF! | DA46: ＩＣＴ工種 | DB46: =IF(#REF!="","",#REF!) -> #REF! | DS46: 施工場所 | DT46: =IF(DT44="申請なし","",IF(#REF!="","",#REF!)) -> #REF! | DU46: =IF(DU44="申請なし","",IF(#REF!="","",#REF!)) -> #REF! | DY46: 工場住所 | DZ46: =IF(DZ45="","",IF(#REF!="","",#REF!)) -> #REF! | EB46: 技術者数1 | EC46: =IF(EC44="申請なし","",IF(#REF!="","",#REF!)) -> #REF!
B47: 4 | I47: 建設工事の種類 | J47: =IF(J44="申請なし","",IF(同種工事施工実績!F21="","",同種工事施工実績!F21)) | K47: =IF(K44="申請なし","",IF(同種工事施工実績!M21="","",同種工事施工実績!M21)) | L47: =IF(OR(M34="有",M45=""),"","工事種別") | M47: =IF(M45="","",IF(優良工事表彰!E16="","",優良工事表彰!E16)) | X47: 請負金額 | Y47: =IF(OR(Z34="配置なし",Y44="申請なし"),"",IF(同種工事施工経験!F23="","",同種工事施工経験!F23)) | Z47: =IF(OR(Z34="配置なし",Z44="申請なし"),"",IF(同種工事施工経験!M23="","",同種工事施工経験!M23)) | AA47: =IF(OR(AC34="配置なし",AB45=""),"","工事種別") | AB47: =IF(OR(AC34="配置なし",AB45=""),"",IF(優秀技術者表彰!F18="","",優秀技術者表彰!F18)) | AP47: 請負金額 | AQ47: =IF(OR(AR34="配置なし",AQ44="申請なし"),"",IF(同種工事施工経験!F151="","",同種工事施工経験!F151)) | AR47: =IF(OR(AR34="配置なし",AR44="申請なし"),"",IF(同種工事施工経験!M151="","",同種工事施工経験!M151)) | AS47: =IF(OR(AU34="配置なし",AT45=""),"","工事種別") | AT47: =IF(OR(AU34="配置なし",AT45=""),"",IF(優秀技術者表彰!F34="","",優秀技術者表彰!F34)) | BH47: 請負金額 | BI47: =IF(OR(BJ34="配置なし",BI44="申請なし"),"",IF(同種工事施工経験!F204="","",同種工事施工経験!F204)) | BJ47: =IF(OR(BJ34="配置なし",BJ44="申請なし"),"",IF(同種工事施工経験!M204="","",同種工事施工経験!M204)) | BK47: =IF(OR(BM34="配置なし",BL45=""),"","工事種別") | BL47: =IF(OR(BM34="配置なし",BL45=""),"",IF(優秀技術者表彰!F50="","",優秀技術者表彰!F50)) | BW47: 協定実績 | BX47: =IF('BCP&防災協定・家畜伝染病防疫協定'!G19="","申請なし",'BCP&防災協定・家畜伝染病防疫協定'!G19) -> 申請なし | BY47: =IF('BCP&防災協定・家畜伝染病防疫協定'!G20="","申請なし",'BCP&防災協定・家畜伝染病防疫協定'!G20) -> 申請なし | BZ47: =IF(AND(CA46="",CB46=""),"","参加人数") | CA47: =IF(CA46="","",IF(ボランティア!O10="","",ボランティア!O10)) | CB47: =IF(CB46="","",IF(ボランティア!O13="","",ボランティア!O13)) | CC47: 契約（始） | CD47: =IF(維持管理業務!F15="","",維持管理業務!F15) | CE47: =IF(維持管理業務!F20="","",維持管理業務!F20) | CF47: 契約（始） | CG47: =IF(除雪業務!F16="","",除雪業務!F16) | CH47: =IF(除雪業務!F21="","",除雪業務!F21) | CI47: 障がい者 | CJ47: 障がい者雇用数 | CK47: =#REF! -> #REF! | CS47: =IF(#REF!="","",#REF!) -> #REF! | DA47: ①３次元起工測量 | DB47: =IF(#REF!="","",#REF!) -> #REF! | DS47: 請負金額 | DT47: =IF(DT44="申請なし","",IF(#REF!="","",#REF!)) -> #REF! | DU47: =IF(DU44="申請なし","",IF(#REF!="","",#REF!)) -> #REF! | EB47: 拠点名2 | EC47: =IF(#REF!="","申請なし",#REF!) -> #REF!
B48: 5 | I48: 施工場所 | J48: =IF(J44="申請なし","",IF(同種工事施工実績!F22="","",同種工事施工実績!F22)) | K48: =IF(K44="申請なし","",IF(同種工事施工実績!M22="","",同種工事施工実績!M22)) | L48: =IF(OR(M34="有",M45=""),"","建設工事の種類") | M48: =IF(M45="","",IF(優良工事表彰!E17="","",優良工事表彰!E17)) | X48: 工期 | Y48: =IF(OR(Z34="配置なし",Y44="申請なし"),"",IF(同種工事施工経験!G24="","",同種工事施工経験!F24&同種工事施工経験!G24&同種工事施工経験!H24&同種工事施工経験!I24&同種工事施工経験!J24&同種工事施工経験!K24&同種工事施工経験!L24&"～"))&IF(OR(Z34="配置なし",Y44="申請なし"),"",IF(同種工事施工経験!G25="","",同種工事施工経験!F25&同種工事施工経験!G25&同種工事施工経験!H25&同種工事施工経験!I25&同種工事施工経験!J25&同種工事施工経験!K25&同種工事施工経験!L25)) | Z48: =IF(OR(Z34="配置なし",Z44="申請なし"),"",IF(同種工事施工経験!N24="","",同種工事施工経験!M24&同種工事施工経験!N24&同種工事施工経験!O24&同種工事施工経験!P24&同種工事施工経験!Q24&同種工事施工経験!R24&同種工事施工経験!S24&"～"))&IF(OR(Z34="配置なし",Z44="申請なし"),"",IF(同種工事施工経験!N25="","",同種工事施工経験!M25&同種工事施工経験!N25&同種工事施工経験!O25&同種工事施工経験!P25&同種工事施工経験!Q25&同種工事施工経験!R25&同種工事施工経験!S25)) | AA48: =IF(OR(AC34="配置なし",AB45=""),"","建設工事の種類") | AB48: =IF(OR(AC34="配置なし",AB45=""),"",IF(優秀技術者表彰!F19="","",優秀技術者表彰!F19)) | AP48: 工期 | AQ48: =IF(OR(AR34="配置なし",AQ44="申請なし"),"",IF(OR(同種工事施工経験!G152="",同種工事施工経験!G152="○"),"",同種工事施工経験!F152&同種工事施工経験!G152&同種工事施工経験!H152&同種工事施工経験!I152&同種工事施工経験!J152&同種工事施工経験!K152&同種工事施工経験!L152&"～"))&IF(OR(AR34="配置なし",AQ44="申請なし"),"",IF(同種工事施工経験!G153="","",同種工事施工経験!F153&同種工事施工経験!G153&同種工事施工経験!H153&同種工事施工経験!I153&同種工事施工経験!J153&同種工事施工経験!K153&同種工事施工経験!L153)) | AR48: =IF(OR(AR34="配置なし",AR44="申請なし"),"",IF(同種工事施工経験!N152="","",同種工事施工経験!M152&同種工事施工経験!N152&同種工事施工経験!O152&同種工事施工経験!P152&同種工事施工経験!Q152&同種工事施工経験!R152&同種工事施工経験!S152&"～"))&IF(OR(AR34="配置なし",AR44="申請なし"),"",IF(同種工事施工経験!N153="","",同種工事施工経験!M153&同種工事施工経験!N153&同種工事施工経験!O153&同種工事施工経験!P153&同種工事施工経験!Q153&同種工事施工経験!R153&同種工事施工経験!S153)) | AS48: =IF(OR(AU34="配置なし",AT45=""),"","建設工事の種類") | AT48: =IF(OR(AU34="配置なし",AT45=""),"",IF(優秀技術者表彰!F35="","",優秀技術者表彰!F35)) | BH48: 工期 | BI48: =IF(OR(BJ34="配置なし",BI44="申請なし"),"",IF(同種工事施工経験!G205="","",同種工事施工経験!F205&同種工事施工経験!G205&同種工事施工経験!H205&同種工事施工経験!I205&同種工事施工経験!J205&同種工事施工経験!K205&同種工事施工経験!L205&"～"))&IF(OR(BJ34="配置なし",BI44="申請なし"),"",IF(同種工事施工経験!G206="","",同種工事施工経験!F206&同種工事施工経験!G206&同種工事施工経験!H206&同種工事施工経験!I206&同種工事施工経験!J206&同種工事施工経験!K206&同種工事施工経験!L206)) | BJ48: =IF(OR(BJ34="配置なし",BJ44="申請なし"),"",IF(同種工事施工経験!N205="","",同種工事施工経験!M205&同種工事施工経験!N205&同種工事施工経験!O205&同種工事施工経験!P205&同種工事施工経験!Q205&同種工事施工経験!R205&同種工事施工経験!S205&"～"))&IF(OR(BJ34="配置なし",BJ44="申請なし"),"",IF(同種工事施工経験!N206="","",同種工事施工経験!M206&同種工事施工経験!N206&同種工事施工経験!O206&同種工事施工経験!P206&同種工事施工経験!Q206&同種工事施工経験!R206&同種工事施工経験!S206)) | BK48: =IF(OR(BM34="配置なし",BL45=""),"","建設工事の種類") | BL48: =IF(OR(BM34="配置なし",BL45=""),"",IF(優秀技術者表彰!F51="","",優秀技術者表彰!F51)) | BZ48: =IF(AND(CA46="",CB46=""),"","従業員数") | CA48: =IF(CA46="","",IF(ボランティア!Q10="","",ボランティア!Q10)) | CB48: =IF(CB46="","",IF(ボランティア!Q13="","",ボランティア!Q13)) | CC48: 契約（終） | CD48: =IF(維持管理業務!F16="","",維持管理業務!F16) | CE48: =IF(維持管理業務!F21="","",維持管理業務!F21) | CF48: 契約（終） | CG48: =IF(除雪業務!F17="","",除雪業務!F17) | CH48: =IF(除雪業務!F22="","",除雪業務!F22) | CJ48: 法定雇用義務数 | CK48: =#REF! -> #REF! | CR48: ③ | CS48: =IF(#REF!="","",#REF!) -> #REF! | CT48: =IF(#REF!="","",#REF!) -> #REF! | DA48: ②３次元設計データ作成 | DB48: =IF(#REF!="","",#REF!) -> #REF! | DS48: 工期(始) | DT48: =IF(DT44="申請なし","",IF(#REF!="","",#REF!&#REF!&#REF!&#REF!&#REF!&#REF!&#REF!&"～")) -> #REF! | DU48: =IF(DU44="申請なし","",IF(#REF!="","",#REF!&#REF!&#REF!&#REF!&#REF!&#REF!&#REF!&"～")) -> #REF! | EB48: 所在地2 | EC48: =IF(EC47="申請なし","",IF(#REF!="","",#REF!)) -> #REF!
B49: 6 | I49: 請負金額 | J49: =IF(J44="申請なし","",IF(同種工事施工実績!F24="","",同種工事施工実績!F24)) | K49: =IF(K44="申請なし","",IF(同種工事施工実績!M24="","",同種工事施工実績!M24)) | X49: 従事 | Y49: =IF(OR(Z34="配置なし",Y44="申請なし"),"",IF(同種工事施工経験!G26="","",同種工事施工経験!F26&同種工事施工経験!G26&同種工事施工経験!H26&同種工事施工経験!I26&同種工事施工経験!J26&同種工事施工経験!K26&同種工事施工経験!L26&"～"))&IF(OR(Z34="配置なし",Y44="申請なし"),"",IF(同種工事施工経験!G27="","",同種工事施工経験!F27&同種工事施工経験!G27&同種工事施工経験!H27&同種工事施工経験!I27&同種工事施工経験!J27&同種工事施工経験!K27&同種工事施工経験!L27)) | Z49: =IF(OR(Z34="配置なし",Z44="申請なし"),"",IF(同種工事施工経験!N26="","",同種工事施工経験!M26&同種工事施工経験!N26&同種工事施工経験!O26&同種工事施工経験!P26&同種工事施工経験!Q26&同種工事施工経験!R26&同種工事施工経験!S26&"～"))&IF(OR(Z34="配置なし",Z44="申請なし"),"",IF(同種工事施工経験!N27="","",同種工事施工経験!M27&同種工事施工経験!N27&同種工事施工経験!O27&同種工事施工経験!P27&同種工事施工経験!Q27&同種工事施工経験!R27&同種工事施工経験!S27)) | AP49: 従事 | AQ49: =IF(OR(AR34="配置なし",AQ44="申請なし"),"",IF(同種工事施工経験!G154="","",同種工事施工経験!F154&同種工事施工経験!G154&同種工事施工経験!H154&同種工事施工経験!I154&同種工事施工経験!J154&同種工事施工経験!K154&同種工事施工経験!L154&"～"))&IF(OR(AR34="配置なし",AQ44="申請なし"),"",IF(同種工事施工経験!G155="","",同種工事施工経験!F155&同種工事施工経験!G155&同種工事施工経験!H155&同種工事施工経験!I155&同種工事施工経験!J155&同種工事施工経験!K155&同種工事施工経験!L155)) | AR49: =IF(OR(AR34="配置なし",AR44="申請なし"),"",IF(同種工事施工経験!N154="","",同種工事施工経験!M154&同種工事施工経験!N154&同種工事施工経験!O154&同種工事施工経験!P154&同種工事施工経験!Q154&同種工事施工経験!R154&同種工事施工経験!S154&"～"))&IF(OR(AR34="配置なし",AR44="申請なし"),"",IF(同種工事施工経験!N155="","",同種工事施工経験!M155&同種工事施工経験!N155&同種工事施工経験!O155&同種工事施工経験!P155&同種工事施工経験!Q155&同種工事施工経験!R155&同種工事施工経験!S155)) | BH49: 従事 | BI49: =IF(OR(BJ34="配置なし",BI44="申請なし"),"",IF(同種工事施工経験!G207="","",同種工事施工経験!F207&同種工事施工経験!G207&同種工事施工経験!H207&同種工事施工経験!I207&同種工事施工経験!J207&同種工事施工経験!K207&同種工事施工経験!L207&"～"))&IF(OR(BJ34="配置なし",BI44="申請なし"),"",IF(同種工事施工経験!G208="","",同種工事施工経験!F208&同種工事施工経験!G208&同種工事施工経験!H208&同種工事施工経験!I208&同種工事施工経験!J208&同種工事施工経験!K208&同種工事施工経験!L208)) | BJ49: =IF(OR(BJ34="配置なし",BJ44="申請なし"),"",IF(同種工事施工経験!N207="","",同種工事施工経験!M207&同種工事施工経験!N207&同種工事施工経験!O207&同種工事施工経験!P207&同種工事施工経験!Q207&同種工事施工経験!R207&同種工事施工経験!S207&"～"))&IF(OR(BJ34="配置なし",BJ44="申請なし"),"",IF(同種工事施工経験!N208="","",同種工事施工経験!M208&同種工事施工経験!N208&同種工事施工経験!O208&同種工事施工経験!P208&同種工事施工経験!Q208&同種工事施工経験!R208&同種工事施工経験!S208)) | BZ49: ﾊｰﾄﾌﾙ活動 | CA49: =IF(CA50="","申請なし","") -> 申請なし | CB49: =IF(CB50="","申請なし","") -> 申請なし | CC49: 施工箇所 | CD49: =IF(維持管理業務!N15="","",維持管理業務!N15) | CE49: =IF(維持管理業務!N20="","",維持管理業務!N20) | CF49: 施工箇所 | CG49: =IF(除雪業務!N16="","",除雪業務!N16) | CH49: =IF(除雪業務!N21="","",除雪業務!N21) | CJ49: 常用雇用労働者数 | CK49: =#REF! -> #REF! | CS49: =IF(#REF!="","",#REF!) -> #REF! | DA49: ③ICT建機による施工 | DB49: =IF(#REF!="","",#REF!) -> #REF! | DS49: 工期(終) | DT49: =IF(DT44="申請なし","",IF(#REF!="","",#REF!&#REF!&#REF!&#REF!&#REF!&#REF!&#REF!)) -> #REF! | DU49: =IF(DU44="申請なし","",IF(#REF!="","",#REF!&#REF!&#REF!&#REF!&#REF!&#REF!&#REF!)) -> #REF! | EB49: 技術者数2 | EC49: =IF(EC47="申請なし","",IF(#REF!="","",#REF!)) -> #REF!
B50: 7 | I50: 工期(始) | J50: =IF(J44="申請なし","",IF(同種工事施工実績!G25="","",同種工事施工実績!F25&同種工事施工実績!G25&同種工事施工実績!H25&同種工事施工実績!I25&同種工事施工実績!J25&同種工事施工実績!K25&同種工事施工実績!L25&"～")) | K50: =IF(K44="申請なし","",IF(同種工事施工実績!N25="","",同種工事施工実績!M25&同種工事施工実績!N25&同種工事施工実績!O25&同種工事施工実績!P25&同種工事施工実績!Q25&同種工事施工実績!R25&同種工事施工実績!S25&"～")) | X50: 工事種別 | Y50: =IF(OR(Z34="配置なし",Y44="申請なし"),"",IF(同種工事施工経験!F31="","",同種工事施工経験!F31)) | Z50: =IF(OR(Z34="配置なし",Z44="申請なし"),"",IF(同種工事施工経験!M31="","",同種工事施工経験!M31)) | AP50: 工事種別 | AQ50: =IF(OR(AR34="配置なし",AQ44="申請なし"),"",IF(同種工事施工経験!F159="","",同種工事施工経験!F159)) | AR50: =IF(OR(AR34="配置なし",AR44="申請なし"),"",IF(同種工事施工経験!M159="","",同種工事施工経験!M159)) | BH50: 工事種別 | BI50: =IF(OR(BJ34="配置なし",BI44="申請なし"),"",IF(同種工事施工経験!F212="","",同種工事施工経験!F212)) | BJ50: =IF(OR(BJ34="配置なし",BJ44="申請なし"),"",IF(同種工事施工経験!M212="","",同種工事施工経験!M212)) | BZ50: =IF(AND(CA50="",CB50=""),"","活動箇所") | CA50: =IF(ボランティア!C24="","",ボランティア!C24) | CB50: =IF(ボランティア!C25="","",ボランティア!C25) | CI50: 育児介護 | CJ50: 法律超える制度 | CK50: =IF(#REF!="","",#REF!) -> #REF! | DA50: ④３次元出来形管理等 | DB50: =IF(#REF!="","",#REF!) -> #REF! | DS50: 工事成績 | DT50: =IF(DT44="申請なし","",IF(#REF!="","",#REF!)) -> #REF! | DU50: =IF(DU44="申請なし","",IF(#REF!="","",#REF!)) -> #REF!
B51: 8 | I51: 工期(終) | J51: =IF(J44="申請なし","",IF(同種工事施工実績!G26="","",同種工事施工実績!F26&同種工事施工実績!G26&同種工事施工実績!H26&同種工事施工実績!I26&同種工事施工実績!J26&同種工事施工実績!K26&同種工事施工実績!L26)) | K51: =IF(K44="申請なし","",IF(同種工事施工実績!N26="","",同種工事施工実績!M26&同種工事施工実績!N26&同種工事施工実績!O26&同種工事施工実績!P26&同種工事施工実績!Q26&同種工事施工実績!R26&同種工事施工実績!S26)) | X51: 建設工事の種類 | Y51: =IF(OR(Z34="配置なし",Y44="申請なし"),"",IF(同種工事施工経験!F32="","",同種工事施工経験!F32)) | Z51: =IF(OR(Z34="配置なし",Z44="申請なし"),"",IF(同種工事施工経験!M32="","",同種工事施工経験!M32)) | AP51: 建設工事の種類 | AQ51: =IF(OR(AR34="配置なし",AQ44="申請なし"),"",IF(同種工事施工経験!F160="","",同種工事施工経験!F160)) | AR51: =IF(OR(AR34="配置なし",AR44="申請なし"),"",IF(同種工事施工経験!M160="","",同種工事施工経験!M160)) | BH51: 建設工事の種類 | BI51: =IF(OR(BJ34="配置なし",BI44="申請なし"),"",IF(同種工事施工経験!F213="","",同種工事施工経験!F213)) | BJ51: =IF(OR(BJ34="配置なし",BJ44="申請なし"),"",IF(同種工事施工経験!M213="","",同種工事施工経験!M213)) | BZ51: =IF(AND(CA50="",CB50=""),"","参加人数") | CA51: =IF(CA50="","",IF(ボランティア!J24="","",ボランティア!J24)) | CB51: =IF(CB50="","",IF(ボランティア!J25="","",ボランティア!J25)) | CJ51: こっころ認定 | CK51: =IF(#REF!="","",#REF!) -> #REF! | DA51: ⑤３次元データの納品 | DB51: =IF(#REF!="","",#REF!) -> #REF! | DS51: 受注形態 | DT51: =IF(DT44="申請なし","",IF(#REF!="","",#REF!)) -> #REF! | DU51: =IF(DU44="申請なし","",IF(#REF!="","",#REF!)) -> #REF!
B52: 9 | I52: 施工規模 | J52: =IF(J44="申請なし","",IF(同種工事施工実績!F30="","",同種工事施工実績!F30)) | K52: =IF(K44="申請なし","",IF(同種工事施工実績!M30="","",同種工事施工実績!M30)) | X52: 役職 | Y52: =IF(OR(Z34="配置なし",Y44="申請なし"),"",IF(同種工事施工経験!F28="","",同種工事施工経験!F28)) | Z52: =IF(OR(Z34="配置なし",Z44="申請なし"),"",IF(同種工事施工経験!M28="","",同種工事施工経験!M28)) | AP52: 役職 | AQ52: =IF(OR(AR34="配置なし",AQ44="申請なし"),"",IF(同種工事施工経験!F156="","",同種工事施工経験!F156)) | AR52: =IF(OR(AR34="配置なし",AR44="申請なし"),"",IF(同種工事施工経験!M156="","",同種工事施工経験!M156)) | BH52: 役職 | BI52: =IF(OR(BJ34="配置なし",BI44="申請なし"),"",IF(同種工事施工経験!F209="","",同種工事施工経験!F209)) | BJ52: =IF(OR(BJ34="配置なし",BJ44="申請なし"),"",IF(同種工事施工経験!M209="","",同種工事施工経験!M209)) | BZ52: =IF(AND(CA50="",CB50=""),"","従業員数") | CA52: =IF(CA50="","",IF(ボランティア!M24="","",ボランティア!M24)) | CB52: =IF(CB50="","",IF(ボランティア!M25="","",ボランティア!M25)) | CJ52: こっころ認定期間 | CK52: =IF(#REF!="","",#REF!) -> #REF! | DS52: 出資比率 | DT52: =IF(DT44="申請なし","",IF(#REF!="","",#REF!)) -> #REF! | DU52: =IF(DU44="申請なし","",IF(#REF!="","",#REF!)) -> #REF!
B53: 10 | I53: 型式 | J53: =IF(J44="申請なし","",IF(同種工事施工実績!F32="","",同種工事施工実績!F32)) | K53: =IF(K44="申請なし","",IF(同種工事施工実績!M32="","",同種工事施工実績!M32)) | X53: 施工規模 | Y53: =IF(OR(Z34="配置なし",Y44="申請なし"),"",IF(同種工事施工経験!F34="","",同種工事施工経験!F34)) | Z53: =IF(OR(Z34="配置なし",Z44="申請なし"),"",IF(同種工事施工経験!M34="","",同種工事施工経験!M34)) | AP53: 施工規模 | AQ53: =IF(OR(AR34="配置なし",AQ44="申請なし"),"",IF(同種工事施工経験!F162="","",同種工事施工経験!F162)) | AR53: =IF(OR(AR34="配置なし",AR44="申請なし"),"",IF(同種工事施工経験!M162="","",同種工事施工経験!M162)) | BH53: 施工規模 | BI53: =IF(OR(BJ34="配置なし",BI44="申請なし"),"",IF(同種工事施工経験!F215="","",同種工事施工経験!F215)) | BJ53: =IF(OR(BJ34="配置なし",BJ44="申請なし"),"",IF(同種工事施工経験!M215="","",同種工事施工経験!M215)) | DA53: 工期（始） | DB53: =IF(DE44="申請無し","",DATEVALUE(#REF!&#REF!&#REF!&#REF!&#REF!&#REF!&#REF!)) -> #REF! | DS53: 工事種別 | DT53: =IF(DT44="申請なし","",IF(#REF!="","",#REF!)) -> #REF! | DU53: =IF(DU44="申請なし","",IF(#REF!="","",#REF!)) -> #REF!
B54: 11 | J54: =IF(J44="申請なし","",IF(同種工事施工実績!F34="","",同種工事施工実績!F34)) | K54: =IF(K44="申請なし","",IF(同種工事施工実績!M34="","",同種工事施工実績!M34)) | X54: 型式 | Y54: =IF(OR(Z34="配置なし",Y44="申請なし"),"",IF(同種工事施工経験!F36="","",同種工事施工経験!F36)) | Z54: =IF(OR(Z34="配置なし",Z44="申請なし"),"",IF(同種工事施工経験!M36="","",同種工事施工経験!M36)) | AP54: 型式 | AQ54: =IF(OR(AR34="配置なし",AQ44="申請なし"),"",IF(同種工事施工経験!F164="","",同種工事施工経験!F164)) | AR54: =IF(OR(AR34="配置なし",AR44="申請なし"),"",IF(同種工事施工経験!M164="","",同種工事施工経験!M164)) | BH54: 型式 | BI54: =IF(OR(BJ34="配置なし",BI44="申請なし"),"",IF(同種工事施工経験!F217="","",同種工事施工経験!F217)) | BJ54: =IF(OR(BJ34="配置なし",BJ44="申請なし"),"",IF(同種工事施工経験!M217="","",同種工事施工経験!M217)) | DA54: 工期（終） | DB54: =IF(DE44="申請無し","",DATEVALUE(#REF!&#REF!&#REF!&#REF!&#REF!&#REF!&#REF!)) -> #REF! | DS54: 建設工事の種類 | DT54: =IF(DT45="申請なし","",IF(#REF!="","",#REF!)) -> #REF! | DU54: =IF(DU45="申請なし","",IF(#REF!="","",#REF!)) -> #REF!
B55: 12 | J55: =IF(J44="申請なし","",IF(同種工事施工実績!F36="","",同種工事施工実績!F36)) | K55: =IF(K44="申請なし","",IF(同種工事施工実績!M36="","",同種工事施工実績!M36)) | Y55: =IF(OR(Z34="配置なし",Y44="申請なし"),"",IF(同種工事施工経験!F38="","",同種工事施工経験!F38)) | Z55: =IF(OR(Z34="配置なし",Z44="申請なし"),"",IF(同種工事施工経験!M38="","",同種工事施工経験!M38)) | AQ55: =IF(OR(AR34="配置なし",AQ44="申請なし"),"",IF(同種工事施工経験!F166="","",同種工事施工経験!F166)) | AR55: =IF(OR(AR34="配置なし",AR44="申請なし"),"",IF(同種工事施工経験!M166="","",同種工事施工経験!M166)) | BI55: =IF(OR(BJ34="配置なし",BI44="申請なし"),"",IF(同種工事施工経験!F219="","",同種工事施工経験!F219)) | BJ55: =IF(OR(BJ34="配置なし",BJ44="申請なし"),"",IF(同種工事施工経験!M219="","",同種工事施工経験!M219)) | DA55: 工事成績 | DB55: =IF(#REF!="","",#REF!) -> #REF!
B56: 13 | J56: =IF(J44="申請なし","",IF(同種工事施工実績!F38="","",同種工事施工実績!F38)) | K56: =IF(K44="申請なし","",IF(同種工事施工実績!M38="","",同種工事施工実績!M38)) | Y56: =IF(OR(Z34="配置なし",Y44="申請なし"),"",IF(同種工事施工経験!F40="","",同種工事施工経験!F40)) | Z56: =IF(OR(Z34="配置なし",Z44="申請なし"),"",IF(同種工事施工経験!M40="","",同種工事施工経験!M40)) | AQ56: =IF(OR(AR34="配置なし",AQ44="申請なし"),"",IF(同種工事施工経験!F168="","",同種工事施工経験!F168)) | AR56: =IF(OR(AR34="配置なし",AR44="申請なし"),"",IF(同種工事施工経験!M168="","",同種工事施工経験!M168)) | BI56: =IF(OR(BJ34="配置なし",BI44="申請なし"),"",IF(同種工事施工経験!F221="","",同種工事施工経験!F221)) | BJ56: =IF(OR(BJ34="配置なし",BJ44="申請なし"),"",IF(同種工事施工経験!M221="","",同種工事施工経験!M221))
B57: 14 | I57: 工事成績 | J57: =IF(J44="申請なし","",IF(同種工事施工実績!F29="","",同種工事施工実績!F29)) | K57: =IF(K44="申請なし","",IF(同種工事施工実績!M29="","",同種工事施工実績!M29)) | X57: 工事成績 | Y57: =IF(OR(Z34="配置なし",Y44="申請なし"),"",IF(同種工事施工経験!F33="","",同種工事施工経験!F33)) | Z57: =IF(OR(Z34="配置なし",Z44="申請なし"),"",IF(同種工事施工経験!M33="","",同種工事施工経験!M33)) | AP57: 工事成績 | AQ57: =IF(OR(AR34="配置なし",AQ44="申請なし"),"",IF(同種工事施工経験!F161="","",同種工事施工経験!F161)) | AR57: =IF(OR(AR34="配置なし",AR44="申請なし"),"",IF(同種工事施工経験!M161="","",同種工事施工経験!M161)) | BH57: 工事成績 | BI57: =IF(OR(BJ34="配置なし",BI44="申請なし"),"",IF(同種工事施工経験!F214="","",同種工事施工経験!F214)) | BJ57: =IF(OR(BJ34="配置なし",BJ44="申請なし"),"",IF(同種工事施工経験!M214="","",同種工事施工経験!M214))
B58: 15 | I58: 受注形態 | J58: =IF(J44="申請なし","",IF(同種工事施工実績!F27="","",同種工事施工実績!F27)) | K58: =IF(K44="申請なし","",IF(同種工事施工実績!M27="","",同種工事施工実績!M27)) | X58: 受注形態 | Y58: =IF(OR(Z34="配置なし",Y44="申請なし"),"",IF(同種工事施工経験!F29="","",同種工事施工経験!F29)) | Z58: =IF(OR(Z34="配置なし",Z44="申請なし"),"",IF(同種工事施工経験!M29="","",同種工事施工経験!M29)) | AP58: 受注形態 | AQ58: =IF(OR(AR34="配置なし",AQ44="申請なし"),"",IF(同種工事施工経験!F157="","",同種工事施工経験!F157)) | AR58: =IF(OR(AR34="配置なし",AR44="申請なし"),"",IF(同種工事施工経験!M157="","",同種工事施工経験!M157)) | BH58: 受注形態 | BI58: =IF(OR(BJ34="配置なし",BI44="申請なし"),"",IF(同種工事施工経験!F210="","",同種工事施工経験!F210)) | BJ58: =IF(OR(BJ34="配置なし",BJ44="申請なし"),"",IF(同種工事施工経験!M210="","",同種工事施工経験!M210))
B59: 16 | I59: 出資比率 | J59: =IF(J44="申請なし","",IF(同種工事施工実績!F28="","",同種工事施工実績!F28)) | K59: =IF(K44="申請なし","",IF(同種工事施工実績!M28="","",同種工事施工実績!M28)) | X59: 出資比率 | Y59: =IF(OR(Z34="配置なし",Y44="申請なし"),"",IF(同種工事施工経験!F30="","",同種工事施工経験!F30)) | Z59: =IF(OR(Z34="配置なし",Z44="申請なし"),"",IF(同種工事施工経験!M30="","",同種工事施工経験!M30)) | AP59: 出資比率 | AQ59: =IF(OR(AR34="配置なし",AQ44="申請なし"),"",IF(同種工事施工経験!F158="","",同種工事施工経験!F158)) | AR59: =IF(OR(AR34="配置なし",AR44="申請なし"),"",IF(同種工事施工経験!M158="","",同種工事施工経験!M158)) | BH59: 出資比率 | BI59: =IF(OR(BJ34="配置なし",BI44="申請なし"),"",IF(同種工事施工経験!F211="","",同種工事施工経験!F211)) | BJ59: =IF(OR(BJ34="配置なし",BJ44="申請なし"),"",IF(同種工事施工経験!M211="","",同種工事施工経験!M211))
B60: 17 | I60: コリンズ | J60: =IF(J44="申請なし","",IF(同種工事施工実績!F18="","",同種工事施工実績!F18)) | K60: =IF(K44="申請なし","",IF(同種工事施工実績!M18="","",同種工事施工実績!M18)) | X60: コリンズ | Y60: =IF(OR(Z34="配置なし",Y44="申請なし"),"",IF(同種工事施工経験!F19="","",同種工事施工経験!F19)) | Z60: =IF(OR(Z34="配置なし",Z44="申請なし"),"",IF(同種工事施工経験!M19="","",同種工事施工経験!M19)) | AP60: コリンズ | AQ60: =IF(OR(AR34="配置なし",AQ44="申請なし"),"",IF(同種工事施工経験!F147="","",同種工事施工経験!F147)) | AR60: =IF(OR(AR34="配置なし",AR44="申請なし"),"",IF(同種工事施工経験!M147="","",同種工事施工経験!M147)) | BH60: コリンズ | BI60: =IF(OR(BJ34="配置なし",BI44="申請なし"),"",IF(同種工事施工経験!F200="","",同種工事施工経験!F200)) | BJ60: =IF(OR(BJ34="配置なし",BJ44="申請なし"),"",IF(同種工事施工経験!M200="","",同種工事施工経験!M200))
B62: ・各様式に記載された内容をこのシートの集計専用表で数式によりリンクさせています。
B63: ・集計専用表で集計した内容をコピー専用表で再集計していますので、企業申請内容の行数は１７行から８行に減っています。

Sheet 表紙
A1: 様式－ | B1: 1 | S1: 着色セルの凡例
M2: 提出日 | N2: =IF(企業入力シート!C4="","",企業入力シート!C4) | S2: （企業）
T3: ：「企業入力シート」で入力（数式リンク有）
A4: （ 標準型（施工体制確認型） 総合評価方式 ） | T4: ：セルに直接入力が必要な箇所
A5: 総 合 評 価 技 術 資 料
A6: 発注者 | S6: （発注者）
A7: =CONCATENATE(" ",発注者入力シート!C6,IF(COUNTIF(発注者入力シート!C6,"*センター*"),"所長","")," ","様") -> 島根県知事 様 | T7: ：「発注者入力シート」で入力（数式リンク有）
T8: ：セルに直接入力が必要な箇所
H10: 住所 | J10: =IF(企業入力シート!C6="","",企業入力シート!C6) | S10: 【印刷について】
S11: このシートは「ページ設定」で「白黒印刷」と「印刷範囲」が設定されています。
G12: 商号又は名称 | J12: =IF(企業入力シート!C7="","",企業入力シート!C7) -> ○○建設
G13: 代表者氏名 | J13: =IF(企業入力シート!C8="","",企業入力シート!C8) -> ○○ ○○
A16: =CONCATENATE(" ","令和",(YEAR(発注者入力シート!C7)-2018),"年",MONTH(発注者入力シート!C7),"月",DAY(発注者入力シート!C7),"日付けで入札公告のありました下記工事について、別添のとおり書類を添えて提出いたします。") -> 令和8年9月30日付けで入札公告のありました下記工事について、別添のとおり書類を添えて提出いたします。
A19: １ 工事名 | C19: =発注者入力シート!C10 -> 蛇喰川 防安交付金（総流防）工事 第２期
A21: ２ 提出書類（下記項目の該当するもの）
A22: =IF(発注者入力シート!C20="","#N/A"," ○技術提案（ "&発注者入力シート!C20&" ） （様式-２）") -> ○技術提案（ コンクリートの品質・耐久性の向上 ） （様式-２）
A23: =IF(発注者入力シート!C21="","#N/A"," ○技術提案（ "&発注者入力シート!C21&" ） （様式-３）") -> ○技術提案（ 地盤改良の施工管理 ） （様式-３）
A24: =IF(発注者入力シート!C22="","#N/A"," ○技術提案（ "&発注者入力シート!C22&" ） （様式-４）") -> ○技術提案（ 地域住民等とのコミュニケーション ） （様式-４）
A25: =IF(発注者入力シート!C23="","#N/A"," ○技術提案（ "&発注者入力シート!C23&" ） （様式-２）") -> #N/A
A26: =IF(発注者入力シート!C24="","#N/A"," ○技術提案（ "&発注者入力シート!C24&" ） （様式-２）") -> #N/A
A27: =IF(発注者入力シート!C25="","#N/A"," ○技術提案（ "&発注者入力シート!C25&" ） （様式-２）") -> #N/A
A28: =IF(発注者入力シート!C26="","#N/A"," ○技術提案（ "&発注者入力シート!C26&" ） （様式-２）") -> #N/A
A29: =IF(AND(IFERROR(OR(発注者入力シート!$L$64="３",発注者入力シート!$L$65="３"),FALSE),企業入力シート!$B$35="○"),"",IF(COUNTIF($A$58:$A$64,"*"&VLOOKUP("３",発注者入力シート!$L$41:$N$77,3,FALSE)&"*")>=1,"",INDEX(発注者入力シート!$L$40:$O$83,MATCH("３",発注者入力シート!$L$40:$L$83,0),4))) -> #N/A
A30: =IF(AND(IFERROR(OR(発注者入力シート!$L$64="４",発注者入力シート!$L$65="４"),FALSE),企業入力シート!$B$35="○"),"",IF(COUNTIF($A$58:$A$64,"*"&VLOOKUP("４",発注者入力シート!$L$41:$N$77,3,FALSE)&"*")>=1,"",INDEX(発注者入力シート!$L$40:$O$83,MATCH("４",発注者入力シート!$L$40:$L$83,0),4))) -> #N/A
A31: =IF(AND(IFERROR(OR(発注者入力シート!$L$64="５",発注者入力シート!$L$65="５"),FALSE),企業入力シート!$B$35="○"),"",IF(COUNTIF($A$58:$A$64,"*"&VLOOKUP("５",発注者入力シート!$L$41:$N$77,3,FALSE)&"*")>=1,"",INDEX(発注者入力シート!$L$40:$O$83,MATCH("５",発注者入力シート!$L$40:$L$83,0),4))) -> ○企業の工事成績評定点 （様式-５-１、様式-５-２）
A32: =IF(AND(IFERROR(OR(発注者入力シート!$L$64="６",発注者入力シート!$L$65="６"),FALSE),企業入力シート!$B$35="○"),"",IF(COUNTIF($A$58:$A$64,"*"&VLOOKUP("６",発注者入力シート!$L$41:$N$77,3,FALSE)&"*")>=1,"",INDEX(発注者入力シート!$L$40:$O$83,MATCH("６",発注者入力シート!$L$40:$L$83,0),4))) -> ○企業の同種工事の施工実績 （様式-６）
A33: =IF(AND(IFERROR(OR(発注者入力シート!$L$64="７",発注者入力シート!$L$65="７"),FALSE),企業入力シート!$B$35="○"),"",IF(COUNTIF($A$58:$A$64,"*"&VLOOKUP("７",発注者入力シート!$L$41:$N$77,3,FALSE)&"*")>=1,"",INDEX(発注者入力シート!$L$40:$O$83,MATCH("７",発注者入力シート!$L$40:$L$83,0),4))) -> ○企業の優良工事表彰（優良工事施工団体表彰） （様式-７）
A34: =IF(AND(IFERROR(OR(発注者入力シート!$L$64="８",発注者入力シート!$L$65="８"),FALSE),企業入力シート!$B$35="○"),"",IF(COUNTIF($A$58:$A$64,"*"&VLOOKUP("８",発注者入力シート!$L$41:$N$77,3,FALSE)&"*")>=1,"",INDEX(発注者入力シート!$L$40:$O$83,MATCH("８",発注者入力シート!$L$40:$L$83,0),4))) -> ○登録基幹技能者の配置 （様式-８）
A35: =IF(AND(IFERROR(OR(発注者入力シート!$L$64="９",発注者入力シート!$L$65="９"),FALSE),企業入力シート!$B$35="○"),"",IF(COUNTIF($A$58:$A$64,"*"&VLOOKUP("９",発注者入力シート!$L$41:$N$77,3,FALSE)&"*")>=1,"",INDEX(発注者入力シート!$L$40:$O$83,MATCH("９",発注者入力シート!$L$40:$L$83,0),4))) -> ○配置予定技術者の継続学習 （様式-９）
A36: =IF(AND(IFERROR(OR(発注者入力シート!$L$64="１０",発注者入力シート!$L$65="１０"),FALSE),企業入力シート!$B$35="○"),"",IF(COUNTIF($A$58:$A$64,"*"&VLOOKUP("１０",発注者入力シート!$L$41:$N$77,3,FALSE)&"*")>=1,"",INDEX(発注者入力シート!$L$40:$O$83,MATCH("１０",発注者入力シート!$L$40:$L$83,0),4))) -> ○配置予定技術者の同種工事の施工経験 （様式-１０）
A37: =IF(AND(IFERROR(OR(発注者入力シート!$L$64="１１",発注者入力シート!$L$65="１１"),FALSE),企業入力シート!$B$35="○"),"",IF(COUNTIF($A$58:$A$64,"*"&VLOOKUP("１１",発注者入力シート!$L$41:$N$77,3,FALSE)&"*")>=1,"",INDEX(発注者入力シート!$L$40:$O$83,MATCH("１１",発注者入力シート!$L$40:$L$83,0),4))) -> ○配置予定技術者の優秀建設技術者表彰 （様式-１１）
A38: =IF(AND(IFERROR(OR(発注者入力シート!$L$64="１２",発注者入力シート!$L$65="１２"),FALSE),企業入力シート!$B$35="○"),"",IF(COUNTIF($A$58:$A$64,"*"&VLOOKUP("１２",発注者入力シート!$L$41:$N$77,3,FALSE)&"*")>=1,"",INDEX(発注者入力シート!$L$40:$O$83,MATCH("１２",発注者入力シート!$L$40:$L$83,0),4))) -> ○事業継続計画（BCP）認定及び防災協定の締結実績 （様式-１２）
A39: =IF(AND(IFERROR(OR(発注者入力シート!$L$64="１３",発注者入力シート!$L$65="１３"),FALSE),企業入力シート!$B$35="○"),"",IF(COUNTIF($A$58:$A$64,"*"&VLOOKUP("１３",発注者入力シート!$L$41:$N$77,3,FALSE)&"*")>=1,"",INDEX(発注者入力シート!$L$40:$O$83,MATCH("１３",発注者入力シート!$L$40:$L$83,0),4))) -> ○ボランティア活動又はハートフルしまねへの参加実績 （様式-１３）
A40: =IF(AND(IFERROR(OR(発注者入力シート!$L$64="１４",発注者入力シート!$L$65="１４"),FALSE),企業入力シート!$B$35="○"),"",IF(COUNTIF($A$58:$A$64,"*"&VLOOKUP("１４",発注者入力シート!$L$41:$N$77,3,FALSE)&"*")>=1,"",INDEX(発注者入力シート!$L$40:$O$83,MATCH("１４",発注者入力シート!$L$40:$L$83,0),4))) -> ○県管理公共土木施設に関する維持管理業務または海岸漂着物の回収業務の契約実績 （様式-１４）
A41: =IF(AND(IFERROR(OR(発注者入力シート!$L$64="１５",発注者入力シート!$L$65="１５"),FALSE),企業入力シート!$B$35="○"),"",IF(COUNTIF($A$58:$A$64,"*"&VLOOKUP("１５",発注者入力シート!$L$41:$N$77,3,FALSE)&"*")>=1,"",INDEX(発注者入力シート!$L$40:$O$83,MATCH("１５",発注者入力シート!$L$40:$L$83,0),4))) -> ○県管理道路・空港を含む除雪業務の契約実績 （様式-１５）
A42: =IF(AND(IFERROR(OR(発注者入力シート!$L$64="１６",発注者入力シート!$L$65="１６"),FALSE),企業入力シート!$B$35="○"),"",IF(COUNTIF($A$58:$A$64,"*"&VLOOKUP("１６",発注者入力シート!$L$41:$N$77,3,FALSE)&"*")>=1,"",INDEX(発注者入力シート!$L$40:$O$83,MATCH("１６",発注者入力シート!$L$40:$L$83,0),4))) -> ○建設キャリアアップシステム（CCUS）の活用 （様式-１６）
A43: =IF(AND(IFERROR(OR(発注者入力シート!$L$64="１７",発注者入力シート!$L$65="１７"),FALSE),企業入力シート!$B$35="○"),"",IF(COUNTIF($A$58:$A$64,"*"&VLOOKUP("１７",発注者入力シート!$L$41:$N$77,3,FALSE)&"*")>=1,"",INDEX(発注者入力シート!$L$40:$O$83,MATCH("１７",発注者入力シート!$L$40:$L$83,0),4))) -> #N/A
A44: =IF(AND(IFERROR(OR(発注者入力シート!$L$64="１８",発注者入力シート!$L$65="１８"),FALSE),企業入力シート!$B$35="○"),"",IF(COUNTIF($A$58:$A$64,"*"&VLOOKUP("１８",発注者入力シート!$L$41:$N$77,3,FALSE)&"*")>=1,"",INDEX(発注者入力シート!$L$40:$O$83,MATCH("１８",発注者入力シート!$L$40:$L$83,0),4))) -> #N/A
A45: =IF(AND(IFERROR(OR(発注者入力シート!$L$64="１９",発注者入力シート!$L$65="１９"),FALSE),企業入力シート!$B$35="○"),"",IF(COUNTIF($A$58:$A$64,"*"&VLOOKUP("１９",発注者入力シート!$L$41:$N$77,3,FALSE)&"*")>=1,"",INDEX(発注者入力シート!$L$40:$O$83,MATCH("１９",発注者入力シート!$L$40:$L$83,0),4))) -> #N/A
A46: =IF(AND(IFERROR(OR(発注者入力シート!$L$64="２０",発注者入力シート!$L$65="２０"),FALSE),企業入力シート!$B$35="○"),"",IF(COUNTIF($A$58:$A$64,"*"&VLOOKUP("２０",発注者入力シート!$L$41:$N$77,3,FALSE)&"*")>=1,"",INDEX(発注者入力シート!$L$40:$O$83,MATCH("２０",発注者入力シート!$L$40:$L$83,0),4))) -> #N/A
A48: =IF(企業入力シート!A25=0,"","※事前審査・証明書による提出（技術資料及び添付資料省略）")
A49: =IF(企業入力シート!$A$25>0," ・"&VLOOKUP(1,企業入力シート!$A$26:$I$35,3,FALSE),"")
A50: =IF(企業入力シート!$A$25>1," ・"&VLOOKUP(2,企業入力シート!$A$26:$I$35,3,FALSE),"")
A51: =IF(企業入力シート!$A$25>2," ・"&VLOOKUP(3,企業入力シート!$A$26:$I$35,3,FALSE),"")
A52: =IF(企業入力シート!$A$25>3," ・"&VLOOKUP(4,企業入力シート!$A$26:$I$35,3,FALSE),"")
A53: =IF(企業入力シート!$A$25>4," ・"&VLOOKUP(5,企業入力シート!$A$26:$I$35,3,FALSE),"")
A54: =IF(企業入力シート!$A$25>5," ・"&VLOOKUP(6,企業入力シート!$A$26:$I$35,3,FALSE),"")
A55: =IF(企業入力シート!$A$25>6," ・"&VLOOKUP(7,企業入力シート!$A$26:$I$35,3,FALSE),"")
A57: ３ 問い合わせ先
B58: 担当者 | D58: =IF(企業入力シート!C9="","",企業入力シート!C9)
B59: 部署 | D59: =IF(企業入力シート!C10="","",企業入力シート!C10)
B60: 電話番号 | D60: =IF(企業入力シート!C11="","",企業入力シート!C11)
B61: FAX番号 | D61: =IF(企業入力シート!C12="","",企業入力シート!C12)
B62: Ｅ－ｍａｉｌ | D62: =IF(企業入力シート!C13="","",企業入力シート!C13)

Sheet 技術提案①
A1: =CONCATENATE("（様式－",発注者入力シート!E20,"）") -> （様式－２） | U1: 着色セルの凡例
A2: =CONCATENATE("評価項目",発注者入力シート!F20,"－",発注者入力シート!G20) -> 評価項目（１）－① | E2: 会社（企業体）名： | H2: =IF(企業入力シート!C7="","",企業入力シート!C7) -> ○○建設 | U2: （企業）
V3: ：「企業入力シート」で入力（数式リンク有）
A4: 技術提案 | V4: ：セルに直接入力もしくはリストから選択が必要な箇所
A5: 課題： | B5: =IF(発注者入力シート!C20="","",発注者入力シート!C20) -> コンクリートの品質・耐久性の向上
A6: 技術提案の有無 | H6: （会社記載欄：必須） | U6: （発注者）
M7: 無の場合（標準案での施工） | V7: ：「発注者入力シート」で入力（数式リンク有）
A8: 技術提案が採用されなかった場合の標準案での施工の意志の有無 | H8: （会社記載欄：上表で『有』と選択した場合のみ必須） | V8: ：セルに直接入力が必要な箇所
A10: （発注者記載欄）
A11: 技術提案の記載方法等について
A12: ・ | B12: 標準案は、入札説明書本文を参照すること。 | U12: 【印刷について】
A13: ・ | B13: 記載する内容は説明の要点（目的、具体的な手法＜施工数量、施工位置、施工範囲、施工期間、使用材料、使用機械等＞、効果、技術的な根拠、標準案に対する優位性等）が分かり易いようにまとめることとし、提案は３個までとする。 | U13: このシートは「ページ設定」で「白黒印刷」と「印刷範囲」が設定されています。
U14: 技術提案記載欄より上の行は、印刷タイトルの設定をしています。
U15: 様式内の吹出しコメントは印刷されません。
A16: ・ | B16: 技術提案が「有」の場合、その提案が採用されなかった場合の標準案での施工の意志の記載がない又は「無」と記載すると、標準点を０点とする。
U17: 注意事項
A18: ・ | B18: 技術提案がない場合は、技術評価点の減点対象とする。 | U18: 記入欄が不足する場合は、行を挿入してください。
A19: 技術提案がある場合、以下に記載する（会社記載欄） | P19: ※評価結果 | U19: 企業記入欄のセルの解除はしないでください。
A20: ① ◯◯◯◯◯ （現場特性・概要） （時期、期間） （位置、範囲） （内容《誰が･何を･どうする》、数量、材料、機械等） （目的、効果、優位性） （効果の技術的根拠） （その他） | U20: 提出資料が２P以上になる場合、体裁を整えた上で提出してください。
U21: 文字切れがないか必ず確認してください。
U23: 一つの提案内容（同一枠内）に複数提案が記載されている場合、「受発注者協議による実施の可能性」について、備考欄へ詳細に記入すること。（発注者）
U26: 【複数提案で○、△、×が混在する場合】
A27: ② ◯◯◯◯◯ （現場特性・概要） （時期、期間） （位置、範囲） （内容《誰が･何を･どうする》、数量、材料、機械等） （目的、効果、優位性） （効果の技術的根拠） （その他） | U27: 例 | V27: 評価 | W27: 履行義務 | Y27: 受発注者協議による実施の可能性
U28: ○、○ | V28: ○ | W28: すべて履行義務あり | Y28: －
U29: ○、△ | V29: △ | W29: 履行義務なし | Y29: すべて実施可能。
U30: ○、× | V30: × | W30: 履行義務なし | Y30: ×は実施を認めない。○は実施可能。
U31: △、× | V31: × | W31: 履行義務なし | Y31: ×は実施を認めない。△は実施可能。
A34: ③ ◯◯◯◯◯ （現場特性・概要） （時期、期間） （位置、範囲） （内容《誰が･何を･どうする》、数量、材料、機械等） （目的、効果、優位性） （効果の技術的根拠） （その他）
A41: ※備考
A44: ※印の欄には記入しないでください。（発注者記入欄）
A45: ※「○（評価する）」とした提案以外については、履行義務なしとする。「×」とした提案は実施を認めない。

Sheet 技術提案②
A1: =CONCATENATE("（様式－",発注者入力シート!E21,"）") -> （様式－３） | U1: 着色セルの凡例
A2: =CONCATENATE("評価項目",発注者入力シート!F21,"－",発注者入力シート!G21) -> 評価項目（１）－② | E2: 会社（企業体）名： | H2: =IF(企業入力シート!C7="","",企業入力シート!C7) -> ○○建設 | U2: （企業）
V3: ：「企業入力シート」で入力（数式リンク有）
A4: 技術提案 | V4: ：セルに直接入力もしくはリストから選択が必要な箇所
A5: 課題： | B5: =IF(発注者入力シート!C21="","",発注者入力シート!C21) -> 地盤改良の施工管理
A6: 技術提案の有無 | H6: （会社記載欄：必須） | U6: （発注者）
M7: 無の場合（標準案での施工） | V7: ：「発注者入力シート」で入力（数式リンク有）
A8: 技術提案が採用されなかった場合の標準案での施工の意志の有無 | H8: （会社記載欄：上表で『有』と選択した場合のみ必須） | V8: ：セルに直接入力が必要な箇所
A10: （発注者記載欄）
A11: 技術提案の記載方法等について | U11: 【印刷について】
A12: ・ | B12: 標準案は、入札説明書本文を参照すること。 | U12: このシートは「ページ設定」で「白黒印刷」と「印刷範囲」が設定されています。
A13: ・ | B13: 記載する内容は説明の要点（目的、具体的な手法＜施工数量、施工位置、施工範囲、施工期間、使用材料、使用機械等＞、効果、技術的な根拠、標準案に対する優位性等）が分かり易いようにまとめることとし、提案は３個までとする。 | U13: 技術提案記載欄より上の行は、印刷タイトルの設定をしています。
U14: 様式内の吹出しコメントは印刷されません。
A16: ・ | B16: 技術提案が「有」の場合、その提案が採用されなかった場合の標準案での施工の意志の記載がない又は「無」と記載すると、標準点を０点とする。 | U16: 注意事項
U17: 記入欄が不足する場合は、行を挿入してください。
A18: ・ | B18: 技術提案がない場合は、技術評価点の減点対象とする。 | U18: 企業記入欄のセルの解除はしないでください。
A19: 技術提案がある場合、以下に記載する（会社記載欄） | P19: ※評価結果 | U19: 提出資料が２P以上になる場合、体裁を整えた上で提出してください。
A20: ① ◯◯◯◯◯ （現場特性・概要） （時期、期間） （位置、範囲） （内容《誰が･何を･どうする》、数量、材料、機械等） （目的、効果、優位性） （効果の技術的根拠） （その他） | U20: 文字切れがないか必ず確認してください。
U23: 一つの提案内容（同一枠内）に複数提案が記載されている場合、「受発注者協議による実施の可能性」について、備考欄へ詳細に記入すること。（発注者）
U26: 【複数提案で○、△、×が混在する場合】
A27: ② ◯◯◯◯◯ （現場特性・概要） （時期、期間） （位置、範囲） （内容《誰が･何を･どうする》、数量、材料、機械等） （目的、効果、優位性） （効果の技術的根拠） （その他） | U27: 例 | V27: 評価 | W27: 履行義務 | Y27: 受発注者協議による実施の可能性
U28: ○、○ | V28: ○ | W28: すべて履行義務あり | Y28: －
U29: ○、△ | V29: △ | W29: 履行義務なし | Y29: すべて実施可能。
U30: ○、× | V30: × | W30: 履行義務なし | Y30: ×は実施を認めない。○は実施可能。
U31: △、× | V31: × | W31: 履行義務なし | Y31: ×は実施を認めない。△は実施可能。
A34: ③ ◯◯◯◯◯ （現場特性・概要） （時期、期間） （位置、範囲） （内容《誰が･何を･どうする》、数量、材料、機械等） （目的、効果、優位性） （効果の技術的根拠） （その他）
A41: ※備考
A44: ※印の欄には記入しないでください。（発注者記入欄）
A45: ※「○（評価する）」とした提案以外については、履行義務なしとする。「×」とした提案は実施を認めない。

Sheet 技術提案③
A1: =CONCATENATE("（様式－",発注者入力シート!E22,"）") -> （様式－４） | U1: 着色セルの凡例
A2: =CONCATENATE("評価項目",発注者入力シート!F22,"－",発注者入力シート!G22) -> 評価項目（１）－③ | E2: 会社（企業体）名： | H2: =IF(企業入力シート!C7="","",企業入力シート!C7) -> ○○建設 | U2: （企業）
V3: ：「企業入力シート」で入力（数式リンク有）
A4: 技術提案 | V4: ：セルに直接入力もしくはリストから選択が必要な箇所
A5: 課題： | B5: =IF(発注者入力シート!C22="","",発注者入力シート!C22) -> 地域住民等とのコミュニケーション
A6: 技術提案の有無 | H6: （会社記載欄：必須） | U6: （発注者）
M7: 無の場合（標準案での施工） | V7: ：「発注者入力シート」で入力（数式リンク有）
A8: 技術提案が採用されなかった場合の標準案での施工の意志の有無 | H8: （会社記載欄：上表で『有』と選択した場合のみ必須） | V8: ：セルに直接入力が必要な箇所
A10: （発注者記載欄）
A11: 技術提案の記載方法等について | U11: 【印刷について】
A12: ・ | B12: 標準案は、入札説明書本文を参照すること。 | U12: このシートは「ページ設定」で「白黒印刷」と「印刷範囲」が設定されています。
A13: ・ | B13: 記載する内容は説明の要点（目的、具体的な手法＜施工数量、施工位置、施工範囲、施工期間、使用材料、使用機械等＞、効果、技術的な根拠、標準案に対する優位性等）が分かり易いようにまとめることとし、提案は３個までとする。 | U13: 技術提案記載欄より上の行は、印刷タイトルの設定をしています。
U14: 様式内の吹出しコメントは印刷されません。
A16: ・ | B16: 技術提案が「有」の場合、その提案が採用されなかった場合の標準案での施工の意志の記載がない又は「無」と記載すると、標準点を０点とする。 | U16: 注意事項
U17: 記入欄が不足する場合は、行を挿入してください。
A18: ・ | B18: 技術提案がない場合は、技術評価点の減点対象とする。 | U18: 企業記入欄のセルの解除はしないでください。
A19: 技術提案がある場合、以下に記載する（会社記載欄） | P19: ※評価結果 | U19: 提出資料が２P以上になる場合、体裁を整えた上で提出してください。
A20: ① ◯◯◯◯◯ （現場特性・概要） （時期、期間） （位置、範囲） （内容《誰が･何を･どうする》、数量、材料、機械等） （目的、効果、優位性） （効果の技術的根拠） （その他） | U20: 文字切れがないか必ず確認してください。
U23: 一つの提案内容（同一枠内）に複数提案が記載されている場合、「受発注者協議による実施の可能性」について、備考欄へ詳細に記入すること。（発注者）
U26: 【複数提案で○、△、×が混在する場合】
A27: ② ◯◯◯◯◯ （現場特性・概要） （時期、期間） （位置、範囲） （内容《誰が･何を･どうする》、数量、材料、機械等） （目的、効果、優位性） （効果の技術的根拠） （その他） | U27: 例 | V27: 評価 | W27: 履行義務 | Y27: 受発注者協議による実施の可能性
U28: ○、○ | V28: ○ | W28: すべて履行義務あり | Y28: －
U29: ○、△ | V29: △ | W29: 履行義務なし | Y29: すべて実施可能。
U30: ○、× | V30: × | W30: 履行義務なし | Y30: ×は実施を認めない。○は実施可能。
U31: △、× | V31: × | W31: 履行義務なし | Y31: ×は実施を認めない。△は実施可能。
A34: ③ ◯◯◯◯◯ （現場特性・概要） （時期、期間） （位置、範囲） （内容《誰が･何を･どうする》、数量、材料、機械等） （目的、効果、優位性） （効果の技術的根拠） （その他）
A41: ※備考
A44: ※印の欄には記入しないでください。（発注者記入欄）
A45: ※「○（評価する）」とした提案以外については、履行義務なしとする。「×」とした提案は実施を認めない。

Sheet 企業成績評定点(3年用)
A1: =CONCATENATE("（様式-",INDEX(発注者入力シート!$B$27:$G$31,MATCH(発注者入力シート!L6,発注者入力シート!$C$27:$C$31,0),4),"-１）") -> （様式-５-１） | R1: 着色セルの凡例
A2: =CONCATENATE("評価項目",INDEX(発注者入力シート!$B$27:$G$31,MATCH(発注者入力シート!L6,発注者入力シート!$C$27:$C$31,0),5),"-",INDEX(発注者入力シート!$B$27:$G$31,MATCH(発注者入力シート!L6,発注者入力シート!$C$27:$C$31,0),6)) -> 評価項目（２）-① | R2: （企業）
A3: 企業の工事成績評定点 | S3: ：「企業入力シート」、一覧表（別紙）で入力（数式リンク有）
H4: 会社（企業体）名： | K4: =IF(企業入力シート!C7="","",企業入力シート!C7) -> ○○建設 | S4: ：リストから選択が必要な箇所
S5: ：自動計算
A6: 対象工事 | D6: 完成年度 | G6: 令和５年度から令和７年度（完成及び引き渡しが完了） | R6: （発注者）
D7: 発注機関 | G7: 島根県（総務部、農林水産部、土木部） | S7: ：「発注者入力シート」で入力（数式リンク有）
D8: 工事種別 | G8: =INDEX(発注者入力シート!$AX$3:$BC$31,MATCH(発注者入力シート!$AY$2,発注者入力シート!$AZ$3:$AZ$31,0),4) -> 一般土木工事、維持修繕工事 | S8: ：セルに直接入力が必要な箇所
D9: 建設工事の種類 | G9: =INDEX(発注者入力シート!$AX$3:$BC$31,MATCH(発注者入力シート!$AY$2,発注者入力シート!$AZ$3:$AZ$31,0),5) -> 土木一式工事、とび・土工・ｺﾝｸﾘｰﾄ工事、しゅんせつ工事
A12: 各工事成績評定点 | D12: 令和４年度 | G12: =IF('評定点一覧(R５年度3年用)'!P10="","",'評定点一覧(R５年度3年用)'!P10) | H12: =IF('評定点一覧(R５年度3年用)'!P12="","",'評定点一覧(R５年度3年用)'!P12) | I12: =IF('評定点一覧(R５年度3年用)'!P14="","",'評定点一覧(R５年度3年用)'!P14) | J12: =IF('評定点一覧(R５年度3年用)'!P16="","",'評定点一覧(R５年度3年用)'!P16) | K12: =IF('評定点一覧(R５年度3年用)'!P18="","",'評定点一覧(R５年度3年用)'!P18) | L12: =IF('評定点一覧(R５年度3年用)'!P20="","",'評定点一覧(R５年度3年用)'!P20) | M12: =IF('評定点一覧(R５年度3年用)'!P22="","",'評定点一覧(R５年度3年用)'!P22) | N12: =IF('評定点一覧(R５年度3年用)'!P24="","",'評定点一覧(R５年度3年用)'!P24) | O12: =IF('評定点一覧(R５年度3年用)'!P26="","",'評定点一覧(R５年度3年用)'!P26) | P12: =IF('評定点一覧(R５年度3年用)'!P28="","",'評定点一覧(R５年度3年用)'!P28)
G13: =IF('評定点一覧(R５年度3年用)'!P30="","",'評定点一覧(R５年度3年用)'!P30) | H13: =IF('評定点一覧(R５年度3年用)'!P32="","",'評定点一覧(R５年度3年用)'!P32) | I13: =IF('評定点一覧(R５年度3年用)'!P34="","",'評定点一覧(R５年度3年用)'!P34) | J13: =IF('評定点一覧(R５年度3年用)'!P36="","",'評定点一覧(R５年度3年用)'!P36) | K13: =IF('評定点一覧(R５年度3年用)'!P38="","",'評定点一覧(R５年度3年用)'!P38) | L13: =IF('評定点一覧(R５年度3年用)'!P40="","",'評定点一覧(R５年度3年用)'!P40) | M13: =IF('評定点一覧(R５年度3年用)'!P42="","",'評定点一覧(R５年度3年用)'!P42) | N13: =IF('評定点一覧(R５年度3年用)'!P44="","",'評定点一覧(R５年度3年用)'!P44) | O13: =IF('評定点一覧(R５年度3年用)'!P46="","",'評定点一覧(R５年度3年用)'!P46) | P13: =IF('評定点一覧(R５年度3年用)'!P48="","",'評定点一覧(R５年度3年用)'!P48)
G14: =IF('評定点一覧(R５年度3年用)'!P62="","",'評定点一覧(R５年度3年用)'!P62) | H14: =IF('評定点一覧(R５年度3年用)'!P64="","",'評定点一覧(R５年度3年用)'!P64) | I14: =IF('評定点一覧(R５年度3年用)'!P66="","",'評定点一覧(R５年度3年用)'!P66) | J14: =IF('評定点一覧(R５年度3年用)'!P68="","",'評定点一覧(R５年度3年用)'!P68) | K14: =IF('評定点一覧(R５年度3年用)'!P70="","",'評定点一覧(R５年度3年用)'!P70) | L14: =IF('評定点一覧(R５年度3年用)'!P72="","",'評定点一覧(R５年度3年用)'!P72) | M14: =IF('評定点一覧(R５年度3年用)'!P74="","",'評定点一覧(R５年度3年用)'!P74) | N14: =IF('評定点一覧(R５年度3年用)'!P76="","",'評定点一覧(R５年度3年用)'!P76) | O14: =IF('評定点一覧(R５年度3年用)'!P78="","",'評定点一覧(R５年度3年用)'!P78) | P14: =IF('評定点一覧(R５年度3年用)'!P80="","",'評定点一覧(R５年度3年用)'!P80)
G15: =IF('評定点一覧(R５年度3年用)'!P82="","",'評定点一覧(R５年度3年用)'!P82) | H15: =IF('評定点一覧(R５年度3年用)'!P84="","",'評定点一覧(R５年度3年用)'!P84) | I15: =IF('評定点一覧(R５年度3年用)'!P86="","",'評定点一覧(R５年度3年用)'!P86) | J15: =IF('評定点一覧(R５年度3年用)'!P88="","",'評定点一覧(R５年度3年用)'!P88) | K15: =IF('評定点一覧(R５年度3年用)'!P90="","",'評定点一覧(R５年度3年用)'!P90) | L15: =IF('評定点一覧(R５年度3年用)'!P92="","",'評定点一覧(R５年度3年用)'!P92) | M15: =IF('評定点一覧(R５年度3年用)'!P94="","",'評定点一覧(R５年度3年用)'!P94) | N15: =IF('評定点一覧(R５年度3年用)'!P96="","",'評定点一覧(R５年度3年用)'!P96) | O15: =IF('評定点一覧(R５年度3年用)'!P98="","",'評定点一覧(R５年度3年用)'!P98) | P15: =IF('評定点一覧(R５年度3年用)'!P100="","",'評定点一覧(R５年度3年用)'!P100)
G16: =IF('評定点一覧(R５年度3年用)'!P114="","",'評定点一覧(R５年度3年用)'!P114) | H16: =IF('評定点一覧(R５年度3年用)'!P116="","",'評定点一覧(R５年度3年用)'!P116) | I16: =IF('評定点一覧(R５年度3年用)'!P118="","",'評定点一覧(R５年度3年用)'!P118) | J16: =IF('評定点一覧(R５年度3年用)'!P120="","",'評定点一覧(R５年度3年用)'!P120) | K16: =IF('評定点一覧(R５年度3年用)'!P122="","",'評定点一覧(R５年度3年用)'!P122) | L16: =IF('評定点一覧(R５年度3年用)'!P124="","",'評定点一覧(R５年度3年用)'!P124) | M16: =IF('評定点一覧(R５年度3年用)'!P126="","",'評定点一覧(R５年度3年用)'!P126) | N16: =IF('評定点一覧(R５年度3年用)'!P128="","",'評定点一覧(R５年度3年用)'!P128) | O16: =IF('評定点一覧(R５年度3年用)'!P130="","",'評定点一覧(R５年度3年用)'!P130) | P16: =IF('評定点一覧(R５年度3年用)'!P132="","",'評定点一覧(R５年度3年用)'!P132)
G17: =IF('評定点一覧(R５年度3年用)'!P134="","",'評定点一覧(R５年度3年用)'!P134) | H17: =IF('評定点一覧(R５年度3年用)'!P136="","",'評定点一覧(R５年度3年用)'!P136) | I17: =IF('評定点一覧(R５年度3年用)'!P138="","",'評定点一覧(R５年度3年用)'!P138) | J17: =IF('評定点一覧(R５年度3年用)'!P140="","",'評定点一覧(R５年度3年用)'!P140) | K17: =IF('評定点一覧(R５年度3年用)'!P142="","",'評定点一覧(R５年度3年用)'!P142) | L17: =IF('評定点一覧(R５年度3年用)'!P144="","",'評定点一覧(R５年度3年用)'!P144) | M17: =IF('評定点一覧(R５年度3年用)'!P146="","",'評定点一覧(R５年度3年用)'!P146) | N17: =IF('評定点一覧(R５年度3年用)'!P148="","",'評定点一覧(R５年度3年用)'!P148) | O17: =IF('評定点一覧(R５年度3年用)'!P150="","",'評定点一覧(R５年度3年用)'!P150) | P17: =IF('評定点一覧(R５年度3年用)'!P152="","",'評定点一覧(R５年度3年用)'!P152)
D18: 令和５年度 | G18: =IF('評定点一覧(R６年度3年用)'!P10="","",'評定点一覧(R６年度3年用)'!P10) | H18: =IF('評定点一覧(R６年度3年用)'!P12="","",'評定点一覧(R６年度3年用)'!P12) | I18: =IF('評定点一覧(R６年度3年用)'!P14="","",'評定点一覧(R６年度3年用)'!P14) | J18: =IF('評定点一覧(R６年度3年用)'!P16="","",'評定点一覧(R６年度3年用)'!P16) | K18: =IF('評定点一覧(R６年度3年用)'!P18="","",'評定点一覧(R６年度3年用)'!P18) | L18: =IF('評定点一覧(R６年度3年用)'!P20="","",'評定点一覧(R６年度3年用)'!P20) | M18: =IF('評定点一覧(R６年度3年用)'!P22="","",'評定点一覧(R６年度3年用)'!P22) | N18: =IF('評定点一覧(R６年度3年用)'!P24="","",'評定点一覧(R６年度3年用)'!P24) | O18: =IF('評定点一覧(R６年度3年用)'!P26="","",'評定点一覧(R６年度3年用)'!P26) | P18: =IF('評定点一覧(R６年度3年用)'!P28="","",'評定点一覧(R６年度3年用)'!P28)
G19: =IF('評定点一覧(R６年度3年用)'!P30="","",'評定点一覧(R６年度3年用)'!P30) | H19: =IF('評定点一覧(R６年度3年用)'!P32="","",'評定点一覧(R６年度3年用)'!P32) | I19: =IF('評定点一覧(R６年度3年用)'!P34="","",'評定点一覧(R６年度3年用)'!P34) | J19: =IF('評定点一覧(R６年度3年用)'!P36="","",'評定点一覧(R６年度3年用)'!P36) | K19: =IF('評定点一覧(R６年度3年用)'!P38="","",'評定点一覧(R６年度3年用)'!P38) | L19: =IF('評定点一覧(R６年度3年用)'!P40="","",'評定点一覧(R６年度3年用)'!P40) | M19: =IF('評定点一覧(R６年度3年用)'!P42="","",'評定点一覧(R６年度3年用)'!P42) | N19: =IF('評定点一覧(R６年度3年用)'!P44="","",'評定点一覧(R６年度3年用)'!P44) | O19: =IF('評定点一覧(R６年度3年用)'!P46="","",'評定点一覧(R６年度3年用)'!P46) | P19: =IF('評定点一覧(R６年度3年用)'!P48="","",'評定点一覧(R６年度3年用)'!P48)
G20: =IF('評定点一覧(R６年度3年用)'!P62="","",'評定点一覧(R６年度3年用)'!P62) | H20: =IF('評定点一覧(R６年度3年用)'!P64="","",'評定点一覧(R６年度3年用)'!P64) | I20: =IF('評定点一覧(R６年度3年用)'!P66="","",'評定点一覧(R６年度3年用)'!P66) | J20: =IF('評定点一覧(R６年度3年用)'!P68="","",'評定点一覧(R６年度3年用)'!P68) | K20: =IF('評定点一覧(R６年度3年用)'!P70="","",'評定点一覧(R６年度3年用)'!P70) | L20: =IF('評定点一覧(R６年度3年用)'!P72="","",'評定点一覧(R６年度3年用)'!P72) | M20: =IF('評定点一覧(R６年度3年用)'!P74="","",'評定点一覧(R６年度3年用)'!P74) | N20: =IF('評定点一覧(R６年度3年用)'!P76="","",'評定点一覧(R６年度3年用)'!P76) | O20: =IF('評定点一覧(R６年度3年用)'!P78="","",'評定点一覧(R６年度3年用)'!P78) | P20: =IF('評定点一覧(R６年度3年用)'!P80="","",'評定点一覧(R６年度3年用)'!P80)
G21: =IF('評定点一覧(R６年度3年用)'!P82="","",'評定点一覧(R６年度3年用)'!P82) | H21: =IF('評定点一覧(R６年度3年用)'!P84="","",'評定点一覧(R６年度3年用)'!P84) | I21: =IF('評定点一覧(R６年度3年用)'!P86="","",'評定点一覧(R６年度3年用)'!P86) | J21: =IF('評定点一覧(R６年度3年用)'!P88="","",'評定点一覧(R６年度3年用)'!P88) | K21: =IF('評定点一覧(R６年度3年用)'!P90="","",'評定点一覧(R６年度3年用)'!P90) | L21: =IF('評定点一覧(R６年度3年用)'!P92="","",'評定点一覧(R６年度3年用)'!P92) | M21: =IF('評定点一覧(R６年度3年用)'!P94="","",'評定点一覧(R６年度3年用)'!P94) | N21: =IF('評定点一覧(R６年度3年用)'!P96="","",'評定点一覧(R６年度3年用)'!P96) | O21: =IF('評定点一覧(R６年度3年用)'!P98="","",'評定点一覧(R６年度3年用)'!P98) | P21: =IF('評定点一覧(R６年度3年用)'!P100="","",'評定点一覧(R６年度3年用)'!P100)
G22: =IF('評定点一覧(R６年度3年用)'!P114="","",'評定点一覧(R６年度3年用)'!P114) | H22: =IF('評定点一覧(R６年度3年用)'!P116="","",'評定点一覧(R６年度3年用)'!P116) | I22: =IF('評定点一覧(R６年度3年用)'!P118="","",'評定点一覧(R６年度3年用)'!P118) | J22: =IF('評定点一覧(R６年度3年用)'!P120="","",'評定点一覧(R６年度3年用)'!P120) | K22: =IF('評定点一覧(R６年度3年用)'!P122="","",'評定点一覧(R６年度3年用)'!P122) | L22: =IF('評定点一覧(R６年度3年用)'!P124="","",'評定点一覧(R６年度3年用)'!P124) | M22: =IF('評定点一覧(R６年度3年用)'!P126="","",'評定点一覧(R６年度3年用)'!P126) | N22: =IF('評定点一覧(R６年度3年用)'!P128="","",'評定点一覧(R６年度3年用)'!P128) | O22: =IF('評定点一覧(R６年度3年用)'!P130="","",'評定点一覧(R６年度3年用)'!P130) | P22: =IF('評定点一覧(R６年度3年用)'!P132="","",'評定点一覧(R６年度3年用)'!P132)
G23: =IF('評定点一覧(R６年度3年用)'!P134="","",'評定点一覧(R６年度3年用)'!P134) | H23: =IF('評定点一覧(R６年度3年用)'!P136="","",'評定点一覧(R６年度3年用)'!P136) | I23: =IF('評定点一覧(R６年度3年用)'!P138="","",'評定点一覧(R６年度3年用)'!P138) | J23: =IF('評定点一覧(R６年度3年用)'!P140="","",'評定点一覧(R６年度3年用)'!P140) | K23: =IF('評定点一覧(R６年度3年用)'!P142="","",'評定点一覧(R６年度3年用)'!P142) | L23: =IF('評定点一覧(R６年度3年用)'!P144="","",'評定点一覧(R６年度3年用)'!P144) | M23: =IF('評定点一覧(R６年度3年用)'!P146="","",'評定点一覧(R６年度3年用)'!P146) | N23: =IF('評定点一覧(R６年度3年用)'!P148="","",'評定点一覧(R６年度3年用)'!P148) | O23: =IF('評定点一覧(R６年度3年用)'!P150="","",'評定点一覧(R６年度3年用)'!P150) | P23: =IF('評定点一覧(R６年度3年用)'!P152="","",'評定点一覧(R６年度3年用)'!P152)
D24: 令和６年度 | G24: =IF('評定点一覧(R７年度3年用)'!P10="","",'評定点一覧(R７年度3年用)'!P10) | H24: =IF('評定点一覧(R７年度3年用)'!P12="","",'評定点一覧(R７年度3年用)'!P12) | I24: =IF('評定点一覧(R７年度3年用)'!P14="","",'評定点一覧(R７年度3年用)'!P14) | J24: =IF('評定点一覧(R７年度3年用)'!P16="","",'評定点一覧(R７年度3年用)'!P16) | K24: =IF('評定点一覧(R７年度3年用)'!P18="","",'評定点一覧(R７年度3年用)'!P18) | L24: =IF('評定点一覧(R７年度3年用)'!P20="","",'評定点一覧(R７年度3年用)'!P20) | M24: =IF('評定点一覧(R７年度3年用)'!P22="","",'評定点一覧(R７年度3年用)'!P22) | N24: =IF('評定点一覧(R７年度3年用)'!P24="","",'評定点一覧(R７年度3年用)'!P24) | O24: =IF('評定点一覧(R７年度3年用)'!P26="","",'評定点一覧(R７年度3年用)'!P26) | P24: =IF('評定点一覧(R７年度3年用)'!P28="","",'評定点一覧(R７年度3年用)'!P28)
G25: =IF('評定点一覧(R７年度3年用)'!P30="","",'評定点一覧(R７年度3年用)'!P30) | H25: =IF('評定点一覧(R７年度3年用)'!P32="","",'評定点一覧(R７年度3年用)'!P32) | I25: =IF('評定点一覧(R７年度3年用)'!P34="","",'評定点一覧(R７年度3年用)'!P34) | J25: =IF('評定点一覧(R７年度3年用)'!P36="","",'評定点一覧(R７年度3年用)'!P36) | K25: =IF('評定点一覧(R７年度3年用)'!P38="","",'評定点一覧(R７年度3年用)'!P38) | L25: =IF('評定点一覧(R７年度3年用)'!P40="","",'評定点一覧(R７年度3年用)'!P40) | M25: =IF('評定点一覧(R７年度3年用)'!P42="","",'評定点一覧(R７年度3年用)'!P42) | N25: =IF('評定点一覧(R７年度3年用)'!P44="","",'評定点一覧(R７年度3年用)'!P44) | O25: =IF('評定点一覧(R７年度3年用)'!P46="","",'評定点一覧(R７年度3年用)'!P46) | P25: =IF('評定点一覧(R７年度3年用)'!P48="","",'評定点一覧(R７年度3年用)'!P48)
G26: =IF('評定点一覧(R７年度3年用)'!P62="","",'評定点一覧(R７年度3年用)'!P62) | H26: =IF('評定点一覧(R７年度3年用)'!P64="","",'評定点一覧(R７年度3年用)'!P64) | I26: =IF('評定点一覧(R７年度3年用)'!P66="","",'評定点一覧(R７年度3年用)'!P66) | J26: =IF('評定点一覧(R７年度3年用)'!P68="","",'評定点一覧(R７年度3年用)'!P68) | K26: =IF('評定点一覧(R７年度3年用)'!P70="","",'評定点一覧(R７年度3年用)'!P70) | L26: =IF('評定点一覧(R７年度3年用)'!P72="","",'評定点一覧(R７年度3年用)'!P72) | M26: =IF('評定点一覧(R７年度3年用)'!P74="","",'評定点一覧(R７年度3年用)'!P74) | N26: =IF('評定点一覧(R７年度3年用)'!P76="","",'評定点一覧(R７年度3年用)'!P76) | O26: =IF('評定点一覧(R７年度3年用)'!P78="","",'評定点一覧(R７年度3年用)'!P78) | P26: =IF('評定点一覧(R７年度3年用)'!P80="","",'評定点一覧(R７年度3年用)'!P80)
G27: =IF('評定点一覧(R７年度3年用)'!P82="","",'評定点一覧(R７年度3年用)'!P82) | H27: =IF('評定点一覧(R７年度3年用)'!P84="","",'評定点一覧(R７年度3年用)'!P84) | I27: =IF('評定点一覧(R７年度3年用)'!P86="","",'評定点一覧(R７年度3年用)'!P86) | J27: =IF('評定点一覧(R７年度3年用)'!P88="","",'評定点一覧(R７年度3年用)'!P88) | K27: =IF('評定点一覧(R７年度3年用)'!P90="","",'評定点一覧(R７年度3年用)'!P90) | L27: =IF('評定点一覧(R７年度3年用)'!P92="","",'評定点一覧(R７年度3年用)'!P92) | M27: =IF('評定点一覧(R７年度3年用)'!P94="","",'評定点一覧(R７年度3年用)'!P94) | N27: =IF('評定点一覧(R７年度3年用)'!P96="","",'評定点一覧(R７年度3年用)'!P96) | O27: =IF('評定点一覧(R７年度3年用)'!P98="","",'評定点一覧(R７年度3年用)'!P98) | P27: =IF('評定点一覧(R７年度3年用)'!P100="","",'評定点一覧(R７年度3年用)'!P100)
G28: =IF('評定点一覧(R７年度3年用)'!P114="","",'評定点一覧(R７年度3年用)'!P114) | H28: =IF('評定点一覧(R７年度3年用)'!P116="","",'評定点一覧(R７年度3年用)'!P116) | I28: =IF('評定点一覧(R７年度3年用)'!P118="","",'評定点一覧(R７年度3年用)'!P118) | J28: =IF('評定点一覧(R７年度3年用)'!P120="","",'評定点一覧(R７年度3年用)'!P120) | K28: =IF('評定点一覧(R７年度3年用)'!P122="","",'評定点一覧(R７年度3年用)'!P122) | L28: =IF('評定点一覧(R７年度3年用)'!P124="","",'評定点一覧(R７年度3年用)'!P124) | M28: =IF('評定点一覧(R７年度3年用)'!P126="","",'評定点一覧(R７年度3年用)'!P126) | N28: =IF('評定点一覧(R７年度3年用)'!P128="","",'評定点一覧(R７年度3年用)'!P128) | O28: =IF('評定点一覧(R７年度3年用)'!P130="","",'評定点一覧(R７年度3年用)'!P130) | P28: =IF('評定点一覧(R７年度3年用)'!P132="","",'評定点一覧(R７年度3年用)'!P132)
G29: =IF('評定点一覧(R７年度3年用)'!P134="","",'評定点一覧(R７年度3年用)'!P134) | H29: =IF('評定点一覧(R７年度3年用)'!P136="","",'評定点一覧(R７年度3年用)'!P136) | I29: =IF('評定点一覧(R７年度3年用)'!P138="","",'評定点一覧(R７年度3年用)'!P138) | J29: =IF('評定点一覧(R７年度3年用)'!P140="","",'評定点一覧(R７年度3年用)'!P140) | K29: =IF('評定点一覧(R７年度3年用)'!P142="","",'評定点一覧(R７年度3年用)'!P142) | L29: =IF('評定点一覧(R７年度3年用)'!P144="","",'評定点一覧(R７年度3年用)'!P144) | M29: =IF('評定点一覧(R７年度3年用)'!P146="","",'評定点一覧(R７年度3年用)'!P146) | N29: =IF('評定点一覧(R７年度3年用)'!P148="","",'評定点一覧(R７年度3年用)'!P148) | O29: =IF('評定点一覧(R７年度3年用)'!P150="","",'評定点一覧(R７年度3年用)'!P150) | P29: =IF('評定点一覧(R７年度3年用)'!P152="","",'評定点一覧(R７年度3年用)'!P152)
A30: 工事成績評定点の平均 | G30: =IF((COUNTA(G12:P29)-COUNTBLANK(G12:P29))=0,"",COUNTA(G12:P29)-COUNTBLANK(G12:P29)) | I30: 件 | J30: =IF(OR(G30="",G30=0),"",ROUND(AVERAGE(G12:P29),1)) | M30: 点 | R30: 【印刷について】
A31: （小数第２位を四捨五入） | R31: このシートは「ページ設定」で「白黒印刷」と「印刷範囲」が設定されています。
A32: (1) | B32: 対象工事の工事成績評定点一覧表（別紙）を添付すること。 | R32: 様式内の吹出しコメントは印刷されません。
A33: (2) | B33: 工事種別については、各工事の契約時における「島根県土木工事仕様書」等において確認すること。
A35: (3) | B35: 単年度の対象工事件数が６０件を超える場合、「工事成績評定点の平均」欄の「件数」及び「平均点」は、自動計算されないため、直接記入すること。
A37: (4) | B37: 上記事項の外、入札説明書本文にある要件を必ず確認すること。

Sheet 評定点一覧(R５年度3年用)
A1: =CONCATENATE("（様式-",INDEX(発注者入力シート!$B$27:$G$31,MATCH(発注者入力シート!L6,発注者入力シート!$C$27:$C$31,0),4),"-２）") -> （様式-５-２） | Q1: 【令和５年度完成工事分】 | S1: 着色セルの凡例
A2: =CONCATENATE("評価項目",INDEX(発注者入力シート!$B$27:$G$31,MATCH(発注者入力シート!L6,発注者入力シート!$C$27:$C$31,0),5),"-",INDEX(発注者入力シート!$B$27:$G$31,MATCH(発注者入力シート!L6,発注者入力シート!$C$27:$C$31,0),6)) -> 評価項目（２）-① | S2: （企業）
A3: 工事成績評定点一覧表(別紙１枚目) | T3: ：「企業入力シート」、一覧表（別紙）で入力（数式リンク有）
T4: ：セルに直接入力が必要な箇所
H5: 会社（企業体）名： | K5: =IF(企業入力シート!C7="","",企業入力シート!C7) -> ○○建設
S6: （発注者）
T7: ：「発注者入力シート」で入力（数式リンク有）
A8: 申請 | B8: 完成 | C8: 発注機関名 | E8: 工事種別 | H8: 工事名 | P8: 工事成績 | T8: ：セルに直接入力が必要な箇所
A9: 番号 | B9: 年度 | E9: 建設工事の種類 | P9: 評定点
A10: 1 | B10: Ｒ５ | Q10: 点 | S10: 【印刷について】
S11: このシートは「ページ設定」で「白黒印刷」と「印刷範囲」が設定されています。
A12: 2 | B12: =B10 -> Ｒ５ | Q12: 点 | S12: 様式内の吹出しコメントは印刷されません。
A14: 3 | B14: =B12 -> Ｒ５ | Q14: 点
A16: 4 | B16: =B14 -> Ｒ５ | Q16: 点
A18: 5 | B18: =B16 -> Ｒ５ | Q18: 点
A20: 6 | B20: =B18 -> Ｒ５ | Q20: 点
A22: 7 | B22: =B20 -> Ｒ５ | Q22: 点
A24: 8 | B24: =B22 -> Ｒ５ | Q24: 点
A26: 9 | B26: =B24 -> Ｒ５ | Q26: 点
A28: 10 | B28: =B26 -> Ｒ５ | Q28: 点
A30: 11 | B30: =B28 -> Ｒ５ | Q30: 点
A32: 12 | B32: =B30 -> Ｒ５ | Q32: 点
A34: 13 | B34: =B32 -> Ｒ５ | Q34: 点
A36: 14 | B36: =B34 -> Ｒ５ | Q36: 点
... A48: 20 | B48: =B46 -> Ｒ５ | Q48: 点
A50: (1) | B50: 対象工事が６０件を超える場合は、本様式を複写し申請番号を修正のうえ、提出すること。
A51: (2) | B51: 工事種別、工事の種類は、各工事の契約時における「島根県土木工事仕様書」等において確認すること。
A53: =CONCATENATE("（様式-",INDEX(発注者入力シート!$B$27:$G$31,MATCH(発注者入力シート!L6,発注者入力シート!$C$27:$C$31,0),4),"-２）") -> （様式-５-２） | Q53: =Q1 -> 【令和５年度完成工事分】 | S53: 着色セルの凡例
A54: =CONCATENATE("評価項目",INDEX(発注者入力シート!$B$27:$G$31,MATCH(発注者入力シート!L6,発注者入力シート!$C$27:$C$31,0),5),"-",INDEX(発注者入力シート!$B$27:$G$31,MATCH(発注者入力シート!L6,発注者入力シート!$C$27:$C$31,0),6)) -> 評価項目（２）-① | S54: （企業）
A55: 工事成績評定点一覧表(別紙２枚目) | T55: ：「企業入力シート」、一覧表（別紙）で入力（数式リンク有）
T56: ：セルに直接入力が必要な箇所
H57: 会社（企業体）名： | K57: =IF(企業入力シート!C7="","",企業入力シート!C7) -> ○○建設
S58: （発注者）
T59: ：「発注者入力シート」で入力（数式リンク有）
A60: 申請 | B60: 完成 | C60: 発注機関名 | E60: 工事種別 | H60: 工事名 | P60: 工事成績 | T60: ：セルに直接入力が必要な箇所
A61: 番号 | B61: 年度 | E61: 建設工事の種類 | P61: 評定点
A62: 21 | B62: =B48 -> Ｒ５ | Q62: 点 | S62: 【印刷について】
S63: このシートは「ページ設定」で「白黒印刷」と「印刷範囲」が設定されています。
A64: 22 | B64: =B62 -> Ｒ５ | Q64: 点
A66: 23 | B66: =B64 -> Ｒ５ | Q66: 点
A68: 24 | B68: =B66 -> Ｒ５ | Q68: 点
A70: 25 | B70: =B68 -> Ｒ５ | Q70: 点
A72: 26 | B72: =B70 -> Ｒ５ | Q72: 点
A74: 27 | B74: =B72 -> Ｒ５ | Q74: 点
A76: 28 | B76: =B74 -> Ｒ５ | Q76: 点
A78: 29 | B78: =B76 -> Ｒ５ | Q78: 点
A80: 30 | B80: =B78 -> Ｒ５ | Q80: 点
A82: 31 | B82: =B80 -> Ｒ５ | Q82: 点
A84: 32 | B84: =B82 -> Ｒ５ | Q84: 点
A86: 33 | B86: =B84 -> Ｒ５ | Q86: 点
... A100: 40 | B100: =B98 -> Ｒ５ | Q100: 点
A102: (1) | B102: 対象工事が６０件を超える場合は、本様式を複写し申請番号を修正のうえ、提出すること。
A103: (2) | B103: 工事種別、工事の種類は、各工事の契約時における「島根県土木工事仕様書」等において確認すること。
A105: =CONCATENATE("（様式-",INDEX(発注者入力シート!$B$27:$G$31,MATCH(発注者入力シート!L6,発注者入力シート!$C$27:$C$31,0),4),"-２）") -> （様式-５-２） | Q105: =Q1 -> 【令和５年度完成工事分】 | S105: 着色セルの凡例
A106: =CONCATENATE("評価項目",INDEX(発注者入力シート!$B$27:$G$31,MATCH(発注者入力シート!L6,発注者入力シート!$C$27:$C$31,0),5),"-",INDEX(発注者入力シート!$B$27:$G$31,MATCH(発注者入力シート!L6,発注者入力シート!$C$27:$C$31,0),6)) -> 評価項目（２）-① | S106: （企業）
A107: 工事成績評定点一覧表(別紙３枚目) | T107: ：「企業入力シート」、一覧表（別紙）で入力（数式リンク有）
T108: ：セルに直接入力が必要な箇所
H109: 会社（企業体）名： | K109: =IF(企業入力シート!C7="","",企業入力シート!C7) -> ○○建設
S110: （発注者）
T111: ：「発注者入力シート」で入力（数式リンク有）
A112: 申請 | B112: 完成 | C112: 発注機関名 | E112: 工事種別 | H112: 工事名 | P112: 工事成績 | T112: ：セルに直接入力が必要な箇所
A113: 番号 | B113: 年度 | E113: 建設工事の種類 | P113: 評定点
A114: 41 | B114: =B100 -> Ｒ５ | Q114: 点 | S114: 【印刷について】
S115: このシートは「ページ設定」で「白黒印刷」と「印刷範囲」が設定されています。
A116: 42 | B116: =B114 -> Ｒ５ | Q116: 点
A118: 43 | B118: =B116 -> Ｒ５ | Q118: 点
A120: 44 | B120: =B118 -> Ｒ５ | Q120: 点
A122: 45 | B122: =B120 -> Ｒ５ | Q122: 点
A124: 46 | B124: =B122 -> Ｒ５ | Q124: 点
A126: 47 | B126: =B124 -> Ｒ５ | Q126: 点
A128: 48 | B128: =B126 -> Ｒ５ | Q128: 点
A130: 49 | B130: =B128 -> Ｒ５ | Q130: 点
A132: 50 | B132: =B130 -> Ｒ５ | Q132: 点
A134: 51 | B134: =B132 -> Ｒ５ | Q134: 点
A136: 52 | B136: =B134 -> Ｒ５ | Q136: 点
A138: 53 | B138: =B136 -> Ｒ５ | Q138: 点
... A152: 60 | B152: =B150 -> Ｒ５ | Q152: 点
A154: (1) | B154: 対象工事が６０件を超える場合は、本様式を複写し申請番号を修正のうえ、提出すること。
A155: (2) | B155: 工事種別、工事の種類は、各工事の契約時における「島根県土木工事仕様書」等において確認すること。

Sheet 評定点一覧(R６年度3年用)
A1: =CONCATENATE("（様式-",INDEX(発注者入力シート!$B$27:$G$31,MATCH(発注者入力シート!L6,発注者入力シート!$C$27:$C$31,0),4),"-２）") -> （様式-５-２） | Q1: 【令和６年度完成工事分】 | S1: 着色セルの凡例
A2: =CONCATENATE("評価項目",INDEX(発注者入力シート!$B$27:$G$31,MATCH(発注者入力シート!L6,発注者入力シート!$C$27:$C$31,0),5),"-",INDEX(発注者入力シート!$B$27:$G$31,MATCH(発注者入力シート!L6,発注者入力シート!$C$27:$C$31,0),6)) -> 評価項目（２）-① | S2: （企業）
A3: 工事成績評定点一覧表(別紙１枚目) | T3: ：「企業入力シート」、一覧表（別紙）で入力（数式リンク有）
T4: ：セルに直接入力が必要な箇所
H5: 会社（企業体）名： | K5: =IF(企業入力シート!$C$7="","",企業入力シート!$C$7) -> ○○建設
S6: （発注者）
T7: ：「発注者入力シート」で入力（数式リンク有）
A8: 申請 | B8: 完成 | C8: 発注機関名 | E8: 工事種別 | H8: 工事名 | P8: 工事成績 | T8: ：セルに直接入力が必要な箇所
A9: 番号 | B9: 年度 | E9: 建設工事の種類 | P9: 評定点
A10: 1 | B10: Ｒ６ | Q10: 点 | S10: 【印刷について】
S11: このシートは「ページ設定」で「白黒印刷」と「印刷範囲」が設定されています。
A12: 2 | B12: =B10 -> Ｒ６ | Q12: 点 | S12: 様式内の吹出しコメントは印刷されません。
A14: 3 | B14: =B12 -> Ｒ６ | Q14: 点
A16: 4 | B16: =B14 -> Ｒ６ | Q16: 点
A18: 5 | B18: =B16 -> Ｒ６ | Q18: 点
A20: 6 | B20: =B18 -> Ｒ６ | Q20: 点
A22: 7 | B22: =B20 -> Ｒ６ | Q22: 点
A24: 8 | B24: =B22 -> Ｒ６ | Q24: 点
A26: 9 | B26: =B24 -> Ｒ６ | Q26: 点
A28: 10 | B28: =B26 -> Ｒ６ | Q28: 点
A30: 11 | B30: =B28 -> Ｒ６ | Q30: 点
A32: 12 | B32: =B30 -> Ｒ６ | Q32: 点
A34: 13 | B34: =B32 -> Ｒ６ | Q34: 点
A36: 14 | B36: =B34 -> Ｒ６ | Q36: 点
... A48: 20 | B48: =B46 -> Ｒ６ | Q48: 点
A50: (1) | B50: 対象工事が６０件を超える場合は、本様式を複写し申請番号を修正のうえ、提出すること。
A51: (2) | B51: 工事種別、工事の種類は、各工事の契約時における「島根県土木工事仕様書」等において確認すること。
A53: =CONCATENATE("（様式-",INDEX(発注者入力シート!$B$27:$G$31,MATCH(発注者入力シート!L6,発注者入力シート!$C$27:$C$31,0),4),"-２）") -> （様式-５-２） | Q53: =Q1 -> 【令和６年度完成工事分】 | S53: 着色セルの凡例
A54: =CONCATENATE("評価項目",INDEX(発注者入力シート!$B$27:$G$31,MATCH(発注者入力シート!L6,発注者入力シート!$C$27:$C$31,0),5),"-",INDEX(発注者入力シート!$B$27:$G$31,MATCH(発注者入力シート!L6,発注者入力シート!$C$27:$C$31,0),6)) -> 評価項目（２）-① | S54: （企業）
A55: 工事成績評定点一覧表(別紙２枚目) | T55: ：「企業入力シート」、一覧表（別紙）で入力（数式リンク有）
T56: ：セルに直接入力が必要な箇所
H57: 会社（企業体）名： | K57: =IF(企業入力シート!C7="","",企業入力シート!C7) -> ○○建設
S58: （発注者）
T59: ：「発注者入力シート」で入力（数式リンク有）
A60: 申請 | B60: 完成 | C60: 発注機関名 | E60: 工事種別 | H60: 工事名 | P60: 工事成績 | T60: ：セルに直接入力が必要な箇所
A61: 番号 | B61: 年度 | E61: 建設工事の種類 | P61: 評定点
A62: 21 | B62: =B48 -> Ｒ６ | Q62: 点 | S62: 【印刷について】
S63: このシートは「ページ設定」で「白黒印刷」と「印刷範囲」が設定されています。
A64: 22 | B64: =B62 -> Ｒ６ | Q64: 点
A66: 23 | B66: =B64 -> Ｒ６ | Q66: 点
A68: 24 | B68: =B66 -> Ｒ６ | Q68: 点
A70: 25 | B70: =B68 -> Ｒ６ | Q70: 点
A72: 26 | B72: =B70 -> Ｒ６ | Q72: 点
A74: 27 | B74: =B72 -> Ｒ６ | Q74: 点
A76: 28 | B76: =B74 -> Ｒ６ | Q76: 点
A78: 29 | B78: =B76 -> Ｒ６ | Q78: 点
A80: 30 | B80: =B78 -> Ｒ６ | Q80: 点
A82: 31 | B82: =B80 -> Ｒ６ | Q82: 点
A84: 32 | B84: =B82 -> Ｒ６ | Q84: 点
A86: 33 | B86: =B84 -> Ｒ６ | Q86: 点
... A100: 40 | B100: =B98 -> Ｒ６ | Q100: 点
A102: (1) | B102: 対象工事が６０件を超える場合は、本様式を複写し申請番号を修正のうえ、提出すること。
A103: (2) | B103: 工事種別、工事の種類は、各工事の契約時における「島根県土木工事仕様書」等において確認すること。
A105: =CONCATENATE("（様式-",INDEX(発注者入力シート!$B$27:$G$31,MATCH(発注者入力シート!L6,発注者入力シート!$C$27:$C$31,0),4),"-２）") -> （様式-５-２） | Q105: =Q1 -> 【令和６年度完成工事分】 | S105: 着色セルの凡例
A106: =CONCATENATE("評価項目",INDEX(発注者入力シート!$B$27:$G$31,MATCH(発注者入力シート!L6,発注者入力シート!$C$27:$C$31,0),5),"-",INDEX(発注者入力シート!$B$27:$G$31,MATCH(発注者入力シート!L6,発注者入力シート!$C$27:$C$31,0),6)) -> 評価項目（２）-① | S106: （企業）
A107: 工事成績評定点一覧表(別紙３枚目) | T107: ：「企業入力シート」、一覧表（別紙）で入力（数式リンク有）
T108: ：セルに直接入力が必要な箇所
H109: 会社（企業体）名： | K109: =IF(企業入力シート!C7="","",企業入力シート!C7) -> ○○建設
S110: （発注者）
T111: ：「発注者入力シート」で入力（数式リンク有）
A112: 申請 | B112: 完成 | C112: 発注機関名 | E112: 工事種別 | H112: 工事名 | P112: 工事成績 | T112: ：セルに直接入力が必要な箇所
A113: 番号 | B113: 年度 | E113: 建設工事の種類 | P113: 評定点
A114: 41 | B114: =B100 -> Ｒ６ | Q114: 点 | S114: 【印刷について】
S115: このシートは「ページ設定」で「白黒印刷」と「印刷範囲」が設定されています。
A116: 42 | B116: =B114 -> Ｒ６ | Q116: 点
A118: 43 | B118: =B116 -> Ｒ６ | Q118: 点
A120: 44 | B120: =B118 -> Ｒ６ | Q120: 点
A122: 45 | B122: =B120 -> Ｒ６ | Q122: 点
A124: 46 | B124: =B122 -> Ｒ６ | Q124: 点
A126: 47 | B126: =B124 -> Ｒ６ | Q126: 点
A128: 48 | B128: =B126 -> Ｒ６ | Q128: 点
A130: 49 | B130: =B128 -> Ｒ６ | Q130: 点
A132: 50 | B132: =B130 -> Ｒ６ | Q132: 点
A134: 51 | B134: =B132 -> Ｒ６ | Q134: 点
A136: 52 | B136: =B134 -> Ｒ６ | Q136: 点
A138: 53 | B138: =B136 -> Ｒ６ | Q138: 点
... A152: 60 | B152: =B150 -> Ｒ６ | Q152: 点
A154: (1) | B154: 対象工事が６０件を超える場合は、本様式を複写し申請番号を修正のうえ、提出すること。
A155: (2) | B155: 工事種別、工事の種類は、各工事の契約時における「島根県土木工事仕様書」等において確認すること。

Sheet 評定点一覧(R７年度3年用)
A1: =CONCATENATE("（様式-",INDEX(発注者入力シート!$B$27:$G$31,MATCH(発注者入力シート!L6,発注者入力シート!$C$27:$C$31,0),4),"-２）") -> （様式-５-２） | Q1: 【令和７年度完成工事分】 | S1: 着色セルの凡例
A2: =CONCATENATE("評価項目",INDEX(発注者入力シート!$B$27:$G$31,MATCH(発注者入力シート!L6,発注者入力シート!$C$27:$C$31,0),5),"-",INDEX(発注者入力シート!$B$27:$G$31,MATCH(発注者入力シート!L6,発注者入力シート!$C$27:$C$31,0),6)) -> 評価項目（２）-① | S2: （企業）
A3: 工事成績評定点一覧表(別紙１枚目) | T3: ：「企業入力シート」、一覧表（別紙）で入力（数式リンク有）
H4: 会社（企業体）名： | K4: =IF(企業入力シート!$C$7="","",企業入力シート!$C$7) -> ○○建設 | T4: ：セルに直接入力が必要な箇所
S7: （発注者）
A8: 申請 | B8: 完成 | C8: 発注機関名 | E8: 工事種別 | H8: 工事名 | P8: 工事成績 | T8: ：「発注者入力シート」で入力（数式リンク有）
A9: 番号 | B9: 年度 | E9: 建設工事の種類 | P9: 評定点 | T9: ：セルに直接入力が必要な箇所
A10: 1 | B10: Ｒ７ | Q10: 点
S11: 【印刷について】
A12: 2 | B12: =B10 -> Ｒ７ | Q12: 点 | S12: このシートは「ページ設定」で「白黒印刷」と「印刷範囲」が設定されています。
S13: 様式内の吹出しコメントは印刷されません。
A14: 3 | B14: =B12 -> Ｒ７ | Q14: 点
A16: 4 | B16: =B14 -> Ｒ７ | Q16: 点
A18: 5 | B18: =B16 -> Ｒ７ | Q18: 点
A20: 6 | B20: =B18 -> Ｒ７ | Q20: 点
A22: 7 | B22: =B20 -> Ｒ７ | Q22: 点
A24: 8 | B24: =B22 -> Ｒ７ | Q24: 点
A26: 9 | B26: =B24 -> Ｒ７ | Q26: 点
A28: 10 | B28: =B26 -> Ｒ７ | Q28: 点
A30: 11 | B30: =B28 -> Ｒ７ | Q30: 点
A32: 12 | B32: =B30 -> Ｒ７ | Q32: 点
A34: 13 | B34: =B32 -> Ｒ７ | Q34: 点
A36: 14 | B36: =B34 -> Ｒ７ | Q36: 点
... A48: 20 | B48: =B46 -> Ｒ７ | Q48: 点
A50: (1) | B50: 対象工事が６０件を超える場合は、本様式を複写し申請番号を修正のうえ、提出すること。
A51: (2) | B51: 工事種別、建設工事の種類は、各工事の契約時における「島根県土木工事仕様書」等において確認すること。
A54: =CONCATENATE("（様式-",INDEX(発注者入力シート!$B$27:$G$31,MATCH(発注者入力シート!L6,発注者入力シート!$C$27:$C$31,0),4),"-２）") -> （様式-５-２） | Q54: =Q1 -> 【令和７年度完成工事分】 | S54: 着色セルの凡例
A55: =CONCATENATE("評価項目",INDEX(発注者入力シート!$B$27:$G$31,MATCH(発注者入力シート!L6,発注者入力シート!$C$27:$C$31,0),5),"-",INDEX(発注者入力シート!$B$27:$G$31,MATCH(発注者入力シート!L6,発注者入力シート!$C$27:$C$31,0),6)) -> 評価項目（２）-① | S55: （企業）
A56: 工事成績評定点一覧表(別紙２枚目) | T56: ：「企業入力シート」、一覧表（別紙）で入力（数式リンク有）
H57: 会社（企業体）名： | K57: =IF(企業入力シート!$C$7="","",企業入力シート!$C$7) -> ○○建設 | T57: ：セルに直接入力が必要な箇所
S59: （発注者）
A60: 申請 | B60: 完成 | C60: 発注機関名 | E60: 工事種別 | H60: 工事名 | P60: 工事成績 | T60: ：「発注者入力シート」で入力（数式リンク有）
A61: 番号 | B61: 年度 | E61: 建設工事の種類 | P61: 評定点 | T61: ：セルに直接入力が必要な箇所
A62: 21 | B62: =B48 -> Ｒ７ | Q62: 点
S63: 【印刷について】
A64: 22 | B64: =B62 -> Ｒ７ | Q64: 点 | S64: このシートは「ページ設定」で「白黒印刷」と「印刷範囲」が設定されています。
S65: 様式内の吹出しコメントは印刷されません。
A66: 23 | B66: =B64 -> Ｒ７ | Q66: 点
A68: 24 | B68: =B66 -> Ｒ７ | Q68: 点
A70: 25 | B70: =B68 -> Ｒ７ | Q70: 点
A72: 26 | B72: =B70 -> Ｒ７ | Q72: 点
A74: 27 | B74: =B72 -> Ｒ７ | Q74: 点
A76: 28 | B76: =B74 -> Ｒ７ | Q76: 点
A78: 29 | B78: =B76 -> Ｒ７ | Q78: 点
A80: 30 | B80: =B78 -> Ｒ７ | Q80: 点
A82: 31 | B82: =B80 -> Ｒ７ | Q82: 点
A84: 32 | B84: =B82 -> Ｒ７ | Q84: 点
A86: 33 | B86: =B84 -> Ｒ７ | Q86: 点
A88: 34 | B88: =B86 -> Ｒ７ | Q88: 点
... A100: 40 | B100: =B98 -> Ｒ７ | Q100: 点
A102: (1) | B102: 対象工事が６０件を超える場合は、本様式を複写し申請番号を修正のうえ、提出すること。
A103: (2) | B103: 工事種別、建設工事の種類は、各工事の契約時における「島根県土木工事仕様書」等において確認すること。
A106: =CONCATENATE("（様式-",INDEX(発注者入力シート!$B$27:$G$31,MATCH(発注者入力シート!L6,発注者入力シート!$C$27:$C$31,0),4),"-２）") -> （様式-５-２） | Q106: =Q1 -> 【令和７年度完成工事分】 | S106: 着色セルの凡例
A107: =CONCATENATE("評価項目",INDEX(発注者入力シート!$B$27:$G$31,MATCH(発注者入力シート!L6,発注者入力シート!$C$27:$C$31,0),5),"-",INDEX(発注者入力シート!$B$27:$G$31,MATCH(発注者入力シート!L6,発注者入力シート!$C$27:$C$31,0),6)) -> 評価項目（２）-① | S107: （企業）
A108: 工事成績評定点一覧表(別紙３枚目) | T108: ：「企業入力シート」、一覧表（別紙）で入力（数式リンク有）
H109: 会社（企業体）名： | K109: =IF(企業入力シート!$C$7="","",企業入力シート!$C$7) -> ○○建設 | T109: ：セルに直接入力が必要な箇所
S111: （発注者）
A112: 申請 | B112: 完成 | C112: 発注機関名 | E112: 工事種別 | H112: 工事名 | P112: 工事成績 | T112: ：「発注者入力シート」で入力（数式リンク有）
A113: 番号 | B113: 年度 | E113: 建設工事の種類 | P113: 評定点 | T113: ：セルに直接入力が必要な箇所
A114: 41 | B114: =B100 -> Ｒ７ | Q114: 点
S115: 【印刷について】
A116: 42 | B116: =B114 -> Ｒ７ | Q116: 点 | S116: このシートは「ページ設定」で「白黒印刷」と「印刷範囲」が設定されています。
S117: 様式内の吹出しコメントは印刷されません。
A118: 43 | B118: =B116 -> Ｒ７ | Q118: 点
A120: 44 | B120: =B118 -> Ｒ７ | Q120: 点
A122: 45 | B122: =B120 -> Ｒ７ | Q122: 点
A124: 46 | B124: =B122 -> Ｒ７ | Q124: 点
A126: 47 | B126: =B124 -> Ｒ７ | Q126: 点
A128: 48 | B128: =B126 -> Ｒ７ | Q128: 点
A130: 49 | B130: =B128 -> Ｒ７ | Q130: 点
A132: 50 | B132: =B130 -> Ｒ７ | Q132: 点
A134: 51 | B134: =B132 -> Ｒ７ | Q134: 点
A136: 52 | B136: =B134 -> Ｒ７ | Q136: 点
A138: 53 | B138: =B136 -> Ｒ７ | Q138: 点
A140: 54 | B140: =B138 -> Ｒ７ | Q140: 点
... A152: 60 | B152: =B150 -> Ｒ７ | Q152: 点
A154: (1) | B154: 対象工事が６０件を超える場合は、本様式を複写し申請番号を修正のうえ、提出すること。
A155: (2) | B155: 工事種別、建設工事の種類は、各工事の契約時における「島根県土木工事仕様書」等において確認すること。

Sheet 同種工事施工実績
A1: =CONCATENATE("（様式-",INDEX(発注者入力シート!$B$27:$G$31,MATCH(発注者入力シート!L7,発注者入力シート!$C$27:$C$31,0),4),"）") -> （様式-６） | Q1: =IF(INDEX(発注者入力シート!$B$20:$G$47,MATCH(発注者入力シート!L7,発注者入力シート!$C$20:$C$47,0),3)="","",INDEX(発注者入力シート!$B$20:$G$47,MATCH(発注者入力シート!L7,発注者入力シート!$C$20:$C$47,0),3)) | V1: 着色セルの凡例
A2: =CONCATENATE("評価項目",INDEX(発注者入力シート!$B$27:$G$31,MATCH(発注者入力シート!L7,発注者入力シート!$C$27:$C$31,0),5),"-",INDEX(発注者入力シート!$B$27:$G$31,MATCH(発注者入力シート!L7,発注者入力シート!$C$27:$C$31,0),6)) -> 評価項目（２）-② | V2: （企業）
A3: 企業の同種工事の施工実績 | W3: ：「企業入力シート」、一覧表（別紙）で入力（数式リンク有）
H4: 会社（企業体）名： | L4: =IF(企業入力シート!C7="","",企業入力シート!C7) -> ○○建設
V5: （発注者）
A6: 対象工事 | B6: 対象期間・対象機関 | F6: 平成２８年度から入札公告日前日までに完成及び引き渡しが完了した島根県発注工事 | W6: ：「発注者入力シート」で入力（数式リンク有）
W7: ：セルに直接入力が必要な箇所
B8: 工事種別 | F8: =INDEX(発注者入力シート!$AX$3:$BC$31,MATCH(発注者入力シート!$AY$2,発注者入力シート!$AZ$3:$AZ$31,0),4) -> 一般土木工事、維持修繕工事
B9: 建設工事の種類 | F9: =INDEX(発注者入力シート!$AX$3:$BC$31,MATCH(発注者入力シート!$AY$2,発注者入力シート!$AZ$3:$AZ$31,0),5) -> 土木一式工事、とび・土工・ｺﾝｸﾘｰﾄ工事、しゅんせつ工事
B10: 同種工事の定義 | F10: １契約で１構造物種別あたり単体で最終数量２７０㎥以上のコンクリートを打設した現場打ＲＣ構造物を含む完成及び引き渡しが完了した工事
V11: 【印刷について】
V12: このシートは「ページ設定」で「白黒印刷」と「印刷範囲」が設定されています。
A13: 工事内容 | F13: 施工実績① | M13: 施工実績② | V13: 様式内の吹出しコメントは印刷されません。
A14: 工事名称等 | B14: 工 事 名
B18: コリンズ登録番号
B19: 発注機関名 | U19: ← | V19: ○○県土整備事務所など発注機関名を記入（略名可）
B20: 工事種別
B21: 建設工事の種類
B22: 施工場所
V23: （チェック用）
B24: 請負金額（最終・税込） | L24: 円 | S24: 円 | V24: 西暦
B25: 契約上の工期 | E25: （始） | H25: 年 | J25: 月 | L25: 日 | O25: 年 | Q25: 月 | S25: 日 | V25: 46235 | W25: ←西暦を入力すると下の欄に和暦が表示 | AA25: 平成
E26: （終） | H26: 年 | J26: 月 | L26: 日 | O26: 年 | Q26: 月 | S26: 日 | V26: 和暦 | AA26: 令和
B27: 受注形態 | V27: =V25 -> 46235
B28: 特別（特定）ＪＶの場合、出資比率
A29: 工事成績評定点 | L29: 点 | S29: 点
A30: 工事概要 | B30: コンクリート打設量 | F30: ㎥ | M30: ㎥
B32: コンクリート構造物種別
A41: (1) | B41: 施工実績（上表記載内容）全てが確認できるよう下表を参考に資料①～⑨を組み合せて提出すること。
B42: ① | C42: コリンズの「登録内容確認書」の写し。（竣工登録に限る。）
B43: ② | C43: 最終の見積参考資料（設計の変更回数が確認できる総括情報表と工事内訳表）。ただし、必ず当初、変更を含む契約書全ての写し（資料③）＋項目別評定点表（資料④）もしくは竣工検査済証の写し（資料⑤）を追加添付すること。
B46: ③ | C46: 当初、変更を含む契約書全ての写し。
B47: ④ | C47: 項目別評定点表。（島根県発注工事に限る。）
B48: ⑤ | C48: 竣工検査済証の写し。
B49: ⑥ | C49: 工事成績評定通知書の写し。ただし、工事成績評定対象外工事の場合は、「成績評定対象外」である旨を「工事成績評定点」欄に記載すること。（島根県以外の発注工事は、成績評定対象外であることを確認するための発注者の証明書の写し（資料⑧）も追加添付すること。）
B52: ⑦ | C52: 資料①または資料②のみでは同種工事の施工実績（工事概要）が確認できない場合は、確認できる資料（工事名と設計の変更回数が確認できる最終図面等）。ただし、必ず当初、変更を含む契約書全ての写し（資料③）＋項目別評定点表（資料④）もしくは竣工検査済証の写し（資料⑤）を追加添付すること。
B56: ⑧ | C56: 発注者の証明書の写し。（上記資料①～⑦で確認できない記載内容（コリンズ登録番号を除く。）を全て証明してあるもの。）
B58: ⑨ | C58: 施工実績として提出する工事の「工事種別」及び「建設工事の種類」が確認できる資料
B59: 資料①～⑨で確認できる内容
A60: 項目名 | H60: 資料番号 | Q60: 備考
H61: ① | I61: ② | J61: ③ | K61: ④ | L61: ⑤ | M61: ⑥ | N61: ⑦ | O61: ⑧ | P61: ⑨
A62: 工事名称等 | B62: 工事名 | H62: ○ | I62: ○ | J62: ○ | K62: ○ | L62: ○ | M62: ○ | N62: ○ | O62: ○ | P62: ○
B63: （コリンズ登録番号） | H63: ○ | Q63: ①のみ対象
B64: 発注機関名 | H64: ○ | I64: ○ | J64: ○ | K64: ○ | L64: ○ | M64: ○ | O64: ○ | P64: ○
B65: 工事種別、建設工事の種類 | H65: ○ | O65: ○ | P65: ○
B66: 施工場所 | H66: ○ | J66: ○ | L66: ○ | O66: ○ | P66: ○
B67: 請負金額（最終・税込） | H67: ○ | J67: ○ | K67: ○ | L67: ○ | O67: ○
B68: 契約上の工期 | H68: ○ | J68: ○ | K68: ○ | L68: ○ | M68: ○ | O68: ○
B69: 受注形態 | H69: ○ | J69: ○ | K69: ○ | L69: ○ | M69: ○ | O69: ○
B70: 特別（特定）JVの場合、出資比率 | H70: ○ | O70: ○ | Q70: JV工事のみ対象
A71: 工事成績評定点 | K71: ○ | M71: ○ | O71: ○ | Q71: 成績評定対象外工事の場合、⑧が必須（島根県発注工事以外）
A75: 工事概要 | H75: ○ or △ | I75: ○ or △ | N75: ○ or △ | O75: ○ | Q75: ②、③、④、⑤を必要に応じて追加添付
B79: ※１：上表の「○」は資料で確認ができるもの、「△」は全ては確認できないもの。
B80: ※２：上表の資料②、③、④、⑤、⑥の「○」と「△」は、島根県発注工事の場合。
B82: （参考）代表的な提出資料の組合せ
B83: パターン名 | D83: 条件１ | I83: 条件２ | P83: 提出資料の組合せ
B84: パターン１ | D84: ・コリンズと別資料を提出する場合 | I84: コリンズのみで工事概要が確認可能。 | P84: ①+④
P85: ①+⑥
B86: パターン２ | I86: コリンズのみで工事概要が確認できない。最終の見積参考資料を追加添付。 | P86: ①+②+③+④
P87: ①+②+③+⑤+⑥
B89: パターン３ | I89: コリンズのみで工事概要が確認できない。最終図面等を追加添付。 | P89: ①+③+④+⑦
P90: ①+③+⑤+⑥+⑦
B92: パターン４ | I92: コリンズのみで工事概要が確認できない。発注者の証明書を追加添付。 | P92: ①+⑧
B95: パターン５ | D95: ・別資料のみを提出する場合 | I95: 最終の見積参考資料で工事概要が確認可能。 | P95: ②+③+④+⑨
P96: ②+③+⑤+⑥+⑨
B97: パターン６ | I97: 最終の見積参考資料で工事概要が確認できない。最終図面等を追加添付。 | P97: ②+③+④+⑦+⑨
P98: ②+③+⑤+⑥+⑦+⑨
B100: パターン７ | I100: 発注者の証明書等、必要な資料を添付。 | P100: ⑧
P101: ⑧+⑨
A102: (2) | B102: 施工実績が２回以上ある場合は、代表的なもの２回分の提出でよい。
A103: (3) | B103: 特別（特定）ＪＶで施工した工事については、出資比率２０％以上の場合にのみ施工実績として認める。
A104: (4) | B104: 上記事項の外、入札説明書本文にある要件を必ず確認すること。

Sheet 優良工事表彰
A1: =CONCATENATE("（様式-",INDEX(発注者入力シート!$B$27:$G$31,MATCH(発注者入力シート!L8,発注者入力シート!$C$27:$C$31,0),4),"）") -> （様式-７） | S1: 着色セルの凡例
A2: =CONCATENATE("評価項目",INDEX(発注者入力シート!$B$27:$G$31,MATCH(発注者入力シート!L8,発注者入力シート!$C$27:$C$31,0),5),"-",INDEX(発注者入力シート!$B$27:$G$31,MATCH(発注者入力シート!L8,発注者入力シート!$C$27:$C$31,0),6)) -> 評価項目（２）-③ | S2: （企業）
A3: 企業の優良工事表彰（優良工事施工団体表彰） | T3: ：「企業入力シート」、一覧表（別紙）で入力（数式リンク有）
H4: 会社（企業体）名： | K4: =IF(企業入力シート!C7="","",企業入力シート!C7) -> ○○建設 | T4: ：セルに直接入力もしくはリストから選択が必要な箇所
A6: 対象工事 | B6: 対象年度 対象機関 | E6: 島根県内の公共事業において、令和４年度から令和８年度に、島根県及び中国地方整備局発注工事で受けた優良工事表彰（優良工事施工団体表彰）
S7: （発注者）
T8: ：「発注者入力シート」で入力（数式リンク有）
B9: 工事種別 | E9: =INDEX(発注者入力シート!$AX$3:$BC$31,MATCH(発注者入力シート!$AY$2,発注者入力シート!$AZ$3:$AZ$31,0),4) -> 一般土木工事、維持修繕工事
B10: 建設工事の種類 | E10: =INDEX(発注者入力シート!$AX$3:$BC$31,MATCH(発注者入力シート!$AY$2,発注者入力シート!$AZ$3:$AZ$31,0),5) -> 土木一式工事、とび・土工・ｺﾝｸﾘｰﾄ工事、しゅんせつ工事
A12: 表彰者の区分
A13: 受賞年度 | L13: ※竣工年度ではありません | S13: 【印刷について】
A14: 工事名 | S14: このシートは「ページ設定」で「白黒印刷」と「印刷範囲」が設定されています。
S15: 様式内の吹出しコメントは印刷されません。
A16: 工事種別
A17: 建設工事の種類
A19: 表彰者の区分
A20: 受賞年度 | L20: ※竣工年度ではありません
A21: 工事名
A23: 工事種別
A24: 建設工事の種類
A26: (1) | B26: 島根県発注工事は資料添付が不要。
A27: (2) | B27: 中国地方整備局発注工事は表彰状等の写しを添付すること。また、発注者から表彰実績に関する資料が提示された場合は、その写しの添付でもよい。
A29: (3) | B29: 表彰の受賞が２回以上ある場合は、代表的なもの１回分の提出でよい。
A30: (4) | B30: 工事名は、「契約工事名」で記入すること。
A31: (5) | B31: 上記事項の外、入札説明書本文にある要件を必ず確認すること。

Sheet 登録基幹技能者
A1: =CONCATENATE("（様式-",INDEX(発注者入力シート!$B$27:$G$45,MATCH(発注者入力シート!L12,発注者入力シート!$C$27:$C$45,0),4),"）") -> （様式-８） | S1: 着色セルの凡例
A2: =CONCATENATE("評価項目",INDEX(発注者入力シート!$B$27:$G$45,MATCH(発注者入力シート!L12,発注者入力シート!$C$27:$C$45,0),5),"-",INDEX(発注者入力シート!$B$27:$G$45,MATCH(発注者入力シート!L12,発注者入力シート!$C$27:$C$45,0),6)) -> 評価項目（２）-④ | S2: （企業）
T3: ：「企業入力シート」、一覧表（別紙）で入力（数式リンク有）
A4: 登録基幹技能者の配置 | T4: ：リストから選択が必要な箇所
H6: 会社（企業体）名： | K6: =IF(企業入力シート!C7="","",企業入力シート!C7) -> ○○建設 | S6: （発注者）
T7: ：「発注者入力シート」で入力（数式リンク有）
T8: ：セルに直接入力が必要な箇所
A9: 対象： | B9: 登録コンクリート圧送基幹技能者の現場への配置者数
A10: 現場への配置者数 | S10: 【印刷について】
A11: （1） | B11: 現場に配置する登録基幹技能者は、主任技術者（下請企業も含む）及び監理技術者以外の技術者を対象とする。 | S11: このシートは「ページ設定」で「白黒印刷」と「印刷範囲」が設定されています。
S12: 様式内の吹出しコメントは印刷されません。

Sheet 技術者継続学習
A1: =CONCATENATE("（様式-",INDEX(発注者入力シート!$B$32:$G$35,MATCH(発注者入力シート!M9,発注者入力シート!$C$32:$C$35,0),4),"）") -> （様式-９） | Q1: 配置予定技術者①、②、③共通 | S1: 着色セルの凡例
A2: =CONCATENATE("評価項目",INDEX(発注者入力シート!$B$32:$G$35,MATCH(発注者入力シート!M9,発注者入力シート!$C$32:$C$35,0),5),"-",INDEX(発注者入力シート!$B$32:$G$35,MATCH(発注者入力シート!M9,発注者入力シート!$C$32:$C$35,0),6)) -> 評価項目（３）-① | S2: （企業）
A3: 配置予定技術者の継続学習 | T3: ：「企業入力シート」、一覧表（別紙）で入力（数式リンク有）
T4: ：セルに直接入力が必要な箇所
H5: 会社（企業体）名： | K5: =IF(企業入力シート!C7="","",企業入力シート!C7) -> ○○建設
S6: （発注者）
T7: ：「発注者入力シート」で入力（数式リンク有）
A8: 対象： | B8: 配置予定の主任（監理）技術者が保有するCPDSユニット | T8: ：セルに直接入力が必要な箇所
A9: 配置予定技術者氏名 | F9: 保有するCPDSユニット | L9: ※評価結果
L10: （発注者記載欄） | S10: 【印刷について】
A11: ① | B11: =IF(企業入力シート!C18="","",企業入力シート!C18) | J11: ユニット | S11: このシートは「ページ設定」で「白黒印刷」と「印刷範囲」が設定されています。
A13: ② | B13: =IF(企業入力シート!C19="","",企業入力シート!C19) | J13: ユニット
A15: ③ | B15: =IF(企業入力シート!C20="","",企業入力シート!C20) | J15: ユニット
A17: (1) | B17: 保有CPDSユニットが確認できる資料として、一般社団法人 全国土木施工管理技士会連合会が発行した「継続学習制度（CPDS）学習履歴証明書」を添付すること。
A19: (2) | B19: =CONCATENATE("「継続学習制度（CPDS）学習履歴証明書」は、",S20,"から入札公告日前日時点（令和",(YEAR(発注者入力シート!H7)-2018),"年",MONTH(発注者入力シート!H7),"月",DAY(発注者入力シート!H7),"日時点）までに取得している保有CPDSユニットが確認できるものを添付すること。") -> 「継続学習制度（CPDS）学習履歴証明書」は、令和２年度から入札公告日前日時点（令和8年9月29日時点）までに取得している保有CPDSユニットが確認できるものを添付すること。 | S19: 開始年度
S20: 令和２年度
A21: (3) | B21: 技術資料提出時に配置予定技術者が特定できない場合は、複数の候補者を記入できる。その場合、審査は候補者のうち配置予定技術者の評価点合計が最も低い者で評価する。
A23: (4) | B23: 上記事項の外、入札説明書本文にある要件を必ず確認すること。

Sheet 同種工事施工経験
A1: =CONCATENATE("（様式-",INDEX(発注者入力シート!$B$32:$G$35,MATCH(発注者入力シート!M7,発注者入力シート!$C$32:$C$35,0),4),"）") -> （様式-１０） | S1: 配置予定技術者①用 | U1: 着色セルの凡例
A2: =CONCATENATE("評価項目",INDEX(発注者入力シート!$B$32:$G$35,MATCH(発注者入力シート!M7,発注者入力シート!$C$32:$C$35,0),5),"-",INDEX(発注者入力シート!$B$32:$G$35,MATCH(発注者入力シート!M7,発注者入力シート!$C$32:$C$35,0),6)) -> 評価項目（３）-② | Q2: =IF(INDEX(発注者入力シート!$B$20:$G$47,MATCH(発注者入力シート!M7,発注者入力シート!$C$20:$C$47,0),3)="","",INDEX(発注者入力シート!$B$20:$G$47,MATCH(発注者入力シート!M7,発注者入力シート!$C$20:$C$47,0),3)) | U2: （企業）
A3: 配置予定技術者の同種工事の施工経験 | V3: ：「企業入力シート」、一覧表（別紙）で入力（数式リンク有）
H4: 会社（企業体）名： | L4: =IF(企業入力シート!C7="","",企業入力シート!C7) -> ○○建設 | V4: ：セルに直接入力もしくはリストから選択が必要な箇所
A6: 対象工事 | B6: 対象期間・対象機関 | F6: 平成２８年度から入札公告日前日までに完成及び引き渡しが完了した島根県発注工事 | U6: （発注者）
V7: ：「発注者入力シート」で入力（数式リンク有）
B8: 同種工事の定義 | F8: １契約で１構造物種別あたり単体で最終数量１３０㎥以上のコンクリートを打設した現場打ＲＣ構造物を含む完成及び引き渡しが完了した工事 | V8: ：セルに直接入力が必要な箇所
V9: ：配置予定技術者①のシートとリンク
B11: 工事種別 | F11: =INDEX(発注者入力シート!$AX$3:$BC$31,MATCH(発注者入力シート!$AY$2,発注者入力シート!$AZ$3:$AZ$31,0),4) -> 一般土木工事、維持修繕工事 | U11: 【印刷について】
B12: 建設工事の種類 | F12: =INDEX(発注者入力シート!$AX$3:$BC$31,MATCH(発注者入力シート!$AY$2,発注者入力シート!$AZ$3:$AZ$31,0),5) -> 土木一式工事、とび・土工・ｺﾝｸﾘｰﾄ工事、しゅんせつ工事 | U12: このシートは「ページ設定」で「白黒印刷」と「印刷範囲」が設定されています。
A13: 配置予定技術者 氏名 | F13: ① | G13: =IF(企業入力シート!C18="","",企業入力シート!C18) | U13: 様式内の吹出しコメントは印刷されません。
A14: 工事内容 | F14: 施工経験① | M14: 施工経験②
A15: 工事名称等 | B15: 工 事 名
B19: コリンズ登録番号
B20: 発注機関名 | T20: ← | U20: ○○県土整備事務所など発注機関名を記入（略名可）
B21: 施工場所
B23: 請負金額（最終・税込） | L23: 円 | S23: 円 | U23: （チェック用）
B24: 契約上の工期 | E24: （始） | H24: 年 | J24: 月 | L24: 日 | O24: 年 | Q24: 月 | S24: 日 | U24: 西暦
E25: （終） | H25: 年 | J25: 月 | L25: 日 | O25: 年 | Q25: 月 | S25: 日 | U25: 46235 | V25: ←西暦を入力すると下の欄に和暦が表示 | Z25: 平成
B26: 従事期間 | E26: （始） | H26: 年 | J26: 月 | L26: 日 | O26: 年 | Q26: 月 | S26: 日 | U26: 和暦 | Z26: 令和
E27: （終） | H27: 年 | J27: 月 | L27: 日 | O27: 年 | Q27: 月 | S27: 日 | U27: =U25 -> 46235
B28: 従事時の役職
B29: 受注形態
B30: 特別（特定）ＪＶの場合、出資比率
B31: 工事種別
B32: 建設工事の種類
A33: 工事成績評定点 | L33: 点 | S33: 点
A34: 工事概要 | B34: コンクリート打設量 | F34: ㎥ | M34: ㎥
B36: コンクリート構造物種別
A43: (1) | B43: 施工経験（上表記載内容）全てが確認できるよう下表を参考に資料①～⑪を組み合せて提出すること。
B45: ① | C45: コリンズの「登録内容確認書」の写し。（竣工登録に限る。）
B46: ② | C46: 最終の見積参考資料（設計の変更回数が確認できる総括情報表と工事内訳表）。ただし、必ず当初、変更を含む契約書全ての写し（資料③）＋項目別評定点表（資料④）もしくは竣工検査済証の写し（資料⑤）＋技術者の従事期間が確認できる資料（資料⑧及び資料⑨）を追加添付すること。
B50: ③ | C50: 当初、変更を含む契約書全ての写し。
B51: ④ | C51: 項目別評定点表。（島根県発注工事に限る。）
B52: ⑤ | C52: 竣工検査済証の写し。
B53: ⑥ | C53: 工事成績評定通知書の写し。ただし、工事成績評定対象外工事の場合は、「成績評定対象外」である旨を「工事成績評定点」欄に記載すること。（島根県以外の発注工事は、成績評定対象外であることを確認するための発注者の証明書の写し（資料⑩）も追加添付すること。）
B56: ⑦ | C56: 資料①または資料②のみでは同種工事の施工実績（工事概要）が確認できない場合は、確認できる資料（工事名と設計の変更回数が確認できる最終図面等）。ただし、必ず当初、変更を含む契約書全ての写し（資料③）＋項目別評定点表（資料④）もしくは竣工検査済証の写し（資料⑤）を追加添付すること。
B60: ⑧ | C60: 技術者の従事期間（始）と従事時の役職が確認できる資料（契約時の技術者が確認できるコリンズの「工事カルテ」もしくは「登録内容確認書」の写し等）。
B62: ⑨ | C62: 技術者の従事期間（終）と従事時の役職が確認できる資料（最終の計画工程表兼工事履行報告書等）。（発注者が押印した資料の写しに限る。）
B64: ⑩ | C64: 発注者の証明書の写し。（上記資料①～⑨で確認できない記載内容（コリンズ登録番号を除く。）を全て証明してあるもの。）
B66: ⑪ | C66: 施工経験として提出する工事の「工事種別」および「建設工事の種類」が確認できる資料
A68: 資料①～⑪で確認できる内容
A69: 項目名 | F69: 資料番号 | Q69: 備考
F70: ① | G70: ② | H70: ③ | I70: ④ | J70: ⑤ | K70: ⑥ | L70: ⑦ | M70: ⑧ | N70: ⑨ | O70: ⑩ | P70: ⑪
A71: 工事名称等 | B71: 工事名 | F71: ○ | G71: ○ | H71: ○ | I71: ○ | J71: ○ | K71: ○ | L71: ○ | M71: ○ | N71: ○ | O71: ○ | P71: ○
B72: （コリンズ登録番号） | F72: ○ | Q72: ①のみ対象
B73: 発注機関名 | F73: ○ | G73: ○ | H73: ○ | I73: ○ | J73: ○ | K73: ○ | M73: ○ | N73: ○ | O73: ○ | P73: ○
B74: 施工場所 | F74: ○ | H74: ○ | J74: ○ | M74: ○ | N74: ○ | O74: ○ | P74: ○
B75: 請負金額（最終・税込） | F75: ○ | H75: ○ | I75: ○ | J75: ○ | N75: ○ | O75: ○
B76: 契約上の工期 | F76: ○ | H76: ○ | I76: ○ | J76: ○ | K76: ○ | M76: △ | N76: ○ | O76: ○ | Q76: ⑧の場合、始期のみ
B77: 従事期間 | F77: ○ | M77: △ | N77: △ | O77: ○ | Q77: ⑧、⑨は両方必要
B78: 従事時の役職 | F78: ○ | M78: △ | N78: △ | O78: ○
B79: 受注形態 | F79: ○ | H79: ○ | I79: ○ | J79: ○ | K79: ○ | M79: ○ | N79: ○ | O79: ○
B80: 特別（特定）JVの場合、出資比率 | F80: ○ | O80: ○ | Q80: JV工事のみ対象
B81: 工事種別 | F81: ○ | O81: ○ | P81: ○
B82: 建設工事の種類 | F82: ○ | O82: ○ | P82: ○
A83: 工事成績評定点 | I83: ○ | K83: ○ | O83: ○ | Q83: 成績評定対象外工事の場合、⑩が必須（島根県発注工事以外）
A87: 工事概要 | F87: ○ or △ | G87: ○ or △ | L87: ○ or △ | O87: ○ | Q87: ②、③、④、⑤を必要に応じて追加添付
A90: ※１：上表の「○」は資料で確認ができるもの、「△」は全ては確認できないもの。
A91: ※２：上表の資料②、③、④、⑤、⑥の「○」と「△」は、島根県発注工事の場合。
A93: （参考）代表的な提出資料の組合せ
A94: パターン名 | C94: 条件１ | E94: 条件２ | K94: 条件３ | O94: 提出資料の組合せ
A95: パターン１ | C95: ・コリンズと別資料を提出する場合 | E95: コリンズのみで工事概要が確認可能。 | K95: 契約工期と技術者の従事期間が同じ。 | O95: ①+④
O96: ①+⑥
A97: パターン２ | E97: コリンズのみで工事概要が確認できない。最終の見積参考資料を追加添付。 | O97: ①+②+③+④
O98: ①+②+③+⑤+⑥
A100: パターン３ | E100: コリンズのみで工事概要が確認できない。最終図面等を追加添付。 | O100: ①+③+④+⑦
O101: ①+③+⑤+⑥+⑦
A103: パターン４ | E103: 上記パターン１～３のいずれかに該当。 | K103: 契約工期と技術者の従事期間が異なる。 | O103: パターン１+⑧+⑨
O104: パターン２+⑧+⑨
O105: パターン３+⑧+⑨
A106: パターン５ | C106: ・別資料のみを提出する場合 | E106: 最終の見積参考資料で工事概要が確認可能。 | K106: 技術者の従事期間を確認できる資料の追加添付が必要。 | O106: ②+③+④+⑧+⑨+⑪
O107: ②+③+⑤+⑥+⑧+⑨+⑪
A108: パターン６ | E108: 最終の見積参考資料で工事概要が確認できない。最終図面等を追加添付。 | O108: ②+③+④+⑦+⑧+⑨+⑪
O109: ②+③+⑤+⑥+⑦+⑧+⑨+⑪
A111: パターン７ | E111: 最終の見積参考資料等、必要な資料を追加添付。 | O111: ⑩
O112: ⑩+⑪
A113: パターン８ | K113: 技術者の従事期間を確認できる資料が準備できない。 | O113: ⑩
O114: ⑩+⑪
A117: (2) | B117: 施工経験が２回以上ある場合は、代表的なもの２回分の提出でよい。
A118: (3) | B118: 技術資料提出時に配置予定技術者が特定できない場合は、複数の候補者を記入できる。その場合、審査は候補者のうち配置予定技術者の評価点合計が最も低い者で評価する。
A120: (4) | B120: 同種工事施工経験時の所属会社は問わない。（現在の所属会社以外のものも記載できる。）
A121: (5) | B121: 特別（特定）ＪＶで施工した工事については、出資比率２０％以上の場合にのみ施工実績として認める。
A123: (6) | B123: 担当技術者としての同種工事の施工経験はコリンズの登録（竣工登録に限る。）がなければ申請できない。（担当技術者の施工経験が評価対象として入札説明書に記載されている工事のみに適用）
A126: (7) | B126: 上記事項の外、入札説明書本文にある要件を必ず確認すること。
A129: =CONCATENATE("（様式-",INDEX(発注者入力シート!$B$32:$G$35,MATCH(発注者入力シート!M7,発注者入力シート!$C$32:$C$35,0),4),"）") -> （様式-１０） | S129: 配置予定技術者②用 | U129: 着色セルの凡例
A130: =CONCATENATE("評価項目",INDEX(発注者入力シート!$B$32:$G$35,MATCH(発注者入力シート!M7,発注者入力シート!$C$32:$C$35,0),5),"-",INDEX(発注者入力シート!$B$32:$G$35,MATCH(発注者入力シート!M7,発注者入力シート!$C$32:$C$35,0),6)) -> 評価項目（３）-② | Q130: =IF(INDEX(発注者入力シート!$B$20:$G$47,MATCH(発注者入力シート!M7,発注者入力シート!$C$20:$C$47,0),3)="","",INDEX(発注者入力シート!$B$20:$G$47,MATCH(発注者入力シート!M7,発注者入力シート!$C$20:$C$47,0),3)) | U130: （企業）
A131: 配置予定技術者の同種工事の施工経験 | V131: ：「企業入力シート」、一覧表（別紙）で入力（数式リンク有）
H132: 会社（企業体）名： | L132: =IF(企業入力シート!C7="","",企業入力シート!C7) -> ○○建設 | V132: ：セルに直接入力が必要な箇所
A134: 対象工事 | B134: 対象期間・対象機関 | F134: =$F$6 -> 平成２８年度から入札公告日前日までに完成及び引き渡しが完了した島根県発注工事 | U134: （発注者）
V135: ：「発注者入力シート」で入力（数式リンク有）
B136: 同種工事の定義 | F136: =$F$8 -> １契約で１構造物種別あたり単体で最終数量１３０㎥以上のコンクリートを打設した現場打ＲＣ構造物を含む完成及び引き渡しが完了した工事 | V136: ：セルに直接入力が必要な箇所
V137: ：配置予定技術者①のシートとリンク
B139: 工事種別 | F139: =$F$11 -> 一般土木工事、維持修繕工事
B140: 建設工事の種類 | F140: =$F$12 -> 土木一式工事、とび・土工・ｺﾝｸﾘｰﾄ工事、しゅんせつ工事
A141: 配置予定技術者 氏名 | F141: ② | G141: =IF(企業入力シート!C19="","",企業入力シート!C19)
A142: 工事内容 | F142: 施工経験① | M142: 施工経験② | U142: 【印刷について】
A143: 工事名称等 | B143: 工 事 名 | U143: このシートは「ページ設定」で「白黒印刷」と「印刷範囲」が設定されています。
U144: 様式内の吹出しコメントは印刷されません。
B147: コリンズ登録番号
...

Sheet 優秀技術者表彰
A1: =CONCATENATE("（様式-",INDEX(発注者入力シート!$B$32:$G$35,MATCH(発注者入力シート!M8,発注者入力シート!$C$32:$C$35,0),4),"）") -> （様式-１１） | S1: 着色セルの凡例
A2: =CONCATENATE("評価項目",INDEX(発注者入力シート!$B$32:$G$35,MATCH(発注者入力シート!M8,発注者入力シート!$C$32:$C$35,0),5),"-",INDEX(発注者入力シート!$B$32:$G$35,MATCH(発注者入力シート!M8,発注者入力シート!$C$32:$C$35,0),6)) -> 評価項目（３）-③ | S2: （企業）
A3: 配置予定技術者の優秀建設技術者表彰 | T3: ：「企業入力シート」、一覧表（別紙）で入力（数式リンク有）
H4: 会社（企業体）名： | K4: =IF(企業入力シート!C7="","",企業入力シート!C7) -> ○○建設 | T4: ：セルに直接入力もしくはリストから選択が必要な箇所
A6: 対象工事 | B6: 対象年度 対象機関 | F6: 島根県内の公共事業において、令和４年度から令和８年度に、島根県及び中国地方整備局発注工事で主任（監理）技術者または現場代理人として受けた優秀建設技術者表彰 | S6: （発注者）
T7: ：「発注者入力シート」で入力（数式リンク有）
T8: ：セルに直接入力が必要な箇所
B9: 工事種別 | F9: =INDEX(発注者入力シート!$AX$3:$BC$31,MATCH(発注者入力シート!$AY$2,発注者入力シート!$AZ$3:$AZ$31,0),4) -> 一般土木工事、維持修繕工事
B10: 建設工事の種類 | F10: =INDEX(発注者入力シート!$AX$3:$BC$31,MATCH(発注者入力シート!$AY$2,発注者入力シート!$AZ$3:$AZ$31,0),5) -> 土木一式工事、とび・土工・ｺﾝｸﾘｰﾄ工事、しゅんせつ工事
A13: 配置予定技術者 氏名 | F13: ① | G13: =IF(企業入力シート!C18="","",企業入力シート!C18) | S13: 【印刷について】
A14: 表彰の区分 | S14: このシートは「ページ設定」で「白黒印刷」と「印刷範囲」が設定されています。
A15: 受賞年度 | S15: 様式内の吹出しコメントは印刷されません。
A16: 工事名
A18: 工事種別
A19: 建設工事の種類
A21: 配置予定技術者 氏名 | F21: ① | G21: =IF(企業入力シート!C18="","",企業入力シート!C18)
A22: 表彰の区分
A23: 受賞年度
A24: 工事名
A26: 工事種別
A27: 建設工事の種類
A29: 配置予定技術者 氏名 | F29: ② | G29: =IF(企業入力シート!C19="","",企業入力シート!C19)
A30: 表彰の区分
A31: 受賞年度
A32: 工事名
A34: 工事種別
A35: 建設工事の種類
A37: 配置予定技術者 氏名 | F37: ② | G37: =IF(企業入力シート!C19="","",企業入力シート!C19)
A38: 表彰の区分
A39: 受賞年度
A40: 工事名
A42: 工事種別
A43: 建設工事の種類
A45: 配置予定技術者 氏名 | F45: ③ | G45: =IF(企業入力シート!C20="","",企業入力シート!C20)
A46: 表彰の区分
A47: 受賞年度
A48: 工事名
A50: 工事種別
A51: 建設工事の種類
A53: 配置予定技術者 氏名 | F53: ③ | G53: =IF(企業入力シート!C20="","",企業入力シート!C20)
A54: 表彰の区分
A55: 受賞年度
A56: 工事名
A58: 工事種別
A59: 建設工事の種類
A61: (1) | B61: 島根県発注工事は資料添付が不要。
A62: (2) | B62: 中国地方整備局発注工事は表彰状等の写しを添付すること(発注者から表彰実績に関する資料が提示された場合は、その写しの添付でもよい)。
A64: (3) | B64: 表彰の受賞が２回以上ある場合は、代表的なもの１回分の提出でよい。
A65: (4) | B65: 工事名の欄は、「契約工事名」で記載すること。
A66: (5) | B66: 表彰時点の所属会社は問わない。（現在の所属会社以外のものも記載できる。）
A67: (6) | B67: 技術資料提出時に配置予定技術者が特定できない場合は、複数の候補者を記入できる。その場合、審査は候補者のうち配置予定技術者の評価点合計が最も低い者で評価する。
A69: (7) | B69: 上記事項の外、入札説明書本文にある要件を必ず確認すること。

Sheet BCP&防災協定・家畜伝染病防疫協定
A1: =IF(T15=1,CONCATENATE("（様式-",INDEX(発注者入力シート!$B$29:$G$38,MATCH(発注者入力シート!N7,発注者入力シート!$C$29:$C$38,0),4),"）"),CONCATENATE("（様式-",INDEX(発注者入力シート!$B$29:$G$38,MATCH(発注者入力シート!N9,発注者入力シート!$C$29:$C$38,0),4),"）")) -> （様式-１２） | S1: 着色セルの凡例
A2: =IF(T15=1,CONCATENATE("評価項目",INDEX(発注者入力シート!$B$29:$G$38,MATCH(発注者入力シート!N7,発注者入力シート!$C$29:$C$38,0),5),"-",INDEX(発注者入力シート!$B$29:$G$38,MATCH(発注者入力シート!N7,発注者入力シート!$C$29:$C$38,0),6)),CONCATENATE("評価項目",INDEX(発注者入力シート!$B$29:$G$38,MATCH(発注者入力シート!N9,発注者入力シート!$C$29:$C$38,0),5),"-",INDEX(発注者入力シート!$B$29:$G$38,MATCH(発注者入力シート!N9,発注者入力シート!$C$29:$C$38,0),6))) -> 評価項目（４）-① | S2: （企業）
T3: ：「企業入力シートで入力（数式リンク有）
A4: ="事業継続計画（BCP）認定及び"&IF(T15=1,"防災",IF(T15=2,"家畜伝染病防疫","防災協定・家畜伝染病防疫"))&"協定の締結実績" -> 事業継続計画（BCP）認定及び防災協定の締結実績 | T4: ：セルに直接入力もしくはリストから選択が必要な箇所
H6: 会社（企業体）名： | K6: =IF(企業入力シート!C7="","",企業入力シート!C7) -> ○○建設 | S6: （発注者）
T7: ：「発注者入力シート」で入力（数式リンク有）
T8: ：セルに直接入力が必要な箇所
A9: a.事業継続計画（BCP）認定
A10: 対象： | B10: =CONCATENATE("入札公告日前日時点（令和",(YEAR(発注者入力シート!H7)-2018),"年",MONTH(発注者入力シート!H7),"月",DAY(発注者入力シート!H7),"日時点）での事業継続計画（BCP）の認定状況") -> 入札公告日前日時点（令和8年9月29日時点）での事業継続計画（BCP）の認定状況 | S10: 【印刷について】
A11: 認定の有無 | E11: 認定年月日 | I11: 認定の有効期限 | S11: このシートは「ページ設定」で「白黒印刷」と「印刷範囲」が設定されています。
S12: 様式内の吹出しコメントは印刷されません。
A13: (1) | B13: 中国地方整備局長が認定した「地域建設業の事業継続計画認定証」の写しを添付すること。
T15: =IF(COUNTIF(発注者入力シート!C20:C44,発注者入力シート!N7),1,IF(COUNTIF(発注者入力シート!C20:C44,発注者入力シート!N9),2,0)) -> 1
A16: b.防災協定の締結実績 | T16: ↑判定式：BCP&防災協定なら「１」、BCP&家畜伝染病防疫協定なら「２」が表示されます。
A17: 対象： | B17: =CONCATENATE("令和６年度及び令和７年度における島根県との",RIGHT(A4,LEN(A4)-15)) -> 令和６年度及び令和７年度における島根県との防災協定の締結実績
A19: 令和６年度の協定締結実績の有無
A20: 令和７年度の協定締結実績の有無
A22: (1) | B22: ="対象年度において、島根県との"&RIGHT(A4,LEN(A4)-15)&"の有無を記載すること。" -> 対象年度において、島根県との防災協定の締結実績の有無を記載すること。
A23: (2) | B23: 協定を締結した団体の構成員はもとより、協定に参加している協力企業等も対象とする。ただし、評価の対象者は、団体が所管する地域内に建設業法に規定する営業所を有する者に限る。また、年度途中で脱退した場合、年度途中から加入した場合はその年度の契約締結実績として認めない。
A27: (3) | B27: 協力企業等の場合、企業名が明示された協定書等の写しや団体の代表者の証明書など、協定に参加している企業であることがわかる資料を添付すること。

Sheet ボランティア
A1: =CONCATENATE("（様式-",INDEX(発注者入力シート!$B$36:$G$45,MATCH(発注者入力シート!N10,発注者入力シート!$C$36:$C$45,0),4),"）") -> （様式-１３） | P1: =IF(INDEX(発注者入力シート!$B$20:$G$47,MATCH(発注者入力シート!N10,発注者入力シート!$C$20:$C$47,0),3)="","",INDEX(発注者入力シート!$B$20:$G$47,MATCH(発注者入力シート!N10,発注者入力シート!$C$20:$C$47,0),3)) | T1: 着色セルの凡例
A2: =CONCATENATE("評価項目",INDEX(発注者入力シート!$B$36:$G$45,MATCH(発注者入力シート!N10,発注者入力シート!$C$36:$C$45,0),5),"-",INDEX(発注者入力シート!$B$36:$G$45,MATCH(発注者入力シート!N10,発注者入力シート!$C$36:$C$45,0),6)) -> 評価項目（４）-② | T2: （企業）
A3: ボランティア活動又はハートフルしまねへの参加実績 | U3: ：「企業入力シートで入力（数式リンク有）
G4: 会社（企業体）名： | K4: =IF(企業入力シート!C7="","",企業入力シート!C7) -> ○○建設 | U4: ：セルに直接入力もしくはリストから選択が必要な箇所
A6: 対象： | B6: 令和６年度及び令和７年度における島根県内で実施されたボランティア活動又はハートフルしまねへの参加実績 | T6: （発注者）
U7: ：「発注者入力シート」で入力（数式リンク有）
A8: ○企業としてのボランティア活動への参加実績 | U8: ：セルに直接入力が必要な箇所
A9: 対象年度 | C9: 活動年月日 | F9: 活動内容 | K9: 活動箇所 | O9: 年度間延べ参加人数 | Q9: 従業員数
A10: 令和６年度 | T10: 【印刷について】
T11: このシートは「ページ設定」で「白黒印刷」と「印刷範囲」が設定されています。
T12: 様式内の吹出しコメントは印刷されません。
A13: 令和７年度
A16: (1) | B16: 活動したことを証明する資料と活動箇所が確認できる資料を添付すること。
A17: (2) | B17: 参加人数が１０名未満の場合、従業員数の欄に当該活動時点の常用雇用労働者と短時間労働者の合計人数を記載すること。
A18: (3) | B18: 入札説明書本文にある要件を必ず確認すること。
A19: (4) | B19: ボランティア活動を複数日で行った場合、参加実績は重複者を含んだ合計人数とする（延べ人数）。従業員数は当該活動時点のものとする。
A22: ○企業としてのハートフルしまねの参加実績
A23: 対象年度 | C23: 活動箇所 | J23: 年度間延べ参加人数 | M23: 従業員数 | T23: 活動期間中に従業員数の変動があった場合は、最大時の人数を記載してください
A24: =A10 -> 令和６年度
A25: =A13 -> 令和７年度
A26: 登録団体名
A27: (1) | B27: 活動箇所が確認できる資料を添付すること。
A28: (2) | B28: 参加人数が１０名未満の場合、従業員数の欄に当該活動時点の常用雇用労働者と短時間労働者の合計人数を記載すること。
A29: (3) | B29: 入札説明書本文にある要件を必ず確認すること。
A30: (4) | B30: 従業員数は当該活動時点のものとする。

Sheet 維持管理業務
A1: =CONCATENATE("（様式-",INDEX(発注者入力シート!$B$36:$G$45,MATCH(発注者入力シート!N11,発注者入力シート!$C$36:$C$45,0),4),"）") -> （様式-１４） | O1: =IF(INDEX(発注者入力シート!$B$20:$G$47,MATCH(発注者入力シート!N11,発注者入力シート!$C$20:$C$47,0),3)="","",INDEX(発注者入力シート!$B$20:$G$47,MATCH(発注者入力シート!N11,発注者入力シート!$C$20:$C$47,0),3)) | S1: 着色セルの凡例
A2: =CONCATENATE("評価項目",INDEX(発注者入力シート!$B$36:$G$45,MATCH(発注者入力シート!N11,発注者入力シート!$C$36:$C$45,0),5),"-",INDEX(発注者入力シート!$B$36:$G$45,MATCH(発注者入力シート!N11,発注者入力シート!$C$36:$C$45,0),6)) -> 評価項目（４）-③ | S2: （企業）
T3: ：「企業入力シートで入力（数式リンク有）
A4: 県管理公共土木施設に関する維持管理業務または海岸漂着物の回収業務の契約実績 | T4: ：セルに直接入力もしくはリストから選択が必要な箇所
H6: 会社（企業体）名： | K6: =IF(企業入力シート!C7="","",企業入力シート!C7) -> ○○建設 | S6: （発注者）
A7: 対象： | B7: 令和６年度及び令和７年度の県管理公共土木施設に関する維持管理業務または海岸漂着物の回収業務の契約実績 | T7: ：「発注者入力シート」で入力（数式リンク有）
T8: ：セルに直接入力が必要な箇所
A10: 評価対象地域 | D10: 島根県内 | S10: 【印刷について】
S11: このシートは「ページ設定」で「白黒印刷」と「印刷範囲」が設定されています。
A12: 令和６年度 | S12: 様式内の吹出しコメントは印刷されません。
A13: 発注機関 | D13: 委託月数 （自動計算） | F13: 委託期間 | I13: 業務名 | N13: 施工箇所(旧市町村名)
F14: 上段：着手日/下段：完了日
D15: =(DATEDIF(F15,F16+1,"m")+ROUNDDOWN(DATEDIF(F15,F16+1,"md")/TEXT(EOMONTH(F16,0),"d"),1)) -> 0 | S15: 注意！
S16: 下請契約で申請する場合、「発注機関」欄は元請企業名ではありません。
A17: 令和７年度
A18: 発注機関 | D18: 委託月数 （自動計算） | F18: 委託期間 | I18: 業務名 | N18: 施工箇所(旧市町村名)
F19: 上段：着手日/下段：完了日
D20: =(DATEDIF(F20,F21+1,"m")+ROUNDDOWN(DATEDIF(F20,F21+1,"md")/TEXT(EOMONTH(F21,0),"d"),1)) -> 0
A22: (1) | B22: 対象年度において、県管理公共土木施設に関する維持管理業務（発注機関は問わない。島根県発注業務においては県が認めた下請け業務も含む。）または島根県発注の海岸漂着物の回収業務の契約実績（県が認めた下請け業務も含む。）のうち、１回の契約期間が５ヶ月以上のものについて記入すること。
A26: (2) | B26: １回の契約期間が両年度にわたるものは、契約期間の長い方の年度に契約実績を記入すること。
A27: (3) | B27: １回の契約期間が１年５ヶ月以上の場合、両年度とも契約実績として記入する。
A28: (4) | B28: 契約実績を確認する資料として、当該年度の業務内容の分かる資料（契約書、下請負人通知書、施工体制台帳、下請契約書、注文書・請書、発注者の実績証明証等の写し）を添付すること。
A30: (5) | B30: 上記（４）の資料で評価対象地域が確認できない場合は、確認できる資料（位置図）を追加添付すること。
A32: (6) | B32: 上記事項の外、入札説明書本文にある要件を必ず確認すること。

Sheet 除雪業務
A1: =CONCATENATE("（様式-",INDEX(発注者入力シート!$B$36:$G$45,MATCH(発注者入力シート!N12,発注者入力シート!$C$36:$C$45,0),4),"）") -> （様式-１５） | O1: =IF(INDEX(発注者入力シート!$B$20:$G$47,MATCH(発注者入力シート!N12,発注者入力シート!$C$20:$C$47,0),3)="","",INDEX(発注者入力シート!$B$20:$G$47,MATCH(発注者入力シート!N12,発注者入力シート!$C$20:$C$47,0),3)) | S1: 着色セルの凡例
A2: =CONCATENATE("評価項目",INDEX(発注者入力シート!$B$36:$G$45,MATCH(発注者入力シート!N12,発注者入力シート!$C$36:$C$45,0),5),"-",INDEX(発注者入力シート!$B$36:$G$45,MATCH(発注者入力シート!N12,発注者入力シート!$C$36:$C$45,0),6)) -> 評価項目（４）-④ | S2: （企業）
T3: ：「企業入力シートで入力（数式リンク有）
A4: 県管理道路・空港を含む除雪業務の契約実績 | T4: ：セルに直接入力もしくはリストから選択が必要な箇所
H6: 会社（企業体）名： | K6: =IF(企業入力シート!C7="","",企業入力シート!C7) -> ○○建設 | S6: （発注者）
T7: ：「発注者入力シート」で入力（数式リンク有）
A8: 対象： | B8: 令和６年度及び令和７年度の県管理道路・空港を含む除雪業務の契約実績 | T8: ：セルに直接入力が必要な箇所
S10: 【印刷について】
A11: 評価対象地域 | D11: 島根県内 | S11: このシートは「ページ設定」で「白黒印刷」と「印刷範囲」が設定されています。
S12: 様式内の吹出しコメントは印刷されません。
A13: 令和６年度
A14: 発注機関 | D14: 元請・下請区分 | F14: 委託期間 | I14: 業務内容 | N14: 施工箇所(旧市町村名)
F15: 上段：着手日/下段：完了日
S16: 注意！
S17: 下請契約で申請する場合、「発注機関」欄は元請企業名ではありません。
A18: 令和７年度
A19: 発注機関 | D19: 元請・下請区分 | F19: 委託期間 | I19: 業務内容 | N19: 施工箇所(旧市町村名)
F20: 上段：着手日/下段：完了日
A23: (1) | B23: 対象年度において、県管理道路・空港を含む除雪業務（凍結防止剤散布業務を含む。）の契約実績（島根県発注業務においては県が認めた下請け実績も含む）について記載すること。
A25: (2) | B25: 契約実績を確認する資料として、当該年度の業務内容の分かる資料（契約書、下請負人通知書、施工体制台帳、下請契約書、注文書・請書、発注者の実績証明証等の写し）を添付すること。
A27: (3) | B27: 上記（２）の資料で評価対象地域が確認できない場合は、確認できる資料（位置図）を追加添付すること。

Sheet 建設キャリアアップシステム(CCUS)
A1: =CONCATENATE("（様式-",INDEX(発注者入力シート!$B$36:$G$45,MATCH(発注者入力シート!N21,発注者入力シート!$C$36:$C$45,0),4),"）") -> （様式-１６） | S1: 着色セルの凡例
A2: =CONCATENATE("評価項目",INDEX(発注者入力シート!$B$36:$G$45,MATCH(発注者入力シート!N21,発注者入力シート!$C$36:$C$45,0),5),"-",INDEX(発注者入力シート!$B$36:$G$45,MATCH(発注者入力シート!N21,発注者入力シート!$C$36:$C$45,0),6)) -> 評価項目（４）-⑤ | S2: （企業）
T3: ：「企業入力シート」、一覧表（別紙）で入力（数式リンク有）
A4: 建設キャリアアップシステム（CCUS）の活用 | T4: ：セルに直接入力もしくはリストから選択が必要な箇所
H6: 会社（企業体）名： | S6: （発注者）
T7: ：「発注者入力シート」で入力（数式リンク有）
A8: 対象： | B8: 当該工事における建設キャリアアップシステム（CCUS）の活用することの確約 | T8: ：セルに直接入力が必要な箇所
B9: ※活用とは、建設現場にカードリーダーを設置するなどして、技能労働者の就業履歴を蓄積することをいう
A11: 確約の有無
B12: ※記入がない場合は「無」と判断する。
B13: ※「有」の場合は、建設キャリアアップシステム活用確約書を提出すること。 | S13: 【印刷について】
S14: このシートは「ページ設定」で「白黒印刷」と「印刷範囲」が設定されています。
S15: 様式内の吹出しコメントは印刷されません。
A16: 建設キャリアアップシステム活用確約書
M19: =IF(E11="有",企業入力シート!C4,"")
B21: =IF(E11="有",発注者入力シート!C6&"長 様","")
H25: 住 所 | K25: =IF(E11="有",企業入力シート!C6,"")
H26: 商号又は名称 | K26: =IF(E11="有",企業入力シート!C7,"")
H27: 代 表 者 名 | K27: =IF(E11="有",企業入力シート!C8,"")
B30: 下記工事の施工にあたり、建設キャリアアップシステムを活用することを確約します。
H32: 記
B34: １ 工事名 | E34: =IF(E11="有",発注者入力シート!C10,"")
B37: ２ 確約内容
C38: 島根県建設キャリアアップシステム活用促進実施要領に基づき、建設現場にカードリーダーを設置するなどして、技能労働者の就業履歴を蓄積する。
B41: ３ 承諾事項
C42: ・工事完成後に実績確認のための証拠書類（ 「現場・契約情報」の出力帳票など）を発注者に提出し確認を受ける。
C44: ・確約した工事で活用しなかった場合は、工事成績評定で減点となる。

Sheet 質問書
A1: =CONCATENATE("（様式－",発注者入力シート!E48,"）") -> （様式－１７） | S1: 着色セルの凡例
A2: 令和 年 月 日 | S2: （企業）
T3: ：「企業入力シートで入力（数式リンク有）
A4: 設計図書、技術資料作成に対する質問書 | T4: ：セルに直接入力が必要な箇所
S6: （発注者）
T7: ：「発注者入力シート」で入力（数式リンク有）
A8: 令和 年 月 日付けで入札公告のありました下記工事について下記のとおり質問します。 | T8: ：セルに直接入力が必要な箇所
A9: 記
A10: 入札公告日 | E10: =IF(発注者入力シート!C7="","",発注者入力シート!C7) -> 46295 | S10: 【印刷について】
A11: 工事名 | E11: =IF(発注者入力シート!C10="","",発注者入力シート!C10) -> 蛇喰川 防安交付金（総流防）工事 第２期 | S11: このシートは「ページ設定」で「白黒印刷」と「印刷範囲」が設定されています。
A13: 質問事項 | E13: 要旨

Sheet 回答書
A1: =CONCATENATE("（様式－",発注者入力シート!E49,"）") -> （様式－１８） | S1: 着色セルの凡例
A2: 令和 年 月 日 | S2: （発注者）
T3: ：「発注者入力シート」で入力（数式リンク有）
A4: 設計図書、技術資料作成に対する質問の回答書 | T4: ：セルに直接入力が必要な箇所
A8: 令和 年 月 日付けでありました質問について下記のとおり回答します。
A9: 記
A10: 入札公告日 | E10: =IF(発注者入力シート!C7="","",発注者入力シート!C7) -> 46295 | S10: 【印刷について】
A11: 工事名 | E11: =IF(発注者入力シート!C10="","",発注者入力シート!C10) -> 蛇喰川 防安交付金（総流防）工事 第２期 | S11: このシートは「ページ設定」で「白黒印刷」と「印刷範囲」が設定されています。
A13: 質問事項 | E13: 回答

Sheet 採否通知
A1: =CONCATENATE("（様式－",発注者入力シート!E50,"） ") -> （様式－１９） | S1: 着色セルの凡例
A2: 令和 年 月 日 | S2: （企業）
A3: 技術提案の採否結果等通知書 | T3: ：「企業入力シートで入力（数式リンク有）
T4: ：セルに直接入力が必要な箇所
F5: 様
K6: （発注者） | S6: （発注者）
T7: ：「発注者入力シート」で入力（数式リンク有）
T8: ：セルに直接入力が必要な箇所
A10: 下記工事について、技術提案に対する審査結果を別紙※のとおり通知します。 | S10: 【印刷について】
S11: このシートは「ページ設定」で「白黒印刷」と「印刷範囲」が設定されています。
A12: 記
B13: 入札公告日 | E13: =IF(発注者入力シート!C7="","",発注者入力シート!C7) -> 46295
B15: 工事名 | E15: =IF(発注者入力シート!C10="","",発注者入力シート!C10) -> 蛇喰川 防安交付金（総流防）工事 第２期
A21: 特記事項（例）
A22: · | B22: 通知する採否結果等は次のとおりとする。
B23: 評価の種類 | E23: 表示記号等 | H23: 内容等
B24: 評価する | E24: ○ | H24: ・加点評価の対象とした事項。
H25: ・履行義務あり
B26: 評価しない | E26: △ | H26: ・加点評価の対象としなかった事項。
H27: （理由：標準案と同程度、実施回数や確認方法等が不明確、通 常行う対策の範疇 等）
H29: ・履行義務なし（注１、注２）
B31: 不採用 | E31: × | H31: ・加点評価の対象としなかった事項。
H32: （理由：別紙に記載する）
H33: ・施工にあたっては、実施を認めない事項。
B34: 注１） | C34: 「履行義務なし」の提案であっても、仕様書等で規定される事項は実施しなければならない。
B35: 注２） | C35: 受発注者協議により履行義務無の提案を実施することも可能であり、実施した結果、品質向上等の効果が確認できた時は、工事成績評定で評価する場合がある。
A39: · | B39: 不採用とされた内容がある場合、不採用になった理由について説明を要求することができる。
B41: 技術提案不採用理由説明要求書の提出期日 | K41: 令和○年○月○日
K42: 持参または郵送（必着）
A45: · | B45: 落札者となった場合、履行義務のある事項等について、契約時に必ず確認を行うこと。
A49: ※別紙資料として、技術提案の様式（評価結果付き）を添付する。

Sheet 不採用説明要求書
A1: =CONCATENATE("（様式－",発注者入力シート!E51,"）") -> （様式－２０） | S1: 着色セルの凡例
A2: 令和 年 月 日 | S2: （企業）
A3: 技術提案不採用理由説明要求書 | T3: ：「企業入力シートで入力（数式リンク有）
T4: ：セルに直接入力が必要な箇所
A5: （発注者）
F6: 様 | S6: （発注者）
T7: ：「発注者入力シート」で入力（数式リンク有）
K8: （提案者） | T8: ：セルに直接入力が必要な箇所
S10: 【印刷について】
S11: このシートは「ページ設定」で「白黒印刷」と「印刷範囲」が設定されています。
A12: 令和 年 月 日付けで通知のありました技術提案採否通知書において下記事項について不採用理由の詳細な説明を求めます。
A16: 記
A18: 入札公告日 | E18: =IF(発注者入力シート!C7="","",発注者入力シート!C7) -> 46295
A19: 工事名 | E19: =IF(発注者入力シート!C10="","",発注者入力シート!C10) -> 蛇喰川 防安交付金（総流防）工事 第２期
A21: 不採用理由の説明を求める技術提案項目及び要求の要旨
A22: 技術提案項目 | J22: 説明を求める要旨
A23: ①
A31: ②
A39: ③

Sheet 不採用理由回答書
A1: =CONCATENATE("（様式－",発注者入力シート!E52,"）") -> （様式－２１） | S1: 着色セルの凡例
A2: 令和 年 月 日 | S2: （企業）
A3: 技術提案不採用理由回答書 | T3: ：「企業入力シートで入力（数式リンク有）
T4: ：セルに直接入力が必要な箇所
A5: （提案者）
F6: 様 | S6: （発注者）
T7: ：「発注者入力シート」で入力（数式リンク有）
K8: （発注者） | T8: ：セルに直接入力が必要な箇所
S10: 【印刷について】
S11: このシートは「ページ設定」で「白黒印刷」と「印刷範囲」が設定されています。
A12: 令和 年 月 日付けで通知のありました技術提案不採用理由説明要求書について下記のとおり回答します。
A15: 記
A17: 入札公告日 | E17: =IF(発注者入力シート!C7="","",発注者入力シート!C7) -> 46295
A18: 工事名 | E18: =IF(発注者入力シート!C10="","",発注者入力シート!C10) -> 蛇喰川 防安交付金（総流防）工事 第２期
A20: 不採用理由の説明要求に対する回答
A21: 技術提案項目 | K21: 回答
A22: ①
A30: ②
A38: ③

Sheet 評価内容説明要求
A1: =CONCATENATE("（様式－",発注者入力シート!E53,"）") -> （様式－２２） | S1: 着色セルの凡例
A2: 令和 年 月 日 | S2: （企業）
A3: 評価内容説明要求書 | T3: ：「企業入力シートで入力（数式リンク有）
T4: ：セルに直接入力が必要な箇所
A5: （発注者）
F6: 様 | S6: （発注者）
T7: ：「発注者入力シート」で入力（数式リンク有）
K8: （提案者） | T8: ：セルに直接入力が必要な箇所
S10: 【印刷について】
S11: このシートは「ページ設定」で「白黒印刷」と「印刷範囲」が設定されています。
A12: 令和 年 月 日付けで公表のありました入札結果調書において下記事項について評価内容の詳細な説明を求めます。
A15: 記
A17: 入札公告日 | E17: =発注者入力シート!C7 -> 46295
A18: 工事名 | E18: =発注者入力シート!C10 -> 蛇喰川 防安交付金（総流防）工事 第２期
A20: 評価内容の説明を求める項目及び要求の要旨
A21: 項目 | E21: 説明を求める要旨
A22: ①
A30: ②
A38: ③

Sheet 評価内容回答
A1: =CONCATENATE("（様式－",発注者入力シート!E54,"）") -> （様式－２３） | S1: 着色セルの凡例
A2: 令和 年 月 日 | S2: （企業）
A3: 評価内容回答書 | T3: ：「企業入力シートで入力（数式リンク有）
T4: ：セルに直接入力が必要な箇所
A5: （提案者）
F6: 様 | S6: （発注者）
T7: ：「発注者入力シート」で入力（数式リンク有）
K8: （発注者） | T8: ：セルに直接入力が必要な箇所
S10: 【印刷について】
S11: このシートは「ページ設定」で「白黒印刷」と「印刷範囲」が設定されています。
A12: 令和 年 月 日付けで通知のありました評価内容説明要求書について下記のとおり回答します。
A15: 記
A17: 入札公告日 | E17: =発注者入力シート!C7 -> 46295
A18: 工事名 | E18: =発注者入力シート!C10 -> 蛇喰川 防安交付金（総流防）工事 第２期
A20: 評価内容の説明要求に対する回答
A21: 項目 | E21: 回答
A22: ①
A30: ②
A38: ③

Sheet 改善要請
A1: =CONCATENATE("（様式－",発注者入力シート!E55,"）") -> （様式－２４） | S1: 着色セルの凡例
A2: 令和 年 月 日 | S2: （企業）
T3: ：「企業入力シートで入力（数式リンク有）
A4: 技術提案改善要請書 | T4: ：セルに直接入力が必要な箇所
A6: （提案者） | S6: （発注者）
F7: 様 | T7: ：「発注者入力シート」で入力（数式リンク有）
K8: （発注者） | T8: ：セルに直接入力が必要な箇所
S10: 【印刷について】
S11: このシートは「ページ設定」で「白黒印刷」と「印刷範囲」が設定されています。
A13: 令和 年 月 日付けで提出された技術提案に対して下記のとおり改善を要請します。
A15: 記
A17: 入札公告日 | E17: =IF(発注者入力シート!C7="","",発注者入力シート!C7) -> 46295
A18: 工事名 | E18: =IF(発注者入力シート!C10="","",発注者入力シート!C10) -> 蛇喰川 防安交付金（総流防）工事 第２期
A20: 改善を要請する技術提案項目及びその要旨
A21: 技術提案項目 | F21: 改善を求める内容等
A22: ①

Sheet 改善提案
A1: =CONCATENATE("（様式－",発注者入力シート!E56,"）") -> （様式－２５） | S1: 着色セルの凡例
A2: 令和 年 月 日 | S2: （企業）
T3: ：「企業入力シートで入力（数式リンク有）
A4: 改善技術提案書 | T4: ：セルに直接入力が必要な箇所
A6: （発注者） | S6: （発注者）
F7: 様 | T7: ：「発注者入力シート」で入力（数式リンク有）
K8: （提案者） | T8: ：セルに直接入力が必要な箇所
S10: 【印刷について】
S11: このシートは「ページ設定」で「白黒印刷」と「印刷範囲」が設定されています。
A12: 令和 年 月 日付けで要請されました技術提案の改善に対して下記のとおり改善を提案します。
A14: （又はしません。）
A16: 記
A17: 入札公告日 | E17: =発注者入力シート!C7 -> 46295
A18: 工事名 | E18: =発注者入力シート!C10 -> 蛇喰川 防安交付金（総流防）工事 第２期
A20: 改善する技術提案項目 | B20: 改善の有無 | E20: （どちらかに○印）
E21: 有 無（改善前の技術提案での施工又は標準案での施工）
B22: 改善技術提案の内容及び説明
B47: 改善技術提案が採用されなかった場合の施工意志 | G47: （どちらかに○印）
G48: ・ 改善前の技術提案での施工
G49: ・ 標準案での施工
