Workbook
Name 【企業】評価項目: 発注者入力シート!$L$6:$L$13
Name 【技術者】評価項目: 発注者入力シート!$M$6:$M$12
Name 【地域貢献】評価項目: 発注者入力シート!$N$6:$N$27
Name 【地理的条件】評価項目: 発注者入力シート!$O$6:$O$11
Name 企業回答: 発注者入力シート!$Z$6:$Z$9
Name 企業回答1: 発注者入力シート!$V$6:$V$8
Name 企業回答10: 発注者入力シート!$AE$6:$AE$9
Name 企業回答11: 発注者入力シート!$AF$6:$AF$9
Name 企業回答12: 発注者入力シート!$AG$6:$AG$8
Name 企業回答13: [1]発注者入力シート!$AH$6:$AH$8
Name 企業回答14: [1]発注者入力シート!$AI$6:$AI$9
Name 企業回答2: 発注者入力シート!$W$6:$W$11
Name 企業回答3: 発注者入力シート!$X$6:$X$11
Name 企業回答4: 発注者入力シート!$Y$6:$Y$8
Name 企業回答5: 発注者入力シート!$Z$6:$Z$9
Name 企業回答6: 発注者入力シート!$AA$6:$AA$11
Name 企業回答7: 発注者入力シート!$AB$6:$AB$9
Name 企業回答8: 発注者入力シート!$AC$6:$AC$17
Name 企業回答9: 発注者入力シート!$AD$6:$AD$8
Name 建設工事の種類: 発注者入力シート!$U$6:$U$22
Name 工事種別: 発注者入力シート!$T$6:$T$22
Name 地域密着型: 発注者入力シート!$S$6:$S$7
Name 評価項目番号: 発注者入力シート!$Q$6:$Q$12
Name 評価項目番号_枝番: 発注者入力シート!$R$6:$R$16
Name 様式番号: 発注者入力シート!$P$6:$P$32

Sheet 発注者入力シート
A1: 発注までに必要な作業 | L1: 【表３】プルダウンリスト | AX1: 技術資料「企業の工事成績評定点」、「配置予定技術者の工事成績評定点」の表示
A2: （１）発注工事の基本情報 | L2: 【表３】を編集すると評価項目（C列）のリストが変更できます（原則、着色セル以外編集不可）。 | AX2: 入力状況 | AY2: =C8&C9 -> 一般土木工事土木一式工事
B3: １．【表１】のC列に基本情報を直接入力してください | L3: 表中の着色セルを予備欄です。項目が不足する場合ここに入力すれば、プルダウンリストを追加できます。 | AX3: 工事種別 | AY3: 建設工事の種類 | AZ3: 判定用 | BA3: 表示（工事種別） | BB3: 表示（建設工事の種類） | BC3: 工事成績評価対象期間
B4: 【表１】 | L4: 【表３】 | AX4: 一般土木工事 | AY4: 土木一式工事 | AZ4: =AX4&AY4 -> 一般土木工事土木一式工事 | BA4: 一般土木工事、維持修繕工事 | BB4: 土木一式工事、とび・土工・ｺﾝｸﾘｰﾄ工事、しゅんせつ工事 | BC4: 工事成績（過去3年間で評価）
B5: 入力項目名 | C5: 入力欄 | L5: 【企業】評価項目 | M5: 【技術者】評価項目 | N5: 【地域貢献・その他】評価項目 | O5: 【地理的条件】評価項目 | P5: 様式番号 | Q5: 評価項目番号 | R5: 評価項目番号（枝番） | S5: 地域密着 | T5: 工事種別 | U5: 建設工事の種類 | V5: 企業回答1 | W5: 企業回答2 | X5: 企業回答3 | Y5: 企業回答4 | Z5: 企業回答5 | AA5: 企業回答6 | AB5: 企業回答7 | AC5: 企業回答8 | AD5: 企業回答9 | AE5: 企業回答10 | AF5: 企業回答11 | AG5: 企業回答12 | AX5: 一般土木工事 | AY5: とび・土工・コンクリート工事 | AZ5: =AX5&AY5 -> 一般土木工事とび・土工・コンクリート工事 | BA5: 一般土木工事、維持修繕工事 | BB5: 土木一式工事、とび・土工・ｺﾝｸﾘｰﾄ工事、しゅんせつ工事 | BC5: 工事成績（過去3年間で評価）
B6: 発注事務所名 | C6: 島根県知事 | D6: ←直接入力 | L6: 工事成績 | M6: 保有資格 | N6: 防災協定 | O6: 近隣施工実績 | P6: ２ | Q6: （１） | R6: ① | T6: 一般土木工事 | U6: 土木一式工事 | V6: 有 | W6: 国局長 | X6: 国局長の表彰 | Y6: 契約工事名 | Z6: 単体 | AA6: 監理技術者 | AB6: 本店 | AC6: ｼｮﾍﾞﾙ系掘削機(ｼｮﾍﾞﾙ) | AD6: 保有 | AE6: 第1ｸﾞﾙｰﾌﾟ | AF6: 2回 | AG6: 元請 | AX6: 一般土木工事 | AY6: しゅんせつ工事 | AZ6: =AX6&AY6 -> 一般土木工事しゅんせつ工事 | BA6: 一般土木工事、維持修繕工事 | BB6: 土木一式工事、とび・土工・ｺﾝｸﾘｰﾄ工事、しゅんせつ工事 | BC6: 工事成績（過去3年間で評価）
B7: 入札公告日 | C7: 46295 | D7: ←ｙｙｙｙ/m/dで入力【重要】 | G7: 入札公告日前日 | H7: =C7-1 -> 46294 | I7: ←削除厳禁 | L7: 同種工事実績 | M7: 同種工事経験 | N7: BCP&防災協定 | O7: 会社所在地 | P7: ３ | Q7: （２） | R7: ② | T7: アスファルト舗装工事・特殊舗装工事（旧舗装工事） | U7: とび・土工・コンクリート工事 | V7: 無 | W7: 国事務所長 | X7: 国事務所長の表彰 | Y7: 表彰状記載工事名 | Z7: 特別（特定）JV | AA7: 主任技術者 | AB7: 支店 | AC7: ｼｮﾍﾞﾙ系掘削機(ﾊﾞｯｸﾎｳ) | AD7: リース契約 | AE7: 第2ｸﾞﾙｰﾌﾟ | AF7: 1回 | AG7: 下請 | AX7: 維持修繕工事 | AY7: 土木一式工事 | AZ7: =AX7&AY7 -> 維持修繕工事土木一式工事 | BA7: 一般土木工事、維持修繕工事 | BB7: 土木一式工事、とび・土工・ｺﾝｸﾘｰﾄ工事、しゅんせつ工事 | BC7: 工事成績（過去3年間で評価）
B8: 工事種別 | C8: 一般土木工事 | D8: ←必須【入力結果が技術資料(企業成績評定点、技術者成績評定点）シートの対象工事欄に反映される】 | L8: 優良工事表彰 | M8: 技術者の表彰 | N8: 家畜伝染防疫病協定 | O8: 工場・会社所在地 | P8: ４ | Q8: （３） | R8: ③ | T8: 鋼橋上部工事 | U8: 鋼構造物工事 | W8: 知事 | X8: 知事表彰該当工事の表彰 | Z8: 一般（経常）JV | AA8: 現場代理人 | AB8: 営業所 | AC8: ｼｮﾍﾞﾙ系掘削機(ﾄﾞﾗｸﾞﾗｲﾝ) | AE8: 第3ｸﾞﾙｰﾌﾟ | AF8: 0回 | AX8: 維持修繕工事 | AY8: とび・土工・コンクリート工事 | AZ8: =AX8&AY8 -> 維持修繕工事とび・土工・コンクリート工事 | BA8: 一般土木工事、維持修繕工事 | BB8: 土木一式工事、とび・土工・ｺﾝｸﾘｰﾄ工事、しゅんせつ工事 | BC8: 工事成績（過去3年間で評価）
B9: 建設工事の種類 | C9: 土木一式工事 | D9: =IF(INDEX(AX3:BC31,MATCH(AY2,AZ3:AZ31,0),3)=AY2,INDEX(AX3:BC31,MATCH(AY2,AZ3:AZ31,0),6),"err") -> 工事成績（過去3年間で評価） | G9: ←エラー表示の場合、工事種別と建設工事の種類を再確認 | L9: プラント保有 | M9: 継続学習 | N9: BCP&家畜伝染防疫病協定 | O9: サポート拠点 | P9: ５ | Q9: （４） | R9: ④ | T9: ﾌﾟﾚｽﾄﾚｽﾄｺﾝｸﾘｰﾄ構造物工事 | U9: 舗装工事 | W9: 県課長 | X9: 県課長表彰該当工事の表彰 | AA9: 監理技術者補佐 | AC9: ｼｮﾍﾞﾙ系掘削機(ｸﾗﾑｼｪﾙ) | AG9: 除雪業務 | AX9: アスファルト舗装工事・特殊舗装工事（旧舗装工事） | AY9: 舗装工事 | AZ9: =AX9&AY9 -> アスファルト舗装工事・特殊舗装工事（旧舗装工事）舗装工事 | BA9: アスファルト舗装工事・特殊舗装工事（旧舗装工事）、維持修繕工事 | BB9: 舗装工事 | BC9: 工事成績（過去3年間で評価）
B10: 工事名 | C10: 蛇喰川 防安交付金（総流防）工事 第２期 | L10: 法面機械保有 | M10: 技術者の成績 | N10: ボランティア活動又はハートフルしまね | O10: - | P10: ６ | Q10: （５） | R10: ⑤ | T10: 港湾工事 | U10: しゅんせつ工事 | W10: 県事務所長 | X10: 県事務所長表彰該当工事の表彰 | AC10: ｼｮﾍﾞﾙ系掘削機(ｸﾚｰﾝ) | AG10: 散布業務 | AX10: 維持修繕工事 | AY10: 舗装工事 | AZ10: =AX10&AY10 -> 維持修繕工事舗装工事 | BA10: アスファルト舗装工事・特殊舗装工事（旧舗装工事）、維持修繕工事 | BB10: 舗装工事 | BC10: 工事成績（過去3年間で評価）
L11: OPD制度参加登録 | M11: - | N11: 維持管理業務 | P11: ７ | Q11: （６） | R11: ⑥ | T11: 機械設備工事 | U11: 機械器具設置工事 | AC11: ｼｮﾍﾞﾙ系掘削機(ﾊﾟｲﾙﾄﾞﾗｲﾊﾞｰ) | AG11: 除雪・散布業務 | AX11: 鋼橋上部工事 | AY11: 鋼構造物工事 | AZ11: =AX11&AY11 -> 鋼橋上部工事鋼構造物工事 | BA11: 鋼橋上部工事 | BB11: 鋼構造物工事 | BC11: 工事成績（過去3年間で評価）
A12: （２）総合評価方式の評価項目、技術資料様式の番号情報 | L12: 登録基幹技能者 | N12: 除雪業務 | P12: ８ | R12: ⑦ | T12: 塗装工事 | U12: 塗装工事 | AC12: ﾌﾞﾙﾄﾞｰｻﾞｰ | AX12: ﾌﾟﾚｽﾄﾚｽﾄｺﾝｸﾘｰﾄ構造物工事 | AY12: 土木一式工事 | AZ12: =AX12&AY12 -> ﾌﾟﾚｽﾄﾚｽﾄｺﾝｸﾘｰﾄ構造物工事土木一式工事 | BA12: ﾌﾟﾚｽﾄﾚｽﾄｺﾝｸﾘｰﾄ構造物工事（旧ﾌﾟﾚｽﾄﾚｽﾄｺﾝｸﾘｰﾄ工事） | BB12: 土木一式工事 | BC12: 工事成績（過去3年間で評価）
B13: １．【表２】C列に発注工事の評価項目を入力してください（技術提案は、直接入力、その他の項目はプルダウンリストから選択） | N13: 労働福祉（障がい者雇用） | P13: ９ | R13: ⑧ | T13: 造園工事 | U13: 造園工事 | AC13: ﾄﾗｸﾀｰｼｮﾍﾞﾙ | AX13: 港湾工事 | AY13: 土木一式工事 | AZ13: =AX13&AY13 -> 港湾工事土木一式工事 | BA13: 港湾工事 | BB13: 土木一式工事、しゅんせつ工事 | BC13: 工事成績（過去3年間で評価）
B14: （特殊な評価項目でプルダウンリストに項目がない場合は、【表３】で項目を追加してください） | N14: 労働福祉（育児介護制度） | P14: １０ | R14: ⑨ | T14: さく井工事 | U14: さく井工事 | AC14: ﾓｰﾀｰｸﾞﾚｰﾀﾞｰ | AX14: 港湾工事 | AY14: しゅんせつ工事 | AZ14: =AX14&AY14 -> 港湾工事しゅんせつ工事 | BA14: 港湾工事 | BB14: 土木一式工事、しゅんせつ工事 | BC14: 工事成績（過去3年間で評価）
B15: ２．【表２】E～G列に様式番号と評価項目の番号をプルダウンリストで選択してください。 | N15: 育児介護チェック表 | P15: １１ | R15: ⑩ | T15: 法面処理工事 | U15: 電気工事 | AC15: 移動式ｸﾚｰﾝ | AX15: 機械設備工事 | AY15: 機械器具設置工事 | AZ15: =AX15&AY15 -> 機械設備工事機械器具設置工事 | BA15: 機械設備工事 | BB15: 機械器具設置工事、鋼構造物工事 | BC15: 工事成績（過去5年間で評価）
B16: （様式番号は表紙が1になるため、2から始まります。評価項目の番号は、入札説明書に記載する見出し番号とあわせてください） | N16: 登録基幹技能者 | P16: １２ | T16: 維持修繕工事 | U16: 管工事 | AC16: 大型ﾀﾞﾝﾌﾟ車 | AX16: 機械設備工事 | AY16: 鋼構造物工事 | AZ16: =AX16&AY16 -> 機械設備工事鋼構造物工事 | BA16: 機械設備工事 | BB16: 機械器具設置工事、鋼構造物工事 | BC16: 工事成績（過去5年間で評価）
B17: ３．地域条件を設定する評価項目は、【表２】D列で【地域設定】を選択してください | N17: 若手・中堅技術者配置 | P17: １３ | T17: グラウト工事 | U17: 水道施設工事 | AX17: 塗装工事 | AY17: 塗装工事 | AZ17: =AX17&AY17 -> 塗装工事塗装工事 | BA17: 塗装工事、維持修繕工事 | BB17: 塗装工事 | BC17: 工事成績（過去5年間で評価）
B18: 【表２】 | F18: 様式番号 | G18: 評価項目（１）－①（例） | N18: 若手技術者・従業員の新規雇用 | P18: １４ | T18: 管工事 | U18: 消防施設工事 | AX18: 維持修繕工事 | AY18: 塗装工事 | AZ18: =AX18&AY18 -> 維持修繕工事塗装工事 | BA18: 塗装工事、維持修繕工事 | BB18: 塗装工事 | BC18: 工事成績（過去5年間で評価）
B19: 区分 | C19: 評価項目 | D19: 地域設定 | E19: 様式－○ | F19: 評価項目○－○ | N19: 建設機械保有状況 | P19: １５ | T19: 電気工事 | U19: 電気通信工事 | AX19: 造園工事 | AY19: 造園工事 | AZ19: =AX19&AY19 -> 造園工事造園工事 | BA19: 造園工事 | BB19: 造園工事 | BC19: 工事成績（過去5年間で評価）
B20: 技術提案 | C20: コンクリートの品質・耐久性の向上 | E20: ２ | F20: （１） | G20: ① | H20: 技術提案① | N20: 消防団協力事業所 | P20: １６ | T20: 通信設備工事 | AX20: さく井工事 | AY20: さく井工事 | AZ20: =AX20&AY20 -> さく井工事さく井工事 | BA20: さく井工事 | BB20: さく井工事 | BC20: 工事成績（過去5年間で評価）
B21: 技術提案 | C21: 地盤改良の施工管理 | E21: ３ | F21: （１） | G21: ② | H21: 技術提案② | N21: CCUSの活用 | P21: １７ | AX21: 法面処理工事 | AY21: とび・土工・コンクリート工事 | AZ21: =AX21&AY21 -> 法面処理工事とび・土工・コンクリート工事 | BA21: 法面処理工事 | BB21: とび・土工・コンクリート工事 | BC21: 工事成績（過去3年間で評価）
B22: 技術提案 | C22: 地域住民等とのコミュニケーション | E22: ４ | F22: （１） | G22: ③ | H22: 技術提案③ | N22: ＩＣＴ活用工事施工実績 | P22: １８ | AX22: 電気工事 | AY22: 電気工事 | AZ22: =AX22&AY22 -> 電気工事電気工事 | BA22: 電気工事、維持修繕工事 | BB22: 電気工事 | BC22: 工事成績（過去5年間で評価）
B23: 技術提案 | H23: 技術提案④ | N23: 海上援助活動 | P23: １９ | AX23: 電気工事 | AY23: 消防施設工事 | AZ23: =AX23&AY23 -> 電気工事消防施設工事 | BA23: 電気工事、維持修繕工事 | BB23: 電気工事 | BC23: 工事成績（過去5年間で評価）
B24: 技術提案 | H24: 技術提案⑤ | N24: 応急危険度判定士 | P24: ２０ | AX24: 維持修繕工事 | AY24: 電気工事 | AZ24: =AX24&AY24 -> 維持修繕工事電気工事 | BA24: 電気工事、維持修繕工事 | BB24: 電気工事 | BC24: 工事成績（過去5年間で評価）
B25: 技術提案 | H25: 技術提案b① | N25: - | P25: ２１ | AX25: グラウト工事 | AY25: 土木一式工事 | AZ25: =AX25&AY25 -> グラウト工事土木一式工事 | BA25: グラウト工事 | BB25: 土木一式工事、とび・土工・ｺﾝｸﾘｰﾄ工事 | BC25: 工事成績（過去5年間で評価）
B26: 技術提案 | H26: 技術提案b② | N26: - | P26: ２２ | AX26: グラウト工事 | AY26: とび・土工・コンクリート工事 | AZ26: =AX26&AY26 -> グラウト工事とび・土工・コンクリート工事 | BA26: グラウト工事 | BB26: 土木一式工事、とび・土工・ｺﾝｸﾘｰﾄ工事 | BC26: 工事成績（過去5年間で評価）
B27: 企業 | C27: 工事成績 | E27: ５ | F27: （２） | G27: ① | P27: ２３ | AX27: 管工事 | AY27: 管工事 | AZ27: =AX27&AY27 -> 管工事管工事 | BA27: 管工事 | BB27: 管工事、水道施設工事 | BC27: 工事成績（過去5年間で評価）
B28: 企業 | C28: 同種工事実績 | E28: ６ | F28: （２） | G28: ② | P28: ２４ | AX28: 管工事 | AY28: 水道施設工事 | AZ28: =AX28&AY28 -> 管工事水道施設工事 | BA28: 管工事 | BB28: 管工事、水道施設工事 | BC28: 工事成績（過去5年間で評価）
B29: 企業 | C29: 優良工事表彰 | E29: ７ | F29: （２） | G29: ③ | P29: ２５ | AX29: 通信設備工事 | AY29: 電気通信工事 | AZ29: =AX29&AY29 -> 通信設備工事電気通信工事 | BA29: 通信設備工事 | BB29: 電気通信工事 | BC29: 工事成績（過去5年間で評価）
B30: 企業 | C30: 登録基幹技能者 | E30: ８ | F30: （２） | G30: ④ | P30: ２６ | AX30: 一般土木工事 | AY30: 鋼構造物工事 | AZ30: =AX30&AY30 -> 一般土木工事鋼構造物工事 | BC30: 評価対象工事は、個別判断
B31: 企業 | P31: ２７ | AX31: 維持修繕工事 | AY31: 鋼構造物工事 | AZ31: =AX31&AY31 -> 維持修繕工事鋼構造物工事 | BC31: 評価対象工事は、個別判断
B32: 配置予定技術者 | C32: 継続学習 | E32: ９ | F32: （３） | G32: ①
B33: 配置予定技術者 | C33: 同種工事経験 | E33: １０ | F33: （３） | G33: ②
B34: 配置予定技術者 | C34: 技術者の表彰 | E34: １１ | F34: （３） | G34: ③
B35: 配置予定技術者 | L35: 【表４】表紙記載文リスト
B36: 地域貢献・その他 | C36: BCP&防災協定 | E36: １２ | F36: （４） | G36: ① | L36: 【表４】を編集すると技術資料（表紙）「2 提出書類（必要な項目について）」で記載する様式の名称変更ができます。
B37: 地域貢献・その他 | C37: ボランティア活動又はハートフルしまね | E37: １３ | F37: （４） | G37: ② | L37: （【隠岐】企業の法面機械保有は、機械名が○○になっていますので、必ず編集が必要です。）
B38: 地域貢献・その他 | C38: 維持管理業務 | E38: １４ | F38: （４） | G38: ③ | L38: 【表４】
B39: 地域貢献・その他 | C39: 除雪業務 | E39: １５ | F39: （４） | G39: ④ | L39: ↓【重要】表２のD列で項目を記載したもの以外は、エラー表示される【編集厳禁】
B40: 地域貢献・その他 | C40: CCUSの活用 | E40: １６ | F40: （４） | G40: ⑤ | L40: 様式番号 | M40: 区分 | N40: 評価項目名 | O40: 表紙記載文
...

Sheet 企業入力シート
A1: 1.企業情報
A2: 表のC列（赤枠内）に企業情報を入力してください。入力した情報は、各種様式に反映されます。
B3: 項目名 | C3: 企業情報記入欄
A4: 1 | B4: 提出日 | D4: ←ｙｙｙｙ/m/dで入力
A5: 2
A6: 3 | B6: 住所
A7: 4 | B7: 商号又は名称 | C7: ○○建設
A8: 5 | B8: 代表者 | C8: ○○ ○○
A9: 6 | B9: 担当者
A10: 7 | B10: 部署
A11: 8 | B11: 電話番号
A12: 9 | B12: ＦＡＸ番号
A13: 10 | B13: Ｅ－mail
A15: 2.配置予定技術者の氏名
A16: 表のC・D列（赤枠内）に配置予定技術者情報を入力してください。入力した情報は、各種様式に反映されます。
B17: 配置予定技術者 | C17: 氏名記入欄 | D17: 生年月日
A18: 1 | B18: 配置予定技術者① | E18: ←ｙｙｙｙ/m/dで入力
A19: 2 | B19: 配置予定技術者② | E19: ←ｙｙｙｙ/m/dで入力
A20: 3 | B20: 配置予定技術者③ | E20: ←ｙｙｙｙ/m/dで入力
A22: 3.事前審査・証明書による申請
A23: 事前審査・証明書で提出する評価項目がある場合、該当するものに「○」を入力してください。事前審査・証明書で提出する項目については、技術資料及び添付資料を提出する必要はありません。
A24: 下欄の入力内容は「表紙」シートに反映されます。
A25: =COUNTA(B26:B35) -> 0 | B25: 証明書での提出 | C25: 項目 | K25: ○
A26: =COUNTA(B26) -> 0 | C26: 【土木一式】企業の工事成績評定点（県）
A27: =COUNTA($B$26:B27) -> 0 | C27: 【舗装】企業の工事成績評定点（県）
A28: =COUNTA($B$26:B28) -> 0 | C28: 【法面】企業の工事成績評定点（県）
A29: =COUNTA($B$26:B29) -> 0 | C29: 【港湾】企業の工事成績評定点（県）
A30: =COUNTA($B$26:B30) -> 0 | C30: 防災協定の締結実績
A31: =COUNTA($B$26:B31) -> 0 | C31: 家畜伝染病防疫協定の締結実績
A32: =COUNTA($B$26:B32) -> 0 | C32: ボランティア活動又はハートフルしまねへの参加実績
A33: =COUNTA($B$26:B33) -> 0 | C33: 維持管理業務等の契約実績（県）
A34: =COUNTA($B$26:B34) -> 0 | C34: 除雪業務の契約実績（県）
A35: =COUNTA($B$26:B35) -> 0 | C35: 労働福祉関連（育児介護・こっころ）

Sheet ファイル使用上の注意事項
A1: 技術資料作成用エクセル形式の電子ファイル使用上の注意事項
A3: ○技術資料【PDF形式】と参考資料【本エクセル形式】の位置づけについて
A4: (1) | B4: 本エクセル形式で作成したデータをPDF形式に変換したものを「技術資料」として、提出しなければなりません。 （提出：必須）
A6: (2) | B6: 本エクセル形式は、発注者が技術資料の審査を行う際に「参考資料」として使用しますので、提出の協力をお願いします。 本エクセル形式のみの提出をもって、技術資料を提出したことにはなりませんので、ご注意ください。
A11: ○エクセル形式使用時及び技術資料提出時の注意事項について
A12: (1) | B12: 行高・列幅不足により文字切れや「＃＃＃＃」表示で出力されていないか、提出する前に必ず印刷物で確認してください。
A14: (2) | B14: 文字切れや「＃＃＃＃」表示になっている場合、行高・列幅を広げる、文字を縮小して表示させるなど調整してください。
A16: (3) | B16: 発注者専用シート（シート名が赤色シート）には触れないでください。
A17: (4) | B17: 記入しない様式があっても、シートは絶対に削除しないでください。
A18: (5) | B18: 各様式の企業直接入力欄（青色着色セル）に記入する際、結合されたセルは絶対に解除しないでください。
A20: (6) | B20: 技術資料様式は、「ページ設定」で「白黒印刷」と「印刷範囲」を設定していますので、画面表示の着色セルも白色で印刷されます。
A22: (7) | B22: 技術提案や施工上の留意点の様式に図や表など貼り付けないで下さい。図や表を用いる場合は、必ず別ファイル（PDFファイル）で提出してください。
A24: (8) | B24: 「技術提案」、「施工上の留意点」様式は、提案記入欄より上部を印刷タイトルの設定で固定していますので、提出資料が複数ページに跨る場合、固定部分は全てのページで自動的に表示されます。
A27: ○数式に不具合があった場合の対応について
A28: (1) | B28: 本エクセル形式に設定されている数式に不具合があり、正しく表示されない場合がありましたら、直接セルに正しいものを記入してください。
A31: ○技術資料の審査について
A32: (1) | B32: 発注者は、技術資料【PDF形式】に記載された内容により審査しますので、提出書類に記載漏れ、添付漏れ、文字切れ等の不備がないか必ず確認してください。
A35: ○本エクセル形式のシート名着色の区分について
A36: シート名着色の区分は次のとおりです
B37: ：発注者専用シート（企業は入力厳禁です！！）
B38: ：企業専用シート（企業入力シート（申請企業の基本情報を入力）、質問書など）
B40: ：技術資料様式の表紙シート、ファイル使用上の注意事項シート
B41: ：「技術提案」、「施工上の留意点」様式シート
B42: ：「企業の評価」様式シート
B43: ：「配置予定技術者」様式シート
B44: ：「地域貢献・その他の評価」様式シート
B45: ：「地理的条件の評価」様式シート
A47: ○技術資料様式の凡例について
A48: 技術資料様式のセルの着色の凡例は次の通りです
A49: 着色セルの凡例
A50: （企業）
B51: ：「企業入力シート」で入力した情報が表示される箇所（数式でリンク有）
B52: ：セルに直接入力が必要な箇所
A54: （発注者）
B55: ：「発注者入力シート」や他のシートで入力した情報が表示される箇所（数式でリンク有）
B56: ：セルに直接入力が必要な箇所
A58: （企業・発注者共通事項）
B59: ：同じシート内で入力した情報が表示される箇所（数式でリンク有）

Sheet 発注者設定内容確認シート
A1: 入札公告日： | D1: =発注者入力シート!C7 -> 46295
A2: 工事名： | D2: =発注者入力シート!C10 -> 蛇喰川 防安交付金（総流防）工事 第２期
A3: 不要な項目は、非表示にしてください（行の削除厳禁）
A4: 発注者入力シートで選択していない項目は、エラー表示になります
A5: 評価項目番号 | D5: 区分 | E5: 評価項目 | F5: 評価対象事項 | G5: 評価基準（様式記載内容）
A6: =発注者入力シート!F20 -> （１） | B6: - | C6: =発注者入力シート!G20 -> ① | D6: 技術提案 | E6: =IF(技術提案①!B5="","",技術提案①!B5) -> コンクリートの品質・耐久性の向上
A7: =発注者入力シート!F21 -> （１） | B7: - | C7: =発注者入力シート!G21 -> ② | E7: =IF(技術提案②!B5="","",技術提案②!B5) -> 地盤改良の施工管理
A8: =発注者入力シート!F22 -> （１） | B8: - | C8: =発注者入力シート!G22 -> ③ | E8: =IF(技術提案③!B5="","",技術提案③!B5) -> 地域住民等とのコミュニケーション
A9: =発注者入力シート!F23 -> 0 | B9: - | C9: =発注者入力シート!G23 -> 0 | E9: =IF(#REF!="","",#REF!) -> #REF!
A10: =発注者入力シート!F24 -> 0 | B10: - | C10: =発注者入力シート!G24 -> 0 | E10: =IF(#REF!="","",#REF!) -> #REF!
A11: =発注者入力シート!F25 -> 0 | B11: - | C11: =発注者入力シート!G25 -> 0 | E11: =IF(#REF!="","",#REF!) -> #REF!
A12: =発注者入力シート!F26 -> 0 | B12: - | C12: =発注者入力シート!G26 -> 0 | E12: =IF(#REF!="","",#REF!) -> #REF!
A13: =INDEX(発注者入力シート!$B$27:$G$31,MATCH(発注者入力シート!L6,発注者入力シート!$C$27:$C$31,0),5) -> （２） | B13: - | C13: =INDEX(発注者入力シート!$B$27:$G$31,MATCH(発注者入力シート!L6,発注者入力シート!$C$27:$C$31,0),6) -> ① | D13: 企業 | E13: 工事成績(3年用) | F13: 完成年度 | G13: =IF('企業成績評定点(3年用)'!G6="","",'企業成績評定点(3年用)'!G6) -> 令和５年度から令和７年度（完成及び引き渡しが完了）
A14: =A13 -> （２） | B14: - | C14: =C13 -> ① | F14: 発注機関 | G14: =IF('企業成績評定点(3年用)'!G7="","",'企業成績評定点(3年用)'!G7) -> 島根県（総務部、農林水産部、土木部）
A15: =A13 -> （２） | B15: - | C15: =C13 -> ① | F15: 工事種別 | G15: =IF('企業成績評定点(3年用)'!G8="","",'企業成績評定点(3年用)'!G8) -> 一般土木工事、維持修繕工事
A16: =A13 -> （２） | B16: - | C16: =C13 -> ① | F16: 建設工事の種類 | G16: =IF('企業成績評定点(3年用)'!G9="","",'企業成績評定点(3年用)'!G9) -> 土木一式工事、とび・土工・ｺﾝｸﾘｰﾄ工事、しゅんせつ工事
A17: =INDEX(発注者入力シート!$B$27:$G$31,MATCH(発注者入力シート!L6,発注者入力シート!$C$27:$C$31,0),5) -> （２） | B17: - | C17: =INDEX(発注者入力シート!$B$27:$G$31,MATCH(発注者入力シート!L6,発注者入力シート!$C$27:$C$31,0),6) -> ① | D17: 企業 | E17: 工事成績(5年用) | F17: 完成年度 | G17: =IF(#REF!="","",#REF!) -> #REF!
A18: =A17 -> （２） | B18: - | C18: =C17 -> ① | F18: 発注機関 | G18: =IF(#REF!="","",#REF!) -> #REF!
A19: =A17 -> （２） | B19: - | C19: =C17 -> ① | F19: 工事種別 | G19: =IF(#REF!="","",#REF!) -> #REF!
A20: =A17 -> （２） | B20: - | C20: =C17 -> ① | F20: 建設工事の種類 | G20: =IF(#REF!="","",#REF!) -> #REF!
A21: =INDEX(発注者入力シート!$B$27:$G$31,MATCH(発注者入力シート!L7,発注者入力シート!$C$27:$C$31,0),5) -> （２） | B21: - | C21: =INDEX(発注者入力シート!$B$27:$G$31,MATCH(発注者入力シート!L7,発注者入力シート!$C$27:$C$31,0),6) -> ② | D21: 企業 | E21: =発注者入力シート!L7 -> 同種工事実績 | F21: 対象年度・機関等 | G21: =IF(同種工事施工実績!F6="","",同種工事施工実績!F6) -> 平成２８年度から入札公告日前日までに完成及び引き渡しが完了した島根県発注工事
A22: =A21 -> （２） | B22: - | C22: =C21 -> ② | F22: 同種工事 | G22: =IF(同種工事施工実績!F10="","",同種工事施工実績!F10) -> １契約で１構造物種別あたり単体で最終数量２７０㎥以上のコンクリートを打設した現場打ＲＣ構造物を含む完成及び引き渡しが完了した工事
A23: =A22 -> （２） | B23: - | C23: =C22 -> ② | F23: 工事種別 | G23: =IF(同種工事施工実績!F8="","",同種工事施工実績!F8) -> 一般土木工事、維持修繕工事
A24: =A23 -> （２） | B24: - | C24: =C23 -> ② | F24: 建設工事の種類 | G24: =IF(同種工事施工実績!F9="","",同種工事施工実績!F9) -> 土木一式工事、とび・土工・ｺﾝｸﾘｰﾄ工事、しゅんせつ工事
A25: =INDEX(発注者入力シート!$B$27:$G$31,MATCH(発注者入力シート!L8,発注者入力シート!$C$27:$C$31,0),5) -> （２） | B25: - | C25: =INDEX(発注者入力シート!$B$27:$G$31,MATCH(発注者入力シート!L8,発注者入力シート!$C$27:$C$31,0),6) -> ③ | D25: 企業 | E25: =発注者入力シート!L8 -> 優良工事表彰 | F25: 対象年度・機関等 | G25: =IF(優良工事表彰!E6="","",優良工事表彰!E6) -> 島根県内の公共事業において、令和４年度から令和８年度に、島根県及び中国地方整備局発注工事で受けた優良工事表彰（優良工事施工団体表彰）
A26: =A25 -> （２） | B26: =B25 -> - | C26: =C25 -> ③ | F26: 工事種別 | G26: =IF(優良工事表彰!E9="","",優良工事表彰!E9) -> 一般土木工事、維持修繕工事
A27: =A26 -> （２） | B27: =B26 -> - | C27: =C26 -> ③ | F27: 建設工事の種類 | G27: =IF(優良工事表彰!E10="","",優良工事表彰!E10) -> 土木一式工事、とび・土工・ｺﾝｸﾘｰﾄ工事、しゅんせつ工事
A28: =INDEX(発注者入力シート!$B$27:$G$31,MATCH(発注者入力シート!L12,発注者入力シート!$C$27:$C$31,0),5) -> （２） | B28: - | C28: =INDEX(発注者入力シート!$B$27:$G$31,MATCH(発注者入力シート!L12,発注者入力シート!$C$27:$C$31,0),6) -> ④ | D28: 企業 | E28: 登録基幹技能者 | F28: 対象 | G28: =IF(登録基幹技能者!B9="","",登録基幹技能者!B9) -> 登録コンクリート圧送基幹技能者の現場への配置者数
A29: =INDEX(発注者入力シート!$B$32:$G$35,MATCH(発注者入力シート!M9,発注者入力シート!$C$32:$C$35,0),5) -> （３） | B29: - | C29: =INDEX(発注者入力シート!$B$32:$G$35,MATCH(発注者入力シート!M9,発注者入力シート!$C$32:$C$35,0),6) -> ① | D29: 配置予定技術者 | E29: 継続学習
A30: =INDEX(発注者入力シート!$B$32:$G$35,MATCH(発注者入力シート!M6,発注者入力シート!$C$32:$C$35,0),5) -> #N/A | B30: - | C30: =INDEX(発注者入力シート!$B$32:$G$35,MATCH(発注者入力シート!M6,発注者入力シート!$C$32:$C$35,0),6) -> #N/A | D30: 配置予定技術者 | E30: 資格 | F30: 対象資格 | G30: =IF(#REF!="","",#REF!) -> #REF!
A31: =INDEX(発注者入力シート!$B$32:$G$35,MATCH(発注者入力シート!M7,発注者入力シート!$C$32:$C$35,0),5) -> （３） | B31: - | C31: =INDEX(発注者入力シート!$B$32:$G$35,MATCH(発注者入力シート!M7,発注者入力シート!$C$32:$C$35,0),6) -> ② | D31: 配置予定技術者 | E31: 施工経験 | F31: 対象年度・機関等 | G31: =IF(同種工事施工経験!F6="","",同種工事施工経験!F6) -> 平成２８年度から入札公告日前日までに完成及び引き渡しが完了した島根県発注工事
A32: =A31 -> （３） | B32: - | C32: =C31 -> ② | F32: 同種工事 | G32: =IF(同種工事施工経験!F8="","",同種工事施工経験!F8) -> １契約で１構造物種別あたり単体で最終数量１３０㎥以上のコンクリートを打設した現場打ＲＣ構造物を含む完成及び引き渡しが完了した工事
A33: =A32 -> （３） | B33: - | C33: =C32 -> ② | F33: 工事種別 | G33: =IF(同種工事施工経験!F11="","",同種工事施工経験!F11) -> 一般土木工事、維持修繕工事
A34: =A33 -> （３） | B34: - | C34: =C33 -> ② | F34: 建設工事の種類 | G34: =IF(同種工事施工経験!F12="","",同種工事施工経験!F12) -> 土木一式工事、とび・土工・ｺﾝｸﾘｰﾄ工事、しゅんせつ工事
A35: =INDEX(発注者入力シート!$B$32:$G$35,MATCH(発注者入力シート!M8,発注者入力シート!$C$32:$C$35,0),5) -> （３） | B35: - | C35: =INDEX(発注者入力シート!$B$32:$G$35,MATCH(発注者入力シート!M8,発注者入力シート!$C$32:$C$35,0),6) -> ③ | D35: 配置予定技術者 | E35: 優秀建設技術者表彰 | F35: 対象年度・機関等 | G35: =IF(優秀技術者表彰!F6="","",優秀技術者表彰!F6) -> 島根県内の公共事業において、令和４年度から令和８年度に、島根県及び中国地方整備局発注工事で主任（監理）技術者または現場代理人として受けた優秀建設技術者表彰
A36: =A35 -> （３） | B36: =B35 -> - | C36: =C35 -> ③ | F36: 工事種別 | G36: =IF(優秀技術者表彰!F9="","",優秀技術者表彰!F9) -> 一般土木工事、維持修繕工事
A37: =A36 -> （３） | B37: =B36 -> - | C37: =C36 -> ③ | F37: 建設工事の種類 | G37: =IF(優秀技術者表彰!F10="","",優秀技術者表彰!F10) -> 土木一式工事、とび・土工・ｺﾝｸﾘｰﾄ工事、しゅんせつ工事
A38: =INDEX(発注者入力シート!$B$32:$G$35,MATCH(発注者入力シート!M10,発注者入力シート!$C$32:$C$35,0),5) -> #N/A | B38: - | C38: =INDEX(発注者入力シート!$B$32:$G$35,MATCH(発注者入力シート!M10,発注者入力シート!$C$32:$C$35,0),6) -> #N/A | D38: 配置予定技術者 | E38: 配置予定技術者の工事成績評定点 | F38: 完成年度 | G38: =IF(#REF!="","",#REF!) -> #REF!
A39: =A38 -> #N/A | B39: - | C39: =C38 -> #N/A | F39: 発注機関 | G39: =IF(#REF!="","",#REF!) -> #REF!
A40: =A38 -> #N/A | B40: - | C40: =C38 -> #N/A | F40: 工事種別 | G40: =IF(#REF!="","",#REF!) -> #REF!
...

Sheet 発注者審査作業用シート (技術提案)
A1: このシートは、「技術審査用ファイル」の「技術提案①～⑥」にコピー作業を行うためのものです
B2: 技術提案
B3: 技術提案① | C3: 技術提案② | D3: 技術提案③ | E3: 技術提案④ | F3: 技術提案⑤ | G3: 技術提案b① | H3: 技術提案b②
B4: =IF(技術提案①!B5="","",技術提案①!B5) -> コンクリートの品質・耐久性の向上 | C4: =IF(技術提案②!B5="","",技術提案②!B5) -> 地盤改良の施工管理 | D4: =IF(技術提案③!B5="","",技術提案③!B5) -> 地域住民等とのコミュニケーション | E4: =IF(#REF!="","",#REF!) -> #REF! | F4: =IF(#REF!="","",#REF!) -> #REF! | G4: =IF(#REF!="","",#REF!) -> #REF! | H4: =IF(#REF!="","",#REF!) -> #REF!
B8: =IF(技術提案①!A20="","",技術提案①!A20) -> ① ◯◯◯◯◯ （現場特性・概要） （時期、期間） （位置、範囲） （内容《誰が･何を･どうする》、数量、材料、機械等） （目的、効果、優位性） （効果の技術的根拠） （その他） | C8: =IF(技術提案②!A20="","",技術提案②!A20) -> ① ◯◯◯◯◯ （現場特性・概要） （時期、期間） （位置、範囲） （内容《誰が･何を･どうする》、数量、材料、機械等） （目的、効果、優位性） （効果の技術的根拠） （その他） | D8: =IF(技術提案③!A20="","",技術提案③!A20) -> ① ◯◯◯◯◯ （現場特性・概要） （時期、期間） （位置、範囲） （内容《誰が･何を･どうする》、数量、材料、機械等） （目的、効果、優位性） （効果の技術的根拠） （その他） | E8: =IF(#REF!="","",#REF!) -> #REF! | F8: =IF(#REF!="","",#REF!) -> #REF! | G8: =IF(#REF!="","",#REF!) -> #REF! | H8: =IF(#REF!="","",#REF!) -> #REF!
B9: =IF(技術提案①!A27="","",技術提案①!A27) -> ② ◯◯◯◯◯ （現場特性・概要） （時期、期間） （位置、範囲） （内容《誰が･何を･どうする》、数量、材料、機械等） （目的、効果、優位性） （効果の技術的根拠） （その他） | C9: =IF(技術提案②!A27="","",技術提案②!A27) -> ② ◯◯◯◯◯ （現場特性・概要） （時期、期間） （位置、範囲） （内容《誰が･何を･どうする》、数量、材料、機械等） （目的、効果、優位性） （効果の技術的根拠） （その他） | D9: =IF(技術提案③!A27="","",技術提案③!A27) -> ② ◯◯◯◯◯ （現場特性・概要） （時期、期間） （位置、範囲） （内容《誰が･何を･どうする》、数量、材料、機械等） （目的、効果、優位性） （効果の技術的根拠） （その他） | E9: =IF(#REF!="","",#REF!) -> #REF! | F9: =IF(#REF!="","",#REF!) -> #REF! | G9: =IF(#REF!="","",#REF!) -> #REF! | H9: =IF(#REF!="","",#REF!) -> #REF!
B10: =IF(技術提案①!A34="","",技術提案①!A34) -> ③ ◯◯◯◯◯ （現場特性・概要） （時期、期間） （位置、範囲） （内容《誰が･何を･どうする》、数量、材料、機械等） （目的、効果、優位性） （効果の技術的根拠） （その他） | C10: =IF(技術提案②!A34="","",技術提案②!A34) -> ③ ◯◯◯◯◯ （現場特性・概要） （時期、期間） （位置、範囲） （内容《誰が･何を･どうする》、数量、材料、機械等） （目的、効果、優位性） （効果の技術的根拠） （その他） | D10: =IF(技術提案③!A34="","",技術提案③!A34) -> ③ ◯◯◯◯◯ （現場特性・概要） （時期、期間） （位置、範囲） （内容《誰が･何を･どうする》、数量、材料、機械等） （目的、効果、優位性） （効果の技術的根拠） （その他） | E10: =IF(#REF!="","",#REF!) -> #REF! | F10: =IF(#REF!="","",#REF!) -> #REF! | G10: =IF(#REF!="","",#REF!) -> #REF! | H10: =IF(#REF!="","",#REF!) -> #REF!
G11: =IF(#REF!="","",#REF!) -> #REF! | H11: =IF(#REF!="","",#REF!) -> #REF!
G12: =IF(#REF!="","",#REF!) -> #REF! | H12: =IF(#REF!="","",#REF!) -> #REF!
G13: =IF(#REF!="","",#REF!) -> #REF! | H13: =IF(#REF!="","",#REF!) -> #REF!
G14: =IF(#REF!="","",#REF!) -> #REF! | H14: =IF(#REF!="","",#REF!) -> #REF!
G15: =IF(#REF!="","",#REF!) -> #REF! | H15: =IF(#REF!="","",#REF!) -> #REF!
G16: =IF(#REF!="","",#REF!) -> #REF! | H16: =IF(#REF!="","",#REF!) -> #REF!

Sheet 発注者審査作業用シート（提案以外）
A1: このシートは、「技術審査用ファイル」の「作業用シート」に一括コピー作業を行うためのものです
A2: ＜シートの説明＞
B3: ・「技術審査用ファイル」の「作業用シート」へ一括コピーするため、「コピー専用表」をこのシートに設定しています。
B4: ・コピーする範囲は、「コピー専用表」の薄オレンジ部分（評価項目：１９～２５行）と白色部分（企業申請内容：２６行～３３行）です。
B5: ・文字切れやフォントサイズの修正は、「技術審査用ファイル」で行いますので、このシートでは作業不要です。
B6: ・「コピー専用表」は、「技術審査用ファイル」の「技術審査用シート」で見えやすいように概ね書式調整しています。「技術審査用シート」で見えにくいときのみ、コピー専用表の書式を修正してください。
A7: ＜作業手順＞・・・・以下の作業は、必ず別ファイルとして公告用ファイルを作成し、公告用ファイルで作業してください（１回シートや列を削除すると元の状態に戻せなくなります）。
A8: 準備作業： | B8: 不要な評価項目の列全体をこのシートから削除。不要な様式も削除してください。
B9: 評価項目の列全体を削除する際、コピー先の配列（「技術審査用ファイル」）に合わせておく必要があります（「技術審査用ファイル」の自動集計に支障が生じるため）。
B10: 予備欄等を活用して配列を合わせてください。
B11: 「技術審査用ファイル」の固定配列（※１項目３列で設定してあります）
B12: 企業：４項目、配置予定技術者①：４項目、配置予定技術者②：４項目、配置予定技術者③：４項目、地域貢献・その他：７項目、地理的条件：２項目
A13: 手順①： | B13: 「コピー専用表」の薄オレンジ部分全体を指定しコピー後、「技術審査用ファイル」の「作業用シート」の「貼り付け箇所A」に、貼り付けオプションの「値」で貼り付け。
A14: 手順②： | B14: 手順①の後、同じ場所（貼り付け箇所A）に貼り付けオプションの「書式設定」で貼り付けると、コピー専用行で設定された書式でコピー可能。
A15: 手順③： | B15: 手順①、手順②の方法により、「コピー専用表」の白色部分全体を「技術審査用ファイル」の「作業用シート」の「貼り付け箇所B」に貼り付け。
A17: 以下、審査用ファイルの「作業用」シートへの「コピー専用表」 | AG17: 審査用ファイルコピー先の列数と合わせるための列 | AY17: 審査用ファイルコピー先の列数と合わせるための列 | BQ17: 審査用ファイルコピー先の列数と合わせるための列 | DG17: 審査用ファイルコピー先の列数と合わせるための列 | DJ17: 審査用ファイルコピー先の列数と合わせるための欄 | DM17: 審査用ファイルコピー先の列数と合わせるための欄 | DP17: 審査用ファイルコピー先の列数と合わせるための欄 | EH17: 審査用ファイルコピー先の列数と合わせるための列
B18: 行番号 | C18: =CONCATENATE("様式-",INDEX(発注者入力シート!$B$27:$G$31,MATCH(発注者入力シート!L6,発注者入力シート!$C$27:$C$31,0),4)) -> 様式-５ | F18: =CONCATENATE("様式-",INDEX(発注者入力シート!$B$27:$G$31,MATCH(発注者入力シート!L6,発注者入力シート!$C$27:$C$31,0),4)) -> 様式-５ | I18: =CONCATENATE("様式-",INDEX(発注者入力シート!$B$27:$G$31,MATCH(発注者入力シート!L7,発注者入力シート!$C$27:$C$31,0),4)) -> 様式-６ | L18: =CONCATENATE("様式-",INDEX(発注者入力シート!$B$27:$G$31,MATCH(発注者入力シート!L8,発注者入力シート!$C$27:$C$31,0),4)) -> 様式-７ | O18: =CONCATENATE("様式-",INDEX(発注者入力シート!$B$27:$G$31,MATCH(発注者入力シート!L13,発注者入力シート!$C$27:$C$31,0),4)) -> #N/A | R18: =CONCATENATE("様式-",INDEX(発注者入力シート!$B$32:$G$35,MATCH(発注者入力シート!M9,発注者入力シート!$C$32:$C$35,0),4)) -> 様式-９ | U18: =CONCATENATE("様式-",INDEX(発注者入力シート!$B$32:$G$35,MATCH(発注者入力シート!M6,発注者入力シート!$C$32:$C$35,0),4)) -> #N/A | X18: =CONCATENATE("様式-",INDEX(発注者入力シート!$B$32:$G$35,MATCH(発注者入力シート!M7,発注者入力シート!$C$32:$C$35,0),4)) -> 様式-１０ | AA18: =CONCATENATE("様式-",INDEX(発注者入力シート!$B$32:$G$35,MATCH(発注者入力シート!M8,発注者入力シート!$C$32:$C$35,0),4)) -> 様式-１１ | AD18: =CONCATENATE("様式-",INDEX(発注者入力シート!$B$32:$G$35,MATCH(発注者入力シート!M10,発注者入力シート!$C$32:$C$35,0),4)) -> #N/A | AG18: =CONCATENATE("様式-",INDEX(発注者入力シート!$B$32:$G$35,MATCH(発注者入力シート!M12,発注者入力シート!$C$32:$C$35,0),4)) -> #N/A | AJ18: =CONCATENATE("様式-",INDEX(発注者入力シート!$B$32:$G$35,MATCH(発注者入力シート!M9,発注者入力シート!$C$32:$C$35,0),4)) -> 様式-９ | AM18: =CONCATENATE("様式-",INDEX(発注者入力シート!$B$32:$G$35,MATCH(発注者入力シート!M6,発注者入力シート!$C$32:$C$35,0),4)) -> #N/A | AP18: =CONCATENATE("様式-",INDEX(発注者入力シート!$B$32:$G$35,MATCH(発注者入力シート!M7,発注者入力シート!$C$32:$C$35,0),4)) -> 様式-１０ | AS18: =CONCATENATE("様式-",INDEX(発注者入力シート!$B$32:$G$35,MATCH(発注者入力シート!M8,発注者入力シート!$C$32:$C$35,0),4)) -> 様式-１１ | AV18: =CONCATENATE("様式-",INDEX(発注者入力シート!$B$32:$G$35,MATCH(発注者入力シート!M10,発注者入力シート!$C$32:$C$35,0),4)) -> #N/A | AY18: =CONCATENATE("様式-",INDEX(発注者入力シート!$B$32:$G$35,MATCH(発注者入力シート!M12,発注者入力シート!$C$32:$C$35,0),4)) -> #N/A | BB18: =CONCATENATE("様式-",INDEX(発注者入力シート!$B$32:$G$35,MATCH(発注者入力シート!M9,発注者入力シート!$C$32:$C$35,0),4)) -> 様式-９ | BE18: =CONCATENATE("様式-",INDEX(発注者入力シート!$B$32:$G$35,MATCH(発注者入力シート!M6,発注者入力シート!$C$32:$C$35,0),4)) -> #N/A | BH18: =CONCATENATE("様式-",INDEX(発注者入力シート!$B$32:$G$35,MATCH(発注者入力シート!M7,発注者入力シート!$C$32:$C$35,0),4)) -> 様式-１０ | BK18: =CONCATENATE("様式-",INDEX(発注者入力シート!$B$32:$G$35,MATCH(発注者入力シート!M8,発注者入力シート!$C$32:$C$35,0),4)) -> 様式-１１ | BN18: =CONCATENATE("様式-",INDEX(発注者入力シート!$B$32:$G$35,MATCH(発注者入力シート!M10,発注者入力シート!$C$32:$C$35,0),4)) -> #N/A | BQ18: =CONCATENATE("様式-",INDEX(発注者入力シート!$B$32:$G$35,MATCH(発注者入力シート!M12,発注者入力シート!$C$32:$C$35,0),4)) -> #N/A | BT18: {=CONCATENATE("様式-",INDEX(発注者入力シート!$B$36:$G$45,MATCH(TRUE,(発注者入力シート!$C$36:$C$45=発注者入力シート!N6)+(発注者入力シート!$C$36:$C$45=発注者入力シート!N8)>0,0),4))} -> #N/A | BW18: {=CONCATENATE("様式-",INDEX(発注者入力シート!$B$36:$G$45,MATCH(TRUE,(発注者入力シート!$C$36:$C$45=発注者入力シート!N7)+(発注者入力シート!$C$36:$C$45=発注者入力シート!N9)>0,0),4))} -> 様式-１２ | BZ18: =CONCATENATE("様式-",INDEX(発注者入力シート!$B$36:$G$45,MATCH(発注者入力シート!N10,発注者入力シート!$C$36:$C$45,0),4)) -> 様式-１３ | CC18: =CONCATENATE("様式-",INDEX(発注者入力シート!$B$36:$G$45,MATCH(発注者入力シート!N11,発注者入力シート!$C$36:$C$45,0),4)) -> 様式-１４ | CF18: =CONCATENATE("様式-",INDEX(発注者入力シート!$B$36:$G$45,MATCH(発注者入力シート!N12,発注者入力シート!$C$36:$C$45,0),4)) -> 様式-１５ | CI18: =CONCATENATE("様式-",INDEX(発注者入力シート!$B$36:$G$45,MATCH(発注者入力シート!N13,発注者入力シート!$C$36:$C$45,0),4),"など") -> #N/A | CL18: =CONCATENATE("様式-",INDEX(発注者入力シート!$B$36:$G$45,MATCH(発注者入力シート!N17,発注者入力シート!$C$36:$C$45,0),4)) -> #N/A | CO18: =CONCATENATE("様式-",INDEX(発注者入力シート!$B$36:$G$45,MATCH(発注者入力シート!N18,発注者入力シート!$C$36:$C$45,0),4)) -> #N/A | CR18: =CONCATENATE("様式-",INDEX(発注者入力シート!$B$36:$G$45,MATCH(発注者入力シート!N19,発注者入力シート!$C$36:$C$45,0),4)) -> #N/A | CU18: =CONCATENATE("様式-",INDEX(発注者入力シート!$B$36:$G$45,MATCH(発注者入力シート!N20,発注者入力シート!$C$36:$C$45,0),4)) -> #N/A | CX18: =CONCATENATE("様式-",INDEX(発注者入力シート!$B$36:$G$45,MATCH(発注者入力シート!N21,発注者入力シート!$C$36:$C$45,0),4)) -> 様式-１６ | DA18: =CONCATENATE("様式-",INDEX(発注者入力シート!$B$36:$G$45,MATCH(発注者入力シート!N22,発注者入力シート!$C$36:$C$45,0),4)) -> #N/A | DD18: =CONCATENATE("様式-",INDEX(発注者入力シート!$B$36:$G$45,MATCH(発注者入力シート!N23,発注者入力シート!$C$36:$C$45,0),4)) -> #N/A | DS18: =CONCATENATE("様式-",INDEX(発注者入力シート!$B$46:$G$47,MATCH(発注者入力シート!O6,発注者入力シート!$C$46:$C$47,0),4)) -> #N/A | DV18: =CONCATENATE("様式-",INDEX(発注者入力シート!$B$46:$G$47,MATCH(発注者入力シート!O7,発注者入力シート!$C$46:$C$47,0),4)) -> #N/A | DY18: =CONCATENATE("様式-",INDEX(発注者入力シート!$B$46:$G$47,MATCH(発注者入力シート!O8,発注者入力シート!$C$46:$C$47,0),4)) -> #N/A | EB18: =CONCATENATE("様式-",INDEX(発注者入力シート!$B$46:$G$47,MATCH(発注者入力シート!O9,発注者入力シート!$C$46:$C$47,0),4)) -> #N/A | EE18: =CONCATENATE("様式-",INDEX(発注者入力シート!$B$46:$G$47,MATCH(発注者入力シート!O11,発注者入力シート!$C$46:$C$47,0),4)) -> #N/A
A19: コピー専用行 | B19: a0 | C19: 企業 | F19: 企業 | I19: 企業 | L19: 企業 | O19: 企業 | R19: 配置予定技術者① | U19: 配置予定技術者① | X19: 配置予定技術者① | AA19: 配置予定技術者① | AD19: 配置予定技術者① | AG19: 配置予定技術者① | AJ19: 配置予定技術者② | AM19: 配置予定技術者② | AP19: 配置予定技術者② | AS19: 配置予定技術者② | AV19: 配置予定技術者② | AY19: 配置予定技術者② | BB19: 配置予定技術者③ | BE19: 配置予定技術者③ | BH19: 配置予定技術者③ | BK19: 配置予定技術者③ | BN19: 配置予定技術者③ | BQ19: 配置予定技術者③ | BT19: 地域貢献・その他 | BW19: 地域貢献・その他 | BZ19: 地域貢献・その他 | CC19: 地域貢献・その他 | CF19: 地域貢献・その他 | CI19: 地域貢献・その他 | CL19: 地域貢献・その他 | CO19: 地域貢献・その他 | CR19: 地域貢献・その他 | CU19: 地域貢献・その他 | CX19: 地域貢献・その他 | DA19: 地域貢献・その他 | DD19: 地域貢献・その他【水産】 | DG19: 地域貢献・その他 | DJ19: 地域貢献・その他 | DM19: 地域貢献・その他 | DP19: 地域貢献・その他 | DS19: 地理的条件 | DV19: 地理的条件 | DY19: 地理的条件 | EB19: 地理的条件 | EE19: 地理的条件 | EH19: 地理的条件
A20: コピー専用行 | B20: a1 | C20: 工事成績評定点 | F20: 工事成績評定点(5年間) | I20: 施工実績 | L20: 優良工事表彰 | O20: 登録基幹技能者 | R20: 継続学習 | U20: 資格 | X20: 施工経験 | AA20: 優秀建設技術者表彰 | AD20: 工事成績評定点 | AG20: 予備欄 | AJ20: 継続学習 | AM20: 資格 | AP20: 施工経験 | AS20: 優秀建設技術者表彰 | AV20: 工事成績評定点 | AY20: 予備欄 | BB20: 継続学習 | BE20: 資格 | BH20: 施工経験 | BK20: 優秀建設技術者表彰 | BN20: 工事成績評定点 | BQ20: 予備欄 | BT20: =BT38 -> #REF! | BW20: =BW38 -> BCP認定状況及び防災協定 | BZ20: ボランティア | CC20: 維持管理 | CF20: 除雪業務 | CI20: 労働福祉関連 | CL20: 若手・中堅技術者配置 | CO20: 若手技術者・従業員の新規雇用 | CR20: 建設機械保有状況 | CU20: 消防団協力事業所 | CX20: CCUSの活用 | DA20: ＩＣＴ施工実績 | DD20: 海上援助活動の実績 | DG20: 予備欄 | DJ20: 予備欄 | DM20: 予備欄 | DP20: 予備欄 | DS20: 近隣地域での施工実績 | DV20: 会社所在地 | DY20: 工場・会社所在地 | EB20: サポート拠点 | EE20: 予備欄１ | EH20: 予備欄２
A21: コピー専用行 | B21: a | C21: =C39 -> 完成年度 | D21: =D39 -> 令和５年度から令和７年度（完成及び引き渡しが完了） | E21: =E39 -> 0 | F21: =F39 -> 完成年度 | G21: =G39 -> #REF! | H21: =H39 -> 0 | I21: =I39 -> 対象期間 | J21: =J39 -> 平成２８年度から入札公告日前日までに完成及び引き渡しが完了した島根県発注工事 | L21: =L39 -> 対象年度・機関等 | M21: =M39 -> 島根県内の公共事業において、令和４年度から令和８年度に、島根県及び中国地方整備局発注工事で受けた優良工事表彰（優良工事施工団体表彰） | O21: =O39 -> 登録コンクリート圧送基幹技能者の現場への配置者数 | R21: =R39 -> 配置予定の主任（監理）技術者が保有するCPDSユニット | S21: =S39 -> 0 | T21: =T39 -> 0 | U21: =U39 -> 対象資格 | V21: =V39 -> #REF! | W21: =W39 -> 0 | X21: =X39 -> 対象年度・機関等 | Y21: =Y39 -> 平成２８年度から入札公告日前日までに完成及び引き渡しが完了した島根県発注工事 | AA21: =AA39 -> 対象年度・機関等 | AB21: =AB39 -> 島根県内の公共事業において、令和４年度から令和８年度に、島根県及び中国地方整備局発注工事で主任（監理）技術者または現場代理人として受けた優秀建設技術者表彰 | AD21: =AD39 -> 完成年度 | AE21: =AE39 -> #REF! | AF21: =AF39 -> 0 | AJ21: =AJ39 -> 配置予定の主任（監理）技術者が保有するCPDSユニット | AK21: =AK39 -> 0 | AL21: =AL39 -> 0 | AM21: =AM39 -> 対象資格 | AN21: =AN39 -> #REF! | AO21: =AO39 -> 0 | AP21: =AP39 -> 対象年度・機関等 | AQ21: =AQ39 -> 平成２８年度から入札公告日前日までに完成及び引き渡しが完了した島根県発注工事 | AS21: =AS39 -> 対象年度・機関等 | AT21: =AT39 -> 島根県内の公共事業において、令和４年度から令和８年度に、島根県及び中国地方整備局発注工事で主任（監理）技術者または現場代理人として受けた優秀建設技術者表彰 | AV21: =AV39 -> 完成年度 | AW21: =AW39 -> #REF! | AX21: =AX39 -> 0 | BB21: =BB39 -> 配置予定の主任（監理）技術者が保有するCPDSユニット | BC21: =BC39 -> 0 | BD21: =BD39 -> 0 | BE21: =BE39 -> 対象資格 | BF21: =BF39 -> #REF! | BG21: =BG39 -> 0 | BH21: =BH39 -> 対象年度・機関等 | BI21: =BI39 -> 平成２８年度から入札公告日前日までに完成及び引き渡しが完了した島根県発注工事 | BK21: =BK39 -> 対象年度・機関等 | BL21: =BL39 -> 島根県内の公共事業において、令和４年度から令和８年度に、島根県及び中国地方整備局発注工事で主任（監理）技術者または現場代理人として受けた優秀建設技術者表彰 | BN21: =BN39 -> 完成年度 | BO21: =BO39 -> #REF! | BP21: =BP39 -> 0 | BT21: =BT39 -> 対象 | BU21: =BU39 -> #REF! | BV21: =BV39 -> 0 | BW21: =BW39 -> 入札公告日前日時点（令和8年9月29日時点）での事業継続計画（BCP）の認定状況 | BZ21: =BZ39 -> 対象 | CA21: =CA39 -> 令和６年度及び令和７年度における島根県内で実施されたボランティア活動又はハートフルしまねへの参加実績 | CB21: =CB39 -> 0 | CC21: =CC39 -> 対象 | CD21: =CD39 -> 令和６年度及び令和７年度の県管理公共土木施設に関する維持管理業務または海岸漂着物の回収業務の契約実績 | CE21: =CE39 -> 0 | CF21: =CF39 -> 対象 | CG21: =CG39 -> 令和６年度及び令和７年度の県管理道路・空港を含む除雪業務の契約実績 | ... CL21: =CL39 -> #REF! | CO21: =CO39 -> 対象 | CP21: =CP39 -> #REF! | CQ21: =CQ39 -> 0 | CR21: =CR39 -> #REF! | CU21: =CU39 -> 対象 | CV21: =CV39 -> #REF! | CW21: =CW39 -> 0 | CX21: =CX39 -> 対象 | CY21: =CY39 -> 当該工事での建設キャリアアップシステム（CCUS）の活用 | CZ21: =CZ39 -> 0 | DA21: =DA39 -> 対象工事 | DB21: =DB39 -> #REF! | DD21: =DD39 -> 対象 | DE21: =DE39 -> #REF! | DF21: =DF39 -> 0 | DS21: =DS39 -> 対象 | DT21: =DT39 -> #REF! | DV21: =DV39 -> 対象 | DW21: =DW39 -> #REF! | DX21: =DX39 -> 0 | DY21: =DY39 -> 対象 | DZ21: =DZ39 -> #REF! | EA21: =EA39 -> 0 | EB21: =EB39 -> 対象 | EC21: =EC39 -> #REF! | ED21: =ED39 -> 0
A22: コピー専用行 | B22: b | C22: =C40 -> 発注機関 | D22: =D40 -> 島根県（総務部、農林水産部、土木部） | E22: =E40 -> 0 | F22: =F40 -> 発注機関 | G22: =G40 -> #REF! | H22: =H40 -> 0 | I22: =I40 -> 同種工事 | J22: =J40 -> １契約で１構造物種別あたり単体で最終数量２７０㎥以上のコンクリートを打設した現場打ＲＣ構造物を含む完成及び引き渡しが完了した工事 | R22: =R40 -> 0 | S22: =S40 -> 0 | T22: =T40 -> 0 | U22: =U40 -> 0 | V22: =V40 -> 0 | W22: =W40 -> 0 | X22: =X40 -> 同種工事 | Y22: =Y40 -> １契約で１構造物種別あたり単体で最終数量１３０㎥以上のコンクリートを打設した現場打ＲＣ構造物を含む完成及び引き渡しが完了した工事 | AD22: =AD40 -> 発注機関 | AE22: =AE40 -> #REF! | AF22: =AF40 -> 0 | AJ22: =AJ40 -> 0 | AK22: =AK40 -> 0 | AL22: =AL40 -> 0 | AM22: =AM40 -> 0 | AN22: =AN40 -> 0 | AO22: =AO40 -> 0 | AP22: =AP40 -> 同種工事 | AQ22: =AQ40 -> １契約で１構造物種別あたり単体で最終数量１３０㎥以上のコンクリートを打設した現場打ＲＣ構造物を含む完成及び引き渡しが完了した工事 | AV22: =AV40 -> 発注機関 | AW22: =AW40 -> #REF! | AX22: =AX40 -> 0 | BB22: =BB40 -> 0 | BC22: =BC40 -> 0 | BD22: =BD40 -> 0 | BE22: =BE40 -> 0 | BF22: =BF40 -> 0 | BG22: =BG40 -> 0 | BH22: =BH40 -> 同種工事 | BI22: =BI40 -> １契約で１構造物種別あたり単体で最終数量１３０㎥以上のコンクリートを打設した現場打ＲＣ構造物を含む完成及び引き渡しが完了した工事 | BN22: =BN40 -> 発注機関 | BO22: =BO40 -> #REF! | BP22: =BP40 -> 0 | BT22: =BT40 -> 0 | BU22: =BU40 -> 0 | BV22: =BV40 -> 0 | BZ22: =BZ40 -> 0 | CA22: =CA40 -> 0 | CB22: =CB40 -> 0 | CC22: =CC40 -> 0 | CD22: =CD40 -> 0 | CE22: =CE40 -> 0 | CF22: =CF40 -> 0 | CG22: =CG40 -> 0 | ... CK22: =CK40 -> 0 | CO22: =CO40 -> 0 | CP22: =CP40 -> 0 | CQ22: =CQ40 -> 0 | CU22: =CU40 -> 0 | CV22: =CV40 -> 0 | CW22: =CW40 -> 0 | CX22: =CX40 -> 0 | CY22: =CY40 -> 0 | CZ22: =CZ40 -> 0 | DD22: =DD40 -> 0 | DE22: =DE40 -> 0 | DF22: =DF40 -> 0 | DS22: =DS40 -> 対象工事 | DT22: =DT40 -> #REF! | DV22: =DV40 -> 0 | DW22: =DW40 -> 0 | DX22: =DX40 -> 0 | DY22: =DY40 -> 0 | DZ22: =DZ40 -> 0 | EA22: =EA40 -> 0 | EB22: =EB40 -> 0 | EC22: =EC40 -> 0 | ED22: =ED40 -> 0
A23: コピー専用行 | B23: c | C23: =C41 -> 工事種別 | D23: =D41 -> 一般土木工事、維持修繕工事 | E23: =E41 -> 0 | F23: =F41 -> 工事種別 | G23: =G41 -> #REF! | H23: =H41 -> 0 | I23: =I41 -> 工事種別 | J23: =J41 -> 一般土木工事、維持修繕工事 | L23: =L41 -> 工事種別 | M23: =M41 -> 一般土木工事、維持修繕工事 | R23: =R41 -> 0 | S23: =S41 -> 0 | T23: =T41 -> 0 | U23: =U41 -> 0 | V23: =V41 -> 0 | W23: =W41 -> 0 | X23: =X41 -> 工事種別 | Y23: =Y41 -> 一般土木工事、維持修繕工事 | AA23: =AA41 -> 工事種別 | AB23: =AB41 -> 一般土木工事、維持修繕工事 | AD23: =AD41 -> 工事種別 | AE23: =AE41 -> #REF! | AF23: =AF41 -> 0 | AJ23: =AJ41 -> 0 | AK23: =AK41 -> 0 | AL23: =AL41 -> 0 | AM23: =AM41 -> 0 | AN23: =AN41 -> 0 | AO23: =AO41 -> 0 | AP23: =AP41 -> 工事種別 | AQ23: =AQ41 -> 一般土木工事、維持修繕工事 | AS23: =AS41 -> 工事種別 | AT23: =AT41 -> 一般土木工事、維持修繕工事 | AV23: =AV41 -> 工事種別 | AW23: =AW41 -> #REF! | AX23: =AX41 -> 0 | BB23: =BB41 -> 0 | BC23: =BC41 -> 0 | BD23: =BD41 -> 0 | BE23: =BE41 -> 0 | BF23: =BF41 -> 0 | BG23: =BG41 -> 0 | BH23: =BH41 -> 工事種別 | BI23: =BI41 -> 一般土木工事、維持修繕工事 | BK23: =BK41 -> 工事種別 | BL23: =BL41 -> 一般土木工事、維持修繕工事 | BN23: =BN41 -> 工事種別 | BO23: =BO41 -> #REF! | BP23: =BP41 -> 0 | BT23: =BT41 -> 0 | BU23: =BU41 -> 0 | BV23: =BV41 -> 0 | BW23: =BW41 -> 令和６年度及び令和７年度における島根県との防災協定の締結実績 | BZ23: =BZ41 -> 0 | CA23: =CA41 -> 0 | CB23: =CB41 -> 0 | CC23: =CC41 -> 0 | CD23: =CD41 -> 0 | CE23: =CE41 -> 0 | CF23: =CF41 -> 0 | CG23: =CG41 -> 0 | ... CK23: =CK41 -> 0 | CO23: =CO41 -> 0 | CP23: =CP41 -> 0 | CQ23: =CQ41 -> 0 | CU23: =CU41 -> 0 | CV23: =CV41 -> 0 | CW23: =CW41 -> 0 | CX23: =CX41 -> 0 | CY23: =CY41 -> 0 | CZ23: =CZ41 -> 0 | DD23: =DD41 -> 0 | DE23: =DE41 -> 0 | DF23: =DF41 -> 0 | DS23: =DS41 -> 工事種別 | DT23: =DT41 -> #REF! | DV23: =DV41 -> 0 | DW23: =DW41 -> 0 | DX23: =DX41 -> 0 | DY23: =DY41 -> 0 | DZ23: =DZ41 -> 0 | EA23: =EA41 -> 0 | EB23: =EB41 -> 0 | EC23: =EC41 -> 0 | ED23: =ED41 -> 0
A24: コピー専用行 | B24: d | C24: =C42 -> 建設工事の種類 | D24: =D42 -> 土木一式工事、とび・土工・ｺﾝｸﾘｰﾄ工事、しゅんせつ工事 | E24: =E42 -> 0 | F24: =F42 -> 建設工事の種類 | G24: =G42 -> #REF! | H24: =H42 -> 0 | I24: =I42 -> 建設工事の種類 | J24: =J42 -> 土木一式工事、とび・土工・ｺﾝｸﾘｰﾄ工事、しゅんせつ工事 | L24: =L42 -> 建設工事の種類 | M24: =M42 -> 土木一式工事、とび・土工・ｺﾝｸﾘｰﾄ工事、しゅんせつ工事 | R24: =R42 -> 0 | S24: =S42 -> 0 | T24: =T42 -> 0 | U24: =U42 -> 0 | V24: =V42 -> 0 | W24: =W42 -> 0 | X24: =X42 -> 建設工事の種類 | Y24: =Y42 -> 土木一式工事、とび・土工・ｺﾝｸﾘｰﾄ工事、しゅんせつ工事 | AA24: =AA42 -> 建設工事の種類 | AB24: =AB42 -> 土木一式工事、とび・土工・ｺﾝｸﾘｰﾄ工事、しゅんせつ工事 | AD24: =AD42 -> 建設工事の種類 | AE24: =AE42 -> #REF! | AF24: =AF42 -> 0 | AJ24: =AJ42 -> 0 | AK24: =AK42 -> 0 | AL24: =AL42 -> 0 | AM24: =AM42 -> 0 | AN24: =AN42 -> 0 | AO24: =AO42 -> 0 | AP24: =AP42 -> 建設工事の種類 | AQ24: =AQ42 -> 土木一式工事、とび・土工・ｺﾝｸﾘｰﾄ工事、しゅんせつ工事 | AS24: =AS42 -> 建設工事の種類 | AT24: =AT42 -> 土木一式工事、とび・土工・ｺﾝｸﾘｰﾄ工事、しゅんせつ工事 | AV24: =AV42 -> 建設工事の種類 | AW24: =AW42 -> #REF! | AX24: =AX42 -> 0 | BB24: =BB42 -> 0 | BC24: =BC42 -> 0 | BD24: =BD42 -> 0 | BE24: =BE42 -> 0 | BF24: =BF42 -> 0 | BG24: =BG42 -> 0 | BH24: =BH42 -> 建設工事の種類 | BI24: =BI42 -> 土木一式工事、とび・土工・ｺﾝｸﾘｰﾄ工事、しゅんせつ工事 | BK24: =BK42 -> 建設工事の種類 | BL24: =BL42 -> 土木一式工事、とび・土工・ｺﾝｸﾘｰﾄ工事、しゅんせつ工事 | BN24: =BN42 -> 建設工事の種類 | BO24: =BO42 -> #REF! | BP24: =BP42 -> 0 | BT24: =BT42 -> 0 | BU24: =BU42 -> 0 | BV24: =BV42 -> 0 | BZ24: =BZ42 -> 0 | CA24: =CA42 -> 0 | CB24: =CB42 -> 0 | CC24: =CC42 -> 0 | CD24: =CD42 -> 0 | CE24: =CE42 -> 0 | CF24: =CF42 -> 0 | CG24: =CG42 -> 0 | ... CK24: =CK42 -> 0 | CO24: =CO42 -> 0 | CP24: =CP42 -> 0 | CQ24: =CQ42 -> 0 | CU24: =CU42 -> 0 | CV24: =CV42 -> 0 | CW24: =CW42 -> 0 | CX24: =CX42 -> 0 | CY24: =CY42 -> 0 | CZ24: =CZ42 -> 0 | DA24: =DA42 -> 対象ＩＣＴ工種 | DB24: =DB42 -> #REF! | DD24: =DD42 -> 0 | DE24: =DE42 -> 0 | DF24: =DF42 -> 0 | DS24: =DS42 -> 建設工事の種類 | DT24: =DT42 -> #REF! | DV24: =DV42 -> 0 | DW24: =DW42 -> 0 | DX24: =DX42 -> 0 | DY24: =DY42 -> 0 | DZ24: =DZ42 -> 0 | EA24: =EA42 -> 0 | EB24: =EB42 -> 0 | EC24: =EC42 -> 0 | ED24: =ED42 -> 0
A25: コピー専用行 | B25: e | C25: =C43 -> 該当件数 | D25: =D43 -> 平均点 | F25: =F43 -> 該当件数 | G25: =G43 -> 平均点 | I25: =I43 -> 項目名 | J25: =J43 -> 工事① | K25: =K43 -> 工事② | L25: =L43 -> 表彰区分 | M25: =M43 -> 実績 | O25: 項目名 | P25: 状況 | R25: =R43 -> 項目名 | S25: =S43 -> ユニット数 | U25: =U43 -> 項目名 | V25: =V43 -> 状況 | X25: =X43 -> 項目名 | Y25: =Y43 -> 工事① | Z25: =Z43 -> 工事② | AA25: =AA43 -> 項目名 | AB25: =AB43 -> 実績 | AD25: =AD43 -> 該当件数 | AE25: =AE43 -> 平均点 | AJ25: =AJ43 -> 項目名 | AK25: =AK43 -> ユニット数 | AM25: =AM43 -> 項目名 | AN25: =AN43 -> 状況 | AP25: =AP43 -> 項目名 | AQ25: =AQ43 -> 工事① | AR25: =AR43 -> 工事② | AS25: =AS43 -> 項目名 | AT25: =AT43 -> 実績 | AV25: =AV43 -> 該当件数 | AW25: =AW43 -> 平均点 | BB25: =BB43 -> 項目名 | BC25: =BC43 -> ユニット数 | BE25: =BE43 -> 項目名 | BF25: =BF43 -> 状況 | BH25: =BH43 -> 項目名 | BI25: =BI43 -> 工事① | BJ25: =BJ43 -> 工事② | BK25: =BK43 -> 項目名 | BL25: =BL43 -> 実績 | BN25: =BN43 -> 該当件数 | BO25: =BO43 -> 平均点 | BT25: =BT43 -> 項目名 | BU25: =BU43 -> 令和５年度 | BV25: =BV43 -> 令和６年度 | BW25: 項目名 | BX25: 状況 | BZ25: =BZ43 -> 項目名 | CA25: =CA43 -> 令和５年度 | CB25: =CB43 -> 令和６年度 | CC25: =CC43 -> 項目名 | CD25: =CD43 -> 令和５年度 | CE25: =CE43 -> 令和６年度 | CF25: =CF43 -> 項目名 | CG25: =CG43 -> 令和５年度 | ... CJ25: =CJ43 -> 状況 | CL25: =CL43 -> 項目名 | CM25: =CM43 -> 生年月日 | CN25: =CN43 -> 年齢 | CO25: =CO43 -> 項目名 | CP25: =CP43 -> 雇用① | CQ25: =CQ43 -> 雇用② | CR25: =CR43 -> 項目名 | CT25: =CT43 -> 状況 | CU25: =CU43 -> 項目名 | CV25: =CV43 -> 状況 | CX25: =CX43 -> 項目名 | CY25: =CY43 -> 状況 | DA25: =DA43 -> 項目名 | DB25: =DB43 -> 実績① | DD25: =DD43 -> 項目名 | DE25: =DE43 -> 実績① | DF25: =DF43 -> 実績② | DS25: =DS43 -> 項目名 | DT25: =DT43 -> 工事① | DU25: =DU43 -> 工事② | DV25: =DV43 -> 項目名 | DW25: =DW43 -> 状況 | DY25: =DY43 -> 項目名 | DZ25: =DZ43 -> 状況 | EB25: =EB43 -> 項目名 | EC25: =EC43 -> 状況
A26: コピー専用行 | B26: 1 | C26: =C44 | D26: =D44 | F26: =F44 -> #REF! | G26: =G44 -> #REF! | I26: =I44 -> 工事名 | J26: =J44 -> 申請なし | K26: =K44 -> 申請なし | L26: =L44 -> 申請なし | M26: =M44 | O26: =O44 -> 配置者数 | P26: =P44 -> 申請なし | R26: =R44 -> 配置なし | S26: =S44 | U26: =U44 -> 配置なし | V26: =V44 | X26: =X44 -> 工事名 | Y26: =Y44 -> 配置なし | Z26: =Z44 | AA26: =AA44 -> 配置なし | AB26: =AB44 | AD26: =AD44 -> #REF! | AE26: =AE44 -> #REF! | AJ26: =AJ44 -> 配置なし | AK26: =AK44 | AM26: =AM44 -> 配置なし | AN26: =AN44 | AP26: =AP44 -> 工事名 | AQ26: =AQ44 -> 配置なし | AR26: =AR44 | AS26: =AS44 -> 配置なし | AT26: =AT44 | AV26: =AV44 -> #REF! | AW26: =AW44 -> #REF! | BB26: =BB44 -> 配置なし | BC26: =BC44 | BE26: =BE44 -> 配置なし | BF26: =BF44 | BH26: =BH44 -> 工事名 | BI26: =BI44 -> 配置なし | BJ26: =BJ44 | BK26: =BK44 -> 配置なし | BL26: =BL44 | BN26: =BN44 -> #REF! | BO26: =BO44 -> #REF! | BT26: =BT44 -> 協定実績 | BU26: =BU44 -> #REF! | BV26: =BV44 -> #REF! | BW26: =BW44 -> BCP認定の有無 | BX26: =BX44 -> 申請なし | BZ26: =BZ44 -> ボランティア活動内容 | CA26: =CA44 -> 申請なし | CB26: =CB44 -> 申請なし | CC26: =CC44 -> 業務名 | CD26: =CD44 | CE26: =CE44 | CF26: =CF44 -> 業務名 | CG26: =IF(OR(CG50="有",CG50=""),CG44,"実績なし") | CH26: =IF(OR(CH50="有",CH50=""),CH44,"実績なし") | CL26: =CL44 -> 技術者① | CM26: =CM44 -> #REF! | CN26: =CN44 -> #REF! | CO26: =CO44 -> 雇用の内容 | CP26: =CP44 -> #REF! | CQ26: =CQ44 -> #REF! | CR26: 申請台数 | CT26: =COUNTA(CS44,CS46,CS48)-COUNTBLANK(CS44)-COUNTBLANK(CS46)-COUNTBLANK(CS48) -> 3 | CU26: =CU44 -> 認定有無 | CV26: =CV44 -> #REF! | CX26: =CX44 -> 確約書の提出 | CY26: =CY44 -> 無 | DA26: =DA44 -> 工事名 | DB26: =DB44 -> #REF! | DD26: =DD44 -> #REF! | DE26: =DE44 -> #REF! | DF26: =DF44 -> #REF! | DS26: =DS44 -> 工事名 | DT26: =DT44 -> #REF! | DU26: =DU44 -> #REF! | DV26: =DV44 -> 住所 | DW26: =DW44 -> #REF! | DY26: =DY44 -> 営業所住所 | DZ26: =DZ44 -> #REF! | EB26: =EB44 -> 拠点名1 | EC26: =EC44 -> #REF!
A27: コピー専用行 | B27: 2 | I27: =I45 -> 発注機関 | J27: =J45 | K27: =K45 | U27: =U45 | V27: =V45 | X27: =X45 -> 発注機関 | Y27: =Y45 | Z27: =Z45 | AD27: =AD45 -> 配置なし | AE27: =IF(AD26="","",IF(AE26<70,0,IF(AD26>1,HLOOKUP(AE26,発注者入力シート!$AL$3:$AU$5,2)*3/5,IF(AD26=1,HLOOKUP(AE26,発注者入力シート!$AL$3:$AU$5,3)*3/5,"")))) -> #REF! | AM27: =AM45 | AN27: =AN45 | AP27: =AP45 -> 発注機関 | AQ27: =AQ45 | AR27: =AR45 | AV27: =AV45 -> 配置なし | AW27: =IF(AV26="","",IF(AW26<70,0,IF(AV26>1,HLOOKUP(AW26,発注者入力シート!$AL$3:$AU$5,2)*3/5,IF(AV26=1,HLOOKUP(AW26,発注者入力シート!$AL$3:$AU$5,3)*3/5,"")))) -> #REF! | BE27: =BE45 | BF27: =BF45 | BH27: =BH45 -> 発注機関 | BI27: =BI45 | BJ27: =BJ45 | BN27: =BN45 -> 配置なし | BO27: =IF(BN26="","",IF(BO26<70,0,IF(BN26>1,HLOOKUP(BO26,発注者入力シート!$AL$3:$AU$5,2)*3/5,IF(BN26=1,HLOOKUP(BO26,発注者入力シート!$AL$3:$AU$5,3)*3/5,"")))) -> #REF! | BW27: =BW45 -> 認定年月日 | BX27: =BX45 | BZ27: =BZ45 | CA27: =CA45 | CB27: =CB45 | CI27: =CI47 -> 障がい者 | CJ27: =CJ47 -> 障がい者雇用数 | CK27: =CK47 -> #REF! | CL27: =CL45 -> 技術者② | CM27: =CM45 -> #REF! | CN27: =CN45 -> #REF! | CO27: =CO45 -> #REF! | CP27: =CP45 -> #REF! | CQ27: =CQ45 -> #REF! | CR27: 保有台数 | CT27: =COUNTIF(CT44,"保有")+COUNTIF(CT46,"保有")+COUNTIF(CT48,"保有") -> 0 | DA27: =DA45 -> 発注機関 | DB27: =DB45 -> #REF! | DS27: =DS45 -> 発注機関 | DT27: =DT45 -> #REF! | DU27: =DU45 -> #REF! | DV27: =DV45 -> 種類 | DW27: =DW45 -> #REF! | DY27: =DY45 -> 営業所種類 | DZ27: =DZ45 -> #REF! | EB27: =EB45 -> 所在地1 | EC27: =EC45 -> #REF!
A28: コピー専用行 | B28: 3 | I28: =I46 -> 工事種別 | J28: =J46 | K28: =K46 | M28: =IF(M45="無","",M46) | X28: =X46 -> 施工場所 | Y28: =Y46 | Z28: =Z46 | AP28: =AP46 -> 施工場所 | AQ28: =AQ46 | AR28: =AR46 | BH28: =BH46 -> 施工場所 | BI28: =BI46 | BJ28: =BJ46 | BW28: =BW46 -> 有効期限 | BX28: =BX46 | BZ28: =BZ47&CHAR(10)&BZ48 | CA28: =IF(OR(CA44="",,CA44="申請なし"),"","参加"&CA47&"人"&CHAR(10)&"従業員"&CA48&"人") | CB28: =IF(OR(CB44="",CB44="申請なし"),"","参加"&CB47&"人"&CHAR(10)&"従業員"&CB48&"人") | CJ28: =CJ48 -> 法定雇用義務数 | CK28: =CK48 -> #REF! | CL28: =CL46 -> 技術者③ | CM28: =CM46 -> #REF! | CN28: =CN46 -> #REF! | CO28: =CO46 -> #REF! | CP28: =CP46 -> #REF! | CQ28: =CQ46 -> #REF! | CR28: ﾘｰｽ台数 | CT28: =COUNTIF(CT44,"リース契約")+COUNTIF(CT46,"リース契約")+COUNTIF(CT48,"リース契約") -> 0 | DA28: =DA46 -> ＩＣＴ工種 | DB28: =DB46 -> #REF! | DS28: =DS46 -> 施工場所 | DT28: =DT46 -> #REF! | DU28: =DU46 -> #REF! | DY28: =DY46 -> 工場住所 | DZ28: =DZ46 -> #REF!
A29: コピー専用行 | B29: 4 | I29: =I47 -> 建設工事の種類 | J29: =J47 | K29: =K47 | L29: =L45 | M29: =M45 | N29: =N45 -> 0 | X29: =X47 -> 請負金額 | Y29: =Y47 | Z29: =Z47 | AA29: =AA45 | AB29: =AB45 | AP29: =AP47 -> 請負金額 | AQ29: =AQ47 | AR29: =AR47 | AS29: =AS45 | AT29: =AT45 | BH29: =BH47 -> 請負金額 | BI29: =BI47 | BJ29: =BJ47 | BK29: =BK45 | BL29: =BL45 | BW29: 協定の有無 | BX29: 令和５年度 | BY29: =BX47 -> 申請なし | BZ29: =BZ46 | CA29: =CA46 | CB29: =CB46 | CC29: =CC45 -> 発注機関 | CD29: =CD45 | CE29: =CE45 | CF29: =CF45 -> 発注機関 | CG29: =IF(CG50="無","",CG45) | CH29: =IF(CH50="無","",CH45) | CI29: =CI50 -> 育児介護 | CJ29: =IF(AND(CK50="",CK51=""),"申請なし",IF(CK50="有",CJ50,IF(CK51="有",CJ51,"無"))) -> #REF! | CR29: うち誓約書による申請 | CT29: =COUNTA(CT44,CT46,CT48)-COUNTBLANK(CS45)-COUNTBLANK(CS47)-COUNTBLANK(CS49) -> 3 | DA29: 内容 | DB29: ="①"&DB47&"／②"&DB48&"／③"&DB49&"／④"&DB50&"／⑤"&DB51 -> #REF! | DD29: =DD45 -> #REF! | DE29: =DE45 -> #REF! | DF29: =DF45 -> #REF! | DS29: =DS47 -> 請負金額 | DT29: =DT47 -> #REF! | DU29: =DU47 -> #REF! | EB29: =EB46 -> 技術者数1 | EC29: =EC46 -> #REF!
A30: コピー専用行 | B30: 5 | I30: 工期 | J30: =J50&CHAR(10)&J51 | K30: =K50&CHAR(10)&K51 | L30: =L46 | M30: =M46 | N30: =N46 -> 0 | X30: 工期（従事期間） | Y30: =Y48&CHAR(10)&"("&Y49&")" -> () | Z30: =Z48&CHAR(10)&"("&Z49&")" -> () | AA30: =AA46 | AB30: =AB46 | AP30: 工期（従事期間） | AQ30: =AQ48&CHAR(10)&"("&AQ49&")" -> () | AR30: =AR48&CHAR(10)&"("&AR49&")" -> () | AS30: =AS46 | AT30: =AT46 | BH30: 工期（従事期間） | BI30: =BI48&CHAR(10)&"("&BI49&")" -> () | BJ30: =BJ48&CHAR(10)&"("&BJ49&")" -> () | BK30: =BK46 | BL30: =BL46 | BX30: 令和６年度 | BY30: =BY47 -> 申請なし | BZ30: =BZ49 -> ﾊｰﾄﾌﾙ活動 | CA30: =CA49 -> 申請なし | CB30: =CB49 -> 申請なし | CC30: =CC46 -> 元請・下請区分 | CD30: =CD46 -> 0 | CE30: =CE46 -> 0 | CF30: =CF46 -> 元請・下請区分 | CG30: =IF(CG50="無","",CG46) | CH30: =IF(CH50="無","",CH46) | CJ30: =IF(CK51="有",CJ52,"") -> #REF! | CK30: =IF(CK51="有",CK52,"") -> #REF! | DS30: 工期 | DT30: =DT48&CHAR(10)&DT49 -> #REF! | DU30: =DU48&CHAR(10)&DU49 -> #REF! | EB30: =EB47 -> 拠点名2 | EC30: =EC47 -> #REF!
A31: コピー専用行 | B31: 6 | I31: 施工規模／形式 | J31: =J52&"／"&J53&" "&J54&" "&J55&" "&J56 -> ／ | K31: =K52&"／"&K53&" "&K54&" "&K55&" "&K56 -> ／ | L31: 工事種別／建設工事の種類 | M31: =M47&"／"&M48 -> ／ | X31: 工事種別／建設工事の種類 | Y31: =Y50&"／"&Y51 -> ／ | Z31: =Z50&"／"&Z51 -> ／ | AA31: =AA47 | AB31: =AB47 | AP31: 工事種別／建設工事の種類 | AQ31: =AQ50&"／"&AQ51 -> ／ | AR31: =AR50&"／"&AR51 -> ／ | AS31: =AS47 | AT31: =AT47 | BH31: 工事種別／建設工事の種類 | BI31: =BI50&"／"&BI51 -> ／ | BJ31: =BJ50&"／"&BJ51 -> ／ | BK31: =BK47 | BL31: =BL47 | BZ31: =BZ51&CHAR(10)&BZ52 | CA31: =IF(CA50="","","参加"&CA51&"人"&CHAR(10)&"従業員"&CA52&"人") | CB31: =IF(CB50="","","参加"&CB51&"人"&CHAR(10)&"従業員"&CB52&"人") | CC31: =CC47 -> 契約（始） | CD31: =CD47 | CE31: =CE47 | CF31: =CF47 -> 契約（始） | CG31: =IF(CG50="無","",CG47) | CH31: =IF(CH50="無","",CH47) | DA31: 工期（始） | DB31: =DB53 -> #REF! | DS31: =DS50 -> 工事成績 | DT31: =DT50 -> #REF! | DU31: =DU50 -> #REF! | EB31: =EB48 -> 所在地2 | EC31: =EC48 -> #REF!
A32: コピー専用行 | B32: 7 | I32: =I57 -> 工事成績 | J32: =J57 | K32: =K57 | X32: 役職 工事成績 | Y32: =IF(Y52="","",Y52&CHAR(10)&"("&Y57&"点)") | Z32: =IF(Z52="","",Z52&CHAR(10)&"("&Z57&"点)") | AA32: =AA48 | AB32: =AB48 | AP32: 役職 工事成績 | AQ32: =IF(AQ52="","",AQ52&CHAR(10)&"("&AQ57&"点)") | AR32: =IF(AR52="","",AR52&CHAR(10)&"("&AR57&"点)") | AS32: =AS48 | AT32: =AT48 | BH32: 役職 工事成績 | BI32: =IF(BI52="","",BI52&CHAR(10)&"("&BI57&"点)") | BJ32: =IF(BJ52="","",BJ52&CHAR(10)&"("&BJ57&"点)") | BK32: =BK48 | BL32: =BL48 | BZ32: =BZ50 | CA32: =CA50 | CB32: =CB50 | CC32: =CC48 -> 契約（終） | CD32: =CD48 | CE32: =CE48 | CF32: =CF48 -> 契約（終） | CG32: =IF(CG50="無","",CG48) | CH32: =IF(CH50="無","",CH48) | DA32: 工期（終） | DB32: =DB54 -> #REF! | DS32: =DS53&"/"&DS54 -> 工事種別/建設工事の種類 | DT32: =DT53&"／"&DT54 -> #REF! | DU32: =DU53&"／"&DU54 -> #REF!
A33: コピー専用行 | B33: 8 | X33: 施工規模／形式 | Y33: =Y53&"／"&Y54&" "&Y55&" "&Y56 -> ／ | Z33: =Z53&"／"&Z54&" "&Z55&" "&Z56 -> ／ | AP33: 施工規模／形式 | AQ33: =AQ53&"／"&AQ54&" "&AQ55&" "&AQ56 -> ／ | AR33: =AR53&"／"&AR54&" "&AR55&" "&AR56 -> ／ | BH33: 施工規模／形式 | BI33: =BI53&"／"&BI54&" "&BI55&" "&BI56 -> ／ | BJ33: =BJ53&"／"&BJ54&" "&BJ55&" "&BJ56 -> ／ | CC33: =CC49 -> 施工箇所 | CD33: =CD49 | CE33: =CE49 | CF33: =CF49 -> 施工箇所 | CG33: =IF(CG50="無","",CG49) | CH33: =IF(CH50="無","",CH49) | DA33: 工事成績 | DB33: =DB55 -> #REF! | EB33: =EB49 -> 技術者数2 | EC33: =EC49 -> #REF!
T34: =IF(企業入力シート!C18="","配置なし","配置あり") -> 配置なし | W34: =IF(企業入力シート!C18="","配置なし","配置あり") -> 配置なし | Z34: =IF(企業入力シート!C18="","配置なし","配置あり") -> 配置なし | AC34: =IF(企業入力シート!C18="","配置なし","配置あり") -> 配置なし | AF34: =IF(企業入力シート!C18="","配置なし","配置あり") -> 配置なし | AL34: =IF(企業入力シート!C19="","配置なし","配置あり") -> 配置なし | AO34: =IF(企業入力シート!C19="","配置なし","配置あり") -> 配置なし | AR34: =IF(企業入力シート!C19="","配置なし","配置あり") -> 配置なし | AU34: =IF(企業入力シート!C19="","配置なし","配置あり") -> 配置なし | AX34: =IF(企業入力シート!C19="","配置なし","配置あり") -> 配置なし | BD34: =IF(企業入力シート!C20="","配置なし","配置あり") -> 配置なし | BG34: =IF(企業入力シート!C20="","配置なし","配置あり") -> 配置なし | BJ34: =IF(企業入力シート!C20="","配置なし","配置あり") -> 配置なし | BM34: =IF(企業入力シート!C20="","配置なし","配置あり") -> 配置なし | BP34: =IF(企業入力シート!C20="","配置なし","配置あり") -> 配置なし
A36: 以下、集計専用表（コピー箇所ではありません）
B37: a0 | C37: 企業 | F37: 企業 | I37: 企業 | L37: 企業 | O37: 企業 | R37: 配置予定技術者① | U37: 配置予定技術者① | X37: 配置予定技術者① | AA37: 配置予定技術者① | AD37: 配置予定技術者① | AG37: 配置予定技術者① | AJ37: 配置予定技術者② | AM37: 配置予定技術者② | AP37: 配置予定技術者② | AS37: 配置予定技術者② | AV37: 配置予定技術者② | AY37: 配置予定技術者② | BB37: 配置予定技術者③ | BE37: 配置予定技術者③ | BH37: 配置予定技術者③ | BK37: 配置予定技術者③ | BN37: 配置予定技術者③ | BQ37: 配置予定技術者③ | BT37: 地域貢献・その他 | BW37: 地域貢献・その他 | BZ37: 地域貢献・その他 | CC37: 地域貢献・その他 | CF37: 地域貢献・その他 | CI37: 地域貢献・その他 | CL37: 地域貢献・その他 | CO37: 地域貢献・その他 | CR37: 地域貢献・その他 | CU37: 地域貢献・その他 | CX37: 地域貢献・その他 | DA37: 地域貢献・その他 | DD37: 地域貢献・その他【水産】 | DG37: 地域貢献・その他 | DJ37: 地域貢献・その他 | DM37: 地域貢献・その他 | DP37: 地域貢献・その他 | DS37: 地理的条件 | DV37: 地理的条件 | DY37: 地理的条件 | EB37: 地理的条件 | EE37: 地理的条件 | EH37: 地理的条件
B38: a1 | C38: 工事成績評定点 | F38: 工事成績評定点(5年間) | I38: 施工実績 | L38: 優良工事表彰 | O38: 登録基幹技能者 | R38: 継続学習 | U38: 資格 | X38: 施工経験 | AA38: 優秀建設技術者表彰 | AD38: 工事成績評定点 | AG38: 予備欄 | AJ38: 継続学習 | AM38: 資格 | AP38: 施工経験 | AS38: 優秀建設技術者表彰 | AV38: 工事成績評定点 | AY38: 予備欄 | BB38: 継続学習 | BE38: 資格 | BH38: 施工経験 | BK38: 優秀建設技術者表彰 | BN38: 工事成績評定点 | BQ38: 予備欄 | BT38: =IF(#REF!=1,"防災",IF(#REF!=2,"家畜伝染病防疫","防災協定・家畜伝染病防疫"))&"協定" -> #REF! | BW38: ="BCP認定状況及び"&IF('BCP&防災協定・家畜伝染病防疫協定'!T15=1,"防災",IF('BCP&防災協定・家畜伝染病防疫協定'!T15=2,"家畜伝染病防疫","防災協定・家畜伝染病防疫"))&"協定" -> BCP認定状況及び防災協定 | BZ38: ボランティア | CC38: 維持管理業務 | CF38: 除雪業務 | CI38: 労働福祉関連 | CL38: 若手・中堅技術者配置 | CO38: 若手技術者・従業員の新規雇用 | CR38: 建設機械保有状況 | CU38: 消防団協力事業所 | CX38: CCUSの活用 | DA38: ＩＣＴ施工実績 | DD38: 海上援助活動の実績 | DG38: 予備欄 | DJ38: 予備欄 | DM38: 予備欄 | DP38: 予備欄 | DS38: 近隣地域での施工実績 | DV38: 会社所在地 | DY38: 工場・会社所在地 | EB38: サポート拠点
B39: a | C39: 完成年度 | D39: =IF('企業成績評定点(3年用)'!G6="","",'企業成績評定点(3年用)'!G6) -> 令和５年度から令和７年度（完成及び引き渡しが完了） | F39: 完成年度 | G39: =IF(#REF!="","",#REF!) -> #REF! | I39: 対象期間 | J39: =IF(同種工事施工実績!F6="","",同種工事施工実績!F6) -> 平成２８年度から入札公告日前日までに完成及び引き渡しが完了した島根県発注工事 | L39: 対象年度・機関等 | M39: =IF(優良工事表彰!E6="","",優良工事表彰!E6) -> 島根県内の公共事業において、令和４年度から令和８年度に、島根県及び中国地方整備局発注工事で受けた優良工事表彰（優良工事施工団体表彰） | O39: =IF(登録基幹技能者!B9="","",登録基幹技能者!B9) -> 登録コンクリート圧送基幹技能者の現場への配置者数 | R39: =IF(技術者継続学習!B8="","",技術者継続学習!B8) -> 配置予定の主任（監理）技術者が保有するCPDSユニット | U39: 対象資格 | V39: =IF(#REF!="","",#REF!) -> #REF! | X39: 対象年度・機関等 | Y39: =IF(同種工事施工経験!F6="","",同種工事施工経験!F6) -> 平成２８年度から入札公告日前日までに完成及び引き渡しが完了した島根県発注工事 | AA39: 対象年度・機関等 | AB39: =IF(優秀技術者表彰!F6="","",優秀技術者表彰!F6) -> 島根県内の公共事業において、令和４年度から令和８年度に、島根県及び中国地方整備局発注工事で主任（監理）技術者または現場代理人として受けた優秀建設技術者表彰 | AD39: 完成年度 | AE39: =IF(#REF!="","",#REF!) -> #REF! | AJ39: =IF(技術者継続学習!B8="","",技術者継続学習!B8) -> 配置予定の主任（監理）技術者が保有するCPDSユニット | AM39: 対象資格 | AN39: =IF(#REF!="","",#REF!) -> #REF! | AP39: 対象年度・機関等 | AQ39: =IF(同種工事施工経験!F6="","",同種工事施工経験!F6) -> 平成２８年度から入札公告日前日までに完成及び引き渡しが完了した島根県発注工事 | AS39: 対象年度・機関等 | AT39: =IF(優秀技術者表彰!F6="","",優秀技術者表彰!F6) -> 島根県内の公共事業において、令和４年度から令和８年度に、島根県及び中国地方整備局発注工事で主任（監理）技術者または現場代理人として受けた優秀建設技術者表彰 | AV39: 完成年度 | AW39: =IF(#REF!="","",#REF!) -> #REF! | BB39: =IF(技術者継続学習!B8="","",技術者継続学習!B8) -> 配置予定の主任（監理）技術者が保有するCPDSユニット | BE39: 対象資格 | BF39: =IF(#REF!="","",#REF!) -> #REF! | BH39: 対象年度・機関等 | BI39: =IF(同種工事施工経験!F6="","",同種工事施工経験!F6) -> 平成２８年度から入札公告日前日までに完成及び引き渡しが完了した島根県発注工事 | BK39: 対象年度・機関等 | BL39: =IF(優秀技術者表彰!F6="","",優秀技術者表彰!F6) -> 島根県内の公共事業において、令和４年度から令和８年度に、島根県及び中国地方整備局発注工事で主任（監理）技術者または現場代理人として受けた優秀建設技術者表彰 | BN39: 完成年度 | BO39: =IF(#REF!="","",#REF!) -> #REF! | BT39: 対象 | BU39: =IF(#REF!="","",#REF!) -> #REF! | BW39: =IF('BCP&防災協定・家畜伝染病防疫協定'!B10="","",'BCP&防災協定・家畜伝染病防疫協定'!B10) -> 入札公告日前日時点（令和8年9月29日時点）での事業継続計画（BCP）の認定状況 | BZ39: 対象 | CA39: =IF(ボランティア!B6="","",ボランティア!B6) -> 令和６年度及び令和７年度における島根県内で実施されたボランティア活動又はハートフルしまねへの参加実績 | CC39: 対象 | CD39: =IF(維持管理業務!B7="","",維持管理業務!B7) -> 令和６年度及び令和７年度の県管理公共土木施設に関する維持管理業務または海岸漂着物の回収業務の契約実績 | CF39: 対象 | CG39: =IF(除雪業務!B8="","",除雪業務!B8) -> 令和６年度及び令和７年度の県管理道路・空港を含む除雪業務の契約実績 | CI39: 対象 | CJ39: 入札公告日前日時点での取り組み状況 | CL39: =IF(#REF!="","",#REF!) -> #REF! | CO39: 対象 | CP39: =#REF! -> #REF! | CR39: =IF(#REF!="","",#REF!) -> #REF! | CU39: 対象 | CV39: =IF(#REF!="","",#REF!) -> #REF! | CX39: 対象 | CY39: 当該工事での建設キャリアアップシステム（CCUS）の活用 | DA39: 対象工事 | DB39: =#REF! -> #REF! | DD39: 対象 | DE39: =IF(#REF!="","",#REF!) -> #REF! | DS39: 対象 | DT39: =IF(#REF!="","",#REF!) -> #REF! | DV39: 対象 | DW39: =IF(#REF!="","",#REF!) -> #REF! | DY39: 対象 | DZ39: =IF(#REF!="","",#REF!) -> #REF! | EB39: 対象 | EC39: =IF(#REF!="","",#REF!) -> #REF!
B40: b | C40: 発注機関 | D40: =IF('企業成績評定点(3年用)'!G7="","",'企業成績評定点(3年用)'!G7) -> 島根県（総務部、農林水産部、土木部） | F40: 発注機関 | G40: =IF(#REF!="","",#REF!) -> #REF! | I40: 同種工事 | J40: =IF(同種工事施工実績!F10="","",同種工事施工実績!F10) -> １契約で１構造物種別あたり単体で最終数量２７０㎥以上のコンクリートを打設した現場打ＲＣ構造物を含む完成及び引き渡しが完了した工事 | X40: 同種工事 | Y40: =IF(同種工事施工経験!F8="","",同種工事施工経験!F8) -> １契約で１構造物種別あたり単体で最終数量１３０㎥以上のコンクリートを打設した現場打ＲＣ構造物を含む完成及び引き渡しが完了した工事 | AD40: 発注機関 | AE40: =IF(#REF!="","",#REF!) -> #REF! | AP40: 同種工事 | AQ40: =IF(同種工事施工経験!F8="","",同種工事施工経験!F8) -> １契約で１構造物種別あたり単体で最終数量１３０㎥以上のコンクリートを打設した現場打ＲＣ構造物を含む完成及び引き渡しが完了した工事 | AV40: 発注機関 | AW40: =IF(#REF!="","",#REF!) -> #REF! | BH40: 同種工事 | BI40: =IF(同種工事施工経験!F8="","",同種工事施工経験!F8) -> １契約で１構造物種別あたり単体で最終数量１３０㎥以上のコンクリートを打設した現場打ＲＣ構造物を含む完成及び引き渡しが完了した工事 | BN40: 発注機関 | BO40: =IF(#REF!="","",#REF!) -> #REF! | DS40: 対象工事 | DT40: =IF(#REF!="","",#REF!) -> #REF!
B41: c | C41: 工事種別 | D41: =IF('企業成績評定点(3年用)'!G8="","",'企業成績評定点(3年用)'!G8) -> 一般土木工事、維持修繕工事 | F41: 工事種別 | G41: =IF(#REF!="","",#REF!) -> #REF! | I41: 工事種別 | J41: =IF(同種工事施工実績!F8="","",同種工事施工実績!F8) -> 一般土木工事、維持修繕工事 | L41: 工事種別 | M41: =IF(優良工事表彰!E9="","",優良工事表彰!E9) -> 一般土木工事、維持修繕工事 | X41: 工事種別 | Y41: =IF(同種工事施工経験!F11="","",同種工事施工経験!F11) -> 一般土木工事、維持修繕工事 | AA41: 工事種別 | AB41: =IF(優秀技術者表彰!F9="","",優秀技術者表彰!F9) -> 一般土木工事、維持修繕工事 | AD41: 工事種別 | AE41: =IF(#REF!="","",#REF!) -> #REF! | AP41: 工事種別 | AQ41: =IF(同種工事施工経験!F11="","",同種工事施工経験!F11) -> 一般土木工事、維持修繕工事 | AS41: 工事種別 | AT41: =IF(優秀技術者表彰!F9="","",優秀技術者表彰!F9) -> 一般土木工事、維持修繕工事 | AV41: 工事種別 | AW41: =IF(#REF!="","",#REF!) -> #REF! | BH41: 工事種別 | BI41: =IF(同種工事施工経験!F11="","",同種工事施工経験!F11) -> 一般土木工事、維持修繕工事 | BK41: 工事種別 | BL41: =IF(優秀技術者表彰!F9="","",優秀技術者表彰!F9) -> 一般土木工事、維持修繕工事 | BN41: 工事種別 | BO41: =IF(#REF!="","",#REF!) -> #REF! | BW41: =IF('BCP&防災協定・家畜伝染病防疫協定'!B17="","",'BCP&防災協定・家畜伝染病防疫協定'!B17) -> 令和６年度及び令和７年度における島根県との防災協定の締結実績 | DS41: 工事種別 | DT41: =IF(#REF!="","",#REF!) -> #REF!
B42: d | C42: 建設工事の種類 | D42: =IF('企業成績評定点(3年用)'!G9="","",'企業成績評定点(3年用)'!G9) -> 土木一式工事、とび・土工・ｺﾝｸﾘｰﾄ工事、しゅんせつ工事 | F42: 建設工事の種類 | G42: =IF(#REF!="","",#REF!) -> #REF! | I42: 建設工事の種類 | J42: =IF(同種工事施工実績!F9="","",同種工事施工実績!F9) -> 土木一式工事、とび・土工・ｺﾝｸﾘｰﾄ工事、しゅんせつ工事 | L42: 建設工事の種類 | M42: =IF(優良工事表彰!E10="","",優良工事表彰!E10) -> 土木一式工事、とび・土工・ｺﾝｸﾘｰﾄ工事、しゅんせつ工事 | X42: 建設工事の種類 | Y42: =IF(同種工事施工経験!F12="","",同種工事施工経験!F12) -> 土木一式工事、とび・土工・ｺﾝｸﾘｰﾄ工事、しゅんせつ工事 | AA42: 建設工事の種類 | AB42: =IF(優秀技術者表彰!F10="","",優秀技術者表彰!F10) -> 土木一式工事、とび・土工・ｺﾝｸﾘｰﾄ工事、しゅんせつ工事 | AD42: 建設工事の種類 | AE42: =IF(#REF!="","",#REF!) -> #REF! | AP42: 建設工事の種類 | AQ42: =IF(同種工事施工経験!F12="","",同種工事施工経験!F12) -> 土木一式工事、とび・土工・ｺﾝｸﾘｰﾄ工事、しゅんせつ工事 | AS42: 建設工事の種類 | AT42: =IF(優秀技術者表彰!F10="","",優秀技術者表彰!F10) -> 土木一式工事、とび・土工・ｺﾝｸﾘｰﾄ工事、しゅんせつ工事 | AV42: 建設工事の種類 | AW42: =IF(#REF!="","",#REF!) -> #REF! | BH42: 建設工事の種類 | BI42: =IF(同種工事施工経験!F12="","",同種工事施工経験!F12) -> 土木一式工事、とび・土工・ｺﾝｸﾘｰﾄ工事、しゅんせつ工事 | BK42: 建設工事の種類 | BL42: =IF(優秀技術者表彰!F10="","",優秀技術者表彰!F10) -> 土木一式工事、とび・土工・ｺﾝｸﾘｰﾄ工事、しゅんせつ工事 | BN42: 建設工事の種類 | BO42: =IF(#REF!="","",#REF!) -> #REF! | DA42: 対象ＩＣＴ工種 | DB42: =#REF! -> #REF! | DS42: 建設工事の種類 | DT42: =IF(#REF!="","",#REF!) -> #REF!
...

Sheet 表紙
A1: 様式－ | B1: 1 | S1: 着色セルの凡例
M2: 提出日 | N2: =IF(企業入力シート!C4="","",企業入力シート!C4) | S2: （企業）
T3: ：「企業入力シート」で入力（数式リンク有）
A4: （ 標準型（施工体制確認型） 総合評価方式 ） | T4: ：セルに直接入力が必要な箇所
A5: 総 合 評 価 技 術 資 料
A6: 発注者 | S6: （発注者）
A7: =CONCATENATE(" ",発注者入力シート!C6,IF(COUNTIF(発注者入力シート!C6,"*センター*"),"所長","")," ","様") -> 島根県知事 様 | T7: ：「発注者入力シート」で入力（数式リンク有）
T8: ：セルに直接入力が必要な箇所
H10: 住所 | J10: =IF(企業入力シート!C6="","",企業入力シート!C6) | S10: 【印刷について】
S11: このシートは「ページ設定」で「白黒印刷」と「印刷範囲」が設定されています。
G12: 商号又は名称 | J12: =IF(企業入力シート!C7="","",企業入力シート!C7) -> ○○建設
G13: 代表者氏名 | J13: =IF(企業入力シート!C8="","",企業入力シート!C8) -> ○○ ○○
A16: =CONCATENATE(" ","令和",(YEAR(発注者入力シート!C7)-2018),"年",MONTH(発注者入力シート!C7),"月",DAY(発注者入力シート!C7),"日付けで入札公告のありました下記工事について、別添のとおり書類を添えて提出いたします。") -> 令和8年9月30日付けで入札公告のありました下記工事について、別添のとおり書類を添えて提出いたします。
A19: １ 工事名 | C19: =発注者入力シート!C10 -> 蛇喰川 防安交付金（総流防）工事 第２期
A21: ２ 提出書類（下記項目の該当するもの）
A22: =IF(発注者入力シート!C20="","#N/A"," ○技術提案（ "&発注者入力シート!C20&" ） （様式-２）") -> ○技術提案（ コンクリートの品質・耐久性の向上 ） （様式-２）
A23: =IF(発注者入力シート!C21="","#N/A"," ○技術提案（ "&発注者入力シート!C21&" ） （様式-３）") -> ○技術提案（ 地盤改良の施工管理 ） （様式-３）
A24: =IF(発注者入力シート!C22="","#N/A"," ○技術提案（ "&発注者入力シート!C22&" ） （様式-４）") -> ○技術提案（ 地域住民等とのコミュニケーション ） （様式-４）
A25: =IF(発注者入力シート!C23="","#N/A"," ○技術提案（ "&発注者入力シート!C23&" ） （様式-２）") -> #N/A
A26: =IF(発注者入力シート!C24="","#N/A"," ○技術提案（ "&発注者入力シート!C24&" ） （様式-２）") -> #N/A
A27: =IF(発注者入力シート!C25="","#N/A"," ○技術提案（ "&発注者入力シート!C25&" ） （様式-２）") -> #N/A
A28: =IF(発注者入力シート!C26="","#N/A"," ○技術提案（ "&発注者入力シート!C26&" ） （様式-２）") -> #N/A
A29: =IF(AND(IFERROR(OR(発注者入力シート!$L$64="３",発注者入力シート!$L$65="３"),FALSE),企業入力シート!$B$35="○"),"",IF(COUNTIF($A$58:$A$64,"*"&VLOOKUP("３",発注者入力シート!$L$41:$N$77,3,FALSE)&"*")>=1,"",INDEX(発注者入力シート!$L$40:$O$83,MATCH("３",発注者入力シート!$L$40:$L$83,0),4))) -> #N/A
A30: =IF(AND(IFERROR(OR(発注者入力シート!$L$64="４",発注者入力シート!$L$65="４"),FALSE),企業入力シート!$B$35="○"),"",IF(COUNTIF($A$58:$A$64,"*"&VLOOKUP("４",発注者入力シート!$L$41:$N$77,3,FALSE)&"*")>=1,"",INDEX(発注者入力シート!$L$40:$O$83,MATCH("４",発注者入力シート!$L$40:$L$83,0),4))) -> #N/A
A31: =IF(AND(IFERROR(OR(発注者入力シート!$L$64="５",発注者入力シート!$L$65="５"),FALSE),企業入力シート!$B$35="○"),"",IF(COUNTIF($A$58:$A$64,"*"&VLOOKUP("５",発注者入力シート!$L$41:$N$77,3,FALSE)&"*")>=1,"",INDEX(発注者入力シート!$L$40:$O$83,MATCH("５",発注者入力シート!$L$40:$L$83,0),4))) -> ○企業の工事成績評定点 （様式-５-１、様式-５-２）
A32: =IF(AND(IFERROR(OR(発注者入力シート!$L$64="６",発注者入力シート!$L$65="６"),FALSE),企業入力シート!$B$35="○"),"",IF(COUNTIF($A$58:$A$64,"*"&VLOOKUP("６",発注者入力シート!$L$41:$N$77,3,FALSE)&"*")>=1,"",INDEX(発注者入力シート!$L$40:$O$83,MATCH("６",発注者入力シート!$L$40:$L$83,0),4))) -> ○企業の同種工事の施工実績 （様式-６）
A33: =IF(AND(IFERROR(OR(発注者入力シート!$L$64="７",発注者入力シート!$L$65="７"),FALSE),企業入力シート!$B$35="○"),"",IF(COUNTIF($A$58:$A$64,"*"&VLOOKUP("７",発注者入力シート!$L$41:$N$77,3,FALSE)&"*")>=1,"",INDEX(発注者入力シート!$L$40:$O$83,MATCH("７",発注者入力シート!$L$40:$L$83,0),4))) -> ○企業の優良工事表彰（優良工事施工団体表彰） （様式-７）
A34: =IF(AND(IFERROR(OR(発注者入力シート!$L$64="８",発注者入力シート!$L$65="８"),FALSE),企業入力シート!$B$35="○"),"",IF(COUNTIF($A$58:$A$64,"*"&VLOOKUP("８",発注者入力シート!$L$41:$N$77,3,FALSE)&"*")>=1,"",INDEX(発注者入力シート!$L$40:$O$83,MATCH("８",発注者入力シート!$L$40:$L$83,0),4))) -> ○登録基幹技能者の配置 （様式-８）
A35: =IF(AND(IFERROR(OR(発注者入力シート!$L$64="９",発注者入力シート!$L$65="９"),FALSE),企業入力シート!$B$35="○"),"",IF(COUNTIF($A$58:$A$64,"*"&VLOOKUP("９",発注者入力シート!$L$41:$N$77,3,FALSE)&"*")>=1,"",INDEX(発注者入力シート!$L$40:$O$83,MATCH("９",発注者入力シート!$L$40:$L$83,0),4))) -> ○配置予定技術者の継続学習 （様式-９）
A36: =IF(AND(IFERROR(OR(発注者入力シート!$L$64="１０",発注者入力シート!$L$65="１０"),FALSE),企業入力シート!$B$35="○"),"",IF(COUNTIF($A$58:$A$64,"*"&VLOOKUP("１０",発注者入力シート!$L$41:$N$77,3,FALSE)&"*")>=1,"",INDEX(発注者入力シート!$L$40:$O$83,MATCH("１０",発注者入力シート!$L$40:$L$83,0),4))) -> ○配置予定技術者の同種工事の施工経験 （様式-１０）
A37: =IF(AND(IFERROR(OR(発注者入力シート!$L$64="１１",発注者入力シート!$L$65="１１"),FALSE),企業入力シート!$B$35="○"),"",IF(COUNTIF($A$58:$A$64,"*"&VLOOKUP("１１",発注者入力シート!$L$41:$N$77,3,FALSE)&"*")>=1,"",INDEX(発注者入力シート!$L$40:$O$83,MATCH("１１",発注者入力シート!$L$40:$L$83,0),4))) -> ○配置予定技術者の優秀建設技術者表彰 （様式-１１）
A38: =IF(AND(IFERROR(OR(発注者入力シート!$L$64="１２",発注者入力シート!$L$65="１２"),FALSE),企業入力シート!$B$35="○"),"",IF(COUNTIF($A$58:$A$64,"*"&VLOOKUP("１２",発注者入力シート!$L$41:$N$77,3,FALSE)&"*")>=1,"",INDEX(発注者入力シート!$L$40:$O$83,MATCH("１２",発注者入力シート!$L$40:$L$83,0),4))) -> ○事業継続計画（BCP）認定及び防災協定の締結実績 （様式-１２）
A39: =IF(AND(IFERROR(OR(発注者入力シート!$L$64="１３",発注者入力シート!$L$65="１３"),FALSE),企業入力シート!$B$35="○"),"",IF(COUNTIF($A$58:$A$64,"*"&VLOOKUP("１３",発注者入力シート!$L$41:$N$77,3,FALSE)&"*")>=1,"",INDEX(発注者入力シート!$L$40:$O$83,MATCH("１３",発注者入力シート!$L$40:$L$83,0),4))) -> ○ボランティア活動又はハートフルしまねへの参加実績 （様式-１３）
A40: =IF(AND(IFERROR(OR(発注者入力シート!$L$64="１４",発注者入力シート!$L$65="１４"),FALSE),企業入力シート!$B$35="○"),"",IF(COUNTIF($A$58:$A$64,"*"&VLOOKUP("１４",発注者入力シート!$L$41:$N$77,3,FALSE)&"*")>=1,"",INDEX(発注者入力シート!$L$40:$O$83,MATCH("１４",発注者入力シート!$L$40:$L$83,0),4))) -> ○県管理公共土木施設に関する維持管理業務または海岸漂着物の回収業務の契約実績 （様式-１４）
A41: =IF(AND(IFERROR(OR(発注者入力シート!$L$64="１５",発注者入力シート!$L$65="１５"),FALSE),企業入力シート!$B$35="○"),"",IF(COUNTIF($A$58:$A$64,"*"&VLOOKUP("１５",発注者入力シート!$L$41:$N$77,3,FALSE)&"*")>=1,"",INDEX(発注者入力シート!$L$40:$O$83,MATCH("１５",発注者入力シート!$L$40:$L$83,0),4))) -> ○県管理道路・空港を含む除雪業務の契約実績 （様式-１５）
A42: =IF(AND(IFERROR(OR(発注者入力シート!$L$64="１６",発注者入力シート!$L$65="１６"),FALSE),企業入力シート!$B$35="○"),"",IF(COUNTIF($A$58:$A$64,"*"&VLOOKUP("１６",発注者入力シート!$L$41:$N$77,3,FALSE)&"*")>=1,"",INDEX(発注者入力シート!$L$40:$O$83,MATCH("１６",発注者入力シート!$L$40:$L$83,0),4))) -> ○建設キャリアアップシステム（CCUS）の活用 （様式-１６）
