Workbook
Name 【企業】評価項目: [1]発注者入力シート!$L$6:$L$13
Name 【企業】評価項目: [2]発注者入力シート!$L$6:$L$13
Name 【企業】評価項目: 発注者入力シート!$L$6:$L$13
Name 【技術者】評価項目: [1]発注者入力シート!$M$6:$M$12
Name 【技術者】評価項目: [2]発注者入力シート!$M$6:$M$12
Name 【技術者】評価項目: 発注者入力シート!$M$6:$M$12
Name 【地域貢献】評価項目: [1]発注者入力シート!$N$6:$N$29
Name 【地域貢献】評価項目: [2]発注者入力シート!$N$6:$N$29
Name 【地域貢献】評価項目: 発注者入力シート!$N$6:$N$27
Name 【地理的条件】評価項目: [1]発注者入力シート!$O$6:$O$11
Name 【地理的条件】評価項目: [2]発注者入力シート!$O$6:$O$11
Name 【地理的条件】評価項目: 発注者入力シート!$O$6:$O$11
Name 企業回答: 発注者入力シート!$Z$6:$Z$9
Name 企業回答1: [1]発注者入力シート!$V$6:$V$8
Name 企業回答1: [2]発注者入力シート!$V$6:$V$8
Name 企業回答1: 発注者入力シート!$V$6:$V$8
Name 企業回答10: 発注者入力シート!$AE$6:$AE$9
Name 企業回答11: [1]発注者入力シート!$AF$6:$AF$7
Name 企業回答11: [2]発注者入力シート!$AF$6:$AF$7
Name 企業回答11: 発注者入力シート!$AF$6:$AF$7
Name 企業回答12: 発注者入力シート!$AG$6:$AG$9
Name 企業回答13: [2]発注者入力シート!$AH$6:$AH$8
Name 企業回答13: [3]発注者入力シート!$AH$6:$AH$8
Name 企業回答14: [2]発注者入力シート!$AI$6:$AI$9
Name 企業回答14: [3]発注者入力シート!$AI$6:$AI$9
Name 企業回答2: [1]発注者入力シート!$W$6:$W$11
Name 企業回答2: [2]発注者入力シート!$W$6:$W$11
Name 企業回答2: 発注者入力シート!$W$6:$W$11
Name 企業回答3: [1]発注者入力シート!$X$6:$X$11
Name 企業回答3: [2]発注者入力シート!$X$6:$X$11
Name 企業回答3: 発注者入力シート!$X$6:$X$11
Name 企業回答4: 発注者入力シート!$Y$6:$Y$8
Name 企業回答5: 発注者入力シート!$Z$6:$Z$9
Name 企業回答6: [1]発注者入力シート!$AA$6:$AA$12
Name 企業回答6: [2]発注者入力シート!$AA$6:$AA$12
Name 企業回答6: 発注者入力シート!$AA$6:$AA$11
Name 企業回答7: [1]発注者入力シート!$AB$6:$AB$9
Name 企業回答7: [2]発注者入力シート!$AB$6:$AB$9
Name 企業回答7: 発注者入力シート!$AB$6:$AB$9
Name 企業回答8: [1]発注者入力シート!$AC$6:$AC$17
Name 企業回答8: [2]発注者入力シート!$AC$6:$AC$17
Name 企業回答8: 発注者入力シート!$AC$6:$AC$14
Name 企業回答9: [1]発注者入力シート!$AD$6:$AD$8
Name 企業回答9: [2]発注者入力シート!$AD$6:$AD$8
Name 企業回答9: 発注者入力シート!$AD$6:$AD$8
Name 建設工事の種類: [1]発注者入力シート!$U$6:$U$21
Name 建設工事の種類: [2]発注者入力シート!$U$6:$U$21
Name 建設工事の種類: 発注者入力シート!$U$6:$U$13
Name 工事種別: [1]発注者入力シート!$T$6:$T$22
Name 工事種別: [2]発注者入力シート!$T$6:$T$22
Name 工事種別: 発注者入力シート!$T$6:$T$11
Name 地域密着型: [1]発注者入力シート!$S$6:$S$7
Name 地域密着型: [2]発注者入力シート!$S$6:$S$7
Name 地域密着型: 発注者入力シート!$S$6:$S$7
Name 評価項目番号: [1]発注者入力シート!$Q$6:$Q$12
Name 評価項目番号: [2]発注者入力シート!$Q$6:$Q$12
Name 評価項目番号: 発注者入力シート!$Q$6:$Q$12
Name 評価項目番号_枝番: [1]発注者入力シート!$R$6:$R$16
Name 評価項目番号_枝番: [2]発注者入力シート!$R$6:$R$16
Name 評価項目番号_枝番: 発注者入力シート!$R$6:$R$16

Sheet 発注者入力シート
A1: 発注までに必要な作業 | L1: 【表３】プルダウンリスト | AV1: 技術資料「企業の工事成績評定点」、「配置予定技術者の工事成績評定点」の表示
A2: （１）発注工事の基本情報 | L2: 【表３】を編集すると評価項目（C列）のリストが変更できます（原則、着色セル以外編集不可）。 | AV2: 入力状況 | AW2: =C8&C9 -> 冷暖房衛生設備工事管工事
B3: １．【表１】のC列に基本情報を直接入力してください | L3: 表中の着色セルを予備欄です。項目が不足する場合ここに入力すれば、プルダウンリストを追加できます。 | AV3: 工事種別 | AW3: 建設工事の種類 | AX3: 判定用 | AY3: 表示（工事種別） | AZ3: 表示（建設工事の種類） | BA3: 工事成績評価対象期間
B4: 【表１】 | L4: 【表３】 | AV4: 一般建築工事 | AW4: 建築一式工事 | AX4: =AV4&AW4 -> 一般建築工事建築一式工事 | AY4: 一般建築工事 | AZ4: 建築一式工事 | BA4: 工事成績（過去5年間で評価）
B5: 入力項目名 | C5: 入力欄 | L5: 【企業】評価項目 | M5: 【技術者】評価項目 | N5: 【地域貢献・その他】評価項目 | O5: 【地理的条件】評価項目 | P5: 様式番号 | Q5: 評価項目番号 | R5: 評価項目番号（枝番） | S5: 地域設定 | T5: 工事種別 | U5: 建設工事の種類 | V5: 企業回答1 | W5: 企業回答2 | X5: 企業回答3 | Y5: 企業回答4 | Z5: 企業回答5 | AA5: 企業回答6 | AB5: 企業回答7 | AC5: 企業回答8 | AD5: 企業回答9 | AE5: 企業回答10 | AF5: 企業回答11 | AG5: 企業回答12 | AV5: 一般建築工事 | AW5: 防水工事 | AX5: =AV5&AW5 -> 一般建築工事防水工事 | AY5: 一般建築工事 | AZ5: 防水工事 | BA5: 工事成績（過去5年間で評価）
B6: 発注事務所名 | C6: 総務部営繕課 | D6: ←直接入力 | L6: 工事成績 | M6: 保有資格 | N6: 防災協定 | O6: 近隣施工実績 | P6: ２ | Q6: （１） | R6: ① | T6: 一般建築工事 | U6: 建築一式工事 | V6: 有 | W6: 国局長 | X6: 国局長の表彰 | Y6: 契約工事名 | Z6: 単体 | AA6: 監理技術者 | AB6: 本店 | AC6: ｼｮﾍﾞﾙ系掘削機(ｼｮﾍﾞﾙ) | AD6: 保有 | AE6: 第1ｸﾞﾙｰﾌﾟ | AF6: □ | AG6: 2回 | AV6: 一般建築工事 | AW6: とび・土工・コンクリート工事 | AX6: =AV6&AW6 -> 一般建築工事とび・土工・コンクリート工事 | AY6: 一般建築工事 | AZ6: 建築一式工事、とび・土工・コンクリート工事 | BA6: 工事成績（過去5年間で評価）
B7: 入札公告日 | C7: 46297 | D7: ←ｙｙｙｙ/m/dで入力【重要】 | G7: 入札公告日前日 | H7: =C7-1 -> 46296 | I7: ←削除厳禁 | L7: 同種工事実績 | M7: 同種工事経験 | N7: 家畜伝染病防疫協定 | O7: 会社所在地 | P7: ３ | Q7: （２） | R7: ② | T7: 電気工事 | U7: とび・土工・コンクリート工事 | V7: 無 | W7: 国整備局部長 | X7: 国整備局部長の表彰 | Y7: 表彰状記載工事名 | Z7: 特別（特定）JV | AA7: 主任技術者 | AB7: 支店 | AC7: ｼｮﾍﾞﾙ系掘削機(ﾊﾞｯｸﾎｳ) | AD7: リース契約 | AE7: 第2ｸﾞﾙｰﾌﾟ | AF7: ■ | AG7: 1回 | AI7: 技術資料の提出方法の表示 | AV7: 冷暖房衛生設備工事 | AW7: 管工事 | AX7: =AV7&AW7 -> 冷暖房衛生設備工事管工事 | AY7: 建築物に係る冷暖房衛生設備工事 | AZ7: 管工事、熱絶縁工事、消防施設工事 | BA7: 工事成績（過去5年間で評価）
B8: 工事種別 | C8: 冷暖房衛生設備工事 | D8: ←必須【入力結果が技術資料(企業成績評定点、技術者成績評定点）シートの対象工事欄に反映される】 | L8: 優良工事表彰 | M8: 技術者の表彰 | N8: 維持管理業務 | O8: 工場・会社所在地 | P8: ４ | Q8: （３） | R8: ③ | T8: 冷暖房衛生設備工事 | U8: 防水工事 | W8: 国事務所長 | X8: 国事務所長の表彰 | Z8: 一般（経常）JV | AA8: 担当技術者 | AB8: 営業所 | AC8: ｼｮﾍﾞﾙ系掘削機(ﾄﾞﾗｸﾞﾗｲﾝ) | AE8: 第3ｸﾞﾙｰﾌﾟ | AG8: 0回 | AI8: 未記入 | AJ8: 「企業入力シート」の「押印済資料での提出」欄が未記入ですので、リストから「有」、「無」どちらかを選択してください | AV8: 電気工事 | AW8: 電気工事 | AX8: =AV8&AW8 -> 電気工事電気工事 | AY8: 建築物に係る電気工事 | AZ8: 電気工事、消防施設工事 | BA8: 工事成績（過去5年間で評価）
B9: 建設工事の種類 | C9: 管工事 | D9: =IF(INDEX(AV3:BA9,MATCH(AW2,AX3:AX9,0),3)=AW2,INDEX(AV3:BA9,MATCH(AW2,AX3:AX9,0),6),"err") -> 工事成績（過去5年間で評価） | G9: ←エラー表示の場合、工事種別と建設工事の種類を再確認 | L9: プラント保有 | M9: 継続学習 | N9: 除雪業務 | O9: サポート拠点 | P9: ５ | Q9: （４） | R9: ④ | T9: 塗装工事 | U9: 電気工事 | W9: 知事 | X9: 知事表彰該当工事の表彰 | AA9: 監理技術者補佐 | AC9: ｼｮﾍﾞﾙ系掘削機(ｸﾗﾑｼｪﾙ) | AI9: 無 | AJ9: 本技術資料により提出します | AV9: 塗装工事 | AW9: 塗装工事 | AX9: =AV9&AW9 -> 塗装工事塗装工事 | AY9: 建築物に係る塗装工事 | AZ9: 塗装工事 | BA9: 工事成績（過去5年間で評価）
B10: 工事名 | C10: 隠岐高等学校長寿命化（受水槽改修外）工事 | L10: 法面機械保有 | M10: 技術者の成績 | N10: ボランティア活動 | O10: - | P10: ６ | Q10: （５） | R10: ⑤ | U10: 管工事 | W10: 県課長 | X10: 県課長表彰該当工事の表彰 | AC10: ｼｮﾍﾞﾙ系掘削機(ｸﾚｰﾝ) | AI10: 有 | AJ10: 事前審査・証明書、又は別添押印済資料により提出しますので、本書への記載は省略します
B11: 押印済資料有効期限 | C11: ="令和"&F11+1&"年7月31日までに入札公告された工事 " -> 令和9年7月31日までに入札公告された工事 | E11: 手引き年度 | F11: 8 | G11: =F11-1 -> 7 | H11: =G11-1 -> 6 | I11: =H11-1 -> 5 | L11: CPD制度参加登録 | M11: - | N11: 労働福祉（高齢者雇用） | P11: ７ | Q11: （６） | R11: ⑥ | U11: 塗装工事 | W11: 県事務所長 | X11: 県事務所長表彰該当工事の表彰 | AC11: ｼｮﾍﾞﾙ系掘削機(ﾊﾟｲﾙﾄﾞﾗｲﾊﾞｰ) | AI11: 配置なし | AJ11: 申請する場合は、「企業入力シート」の「押印済資料での提出」欄で「有」を選択してください
A12: （２）総合評価方式の評価項目、技術資料様式の番号情報 | L12: - | N12: 労働福祉（障がい者雇用） | P12: ８ | R12: ⑦ | U12: 熱絶縁工事 | AC12: ﾌﾞﾙﾄﾞｰｻﾞ
B13: １．【表２】C列に発注工事の評価項目を入力してください（プルダウンリストから選択） | N13: 労働福祉（育児介護制度） | P13: ９ | R13: ⑧ | U13: 消防施設工事 | AC13: ﾄﾗｸﾀｰｼｮﾍﾞﾙ
B14: （特殊な評価項目でプルダウンリストに項目がない場合は、【表３】で項目を追加してください） | N14: 育児介護チェック表 | P14: １０ | R14: ⑨
B15: ２．【表２】E～G列に様式番号と評価項目の番号をプルダウンリストで選択してください。 | N15: 労働福祉（若手技術者雇用） | P15: １１ | R15: ⑩
B16: （様式番号は表紙が1になるため、2から始まります。評価項目の番号は、入札説明書に記載する見出し番号とあわせてください） | N16: 消防団協力事業所 | P16: １２
B17: ３．地域条件を設定する評価項目は、【表２】D列で【地域設定】を選択してください | N17: 海上援助活動 | P17: １３
B18: 【表２】 | F18: 様式番号 | G18: 評価項目（１）－①（例） | N18: 応急危険度判定士派遣協力事業者 | P18: １４
B19: 区分 | C19: 評価項目 | D19: 地域設定 | E19: 様式－○ | F19: 評価項目○－○ | H19: ↓押印済資料提出状況【削除厳禁】 | N19: 若手・中堅技術者配置 | P19: １５
B20: 企業 | C20: 工事成績 | E20: ２ | F20: （１） | G20: ① | H20: =IF(企業入力シート!B44="","未記入",企業入力シート!B44) -> 未記入 | N20: 建設機械保有状況 | P20: １６
B21: 企業 | C21: 同種工事実績 | E21: ３ | F21: （１） | G21: ② | H21: =IF(企業入力シート!B45="","未記入",企業入力シート!B45) -> 未記入 | N21: BCP認定 | P21: １７
B22: 企業 | C22: 優良工事表彰 | E22: ４ | F22: （１） | G22: ③ | H22: =IF(企業入力シート!B46="","未記入",企業入力シート!B46) -> 未記入 | N22: 登録基幹技能者 | P22: １８
B23: 企業 | H23: =IF(企業入力シート!B47="","未記入",企業入力シート!B47) -> 未記入 | N23: 応急復旧相談員 | P23: １９
B24: 企業 | H24: =IF(企業入力シート!B48="","未記入",企業入力シート!B48) -> 未記入 | N24: CCUSの活用 | P24: ２０
B25: 配置予定技術者 | C25: 技術者の成績 | E25: ５ | F25: （２） | G25: ① | H25: =IF(企業入力シート!$C$18="","配置なし",IF(企業入力シート!B65="","未記入",企業入力シート!B65)) -> 配置なし | I25: =IF(企業入力シート!$C$19="","配置なし",IF(企業入力シート!B72="","未記入",企業入力シート!B72)) -> 配置なし | J25: =IF(企業入力シート!$C$20="","配置なし",IF(企業入力シート!B79="","未記入",企業入力シート!B79)) -> 配置なし | N25: 若手技術者・若手従業員の新規雇用 | P25: ２１
B26: 配置予定技術者 | C26: 同種工事経験 | E26: ６ | F26: （２） | G26: ② | H26: =IF(企業入力シート!$C$18="","配置なし",IF(企業入力シート!B66="","未記入",企業入力シート!B66)) -> 配置なし | I26: =IF(企業入力シート!$C$19="","配置なし",IF(企業入力シート!B73="","未記入",企業入力シート!B73)) -> 配置なし | J26: =IF(企業入力シート!$C$20="","配置なし",IF(企業入力シート!B80="","未記入",企業入力シート!B80)) -> 配置なし | N26: - | P26: ２２
B27: 配置予定技術者 | C27: 継続学習 | E27: ７ | F27: （２） | G27: ③ | H27: =IF(企業入力シート!$C$18="","配置なし",IF(企業入力シート!B67="","未記入",企業入力シート!B67)) -> 配置なし | I27: =IF(企業入力シート!$C$19="","配置なし",IF(企業入力シート!B74="","未記入",企業入力シート!B74)) -> 配置なし | J27: =IF(企業入力シート!$C$20="","配置なし",IF(企業入力シート!B81="","未記入",企業入力シート!B81)) -> 配置なし | P27: ２３
B28: 配置予定技術者 | H28: =IF(企業入力シート!$C$18="","配置なし",IF(企業入力シート!B68="","未記入",企業入力シート!B68)) -> 配置なし | I28: =IF(企業入力シート!$C$19="","配置なし",IF(企業入力シート!B75="","未記入",企業入力シート!B75)) -> 配置なし | J28: =IF(企業入力シート!$C$20="","配置なし",IF(企業入力シート!B82="","未記入",企業入力シート!B82)) -> 配置なし | P28: ２４
B29: 地域貢献・その他 | C29: ボランティア活動 | E29: ８ | F29: （３） | G29: ① | H29: =IF(企業入力シート!B52="","未記入",企業入力シート!B52) -> 未記入 | P29: ２５
B30: 地域貢献・その他 | C30: 労働福祉（障がい者雇用） | E30: ９ | F30: （３） | G30: ② | H30: =IF(企業入力シート!B53="","未記入",企業入力シート!B53) -> 未記入 | P30: ２６
B31: 地域貢献・その他 | C31: 労働福祉（育児介護制度） | E31: １０ | F31: （３） | G31: ② | H31: =IF(企業入力シート!B54="","未記入",企業入力シート!B54) -> 未記入 | P31: ２７
B32: 地域貢献・その他 | C32: 育児介護チェック表 | E32: １１ | F32: （３） | G32: ② | H32: =IF(企業入力シート!B55="","未記入",企業入力シート!B55) -> 未記入
B33: 地域貢献・その他 | C33: 消防団協力事業所 | E33: １２ | F33: （３） | G33: ③ | H33: =IF(企業入力シート!B56="","未記入",企業入力シート!B56) -> 未記入
B34: 地域貢献・その他 | C34: 登録基幹技能者 | E34: １３ | F34: （３） | G34: ④ | H34: =IF(企業入力シート!B57="","未記入",企業入力シート!B57) -> 未記入
B35: 地域貢献・その他 | C35: 応急復旧相談員 | E35: １４ | F35: （３） | G35: ⑤ | H35: =IF(企業入力シート!B58="","未記入",企業入力シート!B58) -> 未記入 | L35: 【表４】表紙記載文リスト
B36: 地域貢献・その他 | C36: 若手技術者・若手従業員の新規雇用 | E36: １５ | F36: （３） | G36: ⑥ | H36: =IF(企業入力シート!B59="","未記入",企業入力シート!B59) -> 未記入 | L36: 【表４】を編集すると技術資料（表紙）「2 提出書類（必要な項目について）」で記載する様式の名称変更ができます。
B37: 地域貢献・その他 | H37: =IF(企業入力シート!B60="","未記入",企業入力シート!B60) -> 未記入 | L37: （【隠岐】企業の法面機械保有は、機械名が○○になっていますので、必ず編集が必要です。）
B38: 地域貢献・その他 | H38: =IF(企業入力シート!B61="","未記入",企業入力シート!B61) -> 未記入 | L38: 【表４】
B39: 地理的条件 | L39: ↓【重要】表２のD列で項目を記載したもの以外は、エラー表示される【編集厳禁】
B40: 地理的条件 | L40: 様式番号 | M40: 区分 | N40: 評価項目名 | O40: 表紙記載文
B41: その他様式 | C41: 設計図書、技術資料質問書 | E41: １６ | L41: =INDEX($B$20:$G$40,MATCH(N41,$C$20:$C$40,0),4) -> ２ | M41: 企業 | N41: =L6 -> 工事成績 | O41: =CONCATENATE(" ○企業の工事成績評定点 （様式-",L41,"-１、様式-",L41,"-２）") -> ○企業の工事成績評定点 （様式-２-１、様式-２-２）
B42: その他様式 | C42: 設計図書、技術資料回答書 | E42: １７ | L42: =INDEX($B$20:$G$40,MATCH(N42,$C$20:$C$40,0),4) -> ３ | N42: =L7 -> 同種工事実績 | O42: =CONCATENATE(" ○企業の同種工事の施工実績 （様式-",L42,"）") -> ○企業の同種工事の施工実績 （様式-３）
B43: その他様式 | C43: 評価内容説明要求書 | E43: １８ | L43: =INDEX($B$20:$G$40,MATCH(N43,$C$20:$C$40,0),4) -> ４ | N43: =L8 -> 優良工事表彰 | O43: =CONCATENATE(" ○企業の優良工事表彰（優良工事施工団体表彰） （様式-",L43,"）") -> ○企業の優良工事表彰（優良工事施工団体表彰） （様式-４）
B44: その他様式 | C44: 評価内容回答書 | E44: １９ | L44: =INDEX($B$20:$G$40,MATCH(N44,$C$20:$C$40,0),4) -> #N/A | N44: =L9 -> プラント保有 | O44: =CONCATENATE(" ○アスファルト合材プラント保有の有無 （様式-",L44,"）") -> #N/A
L45: =INDEX($B$20:$G$40,MATCH(N45,$C$20:$C$40,0),4) -> #N/A | N45: =L10 -> 法面機械保有 | O45: =CONCATENATE(" ○企業の○○機の保有の有無 （様式-",L45,"）") -> #N/A
A46: （３）確認・修正作業【重要】 | L46: =INDEX($B$20:$G$40,MATCH(N46,$C$20:$C$40,0),4) -> #N/A | N46: =L11 -> CPD制度参加登録 | O46: =CONCATENATE(" ○企業の継続能力（CPD）制度の参加登録 （様式-",L46,"）") -> #N/A
A47: １．【技術資料（表紙）の確認・修正事項】 | L47: =INDEX($B$20:$G$40,MATCH(N47,$C$20:$C$40,0),4) -> #N/A | N47: =L12 -> - | O47: 対象外
B48: ①「2 提出書類（必要な項目について）」を確認してください。記載文の修正が必要な場合、【表４】O列数式内の記載文を編集してください。 | L48: =INDEX($B$20:$G$40,MATCH(N48,$C$20:$C$40,0),4) -> #N/A | N48: =L13 -> 0 | O48: 表３【企業】評価項目の着色セルに項目を記入した場合、ここに記載文を直接入力！
B49: （【隠岐】企業の法面機械保有は、機械名が○○になっていますので、必ず編集が必要です。） | L49: =INDEX($B$20:$G$40,MATCH(N49,$C$20:$C$40,0),4) -> #N/A | M49: 技術者 | N49: =M6 -> 保有資格 | O49: =CONCATENATE(" ○配置予定技術者の資格 （様式-",L49,"）") -> #N/A
B50: ②エラー表示がでている行を非表示にしてください（行の削除厳禁）。 | L50: =INDEX($B$20:$G$40,MATCH(N50,$C$20:$C$40,0),4) -> ６ | N50: =M7 -> 同種工事経験 | O50: =CONCATENATE(" ○配置予定技術者の同種工事の施工経験 （様式-",L50,"）") -> ○配置予定技術者の同種工事の施工経験 （様式-６）
L51: =INDEX($B$20:$G$40,MATCH(N51,$C$20:$C$40,0),4) -> #N/A | N51: =M8 -> 技術者の表彰 | O51: =CONCATENATE(" ○配置予定技術者の優秀建設技術者表彰 （様式-",L51,"）") -> #N/A
A52: ２．【技術資料（各種様式）の確認・修正事項】 | L52: =INDEX($B$20:$G$40,MATCH(N52,$C$20:$C$40,0),4) -> ７ | N52: =M9 -> 継続学習 | O52: =CONCATENATE(" ○配置予定技術者の継続学習 （様式-",L52,"）") -> ○配置予定技術者の継続学習 （様式-７）
B53: ①技術資料の緑着色セルに正しく情報が転記されているか確認してください | L53: =INDEX($B$20:$G$40,MATCH(N53,$C$20:$C$40,0),4) -> ５ | N53: =M10 -> 技術者の成績 | O53: =CONCATENATE(" ○配置予定技術者の工事成績評定点 （様式-",L53,"-１、様式-",L53,"-２）") -> ○配置予定技術者の工事成績評定点 （様式-５-１、様式-５-２）
B54: （転記されていない場合は、もう一度【表１～４】の入力条件を確認後、必要に応じ緑着色セルを直接入力により修正してください） | L54: =INDEX($B$20:$G$40,MATCH(N54,$C$20:$C$40,0),4) -> #N/A | N54: =M11 -> - | O54: 対象外
B55: ②技術資料の黄色着色セルに必要な情報を直接入力してください | L55: =INDEX($B$20:$G$40,MATCH(N55,$C$20:$C$40,0),4) -> #N/A | N55: =M12 -> 0 | O55: 表３【技術者】評価項目の着色セルに項目を記入した場合、ここに記載文を直接入力！
B56: ③その他箇所の記載文や文字切れなど不備がないか確認し、必要に応じて修正してください | L56: =INDEX($B$20:$G$40,MATCH(N56,$C$20:$C$40,0),4) -> #N/A | M56: 地域貢献・その他 | N56: =N6 -> 防災協定 | O56: =CONCATENATE(" ○防災協定の締結実績 （様式-",L56,"）") -> #N/A
L57: =INDEX($B$20:$G$40,MATCH(N57,$C$20:$C$40,0),4) -> #N/A | N57: =N7 -> 家畜伝染病防疫協定 | O57: =CONCATENATE(" ○家畜伝染病防疫協定の締結実績 （様式-",L57,"）") -> #N/A
A58: ３．【評価基準の確認】 | L58: =INDEX($B$20:$G$40,MATCH(N58,$C$20:$C$40,0),4) -> #N/A | N58: =N8 -> 維持管理業務 | O58: =CONCATENATE(" ○県管理公共土木施設に関する維持管理業務または海岸漂着物の回収業務の契約実績 （様式-",L58,"）") -> #N/A
B59: ①「発注者設定内容確認シート」で入札説明書に記載した内容と様式に記載した内容が一致しているか確認してください | L59: =INDEX($B$20:$G$40,MATCH(N59,$C$20:$C$40,0),4) -> #N/A | N59: =N9 -> 除雪業務 | O59: =CONCATENATE(" ○県管理道路・空港を含む除雪業務の契約実績 （様式-",L59,"）") -> #N/A
L60: =INDEX($B$20:$G$40,MATCH(N60,$C$20:$C$40,0),4) -> ８ | N60: =N10 -> ボランティア活動 | O60: =CONCATENATE(" ○ボランティア活動又はハートフルしまねへの参加実績 （様式-",L60,"）") -> ○ボランティア活動又はハートフルしまねへの参加実績 （様式-８）
A61: ４．【PPI掲載用ファイルの作成】 | L61: =INDEX($B$20:$G$40,MATCH(N61,$C$20:$C$40,0),4) -> #N/A | N61: =N11 -> 労働福祉（高齢者雇用） | O61: =CONCATENATE(" ○労働福祉関連の状況(a 障がい者雇用の実態) （様式-",L61,"）") -> #N/A
B62: ①PPI掲載用ファイルを別ファイルで作成してください（シート削除するとシートの復活できないので、必ず削除作業前に別ファイルを作成してください） | L62: =INDEX($B$20:$G$40,MATCH(N62,$C$20:$C$40,0),4) -> ９ | N62: =N12 -> 労働福祉（障がい者雇用） | O62: =CONCATENATE(" ○労働福祉関連の状況(a 障がい者雇用の実態) （様式-",L62,"）") -> ○労働福祉関連の状況(a 障がい者雇用の実態) （様式-９）
B63: ②不要な技術資料様式は、シート毎削除してください | L63: =INDEX($B$20:$G$40,MATCH(N63,$C$20:$C$40,0),4) -> １０ | N63: =N13 -> 労働福祉（育児介護制度） | O63: =CONCATENATE(" ○労働福祉関連の状況(b 育児・介護休業に関する制度) （様式-",L63,"）") -> ○労働福祉関連の状況(b 育児・介護休業に関する制度) （様式-１０）
B64: ③収受印を発行しない様式は、破線以下を全て削除してください | L64: =INDEX($B$20:$G$40,MATCH(N64,$C$20:$C$40,0),4) -> １１ | N64: =N14 -> 育児介護チェック表 | O64: =CONCATENATE(" ○育児・介護休業に関する制度 チェック表 （様式-",L64,"）") -> ○育児・介護休業に関する制度 チェック表 （様式-１１）
B65: ④「企業入力シート」の「３提出資料確認欄」について、不要項目などを削除・修正してください | L65: =INDEX($B$20:$G$40,MATCH(N65,$C$20:$C$40,0),4) -> #N/A | N65: =N15 -> 労働福祉（若手技術者雇用） | O65: =CONCATENATE(" ○登録基幹技能者の配置 （様式-",L65,"）") -> #N/A
B66: （収受印を発行しない発注機関は、「３提出資料確認欄」を全て削除） | L66: =INDEX($B$20:$G$40,MATCH(N66,$C$20:$C$40,0),4) -> １２ | N66: =N16 -> 消防団協力事業所 | O66: =CONCATENATE(" ○消防団協力事業所の認定 （様式-",L66,"）") -> ○消防団協力事業所の認定 （様式-１２）
L67: =INDEX($B$20:$G$40,MATCH(N67,$C$20:$C$40,0),4) -> #N/A | N67: =N17 -> 海上援助活動 | O67: =CONCATENATE(" ○消防団協力事業所の認定 （様式-",L67,"）") -> #N/A
A68: ５．【技術審査（競争参加資格委員会）の準備作業】 | L68: =INDEX($B$20:$G$40,MATCH(N68,$C$20:$C$40,0),4) -> #N/A | N68: =N18 -> 応急危険度判定士派遣協力事業者 | O68: =CONCATENATE(" ○島根県地震被災建築物応急危険度判定士の登録 （様式-",L68,"）") -> #N/A
B69: ①「発注者審査作業用」シートに記載されている表中の不要な項目の列全体を削除してください | L69: =INDEX($B$20:$G$40,MATCH(N69,$C$20:$C$40,0),4) -> #N/A | N69: =N19 -> 若手・中堅技術者配置 | O69: =CONCATENATE(" ○島根県応急復旧相談員の登録 （様式-",L69,"）") -> #N/A
B70: （文字のサイズ、セルの結合、列幅の調整などは、「技術審査用ファイル」で行うため、「発注者作業用シート」では、体裁を整える必要はありません） | L70: =INDEX($B$20:$G$40,MATCH(N70,$C$20:$C$40,0),4) -> #N/A | N70: =N20 -> 建設機械保有状況 | O70: =CONCATENATE(" ○建設キャリアアップシステム（CCUS）の活用 （様式-",L70,"）") -> #N/A
L71: =INDEX($B$20:$G$40,MATCH(N71,$C$20:$C$40,0),4) -> #N/A | N71: =N21 -> BCP認定 | O71: =CONCATENATE(" ○海上援助活動の実績 （様式-",L71,"）") -> #N/A
B72: ※「発注者審査作業用」シート | L72: =INDEX($B$20:$G$40,MATCH(N72,$C$20:$C$40,0),4) -> １３ | N72: =N22 -> 登録基幹技能者 | O72: =CONCATENATE(" ○登録基幹技能者の配置 （様式-",L72,"）") -> ○登録基幹技能者の配置 （様式-１３）
B73: 企業の申請内容を数式でリンクさせて評価項目毎に一覧表で整理。指定された範囲を「技術審査用ファイル」の「作業用シート」に一括コピーすることで、 | L73: =INDEX($B$20:$G$40,MATCH(N73,$C$20:$C$40,0),4) -> １４ | N73: =N23 -> 応急復旧相談員 | O73: =CONCATENATE(" ○島根県被災住宅応急復旧相談員の登録 （様式-",L73,"）") -> ○島根県被災住宅応急復旧相談員の登録 （様式-１４）
B74: 技術審査（競争参加資格委員会）や入札結果調書を簡単に作成することが可能 | L74: =INDEX($B$20:$G$40,MATCH(N74,$C$20:$C$40,0),4) -> #N/A | N74: =N24 -> CCUSの活用 | O74: =CONCATENATE(" ○事業継続計画（BCP）の認定 （様式-",L74,"）") -> #N/A
L75: =INDEX($B$20:$G$40,MATCH(N75,$C$20:$C$40,0),4) -> １５ | N75: 若手技術者・若手従業員の新規雇用 | O75: =CONCATENATE(" ○若手技術者・若手従業員の新規雇用 （様式-",L75,"）") -> ○若手技術者・若手従業員の新規雇用 （様式-１５）
L76: =INDEX($B$20:$G$40,MATCH(N76,$C$20:$C$40,0),4) -> #N/A | O76: 表３【地域貢献・その他】評価項目の着色セルに項目を記入した場合、ここに記載文を直接入力！
B77: ※技術審査用ファイル | L77: =INDEX($B$20:$G$40,MATCH(N77,$C$20:$C$40,0),4) -> #N/A | M77: 地理的条件 | N77: =O6 -> 近隣施工実績 | O77: =CONCATENATE(" ○地理的条件（近隣地域での施工実績） （様式-",L77,"）") -> #N/A
B78: このファイルの「発注者作業用シート」から各企業の申請内容を一括コピーし、「技術審査用ファイル」で集計することで、技術審査（競争参加資格委員会） | L78: =INDEX($B$20:$G$40,MATCH(N78,$C$20:$C$40,0),4) -> #N/A | N78: =O7 -> 会社所在地 | O78: =CONCATENATE(" ○地理的条件（会社所在地） （様式-",L78,"）") -> #N/A
B79: 用の資料や入札結果調書が簡単に作成可能 | L79: =INDEX($B$20:$G$40,MATCH(N79,$C$20:$C$40,0),4) -> #N/A | N79: =O8 -> 工場・会社所在地 | O79: =CONCATENATE(" ○地理的条件（橋梁用桁製作の機能を有する工場及び建設業法上の営業所所在地） （様式-",L79,"）") -> #N/A
L80: =INDEX($B$20:$G$40,MATCH(N80,$C$20:$C$40,0),4) -> #N/A | N80: =O9 -> サポート拠点 | O80: =CONCATENATE(" ○地理的条件（サポート拠点の所在地及び技術者の在籍） （様式-",L80,"）") -> #N/A
A81: ＜発注準備から入札結果調書作成までの全体イメージ＞ | L81: =INDEX($B$20:$G$40,MATCH(N81,$C$20:$C$40,0),4) -> #N/A | N81: =O10 -> - | O81: 対象外
L82: =INDEX($B$20:$G$40,MATCH(N82,$C$20:$C$40,0),4) -> #N/A | N82: =O11 -> 0 | O82: 表３【地理的条件】評価項目の着色セルに項目を記入した場合、ここに記載文を直接入力！

Sheet 企業入力シート
A1: 1.企業情報
A2: 表のC列（赤枠内）に企業情報を入力してください。入力した情報は、各種様式に反映されます。
B3: 項目名 | C3: 企業情報記入欄
A4: 1 | B4: 提出日 | C4: 46258 | D4: ←ｙｙｙｙ/m/dで入力
A5: 2
A6: 3 | B6: 住所
A7: 4 | B7: 商号又は名称 | C7: ○○建設
A8: 5 | B8: 代表者 | C8: ○○ ○○
A9: 6 | B9: 担当者
A10: 7 | B10: 部署
A11: 8 | B11: 電話番号
A12: 9 | B12: ＦＡＸ番号
A13: 10 | B13: Ｅ－mail
A15: 2.配置予定技術者の氏名
A16: 表のC・D列（赤枠内）に配置予定技術者情報を入力してください。入力した情報は、各種様式に反映されます。
B17: 配置予定技術者 | C17: 氏名記入欄 | D17: 生年月日
A18: 1 | B18: 配置予定技術者① | E18: ←ｙｙｙｙ/m/dで入力
A19: 2 | B19: 配置予定技術者② | E19: ←ｙｙｙｙ/m/dで入力
A20: 3 | B20: 配置予定技術者③ | E20: ←ｙｙｙｙ/m/dで入力
A22: 3.事前審査・証明書による申請
A23: 事前審査・証明書で提出する評価項目がある場合、該当するものに「○」を入力してください。事前審査・証明書で提出する項目については、技術資料及び添付資料を提出する必要はありません。
A24: 下欄の入力内容は「表紙」シートに反映されます。
A25: =COUNTA(B26:B35) -> 0 | B25: 証明書での提出 | C25: 項目 | K25: ○
A26: =COUNTA(B26) -> 0 | C26: 【土木一式】企業の工事成績評定点（県）
A27: =COUNTA($B$26:B27) -> 0 | C27: 【舗装】企業の工事成績評定点（県）
A28: =COUNTA($B$26:B28) -> 0 | C28: 【法面】企業の工事成績評定点（県）
A29: =COUNTA($B$26:B29) -> 0 | C29: 【港湾】企業の工事成績評定点（県）
A30: =COUNTA($B$26:B30) -> 0 | C30: 防災協定の締結実績
A31: =COUNTA($B$26:B31) -> 0 | C31: 家畜伝染病防疫協定の締結実績
A32: =COUNTA($B$26:B32) -> 0 | C32: ボランティア活動又はハートフルしまねへの参加実績
A33: =COUNTA($B$26:B33) -> 0 | C33: 維持管理業務等の契約実績（県）
A34: =COUNTA($B$26:B34) -> 0 | C34: 除雪業務の契約実績（県）
A35: =COUNTA($B$26:B35) -> 0 | C35: 労働福祉関連（育児介護・こっころ）
A37: 4.押印済資料で提出する評価項目
A38: 発注者収受印欄に押印した技術資料の写し（以下「押印済資料」という。）で技術資料を提出する評価項目がある場合は、表のB列（赤枠）に「有」を、ない場合は「無」を選択してください。
A40: 「有」を選択した評価項目は、このファイルで技術資料を作成する必要はありません。押印済資料のみ提出してください。
A42: ＜企業＞
B43: 押印済資料での提出 | C43: 様式名
C44: =INDEX(発注者入力シート!$L$41:$T$48,MATCH(発注者入力シート!C20,発注者入力シート!$N$41:$N$48,0),4) -> ○企業の工事成績評定点 （様式-２-１、様式-２-２）
C45: =INDEX(発注者入力シート!$L$41:$T$48,MATCH(発注者入力シート!C21,発注者入力シート!$N$41:$N$48,0),4) -> ○企業の同種工事の施工実績 （様式-３）
C46: =INDEX(発注者入力シート!$L$41:$T$48,MATCH(発注者入力シート!C22,発注者入力シート!$N$41:$N$48,0),4) -> ○企業の優良工事表彰（優良工事施工団体表彰） （様式-４）
C47: =INDEX(発注者入力シート!$L$41:$T$48,MATCH(発注者入力シート!C23,発注者入力シート!$N$41:$N$48,0),4) -> 表３【企業】評価項目の着色セルに項目を記入した場合、ここに記載文を直接入力！
C48: =INDEX(発注者入力シート!$L$41:$T$48,MATCH(発注者入力シート!C24,発注者入力シート!$N$41:$N$48,0),4) -> 表３【企業】評価項目の着色セルに項目を記入した場合、ここに記載文を直接入力！
A50: ＜地域貢献・その他＞
B51: 押印済資料での提出 | C51: 様式名
C52: =INDEX(発注者入力シート!$L$56:$T$76,MATCH(発注者入力シート!C29,発注者入力シート!$N$56:$N$76,0),4) -> ○ボランティア活動又はハートフルしまねへの参加実績 （様式-８）
C53: =INDEX(発注者入力シート!$L$56:$T$76,MATCH(発注者入力シート!C30,発注者入力シート!$N$56:$N$76,0),4) -> ○労働福祉関連の状況(a 障がい者雇用の実態) （様式-９）
C54: =INDEX(発注者入力シート!$L$56:$T$76,MATCH(発注者入力シート!C31,発注者入力シート!$N$56:$N$76,0),4) -> ○労働福祉関連の状況(b 育児・介護休業に関する制度) （様式-１０）
C55: =INDEX(発注者入力シート!$L$56:$T$76,MATCH(発注者入力シート!C32,発注者入力シート!$N$56:$N$76,0),4) -> ○育児・介護休業に関する制度 チェック表 （様式-１１）
C56: =INDEX(発注者入力シート!$L$56:$T$76,MATCH(発注者入力シート!C33,発注者入力シート!$N$56:$N$76,0),4) -> ○消防団協力事業所の認定 （様式-１２）
C57: =INDEX(発注者入力シート!$L$56:$T$76,MATCH(発注者入力シート!C34,発注者入力シート!$N$56:$N$76,0),4) -> ○登録基幹技能者の配置 （様式-１３）
C58: =INDEX(発注者入力シート!$L$56:$T$76,MATCH(発注者入力シート!C35,発注者入力シート!$N$56:$N$76,0),4) -> ○島根県被災住宅応急復旧相談員の登録 （様式-１４）
C59: =INDEX(発注者入力シート!$L$56:$T$76,MATCH(発注者入力シート!C36,発注者入力シート!$N$56:$N$76,0),4) -> ○若手技術者・若手従業員の新規雇用 （様式-１５）
C60: =INDEX(発注者入力シート!$L$56:$T$76,MATCH(発注者入力シート!C37,発注者入力シート!$N$56:$N$76,0),4) -> #N/A
C61: =INDEX(発注者入力シート!$L$56:$T$76,MATCH(発注者入力シート!C38,発注者入力シート!$N$56:$N$76,0),4) -> #N/A
A63: =CONCATENATE("＜配置予定技術者① ：",C18,">""") -> ＜配置予定技術者① ：>"
B64: 押印済資料での提出 | C64: 様式名
C65: =INDEX(発注者入力シート!$L$49:$T$55,MATCH(発注者入力シート!C25,発注者入力シート!$N$49:$N$55,0),4) -> ○配置予定技術者の工事成績評定点 （様式-５-１、様式-５-２）
C66: =INDEX(発注者入力シート!$L$49:$T$55,MATCH(発注者入力シート!C26,発注者入力シート!$N$49:$N$55,0),4) -> ○配置予定技術者の同種工事の施工経験 （様式-６）
C67: =INDEX(発注者入力シート!$L$49:$T$55,MATCH(発注者入力シート!C27,発注者入力シート!$N$49:$N$55,0),4) -> ○配置予定技術者の継続学習 （様式-７）
C68: =INDEX(発注者入力シート!$L$49:$T$55,MATCH(発注者入力シート!C28,発注者入力シート!$N$49:$N$55,0),4) -> 表３【技術者】評価項目の着色セルに項目を記入した場合、ここに記載文を直接入力！
A70: =CONCATENATE("＜配置予定技術者② ：",C19,">""") -> ＜配置予定技術者② ：>"
B71: 押印済資料での提出 | C71: 様式名
C72: =C65 -> ○配置予定技術者の工事成績評定点 （様式-５-１、様式-５-２）
C73: =C66 -> ○配置予定技術者の同種工事の施工経験 （様式-６）
C74: =C67 -> ○配置予定技術者の継続学習 （様式-７）
C75: =C68 -> 表３【技術者】評価項目の着色セルに項目を記入した場合、ここに記載文を直接入力！
A77: =CONCATENATE("＜配置予定技術者③ ：",C20,">""") -> ＜配置予定技術者③ ：>"
B78: 押印済資料での提出 | C78: 様式名
C79: =C72 -> ○配置予定技術者の工事成績評定点 （様式-５-１、様式-５-２）
C80: =C73 -> ○配置予定技術者の同種工事の施工経験 （様式-６）
C81: =C74 -> ○配置予定技術者の継続学習 （様式-７）
C82: =C75 -> 表３【技術者】評価項目の着色セルに項目を記入した場合、ここに記載文を直接入力！

Sheet ファイル使用上の注意事項
A1: 技術資料作成用エクセル形式の電子ファイル使用上の注意事項
A3: ○技術資料【PDF形式】と参考資料【本エクセル形式】の位置づけについて
A4: (1) | B4: 本エクセル形式で作成したデータをPDF形式に変換したものを「技術資料」として、提出しなければなりません。 （提出：必須）
A6: (2) | B6: 本エクセル形式は、発注者が技術資料の審査を行う際に「参考資料」として使用しますので、提出の協力をお願いします。 本エクセル形式のみの提出をもって、技術資料を提出したことにはなりませんので、ご注意ください。
A11: ○エクセル形式使用時及び技術資料提出時の注意事項について
A12: (1) | B12: 行高・列幅不足により文字切れや「＃＃＃＃」表示で出力されていないか、提出する前に必ず印刷物で確認してください。
A14: (2) | B14: 文字切れや「＃＃＃＃」表示になっている場合、行高・列幅を広げる、文字を縮小して表示させるなど調整してください。
A16: (3) | B16: 発注者専用シート（シート名が赤色シート）には触れないでください。
A17: (4) | B17: 記入しない様式があっても、シートは絶対に削除しないでください。
A18: (5) | B18: 各様式の企業直接入力欄（青色着色セル）に記入する際、結合されたセルは絶対に解除しないでください。
A20: (6) | B20: 技術資料様式は、「ページ設定」で「白黒印刷」と「印刷範囲」を設定していますので、画面表示の着色セルも白色で印刷されます。
A23: ○数式に不具合があった場合の対応について
A24: (1) | B24: 本エクセル形式に設定されている数式に不具合があり、正しく表示されない場合がありましたら、直接セルに正しいものを記入してください。
A27: ○技術資料の審査について
A28: (1) | B28: 発注者は、技術資料【PDF形式】に記載された内容により審査しますので、提出書類に記載漏れ、添付漏れ、文字切れ等の不備がないか必ず確認してください。
A31: ○本エクセル形式のシート名着色の区分について
A32: シート名着色の区分は次のとおりです
B33: ：発注者専用シート（企業は入力厳禁です！！）
B34: ：企業専用シート（企業入力シート（申請企業の基本情報を入力）、質問書など）
B36: ：技術資料様式の表紙シート、ファイル使用上の注意事項シート
B37: ：「企業の評価」様式シート
B38: ：「配置予定技術者」様式シート
B39: ：「地域貢献・その他の評価」様式シート
B40: ：「地理的条件の評価」様式シート
A42: ○技術資料様式の凡例について
A43: 技術資料様式のセルの着色の凡例は次の通りです
A44: 着色セルの凡例
A45: （企業）
B46: ：「企業入力シート」で入力した情報が表示される箇所（数式でリンク有）
B47: ：セルに直接入力が必要な箇所
A49: （発注者）
B50: ：「発注者入力シート」や他のシートで入力した情報が表示される箇所（数式でリンク有）
B51: ：セルに直接入力が必要な箇所
A53: （企業・発注者共通事項）
B54: ：同じシート内で入力した情報が表示される箇所（数式でリンク有）

Sheet 発注者設定内容確認シート
A1: 入札公告日： | D1: =発注者入力シート!C7 -> 46297
A2: 工事名： | D2: =発注者入力シート!C10 -> 隠岐高等学校長寿命化（受水槽改修外）工事
A3: 不要な項目は、非表示にしてください（行の削除厳禁）
A4: 発注者入力シートで選択していない項目は、エラー表示になります
A5: 評価項目番号 | D5: 区分 | E5: 評価項目 | F5: 評価対象事項 | G5: 評価基準（様式記載内容）
A6: =INDEX(発注者入力シート!$B$20:$G$24,MATCH(発注者入力シート!L6,発注者入力シート!$C$20:$C$24,0),5) -> （１） | B6: - | C6: =INDEX(発注者入力シート!$B$20:$G$24,MATCH(発注者入力シート!L6,発注者入力シート!$C$20:$C$24,0),6) -> ① | D6: 企業 | E6: =発注者入力シート!L6 -> 工事成績 | F6: 完成年度 | G6: =IF('企業成績評定点 (5年用)'!D7="","",'企業成績評定点 (5年用)'!D7) -> 令和３年度から令和７年度（完成及び引き渡しが完了）
A7: =A6 -> （１） | B7: - | C7: =C6 -> ① | F7: 発注機関 | G7: =IF('企業成績評定点 (5年用)'!D8="","",'企業成績評定点 (5年用)'!D8) -> 島根県（総務部（企業局及び病院局契約を含み、企業局及び病院局発注工事は除く。）、農林水産部、土木部）
A8: =A6 -> （１） | B8: - | C8: =C6 -> ① | F8: 工事種別 | G8: =IF('企業成績評定点 (5年用)'!D9="","",'企業成績評定点 (5年用)'!D9) -> 建築物に係る冷暖房衛生設備工事
A9: =A6 -> （１） | B9: - | C9: =C6 -> ① | F9: 建設工事の種類 | G9: =IF('企業成績評定点 (5年用)'!D10="","",'企業成績評定点 (5年用)'!D10) -> 管工事、熱絶縁工事、消防施設工事
A10: =INDEX(発注者入力シート!$B$20:$G$24,MATCH(発注者入力シート!L7,発注者入力シート!$C$20:$C$24,0),5) -> （１） | B10: - | C10: =INDEX(発注者入力シート!$B$20:$G$24,MATCH(発注者入力シート!L7,発注者入力シート!$C$20:$C$24,0),6) -> ② | D10: 企業 | E10: =発注者入力シート!L7 -> 同種工事実績 | F10: 対象年度・機関等 | G10: =IF(同種工事施工実績!F6="","",同種工事施工実績!F6) -> 平成２８年度から入札公告日前日までに完成及び引き渡しが完了した工事
A11: =A10 -> （１） | B11: - | C11: =C10 -> ② | F11: 同種工事 | G11: =IF(同種工事施工実績!F10="","",同種工事施工実績!F10) -> １契約で税込み最終金額が４，１００万円以上で、住宅以外の建築物に係る冷暖房衛生設備工事
A12: =A11 -> （１） | B12: - | C12: =C11 -> ② | F12: 工事種別 | G12: =IF(同種工事施工実績!F8="","",同種工事施工実績!F8) -> 建築物に係る冷暖房衛生設備工事
A13: =A12 -> （１） | B13: - | C13: =C12 -> ② | F13: 建設工事の種類 | G13: =IF(同種工事施工実績!F9="","",同種工事施工実績!F9) -> 管工事、熱絶縁工事、消防施設工事
A14: =INDEX(発注者入力シート!$B$20:$G$24,MATCH(発注者入力シート!L8,発注者入力シート!$C$20:$C$24,0),5) -> （１） | B14: - | C14: =INDEX(発注者入力シート!$B$20:$G$24,MATCH(発注者入力シート!L8,発注者入力シート!$C$20:$C$24,0),6) -> ③ | D14: 企業 | E14: =発注者入力シート!L8 -> 優良工事表彰 | F14: 対象年度・機関等 | G14: =IF(優良工事表彰!E6="","",優良工事表彰!E6) -> 島根県内の公共事業において、令和４年度から令和８年度に、島根県及び中国地方整備局発注工事で受けた建築部門の優良工事表彰（優良工事施工団体表彰）
A15: =A14 -> （１） | B15: - | C15: =C14 -> ③ | F15: 工事種別 | G15: =IF(優良工事表彰!E9="","",優良工事表彰!E9) -> 建築物に係る冷暖房衛生設備工事
A16: =A15 -> （１） | B16: - | C16: =C15 -> ③ | F16: 建設工事の種類 | G16: =IF(優良工事表彰!E10="","",優良工事表彰!E10) -> 管工事、熱絶縁工事、消防施設工事
A17: =INDEX(発注者入力シート!$B$25:$G$28,MATCH(発注者入力シート!M10,発注者入力シート!$C$25:$C$28,0),5) -> （２） | B17: - | C17: =INDEX(発注者入力シート!$B$25:$G$28,MATCH(発注者入力シート!M10,発注者入力シート!$C$25:$C$28,0),6) -> ① | D17: 配置予定技術者 | E17: 配置予定技術者の工事成績評定点 | F17: 完成年度 | G17: =IF(【建築】技術者成績評定点!F9="","",【建築】技術者成績評定点!F9) -> 令和３年度から令和７年度（完成及び引き渡しが完了）
A18: =A17 -> （２） | B18: - | C18: =C17 -> ① | F18: 発注機関 | G18: =IF(【建築】技術者成績評定点!F10="","",【建築】技術者成績評定点!F10) -> 島根県（総務部（企業局及び病院局契約を含み、企業局及び病院局発注工事は除く。）、農林水産部、土木部）
A19: =A17 -> （２） | B19: - | C19: =C17 -> ① | F19: 工事種別 | G19: =IF(【建築】技術者成績評定点!F11="","",【建築】技術者成績評定点!F11) -> 建築物に係る冷暖房衛生設備工事
A20: =A17 -> （２） | B20: - | C20: =C17 -> ① | F20: 建設工事の種類 | G20: =IF(【建築】技術者成績評定点!F12="","",【建築】技術者成績評定点!F12) -> 管工事、熱絶縁工事、消防施設工事
A21: =INDEX(発注者入力シート!$B$25:$G$28,MATCH(発注者入力シート!M7,発注者入力シート!$C$25:$C$28,0),5) -> （２） | B21: - | C21: =INDEX(発注者入力シート!$B$25:$G$28,MATCH(発注者入力シート!M7,発注者入力シート!$C$25:$C$28,0),6) -> ② | D21: 配置予定技術者 | E21: 施工経験 | F21: 対象年度・機関等 | G21: =IF(同種工事施工経験!F6="","",同種工事施工経験!F6) -> 平成２８年度から入札公告日前日までに完成及び引き渡しが完了した島根県、島根県内の市町村又は国の機関（独立行政法人等を含みコリンズ登録があるものに限る。）発注工事
A22: =A21 -> （２） | B22: - | C22: =C21 -> ② | F22: 同種工事 | G22: =IF(同種工事施工経験!F8="","",同種工事施工経験!F8) -> １契約で税込み最終金額が２，０００万円以上で、住宅以外の建築物に係る冷暖房衛生設備工事
A23: =A22 -> （２） | B23: - | C23: =C22 -> ② | F23: 工事種別 | G23: =IF(同種工事施工経験!F11="","",同種工事施工経験!F11) -> 建築物に係る冷暖房衛生設備工事
A24: =A23 -> （２） | B24: - | C24: =C23 -> ② | F24: 建設工事の種類 | G24: =IF(同種工事施工経験!F12="","",同種工事施工経験!F12) -> 管工事、熱絶縁工事、消防施設工事
A25: =INDEX(発注者入力シート!$B$29:$G$38,MATCH(発注者入力シート!N10,発注者入力シート!$C$29:$C$38,0),5) -> （３） | B25: - | C25: =INDEX(発注者入力シート!$B$29:$G$38,MATCH(発注者入力シート!N10,発注者入力シート!$C$29:$C$38,0),6) -> ① | D25: 地域貢献・その他 | E25: ボランティア | F25: 対象 | G25: =IF(ボランティア!B6="","",ボランティア!B6) -> 令和６年度及び令和７年度における島根県内で実施されたボランティア活動又はハートフルしまねへの参加実績
A26: =INDEX(発注者入力シート!$B$29:$G$38,MATCH(発注者入力シート!N11,発注者入力シート!$C$29:$C$38,0),5) -> #N/A | B26: - | C26: =INDEX(発注者入力シート!$B$29:$G$38,MATCH(発注者入力シート!N11,発注者入力シート!$C$29:$C$38,0),6) -> #N/A | D26: 地域貢献・その他 | E26: 労働福祉関連 | F26: 障がい者雇用
A27: =INDEX(発注者入力シート!$B$29:$G$38,MATCH(発注者入力シート!N12,発注者入力シート!$C$29:$C$38,0),5) -> （３） | B27: - | C27: =INDEX(発注者入力シート!$B$29:$G$38,MATCH(発注者入力シート!N12,発注者入力シート!$C$29:$C$38,0),6) -> ② | F27: 育児・介護休業制度
A28: =INDEX(発注者入力シート!$B$29:$G$38,MATCH(発注者入力シート!N15,発注者入力シート!$C$29:$C$38,0),5) -> #N/A | B28: - | C28: =INDEX(発注者入力シート!$B$29:$G$38,MATCH(発注者入力シート!N15,発注者入力シート!$C$29:$C$38,0),6) -> #N/A | D28: 地域貢献・その他 | E28: 登録基幹技能者 | F28: 対象 | G28: =IF(登録基幹技能者!B9="","",登録基幹技能者!B9) -> 登録配管基幹技能者の現場への配置
A29: =INDEX(発注者入力シート!$B$29:$G$38,MATCH(発注者入力シート!N16,発注者入力シート!$C$29:$C$38,0),5) -> （３） | C29: =INDEX(発注者入力シート!$B$29:$G$38,MATCH(発注者入力シート!N16,発注者入力シート!$C$29:$C$38,0),6) -> ③ | D29: 地域貢献・その他 | E29: 若手技術者・若手従業員の新規雇用 | F29: 対象 | G29: =IF(若手技術者・従業員新規雇用!B8="","",若手技術者・従業員新規雇用!B8) -> 令和６年４月１日以降に、若手技術者・若手従業員（３０歳未満の者）の１人以上の新規雇用があること。
A30: =INDEX(発注者入力シート!$B$29:$G$38,MATCH(発注者入力シート!N17,発注者入力シート!$C$29:$C$38,0),5) -> #N/A | B30: - | C30: =INDEX(発注者入力シート!$B$29:$G$38,MATCH(発注者入力シート!N17,発注者入力シート!$C$29:$C$38,0),6) -> #N/A | D30: 地域貢献・その他 | E30: 消防団協力事業所
A31: =INDEX(発注者入力シート!$B$29:$G$38,MATCH(発注者入力シート!N18,発注者入力シート!$C$29:$C$38,0),5) -> #N/A | B31: - | C31: =INDEX(発注者入力シート!$B$29:$G$38,MATCH(発注者入力シート!N18,発注者入力シート!$C$29:$C$38,0),6) -> #N/A | D31: 地域貢献・その他 | E31: 応急危険度判定士派遣狭量区事業者の登録 | F31: 対象
A32: =INDEX(発注者入力シート!$B$29:$G$38,MATCH(発注者入力シート!N19,発注者入力シート!$C$29:$C$38,0),5) -> #N/A | B32: - | C32: =INDEX(発注者入力シート!$B$29:$G$38,MATCH(発注者入力シート!N19,発注者入力シート!$C$29:$C$38,0),6) -> #N/A | D32: 地域貢献・その他 | E32: 応急復旧相談員の登録 | F32: 対象
A33: =INDEX(発注者入力シート!$B$39:$G$40,MATCH(発注者入力シート!O7,発注者入力シート!$C$39:$C$40,0),5) -> #N/A | B33: - | C33: =INDEX(発注者入力シート!$B$39:$G$40,MATCH(発注者入力シート!O7,発注者入力シート!$C$39:$C$40,0),6) -> #N/A | D33: 地理的条件 | E33: 会社所在地 | F33: 対象 | G33: =IF(会社所在地!B10="","",会社所在地!B10) -> 入札公告日前日において、評価対象地域内に建設業法で規定する主たる営業所（本店）または従たる営業所（支店、営業所）がある者
A34: =A33 -> #N/A | B34: - | C34: =C33 -> #N/A | F34: 評価対象地域 | G34: =IF(会社所在地!D13="","",会社所在地!D13) -> ○○県土整備事務所管内

Sheet 発注者審査作業用シート（提案以外）
A1: このシートは、「技術審査用ファイル」の「作業用シート」に一括コピー作業を行うためのものです
A2: ＜シートの説明＞
B3: ・「技術審査用ファイル」の「作業用シート」へ一括コピーするため、「コピー専用表」をこのシートに設定しています。
B4: ・コピーする範囲は、「コピー専用表」の薄オレンジ部分（評価項目：１９～２５行）と白色部分（企業申請内容：２６行～３３行）です。
B5: ・文字切れやフォントサイズの修正は、「技術審査用ファイル」で行いますので、このシートでは作業不要です。
B6: ・「コピー専用表」は、「技術審査用ファイル」の「技術審査用シート」で見えやすいように概ね書式調整しています。「技術審査用シート」で見えにくいときのみ、コピー専用表の書式を修正してください。
A7: ＜作業手順＞・・・・以下の作業は、必ず別ファイルとして公告用ファイルを作成し、公告用ファイルで作業してください（１回シートや列を削除すると元の状態に戻せなくなります）。
A8: 準備作業： | B8: 不要な評価項目の列全体をこのシートから削除。不要な様式も削除してください。
B9: 評価項目の列全体を削除する際、コピー先の配列（「技術審査用ファイル」）に合わせておく必要があります（「技術審査用ファイル」の自動集計に支障が生じるため）。
B10: 予備欄等を活用して配列を合わせてください。
B11: 「技術審査用ファイル」の固定配列（※１項目３列で設定してあります）
B12: 企業：４項目、配置予定技術者①：４項目、配置予定技術者②：４項目、配置予定技術者③：４項目、地域貢献・その他：７項目、地理的条件：２項目
A13: 手順①： | B13: 「コピー専用表」の薄オレンジ部分全体を指定しコピー後、「技術審査用ファイル」の「作業用シート」の「貼り付け箇所A」に、貼り付けオプションの「値」で貼り付け。
A14: 手順②： | B14: 手順①の後、同じ場所（貼り付け箇所A）に貼り付けオプションの「書式設定」で貼り付けると、コピー専用行で設定された書式でコピー可能。
A15: 手順③： | B15: 手順①、手順②の方法により、「コピー専用表」の白色部分全体を「技術審査用ファイル」の「作業用シート」の「貼り付け箇所B」に貼り付け。
A17: 以下、審査用ファイルの「作業用」シートへの「コピー専用表」 | L17: 審査用ファイルコピー先の列数と合わせるための列 | U17: 審査用ファイルコピー先の列数と合わせるための列 | X17: 審査用ファイルコピー先の列数と合わせるための列 | AG17: 審査用ファイルコピー先の列数と合わせるための列 | AJ17: 審査用ファイルコピー先の列数と合わせるための列 | AS17: 審査用ファイルコピー先の列数と合わせるための列 | AV17: 審査用ファイルコピー先の列数と合わせるための列 | BW17: 審査用ファイルコピー先の列数と合わせるための列 | BZ17: 審査用ファイルコピー先の列数と合わせるための列 | CC17: 審査用ファイルコピー先の列数と合わせるための列 | CI17: 審査用ファイルコピー先の列数と合わせるための列 | CL17: 審査用ファイルコピー先の列数と合わせるための列
B18: 行番号 | C18: =CONCATENATE("様式-",INDEX(発注者入力シート!$B$20:$G$24,MATCH(発注者入力シート!L6,発注者入力シート!$C$20:$C$24,0),4)) -> 様式-２ | F18: =CONCATENATE("様式-",INDEX(発注者入力シート!$B$20:$G$24,MATCH(発注者入力シート!L7,発注者入力シート!$C$20:$C$24,0),4)) -> 様式-３ | I18: =CONCATENATE("様式-",INDEX(発注者入力シート!$B$20:$G$24,MATCH(発注者入力シート!L8,発注者入力シート!$C$20:$C$24,0),4)) -> 様式-４ | O18: =CONCATENATE("様式-",INDEX(発注者入力シート!$B$25:$G$28,MATCH(発注者入力シート!M10,発注者入力シート!$C$25:$C$28,0),4)) -> 様式-５ | R18: =CONCATENATE("様式-",INDEX(発注者入力シート!$B$25:$G$28,MATCH(発注者入力シート!M7,発注者入力シート!$C$25:$C$28,0),4)) -> 様式-６ | U18: =CONCATENATE("様式-",INDEX(発注者入力シート!$B$25:$G$28,MATCH(発注者入力シート!M9,発注者入力シート!$C$25:$C$28,0),4)) -> 様式-７ | AA18: =CONCATENATE("様式-",INDEX(発注者入力シート!$B$25:$G$28,MATCH(発注者入力シート!M10,発注者入力シート!$C$25:$C$28,0),4)) -> 様式-５ | AD18: =CONCATENATE("様式-",INDEX(発注者入力シート!$B$25:$G$28,MATCH(発注者入力シート!M7,発注者入力シート!$C$25:$C$28,0),4)) -> 様式-６ | AG18: =CONCATENATE("様式-",INDEX(発注者入力シート!$B$25:$G$28,MATCH(発注者入力シート!M9,発注者入力シート!$C$25:$C$28,0),4)) -> 様式-７ | AJ18: =CONCATENATE("様式-",INDEX(発注者入力シート!$B$25:$G$28,MATCH(発注者入力シート!M12,発注者入力シート!$C$25:$C$28,0),4)) -> #N/A | AM18: =CONCATENATE("様式-",INDEX(発注者入力シート!$B$25:$G$28,MATCH(発注者入力シート!M10,発注者入力シート!$C$25:$C$28,0),4)) -> 様式-５ | AP18: =CONCATENATE("様式-",INDEX(発注者入力シート!$B$25:$G$28,MATCH(発注者入力シート!M7,発注者入力シート!$C$25:$C$28,0),4)) -> 様式-６ | AS18: =CONCATENATE("様式-",INDEX(発注者入力シート!$B$25:$G$28,MATCH(発注者入力シート!M9,発注者入力シート!$C$25:$C$28,0),4)) -> 様式-７ | AY18: =CONCATENATE("様式-",INDEX(発注者入力シート!$B$29:$G$38,MATCH(発注者入力シート!N10,発注者入力シート!$C$29:$C$38,0),4)) -> 様式-８ | BB18: =CONCATENATE("様式-",INDEX(発注者入力シート!$B$29:$G$38,MATCH(発注者入力シート!N12,発注者入力シート!$C$29:$C$38,0),4),"など") -> 様式-９など | BE18: =CONCATENATE("様式-",INDEX(発注者入力シート!$B$29:$G$38,MATCH(発注者入力シート!N22,発注者入力シート!$C$29:$C$38,0),4)) -> 様式-１３ | BH18: =CONCATENATE("様式-",INDEX(発注者入力シート!$B$29:$G$38,MATCH(発注者入力シート!N16,発注者入力シート!$C$29:$C$38,0),4)) -> 様式-１２ | BK18: =CONCATENATE("様式-",INDEX(発注者入力シート!$B$29:$G$38,MATCH(発注者入力シート!N17,発注者入力シート!$C$29:$C$38,0),4)) -> #N/A | BN18: =CONCATENATE("様式-",INDEX(発注者入力シート!$B$29:$G$38,MATCH(発注者入力シート!N23,発注者入力シート!$C$29:$C$38,0),4)) -> 様式-１４ | BQ18: =CONCATENATE("様式-",INDEX(発注者入力シート!$B$29:$G$38,MATCH(発注者入力シート!N25,発注者入力シート!$C$29:$C$38,0),4)) -> 様式-１５ | BT18: =CONCATENATE("様式-",INDEX(発注者入力シート!$B$29:$G$38,MATCH(発注者入力シート!N20,発注者入力シート!$C$29:$C$38,0),4)) -> #N/A | CF18: =CONCATENATE("様式-",INDEX(発注者入力シート!$B$39:$G$40,MATCH(発注者入力シート!O6,発注者入力シート!$C$39:$C$40,0),4)) -> #N/A
A19: コピー専用行 | B19: a0 | C19: 企業 | F19: 企業 | I19: 企業 | L19: 企業 | O19: 配置予定技術者① | R19: 配置予定技術者① | U19: 配置予定技術者① | X19: 配置予定技術者① | AA19: 配置予定技術者② | AD19: 配置予定技術者② | AG19: 配置予定技術者② | AJ19: 配置予定技術者② | AM19: 配置予定技術者③ | AP19: 配置予定技術者③ | AS19: 配置予定技術者③ | AV19: 配置予定技術者③ | AY19: 地域貢献・その他 | BB19: 地域貢献・その他 | BE19: 地域貢献・その他 | BH19: 地域貢献・その他 | BK19: 地域貢献・その他【建築】 | BN19: 地域貢献・その他【建築】 | BQ19: 地域貢献・その他 | BT19: 地域貢献・その他 | BW19: 地域貢献・その他 | BZ19: 地域貢献・その他 | CC19: 地域貢献・その他 | CF19: 地理的条件 | CI19: 地理的条件 | CL19: 地理的条件
A20: コピー専用行 | B20: a1 | C20: 工事成績評定点 | F20: 施工実績 | I20: 優良工事表彰 | L20: 予備欄 | O20: 工事成績評定点 | R20: 施工経験 | U20: 継続学習 | X20: 予備欄② | AA20: 工事成績評定点 | AD20: 施工経験 | AG20: 継続学習 | AJ20: 予備欄② | AM20: 工事成績評定点 | AP20: 施工経験 | AS20: 継続学習 | AV20: 予備欄② | AY20: ボランティア | BB20: 労働福祉関連 | BE20: 登録基幹技能者 | BH20: 消防団協力事業所 | BK20: 応急危険度判定士派遣協力事業者 | BN20: 応急復旧相談員の登録 | BQ20: 若手技術者・従業員の新規雇用 | BT20: CCUSの活用 | BW20: 予備欄 | BZ20: 予備欄 | CC20: 予備欄 | CF20: 近隣地域での施工実績 | CI20: 会社所在地 | CL20: 予備欄１
A21: コピー専用行 | B21: a | C21: =C39 -> 完成年度 | D21: =D39 -> 令和３年度から令和７年度（完成及び引き渡しが完了） | E21: =E39 -> 0 | F21: =F39 -> 対象期間 | G21: =G39 -> 平成２８年度から入札公告日前日までに完成及び引き渡しが完了した工事 | I21: =I39 -> 対象年度・機関等 | J21: =J39 -> 島根県内の公共事業において、令和４年度から令和８年度に、島根県及び中国地方整備局発注工事で受けた建築部門の優良工事表彰（優良工事施工団体表彰） | O21: =O39 -> 完成年度 | P21: =P39 -> 令和３年度から令和７年度（完成及び引き渡しが完了） | Q21: =Q39 -> 0 | R21: =R39 -> 対象年度・機関等 | S21: =S39 -> 平成２８年度から入札公告日前日までに完成及び引き渡しが完了した島根県、島根県内の市町村又は国の機関（独立行政法人等を含みコリンズ登録があるものに限る。）発注工事 | U21: =U39 -> 配置予定の主任（監理）技術者が保有するCPD単位数 | AA21: =AA39 -> 完成年度 | AB21: =AB39 -> 令和３年度から令和７年度（完成及び引き渡しが完了） | AC21: =AC39 -> 0 | AD21: =AD39 -> 対象年度・機関等 | AE21: =AE39 -> 平成２８年度から入札公告日前日までに完成及び引き渡しが完了した島根県、島根県内の市町村又は国の機関（独立行政法人等を含みコリンズ登録があるものに限る。）発注工事 | AG21: =AG39 -> 配置予定の主任（監理）技術者が保有するCPD単位数 | AM21: =AM39 -> 完成年度 | AN21: =AN39 -> 令和３年度から令和７年度（完成及び引き渡しが完了） | AO21: =AO39 -> 0 | AP21: =AP39 -> 対象年度・機関等 | AQ21: =AQ39 -> 平成２８年度から入札公告日前日までに完成及び引き渡しが完了した島根県、島根県内の市町村又は国の機関（独立行政法人等を含みコリンズ登録があるものに限る。）発注工事 | AS21: =AS39 -> 配置予定の主任（監理）技術者が保有するCPD単位数 | AY21: =AY39 -> 対象 | AZ21: =AZ39 -> 令和６年度及び令和７年度における島根県内で実施されたボランティア活動又はハートフルしまねへの参加実績 | BA21: =BA39 -> 0 | BB21: =BB39 -> 対象 | BC21: =BC39 -> 入札公告日前日時点での取り組み状況 | BD21: =BD39 -> 0 | BE21: =BE39 -> 登録配管基幹技能者の現場への配置 | BH21: =BH39 -> 対象 | BI21: =BI39 -> 入札公告日前日時点（令和8年10月1日時点）での消防団協力事業所の認定状況 | BJ21: =BJ39 -> 0 | BK21: =BK39 -> 入札公告日前日時点において、「島根県地震被災建築物応急危険度判定士派遣協力事業者」の登録を受けた企業の、応急危険度判定士の派遣登録をした社員数の合計により評価する。 | BL21: =BL39 -> 0 | BM21: =BM39 -> 0 | BN21: =BN39 -> 島根県被災住宅応急復旧相談員の登録 入札公告日前日時点において、「島根県建築住宅施策推進協議会」会員団体に所属する企業の、応急復旧相談員の登録をした社員数の合計により評価する。 | BO21: =BO39 -> 0 | ... BV21: =BV39 -> 0 | CF21: 対象 | CG21: =CG39 -> 令和6年度から令和7年度に完成及び引き渡しが完了した島根県（総務部（企業局及び病院局契約を含み、企業局及び病院局発注工事は除く。）、農林水産部、土木部）発注工事 | CI21: =CI39 -> 対象 | CJ21: =CJ39 -> 入札公告日前日において、評価対象地域内に建設業法で規定する主たる営業所（本店）または従たる営業所（支店、営業所）がある者
A22: コピー専用行 | B22: b | C22: =C40 -> 発注機関 | D22: =D40 -> 島根県（総務部（企業局及び病院局契約を含み、企業局及び病院局発注工事は除く。）、農林水産部、土木部） | E22: =E40 -> 0 | F22: =F40 -> 同種工事 | G22: =G40 -> １契約で税込み最終金額が４，１００万円以上で、住宅以外の建築物に係る冷暖房衛生設備工事 | O22: =O40 -> 発注機関 | P22: =P40 -> 島根県（総務部（企業局及び病院局契約を含み、企業局及び病院局発注工事は除く。）、農林水産部、土木部） | Q22: =Q40 -> 0 | R22: =R40 -> 同種工事 | S22: =S40 -> １契約で税込み最終金額が２，０００万円以上で、住宅以外の建築物に係る冷暖房衛生設備工事 | AA22: =AA40 -> 発注機関 | AB22: =AB40 -> 島根県（総務部（企業局及び病院局契約を含み、企業局及び病院局発注工事は除く。）、農林水産部、土木部） | AC22: =AC40 -> 0 | AD22: =AD40 -> 同種工事 | AE22: =AE40 -> １契約で税込み最終金額が２，０００万円以上で、住宅以外の建築物に係る冷暖房衛生設備工事 | AM22: =AM40 -> 発注機関 | AN22: =AN40 -> 島根県（総務部（企業局及び病院局契約を含み、企業局及び病院局発注工事は除く。）、農林水産部、土木部） | AO22: =AO40 -> 0 | AP22: =AP40 -> 同種工事 | AQ22: =AQ40 -> １契約で税込み最終金額が２，０００万円以上で、住宅以外の建築物に係る冷暖房衛生設備工事 | AY22: =AY40 -> 0 | AZ22: =AZ40 -> 0 | BA22: =BA40 -> 0 | BB22: =BB40 -> 0 | BC22: =BC40 -> 0 | BD22: =BD40 -> 0 | BH22: =BH40 -> 0 | BI22: =BI40 -> 0 | BJ22: =BJ40 -> 0 | BK22: =BK40 -> 0 | BL22: =BL40 -> 0 | BM22: =BM40 -> 0 | BN22: =BN40 -> 0 | BO22: =BO40 -> 0 | ... BV22: =BV40 -> 0 | CF22: 対象工事 | CG22: =CG40 -> 元請または共同企業体（経常ＪＶを除く）の構成員（ただし出資比率２０％以上）として松江県土整備事務所管内において施工した完成及び引き渡しが完了した工事。
A23: コピー専用行 | B23: c | C23: =C41 -> 工事種別 | D23: =D41 -> 建築物に係る冷暖房衛生設備工事 | E23: =E41 -> 0 | F23: =F41 -> 工事種別 | G23: =G41 -> 建築物に係る冷暖房衛生設備工事 | I23: =I41 -> 工事種別 | J23: =J41 -> 建築物に係る冷暖房衛生設備工事 | O23: =O41 -> 工事種別 | P23: =P41 -> 建築物に係る冷暖房衛生設備工事 | Q23: =Q41 -> 0 | R23: =R41 -> 工事種別 | S23: =S41 -> 建築物に係る冷暖房衛生設備工事 | AA23: =AA41 -> 工事種別 | AB23: =AB41 -> 建築物に係る冷暖房衛生設備工事 | AC23: =AC41 -> 0 | AD23: =AD41 -> 工事種別 | AE23: =AE41 -> 建築物に係る冷暖房衛生設備工事 | AM23: =AM41 -> 工事種別 | AN23: =AN41 -> 建築物に係る冷暖房衛生設備工事 | AO23: =AO41 -> 0 | AP23: =AP41 -> 工事種別 | AQ23: =AQ41 -> 建築物に係る冷暖房衛生設備工事 | AY23: =AY41 -> 0 | AZ23: =AZ41 -> 0 | BA23: =BA41 -> 0 | BB23: =BB41 -> 0 | BC23: =BC41 -> 0 | BD23: =BD41 -> 0 | BH23: =BH41 -> 0 | BI23: =BI41 -> 0 | BJ23: =BJ41 -> 0 | BK23: =BK41 -> 0 | BL23: =BL41 -> 0 | BM23: =BM41 -> 0 | BN23: =BN41 -> 0 | BO23: =BO41 -> 0 | ... BV23: =BV41 -> 0 | CF23: 工事種別 | CG23: =CG41 -> 建築物に係る冷暖房衛生設備工事
A24: コピー専用行 | B24: d | C24: =C42 -> 建設工事の種類 | D24: =D42 -> 管工事、熱絶縁工事、消防施設工事 | E24: =E42 -> 0 | F24: =F42 -> 建設工事の種類 | G24: =G42 -> 管工事、熱絶縁工事、消防施設工事 | I24: =I42 -> 建設工事の種類 | J24: =J42 -> 管工事、熱絶縁工事、消防施設工事 | O24: =O42 -> 建設工事の種類 | P24: =P42 -> 管工事、熱絶縁工事、消防施設工事 | Q24: =Q42 -> 0 | R24: =R42 -> 建設工事の種類 | S24: =S42 -> 管工事、熱絶縁工事、消防施設工事 | AA24: =AA42 -> 建設工事の種類 | AB24: =AB42 -> 管工事、熱絶縁工事、消防施設工事 | AC24: =AC42 -> 0 | AD24: =AD42 -> 建設工事の種類 | AE24: =AE42 -> 管工事、熱絶縁工事、消防施設工事 | AM24: =AM42 -> 建設工事の種類 | AN24: =AN42 -> 管工事、熱絶縁工事、消防施設工事 | AO24: =AO42 -> 0 | AP24: =AP42 -> 建設工事の種類 | AQ24: =AQ42 -> 管工事、熱絶縁工事、消防施設工事 | AY24: =AY42 -> 0 | AZ24: =AZ42 -> 0 | BA24: =BA42 -> 0 | BB24: =BB42 -> 0 | BC24: =BC42 -> 0 | BD24: =BD42 -> 0 | BH24: =BH42 -> 0 | BI24: =BI42 -> 0 | BJ24: =BJ42 -> 0 | BK24: =BK42 -> 0 | BL24: =BL42 -> 0 | BM24: =BM42 -> 0 | BN24: =BN42 -> 0 | BO24: =BO42 -> 0 | ... BV24: =BV42 -> 0 | CF24: 建設工事の種類 | CG24: =CG42 -> 管工事、熱絶縁工事、消防施設工事 | CI24: =CI42 -> 評価地域 | CJ24: =CJ42 -> ○○県土整備事務所管内
A25: コピー専用行 | B25: e | C25: =C43 -> 該当件数 | D25: =D43 -> 平均点 | F25: =F43 -> 項目名 | G25: =G43 -> 工事① | H25: =H43 -> 工事② | I25: =I43 -> 表彰区分 | J25: =J43 -> 実績 | O25: =O43 -> 該当件数 | P25: =P43 -> 平均点 | R25: =R43 -> 項目名 | S25: =S43 -> 工事① | T25: =T43 -> 工事② | U25: =U43 -> 項目名 | V25: =V43 -> 状況 | AA25: =AA43 -> 該当件数 | AB25: =AB43 -> 平均点 | AD25: =AD43 -> 項目名 | AE25: =AE43 -> 工事① | AF25: =AF43 -> 工事② | AG25: =AG43 -> 項目名 | AH25: =AH43 -> 状況 | AM25: =AM43 -> 該当件数 | AN25: =AN43 -> 平均点 | AP25: =AP43 -> 項目名 | AQ25: =AQ43 -> 工事① | AR25: =AR43 -> 工事② | AS25: =AS43 -> 項目名 | AT25: =AT43 -> 状況 | AY25: =AY43 -> 項目名 | AZ25: =AZ43 -> 6 | BA25: =BA43 -> 7 | BB25: =BB43 -> 項目名 | BC25: =BC43 -> 状況 | BE25: 項目名 | BF25: 状況 | BH25: =BH43 -> 項目名 | BI25: =BI43 -> 状況 | BK25: 項目名 | BL25: 状況 | BQ25: =BQ43 -> 項目名 | BR25: =BR43 -> 雇用① | BS25: =BS43 -> 雇用② | BT25: =BT43 -> 項目名 | BU25: =BU43 -> 状況 | CF25: 項目名 | CG25: 工事① | CH25: 工事② | CI25: =CI43 -> 項目名 | CJ25: =CJ43 -> 状況
A26: コピー専用行 | B26: 1 | C26: =C44 | D26: =D44 | F26: =F44 -> 工事名 | G26: =G44 -> 申請なし | H26: =H44 -> 申請なし | I26: =I44 -> 申請なし | J26: =J44 | O26: =O44 | P26: =P44 | R26: =R44 -> 工事名 | S26: =S44 -> 配置なし | T26: =T44 | U26: 登録しているCPD制度 | AA26: =AA44 | AB26: =AB44 | AD26: =AD44 -> 工事名 | AE26: =AE44 -> 配置なし | AF26: =AF44 | AG26: 登録しているCPD制度 | AM26: =AM44 | AN26: =AN44 | AP26: =AP44 -> 工事名 | AQ26: =AQ44 -> 配置なし | AR26: =AR44 | AS26: 登録しているCPD制度 | AY26: =AY44 -> ボランティア活動内容 | AZ26: =AZ44 -> 申請なし | BA26: =BA44 -> 申請なし | BE26: =BE44 -> 配置の有無 | BF26: =BF44 -> 申請なし | BH26: =BH44 -> 認定有無 | BI26: =BI44 -> 申請なし | BK26: 事業者 登録番号 | BL26: =BL56 -> 申請なし | BN26: 団体所属 | BO26: =BO56 -> 申請なし | BQ26: =BQ44 -> 雇用の内容 | BR26: =BR44 -> 申請なし | BS26: =BS44 -> 申請なし | BT26: =BT44 -> 確約書の提出 | BU26: =BU44 -> 無 | CF26: 工事名 | CG26: =CG44 -> 申請なし | CH26: =CH44 -> 申請なし | CI26: =CI44 -> 住所 | CJ26: =CJ44
A27: コピー専用行 | B27: 2 | C27: =C45 | D27: =D45 | F27: =F45 -> 発注機関 | G27: =G45 | H27: =H45 | O27: =O45 -> 配置なし | P27: =IF(O26="","",IF(P26<70,0,IF(O26>1,HLOOKUP(P26,発注者入力シート!$AK$3:$AT$5,2)*3/5,IF(O26=1,HLOOKUP(P26,発注者入力シート!$AK$3:$AT$5,3)*3/5,"")))) | R27: =R45 -> 発注機関 | S27: =S45 | T27: =T45 | U27: 単位数 | V27: =V44 | AA27: =AA45 -> 配置なし | AB27: =IF(AA26="","",IF(AB26<70,0,IF(AA26>1,HLOOKUP(AB26,発注者入力シート!$AK$3:$AT$5,2)*3/5,IF(AA26=1,HLOOKUP(AB26,発注者入力シート!$AK$3:$AT$5,3)*3/5,"")))) | AD27: =AD45 -> 発注機関 | AE27: =AE45 | AF27: =AF45 | AG27: 単位数 | AH27: =AH44 | AM27: =AM45 -> 配置なし | AN27: =IF(AM26="","",IF(AN26<70,0,IF(AM26>1,HLOOKUP(AN26,発注者入力シート!$AK$3:$AT$5,2)*3/5,IF(AM26=1,HLOOKUP(AN26,発注者入力シート!$AK$3:$AT$5,3)*3/5,"")))) | AP27: =AP45 -> 発注機関 | AQ27: =AQ45 | AR27: =AR45 | AS27: 単位数 | AT27: =AT44 | AY27: =AY45 | AZ27: =AZ45 | BA27: =BA45 | BB27: =BB47 -> 障がい者 | BC27: =BC47 -> 障がい者雇用数 | BD27: =BD47 -> 0 | BK27: 判定士の人数 | BL27: =COUNTA(BL44:BL55)-COUNTBLANK(BL44:BL55) -> 0 | BN27: 相談員の人数 | BO27: =COUNTA(BO44:BO55)-COUNTBLANK(BO44:BO55) -> 0 | BQ27: 生年月日 | BR27: =BR45 | BS27: =BS45 -> 0 | CF27: 発注機関 | CG27: =CG45 | CH27: =CH45 | CI27: =CI45 -> 種類 | CJ27: =CJ45 -> 本店
A28: コピー専用行 | B28: 3 | C28: =C46 | F28: 工事種別／建設工事の種類 | G28: =G46&"／"&G47 -> ／ | H28: =H46&"／"&H47 -> ／ | R28: =R47 -> 請負金額 | S28: =S47 | T28: =T47 | U28: ■評価基準 ◆３０単位以上ある者は１点 ◆１０以上３０単位未満の者は0.5 点 ◆１０単位未満の者は０点 | AD28: =AD47 -> 請負金額 | AE28: =AE47 | AF28: =AF47 | AG28: ■評価基準 ◆３０単位以上ある者は１点 ◆１０以上３０単位未満の者は0.5 点 ◆１０単位未満の者は０点 | AP28: =AP47 -> 請負金額 | AQ28: =AQ47 | AR28: =AR47 | AS28: ■評価基準 ◆３０単位以上ある者は１点 ◆１０以上３０単位未満の者は0.5 点 ◆１０単位未満の者は０点 | AY28: =AY46 -> 参加人数 | AZ28: =AZ46 | BA28: =BA46 | BC28: =BC48 -> 法定雇用義務数 | BD28: =BD48 -> 法定雇用義務なし | BN28: ■評価基準 ◆６名以上の者は１点 ◆３名以上５名以下の者は0.5点 ◆上記でない者は０点 | BQ28: 雇用年月日 | BR28: =BR46 | BS28: =BS46 -> 0 | CF28: 工事種別／建設工事の種類 | CG28: =CG53&"／"&CG54 -> ／ | CH28: =CH53&"／"&CH54 -> ／
A29: コピー専用行 | B29: 4 | F29: =F49 -> 請負金額 | G29: =G49 | H29: =H49 | I29: =I45 | J29: =J45 | R29: 工期（従事期間） | S29: =S48&CHAR(10)&"("&S49&")" -> () | T29: =T48&CHAR(10)&"("&T49&")" -> () | AD29: 工期（従事期間） | AE29: =AE48&CHAR(10)&"("&AE49&")" -> () | AF29: =AF48&CHAR(10)&"("&AF49&")" -> () | AP29: 工期（従事期間） | AQ29: =AQ48&CHAR(10)&"("&AQ49&")" -> () | AR29: =AR48&CHAR(10)&"("&AR49&")" -> () | AY29: =AY47 | AZ29: =AZ47 | BA29: =BA47 | BB29: =BB50 -> 育児介護 | BC29: =IF(企業入力シート!B35="○","事前審査・証明書提出：取組有",IF(BD34="有","押印済資料提出：取組有",IF(AND(BD50="",BD51=""),"申請なし",IF(BD50="有",BC50,IF(BD51="有",BC51,"無"))))) -> 申請なし | CF29: 施工場所 | CG29: =CG46 | CH29: =CH46
A30: コピー専用行 | B30: 5 | F30: 工期 | G30: =G50&CHAR(10)&G51 | H30: =H50&CHAR(10)&H51 | I30: =I46 | J30: =J46 | R30: =R52 -> 役職 | S30: =S52 | T30: =T52 | AD30: =AD52 -> 役職 | AE30: =AE52 | AF30: =AF52 | AP30: =AP52 -> 役職 | AQ30: =AQ52 | AR30: =AR52 | AY30: =AY48 -> ﾊｰﾄﾌﾙ活動実績 | AZ30: =AZ48 -> 申請なし | BA30: =BA48 -> 申請なし | BC30: =IF(BD51="有",BC52,"") | BD30: =IF(BD51="有",BD52,"") | CF30: 請負金額 | CG30: =CG47 | CH30: =CH47
A31: コピー専用行 | B31: 6 | F31: =F58 -> 受注形態 | G31: =G58&"("&TEXT(G59,"0%")&")" -> () | H31: =H58&"("&TEXT(H59,"0%")&")" -> () | I31: =I47 | J31: =J47 | R31: =R58 -> 受注形態 | S31: =S58&"("&TEXT(S59,"0%")&")" -> () | T31: =T58&"("&TEXT(T59,"0%")&")" -> () | AD31: =AD58 -> 受注形態 | AE31: =AE58&"("&TEXT(AE59,"0%")&")" -> () | AF31: =AF58&"("&TEXT(AF59,"0%")&")" -> () | AP31: =AP58 -> 受注形態 | AQ31: =AQ58&"("&TEXT(AQ59,"0%")&")" -> () | AR31: =AR58&"("&TEXT(AR59,"0%")&")" -> () | AY31: =AY49 | AZ31: =AZ49 | BA31: =BA49 | CF31: 工期 | CG31: =CG48&CHAR(10)&CG49 | CH31: =CH48&CHAR(10)&CH49
A32: コピー専用行 | B32: 7 | F32: =F57 -> 工事成績 | G32: =G57 | H32: =H57 | I32: =I48 | J32: =J48 | R32: 工事種別／建設工事の種類 | S32: =S50&"／"&S51 -> ／ | T32: =T50&"／"&T51 -> ／ | AD32: 工事種別／建設工事の種類 | AE32: =AE50&"／"&AE51 -> ／ | AF32: =AF50&"／"&AF51 -> ／ | AP32: 工事種別／建設工事の種類 | AQ32: =AQ50&"／"&AQ51 -> ／ | AR32: =AR50&"／"&AR51 -> ／ | AY32: =AY50 | AZ32: =AZ50 | BA32: =BA50 | CF32: 工事成績 | CG32: =CG50 | CH32: =CH50
A33: コピー専用行 | B33: 8 | F33: =F52 -> 建物用途 | G33: =G52 | H33: =H52 | R33: 工事成績 建物用途 | S33: =IF(S53="","",""&S57&"点"&CHAR(10)&S53) | T33: =IF(T53="","",""&T57&"点"&CHAR(10)&T53) | AD33: 工事成績 建物用途 | AE33: =IF(AE53="","",""&AE57&"点"&CHAR(10)&AE53) | AF33: =IF(AF53="","",""&AF57&"点"&CHAR(10)&AF53) | AP33: 工事成績 建物用途 | AQ33: =IF(AQ53="","",""&AQ57&"点"&CHAR(10)&AQ53) | AR33: =IF(AR53="","",""&AR57&"点"&CHAR(10)&AR53)
C34: 今回、押印済資料（収受印）での提出の有無 | D34: =INDEX(発注者入力シート!$B$20:$J$24,MATCH(発注者入力シート!L6,発注者入力シート!$C$20:$C$24,0),7) -> 未記入 | I34: 今回、押印済資料（収受印）での提出の有無 | J34: =INDEX(発注者入力シート!$B$20:$J$24,MATCH(発注者入力シート!L8,発注者入力シート!$C$20:$C$24,0),7) -> 未記入 | O34: 今回、押印済資料（収受印）での提出の有無 | P34: =INDEX(発注者入力シート!$B$25:$J$28,MATCH(発注者入力シート!M10,発注者入力シート!$C$25:$C$28,0),7) -> 配置なし | Q34: =IF(企業入力シート!C18="","配置なし","配置あり") -> 配置なし | T34: =IF(企業入力シート!C18="","配置なし","配置あり") -> 配置なし | U34: 今回、押印済資料（収受印）での提出の有無 | V34: =INDEX(発注者入力シート!$B$25:$J$28,MATCH(発注者入力シート!M9,発注者入力シート!$C$25:$C$28,0),7) -> 配置なし | W34: =IF(企業入力シート!C18="","配置なし","配置あり") -> 配置なし | AA34: 今回、押印済資料（収受印）での提出の有無 | AB34: =INDEX(発注者入力シート!$B$25:$J$28,MATCH(発注者入力シート!M10,発注者入力シート!$C$25:$C$28,0),8) -> 配置なし | AC34: =IF(企業入力シート!C19="","配置なし","配置あり") -> 配置なし | AF34: =IF(企業入力シート!C19="","配置なし","配置あり") -> 配置なし | AG34: 今回、押印済資料（収受印）での提出の有無 | AH34: =INDEX(発注者入力シート!$B$25:$J$28,MATCH(発注者入力シート!M9,発注者入力シート!$C$25:$C$28,0),8) -> 配置なし | AI34: =IF(企業入力シート!C19="","配置なし","配置あり") -> 配置なし | AM34: 今回、押印済資料（収受印）での提出の有無 | AN34: =INDEX(発注者入力シート!$B$25:$J$28,MATCH(発注者入力シート!M10,発注者入力シート!$C$25:$C$28,0),9) -> 配置なし | AO34: =IF(企業入力シート!C20="","配置なし","配置あり") -> 配置なし | AR34: =IF(企業入力シート!C20="","配置なし","配置あり") -> 配置なし | AS34: 今回、押印済資料（収受印）での提出の有無 | AT34: =INDEX(発注者入力シート!$B$25:$J$28,MATCH(発注者入力シート!M9,発注者入力シート!$C$25:$C$28,0),9) -> 配置なし | AU34: =IF(企業入力シート!C20="","配置なし","配置あり") -> 配置なし | AY34: 今回、押印済資料（収受印）での提出の有無 | AZ34: =INDEX(発注者入力シート!$B$29:$J$38,MATCH(発注者入力シート!N10,発注者入力シート!$C$29:$C$38,0),7) -> 未記入 | BB34: 今回、押印済資料（収受印）での提出の有無 | BC34: =INDEX(発注者入力シート!$B$29:$J$38,MATCH(発注者入力シート!N13,発注者入力シート!$C$29:$C$38,0),7) -> 未記入
A36: 以下、集計専用表（コピー箇所ではありません）
B37: a0 | C37: 企業 | F37: 企業 | I37: 企業 | L37: 企業 | O37: 配置予定技術者① | R37: 配置予定技術者① | U37: 配置予定技術者① | X37: 配置予定技術者① | AA37: 配置予定技術者② | AD37: 配置予定技術者② | AG37: 配置予定技術者② | AJ37: 配置予定技術者② | AM37: 配置予定技術者③ | AP37: 配置予定技術者③ | AS37: 配置予定技術者③ | AV37: 配置予定技術者③ | AY37: 地域貢献・その他 | BB37: 地域貢献・その他 | BE37: 地域貢献・その他 | BH37: 地域貢献・その他 | BK37: 地域貢献・その他【建築】 | BN37: 地域貢献・その他【建築】 | BQ37: 地域貢献・その他 | BT37: 地域貢献・その他 | BW37: 地域貢献・その他 | BZ37: 地域貢献・その他 | CC37: 地域貢献・その他 | CF37: 地理的条件 | CI37: 地理的条件 | CL37: 地理的条件
B38: a1 | C38: 工事成績評定点 | F38: 施工実績 | I38: 優良工事表彰 | L38: 予備欄 | O38: 工事成績評定点 | R38: 施工経験 | U38: 継続学習 | X38: 予備欄② | AA38: 工事成績評定点 | AD38: 施工経験 | AG38: 継続学習 | AJ38: 予備欄② | AM38: 工事成績評定点 | AP38: 施工経験 | AS38: 継続学習 | AV38: 予備欄 | AY38: ボランティア | BB38: 労働福祉関連 | BE38: 登録基幹技能者 | BH38: 消防団協力事業所 | BK38: 応急危険度判定士派遣協力事業者 | BN38: 応急復旧相談員の登録 | BQ38: 若手技術者・従業員の新規雇用 | BT38: CCUSの活用 | BW38: 予備欄 | BZ38: 予備欄 | CC38: 予備欄 | CF38: 近隣地域での施工実績 | CI38: 会社所在地
B39: a | C39: 完成年度 | D39: =IF('企業成績評定点 (5年用)'!D7="","",'企業成績評定点 (5年用)'!D7) -> 令和３年度から令和７年度（完成及び引き渡しが完了） | F39: 対象期間 | G39: =IF(同種工事施工実績!F6="","",同種工事施工実績!F6) -> 平成２８年度から入札公告日前日までに完成及び引き渡しが完了した工事 | I39: 対象年度・機関等 | J39: =IF(優良工事表彰!E6="","",優良工事表彰!E6) -> 島根県内の公共事業において、令和４年度から令和８年度に、島根県及び中国地方整備局発注工事で受けた建築部門の優良工事表彰（優良工事施工団体表彰） | O39: 完成年度 | P39: =IF(【建築】技術者成績評定点!F9="","",【建築】技術者成績評定点!F9) -> 令和３年度から令和７年度（完成及び引き渡しが完了） | R39: 対象年度・機関等 | S39: =IF(同種工事施工経験!F6="","",同種工事施工経験!F6) -> 平成２８年度から入札公告日前日までに完成及び引き渡しが完了した島根県、島根県内の市町村又は国の機関（独立行政法人等を含みコリンズ登録があるものに限る。）発注工事 | U39: =IF(技術者継続学習!B8="","",技術者継続学習!B8) -> 配置予定の主任（監理）技術者が保有するCPD単位数 | AA39: 完成年度 | AB39: =IF(【建築】技術者成績評定点!F9="","",【建築】技術者成績評定点!F9) -> 令和３年度から令和７年度（完成及び引き渡しが完了） | AD39: 対象年度・機関等 | AE39: =IF(同種工事施工経験!F6="","",同種工事施工経験!F6) -> 平成２８年度から入札公告日前日までに完成及び引き渡しが完了した島根県、島根県内の市町村又は国の機関（独立行政法人等を含みコリンズ登録があるものに限る。）発注工事 | AG39: =IF(技術者継続学習!B8="","",技術者継続学習!B8) -> 配置予定の主任（監理）技術者が保有するCPD単位数 | AM39: 完成年度 | AN39: =IF(【建築】技術者成績評定点!F9="","",【建築】技術者成績評定点!F9) -> 令和３年度から令和７年度（完成及び引き渡しが完了） | AP39: 対象年度・機関等 | AQ39: =IF(同種工事施工経験!F6="","",同種工事施工経験!F6) -> 平成２８年度から入札公告日前日までに完成及び引き渡しが完了した島根県、島根県内の市町村又は国の機関（独立行政法人等を含みコリンズ登録があるものに限る。）発注工事 | AS39: =IF(技術者継続学習!B8="","",技術者継続学習!B8) -> 配置予定の主任（監理）技術者が保有するCPD単位数 | AY39: 対象 | AZ39: =IF(ボランティア!B6="","",ボランティア!B6) -> 令和６年度及び令和７年度における島根県内で実施されたボランティア活動又はハートフルしまねへの参加実績 | BB39: 対象 | BC39: 入札公告日前日時点での取り組み状況 | BE39: =IF(登録基幹技能者!B9="","",登録基幹技能者!B9) -> 登録配管基幹技能者の現場への配置 | BH39: 対象 | BI39: =IF(消防団!B9="","",消防団!B9) -> 入札公告日前日時点（令和8年10月1日時点）での消防団協力事業所の認定状況 | BK39: 入札公告日前日時点において、「島根県地震被災建築物応急危険度判定士派遣協力事業者」の登録を受けた企業の、応急危険度判定士の派遣登録をした社員数の合計により評価する。 | BN39: 島根県被災住宅応急復旧相談員の登録 入札公告日前日時点において、「島根県建築住宅施策推進協議会」会員団体に所属する企業の、応急復旧相談員の登録をした社員数の合計により評価する。 | BQ39: 対象 | BR39: =IF(若手技術者・従業員新規雇用!B8="","",若手技術者・従業員新規雇用!B8) -> 令和６年４月１日以降に、若手技術者・若手従業員（３０歳未満の者）の１人以上の新規雇用があること。 | BT39: 対象 | BU39: 当該工事での建設キャリアアップシステム（CCUS）の活用 | CF39: 対象 | CG39: =IF(近隣施工実績!B10="","",近隣施工実績!B10) -> 令和6年度から令和7年度に完成及び引き渡しが完了した島根県（総務部（企業局及び病院局契約を含み、企業局及び病院局発注工事は除く。）、農林水産部、土木部）発注工事 | CI39: 対象 | CJ39: =IF(会社所在地!B10="","",会社所在地!B10) -> 入札公告日前日において、評価対象地域内に建設業法で規定する主たる営業所（本店）または従たる営業所（支店、営業所）がある者
B40: b | C40: 発注機関 | D40: =IF('企業成績評定点 (5年用)'!D8="","",'企業成績評定点 (5年用)'!D8) -> 島根県（総務部（企業局及び病院局契約を含み、企業局及び病院局発注工事は除く。）、農林水産部、土木部） | F40: 同種工事 | G40: =IF(同種工事施工実績!F10="","",同種工事施工実績!F10) -> １契約で税込み最終金額が４，１００万円以上で、住宅以外の建築物に係る冷暖房衛生設備工事 | O40: 発注機関 | P40: =IF(【建築】技術者成績評定点!F10="","",【建築】技術者成績評定点!F10) -> 島根県（総務部（企業局及び病院局契約を含み、企業局及び病院局発注工事は除く。）、農林水産部、土木部） | R40: 同種工事 | S40: =IF(同種工事施工経験!F8="","",同種工事施工経験!F8) -> １契約で税込み最終金額が２，０００万円以上で、住宅以外の建築物に係る冷暖房衛生設備工事 | AA40: 発注機関 | AB40: =IF(【建築】技術者成績評定点!F10="","",【建築】技術者成績評定点!F10) -> 島根県（総務部（企業局及び病院局契約を含み、企業局及び病院局発注工事は除く。）、農林水産部、土木部） | AD40: 同種工事 | AE40: =IF(同種工事施工経験!F8="","",同種工事施工経験!F8) -> １契約で税込み最終金額が２，０００万円以上で、住宅以外の建築物に係る冷暖房衛生設備工事 | AM40: 発注機関 | AN40: =IF(【建築】技術者成績評定点!F10="","",【建築】技術者成績評定点!F10) -> 島根県（総務部（企業局及び病院局契約を含み、企業局及び病院局発注工事は除く。）、農林水産部、土木部） | AP40: 同種工事 | AQ40: =IF(同種工事施工経験!F8="","",同種工事施工経験!F8) -> １契約で税込み最終金額が２，０００万円以上で、住宅以外の建築物に係る冷暖房衛生設備工事 | CF40: 対象工事 | CG40: =IF(近隣施工実績!F12="","",近隣施工実績!F12) -> 元請または共同企業体（経常ＪＶを除く）の構成員（ただし出資比率２０％以上）として松江県土整備事務所管内において施工した完成及び引き渡しが完了した工事。
B41: c | C41: 工事種別 | D41: =IF('企業成績評定点 (5年用)'!D9="","",'企業成績評定点 (5年用)'!D9) -> 建築物に係る冷暖房衛生設備工事 | F41: 工事種別 | G41: =IF(同種工事施工実績!F8="","",同種工事施工実績!F8) -> 建築物に係る冷暖房衛生設備工事 | I41: 工事種別 | J41: =IF(優良工事表彰!E9="","",優良工事表彰!E9) -> 建築物に係る冷暖房衛生設備工事 | O41: 工事種別 | P41: =IF(【建築】技術者成績評定点!F11="","",【建築】技術者成績評定点!F11) -> 建築物に係る冷暖房衛生設備工事 | R41: 工事種別 | S41: =IF(同種工事施工経験!F11="","",同種工事施工経験!F11) -> 建築物に係る冷暖房衛生設備工事 | AA41: 工事種別 | AB41: =IF(【建築】技術者成績評定点!F11="","",【建築】技術者成績評定点!F11) -> 建築物に係る冷暖房衛生設備工事 | AD41: 工事種別 | AE41: =IF(同種工事施工経験!F11="","",同種工事施工経験!F11) -> 建築物に係る冷暖房衛生設備工事 | AM41: 工事種別 | AN41: =IF(【建築】技術者成績評定点!F11="","",【建築】技術者成績評定点!F11) -> 建築物に係る冷暖房衛生設備工事 | AP41: 工事種別 | AQ41: =IF(同種工事施工経験!F11="","",同種工事施工経験!F11) -> 建築物に係る冷暖房衛生設備工事 | CF41: 工事種別 | CG41: =IF(近隣施工実績!F14="","",近隣施工実績!F14) -> 建築物に係る冷暖房衛生設備工事
B42: d | C42: 建設工事の種類 | D42: =IF('企業成績評定点 (5年用)'!D10="","",'企業成績評定点 (5年用)'!D10) -> 管工事、熱絶縁工事、消防施設工事 | F42: 建設工事の種類 | G42: =IF(同種工事施工実績!F9="","",同種工事施工実績!F9) -> 管工事、熱絶縁工事、消防施設工事 | I42: 建設工事の種類 | J42: =IF(優良工事表彰!E10="","",優良工事表彰!E10) -> 管工事、熱絶縁工事、消防施設工事 | O42: 建設工事の種類 | P42: =IF(【建築】技術者成績評定点!F12="","",【建築】技術者成績評定点!F12) -> 管工事、熱絶縁工事、消防施設工事 | R42: 建設工事の種類 | S42: =IF(同種工事施工経験!F12="","",同種工事施工経験!F12) -> 管工事、熱絶縁工事、消防施設工事 | AA42: 建設工事の種類 | AB42: =IF(【建築】技術者成績評定点!F12="","",【建築】技術者成績評定点!F12) -> 管工事、熱絶縁工事、消防施設工事 | AD42: 建設工事の種類 | AE42: =IF(同種工事施工経験!F12="","",同種工事施工経験!F12) -> 管工事、熱絶縁工事、消防施設工事 | AM42: 建設工事の種類 | AN42: =IF(【建築】技術者成績評定点!F12="","",【建築】技術者成績評定点!F12) -> 管工事、熱絶縁工事、消防施設工事 | AP42: 建設工事の種類 | AQ42: =IF(同種工事施工経験!F12="","",同種工事施工経験!F12) -> 管工事、熱絶縁工事、消防施設工事 | CF42: 建設工事の種類 | CG42: =IF(近隣施工実績!F15="","",近隣施工実績!F15) -> 管工事、熱絶縁工事、消防施設工事 | CI42: 評価地域 | CJ42: =IF(会社所在地!D13="","",会社所在地!D13) -> ○○県土整備事務所管内
B43: e | C43: 該当件数 | D43: 平均点 | F43: 項目名 | G43: 工事① | H43: 工事② | I43: 表彰区分 | J43: 実績 | O43: 該当件数 | P43: 平均点 | R43: 項目名 | S43: 工事① | T43: 工事② | U43: 項目名 | V43: 状況 | AA43: 該当件数 | AB43: 平均点 | AD43: 項目名 | AE43: 工事① | AF43: 工事② | AG43: 項目名 | AH43: 状況 | AM43: 該当件数 | AN43: 平均点 | AP43: 項目名 | AQ43: 工事① | AR43: 工事② | AS43: 項目名 | AT43: 状況 | AY43: 項目名 | AZ43: =発注者入力シート!H11 -> 6 | BA43: =発注者入力シート!G11 -> 7 | BB43: 項目名 | BC43: 状況 | BE43: 項目名 | BF43: 状況 | BH43: 項目名 | BI43: 状況 | BK43: 項目名 | BL43: 登録人数 | BN43: 項目名 | BO43: 登録人数 | BQ43: 項目名 | BR43: 雇用① | BS43: 雇用② | BT43: 項目名 | BU43: 状況 | CF43: 項目名 | CG43: 工事① | CH43: 工事② | CI43: 項目名 | CJ43: 状況
B44: 1 | C44: =IF(OR(COUNTIF(企業入力シート!B26:B29,"○")>0,D34="有"),"",IF('企業成績評定点 (5年用)'!G18="","",'企業成績評定点 (5年用)'!G18)) | D44: =IF(OR(COUNTIF(企業入力シート!B26:B29,"○")>0,D34="有"),"",IF('企業成績評定点 (5年用)'!J18="","",'企業成績評定点 (5年用)'!J18)) | F44: 工事名 | G44: =IF(同種工事施工実績!F14="","申請なし",同種工事施工実績!F14) -> 申請なし | H44: =IF(同種工事施工実績!M14="","申請なし",同種工事施工実績!M14) -> 申請なし | I44: =IF(J34="有","押印済資料提出",IF(J45="","申請なし","工事名")) -> 申請なし | J44: =IF(J34="有","審査済・詳細省略",IF(J45="","",IF(優良工事表彰!E15="","",優良工事表彰!E15))) | O44: =IF(OR(P34="有",Q34="配置なし"),"",IF(【建築】技術者成績評定点!F14="","",【建築】技術者成績評定点!F14)) | P44: =IF(OR(P34="有",Q34="配置なし"),"",IF(【建築】技術者成績評定点!J14="","",【建築】技術者成績評定点!J14)) | R44: 工事名 | S44: =IF(T34="配置なし","配置なし",IF(同種工事施工経験!F15="","申請なし",同種工事施工経験!F15)) -> 配置なし | T44: =IF(T34="配置なし","",IF(同種工事施工経験!M15="","申請なし",同種工事施工経験!M15)) | U44: =IF(V34="有","押印済資料提出",IF(W34="配置なし","配置なし",IF(V44="","申請なし","単位数"))) -> 配置なし | V44: =IF(V34="有","審査済・詳細省略",IF(W34="配置なし","",IF(技術者継続学習!F11="","",技術者継続学習!F11))) | AA44: =IF(OR(AB34="有",AC34="配置なし"),"",IF(【建築】技術者成績評定点!F73="","",【建築】技術者成績評定点!F73)) | AB44: =IF(OR(AB34="有",AC34="配置なし"),"",IF(【建築】技術者成績評定点!J73="","",【建築】技術者成績評定点!J73)) | AD44: 工事名 | AE44: =IF(AF34="配置なし","配置なし",IF(同種工事施工経験!F136="","申請なし",同種工事施工経験!F136)) -> 配置なし | AF44: =IF(AF34="配置なし","",IF(同種工事施工経験!M136="","申請なし",同種工事施工経験!M136)) | AG44: =IF(AH34="有","押印済資料提出",IF(AI34="配置なし","配置なし",IF(AH44="","申請なし","単位数"))) -> 配置なし | AH44: =IF(AH34="有","審査済・詳細省略",IF(AI34="配置なし","",IF(技術者継続学習!R11="","",技術者継続学習!R11))) | AM44: =IF(OR(AN34="有",AO34="配置なし"),"",IF(【建築】技術者成績評定点!F133="","",【建築】技術者成績評定点!F133)) | AN44: =IF(OR(AN34="有",AO34="配置なし"),"",IF(【建築】技術者成績評定点!J133="","",【建築】技術者成績評定点!J133)) | AP44: 工事名 | AQ44: =IF(AR34="配置なし","配置なし",IF(同種工事施工経験!F186="","申請なし",同種工事施工経験!F186)) -> 配置なし | AR44: =IF(AR34="配置なし","",IF(同種工事施工経験!M186="","申請なし",同種工事施工経験!M186)) | AS44: =IF(AT34="有","押印済資料提出",IF(AU34="配置なし","配置なし",IF(AT44="","申請なし","単位数"))) -> 配置なし | AT44: =IF(AT34="有","審査済・詳細省略",IF(AU34="配置なし","",IF(技術者継続学習!AD11="","",技術者継続学習!AD11))) | AY44: =IF(企業入力シート!B32="○","事前審査・証明書提出",IF(AZ34="有","押印済資料提出","ボランティア活動内容")) -> ボランティア活動内容 | AZ44: =IF(OR(企業入力シート!B32="○",AZ34="有"),"審査済・詳細省略",IF(ボランティア!F10="","申請なし",ボランティア!F10)) -> 申請なし | BA44: =IF(OR(企業入力シート!B32="○",AZ34="有"),"審査済・詳細省略",IF(ボランティア!F13="","申請なし",ボランティア!F13)) -> 申請なし | BE44: 配置の有無 | BF44: =IF(登録基幹技能者!E10="","申請なし",登録基幹技能者!E10) -> 申請なし | BH44: 認定有無 | BI44: =IF(消防団!L10="","申請なし",消防団!L10) -> 申請なし | BK44: 判定士登録番号 | BL44: =IF(【建築】応急危険度判定士!L15="","",【建築】応急危険度判定士!L15) | BN44: 登録番号 | BO44: =IF(【建築】応急復旧相談員!L15="","",【建築】応急復旧相談員!L15) | BQ44: 雇用の内容 | BR44: =IF(若手技術者・従業員新規雇用!H14="","申請なし",IF(若手技術者・従業員新規雇用!H18="有","若手技術者(指定学科卒)",IF(若手技術者・従業員新規雇用!H28="有","若手技術者(資格有)",IF(若手技術者・従業員新規雇用!H33="有","若手従業員","無")))) -> 申請なし | BS44: =IF(若手技術者・従業員新規雇用!M14="","申請なし",IF(若手技術者・従業員新規雇用!M18="有","若手技術者(指定学科卒)",IF(若手技術者・従業員新規雇用!M28="有","若手技術者(資格有)",IF(若手技術者・従業員新規雇用!M33="有","若手従業員","無")))) -> 申請なし | BT44: 確約書の提出 | BU44: =IF('建設キャリアアップシステム(CCUS)'!E11="","無",'建設キャリアアップシステム(CCUS)'!E11) -> 無 | CF44: 工事名 | CG44: =IF(近隣施工実績!F18="","申請なし",近隣施工実績!F18) -> 申請なし | CH44: =IF(近隣施工実績!M18="","申請なし",近隣施工実績!M18) -> 申請なし | CI44: 住所 | CJ44: =IF(CJ45="","申請なし",IF(会社所在地!F16="","",会社所在地!F16))
B45: 2 | C45: =IF(OR(COUNTIF(企業入力シート!B26:B29,"○")>0,D34="有"),"↑件数直接入力",IF(D34="無","申請あり","")) | D45: =IF(OR(COUNTIF(企業入力シート!B26:B29,"○")>0,D34="有"),"↑平均点直接入力","") | F45: 発注機関 | G45: =IF(G44="申請なし","",IF(同種工事施工実績!F19="","",同種工事施工実績!F19)) | H45: =IF(H44="申請なし","",IF(同種工事施工実績!M19="","",同種工事施工実績!M19)) | I45: =IF(OR(J34="有",J45=""),"","表彰種類") | J45: =IF(J34="有","",IF(優良工事表彰!E13="","",優良工事表彰!E13)) | O45: =IF(P34="有","押印済資料提出",IF(Q34="配置なし","配置なし",IF(AND(OR(P34="無",P34="未記入"),Q34="配置あり",NOT(O44="")),"申請あり",IF(AND(OR(P34="無",P34="未記入"),Q34="配置あり",O44=""),"申請なし","")))) -> 配置なし | R45: 発注機関 | S45: =IF(OR(S44="配置なし",S44="申請なし"),"",IF(同種工事施工経験!F20="","",同種工事施工経験!F20)) | T45: =IF(OR(T44="",T44="申請なし"),"",IF(同種工事施工経験!M20="","",同種工事施工経験!M20)) | AA45: =IF(AB34="有","押印済資料提出",IF(AC34="配置なし","配置なし",IF(AND(OR(AB34="無",AB34="未記入"),AC34="配置あり",NOT(AA44="")),"申請あり",IF(AND(OR(AB34="無",AB34="未記入"),AC34="配置あり",AA44=""),"申請なし","")))) -> 配置なし | AD45: 発注機関 | AE45: =IF(OR(AE44="配置なし",AE44="申請なし"),"",IF(同種工事施工経験!F141="","",同種工事施工経験!F141)) | AF45: =IF(OR(AF44="",AF44="申請なし"),"",IF(同種工事施工経験!M141="","",同種工事施工経験!M141)) | AM45: =IF(AN34="有","押印済資料提出",IF(AO34="配置なし","配置なし",IF(AND(OR(AN34="無",AN34="未記入"),AO34="配置あり",NOT(AM44="")),"申請あり",IF(AND(OR(AN34="無",AN34="未記入"),AO34="配置あり",AM44=""),"申請なし","")))) -> 配置なし | AP45: 発注機関 | AQ45: =IF(OR(AQ44="配置なし",AQ44="申請なし"),"",IF(同種工事施工経験!F191="","",同種工事施工経験!F191)) | AR45: =IF(OR(AR44="",AR44="申請なし"),"",IF(同種工事施工経験!M191="","",同種工事施工経験!M191)) | AY45: =IF(OR(企業入力シート!B32="○",AZ34="有"),"",IF(AND(AZ44="申請なし",BA44="申請なし"),"","活動日")) | AZ45: =IF(OR(AZ34="有",AZ44="審査済・詳細省略",AZ44="申請なし"),"",IF(ボランティア!C10="","",ボランティア!C10)) | BA45: =IF(OR(AZ34="有",BA44="審査済・詳細省略",BA44="申請なし"),"",IF(ボランティア!C13="","",ボランティア!C13)) | BL45: =IF(【建築】応急危険度判定士!L16="","",【建築】応急危険度判定士!L16) | BO45: =IF(【建築】応急復旧相談員!L16="","",【建築】応急復旧相談員!L16) | BQ45: =IF(AND(BR44="申請なし",BS44="申請なし"),"","生年月日") | BR45: =IF(OR(BI44="申請なし",BI44="無"),"",若手技術者・従業員新規雇用!H15) | BS45: =IF(OR(BJ44="申請なし",BJ44="無"),"",若手技術者・従業員新規雇用!M15) -> 0 | CF45: 発注機関 | CG45: =IF(EI44="申請なし","",IF(近隣施工実績!F23="","",近隣施工実績!F23)) | CH45: =IF(EJ44="申請なし","",IF(近隣施工実績!M23="","",近隣施工実績!M23)) | CI45: 種類 | CJ45: =IF(会社所在地!A16="","",会社所在地!A16) -> 本店
B46: 3 | C46: =IF(COUNTIF(企業入力シート!B26:B29,"○")>0,"事前審査・証明書提出",IF(D34="有","押印済資料提出","")) | F46: 工事種別 | G46: =IF(G44="申請なし","",IF(同種工事施工実績!F20="","",同種工事施工実績!F20)) | H46: =IF(H44="申請なし","",IF(同種工事施工実績!M20="","",同種工事施工実績!M20)) | I46: =IF(OR(J34="有",J45=""),"","受賞年度") | J46: =IF(OR(J34="有",J45=""),"",IF(優良工事表彰!E14="","",優良工事表彰!E14)) | R46: 施工場所 | S46: =IF(OR(S44="配置なし",S44="申請なし"),"",IF(同種工事施工経験!F21="","",同種工事施工経験!F21)) | T46: =IF(OR(T44="",T44="申請なし"),"",IF(同種工事施工経験!M21="","",同種工事施工経験!M21)) | AD46: 施工場所 | AE46: =IF(OR(AE44="配置なし",AE44="申請なし"),"",IF(同種工事施工経験!F142="","",同種工事施工経験!F142)) | AF46: =IF(OR(AF44="",AF44="申請なし"),"",IF(同種工事施工経験!M142="","",同種工事施工経験!M142)) | AP46: 施工場所 | AQ46: =IF(OR(AQ44="配置なし",AQ44="申請なし"),"",IF(同種工事施工経験!F192="","",同種工事施工経験!F192)) | AR46: =IF(OR(AR44="",AR44="申請なし"),"",IF(同種工事施工経験!M192="","",同種工事施工経験!M192)) | AY46: =IF(OR(企業入力シート!B32="○",AZ34="有"),"",IF(AND(AZ44="申請なし",BA44=""),"申請なし","参加人数")) -> 参加人数 | AZ46: =IF(OR(AZ34="有",AZ44="審査済・詳細省略",AZ44="申請なし"),"",IF(ボランティア!L10="","",ボランティア!L10)) | BA46: =IF(OR(AZ34="有",BA44="審査済・詳細省略",BA44="申請なし"),"",IF(ボランティア!L13="","",ボランティア!L13)) | BL46: =IF(【建築】応急危険度判定士!L17="","",【建築】応急危険度判定士!L17) | BO46: =IF(【建築】応急復旧相談員!L17="","",【建築】応急復旧相談員!L17) | BQ46: =IF(AND(BR44="申請なし",BS44="申請なし"),"","雇用年月日") | BR46: =IF(OR(BI44="申請なし",BI44="無"),"",若手技術者・従業員新規雇用!H16) | BS46: =IF(OR(BJ44="申請なし",BJ44="無"),"",若手技術者・従業員新規雇用!M16) -> 0 | CF46: 施工場所 | CG46: =IF(EI44="申請なし","",IF(近隣施工実績!F26="","",近隣施工実績!F26)) | CH46: =IF(EJ44="申請なし","",IF(近隣施工実績!M26="","",近隣施工実績!M26))
B47: 4 | F47: 建設工事の種類 | G47: =IF(G44="申請なし","",IF(同種工事施工実績!F21="","",同種工事施工実績!F21)) | H47: =IF(H44="申請なし","",IF(同種工事施工実績!M21="","",同種工事施工実績!M21)) | I47: =IF(OR(J34="有",J45=""),"","工事種別") | J47: =IF(OR(J34="有",J45=""),"",IF(優良工事表彰!E17="","",優良工事表彰!E17)) | R47: 請負金額 | S47: =IF(OR(S44="配置なし",S44="申請なし"),"",IF(同種工事施工経験!F23="","",同種工事施工経験!F23)) | T47: =IF(OR(T44="",T44="申請なし"),"",IF(同種工事施工経験!M23="","",同種工事施工経験!M23)) | AD47: 請負金額 | AE47: =IF(OR(AE44="配置なし",AE44="申請なし"),"",IF(同種工事施工経験!F144="","",同種工事施工経験!F144)) | AF47: =IF(OR(AF44="",AF44="申請なし"),"",IF(同種工事施工経験!M144="","",同種工事施工経験!M144)) | AP47: 請負金額 | AQ47: =IF(OR(AQ44="配置なし",AQ44="申請なし"),"",IF(同種工事施工経験!F194="","",同種工事施工経験!F194)) | AR47: =IF(OR(AR44="",AR44="申請なし"),"",IF(同種工事施工経験!M194="","",同種工事施工経験!M194)) | AY47: =IF(OR(企業入力シート!B32="○",AZ34="有"),"",IF(AND(AZ44="申請なし",BA44="申請なし"),"","従業員数")) | AZ47: =IF(OR(AZ34="有",AZ44="審査済・詳細省略",AZ44="申請なし"),"",IF(ボランティア!N10="","",ボランティア!N10)) | BA47: =IF(OR(AZ34="有",BA44="審査済・詳細省略",BA44="申請なし"),"",IF(ボランティア!N13="","",ボランティア!N13)) | BB47: 障がい者 | BC47: 障がい者雇用数 | BD47: =障がい者雇用!M54 -> 0 | BL47: =IF(【建築】応急危険度判定士!L18="","",【建築】応急危険度判定士!L18) | BO47: =IF(【建築】応急復旧相談員!L18="","",【建築】応急復旧相談員!L18) | CF47: 請負金額 | CG47: =IF(EI44="申請なし","",IF(近隣施工実績!F28="","",近隣施工実績!F28)) | CH47: =IF(EJ44="申請なし","",IF(近隣施工実績!M28="","",近隣施工実績!M28))
B48: 5 | F48: 施工場所 | G48: =IF(G44="申請なし","",IF(同種工事施工実績!F22="","",同種工事施工実績!F22)) | H48: =IF(H44="申請なし","",IF(同種工事施工実績!M22="","",同種工事施工実績!M22)) | I48: =IF(OR(J34="有",J45=""),"","建設工事の種類") | J48: =IF(OR(J34="有",J45=""),"",IF(優良工事表彰!E18="","",優良工事表彰!E18)) | R48: 工期 | S48: =IF(OR(S44="配置なし",S44="申請なし"),"",IF(同種工事施工経験!G24="","",同種工事施工経験!F24&同種工事施工経験!G24&同種工事施工経験!H24&同種工事施工経験!I24&同種工事施工経験!J24&同種工事施工経験!K24&同種工事施工経験!L24&"～"))&IF(OR(S44="配置なし",S44="申請なし"),"",IF(同種工事施工経験!G25="","",同種工事施工経験!F25&同種工事施工経験!G25&同種工事施工経験!H25&同種工事施工経験!I25&同種工事施工経験!J25&同種工事施工経験!K25&同種工事施工経験!L25)) | T48: =IF(OR(T44="",T44="申請なし"),"",IF(同種工事施工経験!N24="","",同種工事施工経験!M24&同種工事施工経験!N24&同種工事施工経験!O24&同種工事施工経験!P24&同種工事施工経験!Q24&同種工事施工経験!R24&同種工事施工経験!S24&"～"))&IF(OR(T44="",T44="申請なし"),"",IF(同種工事施工経験!N25="","",同種工事施工経験!M25&同種工事施工経験!N25&同種工事施工経験!O25&同種工事施工経験!P25&同種工事施工経験!Q25&同種工事施工経験!R25&同種工事施工経験!S25)) | AD48: 工期 | AE48: =IF(OR(AE44="配置なし",AE44="申請なし"),"",IF(OR(同種工事施工経験!G145="",同種工事施工経験!G145="○"),"",同種工事施工経験!F145&同種工事施工経験!G145&同種工事施工経験!H145&同種工事施工経験!I145&同種工事施工経験!J145&同種工事施工経験!K145&同種工事施工経験!L145&"～"))&IF(OR(AE44="配置なし",AE44="申請なし"),"",IF(同種工事施工経験!G146="","",同種工事施工経験!F146&同種工事施工経験!G146&同種工事施工経験!H146&同種工事施工経験!I146&同種工事施工経験!J146&同種工事施工経験!K146&同種工事施工経験!L146)) | AF48: =IF(OR(AF44="",AF44="申請なし"),"",IF(同種工事施工経験!N145="","",同種工事施工経験!M145&同種工事施工経験!N145&同種工事施工経験!O145&同種工事施工経験!P145&同種工事施工経験!Q145&同種工事施工経験!R145&同種工事施工経験!S145&"～"))&IF(OR(AF44="",AF44="申請なし"),"",IF(同種工事施工経験!N146="","",同種工事施工経験!M146&同種工事施工経験!N146&同種工事施工経験!O146&同種工事施工経験!P146&同種工事施工経験!Q146&同種工事施工経験!R146&同種工事施工経験!S146)) | AP48: 工期 | AQ48: =IF(OR(AQ44="配置なし",AQ44="申請なし"),"",IF(同種工事施工経験!G195="","",同種工事施工経験!F195&同種工事施工経験!G195&同種工事施工経験!H195&同種工事施工経験!I195&同種工事施工経験!J195&同種工事施工経験!K195&同種工事施工経験!L195&"～"))&IF(OR(AQ44="配置なし",AQ44="申請なし"),"",IF(同種工事施工経験!G196="","",同種工事施工経験!F196&同種工事施工経験!G196&同種工事施工経験!H196&同種工事施工経験!I196&同種工事施工経験!J196&同種工事施工経験!K196&同種工事施工経験!L196)) | AR48: =IF(OR(AR44="",AR44="申請なし"),"",IF(同種工事施工経験!N195="","",同種工事施工経験!M195&同種工事施工経験!N195&同種工事施工経験!O195&同種工事施工経験!P195&同種工事施工経験!Q195&同種工事施工経験!R195&同種工事施工経験!S195&"～"))&IF(OR(AR44="",AR44="申請なし"),"",IF(同種工事施工経験!N196="","",同種工事施工経験!M196&同種工事施工経験!N196&同種工事施工経験!O196&同種工事施工経験!P196&同種工事施工経験!Q196&同種工事施工経験!R196&同種工事施工経験!S196)) | AY48: =IF(OR(企業入力シート!B32="○",AZ34="有"),"","ﾊｰﾄﾌﾙ活動実績") -> ﾊｰﾄﾌﾙ活動実績 | AZ48: =IF(OR(企業入力シート!B32="○",AZ34="有"),"",IF(ボランティア!C24="","申請なし",ボランティア!C24)) -> 申請なし | BA48: =IF(OR(企業入力シート!B32="○",AZ34="有"),"",IF(ボランティア!C25="","申請なし",ボランティア!C25)) -> 申請なし | BC48: 法定雇用義務数 | BD48: =障がい者雇用!M52 -> 法定雇用義務なし | BL48: =IF(【建築】応急危険度判定士!L19="","",【建築】応急危険度判定士!L19) | BO48: =IF(【建築】応急復旧相談員!L19="","",【建築】応急復旧相談員!L19) | CF48: 工期(始) | CG48: =IF(EI44="申請なし","",IF(近隣施工実績!G29="","",近隣施工実績!F29&近隣施工実績!G29&近隣施工実績!H29&近隣施工実績!I29&近隣施工実績!J29&近隣施工実績!K29&近隣施工実績!L29&"～")) | CH48: =IF(EJ44="申請なし","",IF(近隣施工実績!N29="","",近隣施工実績!M29&近隣施工実績!N29&近隣施工実績!O29&近隣施工実績!P29&近隣施工実績!Q29&近隣施工実績!R29&近隣施工実績!S29&"～"))
B49: 6 | F49: 請負金額 | G49: =IF(G44="申請なし","",IF(同種工事施工実績!F24="","",同種工事施工実績!F24)) | H49: =IF(H44="申請なし","",IF(同種工事施工実績!M24="","",同種工事施工実績!M24)) | R49: 従事 | S49: =IF(OR(S44="配置なし",S44="申請なし"),"",IF(同種工事施工経験!G26="","",同種工事施工経験!F26&同種工事施工経験!G26&同種工事施工経験!H26&同種工事施工経験!I26&同種工事施工経験!J26&同種工事施工経験!K26&同種工事施工経験!L26&"～"))&IF(OR(S44="配置なし",S44="申請なし"),"",IF(同種工事施工経験!G27="","",同種工事施工経験!F27&同種工事施工経験!G27&同種工事施工経験!H27&同種工事施工経験!I27&同種工事施工経験!J27&同種工事施工経験!K27&同種工事施工経験!L27)) | T49: =IF(OR(T44="",T44="申請なし"),"",IF(同種工事施工経験!N26="","",同種工事施工経験!M26&同種工事施工経験!N26&同種工事施工経験!O26&同種工事施工経験!P26&同種工事施工経験!Q26&同種工事施工経験!R26&同種工事施工経験!S26&"～"))&IF(OR(T44="",T44="申請なし"),"",IF(同種工事施工経験!N27="","",同種工事施工経験!M27&同種工事施工経験!N27&同種工事施工経験!O27&同種工事施工経験!P27&同種工事施工経験!Q27&同種工事施工経験!R27&同種工事施工経験!S27)) | AD49: 従事 | AE49: =IF(OR(AE44="配置なし",AE44="申請なし"),"",IF(OR(同種工事施工経験!G147="",同種工事施工経験!G147="○"),"",同種工事施工経験!F147&同種工事施工経験!G147&同種工事施工経験!H147&同種工事施工経験!I147&同種工事施工経験!J147&同種工事施工経験!K147&同種工事施工経験!L147&"～"))&IF(OR(AE44="配置なし",AE44="申請なし"),"",IF(同種工事施工経験!G148="","",同種工事施工経験!F148&同種工事施工経験!G148&同種工事施工経験!H148&同種工事施工経験!I148&同種工事施工経験!J148&同種工事施工経験!K148&同種工事施工経験!L148)) | AF49: =IF(OR(AF44="",AF44="申請なし"),"",IF(同種工事施工経験!N147="","",同種工事施工経験!M147&同種工事施工経験!N147&同種工事施工経験!O147&同種工事施工経験!P147&同種工事施工経験!Q147&同種工事施工経験!R147&同種工事施工経験!S147&"～"))&IF(OR(AF44="",AF44="申請なし"),"",IF(同種工事施工経験!N148="","",同種工事施工経験!M148&同種工事施工経験!N148&同種工事施工経験!O148&同種工事施工経験!P148&同種工事施工経験!Q148&同種工事施工経験!R148&同種工事施工経験!S148)) | AP49: 従事 | AQ49: =IF(OR(AQ44="配置なし",AQ44="申請なし"),"",IF(同種工事施工経験!G197="","",同種工事施工経験!F197&同種工事施工経験!G197&同種工事施工経験!H197&同種工事施工経験!I197&同種工事施工経験!J197&同種工事施工経験!K197&同種工事施工経験!L197&"～"))&IF(OR(AQ44="配置なし",AQ44="申請なし"),"",IF(同種工事施工経験!G198="","",同種工事施工経験!F198&同種工事施工経験!G198&同種工事施工経験!H198&同種工事施工経験!I198&同種工事施工経験!J198&同種工事施工経験!K198&同種工事施工経験!L198)) | AR49: =IF(OR(AR44="",AR44="申請なし"),"",IF(同種工事施工経験!N197="","",同種工事施工経験!M197&同種工事施工経験!N197&同種工事施工経験!O197&同種工事施工経験!P197&同種工事施工経験!Q197&同種工事施工経験!R197&同種工事施工経験!S197&"～"))&IF(OR(AR44="",AR44="申請なし"),"",IF(同種工事施工経験!N198="","",同種工事施工経験!M198&同種工事施工経験!N198&同種工事施工経験!O198&同種工事施工経験!P198&同種工事施工経験!Q198&同種工事施工経験!R198&同種工事施工経験!S198)) | AY49: =IF(OR(企業入力シート!B32="○",AZ34="有"),"",IF(AND(AZ48="申請なし",BA48="申請なし"),"","参加人数")) | AZ49: =IF(OR(企業入力シート!B32="○",AZ34="有",AZ48="申請なし",AZ48="無"),"",IF(ボランティア!I24="","",ボランティア!I24)) | BA49: =IF(OR(企業入力シート!B32="○",AZ34="有",BA48="申請なし",BA48="無"),"",IF(ボランティア!I25="","",ボランティア!I25)) | BC49: 常用雇用労働者数 | BD49: =障がい者雇用!M47 -> 0 | BL49: =IF(【建築】応急危険度判定士!L20="","",【建築】応急危険度判定士!L20) | BO49: =IF(【建築】応急復旧相談員!L20="","",【建築】応急復旧相談員!L20) | CF49: 工期(終) | CG49: =IF(EI44="申請なし","",IF(近隣施工実績!G30="","",近隣施工実績!F30&近隣施工実績!G30&近隣施工実績!H30&近隣施工実績!I30&近隣施工実績!J30&近隣施工実績!K30&近隣施工実績!L30)) | CH49: =IF(EJ44="申請なし","",IF(近隣施工実績!N30="","",近隣施工実績!M30&近隣施工実績!N30&近隣施工実績!O30&近隣施工実績!P30&近隣施工実績!Q30&近隣施工実績!R30&近隣施工実績!S30))
B50: 7 | F50: 工期(始) | G50: =IF(G44="申請なし","",IF(同種工事施工実績!G25="","",同種工事施工実績!F25&同種工事施工実績!G25&同種工事施工実績!H25&同種工事施工実績!I25&同種工事施工実績!J25&同種工事施工実績!K25&同種工事施工実績!L25&"～")) | H50: =IF(H44="申請なし","",IF(同種工事施工実績!N25="","",同種工事施工実績!M25&同種工事施工実績!N25&同種工事施工実績!O25&同種工事施工実績!P25&同種工事施工実績!Q25&同種工事施工実績!R25&同種工事施工実績!S25&"～")) | R50: 工事種別 | S50: =IF(OR(S44="配置なし",S44="申請なし"),"",IF(同種工事施工経験!F31="","",同種工事施工経験!F31)) | T50: =IF(OR(T44="",T44="申請なし"),"",IF(同種工事施工経験!M31="","",同種工事施工経験!M31)) | AD50: 工事種別 | AE50: =IF(OR(AE44="配置なし",AE44="申請なし"),"",IF(同種工事施工経験!F152="","",同種工事施工経験!F152)) | AF50: =IF(OR(AF44="",AF44="申請なし"),"",IF(同種工事施工経験!M152="","",同種工事施工経験!M152)) | AP50: 工事種別 | AQ50: =IF(OR(AQ44="配置なし",AQ44="申請なし"),"",IF(同種工事施工経験!F202="","",同種工事施工経験!F202)) | AR50: =IF(OR(AR44="",AR44="申請なし"),"",IF(同種工事施工経験!M202="","",同種工事施工経験!M202)) | AY50: =IF(OR(企業入力シート!B32="○",AZ34="有"),"",IF(AND(AZ48="申請なし",BA48="申請なし"),"","従業員数")) | AZ50: =IF(OR(企業入力シート!B32="○",AZ34="有",AZ48="申請なし",AZ48="無"),"",IF(ボランティア!L24="","",ボランティア!L24)) | BA50: =IF(OR(企業入力シート!B32="○",AZ34="有",BA48="申請なし",BA48="無"),"",IF(ボランティア!L25="","",ボランティア!L25)) | BB50: 育児介護 | BC50: 法律超える制度 | BD50: =IF(OR(企業入力シート!B35="○",BD34="有"),"",IF(育児・介護休業!K12="","",育児・介護休業!K12)) | BL50: =IF(【建築】応急危険度判定士!L21="","",【建築】応急危険度判定士!L21) | BO50: =IF(【建築】応急復旧相談員!L21="","",【建築】応急復旧相談員!L21) | CF50: 工事成績 | CG50: =IF(EI44="申請なし","",IF(近隣施工実績!F33="","",近隣施工実績!F33)) | CH50: =IF(EJ44="申請なし","",IF(近隣施工実績!M33="","",近隣施工実績!M33))
B51: 8 | F51: 工期(終) | G51: =IF(G44="申請なし","",IF(同種工事施工実績!G26="","",同種工事施工実績!F26&同種工事施工実績!G26&同種工事施工実績!H26&同種工事施工実績!I26&同種工事施工実績!J26&同種工事施工実績!K26&同種工事施工実績!L26)) | H51: =IF(H44="申請なし","",IF(同種工事施工実績!N26="","",同種工事施工実績!M26&同種工事施工実績!N26&同種工事施工実績!O26&同種工事施工実績!P26&同種工事施工実績!Q26&同種工事施工実績!R26&同種工事施工実績!S26)) | R51: 工事の種類 | S51: =IF(OR(S44="配置なし",S44="申請なし"),"",IF(同種工事施工経験!F32="","",同種工事施工経験!F32)) | T51: =IF(OR(T44="",T44="申請なし"),"",IF(同種工事施工経験!M32="","",同種工事施工経験!M32)) | AD51: 建設工事の種類 | AE51: =IF(OR(AE44="配置なし",AE44="申請なし"),"",IF(同種工事施工経験!F153="","",同種工事施工経験!F153)) | AF51: =IF(OR(AF44="",AF44="申請なし"),"",IF(同種工事施工経験!M153="","",同種工事施工経験!M153)) | AP51: 建設工事の種類 | AQ51: =IF(OR(AQ44="配置なし",AQ44="申請なし"),"",IF(同種工事施工経験!F203="","",同種工事施工経験!F203)) | AR51: =IF(OR(AR44="",AR44="申請なし"),"",IF(同種工事施工経験!M203="","",同種工事施工経験!M203)) | BC51: こっころ認定 | BD51: =IF(OR(企業入力シート!B35="○",BD34="有"),"",IF(育児・介護休業!K10="","",育児・介護休業!K10)) | BL51: =IF(【建築】応急危険度判定士!L22="","",【建築】応急危険度判定士!L22) | BO51: =IF(【建築】応急復旧相談員!L22="","",【建築】応急復旧相談員!L22) | CF51: 受注形態 | CG51: =IF(EI44="申請なし","",IF(近隣施工実績!F31="","",近隣施工実績!F31)) | CH51: =IF(EJ44="申請なし","",IF(近隣施工実績!M31="","",近隣施工実績!M31))
B52: 9 | F52: 建物用途 | G52: =IF(G44="申請なし","",IF(同種工事施工実績!F31="","",同種工事施工実績!F31)) | H52: =IF(H44="申請なし","",IF(同種工事施工実績!M31="","",同種工事施工実績!M31)) | R52: 役職 | S52: =IF(OR(S44="配置なし",S44="申請なし"),"",IF(同種工事施工経験!F28="","",同種工事施工経験!F28)) | T52: =IF(OR(T44="",T44="申請なし"),"",IF(同種工事施工経験!M28="","",同種工事施工経験!M28)) | AD52: 役職 | AE52: =IF(OR(AE44="配置なし",AE44="申請なし"),"",IF(同種工事施工経験!F149="","",同種工事施工経験!F149)) | AF52: =IF(OR(AF44="",AF44="申請なし"),"",IF(同種工事施工経験!M149="","",同種工事施工経験!M149)) | AP52: 役職 | AQ52: =IF(OR(AQ44="配置なし",AQ44="申請なし"),"",IF(同種工事施工経験!F199="","",同種工事施工経験!F199)) | AR52: =IF(OR(AR44="",AR44="申請なし"),"",IF(同種工事施工経験!M199="","",同種工事施工経験!M199)) | BC52: こっころ認定期間 | BD52: =IF(OR(企業入力シート!B35="○",BD34="有"),"",IF(育児・介護休業!N10="","",育児・介護休業!N10)) | BL52: =IF(【建築】応急危険度判定士!L23="","",【建築】応急危険度判定士!L23) | BO52: =IF(【建築】応急復旧相談員!L23="","",【建築】応急復旧相談員!L23) | CF52: 出資比率 | CG52: =IF(EI44="申請なし","",IF(近隣施工実績!F32="","",近隣施工実績!F32)) | CH52: =IF(EJ44="申請なし","",IF(近隣施工実績!M32="","",近隣施工実績!M32))
B53: 10 | F53: 構造種別 | G53: =IF(G44="申請なし","",IF(同種工事施工実績!F33="","",同種工事施工実績!F33)) | H53: =IF(H44="申請なし","",IF(同種工事施工実績!M33="","",同種工事施工実績!M33)) | R53: 建物用途 | S53: =IF(OR(S44="配置なし",S44="申請なし"),"",IF(同種工事施工経験!F34="","",同種工事施工経験!F34)) | T53: =IF(OR(T44="",T44="申請なし"),"",IF(同種工事施工経験!M34="","",同種工事施工経験!M34)) | AD53: 建物用途 | AE53: =IF(OR(AE44="配置なし",AE44="申請なし"),"",IF(同種工事施工経験!F155="","",同種工事施工経験!F155)) | AF53: =IF(OR(AF44="",AF44="申請なし"),"",IF(同種工事施工経験!M155="","",同種工事施工経験!M155)) | AP53: 建物用途 | AQ53: =IF(OR(AQ44="配置なし",AQ44="申請なし"),"",IF(同種工事施工経験!F205="","",同種工事施工経験!F205)) | AR53: =IF(OR(AR44="",AR44="申請なし"),"",IF(同種工事施工経験!M205="","",同種工事施工経験!M205)) | BL53: =IF(【建築】応急危険度判定士!L24="","",【建築】応急危険度判定士!L24) | BO53: =IF(【建築】応急復旧相談員!L24="","",【建築】応急復旧相談員!L24) | CF53: 工事種別 | CG53: =IF(EI44="申請なし","",IF(近隣施工実績!F24="","",近隣施工実績!F24)) | CH53: =IF(EJ44="申請なし","",IF(近隣施工実績!M24="","",近隣施工実績!M24))
B54: 11 | G54: =IF(G44="申請なし","",IF(同種工事施工実績!F35="","",同種工事施工実績!F35)) | H54: =IF(H44="申請なし","",IF(同種工事施工実績!M35="","",同種工事施工実績!M35)) | R54: 構造種別 | S54: =IF(OR(S44="配置なし",S44="申請なし"),"",IF(同種工事施工経験!F36="","",同種工事施工経験!F36)) | T54: =IF(OR(T44="",T44="申請なし"),"",IF(同種工事施工経験!M36="","",同種工事施工経験!M36)) | AD54: 構造種別 | AE54: =IF(OR(AE44="配置なし",AE44="申請なし"),"",IF(同種工事施工経験!F157="","",同種工事施工経験!F157)) | AF54: =IF(OR(AF44="",AF44="申請なし"),"",IF(同種工事施工経験!M157="","",同種工事施工経験!M157)) | AP54: 構造種別 | AQ54: =IF(OR(AQ44="配置なし",AQ44="申請なし"),"",IF(同種工事施工経験!F207="","",同種工事施工経験!F207)) | AR54: =IF(OR(AR44="",AR44="申請なし"),"",IF(同種工事施工経験!M207="","",同種工事施工経験!M207)) | BL54: =IF(【建築】応急危険度判定士!L25="","",【建築】応急危険度判定士!L25) | BO54: =IF(【建築】応急復旧相談員!L25="","",【建築】応急復旧相談員!L25) | CF54: 建設工事の種類 | CG54: =IF(EI44="申請なし","",IF(近隣施工実績!F25="","",近隣施工実績!F25)) | CH54: =IF(EJ44="申請なし","",IF(近隣施工実績!M25="","",近隣施工実績!M25))
B55: 12 | G55: =IF(G44="申請なし","",IF(同種工事施工実績!F37="","",同種工事施工実績!F37)) | H55: =IF(H44="申請なし","",IF(同種工事施工実績!M37="","",同種工事施工実績!M37)) | S55: =IF(OR(S44="配置なし",S44="申請なし"),"",IF(同種工事施工経験!F38="","",同種工事施工経験!F38)) | T55: =IF(OR(T44="",T44="申請なし"),"",IF(同種工事施工経験!M38="","",同種工事施工経験!M38)) | AE55: =IF(OR(AE44="配置なし",AE44="申請なし"),"",IF(同種工事施工経験!F159="","",同種工事施工経験!F159)) | AF55: =IF(OR(AF44="",AF44="申請なし"),"",IF(同種工事施工経験!M159="","",同種工事施工経験!M159)) | AQ55: =IF(OR(AQ44="配置なし",AQ44="申請なし"),"",IF(同種工事施工経験!F209="","",同種工事施工経験!F209)) | AR55: =IF(OR(AR44="",AR44="申請なし"),"",IF(同種工事施工経験!M209="","",同種工事施工経験!M209)) | BL55: =IF(【建築】応急危険度判定士!L26="","",【建築】応急危険度判定士!L26) | BO55: =IF(【建築】応急復旧相談員!L26="","",【建築】応急復旧相談員!L26)
B56: 13 | G56: =IF(G44="申請なし","",IF(同種工事施工実績!F39="","",同種工事施工実績!F39)) | H56: =IF(H44="申請なし","",IF(同種工事施工実績!M39="","",同種工事施工実績!M39)) | S56: =IF(OR(S44="配置なし",S44="申請なし"),"",IF(同種工事施工経験!F40="","",同種工事施工経験!F40)) | T56: =IF(OR(T44="",T44="申請なし"),"",IF(同種工事施工経験!M40="","",同種工事施工経験!M40)) | AE56: =IF(OR(AE44="配置なし",AE44="申請なし"),"",IF(同種工事施工経験!F161="","",同種工事施工経験!F161)) | AF56: =IF(OR(AF44="",AF44="申請なし"),"",IF(同種工事施工経験!M161="","",同種工事施工経験!M161)) | AQ56: =IF(OR(AQ44="配置なし",AQ44="申請なし"),"",IF(同種工事施工経験!F211="","",同種工事施工経験!F211)) | AR56: =IF(OR(AR44="",AR44="申請なし"),"",IF(同種工事施工経験!M211="","",同種工事施工経験!M211)) | BK56: 事業者 登録番号 | BL56: =IF(【建築】応急危険度判定士!A9="","申請なし",【建築】応急危険度判定士!A9) -> 申請なし | BN56: 会員団体所属 | BO56: =IF(【建築】応急復旧相談員!G8="","申請なし",【建築】応急復旧相談員!G8) -> 申請なし
B57: 14 | F57: 工事成績 | G57: =IF(G44="申請なし","",IF(同種工事施工実績!F29="","",同種工事施工実績!F29)) | H57: =IF(H44="申請なし","",IF(同種工事施工実績!M29="","",同種工事施工実績!M29)) | R57: 工事成績 | S57: =IF(OR(S44="配置なし",S44="申請なし"),"",IF(同種工事施工経験!F33="","",同種工事施工経験!F33)) | T57: =IF(OR(T44="",T44="申請なし"),"",IF(同種工事施工経験!M33="","",同種工事施工経験!M33)) | AD57: 工事成績 | AE57: =IF(OR(AE44="配置なし",AE44="申請なし"),"",IF(同種工事施工経験!F154="","",同種工事施工経験!F154)) | AF57: =IF(OR(AF44="",AF44="申請なし"),"",IF(同種工事施工経験!M154="","",同種工事施工経験!M154)) | AP57: 工事成績 | AQ57: =IF(OR(AQ44="配置なし",AQ44="申請なし"),"",IF(同種工事施工経験!F204="","",同種工事施工経験!F204)) | AR57: =IF(OR(AR44="",AR44="申請なし"),"",IF(同種工事施工経験!M204="","",同種工事施工経験!M204))
B58: 15 | F58: 受注形態 | G58: =IF(G44="申請なし","",IF(同種工事施工実績!F27="","",同種工事施工実績!F27)) | H58: =IF(H44="申請なし","",IF(同種工事施工実績!M27="","",同種工事施工実績!M27)) | R58: 受注形態 | S58: =IF(OR(S44="配置なし",S44="申請なし"),"",IF(同種工事施工経験!F29="","",同種工事施工経験!F29)) | T58: =IF(OR(T44="",T44="申請なし"),"",IF(同種工事施工経験!M29="","",同種工事施工経験!M29)) | AD58: 受注形態 | AE58: =IF(OR(AE44="配置なし",AE44="申請なし"),"",IF(同種工事施工経験!F150="","",同種工事施工経験!F150)) | AF58: =IF(OR(AF44="",AF44="申請なし"),"",IF(同種工事施工経験!M150="","",同種工事施工経験!M150)) | AP58: 受注形態 | AQ58: =IF(OR(AQ44="配置なし",AQ44="申請なし"),"",IF(同種工事施工経験!F200="","",同種工事施工経験!F200)) | AR58: =IF(OR(AR44="",AR44="申請なし"),"",IF(同種工事施工経験!M200="","",同種工事施工経験!M200))
B59: 16 | F59: 出資比率 | G59: =IF(G44="申請なし","",IF(同種工事施工実績!F28="","",同種工事施工実績!F28)) | H59: =IF(H44="申請なし","",IF(同種工事施工実績!M28="","",同種工事施工実績!M28)) | R59: 出資比率 | S59: =IF(OR(S44="配置なし",S44="申請なし"),"",IF(同種工事施工経験!F30="","",同種工事施工経験!F30)) | T59: =IF(OR(T44="",T44="申請なし"),"",IF(同種工事施工経験!M30="","",同種工事施工経験!M30)) | AD59: 出資比率 | AE59: =IF(OR(AE44="配置なし",AE44="申請なし"),"",IF(同種工事施工経験!F151="","",同種工事施工経験!F151)) | AF59: =IF(OR(AF44="",AF44="申請なし"),"",IF(同種工事施工経験!M151="","",同種工事施工経験!M151)) | AP59: 出資比率 | AQ59: =IF(OR(AQ44="配置なし",AQ44="申請なし"),"",IF(同種工事施工経験!F201="","",同種工事施工経験!F201)) | AR59: =IF(OR(AR44="",AR44="申請なし"),"",IF(同種工事施工経験!M201="","",同種工事施工経験!M201))
B60: 17 | F60: コリンズ | G60: =IF(G44="申請なし","",IF(同種工事施工実績!F18="","",同種工事施工実績!F18)) | H60: =IF(H44="申請なし","",IF(同種工事施工実績!M18="","",同種工事施工実績!M18)) | R60: コリンズ | S60: =IF(OR(S44="配置なし",S44="申請なし"),"",IF(同種工事施工経験!F19="","",同種工事施工経験!F19)) | T60: =IF(OR(T44="",T44="申請なし"),"",IF(同種工事施工経験!M19="","",同種工事施工経験!M19)) | AD60: コリンズ | AE60: =IF(OR(AE44="配置なし",AE44="申請なし"),"",IF(同種工事施工経験!F140="","",同種工事施工経験!F140)) | AF60: =IF(OR(AF44="",AF44="申請なし"),"",IF(同種工事施工経験!M140="","",同種工事施工経験!M140)) | AP60: コリンズ | AQ60: =IF(OR(AQ44="配置なし",AQ44="申請なし"),"",IF(同種工事施工経験!F190="","",同種工事施工経験!F190)) | AR60: =IF(OR(AR44="",AR44="申請なし"),"",IF(同種工事施工経験!M190="","",同種工事施工経験!M190))
B62: ・各様式に記載された内容をこのシートの集計専用表で数式によりリンクさせています。
B63: ・集計専用表で集計した内容をコピー専用表で再集計していますので、企業申請内容の行数は１７行から８行に減っています。

Sheet 表紙
A1: 様式－１ | S1: 着色セルの凡例
M2: 提出日 | N2: =IF(企業入力シート!C4="","",企業入力シート!C4) -> 46258 | S2: （企業）
T3: ：「企業入力シート」で入力（数式リンク有）
A4: （ 特別簡易型 総合評価方式 ） | T4: ：セルに直接入力が必要な箇所
A5: 総 合 評 価 技 術 資 料
S6: （発注者）
A7: 発注者 | T7: ：「発注者入力シート」で入力（数式リンク有）
A8: =CONCATENATE(" ",発注者入力シート!C6,IF(COUNTIF(発注者入力シート!C6,"*センター*"),"所長","長")," ","様") -> 総務部営繕課長 様 | T8: ：セルに直接入力が必要な箇所
S10: 【印刷について】
H11: 住所 | J11: =IF(企業入力シート!C6="","",企業入力シート!C6) | S11: このシートは「ページ設定」で「白黒印刷」と「印刷範囲」が設定されています。
G13: 商号又は名称 | J13: =IF(企業入力シート!C7="","",企業入力シート!C7) -> ○○建設
G14: 代表者氏名 | J14: =IF(企業入力シート!C8="","",企業入力シート!C8) -> ○○ ○○
A17: =CONCATENATE(" ","令和",(YEAR(発注者入力シート!C7)-2018),"年",MONTH(発注者入力シート!C7),"月",DAY(発注者入力シート!C7),"日付けで入札公告のありました下記工事について、別添のとおり書類を添えて提出いたします。") -> 令和8年10月2日付けで入札公告のありました下記工事について、別添のとおり書類を添えて提出いたします。
A20: １ 工事名 | C20: =発注者入力シート!C10 -> 隠岐高等学校長寿命化（受水槽改修外）工事
A22: ２ 提出書類（下記項目の該当するもの）
A23: =IF(AND(IFERROR(OR(発注者入力シート!$L$62="２",発注者入力シート!$L$63="２"),FALSE),企業入力シート!$B$35="○"),"",IF(COUNTIF($A$44:$A$50,"*"&VLOOKUP("２",発注者入力シート!$L$41:$N$76,3,FALSE)&"*")>=1,"",INDEX(発注者入力シート!$L$40:$O$82,MATCH("２",発注者入力シート!$L$40:$L$82,0),4))) -> ○企業の工事成績評定点 （様式-２-１、様式-２-２）
A24: =IF(AND(IFERROR(OR(発注者入力シート!$L$62="３",発注者入力シート!$L$63="３"),FALSE),企業入力シート!$B$35="○"),"",IF(COUNTIF($A$44:$A$50,"*"&VLOOKUP("３",発注者入力シート!$L$41:$N$76,3,FALSE)&"*")>=1,"",INDEX(発注者入力シート!$L$40:$O$82,MATCH("３",発注者入力シート!$L$40:$L$82,0),4))) -> ○企業の同種工事の施工実績 （様式-３）
A25: =IF(AND(IFERROR(OR(発注者入力シート!$L$62="４",発注者入力シート!$L$63="４"),FALSE),企業入力シート!$B$35="○"),"",IF(COUNTIF($A$44:$A$50,"*"&VLOOKUP("４",発注者入力シート!$L$41:$N$76,3,FALSE)&"*")>=1,"",INDEX(発注者入力シート!$L$40:$O$82,MATCH("４",発注者入力シート!$L$40:$L$82,0),4))) -> ○企業の優良工事表彰（優良工事施工団体表彰） （様式-４）
A26: =IF(AND(IFERROR(OR(発注者入力シート!$L$62="５",発注者入力シート!$L$63="５"),FALSE),企業入力シート!$B$35="○"),"",IF(COUNTIF($A$44:$A$50,"*"&VLOOKUP("５",発注者入力シート!$L$41:$N$76,3,FALSE)&"*")>=1,"",INDEX(発注者入力シート!$L$40:$O$82,MATCH("５",発注者入力シート!$L$40:$L$82,0),4))) -> ○配置予定技術者の工事成績評定点 （様式-５-１、様式-５-２）
A27: =IF(AND(IFERROR(OR(発注者入力シート!$L$62="６",発注者入力シート!$L$63="６"),FALSE),企業入力シート!$B$35="○"),"",IF(COUNTIF($A$44:$A$50,"*"&VLOOKUP("６",発注者入力シート!$L$41:$N$76,3,FALSE)&"*")>=1,"",INDEX(発注者入力シート!$L$40:$O$82,MATCH("６",発注者入力シート!$L$40:$L$82,0),4))) -> ○配置予定技術者の同種工事の施工経験 （様式-６）
A28: =IF(AND(IFERROR(OR(発注者入力シート!$L$62="７",発注者入力シート!$L$63="７"),FALSE),企業入力シート!$B$35="○"),"",IF(COUNTIF($A$44:$A$50,"*"&VLOOKUP("７",発注者入力シート!$L$41:$N$76,3,FALSE)&"*")>=1,"",INDEX(発注者入力シート!$L$40:$O$82,MATCH("７",発注者入力シート!$L$40:$L$82,0),4))) -> ○配置予定技術者の継続学習 （様式-７）
A29: =IF(AND(IFERROR(OR(発注者入力シート!$L$62="８",発注者入力シート!$L$63="８"),FALSE),企業入力シート!$B$35="○"),"",IF(COUNTIF($A$44:$A$50,"*"&VLOOKUP("８",発注者入力シート!$L$41:$N$76,3,FALSE)&"*")>=1,"",INDEX(発注者入力シート!$L$40:$O$82,MATCH("８",発注者入力シート!$L$40:$L$82,0),4))) -> ○ボランティア活動又はハートフルしまねへの参加実績 （様式-８）
A30: =IF(AND(IFERROR(OR(発注者入力シート!$L$62="９",発注者入力シート!$L$63="９"),FALSE),企業入力シート!$B$35="○"),"",IF(COUNTIF($A$44:$A$50,"*"&VLOOKUP("９",発注者入力シート!$L$41:$N$76,3,FALSE)&"*")>=1,"",INDEX(発注者入力シート!$L$40:$O$82,MATCH("９",発注者入力シート!$L$40:$L$82,0),4))) -> ○労働福祉関連の状況(a 障がい者雇用の実態) （様式-９）
A31: =IF(AND(IFERROR(OR(発注者入力シート!$L$62="１０",発注者入力シート!$L$63="１０"),FALSE),企業入力シート!$B$35="○"),"",IF(COUNTIF($A$44:$A$50,"*"&VLOOKUP("１０",発注者入力シート!$L$41:$N$76,3,FALSE)&"*")>=1,"",INDEX(発注者入力シート!$L$40:$O$82,MATCH("１０",発注者入力シート!$L$40:$L$82,0),4))) -> ○労働福祉関連の状況(b 育児・介護休業に関する制度) （様式-１０）
A32: =IF(AND(IFERROR(OR(発注者入力シート!$L$62="１１",発注者入力シート!$L$63="１１"),FALSE),企業入力シート!$B$35="○"),"",IF(COUNTIF($A$44:$A$50,"*"&VLOOKUP("１１",発注者入力シート!$L$41:$N$76,3,FALSE)&"*")>=1,"",INDEX(発注者入力シート!$L$40:$O$82,MATCH("１１",発注者入力シート!$L$40:$L$82,0),4))) -> ○育児・介護休業に関する制度 チェック表 （様式-１１）
A33: =IF(AND(IFERROR(OR(発注者入力シート!$L$62="１２",発注者入力シート!$L$63="１２"),FALSE),企業入力シート!$B$35="○"),"",IF(COUNTIF($A$44:$A$50,"*"&VLOOKUP("１２",発注者入力シート!$L$41:$N$76,3,FALSE)&"*")>=1,"",INDEX(発注者入力シート!$L$40:$O$82,MATCH("１２",発注者入力シート!$L$40:$L$82,0),4))) -> ○消防団協力事業所の認定 （様式-１２）
A34: =IF(AND(IFERROR(OR(発注者入力シート!$L$62="１３",発注者入力シート!$L$63="１３"),FALSE),企業入力シート!$B$35="○"),"",IF(COUNTIF($A$44:$A$50,"*"&VLOOKUP("１３",発注者入力シート!$L$41:$N$76,3,FALSE)&"*")>=1,"",INDEX(発注者入力シート!$L$40:$O$82,MATCH("１３",発注者入力シート!$L$40:$L$82,0),4))) -> ○登録基幹技能者の配置 （様式-１３）
A35: =IF(AND(IFERROR(OR(発注者入力シート!$L$62="１４",発注者入力シート!$L$63="１４"),FALSE),企業入力シート!$B$35="○"),"",IF(COUNTIF($A$44:$A$50,"*"&VLOOKUP("１４",発注者入力シート!$L$41:$N$76,3,FALSE)&"*")>=1,"",INDEX(発注者入力シート!$L$40:$O$82,MATCH("１４",発注者入力シート!$L$40:$L$82,0),4))) -> ○島根県被災住宅応急復旧相談員の登録 （様式-１４）
A36: =IF(AND(IFERROR(OR(発注者入力シート!$L$62="１５",発注者入力シート!$L$63="１５"),FALSE),企業入力シート!$B$35="○"),"",IF(COUNTIF($A$44:$A$50,"*"&VLOOKUP("１５",発注者入力シート!$L$41:$N$76,3,FALSE)&"*")>=1,"",INDEX(発注者入力シート!$L$40:$O$82,MATCH("１５",発注者入力シート!$L$40:$L$82,0),4))) -> ○若手技術者・若手従業員の新規雇用 （様式-１５）
A37: =IF(AND(IFERROR(OR(発注者入力シート!$L$62="１６",発注者入力シート!$L$63="１６"),FALSE),企業入力シート!$B$35="○"),"",IF(COUNTIF($A$44:$A$50,"*"&VLOOKUP("１６",発注者入力シート!$L$41:$N$76,3,FALSE)&"*")>=1,"",INDEX(発注者入力シート!$L$40:$O$82,MATCH("１６",発注者入力シート!$L$40:$L$82,0),4))) -> #N/A
A38: =IF(AND(IFERROR(OR(発注者入力シート!$L$62="１７",発注者入力シート!$L$63="１７"),FALSE),企業入力シート!$B$35="○"),"",IF(COUNTIF($A$44:$A$50,"*"&VLOOKUP("１７",発注者入力シート!$L$41:$N$76,3,FALSE)&"*")>=1,"",INDEX(発注者入力シート!$L$40:$O$82,MATCH("１７",発注者入力シート!$L$40:$L$82,0),4))) -> #N/A
A39: =IF(AND(IFERROR(OR(発注者入力シート!$L$62="１８",発注者入力シート!$L$63="１８"),FALSE),企業入力シート!$B$35="○"),"",IF(COUNTIF($A$44:$A$50,"*"&VLOOKUP("１８",発注者入力シート!$L$41:$N$76,3,FALSE)&"*")>=1,"",INDEX(発注者入力シート!$L$40:$O$82,MATCH("１８",発注者入力シート!$L$40:$L$82,0),4))) -> #N/A
A40: =IF(AND(IFERROR(OR(発注者入力シート!$L$62="１９",発注者入力シート!$L$63="１９"),FALSE),企業入力シート!$B$35="○"),"",IF(COUNTIF($A$44:$A$50,"*"&VLOOKUP("１９",発注者入力シート!$L$41:$N$76,3,FALSE)&"*")>=1,"",INDEX(発注者入力シート!$L$40:$O$82,MATCH("１９",発注者入力シート!$L$40:$L$82,0),4))) -> #N/A
A41: =IF(AND(IFERROR(OR(発注者入力シート!$L$62="２０",発注者入力シート!$L$63="２０"),FALSE),企業入力シート!$B$35="○"),"",IF(COUNTIF($A$44:$A$50,"*"&VLOOKUP("２０",発注者入力シート!$L$41:$N$76,3,FALSE)&"*")>=1,"",INDEX(発注者入力シート!$L$40:$O$82,MATCH("２０",発注者入力シート!$L$40:$L$82,0),4))) -> #N/A
A43: =IF(企業入力シート!A25=0,"","※事前審査・証明書による提出（技術資料及び添付資料省略）")
A44: =IF(企業入力シート!$A$25>0," ・"&VLOOKUP(1,企業入力シート!$A$26:$I$35,3,FALSE),"")
A45: =IF(企業入力シート!$A$25>1," ・"&VLOOKUP(2,企業入力シート!$A$26:$I$35,3,FALSE),"")
A46: =IF(企業入力シート!$A$25>2," ・"&VLOOKUP(3,企業入力シート!$A$26:$I$35,3,FALSE),"")
A47: =IF(企業入力シート!$A$25>3," ・"&VLOOKUP(4,企業入力シート!$A$26:$I$35,3,FALSE),"")
A48: =IF(企業入力シート!$A$25>4," ・"&VLOOKUP(5,企業入力シート!$A$26:$I$35,3,FALSE),"")
A49: =IF(企業入力シート!$A$25>5," ・"&VLOOKUP(6,企業入力シート!$A$26:$I$35,3,FALSE),"")
A50: =IF(企業入力シート!$A$25>6," ・"&VLOOKUP(7,企業入力シート!$A$26:$I$35,3,FALSE),"")
A52: ３ 問い合わせ先
B53: 担当者 | D53: =IF(企業入力シート!C9="","",企業入力シート!C9)
B54: 部署 | D54: =IF(企業入力シート!C10="","",企業入力シート!C10)
B55: 電話番号 | D55: =IF(企業入力シート!C11="","",企業入力シート!C11)
B56: FAX番号 | D56: =IF(企業入力シート!C12="","",企業入力シート!C12)
B57: Ｅ－ｍａｉｌ | D57: =IF(企業入力シート!C13="","",企業入力シート!C13)

Sheet 企業成績評定点 (5年用)
A1: =CONCATENATE("（様式-",INDEX(発注者入力シート!$B$20:$G$24,MATCH(発注者入力シート!L6,発注者入力シート!$C$20:$C$24,0),4),"-１）") -> （様式-２-１） | P1: 【5年用】 | R1: 着色セルの凡例
A2: =CONCATENATE("評価項目",INDEX(発注者入力シート!$B$20:$G$24,MATCH(発注者入力シート!L6,発注者入力シート!$C$20:$C$24,0),5),"-",INDEX(発注者入力シート!$B$20:$G$24,MATCH(発注者入力シート!L6,発注者入力シート!$C$20:$C$24,0),6)) -> 評価項目（１）-① | R2: （企業）
A3: 企業の工事成績評定点 | S3: ：「企業入力シート」で入力（数式リンク有）
C4: 会社（企業体）名： | F4: =IF(企業入力シート!C7="","",企業入力シート!C7) -> ○○建設 | S4: ：リストから選択が必要な箇所
A6: 対象工事 | R6: （発注者）
A7: 完成年度 | D7: 令和３年度から令和７年度（完成及び引き渡しが完了） | S7: ：「発注者入力シート」で入力（数式リンク有）
A8: 発注機関 | D8: 島根県（総務部（企業局及び病院局契約を含み、企業局及び病院局発注工事は除く。）、農林水産部、土木部） | S8: ：セルに直接入力が必要な箇所
A9: 工事種別 | D9: =INDEX(発注者入力シート!$AV$3:$BA$9,MATCH(発注者入力シート!$AW$2,発注者入力シート!$AX$3:$AX$9,0),4) -> 建築物に係る冷暖房衛生設備工事
A10: 建設工事の種類 | D10: =INDEX(発注者入力シート!$AV$3:$BA$9,MATCH(発注者入力シート!$AW$2,発注者入力シート!$AX$3:$AX$9,0),5) -> 管工事、熱絶縁工事、消防施設工事
A13: 各工事成績評定点 | D13: 令和２年度 | G13: =IF('評定点一覧(5年用) '!$P8="","",'評定点一覧(5年用) '!$P8) | H13: =IF('評定点一覧(5年用) '!$P9="","",'評定点一覧(5年用) '!$P9) | I13: =IF('評定点一覧(5年用) '!$P10="","",'評定点一覧(5年用) '!$P10) | J13: =IF('評定点一覧(5年用) '!$P11="","",'評定点一覧(5年用) '!$P11) | K13: =IF('評定点一覧(5年用) '!$P12="","",'評定点一覧(5年用) '!$P12) | L13: =IF('評定点一覧(5年用) '!$P13="","",'評定点一覧(5年用) '!$P13) | M13: =IF('評定点一覧(5年用) '!$P14="","",'評定点一覧(5年用) '!$P14) | N13: =IF('評定点一覧(5年用) '!$P15="","",'評定点一覧(5年用) '!$P15) | O13: =IF('評定点一覧(5年用) '!$P16="","",'評定点一覧(5年用) '!$P16) | P13: =IF('評定点一覧(5年用) '!$P17="","",'評定点一覧(5年用) '!$P17)
D14: 令和３年度 | G14: =IF('評定点一覧(5年用) '!$P21="","",'評定点一覧(5年用) '!$P21) | H14: =IF('評定点一覧(5年用) '!$P22="","",'評定点一覧(5年用) '!$P22) | I14: =IF('評定点一覧(5年用) '!$P23="","",'評定点一覧(5年用) '!$P23) | J14: =IF('評定点一覧(5年用) '!$P24="","",'評定点一覧(5年用) '!$P24) | K14: =IF('評定点一覧(5年用) '!$P25="","",'評定点一覧(5年用) '!$P25) | L14: =IF('評定点一覧(5年用) '!$P26="","",'評定点一覧(5年用) '!$P26) | M14: =IF('評定点一覧(5年用) '!$P27="","",'評定点一覧(5年用) '!$P27) | N14: =IF('評定点一覧(5年用) '!$P28="","",'評定点一覧(5年用) '!$P28) | O14: =IF('評定点一覧(5年用) '!$P29="","",'評定点一覧(5年用) '!$P29) | P14: =IF('評定点一覧(5年用) '!$P30="","",'評定点一覧(5年用) '!$P30)
D15: 令和４年度 | G15: =IF('評定点一覧(5年用) '!$P34="","",'評定点一覧(5年用) '!$P34) | H15: =IF('評定点一覧(5年用) '!$P35="","",'評定点一覧(5年用) '!$P35) | I15: =IF('評定点一覧(5年用) '!$P36="","",'評定点一覧(5年用) '!$P36) | J15: =IF('評定点一覧(5年用) '!$P37="","",'評定点一覧(5年用) '!$P37) | K15: =IF('評定点一覧(5年用) '!$P38="","",'評定点一覧(5年用) '!$P38) | L15: =IF('評定点一覧(5年用) '!$P39="","",'評定点一覧(5年用) '!$P39) | M15: =IF('評定点一覧(5年用) '!$P40="","",'評定点一覧(5年用) '!$P40) | N15: =IF('評定点一覧(5年用) '!$P41="","",'評定点一覧(5年用) '!$P41) | O15: =IF('評定点一覧(5年用) '!$P42="","",'評定点一覧(5年用) '!$P42) | P15: =IF('評定点一覧(5年用) '!$P43="","",'評定点一覧(5年用) '!$P43)
D16: 令和５年度 | G16: =IF('評定点一覧(5年用) '!$P47="","",'評定点一覧(5年用) '!$P47) | H16: =IF('評定点一覧(5年用) '!$P48="","",'評定点一覧(5年用) '!$P48) | I16: =IF('評定点一覧(5年用) '!$P49="","",'評定点一覧(5年用) '!$P49) | J16: =IF('評定点一覧(5年用) '!$P50="","",'評定点一覧(5年用) '!$P50) | K16: =IF('評定点一覧(5年用) '!$P51="","",'評定点一覧(5年用) '!$P51) | L16: =IF('評定点一覧(5年用) '!$P52="","",'評定点一覧(5年用) '!$P52) | M16: =IF('評定点一覧(5年用) '!$P53="","",'評定点一覧(5年用) '!$P53) | N16: =IF('評定点一覧(5年用) '!$P54="","",'評定点一覧(5年用) '!$P54) | O16: =IF('評定点一覧(5年用) '!$P55="","",'評定点一覧(5年用) '!$P55) | P16: =IF('評定点一覧(5年用) '!$P56="","",'評定点一覧(5年用) '!$P56)
D17: 令和６年度 | G17: =IF('評定点一覧(5年用) '!$P60="","",'評定点一覧(5年用) '!$P60) | H17: =IF('評定点一覧(5年用) '!$P61="","",'評定点一覧(5年用) '!$P61) | I17: =IF('評定点一覧(5年用) '!$P62="","",'評定点一覧(5年用) '!$P62) | J17: =IF('評定点一覧(5年用) '!$P63="","",'評定点一覧(5年用) '!$P63) | K17: =IF('評定点一覧(5年用) '!$P64="","",'評定点一覧(5年用) '!$P64) | L17: =IF('評定点一覧(5年用) '!$P65="","",'評定点一覧(5年用) '!$P65) | M17: =IF('評定点一覧(5年用) '!$P66="","",'評定点一覧(5年用) '!$P66) | N17: =IF('評定点一覧(5年用) '!$P67="","",'評定点一覧(5年用) '!$P67) | O17: =IF('評定点一覧(5年用) '!$P68="","",'評定点一覧(5年用) '!$P68) | P17: =IF('評定点一覧(5年用) '!$P69="","",'評定点一覧(5年用) '!$P69)
A18: 工事成績評定点の平均 | G18: =IF((COUNTA(G13:P17)-COUNTBLANK(G13:P17))=0,"",COUNTA(G13:P17)-COUNTBLANK(G13:P17)) | I18: 件 | J18: =IF(OR(G18="",G18=0),"",ROUND(AVERAGE(G13:P17),1)) | M18: 点 | R18: 【印刷について】
A19: （小数第２位を四捨五入） | R19: このシートは「ページ設定」で「白黒印刷」と「印刷範囲」が設定されています。
A20: (1) | B20: 対象工事の工事成績評定点一覧表（別紙）を添付すること。 | R20: 様式内の吹出しコメントは印刷されません。
A21: (2) | B21: 単年度の対象工事件数が１０件を超える場合、「工事成績評定点の平均」欄の「件数」及び「平均点」は、自動計算されないため、直接記入すること。
A23: (3) | B23: 上記事項の外、入札説明書本文にある要件を必ず確認すること。
A27: 技術資料提出工事名： | E27: =IF(発注者入力シート!C10="","",発注者入力シート!C10) -> 隠岐高等学校長寿命化（受水槽改修外）工事
A29: 提出事務所名： | E29: =IF(発注者入力シート!C6="","",発注者入力シート!C6) -> 総務部営繕課
A31: 有効範囲： | E31: =発注者入力シート!$C$11 -> 令和9年7月31日までに入札公告された工事
A33: =CONCATENATE(" 今後、",発注者入力シート!C6,"が発注する工事においては、本書の写し（※）をもって「企業の工事成績評定点」の貴社技術資料とみなし、その他添付資料の提出は不要とする。 ※本書の写しとは、収受印欄に収受の押印がある資料をいう。") -> 今後、総務部営繕課が発注する工事においては、本書の写し（※）をもって「企業の工事成績評定点」の貴社技術資料とみなし、その他添付資料の提出は不要とする。 ※本書の写しとは、収受印欄に収受の押印がある資料をいう。
M36: （収受印）
B38: 技術資料の提出方法
B39: =IF(COUNTIF(企業入力シート!B26:B29,"○")>0,発注者入力シート!AJ10,IF(INDEX(発注者入力シート!$B$20:$J$24,MATCH(発注者入力シート!L6,発注者入力シート!$C$20:$C$24,0),7)="未記入",発注者入力シート!$AJ$8,IF(INDEX(発注者入力シート!$B$20:$J$24,MATCH(発注者入力シート!L6,発注者入力シート!$C$20:$C$24,0),7)="無",発注者入力シート!$AJ$9,IF(INDEX(発注者入力シート!$B$20:$J$24,MATCH(発注者入力シート!L6,発注者入力シート!$C$20:$C$24,0),7)="有",発注者入力シート!$AJ$10)))) -> 「企業入力シート」の「押印済資料での提出」欄が未記入ですので、リストから「有」、「無」どちらかを選択してください
A46: 【注】
B47: ・押印済資料で提出する場合、押印済資料で評価する。
B48: ・対象工事が異なる押印済資料を提出した場合、当該評価項目の加算点はゼロとする。
B49: =CONCATENATE("・収受印欄に収受印と併せて全県適用 の押印があれば、上記に",発注者入力シート!$C$6,"が発注する工事と記載があっても、本書の写しをもって島根県総務部、防災部、農林水産部及び土木部の事業課、関係地方機関が発注する工事において、その他添付資料の提出は不要とする。") -> ・収受印欄に収受印と併せて全県適用 の押印があれば、上記に総務部営繕課が発注する工事と記載があっても、本書の写しをもって島根県総務部、防災部、農林水産部及び土木部の事業課、関係地方機関が発注する工事において、その他添付資料の提出は不要とする。

Sheet 評定点一覧(5年用) 
A1: =CONCATENATE("（様式-",INDEX(発注者入力シート!$B$20:$G$24,MATCH(発注者入力シート!L6,発注者入力シート!$C$20:$C$24,0),4),"-２）") -> （様式-２-２） | H1: 工事成績評定点一覧表(別紙) | Q1: 【5年用】
A2: =CONCATENATE("評価項目",INDEX(発注者入力シート!$B$20:$G$24,MATCH(発注者入力シート!L6,発注者入力シート!$C$20:$C$24,0),5),"-",INDEX(発注者入力シート!$B$20:$G$24,MATCH(発注者入力シート!L6,発注者入力シート!$C$20:$C$24,0),6)) -> 評価項目（１）-① | H2: 会社（企業体）名： | K2: =IF(企業入力シート!C7="","",企業入力シート!C7) -> ○○建設
A4: 工事種別 | D4: =IF('企業成績評定点 (5年用)'!D9="","",'企業成績評定点 (5年用)'!D9) -> 建築物に係る冷暖房衛生設備工事 | I4: 建設工事の種類 | L4: =IF('企業成績評定点 (5年用)'!D10="","",'企業成績評定点 (5年用)'!D10) -> 管工事、熱絶縁工事、消防施設工事
A6: 令和 | B6: 3 | C6: 年度 | S6: 着色セルの凡例
A7: 番号 | B7: 発注機関名 | E7: 工事名 | P7: 評定点 | S7: （企業）
A8: 1 | Q8: 点 | T8: ：「企業入力シート」、一覧表（別紙）で入力（数式リンク有）
A9: 2 | Q9: 点 | T9: ：セルに直接入力が必要な箇所
A10: 3 | Q10: 点 | S10: （発注者）
A11: 4 | Q11: 点 | T11: ：「発注者入力シート」で入力（数式リンク有）
A12: 5 | Q12: 点 | T12: ：セルに直接入力が必要な箇所
A13: 6 | Q13: 点
A14: 7 | Q14: 点 | S14: 【印刷について】
A15: 8 | Q15: 点 | S15: このシートは「ページ設定」で「白黒印刷」と「印刷範囲」が設定されています。
A16: 9 | Q16: 点
A17: 10 | Q17: 点
A19: 令和 | B19: =B6+1 -> 4 | C19: 年度
A20: 番号 | B20: 発注機関名 | E20: 工事名 | P20: 評定点
A21: 1 | Q21: 点
A22: 2 | Q22: 点
A23: 3 | Q23: 点
A24: 4 | Q24: 点
A25: 5 | Q25: 点
A26: 6 | Q26: 点
A27: 7 | Q27: 点
A28: 8 | Q28: 点
A29: 9 | Q29: 点
A30: 10 | Q30: 点
A32: 令和 | B32: =B19+1 -> 5 | C32: 年度
A33: 番号 | B33: 発注機関名 | E33: 工事名 | P33: 評定点
A34: 1 | Q34: 点
A35: 2 | Q35: 点
A36: 3 | Q36: 点
A37: 4 | Q37: 点
A38: 5 | Q38: 点
A39: 6 | Q39: 点
A40: 7 | Q40: 点
A41: 8 | Q41: 点
A42: 9 | Q42: 点
A43: 10 | Q43: 点
A45: 令和 | B45: =B32+1 -> 6 | C45: 年度
A46: 番号 | B46: 発注機関名 | E46: 工事名 | P46: 評定点
A47: 1 | Q47: 点
A48: 2 | Q48: 点
A49: 3 | Q49: 点
A50: 4 | Q50: 点
A51: 5 | Q51: 点
A52: 6 | Q52: 点
A53: 7 | Q53: 点
A54: 8 | Q54: 点
A55: 9 | Q55: 点
A56: 10 | Q56: 点
A58: 令和 | B58: =B45+1 -> 7 | C58: 年度
A59: 番号 | B59: 発注機関名 | E59: 工事名 | P59: 評定点
A60: 1 | Q60: 点
A61: 2 | Q61: 点
A62: 3 | Q62: 点
A63: 4 | Q63: 点
A64: 5 | Q64: 点
A65: 6 | Q65: 点
A66: 7 | Q66: 点
A67: 8 | Q67: 点
A68: 9 | Q68: 点
A69: 10 | Q69: 点
A70: (1) | B70: 記入欄が足りない場合は欄を追加して記入すること。

Sheet 同種工事施工実績
A1: =CONCATENATE("（様式-",INDEX(発注者入力シート!$B$20:$G$24,MATCH(発注者入力シート!L7,発注者入力シート!$C$20:$C$24,0),4),"）") -> （様式-３） | Q1: =IF(INDEX(発注者入力シート!$B$20:$G$40,MATCH(発注者入力シート!L7,発注者入力シート!$C$20:$C$40,0),3)="","",INDEX(発注者入力シート!$B$20:$G$40,MATCH(発注者入力シート!L7,発注者入力シート!$C$20:$C$40,0),3)) | V1: 着色セルの凡例
A2: =CONCATENATE("評価項目",INDEX(発注者入力シート!$B$20:$G$24,MATCH(発注者入力シート!L7,発注者入力シート!$C$20:$C$24,0),5),"-",INDEX(発注者入力シート!$B$20:$G$24,MATCH(発注者入力シート!L7,発注者入力シート!$C$20:$C$24,0),6)) -> 評価項目（１）-② | V2: （企業）
A3: 企業の同種工事の施工実績 | W3: ：「企業入力シート」、一覧表（別紙）で入力（数式リンク有）
H4: 会社（企業体）名： | L4: =IF(企業入力シート!C7="","",企業入力シート!C7) -> ○○建設 | W4: ：セルに直接入力もしくはリストから選択が必要な箇所
A6: 対象工事 | B6: 対象期間・対象機関 | F6: 平成２８年度から入札公告日前日までに完成及び引き渡しが完了した工事 | V6: （発注者）
W7: ：「発注者入力シート」で入力（数式リンク有）
B8: 工事種別 | F8: =INDEX(発注者入力シート!$AV$3:$BA$9,MATCH(発注者入力シート!$AW$2,発注者入力シート!$AX$3:$AX$9,0),4) -> 建築物に係る冷暖房衛生設備工事
B9: 建設工事の種類 | F9: =INDEX(発注者入力シート!$AV$3:$BA$9,MATCH(発注者入力シート!$AW$2,発注者入力シート!$AX$3:$AX$9,0),5) -> 管工事、熱絶縁工事、消防施設工事
B10: 同種工事の定義 | F10: １契約で税込み最終金額が４，１００万円以上で、住宅以外の建築物に係る冷暖房衛生設備工事 | W10: ：セルに直接入力が必要な箇所
A13: 工事内容 | F13: 施工実績① | M13: 施工実績② | V13: 【印刷について】
A14: 工事名称等 | B14: 工 事 名 | V14: このシートは「ページ設定」で「白黒印刷」と「印刷範囲」が設定されています。
V15: 様式内の吹出しコメントは印刷されません。
B18: （コリンズ登録番号） | U18: ← | V18: コリンズ竣工登録書類が提出できない場合はその理由を入力。（注）H24.4.1以降に公告した500万円以上の工事は、竣工登録が義務づけられています。
B19: 発注機関名 | U19: ← | V19: ○○県土整備事務所など発注機関名を記入（略名可）
B20: 工事種別
B21: 建設工事の種類
B22: 施工場所
V23: （チェック用）
B24: 請負金額（最終・税込） | L24: 円 | S24: 円 | V24: 西暦
B25: 契約上の工期 | E25: （始） | H25: 年 | J25: 月 | L25: 日 | O25: 年 | Q25: 月 | S25: 日 | V25: 46235 | W25: ←西暦を入力すると下の欄に和暦が表示 | AA25: 平成
E26: （終） | H26: 年 | J26: 月 | L26: 日 | O26: 年 | Q26: 月 | S26: 日 | V26: 和暦 | AA26: 令和
B27: 受注形態 | V27: =V25 -> 46235
B28: 特別（特定）ＪＶの場合、出資比率
A29: 工事成績評定点 （島根県が発注した工事） | L29: 点 | S29: 点
A31: 工事概要 | B31: 建物用途
A41: (1) | B41: 施工実績（上表記載内容）全てが確認できるよう下表を参考に資料①～⑨を組み合せて提出すること。
B43: 【公共工事の場合】
B44: ① | C44: コリンズの「工事カルテ」又は「登録内容確認書」の写し。（いずれも竣工登録に限る。） ただし、コリンズの工事カルテのみでは工事概要が確認できない場合は、最終図面、最終仕様書など工事概要が確認できる資料（資料⑥）を追加添付すること。
B47: ② | C47: 当初、変更を含む全ての契約書の写し。 ただし、必ず項目別評定点表（資料③）又は竣工検査済証の写し（資料④）＋最終図面、最終仕様書など工事概要が確認できる資料（資料⑥）を追加添付すること。
B50: ③ | C50: 項目別評定点表。（島根県発注工事に限る。）
B51: ④ | C51: 竣工検査済証の写し。
B52: ⑤ | C52: 工事成績評定通知書の写し。（島根県発注工事に限る。）
B53: ⑥ | C53: 最終図面、最終仕様書など工事概要が確認できる資料。
B54: ⑦ | C54: 同種工事の施工実績として最終請負金額を求めた場合で、同種工事以外の工事を包含しているものは、求めている部分の最終請負金額が確認できる資料（最終の工事種別毎の工事費一覧又は工事内訳書等）。
B57: ⑧ | C57: 発注者の証明書の写し。（上記資料①～⑥で確認できない記載内容（コリンズ登録番号を除く。）を全て証明してあるもの。）
B59: ⑨ | C59: 施工実績として提出する工事の「工事種別」及び「建設工事の種類」が確認できる資料
A61: 資料①～⑨で確認できる内容
A62: 項目名 | H62: 資料番号 | Q62: 備考
H63: ① | I63: ② | J63: ③ | K63: ④ | L63: ⑤ | M63: ⑥ | N63: ⑦ | O63: ⑧ | P63: ⑨
A64: 工事名称等 | B64: 工事名 | H64: ○ | I64: ○ | J64: ○ | K64: ○ | L64: ○ | M64: ○ | N64: ○ | O64: ○ | P64: ○
B65: （コリンズ登録番号） | H65: ○
B66: 発注機関名 | H66: ○ | I66: ○ | J66: ○ | K66: ○ | L66: ○ | O66: ○ | P66: ○
B67: 工事種別、建設工事の種類 | H67: ○ | O67: ○ | P67: ○
B68: 施工場所 | H68: ○ | I68: ○ | K68: ○ | O68: ○ | P68: ○
B69: 請負金額（最終・税込） | H69: ○ or △ | I69: ○ or △ | J69: ○ or △ | K69: ○ or △ | N69: ○ | O69: ○
B72: 契約上の工期 | H72: ○ | I72: ○ | J72: ○ | K72: ○ | L72: ○ | O72: ○
B73: 受注形態 | H73: ○ | I73: ○ | J73: ○ | K73: ○ | L73: ○ | O73: ○
B74: 特別（特定）JVの場合、出資比率 | H74: ○ | O74: ○ | Q74: JV工事のみ対象
A75: 工事成績評定点 | J75: ○ | L75: ○ | O75: ○ | Q75: 島根県発注工事のみ
A76: 工事概要 | H76: ○ or △ | M76: ○ or △ | O76: ○
A79: ※１：「○」は資料で確認ができるもの、「△」は全ては確認できないもの。
A80: ※２：資料③、④、⑤の「○」と「△」は、島根県発注工事の場合。
A82: （参考）代表的な提出資料の組合せ
A83: パターン名 | C83: 条件１ | H83: 条件２ | P83: 提出資料の組合せ
A84: パターン１ | C84: コリンズの竣工登録義務あり | H84: コリンズのみで工事概要が確認可能。 | P84: ①+③
P85: ①+⑤
A86: パターン２ | H86: コリンズのみで工事概要が確認できない。最終図面等を追加添付。 | P86: ①+③+⑥
P87: ①+⑤+⑥
A88: パターン３ | C88: コリンズの竣工登録義務なし | H88: 必要な資料が準備できる。 | P88: ②+③+⑥+⑨
P89: ②+④+⑤+⑥+⑨
A90: パターン４ | H90: 必要な資料が準備できない。 | P90: ⑧
P91: ⑧+⑨
A92: ※１：同種工事として最終請負金額を求めた場合で、同種工事実績以外の工事が包含されているものは、上記に加え必ず⑦を追加添付すること。
B95: 【公共工事以外の場合】
B96: ① | C96: 当初、変更を含む全ての契約書の写し。
B97: ② | C97: 最終図面、最終仕様書など工事概要が確認できる資料。
B98: ③ | C98: 同種工事の施工実績として最終請負金額を求めた場合で、同種工事以外の工事を包含しているものは、求めている部分の最終請負金額が確認できる資料（最終の工事種別毎の工事費一覧又は工事内訳書等）。
A102: （参考）代表的な提出資料の組合せ
A103: パターン名 | C103: 条件１ | G103: 条件２ | P103: 提出資料の組合せ
A104: パターン１ | C104: 同種工事として最終請負金額を求めた場合 | G104: 同種工事実績以外の工事が包含されていない。 | P104: ①+②
A105: パターン２ | G105: 同種工事実績以外の工事が包含されている。 | P105: ①+②+③
A106: パターン３ | C106: 同種工事として最終請負金額を求めていない場合 | P106: ①+②
A109: (2) | B109: 施工実績が２回以上ある場合は、代表的なもの２回分の提出でよい。
A110: (3) | B110: 特別（特定）ＪＶで施工した工事については、出資比率２０％以上の場合にのみ施工実績として認める。
A111: (4) | B111: 上記事項の外、入札説明書本文にある要件を必ず確認すること。

Sheet 優良工事表彰
A1: =CONCATENATE("（様式-",INDEX(発注者入力シート!$B$20:$G$24,MATCH(発注者入力シート!L8,発注者入力シート!$C$20:$C$24,0),4),"）") -> （様式-４） | S1: 着色セルの凡例
A2: =CONCATENATE("評価項目",INDEX(発注者入力シート!$B$20:$G$24,MATCH(発注者入力シート!L8,発注者入力シート!$C$20:$C$24,0),5),"-",INDEX(発注者入力シート!$B$20:$G$24,MATCH(発注者入力シート!L8,発注者入力シート!$C$20:$C$24,0),6)) -> 評価項目（１）-③ | S2: （企業）
A3: 企業の優良工事表彰（優良工事施工団体表彰） | T3: ：「企業入力シート」、一覧表（別紙）で入力（数式リンク有）
G4: 会社（企業体）名： | K4: =IF(企業入力シート!C7="","",企業入力シート!C7) -> ○○建設 | T4: ：セルに直接入力もしくはリストから選択が必要な箇所
A6: 対象工事 | B6: 対象年度 対象機関 | E6: 島根県内の公共事業において、令和４年度から令和８年度に、島根県及び中国地方整備局発注工事で受けた建築部門の優良工事表彰（優良工事施工団体表彰）
S7: （発注者）
T8: ：「発注者入力シート」で入力（数式リンク有）
B9: 工事種別 | E9: =INDEX(発注者入力シート!$AV$3:$BA$9,MATCH(発注者入力シート!$AW$2,発注者入力シート!$AX$3:$AX$9,0),4) -> 建築物に係る冷暖房衛生設備工事 | T9: ：セルに直接入力が必要な箇所
B10: 建設工事の種類 | E10: =INDEX(発注者入力シート!$AV$3:$BA$9,MATCH(発注者入力シート!$AW$2,発注者入力シート!$AX$3:$AX$9,0),5) -> 管工事、熱絶縁工事、消防施設工事
S12: 【印刷について】
A13: 表彰者の区分 | S13: このシートは「ページ設定」で「白黒印刷」と「印刷範囲」が設定されています。
A14: 受賞年度 | L14: ※竣工年度ではありません | S14: 様式内の吹出しコメントは印刷されません。
A15: 工事名
A17: 工事種別
A18: 建設工事の種類
A20: (1) | B20: 島根県発注工事は資料添付が不要。
A21: (2) | B21: 中国地方整備局発注工事は表彰状等の写しを添付すること。また、発注者から表彰実績に関する資料が提示された場合は、その写しの添付でもよい。
A23: (3) | B23: 表彰の受賞が２回以上ある場合は、代表的なもの１回分の提出でよい。
A24: (4) | B24: 工事名は、「契約工事名」で記入すること。
A25: (5) | B25: 上記事項の外、入札説明書本文にある要件を必ず確認すること。
A28: 技術資料提出工事名： | E28: =IF(発注者入力シート!$C$10="","",発注者入力シート!$C$10) -> 隠岐高等学校長寿命化（受水槽改修外）工事
A30: 提出事務所名： | E30: =IF(発注者入力シート!$C$6="","",発注者入力シート!$C$6) -> 総務部営繕課
A32: 有効範囲： | E32: =発注者入力シート!$C$11 -> 令和9年7月31日までに入札公告された工事
A34: =CONCATENATE(" 今後、",発注者入力シート!$C$6,"が発注する工事においては、本書の写し（※）をもって「企業の優良工事表彰（優良工事施工団体表彰）」の貴社技術資料とみなし、その他添付資料の提出は不要とする。 ※本書の写しとは、収受印欄に収受の押印がある資料をいう。") -> 今後、総務部営繕課が発注する工事においては、本書の写し（※）をもって「企業の優良工事表彰（優良工事施工団体表彰）」の貴社技術資料とみなし、その他添付資料の提出は不要とする。 ※本書の写しとは、収受印欄に収受の押印がある資料をいう。
N37: （収受印）
B38: 技術資料の提出方法
B39: =IF(INDEX(発注者入力シート!$B$20:$J$24,MATCH(発注者入力シート!L8,発注者入力シート!$C$20:$C$24,0),7)="未記入",発注者入力シート!$AJ$8,IF(INDEX(発注者入力シート!$B$20:$J$24,MATCH(発注者入力シート!L8,発注者入力シート!$C$20:$C$24,0),7)="無",発注者入力シート!$AJ$9,IF(INDEX(発注者入力シート!$B$20:$J$24,MATCH(発注者入力シート!L8,発注者入力シート!$C$20:$C$24,0),7)="有",発注者入力シート!$AJ$10))) -> 「企業入力シート」の「押印済資料での提出」欄が未記入ですので、リストから「有」、「無」どちらかを選択してください
A46: 【注】
B47: ・押印済資料で提出する場合、押印済資料で評価する。
B48: ・対象工事が異なる押印済資料を提出した場合、当該評価項目の加算点はゼロとする。
B49: =CONCATENATE("・収受印欄に収受印と併せて全県適用 の押印があれば、上記に",発注者入力シート!$C$6,"が発注する工事と記載があっても、本書の写しをもって島根県総務部、防災部、農林水産部及び土木部の事業課、関係地方機関が発注する工事において、その他添付資料の提出は不要とする。") -> ・収受印欄に収受印と併せて全県適用 の押印があれば、上記に総務部営繕課が発注する工事と記載があっても、本書の写しをもって島根県総務部、防災部、農林水産部及び土木部の事業課、関係地方機関が発注する工事において、その他添付資料の提出は不要とする。

Sheet 【建築】技術者成績評定点
A1: =CONCATENATE("（様式-",INDEX(発注者入力シート!$B$25:$G$28,MATCH(発注者入力シート!M10,発注者入力シート!$C$25:$C$28,0),4),"-１）") -> （様式-５-１） | Q1: 配置予定技術者①用 | S1: 着色セルの凡例
A2: =CONCATENATE("評価項目",INDEX(発注者入力シート!$B$25:$G$28,MATCH(発注者入力シート!M10,発注者入力シート!$C$25:$C$28,0),5),"-",INDEX(発注者入力シート!$B$25:$G$28,MATCH(発注者入力シート!M10,発注者入力シート!$C$25:$C$28,0),6)) -> 評価項目（２）-① | S2: （企業）
A3: 配置予定技術者の工事成績評定点 | T3: ：「企業入力シート」、一覧表で入力（数式リンク有）
G4: 会社（企業体）名： | K4: =IF(企業入力シート!C7="","",企業入力シート!C7) -> ○○建設 | T4: ：セルに直接入力もしくはリストから選択が必要な箇所
T5: ：自動計算
A7: 配置予定技術者が主任（監理）技術者として従事した工事実績 | S7: （発注者）
A8: 配置技術者氏名 | F8: ① | G8: =IF(企業入力シート!C18="","",企業入力シート!C18) | T8: ：「発注者入力シート」で入力（数式リンク有）
A9: 対象工事 | C9: 完成年度 | F9: 令和３年度から令和７年度（完成及び引き渡しが完了） | T9: ：セルに直接入力が必要な箇所
C10: 発注機関 | F10: 島根県（総務部（企業局及び病院局契約を含み、企業局及び病院局発注工事は除く。）、農林水産部、土木部） | T10: ：配置予定技術者①のシートとリンク
C11: 工事種別 | F11: =INDEX(発注者入力シート!$AV$3:$BA$9,MATCH(発注者入力シート!$AW$2,発注者入力シート!$AX$3:$AX$9,0),4) -> 建築物に係る冷暖房衛生設備工事
C12: 建設工事の種類 | F12: =INDEX(発注者入力シート!$AV$3:$BA$9,MATCH(発注者入力シート!$AW$2,発注者入力シート!$AX$3:$AX$9,0),5) -> 管工事、熱絶縁工事、消防施設工事
A13: 各工事成績評定点 | F13: =IF(【建築】技術者評定点一覧表!O10="","",【建築】技術者評定点一覧表!O10) | G13: =IF(【建築】技術者評定点一覧表!O11="","",【建築】技術者評定点一覧表!O11) | H13: =IF(【建築】技術者評定点一覧表!O12="","",【建築】技術者評定点一覧表!O12) | I13: =IF(【建築】技術者評定点一覧表!O13="","",【建築】技術者評定点一覧表!O13) | J13: =IF(【建築】技術者評定点一覧表!O14="","",【建築】技術者評定点一覧表!O14) | K13: =IF(【建築】技術者評定点一覧表!O15="","",【建築】技術者評定点一覧表!O15) | L13: =IF(【建築】技術者評定点一覧表!O16="","",【建築】技術者評定点一覧表!O16) | M13: =IF(【建築】技術者評定点一覧表!O17="","",【建築】技術者評定点一覧表!O17) | N13: =IF(【建築】技術者評定点一覧表!O18="","",【建築】技術者評定点一覧表!O18) | O13: =IF(【建築】技術者評定点一覧表!O19="","",【建築】技術者評定点一覧表!O19) | P13: =IF(【建築】技術者評定点一覧表!O20="","",【建築】技術者評定点一覧表!O20) | Q13: =IF(【建築】技術者評定点一覧表!O21="","",【建築】技術者評定点一覧表!O21)
A14: 工事成績評定点の平均 | F14: =IF((COUNTA(F13:Q13)-COUNTBLANK(F13:Q13))=0,"",COUNTA(F13:Q13)-COUNTBLANK(F13:Q13)) | H14: 件 | J14: =IF(OR(F14=0,F14=""),"",ROUND(AVERAGE(F13:Q13),1)) | N14: 点 | S14: 【印刷について】
A15: （小数第２位を四捨五入） | S15: このシートは「ページ設定」で「白黒印刷」と「印刷範囲」が設定されています。
A17: （1） | B17: 対象工事の工事成績評定点（技術者）一覧表（別紙）を添付すること。 | S17: 様式内の吹出しコメントは印刷されません。
A18: （2） | B18: コリンズの「工事カルテ受領書」もしくは「登録内容確認書」を添付すること。
A19: （3） | B19: 工事成績評定点（技術者）一覧表（別紙）の記入欄を追加した場合、「工事成績評定点の平均」欄の「件数」及び「平均点」は、自動計算されないため、直接記入すること。
A21: （4） | B21: 技術資料提出時に配置予定技術者が特定できない場合は、複数の候補者を記入できる。その場合、審査は候補者のうち配置予定技術者の評価点合計が最も低い者で評価する。
A23: （5） | B23: 契約工期と技術者の従事期間が異なる工事の場合は、現場着手日及び実地完成日が確認できる資料（最終の実施工程表等）（発注者が押印した資料の写しに限る。）を添付すること。
A25: （6） | B25: 上記事項の外、入札説明書本文にある要件を必ず確認すること。
A29: 技術資料提出工事名： | E29: =IF(発注者入力シート!$C$10="","",発注者入力シート!$C$10) -> 隠岐高等学校長寿命化（受水槽改修外）工事
A31: 提出事務所名 ： | E31: =IF(発注者入力シート!$C$6="","",発注者入力シート!$C$6) -> 総務部営繕課
A33: 有効範囲： | E33: =発注者入力シート!$C$11 -> 令和9年7月31日までに入札公告された工事
A35: =CONCATENATE(" 今後、",発注者入力シート!C6,"が発注する工事においては、本書の写し（※）をもって「配置予定技術者の工事成績評定点」の貴社技術資料とみなし、その他添付資料の提出は不要とする。 ※本書の写しとは、収受印欄に収受の押印がある資料をいう。") -> 今後、総務部営繕課が発注する工事においては、本書の写し（※）をもって「配置予定技術者の工事成績評定点」の貴社技術資料とみなし、その他添付資料の提出は不要とする。 ※本書の写しとは、収受印欄に収受の押印がある資料をいう。
N38: （収受印）
B39: 技術資料の提出方法
B40: =IF(G8="",発注者入力シート!$AJ$11,IF(INDEX(発注者入力シート!$B$25:$J$28,MATCH(発注者入力シート!M10,発注者入力シート!$C$25:$C$28,0),7)="未記入",発注者入力シート!$AJ$8,IF(INDEX(発注者入力シート!$B$25:$J$28,MATCH(発注者入力シート!M10,発注者入力シート!$C$25:$C$28,0),7)="無",発注者入力シート!$AJ$9,IF(INDEX(発注者入力シート!$B$25:$J$28,MATCH(発注者入力シート!M10,発注者入力シート!$C$25:$C$28,0),7)="有",発注者入力シート!$AJ$10)))) -> 申請する場合は、「企業入力シート」の「押印済資料での提出」欄で「有」を選択してください
A48: 【注】
B49: ・押印済資料で提出する場合、押印済資料で評価する。
B50: ・対象工事が異なる押印済資料を提出した場合、当該評価項目の加算点はゼロとする。
B51: =CONCATENATE("・収受印欄に収受印と併せて全県適用 の押印があれば、上記に",発注者入力シート!$C$6,"が発注する工事と記載があっても、本書の写しをもって島根県総務部、防災部、農林水産部及び土木部の事業課、関係地方機関が発注する工事において、その他添付資料の提出は不要とする。") -> ・収受印欄に収受印と併せて全県適用 の押印があれば、上記に総務部営繕課が発注する工事と記載があっても、本書の写しをもって島根県総務部、防災部、農林水産部及び土木部の事業課、関係地方機関が発注する工事において、その他添付資料の提出は不要とする。
A60: =CONCATENATE("（様式-",INDEX(発注者入力シート!$B$25:$G$28,MATCH(発注者入力シート!M10,発注者入力シート!$C$25:$C$28,0),4),"-１）") -> （様式-５-１） | Q60: 配置予定技術者②用 | S60: 着色セルの凡例
A61: =CONCATENATE("評価項目",INDEX(発注者入力シート!$B$25:$G$28,MATCH(発注者入力シート!M10,発注者入力シート!$C$25:$C$28,0),5),"-",INDEX(発注者入力シート!$B$25:$G$28,MATCH(発注者入力シート!M10,発注者入力シート!$C$25:$C$28,0),6)) -> 評価項目（２）-① | S61: （企業）
A62: 配置予定技術者の工事成績評定点 | T62: ：「企業入力シート」、一覧表で入力（数式リンク有）
G63: 会社（企業体）名： | K63: =IF(企業入力シート!C7="","",企業入力シート!C7) -> ○○建設 | T63: ：セルに直接入力もしくはリストから選択が必要な箇所
T64: ：自動計算
A66: 配置予定技術者が主任（監理）技術者として従事した工事実績 | S66: （発注者）
A67: 配置技術者氏名 | F67: ② | G67: =IF(企業入力シート!C19="","",企業入力シート!C19) | T67: ：「発注者入力シート」で入力（数式リンク有）
A68: 対象工事 | C68: 完成年度 | F68: =IF(F9="","",F9) -> 令和３年度から令和７年度（完成及び引き渡しが完了） | T68: ：セルに直接入力が必要な箇所
C69: 発注機関 | F69: =IF(F10="","",F10) -> 島根県（総務部（企業局及び病院局契約を含み、企業局及び病院局発注工事は除く。）、農林水産部、土木部） | T69: ：配置予定技術者①のシートとリンク
C70: 工事種別 | F70: =IF(F11="","",F11) -> 建築物に係る冷暖房衛生設備工事
C71: 建設工事の種類 | F71: =IF(F12="","",F12) -> 管工事、熱絶縁工事、消防施設工事
A72: 各工事成績評定点 | F72: =IF(【建築】技術者評定点一覧表!O27="","",【建築】技術者評定点一覧表!O27) | G72: =IF(【建築】技術者評定点一覧表!O28="","",【建築】技術者評定点一覧表!O28) | H72: =IF(【建築】技術者評定点一覧表!O29="","",【建築】技術者評定点一覧表!O29) | I72: =IF(【建築】技術者評定点一覧表!O30="","",【建築】技術者評定点一覧表!O30) | J72: =IF(【建築】技術者評定点一覧表!O31="","",【建築】技術者評定点一覧表!O31) | K72: =IF(【建築】技術者評定点一覧表!O32="","",【建築】技術者評定点一覧表!O32) | L72: =IF(【建築】技術者評定点一覧表!O33="","",【建築】技術者評定点一覧表!O33) | M72: =IF(【建築】技術者評定点一覧表!O34="","",【建築】技術者評定点一覧表!O34) | N72: =IF(【建築】技術者評定点一覧表!O35="","",【建築】技術者評定点一覧表!O35) | O72: =IF(【建築】技術者評定点一覧表!O36="","",【建築】技術者評定点一覧表!O36) | P72: =IF(【建築】技術者評定点一覧表!O37="","",【建築】技術者評定点一覧表!O37) | Q72: =IF(【建築】技術者評定点一覧表!O38="","",【建築】技術者評定点一覧表!O38)
A73: 工事成績評定点の平均 | F73: =IF((COUNTA(F72:Q72)-COUNTBLANK(F72:Q72))=0,"",COUNTA(F72:Q72)-COUNTBLANK(F72:Q72)) | H73: 件 | J73: =IF(OR(F73=0,F73=""),"",ROUND(AVERAGE(F72:Q72),1)) | N73: 点 | S73: 【印刷について】
A74: （小数第２位を四捨五入） | S74: このシートは「ページ設定」で「白黒印刷」と「印刷範囲」が設定されています。
S75: 様式内の吹出しコメントは印刷されません。
A76: （1） | B76: 対象工事の工事成績評定点（技術者）一覧表（別紙）を添付すること。
A77: （2） | B77: コリンズの「工事カルテ受領書」もしくは「登録内容確認書」を添付すること。
A78: （3） | B78: 工事成績評定点（技術者）一覧表（別紙）の記入欄を追加した場合、「工事成績評定点の平均」欄の「件数」及び「平均点」は、自動計算されないため、直接記入すること。
A80: （4） | B80: 技術資料提出時に配置予定技術者が特定できない場合は、複数の候補者を記入できる。その場合、審査は候補者のうち配置予定技術者の評価点合計が最も低い者で評価する。
A82: （5） | B82: 契約工期と技術者の従事期間が異なる工事の場合は、現場着手日及び実地完成日が確認できる資料（最終の実施工程表等）（発注者が押印した資料の写しに限る。）を添付すること。
A84: （6） | B84: 上記事項の外、入札説明書本文にある要件を必ず確認すること。
A88: 技術資料提出工事名： | E88: =IF(E29="","",E29) -> 隠岐高等学校長寿命化（受水槽改修外）工事
A90: 提出事務所名 ： | E90: =IF(E31="","",E31) -> 総務部営繕課
A92: 有効範囲： | E92: =IF(E33="","",E33) -> 令和9年7月31日までに入札公告された工事
A94: =IF(A35="","",A35) -> 今後、総務部営繕課が発注する工事においては、本書の写し（※）をもって「配置予定技術者の工事成績評定点」の貴社技術資料とみなし、その他添付資料の提出は不要とする。 ※本書の写しとは、収受印欄に収受の押印がある資料をいう。
N97: （収受印）
B98: 技術資料の提出方法
B99: =IF(G67="",発注者入力シート!$AJ$11,IF(INDEX(発注者入力シート!$B$25:$J$28,MATCH(発注者入力シート!M10,発注者入力シート!$C$25:$C$28,0),8)="未記入",発注者入力シート!$AJ$8,IF(INDEX(発注者入力シート!$B$25:$J$28,MATCH(発注者入力シート!M10,発注者入力シート!$C$25:$C$28,0),8)="無",発注者入力シート!$AJ$9,IF(INDEX(発注者入力シート!$B$25:$J$28,MATCH(発注者入力シート!M10,発注者入力シート!$C$25:$C$28,0),8)="有",発注者入力シート!$AJ$10)))) -> 申請する場合は、「企業入力シート」の「押印済資料での提出」欄で「有」を選択してください
A108: 【注】
B109: ・押印済資料で提出する場合、押印済資料で評価する。
B110: ・対象工事が異なる押印済資料を提出した場合、当該評価項目の加算点はゼロとする。
B111: =CONCATENATE("・収受印欄に収受印と併せて全県適用 の押印があれば、上記に",発注者入力シート!$C$6,"が発注する工事と記載があっても、本書の写しをもって島根県総務部、防災部、農林水産部及び土木部の事業課、関係地方機関が発注する工事において、その他添付資料の提出は不要とする。") -> ・収受印欄に収受印と併せて全県適用 の押印があれば、上記に総務部営繕課が発注する工事と記載があっても、本書の写しをもって島根県総務部、防災部、農林水産部及び土木部の事業課、関係地方機関が発注する工事において、その他添付資料の提出は不要とする。
A120: =CONCATENATE("（様式-",INDEX(発注者入力シート!$B$25:$G$28,MATCH(発注者入力シート!M10,発注者入力シート!$C$25:$C$28,0),4),"-１）") -> （様式-５-１） | Q120: 配置予定技術者③用 | S120: 着色セルの凡例
A121: =CONCATENATE("評価項目",INDEX(発注者入力シート!$B$25:$G$28,MATCH(発注者入力シート!M10,発注者入力シート!$C$25:$C$28,0),5),"-",INDEX(発注者入力シート!$B$25:$G$28,MATCH(発注者入力シート!M10,発注者入力シート!$C$25:$C$28,0),6)) -> 評価項目（２）-① | S121: （企業）
A122: 配置予定技術者の工事成績評定点 | T122: ：「企業入力シート」、一覧表で入力（数式リンク有）
G123: 会社（企業体）名： | K123: =IF(企業入力シート!C7="","",企業入力シート!C7) -> ○○建設 | T123: ：セルに直接入力もしくはリストから選択が必要な箇所
T124: ：自動計算
A126: 配置予定技術者が主任（監理）技術者として従事した工事実績 | S126: （発注者）
A127: 配置技術者氏名 | F127: ③ | G127: =IF(企業入力シート!C20="","",企業入力シート!C20) | T127: ：「発注者入力シート」で入力（数式リンク有）
A128: 対象工事 | C128: 完成年度 | F128: =IF(F9="","",F9) -> 令和３年度から令和７年度（完成及び引き渡しが完了） | T128: ：セルに直接入力が必要な箇所
C129: 発注機関 | F129: =IF(F10="","",F10) -> 島根県（総務部（企業局及び病院局契約を含み、企業局及び病院局発注工事は除く。）、農林水産部、土木部） | T129: ：配置予定技術者①のシートとリンク
C130: 工事種別 | F130: =IF(F11="","",F11) -> 建築物に係る冷暖房衛生設備工事
C131: 建設工事の種類 | F131: =IF(F12="","",F12) -> 管工事、熱絶縁工事、消防施設工事
A132: 各工事成績評定点 | F132: =IF(【建築】技術者評定点一覧表!O44="","",【建築】技術者評定点一覧表!O44) | G132: =IF(【建築】技術者評定点一覧表!O45="","",【建築】技術者評定点一覧表!O45) | H132: =IF(【建築】技術者評定点一覧表!O46="","",【建築】技術者評定点一覧表!O46) | I132: =IF(【建築】技術者評定点一覧表!O47="","",【建築】技術者評定点一覧表!O47) | J132: =IF(【建築】技術者評定点一覧表!O48="","",【建築】技術者評定点一覧表!O48) | K132: =IF(【建築】技術者評定点一覧表!O49="","",【建築】技術者評定点一覧表!O49) | L132: =IF(【建築】技術者評定点一覧表!O50="","",【建築】技術者評定点一覧表!O50) | M132: =IF(【建築】技術者評定点一覧表!O51="","",【建築】技術者評定点一覧表!O51) | N132: =IF(【建築】技術者評定点一覧表!O52="","",【建築】技術者評定点一覧表!O52) | O132: =IF(【建築】技術者評定点一覧表!O53="","",【建築】技術者評定点一覧表!O53) | P132: =IF(【建築】技術者評定点一覧表!O54="","",【建築】技術者評定点一覧表!O54) | Q132: =IF(【建築】技術者評定点一覧表!O55="","",【建築】技術者評定点一覧表!O55)
A133: 工事成績評定点の平均 | F133: =IF((COUNTA(F132:Q132)-COUNTBLANK(F132:Q132))=0,"",COUNTA(F132:Q132)-COUNTBLANK(F132:Q132)) | H133: 件 | J133: =IF(OR(F133=0,F133=""),"",ROUND(AVERAGE(F132:Q132),1)) | N133: 点 | S133: 【印刷について】
A134: （小数第２位を四捨五入） | S134: このシートは「ページ設定」で「白黒印刷」と「印刷範囲」が設定されています。
S135: 様式内の吹出しコメントは印刷されません。
A136: （1） | B136: 対象工事の工事成績評定点（技術者）一覧表（別紙）を添付すること。
A137: （2） | B137: コリンズの「工事カルテ受領書」もしくは「登録内容確認書」を添付すること。
A138: （3） | B138: 工事成績評定点（技術者）一覧表（別紙）の記入欄を追加した場合、「工事成績評定点の平均」欄の「件数」及び「平均点」は、自動計算されないため、直接記入すること。
A140: （4） | B140: 技術資料提出時に配置予定技術者が特定できない場合は、複数の候補者を記入できる。その場合、審査は候補者のうち配置予定技術者の評価点合計が最も低い者で評価する。
A142: （5） | B142: 契約工期と技術者の従事期間が異なる工事の場合は、現場着手日及び実地完成日が確認できる資料（最終の実施工程表等）（発注者が押印した資料の写しに限る。）を添付すること。
A144: （6） | B144: 上記事項の外、入札説明書本文にある要件を必ず確認すること。
A148: 技術資料提出工事名： | E148: =IF(E29="","",E29) -> 隠岐高等学校長寿命化（受水槽改修外）工事
A150: 提出事務所名 ： | E150: =IF(E31="","",E31) -> 総務部営繕課
A152: 有効範囲： | E152: =IF(E33="","",E33) -> 令和9年7月31日までに入札公告された工事
A154: =IF(A35="","",A35) -> 今後、総務部営繕課が発注する工事においては、本書の写し（※）をもって「配置予定技術者の工事成績評定点」の貴社技術資料とみなし、その他添付資料の提出は不要とする。 ※本書の写しとは、収受印欄に収受の押印がある資料をいう。
N157: （収受印）
B158: 技術資料の提出方法
B159: =IF(G127="",発注者入力シート!$AJ$11,IF(INDEX(発注者入力シート!$B$25:$J$28,MATCH(発注者入力シート!M10,発注者入力シート!$C$25:$C$28,0),9)="未記入",発注者入力シート!$AJ$8,IF(INDEX(発注者入力シート!$B$25:$J$28,MATCH(発注者入力シート!M10,発注者入力シート!$C$25:$C$28,0),9)="無",発注者入力シート!$AJ$9,IF(INDEX(発注者入力シート!$B$25:$J$28,MATCH(発注者入力シート!M10,発注者入力シート!$C$25:$C$28,0),9)="有",発注者入力シート!$AJ$10)))) -> 申請する場合は、「企業入力シート」の「押印済資料での提出」欄で「有」を選択してください
A168: 【注】
B169: ・押印済資料で提出する場合、押印済資料で評価する。
B170: ・対象工事が異なる押印済資料を提出した場合、当該評価項目の加算点はゼロとする。
B171: =CONCATENATE("・収受印欄に収受印と併せて全県適用 の押印があれば、上記に",発注者入力シート!$C$6,"が発注する工事と記載があっても、本書の写しをもって島根県総務部、防災部、農林水産部及び土木部の事業課、関係地方機関が発注する工事において、その他添付資料の提出は不要とする。") -> ・収受印欄に収受印と併せて全県適用 の押印があれば、上記に総務部営繕課が発注する工事と記載があっても、本書の写しをもって島根県総務部、防災部、農林水産部及び土木部の事業課、関係地方機関が発注する工事において、その他添付資料の提出は不要とする。

Sheet 【建築】技術者評定点一覧表
A1: =CONCATENATE("（様式-",INDEX(発注者入力シート!$B$25:$G$28,MATCH(発注者入力シート!M10,発注者入力シート!$C$25:$C$28,0),4),"-２）") -> （様式-５-２） | Q1: 配置予定技術者①、②、③共通 | S1: 着色セルの凡例
A2: =CONCATENATE("評価項目",INDEX(発注者入力シート!$B$25:$G$28,MATCH(発注者入力シート!M10,発注者入力シート!$C$25:$C$28,0),5),"-",INDEX(発注者入力シート!$B$25:$G$28,MATCH(発注者入力シート!M10,発注者入力シート!$C$25:$C$28,0),6)) -> 評価項目（２）-① | S2: （企業）
A3: 工事成績評定点（技術者）一覧表(別紙) | T3: ：「企業入力シート」、一覧表で入力（数式リンク有）
G4: 会社（企業体）名： | K4: =IF(企業入力シート!C7="","",企業入力シート!C7) -> ○○建設 | T4: ：セルに直接入力もしくはリストから選択が必要な箇所
T5: ：自動計算
A6: 工事種別 | D6: =IF(【建築】技術者成績評定点!F11="","",【建築】技術者成績評定点!F11) -> 建築物に係る冷暖房衛生設備工事 | I6: 建設工事の種類 | L6: =IF(【建築】技術者成績評定点!F12="","",【建築】技術者成績評定点!F12) -> 管工事、熱絶縁工事、消防施設工事
S7: （発注者）
A8: 配置技術者氏名 | F8: ① | G8: =IF(企業入力シート!C18="","",企業入力シート!C18) | T8: ：「発注者入力シート」で入力（数式リンク有）
A9: 完成年度 | C9: 工 事 名 | O9: 工事成績評定点 | T9: ：セルに直接入力が必要な箇所
Q10: 点 | T10: ：技術者評定点のシートとリンク
Q11: 点
Q12: 点 | S12: 【印刷について】
Q13: 点 | S13: このシートは「ページ設定」で「白黒印刷」と「印刷範囲」が設定されています。
Q14: 点 | S14: 様式内の吹出しコメントは印刷されません。
Q15: 点
Q16: 点
Q17: 点
Q18: 点
Q19: 点 | S19: （参考）
Q20: 点 | S20: 件数 | T20: =COUNTA(O10:O21) -> 0
Q21: 点 | S21: 平均点 | T21: =ROUND(AVERAGE(O10:O21),1) -> #DIV/0!
A22: (1) | B22: 記入欄が足りない場合は欄を追加して記入すること。
A25: 配置技術者氏名 | F25: ② | G25: =IF(企業入力シート!C19="","",企業入力シート!C19)
A26: 完成年度 | C26: 工 事 名 | O26: 工事成績評定点
Q27: 点
Q28: 点
Q29: 点
Q30: 点
Q31: 点
Q32: 点
Q33: 点
Q34: 点
Q35: 点
Q36: 点 | S36: （参考）
Q37: 点 | S37: 件数 | T37: =COUNTA(O27:O38) -> 0
Q38: 点 | S38: 平均点 | T38: =ROUND(AVERAGE(O27:O38),1) -> #DIV/0!
A39: (1) | B39: 記入欄が足りない場合は欄を追加して記入すること。
A42: 配置技術者氏名 | F42: ③ | G42: =IF(企業入力シート!C20="","",企業入力シート!C20)
A43: 完成年度 | C43: 工 事 名 | O43: 工事成績評定点
Q44: 点
Q45: 点
Q46: 点
Q47: 点
Q48: 点
Q49: 点
Q50: 点
Q51: 点
Q52: 点
Q53: 点 | S53: （参考）
Q54: 点 | S54: 件数 | T54: =COUNTA(O44:O55) -> 0
Q55: 点 | S55: 平均点 | T55: =ROUND(AVERAGE(O44:O55),1) -> #DIV/0!
A56: (1) | B56: 記入欄が足りない場合は欄を追加して記入すること。

Sheet 同種工事施工経験
A1: =CONCATENATE("（様式-",INDEX(発注者入力シート!$B$25:$G$28,MATCH(発注者入力シート!M7,発注者入力シート!$C$25:$C$28,0),4),"）") -> （様式-６） | S1: 配置予定技術者①用 | U1: 着色セルの凡例
A2: =CONCATENATE("評価項目",INDEX(発注者入力シート!$B$25:$G$28,MATCH(発注者入力シート!M7,発注者入力シート!$C$25:$C$28,0),5),"-",INDEX(発注者入力シート!$B$25:$G$28,MATCH(発注者入力シート!M7,発注者入力シート!$C$25:$C$28,0),6)) -> 評価項目（２）-② | Q2: =IF(INDEX(発注者入力シート!$B$20:$G$40,MATCH(発注者入力シート!M7,発注者入力シート!$C$20:$C$40,0),3)="","",INDEX(発注者入力シート!$B$20:$G$40,MATCH(発注者入力シート!M7,発注者入力シート!$C$20:$C$40,0),3)) | U2: （企業）
A3: 配置予定技術者の同種工事の施工経験 | V3: ：「企業入力シート」、一覧表（別紙）で入力（数式リンク有）
H4: 会社（企業体）名： | L4: =IF(企業入力シート!C7="","",企業入力シート!C7) -> ○○建設 | V4: ：セルに直接入力もしくはリストから選択が必要な箇所
A6: 対象工事 | B6: 対象期間・対象機関 | F6: 平成２８年度から入札公告日前日までに完成及び引き渡しが完了した島根県、島根県内の市町村又は国の機関（独立行政法人等を含みコリンズ登録があるものに限る。）発注工事 | U6: （発注者）
V7: ：「発注者入力シート」で入力（数式リンク有）
B8: 同種工事の定義 | F8: １契約で税込み最終金額が２，０００万円以上で、住宅以外の建築物に係る冷暖房衛生設備工事 | V8: ：セルに直接入力が必要な箇所
V9: ：配置予定技術者①のシートとリンク
B11: 工事種別 | F11: =INDEX(発注者入力シート!$AV$3:$BA$9,MATCH(発注者入力シート!$AW$2,発注者入力シート!$AX$3:$AX$9,0),4) -> 建築物に係る冷暖房衛生設備工事
B12: 建設工事の種類 | F12: =INDEX(発注者入力シート!$AV$3:$BA$9,MATCH(発注者入力シート!$AW$2,発注者入力シート!$AX$3:$AX$9,0),5) -> 管工事、熱絶縁工事、消防施設工事
A13: 配置予定技術者 氏名 | F13: ① | G13: =IF(企業入力シート!C18="","",企業入力シート!C18) | U13: 【印刷について】
A14: 工事内容 | F14: 施工経験① | M14: 施工経験② | U14: このシートは「ページ設定」で「白黒印刷」と「印刷範囲」が設定されています。
A15: 工事名称等 | B15: 工 事 名 | U15: 様式内の吹出しコメントは印刷されません。
B19: （コリンズ登録番号） | T19: ← | U19: コリンズ竣工登録書類が提出できない場合はその理由を入力。（注）H24.4.1以降に公告した500万円以上の工事は、竣工登録が義務づけられています。
B20: 発注機関名 | T20: ← | U20: ○○県土整備事務所など発注機関名を記入（略名可）
B21: 施工場所
U22: （チェック用）
B23: 請負金額（最終・税込） | L23: 円 | S23: 円 | U23: 西暦
B24: 契約上の工期 | E24: （始） | H24: 年 | J24: 月 | L24: 日 | O24: 年 | Q24: 月 | S24: 日 | U24: 46235 | V24: ←西暦を入力すると下の欄に和暦が表示 | Z24: 平成
E25: （終） | H25: 年 | J25: 月 | L25: 日 | O25: 年 | Q25: 月 | S25: 日 | U25: 和暦 | Z25: 令和
B26: 従事期間 | E26: （始） | H26: 年 | J26: 月 | L26: 日 | O26: 年 | Q26: 月 | S26: 日 | U26: =U24 -> 46235
E27: （終） | H27: 年 | J27: 月 | L27: 日 | O27: 年 | Q27: 月 | S27: 日
B28: 従事時の役職
B29: 受注形態
B30: 特別（特定）ＪＶの場合、出資比率
B31: 工事種別
B32: 建設工事の種類
A33: 工事成績評定点 （島根県が発注した工事） | L33: 点 | S33: 点
A34: 工事概要 | B34: 建物用途
A42: (1) | B42: 施工実績（上表記載内容）全てが確認できるよう下表を参考に資料①～⑨を組み合せて提出すること。
B44: ① | C44: コリンズの「工事カルテ」又は「登録内容確認書」の写し。(いずれも竣工登録に限る。)。 ただし、コリンズの工事カルテのみでは工事概要が確認できない場合は、最終図面、最終仕様書など工事概要が確認できる資料（資料⑥）を追加添付すること。
B47: ③ | C47: 項目別評定点表。（島根県発注工事に限る。）
B48: ⑤ | C48: 工事成績評定通知書の写し。（島根県発注工事に限る。）
B49: ⑥ | C49: 最終図面、最終仕様書など工事概要が確認できる資料。
B50: ⑦ | C50: 同種工事の施工実績として最終請負金額を求めた場合で、同種工事以外の工事を包含しているものは、求めている部分の最終請負金額が確認できる資料（最終の工事種別毎の工事費一覧又は工事内訳書等）。
B53: ⑧ | C53: 現場着手日及び実地完成日が確認できる資料（最終の実施工程表等）（発注者が押印した資料の写しに限る。）
B55: ⑨ | C55: 技術者の従事期間と従事時の役職が確認できる資料（コリンズの「登録内容確認書」の写し等）
B57: ⑩ | C57: 発注者の証明書の写し。（上記資料①～⑥で確認できない記載内容（コリンズ登録番号を除く。）を全て証明してあるもの。）
B59: ⑪ | C59: 施工経験として提出する工事の「工事種別」および「建設工事の種類」が確認できる資料
A62: 資料①～⑪で確認できる内容
A63: 項目名 | G63: 資料番号 | R63: 備考
G64: ① | H64: - | I64: ③ | J64: - | K64: ⑤ | L64: ⑥ | M64: ⑦ | N64: ⑧ | O64: ⑨ | P64: ⑩ | Q64: ⑪
A65: 工事名称等 | B65: 工事名 | G65: ○ | I65: ○ | K65: ○ | L65: ○ | M65: ○ | N65: ○ | O65: ○ | P65: ○ | Q65: ○
B66: （コリンズ登録番号） | G66: ○
B67: 発注機関名 | G67: ○ | I67: ○ | K67: ○ | P67: ○ | Q67: ○
B68: 施工場所 | G68: ○ | P68: ○ | Q68: ○
B69: 請負金額（最終・税込） | G69: ○ or △ | I69: ○ or △ | M69: ○ | P69: ○
B72: 契約上の工期 | G72: ○ | I72: ○ | K72: ○ | N72: △ | O72: △ | P72: ○
B73: 従事期間 | G73: ○ | N73: △ | O73: △ | P73: ○ | R73: ⑧、⑨は両方必要
B74: 従事時の役職 | G74: ○ | O74: △ | P74: ○
B75: 受注形態 | G75: ○ | I75: ○ | K75: ○ | P75: ○
B76: 特別（特定）JVの場合、出資比率 | G76: ○ | P76: ○ | R76: JV工事のみ対象
B78: 工事種別 | G78: ○ | P78: ○ | Q78: ○
B79: 建設工事の種類 | G79: ○ | P79: ○ | Q79: ○
A80: 工事成績評定点 | I80: ○ | K80: ○ | P80: ○ | R80: 島根県発注工事のみ
A82: 工事概要 | G82: ○ or △ | L82: ○ or △ | P82: ○
A85: ※１：「○」は資料で確認ができるもの、「△」は全ては確認できないもの。
A86: ※２：資料③、⑤の「○」と「△」は、島根県発注工事の場合。
A88: （参考）代表的な提出資料の組合せ
A89: パターン名 | C89: 条件１ | E89: 条件２ | K89: 条件３ | O89: 提出資料の組合せ
A90: パターン１ | C90: コリンズの竣工登録あり | E90: コリンズのみで工事概要が確認可能。 | K90: 契約工期と技術者の従事期間が同じ。 | O90: ①+③
O91: ①+⑤
A92: パターン２ | E92: コリンズのみで工事概要が確認できない。最終図面等を追加添付。 | O92: ①+③+⑥
O93: ①+⑤+⑥
A95: パターン３ | E95: 上記パターン１、２のいずれかに該当。 | K95: 契約工期と技術者の従事期間が異なる。 | O95: パターン１+⑧+⑨
O96: パターン２+⑧+⑨
A98: パターン３ | C98: コリンズの竣工登録なし | O98: ⑩
O99: ⑩+⑪
A101: ※１：同種工事として最終請負金額を求めた場合で、同種工事実績以外の工事が包含されているものは、上記に加え必ず⑦を追加添付すること。
A104: (2) | B104: 施工経験が２回以上ある場合は、代表的なもの２回分の提出でよい。
A105: (3) | B105: 技術資料提出時に配置予定技術者が特定できない場合は、複数の候補者を記入できる。その場合、審査は候補者のうち配置予定技術者の評価点合計が最も低い者で評価する。
A107: (4) | B107: 同種工事施工経験時の所属会社は問わない。（現在の所属会社以外のものも記載できる。）
A108: (5) | B108: 特別（特定）ＪＶで施工した工事については、出資比率２０％以上の場合にのみ施工実績として認める。
A110: (6) | B110: 担当技術者としての同種工事の施工経験は、コリンズの登録（竣工登録に限る。）がなければ申請できない。（担当技術者の施工経験が評価対象として入札説明書に記載されている工事のみに適用。）
A113: (7) | B113: 上記事項の外、入札説明書本文にある要件を必ず確認すること。
A122: =CONCATENATE("（様式-",INDEX(発注者入力シート!$B$25:$G$28,MATCH(発注者入力シート!M7,発注者入力シート!$C$25:$C$28,0),4),"）") -> （様式-６） | S122: 配置予定技術者②用 | U122: 着色セルの凡例
A123: =CONCATENATE("評価項目",INDEX(発注者入力シート!$B$25:$G$28,MATCH(発注者入力シート!M7,発注者入力シート!$C$25:$C$28,0),5),"-",INDEX(発注者入力シート!$B$25:$G$28,MATCH(発注者入力シート!M7,発注者入力シート!$C$25:$C$28,0),6)) -> 評価項目（２）-② | Q123: =IF(INDEX(発注者入力シート!$B$20:$G$40,MATCH(発注者入力シート!M7,発注者入力シート!$C$20:$C$40,0),3)="","",INDEX(発注者入力シート!$B$20:$G$40,MATCH(発注者入力シート!M7,発注者入力シート!$C$20:$C$40,0),3)) | U123: （企業）
A124: 配置予定技術者の同種工事の施工経験 | V124: ：「企業入力シート」、一覧表（別紙）で入力（数式リンク有）
H125: 会社（企業体）名： | L125: =IF(企業入力シート!C7="","",企業入力シート!C7) -> ○○建設 | V125: ：セルに直接入力もしくはリストから選択が必要な箇所
A127: 対象工事 | B127: 対象期間・対象機関 | F127: =$F$6 -> 平成２８年度から入札公告日前日までに完成及び引き渡しが完了した島根県、島根県内の市町村又は国の機関（独立行政法人等を含みコリンズ登録があるものに限る。）発注工事 | U127: （発注者）
V128: ：「発注者入力シート」で入力（数式リンク有）
B129: 同種工事の定義 | F129: =$F$8 -> １契約で税込み最終金額が２，０００万円以上で、住宅以外の建築物に係る冷暖房衛生設備工事 | V129: ：セルに直接入力が必要な箇所
V130: ：配置予定技術者①のシートとリンク
B132: 工事種別 | F132: =$F$11 -> 建築物に係る冷暖房衛生設備工事
B133: 建設工事の種類 | F133: =$F$12 -> 管工事、熱絶縁工事、消防施設工事
A134: 配置予定技術者 氏名 | F134: ② | G134: =IF(企業入力シート!C19="","",企業入力シート!C19)
A135: 工事内容 | F135: 施工経験① | M135: 施工経験② | U135: 【印刷について】
A136: 工事名称等 | B136: 工 事 名 | U136: このシートは「ページ設定」で「白黒印刷」と「印刷範囲」が設定されています。
U137: 様式内の吹出しコメントは印刷されません。
B140: （コリンズ登録番号） | T140: ← | U140: コリンズ竣工登録書類が提出できない場合はその理由を入力。（注）H24.4.1以降に公告した500万円以上の工事は、竣工登録が義務づけられています。
B141: 発注機関名 | T141: ← | U141: ○○県土整備事務所など発注機関名を記入（略名可）
B142: 施工場所
U143: （チェック用）
B144: 請負金額（最終・税込） | L144: 円 | S144: 円 | U144: 西暦
B145: 契約上の工期 | E145: （始） | H145: 年 | J145: 月 | L145: 日 | O145: 年 | Q145: 月 | S145: 日 | U145: 46235 | V145: ←西暦を入力すると下の欄に和暦が表示 | Z145: 平成
E146: （終） | H146: 年 | J146: 月 | L146: 日 | O146: 年 | Q146: 月 | S146: 日 | U146: 和暦 | Z146: 令和
B147: 従事期間 | E147: （始） | H147: 年 | J147: 月 | L147: 日 | O147: 年 | Q147: 月 | S147: 日 | U147: =U145 -> 46235
E148: （終） | H148: 年 | J148: 月 | L148: 日 | O148: 年 | Q148: 月 | S148: 日
B149: 従事時の役職
B150: 受注形態
...

Sheet 技術者継続学習
A1: =CONCATENATE("（様式-",INDEX(発注者入力シート!$B$25:$G$28,MATCH(発注者入力シート!M9,発注者入力シート!$C$25:$C$28,0),4),"）") -> （様式-７） | Q1: 配置予定技術者①、②、③共通 | S1: 着色セルの凡例
A2: =CONCATENATE("評価項目",INDEX(発注者入力シート!$B$25:$G$28,MATCH(発注者入力シート!M9,発注者入力シート!$C$25:$C$28,0),5),"-",INDEX(発注者入力シート!$B$25:$G$28,MATCH(発注者入力シート!M9,発注者入力シート!$C$25:$C$28,0),6)) -> 評価項目（２）-③ | S2: （企業）
A3: 配置予定技術者の継続学習 | T3: ：「企業入力シート」、一覧表（別紙）で入力（数式リンク有）
T4: ：セルに直接入力が必要な箇所
H5: 会社（企業体）名： | K5: =IF([1]企業入力シート!C7="","",[1]企業入力シート!C7) -> ○○建設
S6: （発注者）
T7: ：「発注者入力シート」で入力（数式リンク有）
A8: 対象： | B8: 配置予定の主任（監理）技術者が保有するCPD単位数 | T8: ：セルに直接入力が必要な箇所
A9: 配置予定技術者氏名 | F9: 保有するCPD単位数 | L9: ※評価結果
L10: （発注者記載欄） | S10: 【印刷について】
A11: ① | B11: =IF(企業入力シート!C18="","",企業入力シート!C18) | J11: 単位 | S11: このシートは「ページ設定」で「白黒印刷」と「印刷範囲」が設定されています。
A13: ② | B13: =IF(企業入力シート!C19="","",企業入力シート!C19) | J13: 単位
A15: ③ | B15: =IF(企業入力シート!C20="","",企業入力シート!C20) | J15: 単位
A17: (1) | B17: 保有CPD単位数が確認できる資料として、（公社）日本建築士会連合会が発行した「建築士会CPD実績証明書」の写し又は（一財）建設業振興基金が発行した「建築・設備施工管理CPD制度実績証明書」の写しを添付すること。
S18: 開始年度
A19: (2) | B19: =CONCATENATE("「建築士会CPD実績証明書」又は「建築・設備施工管理CPD制度実績証明書」は、",S19,"から入札公告日前日時点（令和",(YEAR(発注者入力シート!H7)-2018),"年",MONTH(発注者入力シート!H7),"月",DAY(発注者入力シート!H7),"日時点）までに取得している保有CPD単位数が確認できるものを添付すること。") -> 「建築士会CPD実績証明書」又は「建築・設備施工管理CPD制度実績証明書」は、令和３年度から入札公告日前日時点（令和8年10月1日時点）までに取得している保有CPD単位数が確認できるものを添付すること。 | S19: 令和３年度
A21: (3) | B21: 技術資料提出時に配置予定技術者が特定できない場合は、複数の候補者を記入できる。その場合、審査は候補者のうち配置予定技術者の評価点合計が最も低い者で評価する。
A23: (4) | B23: 上記事項の外、入札説明書本文にある要件を必ず確認すること。
A28: 技術資料提出工事名： | E28: =IF(発注者入力シート!C10="","",発注者入力シート!C10) -> 隠岐高等学校長寿命化（受水槽改修外）工事
A30: 提出事務所名： | E30: =IF(発注者入力シート!C6="","",発注者入力シート!C6) -> 総務部営繕課
A32: 有効範囲： | E32: =+発注者入力シート!$C$11 -> 令和9年7月31日までに入札公告された工事
A34: 対象技術者： | E34: 上記①～③の配置予定技術者のうち、評価結果が「◯」の者
A37: =CONCATENATE(" 今後、",+発注者入力シート!C6,"が発注する工事においては、本書の写し（※）をもって「配置予定技術者の継続学習」の貴社技術資料とみなし、その他添付資料の提出は不要とする。 ※本書の写しとは、収受印欄に収受の押印がある資料をいう。") -> 今後、総務部営繕課が発注する工事においては、本書の写し（※）をもって「配置予定技術者の継続学習」の貴社技術資料とみなし、その他添付資料の提出は不要とする。 ※本書の写しとは、収受印欄に収受の押印がある資料をいう。
A39: ただし、上記配置予定技術者のうち、必要単位数未満の者が新たに評価基準以上の単位数を取得した場合は、技術資料及び必要な添付資料を再提出すること。
A42: ="①"&"配置予定技術者："&B11&" 技術資料の提出方法" -> ①配置予定技術者： 技術資料の提出方法 | N42: （収受印）
A43: =IF(B11="",発注者入力シート!$AJ$11,IF(INDEX(発注者入力シート!$B$25:$J$28,MATCH(発注者入力シート!M9,発注者入力シート!$C$25:$C$28,0),7)="未記入",発注者入力シート!$AJ$8,IF(INDEX(発注者入力シート!$B$25:$J$28,MATCH(発注者入力シート!M9,発注者入力シート!$C$25:$C$28,0),7)="無",発注者入力シート!$AJ$9,IF(INDEX(発注者入力シート!$B$25:$J$28,MATCH(発注者入力シート!M9,発注者入力シート!$C$25:$C$28,0),7)="有",発注者入力シート!$AJ$10)))) -> 申請する場合は、「企業入力シート」の「押印済資料での提出」欄で「有」を選択してください
A45: ="②"&"配置予定技術者："&B13&" 技術資料の提出方法" -> ②配置予定技術者： 技術資料の提出方法
A46: =IF(B13="",発注者入力シート!$AJ$11,IF(INDEX(発注者入力シート!$B$25:$J$28,MATCH(発注者入力シート!M9,発注者入力シート!$C$25:$C$28,0),8)="未記入",発注者入力シート!$AJ$8,IF(INDEX(発注者入力シート!$B$25:$J$28,MATCH(発注者入力シート!M9,発注者入力シート!$C$25:$C$28,0),8)="無",発注者入力シート!$AJ$9,IF(INDEX(発注者入力シート!$B$25:$J$28,MATCH(発注者入力シート!M9,発注者入力シート!$C$25:$C$28,0),8)="有",発注者入力シート!$AJ$10)))) -> 申請する場合は、「企業入力シート」の「押印済資料での提出」欄で「有」を選択してください
A48: ="③"&"配置予定技術者："&B15&" 技術資料の提出方法" -> ③配置予定技術者： 技術資料の提出方法
A49: =IF(B15="",発注者入力シート!$AJ$11,IF(INDEX(発注者入力シート!$B$25:$J$28,MATCH(発注者入力シート!M9,発注者入力シート!$C$25:$C$28,0),9)="未記入",発注者入力シート!$AJ$8,IF(INDEX(発注者入力シート!$B$25:$J$28,MATCH(発注者入力シート!M9,発注者入力シート!$C$25:$C$28,0),9)="無",発注者入力シート!$AJ$9,IF(INDEX(発注者入力シート!$B$25:$J$28,MATCH(発注者入力シート!M9,発注者入力シート!$C$25:$C$28,0),9)="有",発注者入力シート!$AJ$10)))) -> 申請する場合は、「企業入力シート」の「押印済資料での提出」欄で「有」を選択してください
A52: 【注】
B53: ・押印済資料で提出する場合、押印済資料で評価する。
B54: ・対象単位数が異なる押印済資料を提出した場合、当該評価項目の加算点はゼロとする。
B55: =CONCATENATE("・収受印欄に収受印と併せて全県適用 の押印があれば、上記に",[1]発注者入力シート!$C$6,"が発注する工事と記載があっても、本書の写しをもって島根県総務部、防災部、農林水産部及び土木部の事業課、関係地方機関が発注する工事において、その他添付資料の提出は不要とする。") -> ・収受印欄に収受印と併せて全県適用 の押印があれば、上記に総務部営繕課が発注する工事と記載があっても、本書の写しをもって島根県総務部、防災部、農林水産部及び土木部の事業課、関係地方機関が発注する工事において、その他添付資料の提出は不要とする。

Sheet ボランティア
A1: =CONCATENATE("（様式-",INDEX(発注者入力シート!$B$29:$G$38,MATCH(発注者入力シート!N10,発注者入力シート!$C$29:$C$38,0),4),"）") -> （様式-８） | O1: =IF(INDEX(発注者入力シート!$B$20:$G$40,MATCH(発注者入力シート!N10,発注者入力シート!$C$20:$C$40,0),3)="","",INDEX(発注者入力シート!$B$20:$G$40,MATCH(発注者入力シート!N10,発注者入力シート!$C$20:$C$40,0),3)) | S1: 着色セルの凡例
A2: =CONCATENATE("評価項目",INDEX(発注者入力シート!$B$29:$G$38,MATCH(発注者入力シート!N10,発注者入力シート!$C$29:$C$38,0),5),"-",INDEX(発注者入力シート!$B$29:$G$38,MATCH(発注者入力シート!N10,発注者入力シート!$C$29:$C$38,0),6)) -> 評価項目（３）-① | S2: （企業）
A3: ボランティア活動又はハートフルしまねへの参加実績 | T3: ：「企業入力シートで入力（数式リンク有）
G4: 会社（企業体）名： | K4: =IF(企業入力シート!C7="","",企業入力シート!C7) -> ○○建設 | T4: ：セルに直接入力もしくはリストから選択が必要な箇所
A6: 対象： | B6: 令和６年度及び令和７年度における島根県内で実施されたボランティア活動又はハートフルしまねへの参加実績 | S6: （発注者）
T7: ：「発注者入力シート」で入力（数式リンク有）
A8: ○企業としてのボランティア活動への参加実績 | T8: ：セルに直接入力が必要な箇所
A9: 対象年度 | C9: 活動年月日 | F9: 活動内容 | L9: 年度間延べ参加人数 | N9: 従業員数
A10: 令和６年度 | S10: 【印刷について】
S11: このシートは「ページ設定」で「白黒印刷」と「印刷範囲」が設定されています。
S12: 様式内の吹出しコメントは印刷されません。
A13: 令和７年度
A16: (1) | B16: 活動したことを証明する資料と活動箇所が確認できる資料を添付すること。
A17: (2) | B17: 参加人数が１０名未満の場合、従業員数の欄に当該活動時点の常用雇用労働者と短時間労働者の合計人数を記載すること。
A18: (3) | B18: 入札説明書本文にある要件を必ず確認すること。
A19: (4) | B19: ボランティア活動を複数日で行った場合、参加実績は重複者を含んだ合計人数とする（延べ人数）。従業員数は当該活動時点のものとする。
A22: ○企業としてのハートフルしまねの参加実績
A23: 対象年度 | C23: ハートフルしまねの参加実績の有無 | I23: 年度間延べ参加人数 | L23: 従業員数 | S23: 活動期間中に従業員数の変動があった場合は、最大時の人数を記載してください
A24: =A10 -> 令和６年度
A25: =A13 -> 令和７年度
A26: 登録団体名
A27: (１) | B27: 参加人数が１０名未満の場合、従業員数の欄に当該活動時点の常用雇用労働者と短時間労働者の合計人数を記載すること。
A28: (２) | B28: 入札説明書本文にある要件を必ず確認すること。
A29: (３) | B29: 従業員数は当該活動時点のものとする。
A33: 技術資料提出工事名： | E33: =IF(発注者入力シート!C10="","",発注者入力シート!C10) -> 隠岐高等学校長寿命化（受水槽改修外）工事
A35: 提出事務所名： | E35: =IF(発注者入力シート!C6="","",発注者入力シート!C6) -> 総務部営繕課
A37: 有効範囲： | E37: =発注者入力シート!$C$11 -> 令和9年7月31日までに入札公告された工事
A39: =CONCATENATE(" 今後、",発注者入力シート!C6,"が発注する工事においては、本書の写し（※）をもって「ボランティア活動等への参加実績」の貴社技術資料とみなし、その他添付資料の提出は不要とする。 ※本書の写しとは、収受印欄に収受の押印がある資料をいう。") -> 今後、総務部営繕課が発注する工事においては、本書の写し（※）をもって「ボランティア活動等への参加実績」の貴社技術資料とみなし、その他添付資料の提出は不要とする。 ※本書の写しとは、収受印欄に収受の押印がある資料をいう。
A41: ただし、本提出書類では契約実績が確認できない（評価対象となる施工範囲を満足していないなど）場合、再度、技術資料及び必要な添付資料の提出が必要である。
B44: 技術資料の提出方法 | N44: （収受印）
B45: =IF(COUNTIF(企業入力シート!B32,"○")>0,発注者入力シート!AJ10,IF(INDEX(発注者入力シート!$B$29:$J$38,MATCH(発注者入力シート!N10,発注者入力シート!$C$29:$C$38,0),7)="未記入",発注者入力シート!$AJ$8,IF(INDEX(発注者入力シート!$B$29:$J$38,MATCH(発注者入力シート!N10,発注者入力シート!$C$29:$C$38,0),7)="無",発注者入力シート!$AJ$9,IF(INDEX(発注者入力シート!$B$29:$J$38,MATCH(発注者入力シート!N10,発注者入力シート!$C$29:$C$38,0),7)="有",発注者入力シート!$AJ$10)))) -> 「企業入力シート」の「押印済資料での提出」欄が未記入ですので、リストから「有」、「無」どちらかを選択してください
A52: 【注】
B53: ・押印済資料で提出する場合、押印済資料で評価する。
B54: =CONCATENATE("・収受印欄に収受印と併せて全県適用 の押印があれば、上記に",発注者入力シート!$C$6,"が発注する工事と記載があっても、本書の写しをもって島根県総務部、防災部、農林水産部及び土木部の事業課、関係地方機関が発注する工事において、その他添付資料の提出は不要とする。") -> ・収受印欄に収受印と併せて全県適用 の押印があれば、上記に総務部営繕課が発注する工事と記載があっても、本書の写しをもって島根県総務部、防災部、農林水産部及び土木部の事業課、関係地方機関が発注する工事において、その他添付資料の提出は不要とする。

Sheet 障がい者雇用
A1: =CONCATENATE("（様式-",INDEX(発注者入力シート!$B$29:$G$38,MATCH(発注者入力シート!N12,発注者入力シート!$C$29:$C$38,0),4),"）") -> （様式-９） | W1: 着色セルの凡例
A2: =CONCATENATE("評価項目",INDEX(発注者入力シート!$B$29:$G$38,MATCH(発注者入力シート!N13,発注者入力シート!$C$29:$C$38,0),5),"-",INDEX(発注者入力シート!$B$29:$G$38,MATCH(発注者入力シート!N13,発注者入力シート!$C$29:$C$38,0),6)) -> 評価項目（３）-② | W2: （企業）
A3: 労働福祉関連の状況(a 障がい者雇用の実態) | X3: ：「企業入力シートで入力（数式リンク有）
X4: ：セルに直接入力もしくはリストから選択が必要な箇所
H5: 会社（企業体）名： | K5: =IF(企業入力シート!C7="","",企業入力シート!C7) -> ○○建設
W6: （発注者）
A7: a 障がい者雇用の実態 | X7: ：「発注者入力シート」で入力（数式リンク有）
A8: 下記の①及び②のどちらかの方法で提出すること。 | X8: ：セルに直接入力が必要な箇所
A9: ① | B9: 本様式による提出。
A10: ② | B10: =CONCATENATE("「障がい者雇用の促進等に関する法律施行規則」第８条で定められた様式（障害者雇用状況報告書）による提出。なお、提出にあたっては入札公告日前日時点（令和",(YEAR(発注者入力シート!H7)-2018),"年",MONTH(発注者入力シート!H7),"月",DAY(発注者入力シート!H7),"日時点）の状況と相異ないことを代表者名で証明すること。") -> 「障がい者雇用の促進等に関する法律施行規則」第８条で定められた様式（障害者雇用状況報告書）による提出。なお、提出にあたっては入札公告日前日時点（令和8年10月1日時点）の状況と相異ないことを代表者名で証明すること。 | W10: 【印刷について】
W11: このシートは「ページ設定」で「白黒印刷」と「印刷範囲」が設定されています。
W12: 様式内の吹出しコメントは印刷されません。
A13: 従業員の雇用状況 | J13: 短時間以外の常用雇用労働者数 （人） | N13: 短時間労働者数 （人） | R13: 特定短時間労働者数 （人）
J15: １週間の所定労働時間が30時間以上 | N15: １週間の所定労働時間が20時間以上30時間未満 | R15: １週間の所定労働時間が10時間以上20時間未満
J17: 0 | N17: 0 | R17: 0
A19: 障がい者の雇用状況 | J19: 短時間以外の常用雇用労働者数 | N19: 短時間労働者数 | R19: 特定短時間労働者数
J20: （人） | L20: 換算値 | N20: （人） | P20: 換算値 | R20: （人） | T20: 換算値
A21: 身体障がい者 | B21: １級 | I21: 重度 | L21: 2 | P21: 1 | T21: 0.5
B22: ２級 | I22: 重度 | L22: 2 | P22: 1 | T22: 0.5
B23: ３級 | C23: （３級の障がいを２つ以上重複して有する方） | I23: 重度 | L23: 2 | P23: 1 | T23: 0.5
C24: （単一障がいの方） | L24: 1 | P24: 0.5 | T24: -
B25: ４級 | L25: 1 | P25: 0.5 | T25: -
B26: ５級 | L26: 1 | P26: 0.5 | T26: -
B27: ６級 | C27: （７級の障がいを重複している方も含む） | L27: 1 | P27: 0.5 | T27: -
A28: 知的障がい者 | B28: 療育手帳 ： 「Ａ」の方 | I28: 重度 | L28: 2 | P28: 1 | T28: 0.5
B30: 療育手帳 ： 「Ｂ」の方 | L30: 1 | P30: 0.5 | T30: -
A32: 精神障がい者 | B32: 精神障がい者保健福祉手帳所持者 | L32: 1 | P32: 0.5 | T32: 0.5
B34: 精神障がい者保健福祉手帳を所持していない方 | J34: 障がい者雇用率の算定対象外
A37: （a） | C37: 短時間以外の常用雇用労働者数 | M37: =J17 -> 0 | T37: 人
A39: （b） | C39: 短時間労働者数 | M39: =N17 -> 0 | T39: 人
A41: （c） | C41: 特定短時間労働者数 | M41: =R17 -> 0 | T41: 人
A43: （d） | C43: 常用雇用労働者の総数 | M43: =M37+M39*0.5 -> 0 | T43: 人
C44: (d)＝(a)＋(b)×0.5
A45: （e） | C45: 除外率 | M45: 10 | T45: ％
W46: ※ 建設業の除外率10.0％（R7年4月1日施行）
A47: （f） | C47: 法定雇用義務数の算出の基礎となる労働者数 | M47: =M43-INT(M43*M45/100) -> 0 | T47: 人
C48: （f）＝(d)- (d)×(e)/100
C49: （下線部分は小数点以下切捨て）
A50: （g） | C50: 障がい者の法定雇用率 （※ 民間企業の法定雇用率2.7％） | M50: 2.7 | T50: ％ | W50: 今後の法定雇用率の設定
Y51: R6年4月 | Z51: R8年7月
A52: (h) | C52: 法定雇用義務数 | M52: =IF(M47<37.5,"法定雇用義務なし",INT(M47*M50/100)) -> 法定雇用義務なし | T52: =IF(M47<37.5,"37.5人未満("&M47&"人)","人") -> 37.5人未満(0人) | W52: 法定雇用率 | Y52: 0.025 | Z52: 0.027
C53: （h） ＝ （f）×（g） （小数点以下切捨て） | W53: 対象事業主の範囲 | Y53: 40 | Z53: 37.5
A54: (i) | C54: 雇用している障がい者数 | M54: =(J21+J22+J23+J28)*2+(J24+J25+J26+J27+J30+J32+N21+N22+N23+N28)*1+(N24+N25+N26+N27+N30+N32+R21+R22+R23+R28+R32)*0.5 -> 0 | T54: 人
A56: 判定 ： （h）と（i）を比較し、 「（h）＜（i）」のときに評価する | M56: =IF(M43=0,"error",IF(M47<37.5,IF(M54>0,"○","×"),IF(M52<M54,"○","×"))) -> error | O56: =IF(M56="error","必要事項が未入力です",IF(M47<37.5,IF(M54>0,"法定雇用義務数を超えている","法定雇用義務数を超えていない"),IF(M52<M54,"法定雇用義務数を超えている","法定雇用義務数を超えていない"))) -> 必要事項が未入力です
A58: (1) | B58: =CONCATENATE("入札公告日前日時点（令和",(YEAR(発注者入力シート!H7)-2018),"年",MONTH(発注者入力シート!H7),"月",DAY(発注者入力シート!H7),"日時点）での状況について記載すること。") -> 入札公告日前日時点（令和8年10月1日時点）での状況について記載すること。
A59: (2) | B59: 身体障がい者手帳、療育手帳、精神障がい者保健福祉手帳の写しは添付不要。

Sheet 育児・介護休業
A1: =CONCATENATE("（様式-",INDEX(発注者入力シート!$B$29:$G$38,MATCH(発注者入力シート!N13,発注者入力シート!$C$29:$C$38,0),4),"）") -> （様式-１０） | S1: 着色セルの凡例
A2: =CONCATENATE("評価項目",INDEX(発注者入力シート!$B$29:$G$38,MATCH(発注者入力シート!N13,発注者入力シート!$C$29:$C$38,0),5),"-",INDEX(発注者入力シート!$B$29:$G$38,MATCH(発注者入力シート!N13,発注者入力シート!$C$29:$C$38,0),6)) -> 評価項目（３）-② | S2: （企業）
T3: ：「企業入力シートで入力（数式リンク有）
A4: 労働福祉関連の状況(b 育児・介護休業に関する制度) | T4: ：セルに直接入力もしくはリストから選択が必要な箇所
H6: 会社（企業体）名： | K6: =IF(企業入力シート!C7="","",企業入力シート!C7) -> ○○建設 | S6: （発注者）
T7: ：「発注者入力シート」で入力（数式リンク有）
A8: b 育児・介護休業に関する制度（下記のいずれかの取組みが評価対象） | T8: ：セルに直接入力が必要な箇所
A9: 育児・介護休業に関する制度の評価基準 | K9: 取組みの有無 | N9: 認定期間
A10: こっころカンパニー(しまね子育て応援企業)に認定されていること | Q10: まで
A12: 「育児休業・介護休業等育児又は家族介護を行う労働者の福祉に関する法律」（令和７年１０月1日施行、以下「育児・介護休業法」という。）で定める制度を超える内容を含む制度を規定していること | N12: ←“こっころカンパニーの認定”で申請する場合は入力不要です。 | S12: 【印刷について】
S13: このシートは「ページ設定」で「白黒印刷」と「印刷範囲」が設定されています。
S14: 様式内の吹出しコメントは印刷されません。
A15: ※“こっころカンパニーの認定”で申請する場合
A16: (1) | B16: こっころカンパニーについては、「こっころカンパニー認定書」の写しを添付すること。
A18: ※“育児・介護休業法で定める制度を超える制度”で申請する場合
A19: (1) | B19: 企業の育児・介護休業に関する制度の概要が分かる資料（就業規則等）のうち「育児・介護休業法」に関係する部分を添付資料として提出すること。その際、法定の制度を超える箇所にアンダーライン明示すること。なお、明示が無い場合は、評価の対象としない。
A23: (2) | B23: 育児・介護休業に関する制度の内容を確認するため、必ず別紙「育児・介護休業に関する制度 チェック表」を記入し、添付すること。
A25: (3) | B25: 就業規則等は、原本と相異ないことを代表者名で証明すること。
A27: 【共通事項】
A28: (1) | B28: =CONCATENATE("入札公告日前日時点（令和",(YEAR(発注者入力シート!H7)-2018),"年",MONTH(発注者入力シート!H7),"月",DAY(発注者入力シート!H7),"日時点）での状況について記載すること。") -> 入札公告日前日時点（令和8年10月1日時点）での状況について記載すること。
A31: 技術資料提出工事名： | E31: =IF(発注者入力シート!C10="","",発注者入力シート!C10) -> 隠岐高等学校長寿命化（受水槽改修外）工事
A33: 提出事務所名： | E33: =IF(発注者入力シート!C6="","",発注者入力シート!C6) -> 総務部営繕課
A35: 有効範囲： | E35: =発注者入力シート!$C$11 -> 令和9年7月31日までに入札公告された工事
E36: （ただし、こっころカンパニーに認定されている場合、認定期間が令和８年7月31日以前までのものは、その期日までとする）
A39: =CONCATENATE(" 今後、",発注者入力シート!C6,"が発注する工事においては、本書の写し（※）をもって「労働福祉関連の状況(b 育児・介護休業に関する制度)」の貴社技術資料とみなし、その他添付資料の提出は不要とする。 ※本書の写しとは、収受印欄に収受の押印がある資料をいう。") -> 今後、総務部営繕課が発注する工事においては、本書の写し（※）をもって「労働福祉関連の状況(b 育児・介護休業に関する制度)」の貴社技術資料とみなし、その他添付資料の提出は不要とする。 ※本書の写しとは、収受印欄に収受の押印がある資料をいう。
N44: （収受印）
B45: 技術資料の提出方法
B46: =IF(COUNTIF(企業入力シート!B35,"○")>0,発注者入力シート!AJ10,IF(INDEX(発注者入力シート!$B$29:$J$38,MATCH(発注者入力シート!N13,発注者入力シート!$C$29:$C$38,0),7)="未記入",発注者入力シート!$AJ$8,IF(INDEX(発注者入力シート!$B$29:$J$38,MATCH(発注者入力シート!N13,発注者入力シート!$C$29:$C$38,0),7)="無",発注者入力シート!$AJ$9,IF(INDEX(発注者入力シート!$B$29:$J$38,MATCH(発注者入力シート!N13,発注者入力シート!$C$29:$C$38,0),7)="有",発注者入力シート!$AJ$10)))) -> 「企業入力シート」の「押印済資料での提出」欄が未記入ですので、リストから「有」、「無」どちらかを選択してください
A54: 【注】
B55: ・押印済資料で提出する場合、押印済資料で評価する。
B56: =CONCATENATE("・収受印欄に収受印と併せて全県適用 の押印があれば、上記に",発注者入力シート!$C$6,"が発注する工事と記載があっても、本書の写しをもって島根県総務部、防災部、農林水産部及び土木部の事業課、関係地方機関が発注する工事において、その他添付資料の提出は不要とする。") -> ・収受印欄に収受印と併せて全県適用 の押印があれば、上記に総務部営繕課が発注する工事と記載があっても、本書の写しをもって島根県総務部、防災部、農林水産部及び土木部の事業課、関係地方機関が発注する工事において、その他添付資料の提出は不要とする。

Sheet 育児介護チェック表
B1: =CONCATENATE("（様式-",INDEX(発注者入力シート!$B$29:$G$38,MATCH(発注者入力シート!N14,発注者入力シート!$C$29:$C$38,0),4),"）") -> （様式-１１）
B2: =CONCATENATE("評価項目",INDEX(発注者入力シート!$B$29:$G$38,MATCH(発注者入力シート!N14,発注者入力シート!$C$29:$C$38,0),5),"-",INDEX(発注者入力シート!$B$29:$G$38,MATCH(発注者入力シート!N14,発注者入力シート!$C$29:$C$38,0),6)) -> 評価項目（３）-②
B3: 育児・介護休業に関する制度 チェック表 育児・介護休業法（R7.10.1施行）対応版
E4: 会社（企業体）名： | F4: =IF(企業入力シート!C7="","",企業入力シート!C7) -> ○○建設
B6: 【法定を超える内容チェック表１】 各Ｑの「はい」または「いいえ」、「該当項目」に■ をご記入下さい。
C8: ★Ｑ1～13の「はい」または「該当項目」に１つでも■がある場合、総合評価の加点対象となります。 ★ 記載内容については、就業規則等により確認できるよう必ず該当条文を記入願います。
B10: Q1 | C10: 育児休業制度の対象となる子の上限年齢を、法定を超えた年齢までとしている。
D11: □ | E11: はい | F11: □ | G11: いいえ
E12: （上限年齢 ＝ 歳 か月まで）
E13: （該当条文： ）
D15: ○法律では１歳まで、両親ともに育児休業を取得する場合は１歳２ヶ月まで、または、一定の事情がある場合は２歳までとされています。 ○一定の事情の有無に関わらず、２歳まで育児休業をとることができる場合は、法定を超える内容となります。
B17: Q2 | C17: 法定基準の制度とは別に、３歳未満の子を養育する従業員が利用できる以下の制度のうち、いずれか１つ以上の制度を定めている。
D18: □ | E18: ①短時間勤務制度（5時間45分から6時間以外の制度等の実施） | F18: □ | G18: ②テレワーク等
E19: （該当条文： ） | G19: （該当条文： ）
D20: □ | E20: ③フレックスタイム制 | F20: □ | G20: ④始業・終業時刻の繰上げ・繰下げ （１日の所定労働時間は変わらない）
E21: （該当条文： ） | G21: （該当条文： ）
D22: □ | E22: ⑤事業所内保育施設の運営 （共同運営や保育施設と契約している場合も含む） | F22: □ | G22: ⑥育児サービス費用を補助する制度 （ベビーシッターや保育施設の利用料補助等）
E23: （該当条文： ） | G23: （該当条文： ）
D25: ①育児・介護休業法では、短時間勤務制度は、原則として6時間（5時間45分から６時間まで）とする措置を含むものとなっているので、それ以外の短時間勤務制度の実施。
B27: Q3 | C27: 介護休業の取得可能期間を、法定を超える日数や回数としている。
D28: □ | E28: はい | F28: □ | G28: いいえ
E29: （上限期間 ＝ 以内）
E30: （該当条文： ）
D32: 育児・介護休業法では、労働者は、要介護状態にある対象家族１人につき、のべ93日間までの範囲内で３回を上限として介護休業を取得することができるとしています。
B34: Q4 | C34: 要介護状態にある対象家族の介護を行う従業員が利用できる短時間勤務制度を除く以下の制度のうち、いくつの制度を定めていますか。
D35: □ | E35: ①フレックスタイム制 | F35: □ | G35: ②始業・終業時刻の繰上げ・繰下げ （１日の所定労働時間は変わらない）
E36: （該当条文： ） | G36: （該当条文： ）
D37: □ | E37: ③介護サービス費用を補助する制度 （ホームヘルパーや介護サービスの利用料補助等）
E38: （該当条文： ）
D39: □ | E39: ④その他これに準ずる制度（ ）
E40: （該当条文： ）
B42: Q5 | C42: Q4で定めているとした制度について、当てはまるものにチェックをしてください。（定めている制度のうち、一つでも当てはまる制度があればチェックをしてください。）
D43: □ | E43: ①介護休業とは別に、利用開始から３年を超える期間で２回の利用を可能としている。
E44: （該当条文： ）
D45: □ | E45: ②介護休業とは別に、利用開始から３年の間で３回以上の利用を可能としている。
E46: （該当条文： ）
D47: □ | E47: ③介護休業とは別に、利用開始から３年を超える期間で３回以上の利用を可能としている。
E48: （該当条文： ）
D49: □ | E49: ④その他
E50: （該当条文： ）
B51: =$B$1&" "&$B$2 -> （様式-１１） 評価項目（３）-② | F51: =IF(企業入力シート!C7="","",企業入力シート!C7) -> ○○建設
B52: 【法定を超える内容チェック表２】 各Ｑの「はい」または「いいえ」、「該当項目」に■ をご記入下さい。
B54: Q6 | C54: 小学生以上の子を持つ従業員が利用できる以下の制度のうち、いくつの制度がありますか。
D55: □ | E55: ①短時間勤務制度 | F55: □ | G55: ②テレワーク等
E56: （該当条文： ） | G56: （該当条文： ）
D57: □ | E57: ③フレックスタイム制 | F57: □ | G57: ④始業・終業時刻の繰上げ・繰下げ （１日の所定労働時間は変わらない）
E58: （該当条文： ） | G58: （該当条文： ）
D59: □ | E59: ⑤所定外労働をさせない制度 | F59: □ | G59: ⑥事業所内託児施設の運営 （共同運営や保育施設と契約している場合も含む）
E60: （該当条文： ） | G60: （該当条文： ）
D61: □ | E61: ⑦養育両立支援休暇の付与（子の看護等休暇を除く）
E62: （該当条文： ）
B64: Q7 | C64: 子の看護休暇について、従業員に対する次の配慮のうち、何項目実施していますか。
D65: □ | E65: ①小学校４年生以上の子についても、別に子の看護休暇が取得できる。 | F65: □ | G65: ②取得可能日数が、年５日（小学校３年生修了までの子が2人以上であれば年10日）を超える
E66: （該当条文： ） | G66: （該当条文： ）
B68: Q8 | C68: 介護休暇について、従業員に対する次の配慮のうち、何項目実施していますか。
D69: □ | E69: ①取得可能日数が、年5日（対象家族が2人以上であれば年10日）を超える。 | F69: □ | G69: ②法で定める「対象家族」を超える範囲も対象。 （対象家族：配偶者、父母・子・祖父母・兄弟姉妹及び孫、配偶者の父母）
E70: （該当条文： ） | G70: （該当条文： ）
B72: Q９ | C72: 子供が生まれる際の父親の休暇制度がある。
D73: □ | E73: はい | F73: □ | G73: いいえ
E74: （内容 ）
E75: （該当条文： ）
B77: Q10 | C77: 前々年（度）に残った年次有給休暇の積立制度を設けている。
D78: □ | E78: はい | F78: □ | G78: いいえ
E79: （内容 ）
E80: （該当条文： ）
B82: Q11 | C82: 妊娠、出産、育児、介護を理由に退職した従業員を対象とした再雇用制度がある。
D83: □ | E83: はい | F83: □ | G83: いいえ
E84: （内容 ）
E85: （該当条文： ）
B87: Q12 | C87: 次の制度等のうち、有給としているものが、いくつありますか。（一部支給でも可）
D88: □ | E88: ①産前産後休業（支給割合： ） | F88: □ | G88: ②育児時間 （支給割合： ）
E89: （該当条文： ） | G89: （該当条文： ）
D90: □ | E90: ③育児休業 （支給割合： ） | F90: □ | G90: ④介護休業 （支給割合： ）
E91: （該当条文： ） | G91: （該当条文： ）
D92: □ | E92: ⑤子の看護休暇 （支給割合： ） | F92: □ | G92: ⑥介護休暇 （支給割合： ）
E93: （該当条文： ） | G93: （該当条文： ）
D94: □ | E94: ⑦独自の有給休暇制度 （休暇名： ）
E95: （該当条文： ）
D96: ②「育児時間」：出産後１歳未満の子どもを育てる女性から請求があった場合、1日2回それぞれ30分以上、育児のための時間を与えなければなりません。（労働基準法第67条） ⑦独自の有給休暇制度の例：生理休暇、妊婦検診のための休暇、家族記念日休暇、バースディ休暇など（本人の結婚、妻の出産、忌引きによる休暇を除く）
B98: =$B$1&" "&$B$2 -> （様式-１１） 評価項目（３）-② | F98: =IF(企業入力シート!C7="","",企業入力シート!C7) -> ○○建設
B99: 【法定を超える内容チェック表３】 各Ｑの「はい」または「いいえ」、「該当項目」に■ をご記入下さい。
B101: Q13 | C101: その他、上記以外で育児・介護休業法の規定を超える取組の実施があれば、法律条文を記入、該当部分を下線明示した上で、就業規則等を記入、法律を超える内容を具体的に下線明示してください。
D102: □ | E102: （育児・介護休業法）第○○条第○○項 ○○○○○○○○○ … ○○○○○○○○○○○○○○○○○○ ……………
E103: （就業規則）第○○条第○○項 ○○○○○○○○ … ○○○○○○○○○○○○○○○○○○○○ ……………
E105: 法定内 判 定 | F105: ＯＫ！
D107: ★ | E107: 総合評価（Ｑ1～Ｑ13） 加 算 | F107: =IF(F105="ＯＫ！",IF((COUNTIF(D11,"■")+COUNTIF(D18:F22,"■")+COUNTIF(D28,"■")+COUNTIF(D35:F49,"■")+COUNTIF(D55:F69,"■")+COUNTIF(D72:D83,"■")+COUNTIF(D88:F94,"■")+COUNTIF(D102,"■"))>=1,"ＯＫ！","ＮＯ！"),"ＮＯ！") -> ＮＯ！
E108: ★総合評価（Ｑ1～Ｑ13）加算欄が「ＯＫ！」となる場合でも、就業規則等の添付資料により上記記載内容が確認できなければ、総合評価方式の加算点を認めません。

Sheet 消防団
A1: =CONCATENATE("（様式-",INDEX(発注者入力シート!$B$29:$G$38,MATCH(発注者入力シート!N16,発注者入力シート!$C$29:$C$38,0),4),"）") -> （様式-１２） | S1: 着色セルの凡例
A2: =CONCATENATE("評価項目",INDEX(発注者入力シート!$B$29:$G$38,MATCH(発注者入力シート!N16,発注者入力シート!$C$29:$C$38,0),5),"-",INDEX(発注者入力シート!$B$29:$G$38,MATCH(発注者入力シート!N16,発注者入力シート!$C$29:$C$38,0),6)) -> 評価項目（３）-③ | S2: （企業）
T3: ：「企業入力シートで入力（数式リンク有）
A4: 消防団協力事業所の認定 | T4: ：リストから選択が必要な箇所
H6: 会社（企業体）名： | K6: =IF(企業入力シート!C7="","",企業入力シート!C7) -> ○○建設 | S6: （発注者）
T7: ：「発注者入力シート」で入力（数式リンク有）
T8: ：セルに直接入力が必要な箇所
A9: 対象： | B9: =CONCATENATE("入札公告日前日時点（令和",(YEAR(発注者入力シート!H7)-2018),"年",MONTH(発注者入力シート!H7),"月",DAY(発注者入力シート!H7),"日時点）での消防団協力事業所の認定状況") -> 入札公告日前日時点（令和8年10月1日時点）での消防団協力事業所の認定状況
A10: 消防団協力事業所の認定の有無 | S10: 【印刷について】
S11: このシートは「ページ設定」で「白黒印刷」と「印刷範囲」が設定されています。
A12: (1) | B12: 消防団協力事業所の認定を証明する書類の写しを添付すること。この書類は「事業者名」、「認定日」そして「認定の有効期限」のいずれもが記載してあり、市町村長が発行したものであること。 | S12: 様式内の吹出しコメントは印刷されません。

Sheet 登録基幹技能者
A1: =CONCATENATE("（様式-",INDEX(発注者入力シート!$B$29:$G$38,MATCH(発注者入力シート!N22,発注者入力シート!$C$29:$C$38,0),4),"）") -> （様式-１３） | S1: 着色セルの凡例
A2: =CONCATENATE("評価項目",INDEX(発注者入力シート!$B$29:$G$38,MATCH(発注者入力シート!N22,発注者入力シート!$C$29:$C$38,0),5),"-",INDEX(発注者入力シート!$B$29:$G$38,MATCH(発注者入力シート!N22,発注者入力シート!$C$29:$C$38,0),6)) -> 評価項目（３）-④ | S2: （企業）
T3: ：「企業入力シート」、一覧表（別紙）で入力（数式リンク有）
A4: 登録基幹技能者の配置 | T4: ：リストから選択が必要な箇所
H6: 会社（企業体）名： | K6: =IF(企業入力シート!C7="","",企業入力シート!C7) -> ○○建設 | S6: （発注者）
T7: ：「発注者入力シート」で入力（数式リンク有）
T8: ：セルに直接入力が必要な箇所
A9: 対象： | B9: 登録配管基幹技能者の現場への配置
A10: 現場への配置 | S10: 【印刷について】
A11: （1) | B11: 現場に配置する登録基幹技能者は、主任技術者（下請企業も含む。）及び監理技術者（監理技術者補佐を含む）以外の技術者を対象とする。 | S11: このシートは「ページ設定」で「白黒印刷」と「印刷範囲」が設定されています。
S12: 様式内の吹出しコメントは印刷されません。

Sheet 【建築】応急危険度判定士
A1: =CONCATENATE("（様式-",INDEX(発注者入力シート!$B$29:$G$38,MATCH(発注者入力シート!N18,発注者入力シート!$C$29:$C$38,0),4),"）") -> #N/A | S1: 着色セルの凡例
A2: =CONCATENATE("評価項目",INDEX(発注者入力シート!$B$29:$G$38,MATCH(発注者入力シート!N18,発注者入力シート!$C$29:$C$38,0),5),"-",INDEX(発注者入力シート!$B$29:$G$38,MATCH(発注者入力シート!N18,発注者入力シート!$C$29:$C$38,0),6)) -> #N/A | S2: （企業）
T3: ：「企業入力シートで入力（数式リンク有）
A4: 島根県地震被災建築物応急危険度判定士派遣協力事業者の登録 | T4: ：セルに直接入力が必要な箇所
H6: 会社（企業体）名： | K6: =IF(企業入力シート!C7="","",企業入力シート!C7) -> ○○建設 | S6: （発注者）
T7: ：「発注者入力シート」で入力（数式リンク有）
A8: 派遣協力事業者登録番号 | G8: 登録年月日 | T8: ：セルに直接入力が必要な箇所
S9: 【印刷について】
S10: このシートは「ページ設定」で「白黒印刷」と「印刷範囲」が設定されています。
A12: 登録者氏名 | G12: 最新登録（更新）年月日 | L12: 応急危険度判定士 登録番号
A27: (1) | B27: 島根県地震被災建築物応急危険度判定市派遣協力事業者登録証の写しを添付すること。
A28: (2) | B28: 各登録者の『応急危険度判定士登録証」の写し（表裏共）を添付すること。
A29: (3) | B29: 各登録者の雇用関係が証明できる書類の写しを添付すること。
A30: (4) | B30: 9名以上登録している場合は、代表者9名について記入すること。
A31: (5) | B31: =CONCATENATE("入札公告日前日時点（令和",(YEAR(発注者入力シート!H7)-2018),"年",MONTH(発注者入力シート!H7),"月",DAY(発注者入力シート!H7),"日時点）での状況について記載すること。") -> 入札公告日前日時点（令和8年10月1日時点）での状況について記載すること。
A33: ※ | B33: 雇用関係を確認できる資料(例)
B34: 監理技術者資格者証の写し、市町村が作成する住民税特別徴収税額通知書の写し、
B35: 健康保険・厚生年金被保険者標準報酬決定通知書の写し、所属会社の雇用証明書等

Sheet 【建築】応急復旧相談員
A1: =CONCATENATE("（様式-",INDEX(発注者入力シート!$B$29:$G$38,MATCH(発注者入力シート!N23,発注者入力シート!$C$29:$C$38,0),4),"）") -> （様式-１４） | S1: 着色セルの凡例
A2: =CONCATENATE("評価項目",INDEX(発注者入力シート!$B$29:$G$38,MATCH(発注者入力シート!N23,発注者入力シート!$C$29:$C$38,0),5),"-",INDEX(発注者入力シート!$B$29:$G$38,MATCH(発注者入力シート!N23,発注者入力シート!$C$29:$C$38,0),6)) -> 評価項目（３）-⑤ | S2: （企業）
T3: ：「企業入力シートで入力（数式リンク有）
A4: 島根県被災住宅応急復旧相談員の登録 | T4: ：セルに直接入力が必要な箇所
H6: 会社（企業体）名： | K6: =IF(企業入力シート!C7="","",企業入力シート!C7) -> ○○建設 | S6: （発注者）
T7: ：「発注者入力シート」で入力（数式リンク有）
A8: 島根県建築住宅施策推進協議会 会員団体への所属 | T8: ：セルに直接入力が必要な箇所
S10: 【印刷について】
S11: このシートは「ページ設定」で「白黒印刷」と「印刷範囲」が設定されています。
A12: 登録者氏名 | G12: 有効期限 （年月日） | L12: 登録番号
A27: (1) | B27: 各登録者の『応急復旧相談員証」の写し（表）を添付すること。
A28: (2) | B28: 各登録者の雇用関係が証明できる書類の写しを添付すること。
A29: (3) | B29: 6名以上登録している場合は、代表者6名について記入すること。
A30: (4) | B30: =CONCATENATE("入札公告日前日時点（令和",(YEAR(発注者入力シート!H7)-2018),"年",MONTH(発注者入力シート!H7),"月",DAY(発注者入力シート!H7),"日時点）での状況について記載すること。") -> 入札公告日前日時点（令和8年10月1日時点）での状況について記載すること。
A32: ※ | B32: 雇用関係を確認できる資料(例)
B33: 監理技術者資格者証の写し、市町村が作成する住民税特別徴収税額通知書の写し、
B34: 健康保険・厚生年金被保険者標準報酬決定通知書の写し、所属会社の雇用証明書等

Sheet 若手技術者・従業員新規雇用
A1: =CONCATENATE("（様式-",INDEX(発注者入力シート!$B$29:$G$38,MATCH(発注者入力シート!N25,発注者入力シート!$C$29:$C$38,0),4),"）") -> （様式-１５） | S1: 着色セルの凡例
A2: =CONCATENATE("評価項目",INDEX(発注者入力シート!$B$29:$G$38,MATCH(発注者入力シート!N25,発注者入力シート!$C$29:$C$38,0),5),"-",INDEX(発注者入力シート!$B$29:$G$38,MATCH(発注者入力シート!N25,発注者入力シート!$C$29:$C$38,0),6)) -> 評価項目（３）-⑥ | S2: （企業）
T3: ：「企業入力シートで入力（数式リンク有）
A4: 若手技術者・若手従業員の新規雇用 | T4: ：セルに直接入力もしくはリストから選択が必要な箇所
H6: 会社（企業体）名： | K6: =IF(企業入力シート!C7="","",企業入力シート!C7) -> ○○建設 | S6: （発注者）
T7: ：「発注者入力シート」で入力（数式リンク有）
A8: 対象： | B8: 令和６年４月１日以降に、若手技術者・若手従業員（３０歳未満の者）の１人以上の新規雇用があること。 | T8: ：セルに直接入力が必要な箇所
B10: ただし、入札参加希望者と直接的かつ恒常的な雇用関係にあること。
A12: ○若手技術者・若手従業員の新規雇用があれば、下表を記載すること。
A13: 新規雇用の内容 | H13: 新規雇用① | M13: 新規雇用②
A14: 新規雇用した若手技術者・若手従業員の氏名
A15: 生年月日
A16: 新規雇用年月日
A17: 新規雇用時の年齢 | H17: =IF(OR(H15="",H16=""),"-",DATEDIF(H15,H16,"Y")) -> - | M17: =IF(OR(M15="",M16=""),"-",DATEDIF(M15,M16,"Y")) -> -
A18: （a）.建設業法第７条第１項第２号イで定める学校の建設業法施行規則第１条に定める学科（国土交通省令で定める学科）を卒業した者等。 なお、国土交通省令で定める学科に記載の、許可を受けようとする建設業欄の許可業種毎の区分はない。 または、旧建設業法施行令第36条第１項第１号及び第２号並びに旧令第37条第２項第１号イ(１)及び(２)並びに第２号イ(１)で定める学校の施工技術検定規則第2条に定める学科を修めた者等。
A28: （b）.当該工事種別に該当する建設業法第７条第１項第２号ハに示す資格を有する者
A33: （c）.上記（a）、（b）以外の若手従業員
A38: (1) | B38: 新規雇用した日における年齢が３０歳未満である者を記載すること。
A39: (2) | B39: 新規雇用した日及び直接的かつ恒常的な雇用関係を確認できる書類を添付すること。
A40: (3) | B40: （a）に該当する場合、指定学校・学科を卒業したことがわかる証明書の写しを添付すること。
B41: （学科名だけでは判断できない学科の場合は専攻等まで記載のある証明書とすること。）
A42: (4) | B42: （b）に該当する場合、資格者証の写しを添付すること。
A43: (５) | B43: =CONCATENATE("入札公告日前日時点（令和",(YEAR(発注者入力シート!H7)-2018),"年",MONTH(発注者入力シート!H7),"月",DAY(発注者入力シート!H7),"日時点）での状況について記載すること。") -> 入札公告日前日時点（令和8年10月1日時点）での状況について記載すること。
A45: ※ | B45: 雇用関係確認書類
B46: （１）所属会社の雇用証明書（参考様式HP掲載）
B47: （２）雇用保険被保険者資格取得等確認通知書（事業主通知用）及び監理技術者資格者証
B48: （３）その他上記に準ずる資料（所属会社名及び３ヶ月以上の雇用関係が確認できるもの
B49: （２つの書類を提出しても可）に限る)
B50: ○詳細は島根県土木部土木総務課建設産業対策室ホームページ参照
B51: URL: | C51: https://www.pref.shimane.lg.jp/admin/bid/seido/seido_doboku/jyoukinseikakuninsiryou.html

Sheet 建設キャリアアップシステム(CCUS)
A1: =CONCATENATE("（様式-",INDEX(発注者入力シート!$B$29:$G$38,MATCH(発注者入力シート!N20,発注者入力シート!$C$29:$C$38,0),4),"）") -> #N/A | S1: 着色セルの凡例
A2: =CONCATENATE("評価項目",INDEX(発注者入力シート!$B$29:$G$38,MATCH(発注者入力シート!N20,発注者入力シート!$C$29:$C$38,0),5),"-",INDEX(発注者入力シート!$B$29:$G$38,MATCH(発注者入力シート!N20,発注者入力シート!$C$29:$C$38,0),6)) -> #N/A | S2: （企業）
T3: ：「企業入力シート」、一覧表（別紙）で入力（数式リンク有）
A4: 建設キャリアアップシステム（CCUS）の活用 | T4: ：セルに直接入力もしくはリストから選択が必要な箇所
H6: 会社（企業体）名： | K6: =IF(企業入力シート!C7="","",企業入力シート!C7) -> ○○建設 | S6: （発注者）
T7: ：「発注者入力シート」で入力（数式リンク有）
A8: 対象： | B8: 当該工事における建設キャリアアップシステム（CCUS）の活用することの確約 | T8: ：セルに直接入力が必要な箇所
B9: ※活用とは、建設現場にカードリーダーを設置するなどして、技能労働者の就業履歴を蓄積することをいう
A11: 確約の有無
B12: ※記入がない場合は「無」と判断する。
B13: ※「有」の場合は、建設キャリアアップシステム活用確約書を提出すること。 | S13: 【印刷について】
S14: このシートは「ページ設定」で「白黒印刷」と「印刷範囲」が設定されています。
S15: 様式内の吹出しコメントは印刷されません。
A16: 建設キャリアアップシステム活用確約書
M19: =IF(E11="有",企業入力シート!C4,"")
B21: =IF(E11="有",発注者入力シート!C6&"長 様","")
H25: 住 所 | K25: =IF(E11="有",企業入力シート!C6,"")
H26: 商号又は名称 | K26: =IF(E11="有",企業入力シート!C7,"")
H27: 代 表 者 名 | K27: =IF(E11="有",企業入力シート!C8,"")
B30: 下記工事の施工にあたり、建設キャリアアップシステムを活用することを確約します。
H32: 記
B34: １ 工事名 | E34: =IF(E11="有",発注者入力シート!C10,"")
B37: ２ 確約内容
C38: 島根県建設キャリアアップシステム活用促進実施要領に基づき、建設現場にカードリーダーを設置するなどして、技能労働者の就業履歴を蓄積する。
B41: ３ 承諾事項
C42: ・工事完成後に実績確認のための証拠書類（ 「現場・契約情報」の出力帳票など）を発注者に提出し確認を受ける。
C44: ・確約した工事で活用しなかった場合は、工事成績評定で減点となる。

Sheet 近隣施工実績
A1: =CONCATENATE("（様式-",INDEX(発注者入力シート!$B$39:$G$40,MATCH(発注者入力シート!O6,発注者入力シート!$C$39:$C$40,0),4),"）") -> #N/A | U1: 着色セルの凡例
A2: =CONCATENATE("評価項目",INDEX(発注者入力シート!$B$39:$G$40,MATCH(発注者入力シート!O6,発注者入力シート!$C$39:$C$40,0),5),"-",INDEX(発注者入力シート!$B$39:$G$40,MATCH(発注者入力シート!O6,発注者入力シート!$C$39:$C$40,0),6)) -> #N/A | U2: （企業）
V3: ：「企業入力シートで入力（数式リンク有）
A4: 地理的条件 | V4: ：セルに直接入力もしくはリストから選択が必要な箇所
A5: （近隣地域での施工実績）
U6: （発注者）
H7: 会社（企業体）名： | L7: =IF([2]企業入力シート!C7="","",[2]企業入力シート!C7) -> ○○建設 | V7: ：「発注者入力シート」で入力（数式リンク有）
V8: ：セルに直接入力が必要な箇所
A10: 対象： | B10: ="令和"&発注者入力シート!$F$11-2&"年度から令和"&発注者入力シート!$F$11-1&"年度に完成及び引き渡しが完了した島根県（総務部（企業局及び病院局契約を含み、企業局及び病院局発注工事は除く。）、農林水産部、土木部）発注工事" -> 令和6年度から令和7年度に完成及び引き渡しが完了した島根県（総務部（企業局及び病院局契約を含み、企業局及び病院局発注工事は除く。）、農林水産部、土木部）発注工事 | U10: 【印刷について】
U11: このシートは「ページ設定」で「白黒印刷」と「印刷範囲」が設定されています。
A12: 対象工事 | F12: 元請または共同企業体（経常ＪＶを除く）の構成員（ただし出資比率２０％以上）として松江県土整備事務所管内において施工した完成及び引き渡しが完了した工事。 | U12: 様式内の吹出しコメントは印刷されません。
A14: 工事種別 | F14: =INDEX(発注者入力シート!$AV$3:$BA$9,MATCH(発注者入力シート!$AW$2,発注者入力シート!$AX$3:$AX$9,0),4) -> 建築物に係る冷暖房衛生設備工事
A15: 建設工事の種類 | F15: =INDEX(発注者入力シート!$AV$3:$BA$9,MATCH(発注者入力シート!$AW$2,発注者入力シート!$AX$3:$AX$9,0),5) -> 管工事、熱絶縁工事、消防施設工事
A17: 工事内容 | F17: 施工実績① | M17: 施工実績②
A18: 工 事 名
A22: コリンズ登録番号
A23: 発注機関名 | T23: ← | U23: ○○県土整備事務所など発注機関名を記入（略名可）
A24: 工事種別
A25: 建設工事の種類
A26: 施工場所
U27: （チェック用）
A28: 請負金額（最終・税込） | L28: 円 | S28: 円 | U28: 西暦
A29: 契約上の工期 | E29: （始） | H29: 年 | J29: 月 | L29: 日 | O29: 年 | Q29: 月 | S29: 日 | U29: 46235 | V29: ←西暦を入力すると下の欄に和暦が表示 | AA29: 平成
E30: （終） | H30: 年 | J30: 月 | L30: 日 | O30: 年 | Q30: 月 | S30: 日 | U30: 和暦 | AA30: 令和
A31: 受注形態 | U31: =U29 -> 46235
A32: 特別（特定）ＪＶの場合、出資比率
A33: 工事成績評定点 | L33: 点 | S33: 点
A36: (1) | B36: 施工実績（上表記載内容）全てが確認できるよう下表を参考に資料①～⑨を組み合せて提出すること。
B37: ① | C37: コリンズの「登録内容確認書」の写し。（竣工登録に限る。）
B38: ② | C38: 最終の見積参考資料（設計の変更回数が確認できる総括情報表と工事内訳表）。ただし、必ず当初、変更を含む契約書全ての写し（資料③）＋項目別評定点表（資料④）もしくは竣工検査済証の写し（資料⑤）を追加添付すること。
B41: ③ | C41: 当初、変更を含む契約書全ての写し。
B42: ④ | C42: 項目別評定点表。（島根県発注工事に限る。）
B43: ⑤ | C43: 竣工検査済証の写し。
B44: ⑥ | C44: 工事成績評定通知書の写し。ただし、工事成績評定対象外工事の場合は、「成績評定対象外」である旨を「工事成績評定点」欄に記載すること。（島根県以外の発注工事は、成績評定対象外であることを確認するための発注者の証明書の写し（資料⑧）も追加添付すること。）
B47: ⑦ | C47: 資料①または資料②のみでは同種工事の施工実績（工事概要）が確認できない場合は、確認できる資料（工事名と設計の変更回数が確認できる最終図面等）。ただし、必ず当初、変更を含む契約書全ての写し（資料③）＋項目別評定点表（資料④）もしくは竣工検査済証の写し（資料⑤）を追加添付すること。
B51: ⑧ | C51: 発注者の証明書の写し。
B52: ⑨ | C52: 施工実績として提出する工事の「工事種別」及び「建設工事の種類」が確認できる資料
A54: 資料①～⑨で確認できる内容
A55: 項目名 | G55: 資料番号 | P55: 備考
G56: ① | H56: ② | I56: ③ | J56: ④ | K56: ⑤ | L56: ⑥ | M56: ⑦ | N56: ⑧ | O56: ⑨
A57: 工事名称等 | B57: 工事名 | G57: ○ | H57: ○ | I57: ○ | J57: ○ | K57: ○ | L57: ○ | M57: ○ | N57: ○ | O57: ○
B58: コリンズ登録番号 | G58: ○ | P58: ①のみ対象
B59: 発注機関名 | G59: ○ | H59: ○ | I59: ○ | J59: ○ | K59: ○ | L59: ○ | N59: ○ | O59: ○
B60: 工事種別、建設工事の種類 | G60: ○ | N60: ○ | O60: ○
B61: 施工場所 | G61: ○ | I61: ○ | K61: ○ | N61: ○ | O61: ○
B62: 請負金額（最終・税込） | G62: ○ | I62: ○ | J62: ○ | K62: ○ | N62: ○
B63: 契約上の工期 | G63: ○ | I63: ○ | J63: ○ | K63: ○ | L63: ○ | N63: ○
B64: 受注形態 | G64: ○ | I64: ○ | J64: ○ | K64: ○ | L64: ○ | N64: ○
B65: 特別（特定）JVの場合、出資比率 | G65: ○ | N65: ○ | P65: JV工事のみ対象
A66: 工事成績評定点 | J66: ○ | L66: ○ | N66: ○ | P66: 成績評定対象外工事の場合、⑧が必須（島根県発注工事以外）
A70: ※１：上表の「○」は資料で確認ができるもの、「△」は全ては確認できないもの。
A71: ※２：上表の資料②、③、④、⑤、⑥の「○」と「△」は、島根県発注工事の場合。
A73: （参考）代表的な提出資料の組合せ
A74: パターン名 | C74: 条件１ | H74: 条件２ | O74: 提出資料の組合せ
A75: パターン１ | C75: ・コリンズと別資料を提出する場合 | H75: コリンズのみで工事概要が確認可能。 | O75: ①+④
O76: ①+⑥
A77: パターン２ | H77: コリンズのみで工事概要が確認できない。最終の見積参考資料を追加添付。 | O77: ①+②+③+④
O78: ①+②+③+⑤+⑥
A80: パターン３ | H80: コリンズのみで工事概要が確認できない。最終図面等を追加添付。 | O80: ①+③+④+⑦
O81: ①+③+⑤+⑥+⑦
A83: パターン４ | H83: コリンズのみで工事概要が確認できない。発注者の証明書を追加添付。 | O83: ①＋⑧
A85: パターン５ | C85: ・別資料のみを提出する場合 | H85: 最終の見積参考資料で工事概要が確認可能。 | O85: ②+③+④+⑨
O86: ②+③+⑤+⑥+⑨
A87: パターン６ | H87: 最終の見積参考資料で工事概要が確認できない。最終図面等を追加添付。 | O87: ②+③+④+⑦+⑨
O88: ②+③+⑤+⑥+⑦+⑨
A90: パターン７ | H90: 最終の見積参考資料等、必要な資料を追加添付。 | O90: ⑧
O91: ⑧+⑨
A93: (2) | B93: 施工実績が２回以上ある場合は、代表的なもの２回分の提出でよい。
A94: (3) | B94: 特別（特定）ＪＶで施工した工事については、出資比率２０％以上の場合にのみ施工実績として認める。
A95: (4) | B95: 上記事項の外、入札説明書本文にある要件を必ず確認すること。

Sheet 会社所在地
A1: =CONCATENATE("（様式-",INDEX(発注者入力シート!$B$39:$G$40,MATCH(発注者入力シート!O7,発注者入力シート!$C$39:$C$40,0),4),"）") -> #N/A | S1: 着色セルの凡例
A2: =CONCATENATE("評価項目",INDEX(発注者入力シート!$B$39:$G$40,MATCH(発注者入力シート!O7,発注者入力シート!$C$39:$C$40,0),5),"-",INDEX(発注者入力シート!$B$39:$G$40,MATCH(発注者入力シート!O7,発注者入力シート!$C$39:$C$40,0),6)) -> #N/A | S2: （企業）
T3: ：「企業入力シートで入力（数式リンク有）
A4: 地理的条件 | T4: ：セルに直接入力もしくはリストから選択が必要な箇所
A5: （会社所在地）
S6: （発注者）
G7: 会社（企業体）名： | K7: =IF(企業入力シート!C7="","",企業入力シート!C7) -> ○○建設 | T7: ：「発注者入力シート」で入力（数式リンク有）
T8: ：セルに直接入力が必要な箇所
A10: 対象： | B10: 入札公告日前日において、評価対象地域内に建設業法で規定する主たる営業所（本店）または従たる営業所（支店、営業所）がある者 | S10: 【印刷について】
S11: このシートは「ページ設定」で「白黒印刷」と「印刷範囲」が設定されています。
S12: 様式内の吹出しコメントは印刷されません。
A13: 評価対象地域 | D13: ○○県土整備事務所管内
A15: 種類 | F15: 住 所
A16: 本店
A21: (1) | B21: 資料の添付は不要。ただし、上記内容(住所)が、島根県建設工事等入札参加資格者名簿に記載の住所と異なる場合は、建設業許可申請における営業所一覧表等、上記内容(住所)を確認するために必要な資料を添付すること。営業所一覧表等は、原本と相違ないことを代表者名で証明すること。
A24: (2) | B24: =CONCATENATE("入札公告日前日（令和",(YEAR(発注者入力シート!H7)-2018),"年",MONTH(発注者入力シート!H7),"月",DAY(発注者入力シート!H7),"日時点）での状況について記載すること。") -> 入札公告日前日（令和8年10月1日時点）での状況について記載すること。
A27: ※ | B27: 島根県建設工事等入札参加資格者名簿は島根県土木総務課建設産業対策室ホームページにて掲載 http://www.pref.shimane.lg.jp/admin/bid/shikaku/shinsei_doboku/nyuusatu_sannka_meibo_4-6.html

Sheet 質問書
A1: =CONCATENATE("（様式－",発注者入力シート!E41,"）") -> （様式－１６） | S1: 着色セルの凡例
A2: 令和 年 月 日 | S2: （企業）
T3: ：「企業入力シートで入力（数式リンク有）
A4: 設計図書、技術資料作成に対する質問書 | T4: ：セルに直接入力が必要な箇所
S6: （発注者）
T7: ：「発注者入力シート」で入力（数式リンク有）
A8: 令和 年 月 日付けで入札公告のありました下記工事について下記のとおり質問します。 | T8: ：セルに直接入力が必要な箇所
A9: 記
A10: 入札公告日 | E10: =IF(発注者入力シート!C7="","",発注者入力シート!C7) -> 46297 | S10: 【印刷について】
A11: 工事名 | E11: =IF(発注者入力シート!C10="","",発注者入力シート!C10) -> 隠岐高等学校長寿命化（受水槽改修外）工事 | S11: このシートは「ページ設定」で「白黒印刷」と「印刷範囲」が設定されています。
A13: 質問事項 | E13: 要旨

Sheet 回答書
A1: =CONCATENATE("（様式－",発注者入力シート!E42,"）") -> （様式－１７） | S1: 着色セルの凡例
A2: 令和 年 月 日 | S2: （発注者）
T3: ：「発注者入力シート」で入力（数式リンク有）
A4: 設計図書、技術資料作成に対する質問の回答書 | T4: ：セルに直接入力が必要な箇所
A8: 令和 年 月 日付けでありました質問について下記のとおり回答します。
A9: 記
A10: 入札公告日 | E10: =IF(発注者入力シート!C7="","",発注者入力シート!C7) -> 46297 | S10: 【印刷について】
A11: 工事名 | E11: =IF(発注者入力シート!C10="","",発注者入力シート!C10) -> 隠岐高等学校長寿命化（受水槽改修外）工事 | S11: このシートは「ページ設定」で「白黒印刷」と「印刷範囲」が設定されています。
A13: 質問事項 | E13: 回答

Sheet 評価内容説明要求
A1: =CONCATENATE("（様式－",発注者入力シート!E43,"）") -> （様式－１８） | S1: 着色セルの凡例
A2: 令和 年 月 日 | S2: （企業）
A3: 評価内容説明要求書 | T3: ：「企業入力シートで入力（数式リンク有）
T4: ：セルに直接入力が必要な箇所
A5: （発注者）
F6: 様 | S6: （発注者）
T7: ：「発注者入力シート」で入力（数式リンク有）
K8: （提案者） | T8: ：セルに直接入力が必要な箇所
S10: 【印刷について】
S11: このシートは「ページ設定」で「白黒印刷」と「印刷範囲」が設定されています。
A12: 令和 年 月 日付けで公表のありました入札結果調書において下記事項について評価内容の詳細な説明を求めます。
A15: 記
A17: 入札公告日 | E17: =発注者入力シート!C7 -> 46297
A18: 工事名 | E18: =発注者入力シート!C10 -> 隠岐高等学校長寿命化（受水槽改修外）工事
A20: 評価内容の説明を求める項目及び要求の要旨
A21: 項目 | E21: 説明を求める要旨
A22: ①
A30: ②
A38: ③

Sheet 評価内容回答
A1: =CONCATENATE("（様式－",発注者入力シート!E44,"）") -> （様式－１９） | S1: 着色セルの凡例
A2: 令和 年 月 日 | S2: （企業）
A3: 評価内容回答書 | T3: ：「企業入力シートで入力（数式リンク有）
T4: ：セルに直接入力が必要な箇所
A5: （提案者）
F6: 様 | S6: （発注者）
T7: ：「発注者入力シート」で入力（数式リンク有）
K8: （発注者） | T8: ：セルに直接入力が必要な箇所
S10: 【印刷について】
S11: このシートは「ページ設定」で「白黒印刷」と「印刷範囲」が設定されています。
A12: 令和 年 月 日付けで通知のありました評価内容説明要求書について下記のとおり回答します。
A15: 記
A17: 入札公告日 | E17: =発注者入力シート!C7 -> 46297
A18: 工事名 | E18: =発注者入力シート!C10 -> 隠岐高等学校長寿命化（受水槽改修外）工事
A20: 評価内容の説明要求に対する回答
A21: 項目 | E21: 回答
A22: ①
A30: ②
A38: ③
