Workbook
Name 【企業】評価項目: [1]発注者入力シート!$L$6:$L$13
Name 【企業】評価項目: [2]発注者入力シート!$L$6:$L$13
Name 【企業】評価項目: 発注者入力シート!$L$6:$L$13
Name 【技術者】評価項目: [1]発注者入力シート!$M$6:$M$12
Name 【技術者】評価項目: [2]発注者入力シート!$M$6:$M$12
Name 【技術者】評価項目: 発注者入力シート!$M$6:$M$12
Name 【地域貢献】評価項目: [1]発注者入力シート!$N$6:$N$29
Name 【地域貢献】評価項目: [2]発注者入力シート!$N$6:$N$29
Name 【地域貢献】評価項目: 発注者入力シート!$N$6:$N$27
Name 【地理的条件】評価項目: [1]発注者入力シート!$O$6:$O$11
Name 【地理的条件】評価項目: [2]発注者入力シート!$O$6:$O$11
Name 【地理的条件】評価項目: 発注者入力シート!$O$6:$O$11
Name 企業回答: 発注者入力シート!$Z$6:$Z$9
Name 企業回答1: [1]発注者入力シート!$V$6:$V$8
Name 企業回答1: [2]発注者入力シート!$V$6:$V$8
Name 企業回答1: 発注者入力シート!$V$6:$V$8
Name 企業回答10: 発注者入力シート!$AE$6:$AE$9
Name 企業回答11: [1]発注者入力シート!$AF$6:$AF$7
Name 企業回答11: [2]発注者入力シート!$AF$6:$AF$7
Name 企業回答11: 発注者入力シート!$AF$6:$AF$7
Name 企業回答12: 発注者入力シート!$AG$6:$AG$9
Name 企業回答13: [2]発注者入力シート!$AH$6:$AH$8
Name 企業回答13: [3]発注者入力シート!$AH$6:$AH$8
Name 企業回答14: [2]発注者入力シート!$AI$6:$AI$9
Name 企業回答14: [3]発注者入力シート!$AI$6:$AI$9
Name 企業回答2: [1]発注者入力シート!$W$6:$W$11
Name 企業回答2: [2]発注者入力シート!$W$6:$W$11
Name 企業回答2: 発注者入力シート!$W$6:$W$11
Name 企業回答3: [1]発注者入力シート!$X$6:$X$11
Name 企業回答3: [2]発注者入力シート!$X$6:$X$11
Name 企業回答3: 発注者入力シート!$X$6:$X$11
Name 企業回答4: 発注者入力シート!$Y$6:$Y$8
Name 企業回答5: 発注者入力シート!$Z$6:$Z$9
Name 企業回答6: [1]発注者入力シート!$AA$6:$AA$12
Name 企業回答6: [2]発注者入力シート!$AA$6:$AA$12
Name 企業回答6: 発注者入力シート!$AA$6:$AA$11
Name 企業回答7: [1]発注者入力シート!$AB$6:$AB$9
Name 企業回答7: [2]発注者入力シート!$AB$6:$AB$9
Name 企業回答7: 発注者入力シート!$AB$6:$AB$9
Name 企業回答8: [1]発注者入力シート!$AC$6:$AC$17
Name 企業回答8: [2]発注者入力シート!$AC$6:$AC$17
Name 企業回答8: 発注者入力シート!$AC$6:$AC$14
Name 企業回答9: [1]発注者入力シート!$AD$6:$AD$8
Name 企業回答9: [2]発注者入力シート!$AD$6:$AD$8
Name 企業回答9: 発注者入力シート!$AD$6:$AD$8
Name 建設工事の種類: [1]発注者入力シート!$U$6:$U$21
Name 建設工事の種類: [2]発注者入力シート!$U$6:$U$21
Name 建設工事の種類: 発注者入力シート!$U$6:$U$13
Name 工事種別: [1]発注者入力シート!$T$6:$T$22
Name 工事種別: [2]発注者入力シート!$T$6:$T$22
Name 工事種別: 発注者入力シート!$T$6:$T$11
Name 地域密着型: [1]発注者入力シート!$S$6:$S$7
Name 地域密着型: [2]発注者入力シート!$S$6:$S$7
Name 地域密着型: 発注者入力シート!$S$6:$S$7
Name 評価項目番号: [1]発注者入力シート!$Q$6:$Q$12
Name 評価項目番号: [2]発注者入力シート!$Q$6:$Q$12
Name 評価項目番号: 発注者入力シート!$Q$6:$Q$12
Name 評価項目番号_枝番: [1]発注者入力シート!$R$6:$R$16
Name 評価項目番号_枝番: [2]発注者入力シート!$R$6:$R$16
Name 評価項目番号_枝番: 発注者入力シート!$R$6:$R$16

Sheet 発注者入力シート
A1: 発注までに必要な作業 | L1: 【表３】プルダウンリスト | AV1: 技術資料「企業の工事成績評定点」、「配置予定技術者の工事成績評定点」の表示
A2: （１）発注工事の基本情報 | L2: 【表３】を編集すると評価項目（C列）のリストが変更できます（原則、着色セル以外編集不可）。 | AV2: 入力状況 | AW2: =C8&C9 -> 冷暖房衛生設備工事管工事
B3: １．【表１】のC列に基本情報を直接入力してください | L3: 表中の着色セルを予備欄です。項目が不足する場合ここに入力すれば、プルダウンリストを追加できます。 | AV3: 工事種別 | AW3: 建設工事の種類 | AX3: 判定用 | AY3: 表示（工事種別） | AZ3: 表示（建設工事の種類） | BA3: 工事成績評価対象期間
B4: 【表１】 | L4: 【表３】 | AV4: 一般建築工事 | AW4: 建築一式工事 | AX4: =AV4&AW4 -> 一般建築工事建築一式工事 | AY4: 一般建築工事 | AZ4: 建築一式工事 | BA4: 工事成績（過去5年間で評価）
B5: 入力項目名 | C5: 入力欄 | L5: 【企業】評価項目 | M5: 【技術者】評価項目 | N5: 【地域貢献・その他】評価項目 | O5: 【地理的条件】評価項目 | P5: 様式番号 | Q5: 評価項目番号 | R5: 評価項目番号（枝番） | S5: 地域設定 | T5: 工事種別 | U5: 建設工事の種類 | V5: 企業回答1 | W5: 企業回答2 | X5: 企業回答3 | Y5: 企業回答4 | Z5: 企業回答5 | AA5: 企業回答6 | AB5: 企業回答7 | AC5: 企業回答8 | AD5: 企業回答9 | AE5: 企業回答10 | AF5: 企業回答11 | AG5: 企業回答12 | AV5: 一般建築工事 | AW5: 防水工事 | AX5: =AV5&AW5 -> 一般建築工事防水工事 | AY5: 一般建築工事 | AZ5: 防水工事 | BA5: 工事成績（過去5年間で評価）
B6: 発注事務所名 | C6: 総務部営繕課 | D6: ←直接入力 | L6: 工事成績 | M6: 保有資格 | N6: 防災協定 | O6: 近隣施工実績 | P6: ２ | Q6: （１） | R6: ① | T6: 一般建築工事 | U6: 建築一式工事 | V6: 有 | W6: 国局長 | X6: 国局長の表彰 | Y6: 契約工事名 | Z6: 単体 | AA6: 監理技術者 | AB6: 本店 | AC6: ｼｮﾍﾞﾙ系掘削機(ｼｮﾍﾞﾙ) | AD6: 保有 | AE6: 第1ｸﾞﾙｰﾌﾟ | AF6: □ | AG6: 2回 | AV6: 一般建築工事 | AW6: とび・土工・コンクリート工事 | AX6: =AV6&AW6 -> 一般建築工事とび・土工・コンクリート工事 | AY6: 一般建築工事 | AZ6: 建築一式工事、とび・土工・コンクリート工事 | BA6: 工事成績（過去5年間で評価）
B7: 入札公告日 | C7: 46297 | D7: ←ｙｙｙｙ/m/dで入力【重要】 | G7: 入札公告日前日 | H7: =C7-1 -> 46296 | I7: ←削除厳禁 | L7: 同種工事実績 | M7: 同種工事経験 | N7: 家畜伝染病防疫協定 | O7: 会社所在地 | P7: ３ | Q7: （２） | R7: ② | T7: 電気工事 | U7: とび・土工・コンクリート工事 | V7: 無 | W7: 国整備局部長 | X7: 国整備局部長の表彰 | Y7: 表彰状記載工事名 | Z7: 特別（特定）JV | AA7: 主任技術者 | AB7: 支店 | AC7: ｼｮﾍﾞﾙ系掘削機(ﾊﾞｯｸﾎｳ) | AD7: リース契約 | AE7: 第2ｸﾞﾙｰﾌﾟ | AF7: ■ | AG7: 1回 | AI7: 技術資料の提出方法の表示 | AV7: 冷暖房衛生設備工事 | AW7: 管工事 | AX7: =AV7&AW7 -> 冷暖房衛生設備工事管工事 | AY7: 建築物に係る冷暖房衛生設備工事 | AZ7: 管工事、熱絶縁工事、消防施設工事 | BA7: 工事成績（過去5年間で評価）
B8: 工事種別 | C8: 冷暖房衛生設備工事 | D8: ←必須【入力結果が技術資料(企業成績評定点、技術者成績評定点）シートの対象工事欄に反映される】 | L8: 優良工事表彰 | M8: 技術者の表彰 | N8: 維持管理業務 | O8: 工場・会社所在地 | P8: ４ | Q8: （３） | R8: ③ | T8: 冷暖房衛生設備工事 | U8: 防水工事 | W8: 国事務所長 | X8: 国事務所長の表彰 | Z8: 一般（経常）JV | AA8: 担当技術者 | AB8: 営業所 | AC8: ｼｮﾍﾞﾙ系掘削機(ﾄﾞﾗｸﾞﾗｲﾝ) | AE8: 第3ｸﾞﾙｰﾌﾟ | AG8: 0回 | AI8: 未記入 | AJ8: 「企業入力シート」の「押印済資料での提出」欄が未記入ですので、リストから「有」、「無」どちらかを選択してください | AV8: 電気工事 | AW8: 電気工事 | AX8: =AV8&AW8 -> 電気工事電気工事 | AY8: 建築物に係る電気工事 | AZ8: 電気工事、消防施設工事 | BA8: 工事成績（過去5年間で評価）
B9: 建設工事の種類 | C9: 管工事 | D9: =IF(INDEX(AV3:BA9,MATCH(AW2,AX3:AX9,0),3)=AW2,INDEX(AV3:BA9,MATCH(AW2,AX3:AX9,0),6),"err") -> 工事成績（過去5年間で評価） | G9: ←エラー表示の場合、工事種別と建設工事の種類を再確認 | L9: プラント保有 | M9: 継続学習 | N9: 除雪業務 | O9: サポート拠点 | P9: ５ | Q9: （４） | R9: ④ | T9: 塗装工事 | U9: 電気工事 | W9: 知事 | X9: 知事表彰該当工事の表彰 | AA9: 監理技術者補佐 | AC9: ｼｮﾍﾞﾙ系掘削機(ｸﾗﾑｼｪﾙ) | AI9: 無 | AJ9: 本技術資料により提出します | AV9: 塗装工事 | AW9: 塗装工事 | AX9: =AV9&AW9 -> 塗装工事塗装工事 | AY9: 建築物に係る塗装工事 | AZ9: 塗装工事 | BA9: 工事成績（過去5年間で評価）
B10: 工事名 | C10: 隠岐高等学校長寿命化（受水槽改修外）工事 | L10: 法面機械保有 | M10: 技術者の成績 | N10: ボランティア活動 | O10: - | P10: ６ | Q10: （５） | R10: ⑤ | U10: 管工事 | W10: 県課長 | X10: 県課長表彰該当工事の表彰 | AC10: ｼｮﾍﾞﾙ系掘削機(ｸﾚｰﾝ) | AI10: 有 | AJ10: 事前審査・証明書、又は別添押印済資料により提出しますので、本書への記載は省略します
B11: 押印済資料有効期限 | C11: ="令和"&F11+1&"年7月31日までに入札公告された工事 " -> 令和9年7月31日までに入札公告された工事 | E11: 手引き年度 | F11: 8 | G11: =F11-1 -> 7 | H11: =G11-1 -> 6 | I11: =H11-1 -> 5 | L11: CPD制度参加登録 | M11: - | N11: 労働福祉（高齢者雇用） | P11: ７ | Q11: （６） | R11: ⑥ | U11: 塗装工事 | W11: 県事務所長 | X11: 県事務所長表彰該当工事の表彰 | AC11: ｼｮﾍﾞﾙ系掘削機(ﾊﾟｲﾙﾄﾞﾗｲﾊﾞｰ) | AI11: 配置なし | AJ11: 申請する場合は、「企業入力シート」の「押印済資料での提出」欄で「有」を選択してください
A12: （２）総合評価方式の評価項目、技術資料様式の番号情報 | L12: - | N12: 労働福祉（障がい者雇用） | P12: ８ | R12: ⑦ | U12: 熱絶縁工事 | AC12: ﾌﾞﾙﾄﾞｰｻﾞ
B13: １．【表２】C列に発注工事の評価項目を入力してください（プルダウンリストから選択） | N13: 労働福祉（育児介護制度） | P13: ９ | R13: ⑧ | U13: 消防施設工事 | AC13: ﾄﾗｸﾀｰｼｮﾍﾞﾙ
B14: （特殊な評価項目でプルダウンリストに項目がない場合は、【表３】で項目を追加してください） | N14: 育児介護チェック表 | P14: １０ | R14: ⑨
B15: ２．【表２】E～G列に様式番号と評価項目の番号をプルダウンリストで選択してください。 | N15: 労働福祉（若手技術者雇用） | P15: １１ | R15: ⑩
B16: （様式番号は表紙が1になるため、2から始まります。評価項目の番号は、入札説明書に記載する見出し番号とあわせてください） | N16: 消防団協力事業所 | P16: １２
B17: ３．地域条件を設定する評価項目は、【表２】D列で【地域設定】を選択してください | N17: 海上援助活動 | P17: １３
B18: 【表２】 | F18: 様式番号 | G18: 評価項目（１）－①（例） | N18: 応急危険度判定士派遣協力事業者 | P18: １４
B19: 区分 | C19: 評価項目 | D19: 地域設定 | E19: 様式－○ | F19: 評価項目○－○ | H19: ↓押印済資料提出状況【削除厳禁】 | N19: 若手・中堅技術者配置 | P19: １５
B20: 企業 | C20: 工事成績 | E20: ２ | F20: （１） | G20: ① | H20: =IF(企業入力シート!B44="","未記入",企業入力シート!B44) -> 未記入 | N20: 建設機械保有状況 | P20: １６
B21: 企業 | C21: 同種工事実績 | E21: ３ | F21: （１） | G21: ② | H21: =IF(企業入力シート!B45="","未記入",企業入力シート!B45) -> 未記入 | N21: BCP認定 | P21: １７
B22: 企業 | C22: 優良工事表彰 | E22: ４ | F22: （１） | G22: ③ | H22: =IF(企業入力シート!B46="","未記入",企業入力シート!B46) -> 未記入 | N22: 登録基幹技能者 | P22: １８
B23: 企業 | H23: =IF(企業入力シート!B47="","未記入",企業入力シート!B47) -> 未記入 | N23: 応急復旧相談員 | P23: １９
B24: 企業 | H24: =IF(企業入力シート!B48="","未記入",企業入力シート!B48) -> 未記入 | N24: CCUSの活用 | P24: ２０
B25: 配置予定技術者 | C25: 技術者の成績 | E25: ５ | F25: （２） | G25: ① | H25: =IF(企業入力シート!$C$18="","配置なし",IF(企業入力シート!B65="","未記入",企業入力シート!B65)) -> 配置なし | I25: =IF(企業入力シート!$C$19="","配置なし",IF(企業入力シート!B72="","未記入",企業入力シート!B72)) -> 配置なし | J25: =IF(企業入力シート!$C$20="","配置なし",IF(企業入力シート!B79="","未記入",企業入力シート!B79)) -> 配置なし | N25: 若手技術者・若手従業員の新規雇用 | P25: ２１
B26: 配置予定技術者 | C26: 同種工事経験 | E26: ６ | F26: （２） | G26: ② | H26: =IF(企業入力シート!$C$18="","配置なし",IF(企業入力シート!B66="","未記入",企業入力シート!B66)) -> 配置なし | I26: =IF(企業入力シート!$C$19="","配置なし",IF(企業入力シート!B73="","未記入",企業入力シート!B73)) -> 配置なし | J26: =IF(企業入力シート!$C$20="","配置なし",IF(企業入力シート!B80="","未記入",企業入力シート!B80)) -> 配置なし | N26: - | P26: ２２
B27: 配置予定技術者 | C27: 継続学習 | E27: ７ | F27: （２） | G27: ③ | H27: =IF(企業入力シート!$C$18="","配置なし",IF(企業入力シート!B67="","未記入",企業入力シート!B67)) -> 配置なし | I27: =IF(企業入力シート!$C$19="","配置なし",IF(企業入力シート!B74="","未記入",企業入力シート!B74)) -> 配置なし | J27: =IF(企業入力シート!$C$20="","配置なし",IF(企業入力シート!B81="","未記入",企業入力シート!B81)) -> 配置なし | P27: ２３
B28: 配置予定技術者 | H28: =IF(企業入力シート!$C$18="","配置なし",IF(企業入力シート!B68="","未記入",企業入力シート!B68)) -> 配置なし | I28: =IF(企業入力シート!$C$19="","配置なし",IF(企業入力シート!B75="","未記入",企業入力シート!B75)) -> 配置なし | J28: =IF(企業入力シート!$C$20="","配置なし",IF(企業入力シート!B82="","未記入",企業入力シート!B82)) -> 配置なし | P28: ２４
B29: 地域貢献・その他 | C29: ボランティア活動 | E29: ８ | F29: （３） | G29: ① | H29: =IF(企業入力シート!B52="","未記入",企業入力シート!B52) -> 未記入 | P29: ２５
B30: 地域貢献・その他 | C30: 労働福祉（障がい者雇用） | E30: ９ | F30: （３） | G30: ② | H30: =IF(企業入力シート!B53="","未記入",企業入力シート!B53) -> 未記入 | P30: ２６
B31: 地域貢献・その他 | C31: 労働福祉（育児介護制度） | E31: １０ | F31: （３） | G31: ② | H31: =IF(企業入力シート!B54="","未記入",企業入力シート!B54) -> 未記入 | P31: ２７
B32: 地域貢献・その他 | C32: 育児介護チェック表 | E32: １１ | F32: （３） | G32: ② | H32: =IF(企業入力シート!B55="","未記入",企業入力シート!B55) -> 未記入
B33: 地域貢献・その他 | C33: 消防団協力事業所 | E33: １２ | F33: （３） | G33: ③ | H33: =IF(企業入力シート!B56="","未記入",企業入力シート!B56) -> 未記入
B34: 地域貢献・その他 | C34: 登録基幹技能者 | E34: １３ | F34: （３） | G34: ④ | H34: =IF(企業入力シート!B57="","未記入",企業入力シート!B57) -> 未記入
B35: 地域貢献・その他 | C35: 応急復旧相談員 | E35: １４ | F35: （３） | G35: ⑤ | H35: =IF(企業入力シート!B58="","未記入",企業入力シート!B58) -> 未記入 | L35: 【表４】表紙記載文リスト
B36: 地域貢献・その他 | C36: 若手技術者・若手従業員の新規雇用 | E36: １５ | F36: （３） | G36: ⑥ | H36: =IF(企業入力シート!B59="","未記入",企業入力シート!B59) -> 未記入 | L36: 【表４】を編集すると技術資料（表紙）「2 提出書類（必要な項目について）」で記載する様式の名称変更ができます。
B37: 地域貢献・その他 | H37: =IF(企業入力シート!B60="","未記入",企業入力シート!B60) -> 未記入 | L37: （【隠岐】企業の法面機械保有は、機械名が○○になっていますので、必ず編集が必要です。）
B38: 地域貢献・その他 | H38: =IF(企業入力シート!B61="","未記入",企業入力シート!B61) -> 未記入 | L38: 【表４】
B39: 地理的条件 | L39: ↓【重要】表２のD列で項目を記載したもの以外は、エラー表示される【編集厳禁】
B40: 地理的条件 | L40: 様式番号 | M40: 区分 | N40: 評価項目名 | O40: 表紙記載文
...

Sheet 企業入力シート
A1: 1.企業情報
A2: 表のC列（赤枠内）に企業情報を入力してください。入力した情報は、各種様式に反映されます。
B3: 項目名 | C3: 企業情報記入欄
A4: 1 | B4: 提出日 | C4: 46258 | D4: ←ｙｙｙｙ/m/dで入力
A5: 2
A6: 3 | B6: 住所
A7: 4 | B7: 商号又は名称 | C7: ○○建設
A8: 5 | B8: 代表者 | C8: ○○ ○○
A9: 6 | B9: 担当者
A10: 7 | B10: 部署
A11: 8 | B11: 電話番号
A12: 9 | B12: ＦＡＸ番号
A13: 10 | B13: Ｅ－mail
A15: 2.配置予定技術者の氏名
A16: 表のC・D列（赤枠内）に配置予定技術者情報を入力してください。入力した情報は、各種様式に反映されます。
B17: 配置予定技術者 | C17: 氏名記入欄 | D17: 生年月日
A18: 1 | B18: 配置予定技術者① | E18: ←ｙｙｙｙ/m/dで入力
A19: 2 | B19: 配置予定技術者② | E19: ←ｙｙｙｙ/m/dで入力
A20: 3 | B20: 配置予定技術者③ | E20: ←ｙｙｙｙ/m/dで入力
A22: 3.事前審査・証明書による申請
A23: 事前審査・証明書で提出する評価項目がある場合、該当するものに「○」を入力してください。事前審査・証明書で提出する項目については、技術資料及び添付資料を提出する必要はありません。
A24: 下欄の入力内容は「表紙」シートに反映されます。
A25: =COUNTA(B26:B35) -> 0 | B25: 証明書での提出 | C25: 項目 | K25: ○
A26: =COUNTA(B26) -> 0 | C26: 【土木一式】企業の工事成績評定点（県）
A27: =COUNTA($B$26:B27) -> 0 | C27: 【舗装】企業の工事成績評定点（県）
A28: =COUNTA($B$26:B28) -> 0 | C28: 【法面】企業の工事成績評定点（県）
A29: =COUNTA($B$26:B29) -> 0 | C29: 【港湾】企業の工事成績評定点（県）
A30: =COUNTA($B$26:B30) -> 0 | C30: 防災協定の締結実績
A31: =COUNTA($B$26:B31) -> 0 | C31: 家畜伝染病防疫協定の締結実績
A32: =COUNTA($B$26:B32) -> 0 | C32: ボランティア活動又はハートフルしまねへの参加実績
A33: =COUNTA($B$26:B33) -> 0 | C33: 維持管理業務等の契約実績（県）
A34: =COUNTA($B$26:B34) -> 0 | C34: 除雪業務の契約実績（県）
A35: =COUNTA($B$26:B35) -> 0 | C35: 労働福祉関連（育児介護・こっころ）
A37: 4.押印済資料で提出する評価項目
A38: 発注者収受印欄に押印した技術資料の写し（以下「押印済資料」という。）で技術資料を提出する評価項目がある場合は、表のB列（赤枠）に「有」を、ない場合は「無」を選択してください。
A40: 「有」を選択した評価項目は、このファイルで技術資料を作成する必要はありません。押印済資料のみ提出してください。
A42: ＜企業＞
B43: 押印済資料での提出 | C43: 様式名
C44: =INDEX(発注者入力シート!$L$41:$T$48,MATCH(発注者入力シート!C20,発注者入力シート!$N$41:$N$48,0),4) -> ○企業の工事成績評定点 （様式-２-１、様式-２-２）
C45: =INDEX(発注者入力シート!$L$41:$T$48,MATCH(発注者入力シート!C21,発注者入力シート!$N$41:$N$48,0),4) -> ○企業の同種工事の施工実績 （様式-３）
...

Sheet ファイル使用上の注意事項
A1: 技術資料作成用エクセル形式の電子ファイル使用上の注意事項
A3: ○技術資料【PDF形式】と参考資料【本エクセル形式】の位置づけについて
A4: (1) | B4: 本エクセル形式で作成したデータをPDF形式に変換したものを「技術資料」として、提出しなければなりません。 （提出：必須）
A6: (2) | B6: 本エクセル形式は、発注者が技術資料の審査を行う際に「参考資料」として使用しますので、提出の協力をお願いします。 本エクセル形式のみの提出をもって、技術資料を提出したことにはなりませんので、ご注意ください。
A11: ○エクセル形式使用時及び技術資料提出時の注意事項について
A12: (1) | B12: 行高・列幅不足により文字切れや「＃＃＃＃」表示で出力されていないか、提出する前に必ず印刷物で確認してください。
A14: (2) | B14: 文字切れや「＃＃＃＃」表示になっている場合、行高・列幅を広げる、文字を縮小して表示させるなど調整してください。
A16: (3) | B16: 発注者専用シート（シート名が赤色シート）には触れないでください。
A17: (4) | B17: 記入しない様式があっても、シートは絶対に削除しないでください。
A18: (5) | B18: 各様式の企業直接入力欄（青色着色セル）に記入する際、結合されたセルは絶対に解除しないでください。
A20: (6) | B20: 技術資料様式は、「ページ設定」で「白黒印刷」と「印刷範囲」を設定していますので、画面表示の着色セルも白色で印刷されます。
A23: ○数式に不具合があった場合の対応について
A24: (1) | B24: 本エクセル形式に設定されている数式に不具合があり、正しく表示されない場合がありましたら、直接セルに正しいものを記入してください。
A27: ○技術資料の審査について
A28: (1) | B28: 発注者は、技術資料【PDF形式】に記載された内容により審査しますので、提出書類に記載漏れ、添付漏れ、文字切れ等の不備がないか必ず確認してください。
A31: ○本エクセル形式のシート名着色の区分について
A32: シート名着色の区分は次のとおりです
B33: ：発注者専用シート（企業は入力厳禁です！！）
B34: ：企業専用シート（企業入力シート（申請企業の基本情報を入力）、質問書など）
B36: ：技術資料様式の表紙シート、ファイル使用上の注意事項シート
B37: ：「企業の評価」様式シート
B38: ：「配置予定技術者」様式シート
B39: ：「地域貢献・その他の評価」様式シート
B40: ：「地理的条件の評価」様式シート
A42: ○技術資料様式の凡例について
A43: 技術資料様式のセルの着色の凡例は次の通りです
A44: 着色セルの凡例
A45: （企業）
B46: ：「企業入力シート」で入力した情報が表示される箇所（数式でリンク有）
B47: ：セルに直接入力が必要な箇所
A49: （発注者）
B50: ：「発注者入力シート」や他のシートで入力した情報が表示される箇所（数式でリンク有）
B51: ：セルに直接入力が必要な箇所
A53: （企業・発注者共通事項）
B54: ：同じシート内で入力した情報が表示される箇所（数式でリンク有）

Sheet 発注者設定内容確認シート
A1: 入札公告日： | D1: =発注者入力シート!C7 -> 46297
A2: 工事名： | D2: =発注者入力シート!C10 -> 隠岐高等学校長寿命化（受水槽改修外）工事
A3: 不要な項目は、非表示にしてください（行の削除厳禁）
A4: 発注者入力シートで選択していない項目は、エラー表示になります
A5: 評価項目番号 | D5: 区分 | E5: 評価項目 | F5: 評価対象事項 | G5: 評価基準（様式記載内容）
A6: =INDEX(発注者入力シート!$B$20:$G$24,MATCH(発注者入力シート!L6,発注者入力シート!$C$20:$C$24,0),5) -> （１） | B6: - | C6: =INDEX(発注者入力シート!$B$20:$G$24,MATCH(発注者入力シート!L6,発注者入力シート!$C$20:$C$24,0),6) -> ① | D6: 企業 | E6: =発注者入力シート!L6 -> 工事成績 | F6: 完成年度 | G6: =IF('企業成績評定点 (5年用)'!D7="","",'企業成績評定点 (5年用)'!D7) -> 令和３年度から令和７年度（完成及び引き渡しが完了）
A7: =A6 -> （１） | B7: - | C7: =C6 -> ① | F7: 発注機関 | G7: =IF('企業成績評定点 (5年用)'!D8="","",'企業成績評定点 (5年用)'!D8) -> 島根県（総務部（企業局及び病院局契約を含み、企業局及び病院局発注工事は除く。）、農林水産部、土木部）
A8: =A6 -> （１） | B8: - | C8: =C6 -> ① | F8: 工事種別 | G8: =IF('企業成績評定点 (5年用)'!D9="","",'企業成績評定点 (5年用)'!D9) -> 建築物に係る冷暖房衛生設備工事
A9: =A6 -> （１） | B9: - | C9: =C6 -> ① | F9: 建設工事の種類 | G9: =IF('企業成績評定点 (5年用)'!D10="","",'企業成績評定点 (5年用)'!D10) -> 管工事、熱絶縁工事、消防施設工事
A10: =INDEX(発注者入力シート!$B$20:$G$24,MATCH(発注者入力シート!L7,発注者入力シート!$C$20:$C$24,0),5) -> （１） | B10: - | C10: =INDEX(発注者入力シート!$B$20:$G$24,MATCH(発注者入力シート!L7,発注者入力シート!$C$20:$C$24,0),6) -> ② | D10: 企業 | E10: =発注者入力シート!L7 -> 同種工事実績 | F10: 対象年度・機関等 | G10: =IF(同種工事施工実績!F6="","",同種工事施工実績!F6) -> 平成２８年度から入札公告日前日までに完成及び引き渡しが完了した工事
A11: =A10 -> （１） | B11: - | C11: =C10 -> ② | F11: 同種工事 | G11: =IF(同種工事施工実績!F10="","",同種工事施工実績!F10) -> １契約で税込み最終金額が４，１００万円以上で、住宅以外の建築物に係る冷暖房衛生設備工事
A12: =A11 -> （１） | B12: - | C12: =C11 -> ② | F12: 工事種別 | G12: =IF(同種工事施工実績!F8="","",同種工事施工実績!F8) -> 建築物に係る冷暖房衛生設備工事
A13: =A12 -> （１） | B13: - | C13: =C12 -> ② | F13: 建設工事の種類 | G13: =IF(同種工事施工実績!F9="","",同種工事施工実績!F9) -> 管工事、熱絶縁工事、消防施設工事
A14: =INDEX(発注者入力シート!$B$20:$G$24,MATCH(発注者入力シート!L8,発注者入力シート!$C$20:$C$24,0),5) -> （１） | B14: - | C14: =INDEX(発注者入力シート!$B$20:$G$24,MATCH(発注者入力シート!L8,発注者入力シート!$C$20:$C$24,0),6) -> ③ | D14: 企業 | E14: =発注者入力シート!L8 -> 優良工事表彰 | F14: 対象年度・機関等 | G14: =IF(優良工事表彰!E6="","",優良工事表彰!E6) -> 島根県内の公共事業において、令和４年度から令和８年度に、島根県及び中国地方整備局発注工事で受けた建築部門の優良工事表彰（優良工事施工団体表彰）
A15: =A14 -> （１） | B15: - | C15: =C14 -> ③ | F15: 工事種別 | G15: =IF(優良工事表彰!E9="","",優良工事表彰!E9) -> 建築物に係る冷暖房衛生設備工事
A16: =A15 -> （１） | B16: - | C16: =C15 -> ③ | F16: 建設工事の種類 | G16: =IF(優良工事表彰!E10="","",優良工事表彰!E10) -> 管工事、熱絶縁工事、消防施設工事
A17: =INDEX(発注者入力シート!$B$25:$G$28,MATCH(発注者入力シート!M10,発注者入力シート!$C$25:$C$28,0),5) -> （２） | B17: - | C17: =INDEX(発注者入力シート!$B$25:$G$28,MATCH(発注者入力シート!M10,発注者入力シート!$C$25:$C$28,0),6) -> ① | D17: 配置予定技術者 | E17: 配置予定技術者の工事成績評定点 | F17: 完成年度 | G17: =IF(【建築】技術者成績評定点!F9="","",【建築】技術者成績評定点!F9) -> 令和３年度から令和７年度（完成及び引き渡しが完了）
A18: =A17 -> （２） | B18: - | C18: =C17 -> ① | F18: 発注機関 | G18: =IF(【建築】技術者成績評定点!F10="","",【建築】技術者成績評定点!F10) -> 島根県（総務部（企業局及び病院局契約を含み、企業局及び病院局発注工事は除く。）、農林水産部、土木部）
A19: =A17 -> （２） | B19: - | C19: =C17 -> ① | F19: 工事種別 | G19: =IF(【建築】技術者成績評定点!F11="","",【建築】技術者成績評定点!F11) -> 建築物に係る冷暖房衛生設備工事
A20: =A17 -> （２） | B20: - | C20: =C17 -> ① | F20: 建設工事の種類 | G20: =IF(【建築】技術者成績評定点!F12="","",【建築】技術者成績評定点!F12) -> 管工事、熱絶縁工事、消防施設工事
A21: =INDEX(発注者入力シート!$B$25:$G$28,MATCH(発注者入力シート!M7,発注者入力シート!$C$25:$C$28,0),5) -> （２） | B21: - | C21: =INDEX(発注者入力シート!$B$25:$G$28,MATCH(発注者入力シート!M7,発注者入力シート!$C$25:$C$28,0),6) -> ② | D21: 配置予定技術者 | E21: 施工経験 | F21: 対象年度・機関等 | G21: =IF(同種工事施工経験!F6="","",同種工事施工経験!F6) -> 平成２８年度から入札公告日前日までに完成及び引き渡しが完了した島根県、島根県内の市町村又は国の機関（独立行政法人等を含みコリンズ登録があるものに限る。）発注工事
A22: =A21 -> （２） | B22: - | C22: =C21 -> ② | F22: 同種工事 | G22: =IF(同種工事施工経験!F8="","",同種工事施工経験!F8) -> １契約で税込み最終金額が２，０００万円以上で、住宅以外の建築物に係る冷暖房衛生設備工事
A23: =A22 -> （２） | B23: - | C23: =C22 -> ② | F23: 工事種別 | G23: =IF(同種工事施工経験!F11="","",同種工事施工経験!F11) -> 建築物に係る冷暖房衛生設備工事
A24: =A23 -> （２） | B24: - | C24: =C23 -> ② | F24: 建設工事の種類 | G24: =IF(同種工事施工経験!F12="","",同種工事施工経験!F12) -> 管工事、熱絶縁工事、消防施設工事
A25: =INDEX(発注者入力シート!$B$29:$G$38,MATCH(発注者入力シート!N10,発注者入力シート!$C$29:$C$38,0),5) -> （３） | B25: - | C25: =INDEX(発注者入力シート!$B$29:$G$38,MATCH(発注者入力シート!N10,発注者入力シート!$C$29:$C$38,0),6) -> ① | D25: 地域貢献・その他 | E25: ボランティア | F25: 対象 | G25: =IF(ボランティア!B6="","",ボランティア!B6) -> 令和６年度及び令和７年度における島根県内で実施されたボランティア活動又はハートフルしまねへの参加実績
A26: =INDEX(発注者入力シート!$B$29:$G$38,MATCH(発注者入力シート!N11,発注者入力シート!$C$29:$C$38,0),5) -> #N/A | B26: - | C26: =INDEX(発注者入力シート!$B$29:$G$38,MATCH(発注者入力シート!N11,発注者入力シート!$C$29:$C$38,0),6) -> #N/A | D26: 地域貢献・その他 | E26: 労働福祉関連 | F26: 障がい者雇用
A27: =INDEX(発注者入力シート!$B$29:$G$38,MATCH(発注者入力シート!N12,発注者入力シート!$C$29:$C$38,0),5) -> （３） | B27: - | C27: =INDEX(発注者入力シート!$B$29:$G$38,MATCH(発注者入力シート!N12,発注者入力シート!$C$29:$C$38,0),6) -> ② | F27: 育児・介護休業制度
A28: =INDEX(発注者入力シート!$B$29:$G$38,MATCH(発注者入力シート!N15,発注者入力シート!$C$29:$C$38,0),5) -> #N/A | B28: - | C28: =INDEX(発注者入力シート!$B$29:$G$38,MATCH(発注者入力シート!N15,発注者入力シート!$C$29:$C$38,0),6) -> #N/A | D28: 地域貢献・その他 | E28: 登録基幹技能者 | F28: 対象 | G28: =IF(登録基幹技能者!B9="","",登録基幹技能者!B9) -> 登録配管基幹技能者の現場への配置
A29: =INDEX(発注者入力シート!$B$29:$G$38,MATCH(発注者入力シート!N16,発注者入力シート!$C$29:$C$38,0),5) -> （３） | C29: =INDEX(発注者入力シート!$B$29:$G$38,MATCH(発注者入力シート!N16,発注者入力シート!$C$29:$C$38,0),6) -> ③ | D29: 地域貢献・その他 | E29: 若手技術者・若手従業員の新規雇用 | F29: 対象 | G29: =IF(若手技術者・従業員新規雇用!B8="","",若手技術者・従業員新規雇用!B8) -> 令和６年４月１日以降に、若手技術者・若手従業員（３０歳未満の者）の１人以上の新規雇用があること。
A30: =INDEX(発注者入力シート!$B$29:$G$38,MATCH(発注者入力シート!N17,発注者入力シート!$C$29:$C$38,0),5) -> #N/A | B30: - | C30: =INDEX(発注者入力シート!$B$29:$G$38,MATCH(発注者入力シート!N17,発注者入力シート!$C$29:$C$38,0),6) -> #N/A | D30: 地域貢献・その他 | E30: 消防団協力事業所
A31: =INDEX(発注者入力シート!$B$29:$G$38,MATCH(発注者入力シート!N18,発注者入力シート!$C$29:$C$38,0),5) -> #N/A | B31: - | C31: =INDEX(発注者入力シート!$B$29:$G$38,MATCH(発注者入力シート!N18,発注者入力シート!$C$29:$C$38,0),6) -> #N/A | D31: 地域貢献・その他 | E31: 応急危険度判定士派遣狭量区事業者の登録 | F31: 対象
A32: =INDEX(発注者入力シート!$B$29:$G$38,MATCH(発注者入力シート!N19,発注者入力シート!$C$29:$C$38,0),5) -> #N/A | B32: - | C32: =INDEX(発注者入力シート!$B$29:$G$38,MATCH(発注者入力シート!N19,発注者入力シート!$C$29:$C$38,0),6) -> #N/A | D32: 地域貢献・その他 | E32: 応急復旧相談員の登録 | F32: 対象
A33: =INDEX(発注者入力シート!$B$39:$G$40,MATCH(発注者入力シート!O7,発注者入力シート!$C$39:$C$40,0),5) -> #N/A | B33: - | C33: =INDEX(発注者入力シート!$B$39:$G$40,MATCH(発注者入力シート!O7,発注者入力シート!$C$39:$C$40,0),6) -> #N/A | D33: 地理的条件 | E33: 会社所在地 | F33: 対象 | G33: =IF(会社所在地!B10="","",会社所在地!B10) -> 入札公告日前日において、評価対象地域内に建設業法で規定する主たる営業所（本店）または従たる営業所（支店、営業所）がある者
A34: =A33 -> #N/A | B34: - | C34: =C33 -> #N/A | F34: 評価対象地域 | G34: =IF(会社所在地!D13="","",会社所在地!D13) -> ○○県土整備事務所管内

Sheet 発注者審査作業用シート（提案以外）
A1: このシートは、「技術審査用ファイル」の「作業用シート」に一括コピー作業を行うためのものです
A2: ＜シートの説明＞
B3: ・「技術審査用ファイル」の「作業用シート」へ一括コピーするため、「コピー専用表」をこのシートに設定しています。
B4: ・コピーする範囲は、「コピー専用表」の薄オレンジ部分（評価項目：１９～２５行）と白色部分（企業申請内容：２６行～３３行）です。
B5: ・文字切れやフォントサイズの修正は、「技術審査用ファイル」で行いますので、このシートでは作業不要です。
B6: ・「コピー専用表」は、「技術審査用ファイル」の「技術審査用シート」で見えやすいように概ね書式調整しています。「技術審査用シート」で見えにくいときのみ、コピー専用表の書式を修正してください。
A7: ＜作業手順＞・・・・以下の作業は、必ず別ファイルとして公告用ファイルを作成し、公告用ファイルで作業してください（１回シートや列を削除すると元の状態に戻せなくなります）。
A8: 準備作業： | B8: 不要な評価項目の列全体をこのシートから削除。不要な様式も削除してください。
B9: 評価項目の列全体を削除する際、コピー先の配列（「技術審査用ファイル」）に合わせておく必要があります（「技術審査用ファイル」の自動集計に支障が生じるため）。
B10: 予備欄等を活用して配列を合わせてください。
B11: 「技術審査用ファイル」の固定配列（※１項目３列で設定してあります）
B12: 企業：４項目、配置予定技術者①：４項目、配置予定技術者②：４項目、配置予定技術者③：４項目、地域貢献・その他：７項目、地理的条件：２項目
A13: 手順①： | B13: 「コピー専用表」の薄オレンジ部分全体を指定しコピー後、「技術審査用ファイル」の「作業用シート」の「貼り付け箇所A」に、貼り付けオプションの「値」で貼り付け。
A14: 手順②： | B14: 手順①の後、同じ場所（貼り付け箇所A）に貼り付けオプションの「書式設定」で貼り付けると、コピー専用行で設定された書式でコピー可能。
A15: 手順③： | B15: 手順①、手順②の方法により、「コピー専用表」の白色部分全体を「技術審査用ファイル」の「作業用シート」の「貼り付け箇所B」に貼り付け。
A17: 以下、審査用ファイルの「作業用」シートへの「コピー専用表」 | L17: 審査用ファイルコピー先の列数と合わせるための列 | U17: 審査用ファイルコピー先の列数と合わせるための列 | X17: 審査用ファイルコピー先の列数と合わせるための列 | AG17: 審査用ファイルコピー先の列数と合わせるための列 | AJ17: 審査用ファイルコピー先の列数と合わせるための列 | AS17: 審査用ファイルコピー先の列数と合わせるための列 | AV17: 審査用ファイルコピー先の列数と合わせるための列 | BW17: 審査用ファイルコピー先の列数と合わせるための列 | BZ17: 審査用ファイルコピー先の列数と合わせるための列 | CC17: 審査用ファイルコピー先の列数と合わせるための列 | CI17: 審査用ファイルコピー先の列数と合わせるための列 | CL17: 審査用ファイルコピー先の列数と合わせるための列
B18: 行番号 | C18: =CONCATENATE("様式-",INDEX(発注者入力シート!$B$20:$G$24,MATCH(発注者入力シート!L6,発注者入力シート!$C$20:$C$24,0),4)) -> 様式-２ | F18: =CONCATENATE("様式-",INDEX(発注者入力シート!$B$20:$G$24,MATCH(発注者入力シート!L7,発注者入力シート!$C$20:$C$24,0),4)) -> 様式-３ | I18: =CONCATENATE("様式-",INDEX(発注者入力シート!$B$20:$G$24,MATCH(発注者入力シート!L8,発注者入力シート!$C$20:$C$24,0),4)) -> 様式-４ | O18: =CONCATENATE("様式-",INDEX(発注者入力シート!$B$25:$G$28,MATCH(発注者入力シート!M10,発注者入力シート!$C$25:$C$28,0),4)) -> 様式-５ | R18: =CONCATENATE("様式-",INDEX(発注者入力シート!$B$25:$G$28,MATCH(発注者入力シート!M7,発注者入力シート!$C$25:$C$28,0),4)) -> 様式-６ | U18: =CONCATENATE("様式-",INDEX(発注者入力シート!$B$25:$G$28,MATCH(発注者入力シート!M9,発注者入力シート!$C$25:$C$28,0),4)) -> 様式-７ | AA18: =CONCATENATE("様式-",INDEX(発注者入力シート!$B$25:$G$28,MATCH(発注者入力シート!M10,発注者入力シート!$C$25:$C$28,0),4)) -> 様式-５ | AD18: =CONCATENATE("様式-",INDEX(発注者入力シート!$B$25:$G$28,MATCH(発注者入力シート!M7,発注者入力シート!$C$25:$C$28,0),4)) -> 様式-６ | AG18: =CONCATENATE("様式-",INDEX(発注者入力シート!$B$25:$G$28,MATCH(発注者入力シート!M9,発注者入力シート!$C$25:$C$28,0),4)) -> 様式-７ | AJ18: =CONCATENATE("様式-",INDEX(発注者入力シート!$B$25:$G$28,MATCH(発注者入力シート!M12,発注者入力シート!$C$25:$C$28,0),4)) -> #N/A | AM18: =CONCATENATE("様式-",INDEX(発注者入力シート!$B$25:$G$28,MATCH(発注者入力シート!M10,発注者入力シート!$C$25:$C$28,0),4)) -> 様式-５ | AP18: =CONCATENATE("様式-",INDEX(発注者入力シート!$B$25:$G$28,MATCH(発注者入力シート!M7,発注者入力シート!$C$25:$C$28,0),4)) -> 様式-６ | AS18: =CONCATENATE("様式-",INDEX(発注者入力シート!$B$25:$G$28,MATCH(発注者入力シート!M9,発注者入力シート!$C$25:$C$28,0),4)) -> 様式-７ | AY18: =CONCATENATE("様式-",INDEX(発注者入力シート!$B$29:$G$38,MATCH(発注者入力シート!N10,発注者入力シート!$C$29:$C$38,0),4)) -> 様式-８ | BB18: =CONCATENATE("様式-",INDEX(発注者入力シート!$B$29:$G$38,MATCH(発注者入力シート!N12,発注者入力シート!$C$29:$C$38,0),4),"など") -> 様式-９など | BE18: =CONCATENATE("様式-",INDEX(発注者入力シート!$B$29:$G$38,MATCH(発注者入力シート!N22,発注者入力シート!$C$29:$C$38,0),4)) -> 様式-１３ | BH18: =CONCATENATE("様式-",INDEX(発注者入力シート!$B$29:$G$38,MATCH(発注者入力シート!N16,発注者入力シート!$C$29:$C$38,0),4)) -> 様式-１２ | BK18: =CONCATENATE("様式-",INDEX(発注者入力シート!$B$29:$G$38,MATCH(発注者入力シート!N17,発注者入力シート!$C$29:$C$38,0),4)) -> #N/A | BN18: =CONCATENATE("様式-",INDEX(発注者入力シート!$B$29:$G$38,MATCH(発注者入力シート!N23,発注者入力シート!$C$29:$C$38,0),4)) -> 様式-１４ | BQ18: =CONCATENATE("様式-",INDEX(発注者入力シート!$B$29:$G$38,MATCH(発注者入力シート!N25,発注者入力シート!$C$29:$C$38,0),4)) -> 様式-１５ | BT18: =CONCATENATE("様式-",INDEX(発注者入力シート!$B$29:$G$38,MATCH(発注者入力シート!N20,発注者入力シート!$C$29:$C$38,0),4)) -> #N/A | CF18: =CONCATENATE("様式-",INDEX(発注者入力シート!$B$39:$G$40,MATCH(発注者入力シート!O6,発注者入力シート!$C$39:$C$40,0),4)) -> #N/A
A19: コピー専用行 | B19: a0 | C19: 企業 | F19: 企業 | I19: 企業 | L19: 企業 | O19: 配置予定技術者① | R19: 配置予定技術者① | U19: 配置予定技術者① | X19: 配置予定技術者① | AA19: 配置予定技術者② | AD19: 配置予定技術者② | AG19: 配置予定技術者② | AJ19: 配置予定技術者② | AM19: 配置予定技術者③ | AP19: 配置予定技術者③ | AS19: 配置予定技術者③ | AV19: 配置予定技術者③ | AY19: 地域貢献・その他 | BB19: 地域貢献・その他 | BE19: 地域貢献・その他 | BH19: 地域貢献・その他 | BK19: 地域貢献・その他【建築】 | BN19: 地域貢献・その他【建築】 | BQ19: 地域貢献・その他 | BT19: 地域貢献・その他 | BW19: 地域貢献・その他 | BZ19: 地域貢献・その他 | CC19: 地域貢献・その他 | CF19: 地理的条件 | CI19: 地理的条件 | CL19: 地理的条件
A20: コピー専用行 | B20: a1 | C20: 工事成績評定点 | F20: 施工実績 | I20: 優良工事表彰 | L20: 予備欄 | O20: 工事成績評定点 | R20: 施工経験 | U20: 継続学習 | X20: 予備欄② | AA20: 工事成績評定点 | AD20: 施工経験 | AG20: 継続学習 | AJ20: 予備欄② | AM20: 工事成績評定点 | AP20: 施工経験 | AS20: 継続学習 | AV20: 予備欄② | AY20: ボランティア | BB20: 労働福祉関連 | BE20: 登録基幹技能者 | BH20: 消防団協力事業所 | BK20: 応急危険度判定士派遣協力事業者 | BN20: 応急復旧相談員の登録 | BQ20: 若手技術者・従業員の新規雇用 | BT20: CCUSの活用 | BW20: 予備欄 | BZ20: 予備欄 | CC20: 予備欄 | CF20: 近隣地域での施工実績 | CI20: 会社所在地 | CL20: 予備欄１
A21: コピー専用行 | B21: a | C21: =C39 -> 完成年度 | D21: =D39 -> 令和３年度から令和７年度（完成及び引き渡しが完了） | E21: =E39 -> 0 | F21: =F39 -> 対象期間 | G21: =G39 -> 平成２８年度から入札公告日前日までに完成及び引き渡しが完了した工事 | I21: =I39 -> 対象年度・機関等 | J21: =J39 -> 島根県内の公共事業において、令和４年度から令和８年度に、島根県及び中国地方整備局発注工事で受けた建築部門の優良工事表彰（優良工事施工団体表彰） | O21: =O39 -> 完成年度 | P21: =P39 -> 令和３年度から令和７年度（完成及び引き渡しが完了） | Q21: =Q39 -> 0 | R21: =R39 -> 対象年度・機関等 | S21: =S39 -> 平成２８年度から入札公告日前日までに完成及び引き渡しが完了した島根県、島根県内の市町村又は国の機関（独立行政法人等を含みコリンズ登録があるものに限る。）発注工事 | U21: =U39 -> 配置予定の主任（監理）技術者が保有するCPD単位数 | AA21: =AA39 -> 完成年度 | AB21: =AB39 -> 令和３年度から令和７年度（完成及び引き渡しが完了） | AC21: =AC39 -> 0 | AD21: =AD39 -> 対象年度・機関等 | AE21: =AE39 -> 平成２８年度から入札公告日前日までに完成及び引き渡しが完了した島根県、島根県内の市町村又は国の機関（独立行政法人等を含みコリンズ登録があるものに限る。）発注工事 | AG21: =AG39 -> 配置予定の主任（監理）技術者が保有するCPD単位数 | AM21: =AM39 -> 完成年度 | AN21: =AN39 -> 令和３年度から令和７年度（完成及び引き渡しが完了） | AO21: =AO39 -> 0 | AP21: =AP39 -> 対象年度・機関等 | AQ21: =AQ39 -> 平成２８年度から入札公告日前日までに完成及び引き渡しが完了した島根県、島根県内の市町村又は国の機関（独立行政法人等を含みコリンズ登録があるものに限る。）発注工事 | AS21: =AS39 -> 配置予定の主任（監理）技術者が保有するCPD単位数 | AY21: =AY39 -> 対象 | AZ21: =AZ39 -> 令和６年度及び令和７年度における島根県内で実施されたボランティア活動又はハートフルしまねへの参加実績 | BA21: =BA39 -> 0 | BB21: =BB39 -> 対象 | BC21: =BC39 -> 入札公告日前日時点での取り組み状況 | BD21: =BD39 -> 0 | BE21: =BE39 -> 登録配管基幹技能者の現場への配置 | BH21: =BH39 -> 対象 | BI21: =BI39 -> 入札公告日前日時点（令和8年10月1日時点）での消防団協力事業所の認定状況 | BJ21: =BJ39 -> 0 | BK21: =BK39 -> 入札公告日前日時点において、「島根県地震被災建築物応急危険度判定士派遣協力事業者」の登録を受けた企業の、応急危険度判定士の派遣登録をした社員数の合計により評価する。 | BL21: =BL39 -> 0 | BM21: =BM39 -> 0 | BN21: =BN39 -> 島根県被災住宅応急復旧相談員の登録 入札公告日前日時点において、「島根県建築住宅施策推進協議会」会員団体に所属する企業の、応急復旧相談員の登録をした社員数の合計により評価する。 | BO21: =BO39 -> 0 | ... BV21: =BV39 -> 0 | CF21: 対象 | CG21: =CG39 -> 令和6年度から令和7年度に完成及び引き渡しが完了した島根県（総務部（企業局及び病院局契約を含み、企業局及び病院局発注工事は除く。）、農林水産部、土木部）発注工事 | CI21: =CI39 -> 対象 | CJ21: =CJ39 -> 入札公告日前日において、評価対象地域内に建設業法で規定する主たる営業所（本店）または従たる営業所（支店、営業所）がある者
A22: コピー専用行 | B22: b | C22: =C40 -> 発注機関 | D22: =D40 -> 島根県（総務部（企業局及び病院局契約を含み、企業局及び病院局発注工事は除く。）、農林水産部、土木部） | E22: =E40 -> 0 | F22: =F40 -> 同種工事 | G22: =G40 -> １契約で税込み最終金額が４，１００万円以上で、住宅以外の建築物に係る冷暖房衛生設備工事 | O22: =O40 -> 発注機関 | P22: =P40 -> 島根県（総務部（企業局及び病院局契約を含み、企業局及び病院局発注工事は除く。）、農林水産部、土木部） | Q22: =Q40 -> 0 | R22: =R40 -> 同種工事 | S22: =S40 -> １契約で税込み最終金額が２，０００万円以上で、住宅以外の建築物に係る冷暖房衛生設備工事 | AA22: =AA40 -> 発注機関 | AB22: =AB40 -> 島根県（総務部（企業局及び病院局契約を含み、企業局及び病院局発注工事は除く。）、農林水産部、土木部） | AC22: =AC40 -> 0 | AD22: =AD40 -> 同種工事 | AE22: =AE40 -> １契約で税込み最終金額が２，０００万円以上で、住宅以外の建築物に係る冷暖房衛生設備工事 | AM22: =AM40 -> 発注機関 | AN22: =AN40 -> 島根県（総務部（企業局及び病院局契約を含み、企業局及び病院局発注工事は除く。）、農林水産部、土木部） | AO22: =AO40 -> 0 | AP22: =AP40 -> 同種工事 | AQ22: =AQ40 -> １契約で税込み最終金額が２，０００万円以上で、住宅以外の建築物に係る冷暖房衛生設備工事 | AY22: =AY40 -> 0 | AZ22: =AZ40 -> 0 | BA22: =BA40 -> 0 | BB22: =BB40 -> 0 | BC22: =BC40 -> 0 | BD22: =BD40 -> 0 | BH22: =BH40 -> 0 | BI22: =BI40 -> 0 | BJ22: =BJ40 -> 0 | BK22: =BK40 -> 0 | BL22: =BL40 -> 0 | BM22: =BM40 -> 0 | BN22: =BN40 -> 0 | BO22: =BO40 -> 0 | ... BV22: =BV40 -> 0 | CF22: 対象工事 | CG22: =CG40 -> 元請または共同企業体（経常ＪＶを除く）の構成員（ただし出資比率２０％以上）として松江県土整備事務所管内において施工した完成及び引き渡しが完了した工事。
A23: コピー専用行 | B23: c | C23: =C41 -> 工事種別 | D23: =D41 -> 建築物に係る冷暖房衛生設備工事 | E23: =E41 -> 0 | F23: =F41 -> 工事種別 | G23: =G41 -> 建築物に係る冷暖房衛生設備工事 | I23: =I41 -> 工事種別 | J23: =J41 -> 建築物に係る冷暖房衛生設備工事 | O23: =O41 -> 工事種別 | P23: =P41 -> 建築物に係る冷暖房衛生設備工事 | Q23: =Q41 -> 0 | R23: =R41 -> 工事種別 | S23: =S41 -> 建築物に係る冷暖房衛生設備工事 | AA23: =AA41 -> 工事種別 | AB23: =AB41 -> 建築物に係る冷暖房衛生設備工事 | AC23: =AC41 -> 0 | AD23: =AD41 -> 工事種別 | AE23: =AE41 -> 建築物に係る冷暖房衛生設備工事 | AM23: =AM41 -> 工事種別 | AN23: =AN41 -> 建築物に係る冷暖房衛生設備工事 | AO23: =AO41 -> 0 | AP23: =AP41 -> 工事種別 | AQ23: =AQ41 -> 建築物に係る冷暖房衛生設備工事 | AY23: =AY41 -> 0 | AZ23: =AZ41 -> 0 | BA23: =BA41 -> 0 | BB23: =BB41 -> 0 | BC23: =BC41 -> 0 | BD23: =BD41 -> 0 | BH23: =BH41 -> 0 | BI23: =BI41 -> 0 | BJ23: =BJ41 -> 0 | BK23: =BK41 -> 0 | BL23: =BL41 -> 0 | BM23: =BM41 -> 0 | BN23: =BN41 -> 0 | BO23: =BO41 -> 0 | ... BV23: =BV41 -> 0 | CF23: 工事種別 | CG23: =CG41 -> 建築物に係る冷暖房衛生設備工事
A24: コピー専用行 | B24: d | C24: =C42 -> 建設工事の種類 | D24: =D42 -> 管工事、熱絶縁工事、消防施設工事 | E24: =E42 -> 0 | F24: =F42 -> 建設工事の種類 | G24: =G42 -> 管工事、熱絶縁工事、消防施設工事 | I24: =I42 -> 建設工事の種類 | J24: =J42 -> 管工事、熱絶縁工事、消防施設工事 | O24: =O42 -> 建設工事の種類 | P24: =P42 -> 管工事、熱絶縁工事、消防施設工事 | Q24: =Q42 -> 0 | R24: =R42 -> 建設工事の種類 | S24: =S42 -> 管工事、熱絶縁工事、消防施設工事 | AA24: =AA42 -> 建設工事の種類 | AB24: =AB42 -> 管工事、熱絶縁工事、消防施設工事 | AC24: =AC42 -> 0 | AD24: =AD42 -> 建設工事の種類 | AE24: =AE42 -> 管工事、熱絶縁工事、消防施設工事 | AM24: =AM42 -> 建設工事の種類 | AN24: =AN42 -> 管工事、熱絶縁工事、消防施設工事 | AO24: =AO42 -> 0 | AP24: =AP42 -> 建設工事の種類 | AQ24: =AQ42 -> 管工事、熱絶縁工事、消防施設工事 | AY24: =AY42 -> 0 | AZ24: =AZ42 -> 0 | BA24: =BA42 -> 0 | BB24: =BB42 -> 0 | BC24: =BC42 -> 0 | BD24: =BD42 -> 0 | BH24: =BH42 -> 0 | BI24: =BI42 -> 0 | BJ24: =BJ42 -> 0 | BK24: =BK42 -> 0 | BL24: =BL42 -> 0 | BM24: =BM42 -> 0 | BN24: =BN42 -> 0 | BO24: =BO42 -> 0 | ... BV24: =BV42 -> 0 | CF24: 建設工事の種類 | CG24: =CG42 -> 管工事、熱絶縁工事、消防施設工事 | CI24: =CI42 -> 評価地域 | CJ24: =CJ42 -> ○○県土整備事務所管内
A25: コピー専用行 | B25: e | C25: =C43 -> 該当件数 | D25: =D43 -> 平均点 | F25: =F43 -> 項目名 | G25: =G43 -> 工事① | H25: =H43 -> 工事② | I25: =I43 -> 表彰区分 | J25: =J43 -> 実績 | O25: =O43 -> 該当件数 | P25: =P43 -> 平均点 | R25: =R43 -> 項目名 | S25: =S43 -> 工事① | T25: =T43 -> 工事② | U25: =U43 -> 項目名 | V25: =V43 -> 状況 | AA25: =AA43 -> 該当件数 | AB25: =AB43 -> 平均点 | AD25: =AD43 -> 項目名 | AE25: =AE43 -> 工事① | AF25: =AF43 -> 工事② | AG25: =AG43 -> 項目名 | AH25: =AH43 -> 状況 | AM25: =AM43 -> 該当件数 | AN25: =AN43 -> 平均点 | AP25: =AP43 -> 項目名 | AQ25: =AQ43 -> 工事① | AR25: =AR43 -> 工事② | AS25: =AS43 -> 項目名 | AT25: =AT43 -> 状況 | AY25: =AY43 -> 項目名 | AZ25: =AZ43 -> 6 | BA25: =BA43 -> 7 | BB25: =BB43 -> 項目名 | BC25: =BC43 -> 状況 | BE25: 項目名 | BF25: 状況 | BH25: =BH43 -> 項目名 | BI25: =BI43 -> 状況 | BK25: 項目名 | BL25: 状況 | BQ25: =BQ43 -> 項目名 | BR25: =BR43 -> 雇用① | BS25: =BS43 -> 雇用② | BT25: =BT43 -> 項目名 | BU25: =BU43 -> 状況 | CF25: 項目名 | CG25: 工事① | CH25: 工事② | CI25: =CI43 -> 項目名 | CJ25: =CJ43 -> 状況
A26: コピー専用行 | B26: 1 | C26: =C44 | D26: =D44 | F26: =F44 -> 工事名 | G26: =G44 -> 申請なし | H26: =H44 -> 申請なし | I26: =I44 -> 申請なし | J26: =J44 | O26: =O44 | P26: =P44 | R26: =R44 -> 工事名 | S26: =S44 -> 配置なし | T26: =T44 | U26: 登録しているCPD制度 | AA26: =AA44 | AB26: =AB44 | AD26: =AD44 -> 工事名 | AE26: =AE44 -> 配置なし | AF26: =AF44 | AG26: 登録しているCPD制度 | AM26: =AM44 | AN26: =AN44 | AP26: =AP44 -> 工事名 | AQ26: =AQ44 -> 配置なし | AR26: =AR44 | AS26: 登録しているCPD制度 | AY26: =AY44 -> ボランティア活動内容 | AZ26: =AZ44 -> 申請なし | BA26: =BA44 -> 申請なし | BE26: =BE44 -> 配置の有無 | BF26: =BF44 -> 申請なし | BH26: =BH44 -> 認定有無 | BI26: =BI44 -> 申請なし | BK26: 事業者 登録番号 | BL26: =BL56 -> 申請なし | BN26: 団体所属 | BO26: =BO56 -> 申請なし | BQ26: =BQ44 -> 雇用の内容 | BR26: =BR44 -> 申請なし | BS26: =BS44 -> 申請なし | BT26: =BT44 -> 確約書の提出 | BU26: =BU44 -> 無 | CF26: 工事名 | CG26: =CG44 -> 申請なし | CH26: =CH44 -> 申請なし | CI26: =CI44 -> 住所 | CJ26: =CJ44
A27: コピー専用行 | B27: 2 | C27: =C45 | D27: =D45 | F27: =F45 -> 発注機関 | G27: =G45 | H27: =H45 | O27: =O45 -> 配置なし | P27: =IF(O26="","",IF(P26<70,0,IF(O26>1,HLOOKUP(P26,発注者入力シート!$AK$3:$AT$5,2)*3/5,IF(O26=1,HLOOKUP(P26,発注者入力シート!$AK$3:$AT$5,3)*3/5,"")))) | R27: =R45 -> 発注機関 | S27: =S45 | T27: =T45 | U27: 単位数 | V27: =V44 | AA27: =AA45 -> 配置なし | AB27: =IF(AA26="","",IF(AB26<70,0,IF(AA26>1,HLOOKUP(AB26,発注者入力シート!$AK$3:$AT$5,2)*3/5,IF(AA26=1,HLOOKUP(AB26,発注者入力シート!$AK$3:$AT$5,3)*3/5,"")))) | AD27: =AD45 -> 発注機関 | AE27: =AE45 | AF27: =AF45 | AG27: 単位数 | AH27: =AH44 | AM27: =AM45 -> 配置なし | AN27: =IF(AM26="","",IF(AN26<70,0,IF(AM26>1,HLOOKUP(AN26,発注者入力シート!$AK$3:$AT$5,2)*3/5,IF(AM26=1,HLOOKUP(AN26,発注者入力シート!$AK$3:$AT$5,3)*3/5,"")))) | AP27: =AP45 -> 発注機関 | AQ27: =AQ45 | AR27: =AR45 | AS27: 単位数 | AT27: =AT44 | AY27: =AY45 | AZ27: =AZ45 | BA27: =BA45 | BB27: =BB47 -> 障がい者 | BC27: =BC47 -> 障がい者雇用数 | BD27: =BD47 -> 0 | BK27: 判定士の人数 | BL27: =COUNTA(BL44:BL55)-COUNTBLANK(BL44:BL55) -> 0 | BN27: 相談員の人数 | BO27: =COUNTA(BO44:BO55)-COUNTBLANK(BO44:BO55) -> 0 | BQ27: 生年月日 | BR27: =BR45 | BS27: =BS45 -> 0 | CF27: 発注機関 | CG27: =CG45 | CH27: =CH45 | CI27: =CI45 -> 種類 | CJ27: =CJ45 -> 本店
A28: コピー専用行 | B28: 3 | C28: =C46 | F28: 工事種別／建設工事の種類 | G28: =G46&"／"&G47 -> ／ | H28: =H46&"／"&H47 -> ／ | R28: =R47 -> 請負金額 | S28: =S47 | T28: =T47 | U28: ■評価基準 ◆３０単位以上ある者は１点 ◆１０以上３０単位未満の者は0.5 点 ◆１０単位未満の者は０点 | AD28: =AD47 -> 請負金額 | AE28: =AE47 | AF28: =AF47 | AG28: ■評価基準 ◆３０単位以上ある者は１点 ◆１０以上３０単位未満の者は0.5 点 ◆１０単位未満の者は０点 | AP28: =AP47 -> 請負金額 | AQ28: =AQ47 | AR28: =AR47 | AS28: ■評価基準 ◆３０単位以上ある者は１点 ◆１０以上３０単位未満の者は0.5 点 ◆１０単位未満の者は０点 | AY28: =AY46 -> 参加人数 | AZ28: =AZ46 | BA28: =BA46 | BC28: =BC48 -> 法定雇用義務数 | BD28: =BD48 -> 法定雇用義務なし | BN28: ■評価基準 ◆６名以上の者は１点 ◆３名以上５名以下の者は0.5点 ◆上記でない者は０点 | BQ28: 雇用年月日 | BR28: =BR46 | BS28: =BS46 -> 0 | CF28: 工事種別／建設工事の種類 | CG28: =CG53&"／"&CG54 -> ／ | CH28: =CH53&"／"&CH54 -> ／
A29: コピー専用行 | B29: 4 | F29: =F49 -> 請負金額 | G29: =G49 | H29: =H49 | I29: =I45 | J29: =J45 | R29: 工期（従事期間） | S29: =S48&CHAR(10)&"("&S49&")" -> () | T29: =T48&CHAR(10)&"("&T49&")" -> () | AD29: 工期（従事期間） | AE29: =AE48&CHAR(10)&"("&AE49&")" -> () | AF29: =AF48&CHAR(10)&"("&AF49&")" -> () | AP29: 工期（従事期間） | AQ29: =AQ48&CHAR(10)&"("&AQ49&")" -> () | AR29: =AR48&CHAR(10)&"("&AR49&")" -> () | AY29: =AY47 | AZ29: =AZ47 | BA29: =BA47 | BB29: =BB50 -> 育児介護 | BC29: =IF(企業入力シート!B35="○","事前審査・証明書提出：取組有",IF(BD34="有","押印済資料提出：取組有",IF(AND(BD50="",BD51=""),"申請なし",IF(BD50="有",BC50,IF(BD51="有",BC51,"無"))))) -> 申請なし | CF29: 施工場所 | CG29: =CG46 | CH29: =CH46
A30: コピー専用行 | B30: 5 | F30: 工期 | G30: =G50&CHAR(10)&G51 | H30: =H50&CHAR(10)&H51 | I30: =I46 | J30: =J46 | R30: =R52 -> 役職 | S30: =S52 | T30: =T52 | AD30: =AD52 -> 役職 | AE30: =AE52 | AF30: =AF52 | AP30: =AP52 -> 役職 | AQ30: =AQ52 | AR30: =AR52 | AY30: =AY48 -> ﾊｰﾄﾌﾙ活動実績 | AZ30: =AZ48 -> 申請なし | BA30: =BA48 -> 申請なし | BC30: =IF(BD51="有",BC52,"") | BD30: =IF(BD51="有",BD52,"") | CF30: 請負金額 | CG30: =CG47 | CH30: =CH47
A31: コピー専用行 | B31: 6 | F31: =F58 -> 受注形態 | G31: =G58&"("&TEXT(G59,"0%")&")" -> () | H31: =H58&"("&TEXT(H59,"0%")&")" -> () | I31: =I47 | J31: =J47 | R31: =R58 -> 受注形態 | S31: =S58&"("&TEXT(S59,"0%")&")" -> () | T31: =T58&"("&TEXT(T59,"0%")&")" -> () | AD31: =AD58 -> 受注形態 | AE31: =AE58&"("&TEXT(AE59,"0%")&")" -> () | AF31: =AF58&"("&TEXT(AF59,"0%")&")" -> () | AP31: =AP58 -> 受注形態 | AQ31: =AQ58&"("&TEXT(AQ59,"0%")&")" -> () | AR31: =AR58&"("&TEXT(AR59,"0%")&")" -> () | AY31: =AY49 | AZ31: =AZ49 | BA31: =BA49 | CF31: 工期 | CG31: =CG48&CHAR(10)&CG49 | CH31: =CH48&CHAR(10)&CH49
A32: コピー専用行 | B32: 7 | F32: =F57 -> 工事成績 | G32: =G57 | H32: =H57 | I32: =I48 | J32: =J48 | R32: 工事種別／建設工事の種類 | S32: =S50&"／"&S51 -> ／ | T32: =T50&"／"&T51 -> ／ | AD32: 工事種別／建設工事の種類 | AE32: =AE50&"／"&AE51 -> ／ | AF32: =AF50&"／"&AF51 -> ／ | AP32: 工事種別／建設工事の種類 | AQ32: =AQ50&"／"&AQ51 -> ／ | AR32: =AR50&"／"&AR51 -> ／ | AY32: =AY50 | AZ32: =AZ50 | BA32: =BA50 | CF32: 工事成績 | CG32: =CG50 | CH32: =CH50
A33: コピー専用行 | B33: 8 | F33: =F52 -> 建物用途 | G33: =G52 | H33: =H52 | R33: 工事成績 建物用途 | S33: =IF(S53="","",""&S57&"点"&CHAR(10)&S53) | T33: =IF(T53="","",""&T57&"点"&CHAR(10)&T53) | AD33: 工事成績 建物用途 | AE33: =IF(AE53="","",""&AE57&"点"&CHAR(10)&AE53) | AF33: =IF(AF53="","",""&AF57&"点"&CHAR(10)&AF53) | AP33: 工事成績 建物用途 | AQ33: =IF(AQ53="","",""&AQ57&"点"&CHAR(10)&AQ53) | AR33: =IF(AR53="","",""&AR57&"点"&CHAR(10)&AR53)
C34: 今回、押印済資料（収受印）での提出の有無 | D34: =INDEX(発注者入力シート!$B$20:$J$24,MATCH(発注者入力シート!L6,発注者入力シート!$C$20:$C$24,0),7) -> 未記入 | I34: 今回、押印済資料（収受印）での提出の有無 | J34: =INDEX(発注者入力シート!$B$20:$J$24,MATCH(発注者入力シート!L8,発注者入力シート!$C$20:$C$24,0),7) -> 未記入 | O34: 今回、押印済資料（収受印）での提出の有無 | P34: =INDEX(発注者入力シート!$B$25:$J$28,MATCH(発注者入力シート!M10,発注者入力シート!$C$25:$C$28,0),7) -> 配置なし | Q34: =IF(企業入力シート!C18="","配置なし","配置あり") -> 配置なし | T34: =IF(企業入力シート!C18="","配置なし","配置あり") -> 配置なし | U34: 今回、押印済資料（収受印）での提出の有無 | V34: =INDEX(発注者入力シート!$B$25:$J$28,MATCH(発注者入力シート!M9,発注者入力シート!$C$25:$C$28,0),7) -> 配置なし | W34: =IF(企業入力シート!C18="","配置なし","配置あり") -> 配置なし | AA34: 今回、押印済資料（収受印）での提出の有無 | AB34: =INDEX(発注者入力シート!$B$25:$J$28,MATCH(発注者入力シート!M10,発注者入力シート!$C$25:$C$28,0),8) -> 配置なし | AC34: =IF(企業入力シート!C19="","配置なし","配置あり") -> 配置なし | AF34: =IF(企業入力シート!C19="","配置なし","配置あり") -> 配置なし | AG34: 今回、押印済資料（収受印）での提出の有無 | AH34: =INDEX(発注者入力シート!$B$25:$J$28,MATCH(発注者入力シート!M9,発注者入力シート!$C$25:$C$28,0),8) -> 配置なし | AI34: =IF(企業入力シート!C19="","配置なし","配置あり") -> 配置なし | AM34: 今回、押印済資料（収受印）での提出の有無 | AN34: =INDEX(発注者入力シート!$B$25:$J$28,MATCH(発注者入力シート!M10,発注者入力シート!$C$25:$C$28,0),9) -> 配置なし | AO34: =IF(企業入力シート!C20="","配置なし","配置あり") -> 配置なし | AR34: =IF(企業入力シート!C20="","配置なし","配置あり") -> 配置なし | AS34: 今回、押印済資料（収受印）での提出の有無 | AT34: =INDEX(発注者入力シート!$B$25:$J$28,MATCH(発注者入力シート!M9,発注者入力シート!$C$25:$C$28,0),9) -> 配置なし | AU34: =IF(企業入力シート!C20="","配置なし","配置あり") -> 配置なし | AY34: 今回、押印済資料（収受印）での提出の有無 | AZ34: =INDEX(発注者入力シート!$B$29:$J$38,MATCH(発注者入力シート!N10,発注者入力シート!$C$29:$C$38,0),7) -> 未記入 | BB34: 今回、押印済資料（収受印）での提出の有無 | BC34: =INDEX(発注者入力シート!$B$29:$J$38,MATCH(発注者入力シート!N13,発注者入力シート!$C$29:$C$38,0),7) -> 未記入
A36: 以下、集計専用表（コピー箇所ではありません）
B37: a0 | C37: 企業 | F37: 企業 | I37: 企業 | L37: 企業 | O37: 配置予定技術者① | R37: 配置予定技術者① | U37: 配置予定技術者① | X37: 配置予定技術者① | AA37: 配置予定技術者② | AD37: 配置予定技術者② | AG37: 配置予定技術者② | AJ37: 配置予定技術者② | AM37: 配置予定技術者③ | AP37: 配置予定技術者③ | AS37: 配置予定技術者③ | AV37: 配置予定技術者③ | AY37: 地域貢献・その他 | BB37: 地域貢献・その他 | BE37: 地域貢献・その他 | BH37: 地域貢献・その他 | BK37: 地域貢献・その他【建築】 | BN37: 地域貢献・その他【建築】 | BQ37: 地域貢献・その他 | BT37: 地域貢献・その他 | BW37: 地域貢献・その他 | BZ37: 地域貢献・その他 | CC37: 地域貢献・その他 | CF37: 地理的条件 | CI37: 地理的条件 | CL37: 地理的条件
B38: a1 | C38: 工事成績評定点 | F38: 施工実績 | I38: 優良工事表彰 | L38: 予備欄 | O38: 工事成績評定点 | R38: 施工経験 | U38: 継続学習 | X38: 予備欄② | AA38: 工事成績評定点 | AD38: 施工経験 | AG38: 継続学習 | AJ38: 予備欄② | AM38: 工事成績評定点 | AP38: 施工経験 | AS38: 継続学習 | AV38: 予備欄 | AY38: ボランティア | BB38: 労働福祉関連 | BE38: 登録基幹技能者 | BH38: 消防団協力事業所 | BK38: 応急危険度判定士派遣協力事業者 | BN38: 応急復旧相談員の登録 | BQ38: 若手技術者・従業員の新規雇用 | BT38: CCUSの活用 | BW38: 予備欄 | BZ38: 予備欄 | CC38: 予備欄 | CF38: 近隣地域での施工実績 | CI38: 会社所在地
B39: a | C39: 完成年度 | D39: =IF('企業成績評定点 (5年用)'!D7="","",'企業成績評定点 (5年用)'!D7) -> 令和３年度から令和７年度（完成及び引き渡しが完了） | F39: 対象期間 | G39: =IF(同種工事施工実績!F6="","",同種工事施工実績!F6) -> 平成２８年度から入札公告日前日までに完成及び引き渡しが完了した工事 | I39: 対象年度・機関等 | J39: =IF(優良工事表彰!E6="","",優良工事表彰!E6) -> 島根県内の公共事業において、令和４年度から令和８年度に、島根県及び中国地方整備局発注工事で受けた建築部門の優良工事表彰（優良工事施工団体表彰） | O39: 完成年度 | P39: =IF(【建築】技術者成績評定点!F9="","",【建築】技術者成績評定点!F9) -> 令和３年度から令和７年度（完成及び引き渡しが完了） | R39: 対象年度・機関等 | S39: =IF(同種工事施工経験!F6="","",同種工事施工経験!F6) -> 平成２８年度から入札公告日前日までに完成及び引き渡しが完了した島根県、島根県内の市町村又は国の機関（独立行政法人等を含みコリンズ登録があるものに限る。）発注工事 | U39: =IF(技術者継続学習!B8="","",技術者継続学習!B8) -> 配置予定の主任（監理）技術者が保有するCPD単位数 | AA39: 完成年度 | AB39: =IF(【建築】技術者成績評定点!F9="","",【建築】技術者成績評定点!F9) -> 令和３年度から令和７年度（完成及び引き渡しが完了） | AD39: 対象年度・機関等 | AE39: =IF(同種工事施工経験!F6="","",同種工事施工経験!F6) -> 平成２８年度から入札公告日前日までに完成及び引き渡しが完了した島根県、島根県内の市町村又は国の機関（独立行政法人等を含みコリンズ登録があるものに限る。）発注工事 | AG39: =IF(技術者継続学習!B8="","",技術者継続学習!B8) -> 配置予定の主任（監理）技術者が保有するCPD単位数 | AM39: 完成年度 | AN39: =IF(【建築】技術者成績評定点!F9="","",【建築】技術者成績評定点!F9) -> 令和３年度から令和７年度（完成及び引き渡しが完了） | AP39: 対象年度・機関等 | AQ39: =IF(同種工事施工経験!F6="","",同種工事施工経験!F6) -> 平成２８年度から入札公告日前日までに完成及び引き渡しが完了した島根県、島根県内の市町村又は国の機関（独立行政法人等を含みコリンズ登録があるものに限る。）発注工事 | AS39: =IF(技術者継続学習!B8="","",技術者継続学習!B8) -> 配置予定の主任（監理）技術者が保有するCPD単位数 | AY39: 対象 | AZ39: =IF(ボランティア!B6="","",ボランティア!B6) -> 令和６年度及び令和７年度における島根県内で実施されたボランティア活動又はハートフルしまねへの参加実績 | BB39: 対象 | BC39: 入札公告日前日時点での取り組み状況 | BE39: =IF(登録基幹技能者!B9="","",登録基幹技能者!B9) -> 登録配管基幹技能者の現場への配置 | BH39: 対象 | BI39: =IF(消防団!B9="","",消防団!B9) -> 入札公告日前日時点（令和8年10月1日時点）での消防団協力事業所の認定状況 | BK39: 入札公告日前日時点において、「島根県地震被災建築物応急危険度判定士派遣協力事業者」の登録を受けた企業の、応急危険度判定士の派遣登録をした社員数の合計により評価する。 | BN39: 島根県被災住宅応急復旧相談員の登録 入札公告日前日時点において、「島根県建築住宅施策推進協議会」会員団体に所属する企業の、応急復旧相談員の登録をした社員数の合計により評価する。 | BQ39: 対象 | BR39: =IF(若手技術者・従業員新規雇用!B8="","",若手技術者・従業員新規雇用!B8) -> 令和６年４月１日以降に、若手技術者・若手従業員（３０歳未満の者）の１人以上の新規雇用があること。 | BT39: 対象 | BU39: 当該工事での建設キャリアアップシステム（CCUS）の活用 | CF39: 対象 | CG39: =IF(近隣施工実績!B10="","",近隣施工実績!B10) -> 令和6年度から令和7年度に完成及び引き渡しが完了した島根県（総務部（企業局及び病院局契約を含み、企業局及び病院局発注工事は除く。）、農林水産部、土木部）発注工事 | CI39: 対象 | CJ39: =IF(会社所在地!B10="","",会社所在地!B10) -> 入札公告日前日において、評価対象地域内に建設業法で規定する主たる営業所（本店）または従たる営業所（支店、営業所）がある者
B40: b | C40: 発注機関 | D40: =IF('企業成績評定点 (5年用)'!D8="","",'企業成績評定点 (5年用)'!D8) -> 島根県（総務部（企業局及び病院局契約を含み、企業局及び病院局発注工事は除く。）、農林水産部、土木部） | F40: 同種工事 | G40: =IF(同種工事施工実績!F10="","",同種工事施工実績!F10) -> １契約で税込み最終金額が４，１００万円以上で、住宅以外の建築物に係る冷暖房衛生設備工事 | O40: 発注機関 | P40: =IF(【建築】技術者成績評定点!F10="","",【建築】技術者成績評定点!F10) -> 島根県（総務部（企業局及び病院局契約を含み、企業局及び病院局発注工事は除く。）、農林水産部、土木部） | R40: 同種工事 | S40: =IF(同種工事施工経験!F8="","",同種工事施工経験!F8) -> １契約で税込み最終金額が２，０００万円以上で、住宅以外の建築物に係る冷暖房衛生設備工事 | AA40: 発注機関 | AB40: =IF(【建築】技術者成績評定点!F10="","",【建築】技術者成績評定点!F10) -> 島根県（総務部（企業局及び病院局契約を含み、企業局及び病院局発注工事は除く。）、農林水産部、土木部） | AD40: 同種工事 | AE40: =IF(同種工事施工経験!F8="","",同種工事施工経験!F8) -> １契約で税込み最終金額が２，０００万円以上で、住宅以外の建築物に係る冷暖房衛生設備工事 | AM40: 発注機関 | AN40: =IF(【建築】技術者成績評定点!F10="","",【建築】技術者成績評定点!F10) -> 島根県（総務部（企業局及び病院局契約を含み、企業局及び病院局発注工事は除く。）、農林水産部、土木部） | AP40: 同種工事 | AQ40: =IF(同種工事施工経験!F8="","",同種工事施工経験!F8) -> １契約で税込み最終金額が２，０００万円以上で、住宅以外の建築物に係る冷暖房衛生設備工事 | CF40: 対象工事 | CG40: =IF(近隣施工実績!F12="","",近隣施工実績!F12) -> 元請または共同企業体（経常ＪＶを除く）の構成員（ただし出資比率２０％以上）として松江県土整備事務所管内において施工した完成及び引き渡しが完了した工事。
B41: c | C41: 工事種別 | D41: =IF('企業成績評定点 (5年用)'!D9="","",'企業成績評定点 (5年用)'!D9) -> 建築物に係る冷暖房衛生設備工事 | F41: 工事種別 | G41: =IF(同種工事施工実績!F8="","",同種工事施工実績!F8) -> 建築物に係る冷暖房衛生設備工事 | I41: 工事種別 | J41: =IF(優良工事表彰!E9="","",優良工事表彰!E9) -> 建築物に係る冷暖房衛生設備工事 | O41: 工事種別 | P41: =IF(【建築】技術者成績評定点!F11="","",【建築】技術者成績評定点!F11) -> 建築物に係る冷暖房衛生設備工事 | R41: 工事種別 | S41: =IF(同種工事施工経験!F11="","",同種工事施工経験!F11) -> 建築物に係る冷暖房衛生設備工事 | AA41: 工事種別 | AB41: =IF(【建築】技術者成績評定点!F11="","",【建築】技術者成績評定点!F11) -> 建築物に係る冷暖房衛生設備工事 | AD41: 工事種別 | AE41: =IF(同種工事施工経験!F11="","",同種工事施工経験!F11) -> 建築物に係る冷暖房衛生設備工事 | AM41: 工事種別 | AN41: =IF(【建築】技術者成績評定点!F11="","",【建築】技術者成績評定点!F11) -> 建築物に係る冷暖房衛生設備工事 | AP41: 工事種別 | AQ41: =IF(同種工事施工経験!F11="","",同種工事施工経験!F11) -> 建築物に係る冷暖房衛生設備工事 | CF41: 工事種別 | CG41: =IF(近隣施工実績!F14="","",近隣施工実績!F14) -> 建築物に係る冷暖房衛生設備工事
B42: d | C42: 建設工事の種類 | D42: =IF('企業成績評定点 (5年用)'!D10="","",'企業成績評定点 (5年用)'!D10) -> 管工事、熱絶縁工事、消防施設工事 | F42: 建設工事の種類 | G42: =IF(同種工事施工実績!F9="","",同種工事施工実績!F9) -> 管工事、熱絶縁工事、消防施設工事 | I42: 建設工事の種類 | J42: =IF(優良工事表彰!E10="","",優良工事表彰!E10) -> 管工事、熱絶縁工事、消防施設工事 | O42: 建設工事の種類 | P42: =IF(【建築】技術者成績評定点!F12="","",【建築】技術者成績評定点!F12) -> 管工事、熱絶縁工事、消防施設工事 | R42: 建設工事の種類 | S42: =IF(同種工事施工経験!F12="","",同種工事施工経験!F12) -> 管工事、熱絶縁工事、消防施設工事 | AA42: 建設工事の種類 | AB42: =IF(【建築】技術者成績評定点!F12="","",【建築】技術者成績評定点!F12) -> 管工事、熱絶縁工事、消防施設工事 | AD42: 建設工事の種類 | AE42: =IF(同種工事施工経験!F12="","",同種工事施工経験!F12) -> 管工事、熱絶縁工事、消防施設工事 | AM42: 建設工事の種類 | AN42: =IF(【建築】技術者成績評定点!F12="","",【建築】技術者成績評定点!F12) -> 管工事、熱絶縁工事、消防施設工事 | AP42: 建設工事の種類 | AQ42: =IF(同種工事施工経験!F12="","",同種工事施工経験!F12) -> 管工事、熱絶縁工事、消防施設工事 | CF42: 建設工事の種類 | CG42: =IF(近隣施工実績!F15="","",近隣施工実績!F15) -> 管工事、熱絶縁工事、消防施設工事 | CI42: 評価地域 | CJ42: =IF(会社所在地!D13="","",会社所在地!D13) -> ○○県土整備事務所管内
...

Sheet 表紙
A1: 様式－１ | S1: 着色セルの凡例
M2: 提出日 | N2: =IF(企業入力シート!C4="","",企業入力シート!C4) -> 46258 | S2: （企業）
T3: ：「企業入力シート」で入力（数式リンク有）
A4: （ 特別簡易型 総合評価方式 ） | T4: ：セルに直接入力が必要な箇所
A5: 総 合 評 価 技 術 資 料
S6: （発注者）
A7: 発注者 | T7: ：「発注者入力シート」で入力（数式リンク有）
A8: =CONCATENATE(" ",発注者入力シート!C6,IF(COUNTIF(発注者入力シート!C6,"*センター*"),"所長","長")," ","様") -> 総務部営繕課長 様 | T8: ：セルに直接入力が必要な箇所
S10: 【印刷について】
H11: 住所 | J11: =IF(企業入力シート!C6="","",企業入力シート!C6) | S11: このシートは「ページ設定」で「白黒印刷」と「印刷範囲」が設定されています。
G13: 商号又は名称 | J13: =IF(企業入力シート!C7="","",企業入力シート!C7) -> ○○建設
G14: 代表者氏名 | J14: =IF(企業入力シート!C8="","",企業入力シート!C8) -> ○○ ○○
A17: =CONCATENATE(" ","令和",(YEAR(発注者入力シート!C7)-2018),"年",MONTH(発注者入力シート!C7),"月",DAY(発注者入力シート!C7),"日付けで入札公告のありました下記工事について、別添のとおり書類を添えて提出いたします。") -> 令和8年10月2日付けで入札公告のありました下記工事について、別添のとおり書類を添えて提出いたします。
A20: １ 工事名 | C20: =発注者入力シート!C10 -> 隠岐高等学校長寿命化（受水槽改修外）工事
A22: ２ 提出書類（下記項目の該当するもの）
A23: =IF(AND(IFERROR(OR(発注者入力シート!$L$62="２",発注者入力シート!$L$63="２"),FALSE),企業入力シート!$B$35="○"),"",IF(COUNTIF($A$44:$A$50,"*"&VLOOKUP("２",発注者入力シート!$L$41:$N$76,3,FALSE)&"*")>=1,"",INDEX(発注者入力シート!$L$40:$O$82,MATCH("２",発注者入力シート!$L$40:$L$82,0),4))) -> ○企業の工事成績評定点 （様式-２-１、様式-２-２）
A24: =IF(AND(IFERROR(OR(発注者入力シート!$L$62="３",発注者入力シート!$L$63="３"),FALSE),企業入力シート!$B$35="○"),"",IF(COUNTIF($A$44:$A$50,"*"&VLOOKUP("３",発注者入力シート!$L$41:$N$76,3,FALSE)&"*")>=1,"",INDEX(発注者入力シート!$L$40:$O$82,MATCH("３",発注者入力シート!$L$40:$L$82,0),4))) -> ○企業の同種工事の施工実績 （様式-３）
A25: =IF(AND(IFERROR(OR(発注者入力シート!$L$62="４",発注者入力シート!$L$63="４"),FALSE),企業入力シート!$B$35="○"),"",IF(COUNTIF($A$44:$A$50,"*"&VLOOKUP("４",発注者入力シート!$L$41:$N$76,3,FALSE)&"*")>=1,"",INDEX(発注者入力シート!$L$40:$O$82,MATCH("４",発注者入力シート!$L$40:$L$82,0),4))) -> ○企業の優良工事表彰（優良工事施工団体表彰） （様式-４）
A26: =IF(AND(IFERROR(OR(発注者入力シート!$L$62="５",発注者入力シート!$L$63="５"),FALSE),企業入力シート!$B$35="○"),"",IF(COUNTIF($A$44:$A$50,"*"&VLOOKUP("５",発注者入力シート!$L$41:$N$76,3,FALSE)&"*")>=1,"",INDEX(発注者入力シート!$L$40:$O$82,MATCH("５",発注者入力シート!$L$40:$L$82,0),4))) -> ○配置予定技術者の工事成績評定点 （様式-５-１、様式-５-２）
A27: =IF(AND(IFERROR(OR(発注者入力シート!$L$62="６",発注者入力シート!$L$63="６"),FALSE),企業入力シート!$B$35="○"),"",IF(COUNTIF($A$44:$A$50,"*"&VLOOKUP("６",発注者入力シート!$L$41:$N$76,3,FALSE)&"*")>=1,"",INDEX(発注者入力シート!$L$40:$O$82,MATCH("６",発注者入力シート!$L$40:$L$82,0),4))) -> ○配置予定技術者の同種工事の施工経験 （様式-６）
A28: =IF(AND(IFERROR(OR(発注者入力シート!$L$62="７",発注者入力シート!$L$63="７"),FALSE),企業入力シート!$B$35="○"),"",IF(COUNTIF($A$44:$A$50,"*"&VLOOKUP("７",発注者入力シート!$L$41:$N$76,3,FALSE)&"*")>=1,"",INDEX(発注者入力シート!$L$40:$O$82,MATCH("７",発注者入力シート!$L$40:$L$82,0),4))) -> ○配置予定技術者の継続学習 （様式-７）
A29: =IF(AND(IFERROR(OR(発注者入力シート!$L$62="８",発注者入力シート!$L$63="８"),FALSE),企業入力シート!$B$35="○"),"",IF(COUNTIF($A$44:$A$50,"*"&VLOOKUP("８",発注者入力シート!$L$41:$N$76,3,FALSE)&"*")>=1,"",INDEX(発注者入力シート!$L$40:$O$82,MATCH("８",発注者入力シート!$L$40:$L$82,0),4))) -> ○ボランティア活動又はハートフルしまねへの参加実績 （様式-８）
A30: =IF(AND(IFERROR(OR(発注者入力シート!$L$62="９",発注者入力シート!$L$63="９"),FALSE),企業入力シート!$B$35="○"),"",IF(COUNTIF($A$44:$A$50,"*"&VLOOKUP("９",発注者入力シート!$L$41:$N$76,3,FALSE)&"*")>=1,"",INDEX(発注者入力シート!$L$40:$O$82,MATCH("９",発注者入力シート!$L$40:$L$82,0),4))) -> ○労働福祉関連の状況(a 障がい者雇用の実態) （様式-９）
A31: =IF(AND(IFERROR(OR(発注者入力シート!$L$62="１０",発注者入力シート!$L$63="１０"),FALSE),企業入力シート!$B$35="○"),"",IF(COUNTIF($A$44:$A$50,"*"&VLOOKUP("１０",発注者入力シート!$L$41:$N$76,3,FALSE)&"*")>=1,"",INDEX(発注者入力シート!$L$40:$O$82,MATCH("１０",発注者入力シート!$L$40:$L$82,0),4))) -> ○労働福祉関連の状況(b 育児・介護休業に関する制度) （様式-１０）
A32: =IF(AND(IFERROR(OR(発注者入力シート!$L$62="１１",発注者入力シート!$L$63="１１"),FALSE),企業入力シート!$B$35="○"),"",IF(COUNTIF($A$44:$A$50,"*"&VLOOKUP("１１",発注者入力シート!$L$41:$N$76,3,FALSE)&"*")>=1,"",INDEX(発注者入力シート!$L$40:$O$82,MATCH("１１",発注者入力シート!$L$40:$L$82,0),4))) -> ○育児・介護休業に関する制度 チェック表 （様式-１１）
A33: =IF(AND(IFERROR(OR(発注者入力シート!$L$62="１２",発注者入力シート!$L$63="１２"),FALSE),企業入力シート!$B$35="○"),"",IF(COUNTIF($A$44:$A$50,"*"&VLOOKUP("１２",発注者入力シート!$L$41:$N$76,3,FALSE)&"*")>=1,"",INDEX(発注者入力シート!$L$40:$O$82,MATCH("１２",発注者入力シート!$L$40:$L$82,0),4))) -> ○消防団協力事業所の認定 （様式-１２）
A34: =IF(AND(IFERROR(OR(発注者入力シート!$L$62="１３",発注者入力シート!$L$63="１３"),FALSE),企業入力シート!$B$35="○"),"",IF(COUNTIF($A$44:$A$50,"*"&VLOOKUP("１３",発注者入力シート!$L$41:$N$76,3,FALSE)&"*")>=1,"",INDEX(発注者入力シート!$L$40:$O$82,MATCH("１３",発注者入力シート!$L$40:$L$82,0),4))) -> ○登録基幹技能者の配置 （様式-１３）
A35: =IF(AND(IFERROR(OR(発注者入力シート!$L$62="１４",発注者入力シート!$L$63="１４"),FALSE),企業入力シート!$B$35="○"),"",IF(COUNTIF($A$44:$A$50,"*"&VLOOKUP("１４",発注者入力シート!$L$41:$N$76,3,FALSE)&"*")>=1,"",INDEX(発注者入力シート!$L$40:$O$82,MATCH("１４",発注者入力シート!$L$40:$L$82,0),4))) -> ○島根県被災住宅応急復旧相談員の登録 （様式-１４）
A36: =IF(AND(IFERROR(OR(発注者入力シート!$L$62="１５",発注者入力シート!$L$63="１５"),FALSE),企業入力シート!$B$35="○"),"",IF(COUNTIF($A$44:$A$50,"*"&VLOOKUP("１５",発注者入力シート!$L$41:$N$76,3,FALSE)&"*")>=1,"",INDEX(発注者入力シート!$L$40:$O$82,MATCH("１５",発注者入力シート!$L$40:$L$82,0),4))) -> ○若手技術者・若手従業員の新規雇用 （様式-１５）
A37: =IF(AND(IFERROR(OR(発注者入力シート!$L$62="１６",発注者入力シート!$L$63="１６"),FALSE),企業入力シート!$B$35="○"),"",IF(COUNTIF($A$44:$A$50,"*"&VLOOKUP("１６",発注者入力シート!$L$41:$N$76,3,FALSE)&"*")>=1,"",INDEX(発注者入力シート!$L$40:$O$82,MATCH("１６",発注者入力シート!$L$40:$L$82,0),4))) -> #N/A
A38: =IF(AND(IFERROR(OR(発注者入力シート!$L$62="１７",発注者入力シート!$L$63="１７"),FALSE),企業入力シート!$B$35="○"),"",IF(COUNTIF($A$44:$A$50,"*"&VLOOKUP("１７",発注者入力シート!$L$41:$N$76,3,FALSE)&"*")>=1,"",INDEX(発注者入力シート!$L$40:$O$82,MATCH("１７",発注者入力シート!$L$40:$L$82,0),4))) -> #N/A
A39: =IF(AND(IFERROR(OR(発注者入力シート!$L$62="１８",発注者入力シート!$L$63="１８"),FALSE),企業入力シート!$B$35="○"),"",IF(COUNTIF($A$44:$A$50,"*"&VLOOKUP("１８",発注者入力シート!$L$41:$N$76,3,FALSE)&"*")>=1,"",INDEX(発注者入力シート!$L$40:$O$82,MATCH("１８",発注者入力シート!$L$40:$L$82,0),4))) -> #N/A
A40: =IF(AND(IFERROR(OR(発注者入力シート!$L$62="１９",発注者入力シート!$L$63="１９"),FALSE),企業入力シート!$B$35="○"),"",IF(COUNTIF($A$44:$A$50,"*"&VLOOKUP("１９",発注者入力シート!$L$41:$N$76,3,FALSE)&"*")>=1,"",INDEX(発注者入力シート!$L$40:$O$82,MATCH("１９",発注者入力シート!$L$40:$L$82,0),4))) -> #N/A
A41: =IF(AND(IFERROR(OR(発注者入力シート!$L$62="２０",発注者入力シート!$L$63="２０"),FALSE),企業入力シート!$B$35="○"),"",IF(COUNTIF($A$44:$A$50,"*"&VLOOKUP("２０",発注者入力シート!$L$41:$N$76,3,FALSE)&"*")>=1,"",INDEX(発注者入力シート!$L$40:$O$82,MATCH("２０",発注者入力シート!$L$40:$L$82,0),4))) -> #N/A
A43: =IF(企業入力シート!A25=0,"","※事前審査・証明書による提出（技術資料及び添付資料省略）")
A44: =IF(企業入力シート!$A$25>0," ・"&VLOOKUP(1,企業入力シート!$A$26:$I$35,3,FALSE),"")
A45: =IF(企業入力シート!$A$25>1," ・"&VLOOKUP(2,企業入力シート!$A$26:$I$35,3,FALSE),"")
A46: =IF(企業入力シート!$A$25>2," ・"&VLOOKUP(3,企業入力シート!$A$26:$I$35,3,FALSE),"")
A47: =IF(企業入力シート!$A$25>3," ・"&VLOOKUP(4,企業入力シート!$A$26:$I$35,3,FALSE),"")
A48: =IF(企業入力シート!$A$25>4," ・"&VLOOKUP(5,企業入力シート!$A$26:$I$35,3,FALSE),"")
...

Sheet 企業成績評定点 (5年用)
A1: =CONCATENATE("（様式-",INDEX(発注者入力シート!$B$20:$G$24,MATCH(発注者入力シート!L6,発注者入力シート!$C$20:$C$24,0),4),"-１）") -> （様式-２-１） | P1: 【5年用】 | R1: 着色セルの凡例
A2: =CONCATENATE("評価項目",INDEX(発注者入力シート!$B$20:$G$24,MATCH(発注者入力シート!L6,発注者入力シート!$C$20:$C$24,0),5),"-",INDEX(発注者入力シート!$B$20:$G$24,MATCH(発注者入力シート!L6,発注者入力シート!$C$20:$C$24,0),6)) -> 評価項目（１）-① | R2: （企業）
A3: 企業の工事成績評定点 | S3: ：「企業入力シート」で入力（数式リンク有）
C4: 会社（企業体）名： | F4: =IF(企業入力シート!C7="","",企業入力シート!C7) -> ○○建設 | S4: ：リストから選択が必要な箇所
A6: 対象工事 | R6: （発注者）
A7: 完成年度 | D7: 令和３年度から令和７年度（完成及び引き渡しが完了） | S7: ：「発注者入力シート」で入力（数式リンク有）
A8: 発注機関 | D8: 島根県（総務部（企業局及び病院局契約を含み、企業局及び病院局発注工事は除く。）、農林水産部、土木部） | S8: ：セルに直接入力が必要な箇所
A9: 工事種別 | D9: =INDEX(発注者入力シート!$AV$3:$BA$9,MATCH(発注者入力シート!$AW$2,発注者入力シート!$AX$3:$AX$9,0),4) -> 建築物に係る冷暖房衛生設備工事
A10: 建設工事の種類 | D10: =INDEX(発注者入力シート!$AV$3:$BA$9,MATCH(発注者入力シート!$AW$2,発注者入力シート!$AX$3:$AX$9,0),5) -> 管工事、熱絶縁工事、消防施設工事
A13: 各工事成績評定点 | D13: 令和２年度 | G13: =IF('評定点一覧(5年用) '!$P8="","",'評定点一覧(5年用) '!$P8) | H13: =IF('評定点一覧(5年用) '!$P9="","",'評定点一覧(5年用) '!$P9) | I13: =IF('評定点一覧(5年用) '!$P10="","",'評定点一覧(5年用) '!$P10) | J13: =IF('評定点一覧(5年用) '!$P11="","",'評定点一覧(5年用) '!$P11) | K13: =IF('評定点一覧(5年用) '!$P12="","",'評定点一覧(5年用) '!$P12) | L13: =IF('評定点一覧(5年用) '!$P13="","",'評定点一覧(5年用) '!$P13) | M13: =IF('評定点一覧(5年用) '!$P14="","",'評定点一覧(5年用) '!$P14) | N13: =IF('評定点一覧(5年用) '!$P15="","",'評定点一覧(5年用) '!$P15) | O13: =IF('評定点一覧(5年用) '!$P16="","",'評定点一覧(5年用) '!$P16) | P13: =IF('評定点一覧(5年用) '!$P17="","",'評定点一覧(5年用) '!$P17)
D14: 令和３年度 | G14: =IF('評定点一覧(5年用) '!$P21="","",'評定点一覧(5年用) '!$P21) | H14: =IF('評定点一覧(5年用) '!$P22="","",'評定点一覧(5年用) '!$P22) | I14: =IF('評定点一覧(5年用) '!$P23="","",'評定点一覧(5年用) '!$P23) | J14: =IF('評定点一覧(5年用) '!$P24="","",'評定点一覧(5年用) '!$P24) | K14: =IF('評定点一覧(5年用) '!$P25="","",'評定点一覧(5年用) '!$P25) | L14: =IF('評定点一覧(5年用) '!$P26="","",'評定点一覧(5年用) '!$P26) | M14: =IF('評定点一覧(5年用) '!$P27="","",'評定点一覧(5年用) '!$P27) | N14: =IF('評定点一覧(5年用) '!$P28="","",'評定点一覧(5年用) '!$P28) | O14: =IF('評定点一覧(5年用) '!$P29="","",'評定点一覧(5年用) '!$P29) | P14: =IF('評定点一覧(5年用) '!$P30="","",'評定点一覧(5年用) '!$P30)
D15: 令和４年度 | G15: =IF('評定点一覧(5年用) '!$P34="","",'評定点一覧(5年用) '!$P34) | H15: =IF('評定点一覧(5年用) '!$P35="","",'評定点一覧(5年用) '!$P35) | I15: =IF('評定点一覧(5年用) '!$P36="","",'評定点一覧(5年用) '!$P36) | J15: =IF('評定点一覧(5年用) '!$P37="","",'評定点一覧(5年用) '!$P37) | K15: =IF('評定点一覧(5年用) '!$P38="","",'評定点一覧(5年用) '!$P38) | L15: =IF('評定点一覧(5年用) '!$P39="","",'評定点一覧(5年用) '!$P39) | M15: =IF('評定点一覧(5年用) '!$P40="","",'評定点一覧(5年用) '!$P40) | N15: =IF('評定点一覧(5年用) '!$P41="","",'評定点一覧(5年用) '!$P41) | O15: =IF('評定点一覧(5年用) '!$P42="","",'評定点一覧(5年用) '!$P42) | P15: =IF('評定点一覧(5年用) '!$P43="","",'評定点一覧(5年用) '!$P43)
D16: 令和５年度 | G16: =IF('評定点一覧(5年用) '!$P47="","",'評定点一覧(5年用) '!$P47) | H16: =IF('評定点一覧(5年用) '!$P48="","",'評定点一覧(5年用) '!$P48) | I16: =IF('評定点一覧(5年用) '!$P49="","",'評定点一覧(5年用) '!$P49) | J16: =IF('評定点一覧(5年用) '!$P50="","",'評定点一覧(5年用) '!$P50) | K16: =IF('評定点一覧(5年用) '!$P51="","",'評定点一覧(5年用) '!$P51) | L16: =IF('評定点一覧(5年用) '!$P52="","",'評定点一覧(5年用) '!$P52) | M16: =IF('評定点一覧(5年用) '!$P53="","",'評定点一覧(5年用) '!$P53) | N16: =IF('評定点一覧(5年用) '!$P54="","",'評定点一覧(5年用) '!$P54) | O16: =IF('評定点一覧(5年用) '!$P55="","",'評定点一覧(5年用) '!$P55) | P16: =IF('評定点一覧(5年用) '!$P56="","",'評定点一覧(5年用) '!$P56)
D17: 令和６年度 | G17: =IF('評定点一覧(5年用) '!$P60="","",'評定点一覧(5年用) '!$P60) | H17: =IF('評定点一覧(5年用) '!$P61="","",'評定点一覧(5年用) '!$P61) | I17: =IF('評定点一覧(5年用) '!$P62="","",'評定点一覧(5年用) '!$P62) | J17: =IF('評定点一覧(5年用) '!$P63="","",'評定点一覧(5年用) '!$P63) | K17: =IF('評定点一覧(5年用) '!$P64="","",'評定点一覧(5年用) '!$P64) | L17: =IF('評定点一覧(5年用) '!$P65="","",'評定点一覧(5年用) '!$P65) | M17: =IF('評定点一覧(5年用) '!$P66="","",'評定点一覧(5年用) '!$P66) | N17: =IF('評定点一覧(5年用) '!$P67="","",'評定点一覧(5年用) '!$P67) | O17: =IF('評定点一覧(5年用) '!$P68="","",'評定点一覧(5年用) '!$P68) | P17: =IF('評定点一覧(5年用) '!$P69="","",'評定点一覧(5年用) '!$P69)
A18: 工事成績評定点の平均 | G18: =IF((COUNTA(G13:P17)-COUNTBLANK(G13:P17))=0,"",COUNTA(G13:P17)-COUNTBLANK(G13:P17)) | I18: 件 | J18: =IF(OR(G18="",G18=0),"",ROUND(AVERAGE(G13:P17),1)) | M18: 点 | R18: 【印刷について】
A19: （小数第２位を四捨五入） | R19: このシートは「ページ設定」で「白黒印刷」と「印刷範囲」が設定されています。
A20: (1) | B20: 対象工事の工事成績評定点一覧表（別紙）を添付すること。 | R20: 様式内の吹出しコメントは印刷されません。
A21: (2) | B21: 単年度の対象工事件数が１０件を超える場合、「工事成績評定点の平均」欄の「件数」及び「平均点」は、自動計算されないため、直接記入すること。
A23: (3) | B23: 上記事項の外、入札説明書本文にある要件を必ず確認すること。
A27: 技術資料提出工事名： | E27: =IF(発注者入力シート!C10="","",発注者入力シート!C10) -> 隠岐高等学校長寿命化（受水槽改修外）工事
A29: 提出事務所名： | E29: =IF(発注者入力シート!C6="","",発注者入力シート!C6) -> 総務部営繕課
A31: 有効範囲： | E31: =発注者入力シート!$C$11 -> 令和9年7月31日までに入札公告された工事
A33: =CONCATENATE(" 今後、",発注者入力シート!C6,"が発注する工事においては、本書の写し（※）をもって「企業の工事成績評定点」の貴社技術資料とみなし、その他添付資料の提出は不要とする。 ※本書の写しとは、収受印欄に収受の押印がある資料をいう。") -> 今後、総務部営繕課が発注する工事においては、本書の写し（※）をもって「企業の工事成績評定点」の貴社技術資料とみなし、その他添付資料の提出は不要とする。 ※本書の写しとは、収受印欄に収受の押印がある資料をいう。
M36: （収受印）
B38: 技術資料の提出方法
B39: =IF(COUNTIF(企業入力シート!B26:B29,"○")>0,発注者入力シート!AJ10,IF(INDEX(発注者入力シート!$B$20:$J$24,MATCH(発注者入力シート!L6,発注者入力シート!$C$20:$C$24,0),7)="未記入",発注者入力シート!$AJ$8,IF(INDEX(発注者入力シート!$B$20:$J$24,MATCH(発注者入力シート!L6,発注者入力シート!$C$20:$C$24,0),7)="無",発注者入力シート!$AJ$9,IF(INDEX(発注者入力シート!$B$20:$J$24,MATCH(発注者入力シート!L6,発注者入力シート!$C$20:$C$24,0),7)="有",発注者入力シート!$AJ$10)))) -> 「企業入力シート」の「押印済資料での提出」欄が未記入ですので、リストから「有」、「無」どちらかを選択してください
A46: 【注】
B47: ・押印済資料で提出する場合、押印済資料で評価する。
B48: ・対象工事が異なる押印済資料を提出した場合、当該評価項目の加算点はゼロとする。
B49: =CONCATENATE("・収受印欄に収受印と併せて全県適用 の押印があれば、上記に",発注者入力シート!$C$6,"が発注する工事と記載があっても、本書の写しをもって島根県総務部、防災部、農林水産部及び土木部の事業課、関係地方機関が発注する工事において、その他添付資料の提出は不要とする。") -> ・収受印欄に収受印と併せて全県適用 の押印があれば、上記に総務部営繕課が発注する工事と記載があっても、本書の写しをもって島根県総務部、防災部、農林水産部及び土木部の事業課、関係地方機関が発注する工事において、その他添付資料の提出は不要とする。

Sheet 評定点一覧(5年用) 
A1: =CONCATENATE("（様式-",INDEX(発注者入力シート!$B$20:$G$24,MATCH(発注者入力シート!L6,発注者入力シート!$C$20:$C$24,0),4),"-２）") -> （様式-２-２） | H1: 工事成績評定点一覧表(別紙) | Q1: 【5年用】
A2: =CONCATENATE("評価項目",INDEX(発注者入力シート!$B$20:$G$24,MATCH(発注者入力シート!L6,発注者入力シート!$C$20:$C$24,0),5),"-",INDEX(発注者入力シート!$B$20:$G$24,MATCH(発注者入力シート!L6,発注者入力シート!$C$20:$C$24,0),6)) -> 評価項目（１）-① | H2: 会社（企業体）名： | K2: =IF(企業入力シート!C7="","",企業入力シート!C7) -> ○○建設
A4: 工事種別 | D4: =IF('企業成績評定点 (5年用)'!D9="","",'企業成績評定点 (5年用)'!D9) -> 建築物に係る冷暖房衛生設備工事 | I4: 建設工事の種類 | L4: =IF('企業成績評定点 (5年用)'!D10="","",'企業成績評定点 (5年用)'!D10) -> 管工事、熱絶縁工事、消防施設工事
A6: 令和 | B6: 3 | C6: 年度 | S6: 着色セルの凡例
A7: 番号 | B7: 発注機関名 | E7: 工事名 | P7: 評定点 | S7: （企業）
A8: 1 | Q8: 点 | T8: ：「企業入力シート」、一覧表（別紙）で入力（数式リンク有）
A9: 2 | Q9: 点 | T9: ：セルに直接入力が必要な箇所
A10: 3 | Q10: 点 | S10: （発注者）
A11: 4 | Q11: 点 | T11: ：「発注者入力シート」で入力（数式リンク有）
A12: 5 | Q12: 点 | T12: ：セルに直接入力が必要な箇所
A13: 6 | Q13: 点
A14: 7 | Q14: 点 | S14: 【印刷について】
A15: 8 | Q15: 点 | S15: このシートは「ページ設定」で「白黒印刷」と「印刷範囲」が設定されています。
A16: 9 | Q16: 点
A17: 10 | Q17: 点
A19: 令和 | B19: =B6+1 -> 4 | C19: 年度
A20: 番号 | B20: 発注機関名 | E20: 工事名 | P20: 評定点
A21: 1 | Q21: 点
A22: 2 | Q22: 点
A23: 3 | Q23: 点
A24: 4 | Q24: 点
A25: 5 | Q25: 点
A26: 6 | Q26: 点
A27: 7 | Q27: 点
A28: 8 | Q28: 点
A29: 9 | Q29: 点
A30: 10 | Q30: 点
A32: 令和 | B32: =B19+1 -> 5 | C32: 年度
A33: 番号 | B33: 発注機関名 | E33: 工事名 | P33: 評定点
A34: 1 | Q34: 点
A35: 2 | Q35: 点
A36: 3 | Q36: 点
A37: 4 | Q37: 点
A38: 5 | Q38: 点
A39: 6 | Q39: 点
A40: 7 | Q40: 点
A41: 8 | Q41: 点
A42: 9 | Q42: 点
A43: 10 | Q43: 点
A45: 令和 | B45: =B32+1 -> 6 | C45: 年度
...

Sheet 同種工事施工実績
A1: =CONCATENATE("（様式-",INDEX(発注者入力シート!$B$20:$G$24,MATCH(発注者入力シート!L7,発注者入力シート!$C$20:$C$24,0),4),"）") -> （様式-３） | Q1: =IF(INDEX(発注者入力シート!$B$20:$G$40,MATCH(発注者入力シート!L7,発注者入力シート!$C$20:$C$40,0),3)="","",INDEX(発注者入力シート!$B$20:$G$40,MATCH(発注者入力シート!L7,発注者入力シート!$C$20:$C$40,0),3)) | V1: 着色セルの凡例
A2: =CONCATENATE("評価項目",INDEX(発注者入力シート!$B$20:$G$24,MATCH(発注者入力シート!L7,発注者入力シート!$C$20:$C$24,0),5),"-",INDEX(発注者入力シート!$B$20:$G$24,MATCH(発注者入力シート!L7,発注者入力シート!$C$20:$C$24,0),6)) -> 評価項目（１）-② | V2: （企業）
A3: 企業の同種工事の施工実績 | W3: ：「企業入力シート」、一覧表（別紙）で入力（数式リンク有）
H4: 会社（企業体）名： | L4: =IF(企業入力シート!C7="","",企業入力シート!C7) -> ○○建設 | W4: ：セルに直接入力もしくはリストから選択が必要な箇所
A6: 対象工事 | B6: 対象期間・対象機関 | F6: 平成２８年度から入札公告日前日までに完成及び引き渡しが完了した工事 | V6: （発注者）
W7: ：「発注者入力シート」で入力（数式リンク有）
B8: 工事種別 | F8: =INDEX(発注者入力シート!$AV$3:$BA$9,MATCH(発注者入力シート!$AW$2,発注者入力シート!$AX$3:$AX$9,0),4) -> 建築物に係る冷暖房衛生設備工事
B9: 建設工事の種類 | F9: =INDEX(発注者入力シート!$AV$3:$BA$9,MATCH(発注者入力シート!$AW$2,発注者入力シート!$AX$3:$AX$9,0),5) -> 管工事、熱絶縁工事、消防施設工事
B10: 同種工事の定義 | F10: １契約で税込み最終金額が４，１００万円以上で、住宅以外の建築物に係る冷暖房衛生設備工事 | W10: ：セルに直接入力が必要な箇所
A13: 工事内容 | F13: 施工実績① | M13: 施工実績② | V13: 【印刷について】
A14: 工事名称等 | B14: 工 事 名 | V14: このシートは「ページ設定」で「白黒印刷」と「印刷範囲」が設定されています。
V15: 様式内の吹出しコメントは印刷されません。
B18: （コリンズ登録番号） | U18: ← | V18: コリンズ竣工登録書類が提出できない場合はその理由を入力。（注）H24.4.1以降に公告した500万円以上の工事は、竣工登録が義務づけられています。
B19: 発注機関名 | U19: ← | V19: ○○県土整備事務所など発注機関名を記入（略名可）
B20: 工事種別
B21: 建設工事の種類
B22: 施工場所
V23: （チェック用）
B24: 請負金額（最終・税込） | L24: 円 | S24: 円 | V24: 西暦
B25: 契約上の工期 | E25: （始） | H25: 年 | J25: 月 | L25: 日 | O25: 年 | Q25: 月 | S25: 日 | V25: 46235 | W25: ←西暦を入力すると下の欄に和暦が表示 | AA25: 平成
E26: （終） | H26: 年 | J26: 月 | L26: 日 | O26: 年 | Q26: 月 | S26: 日 | V26: 和暦 | AA26: 令和
B27: 受注形態 | V27: =V25 -> 46235
B28: 特別（特定）ＪＶの場合、出資比率
A29: 工事成績評定点 （島根県が発注した工事） | L29: 点 | S29: 点
A31: 工事概要 | B31: 建物用途
A41: (1) | B41: 施工実績（上表記載内容）全てが確認できるよう下表を参考に資料①～⑨を組み合せて提出すること。
B43: 【公共工事の場合】
B44: ① | C44: コリンズの「工事カルテ」又は「登録内容確認書」の写し。（いずれも竣工登録に限る。） ただし、コリンズの工事カルテのみでは工事概要が確認できない場合は、最終図面、最終仕様書など工事概要が確認できる資料（資料⑥）を追加添付すること。
B47: ② | C47: 当初、変更を含む全ての契約書の写し。 ただし、必ず項目別評定点表（資料③）又は竣工検査済証の写し（資料④）＋最終図面、最終仕様書など工事概要が確認できる資料（資料⑥）を追加添付すること。
B50: ③ | C50: 項目別評定点表。（島根県発注工事に限る。）
B51: ④ | C51: 竣工検査済証の写し。
B52: ⑤ | C52: 工事成績評定通知書の写し。（島根県発注工事に限る。）
B53: ⑥ | C53: 最終図面、最終仕様書など工事概要が確認できる資料。
B54: ⑦ | C54: 同種工事の施工実績として最終請負金額を求めた場合で、同種工事以外の工事を包含しているものは、求めている部分の最終請負金額が確認できる資料（最終の工事種別毎の工事費一覧又は工事内訳書等）。
B57: ⑧ | C57: 発注者の証明書の写し。（上記資料①～⑥で確認できない記載内容（コリンズ登録番号を除く。）を全て証明してあるもの。）
B59: ⑨ | C59: 施工実績として提出する工事の「工事種別」及び「建設工事の種類」が確認できる資料
A61: 資料①～⑨で確認できる内容
A62: 項目名 | H62: 資料番号 | Q62: 備考
H63: ① | I63: ② | J63: ③ | K63: ④ | L63: ⑤ | M63: ⑥ | N63: ⑦ | O63: ⑧ | P63: ⑨
A64: 工事名称等 | B64: 工事名 | H64: ○ | I64: ○ | J64: ○ | K64: ○ | L64: ○ | M64: ○ | N64: ○ | O64: ○ | P64: ○
...

Sheet 優良工事表彰
A1: =CONCATENATE("（様式-",INDEX(発注者入力シート!$B$20:$G$24,MATCH(発注者入力シート!L8,発注者入力シート!$C$20:$C$24,0),4),"）") -> （様式-４） | S1: 着色セルの凡例
A2: =CONCATENATE("評価項目",INDEX(発注者入力シート!$B$20:$G$24,MATCH(発注者入力シート!L8,発注者入力シート!$C$20:$C$24,0),5),"-",INDEX(発注者入力シート!$B$20:$G$24,MATCH(発注者入力シート!L8,発注者入力シート!$C$20:$C$24,0),6)) -> 評価項目（１）-③ | S2: （企業）
A3: 企業の優良工事表彰（優良工事施工団体表彰） | T3: ：「企業入力シート」、一覧表（別紙）で入力（数式リンク有）
G4: 会社（企業体）名： | K4: =IF(企業入力シート!C7="","",企業入力シート!C7) -> ○○建設 | T4: ：セルに直接入力もしくはリストから選択が必要な箇所
A6: 対象工事 | B6: 対象年度 対象機関 | E6: 島根県内の公共事業において、令和４年度から令和８年度に、島根県及び中国地方整備局発注工事で受けた建築部門の優良工事表彰（優良工事施工団体表彰）
S7: （発注者）
T8: ：「発注者入力シート」で入力（数式リンク有）
B9: 工事種別 | E9: =INDEX(発注者入力シート!$AV$3:$BA$9,MATCH(発注者入力シート!$AW$2,発注者入力シート!$AX$3:$AX$9,0),4) -> 建築物に係る冷暖房衛生設備工事 | T9: ：セルに直接入力が必要な箇所
B10: 建設工事の種類 | E10: =INDEX(発注者入力シート!$AV$3:$BA$9,MATCH(発注者入力シート!$AW$2,発注者入力シート!$AX$3:$AX$9,0),5) -> 管工事、熱絶縁工事、消防施設工事
S12: 【印刷について】
A13: 表彰者の区分 | S13: このシートは「ページ設定」で「白黒印刷」と「印刷範囲」が設定されています。
A14: 受賞年度 | L14: ※竣工年度ではありません | S14: 様式内の吹出しコメントは印刷されません。
A15: 工事名
A17: 工事種別
A18: 建設工事の種類
A20: (1) | B20: 島根県発注工事は資料添付が不要。
A21: (2) | B21: 中国地方整備局発注工事は表彰状等の写しを添付すること。また、発注者から表彰実績に関する資料が提示された場合は、その写しの添付でもよい。
A23: (3) | B23: 表彰の受賞が２回以上ある場合は、代表的なもの１回分の提出でよい。
A24: (4) | B24: 工事名は、「契約工事名」で記入すること。
A25: (5) | B25: 上記事項の外、入札説明書本文にある要件を必ず確認すること。
A28: 技術資料提出工事名： | E28: =IF(発注者入力シート!$C$10="","",発注者入力シート!$C$10) -> 隠岐高等学校長寿命化（受水槽改修外）工事
A30: 提出事務所名： | E30: =IF(発注者入力シート!$C$6="","",発注者入力シート!$C$6) -> 総務部営繕課
A32: 有効範囲： | E32: =発注者入力シート!$C$11 -> 令和9年7月31日までに入札公告された工事
A34: =CONCATENATE(" 今後、",発注者入力シート!$C$6,"が発注する工事においては、本書の写し（※）をもって「企業の優良工事表彰（優良工事施工団体表彰）」の貴社技術資料とみなし、その他添付資料の提出は不要とする。 ※本書の写しとは、収受印欄に収受の押印がある資料をいう。") -> 今後、総務部営繕課が発注する工事においては、本書の写し（※）をもって「企業の優良工事表彰（優良工事施工団体表彰）」の貴社技術資料とみなし、その他添付資料の提出は不要とする。 ※本書の写しとは、収受印欄に収受の押印がある資料をいう。
N37: （収受印）
B38: 技術資料の提出方法
