Workbook

Sheet 表紙
A1: 入札参加申込書兼技術資料
F3: 令和 年 月 日
A6: 愛知県西三河水道事務所長 殿
E8: 住所
E9: 商号又は名称 | F9: 株式会社○○
E10: 代表者氏名
A12: 下記の案件に関する入札参加について、技術資料を添えて申込みます。 なお、申込者は、入札参加資格を満たしている者であることを誓約し、技術資料の内容について事実と相違ないことを誓約します。
A13: 記
A15: １ 公告年月日
B16: 46296
A18: ２ 工事名
B19: 第２北部幹線第１工区連絡線（その１）配水管製作接合工事
A21: ３ 路線等の名称
B22: 第２北部幹線
A24: ４ 工事場所
B25: 安城市篠目町地内
A27: ５ 資料内容
A28: =IF(B28="",""," ・") -> ・ | B28: 加算点算出チェックリスト
A29: =IF(B29="",""," ・") -> ・ | B29: 技術資料(加算点申告表)
A30: =IF(B30="",""," ・") -> ・ | B30: =I30 -> 技術資料（技術提案書） | I30: 技術資料（技術提案書） | J30: ※標準型又は簡易型の場合
F32: 記載責任者（記載内容について答えられる方）
F33: １ 氏 名
F34: ２ 部課名
F35: ３ 電話番号

Sheet 加算点算出チェックリスト
B1: 加算点算出チェックリスト【入札参加者用】
B2: 申込者： | C2: =表紙!F9 -> 株式会社○○
B3: 工事名： | C3: =表紙!B19 -> 第２北部幹線第１工区連絡線（その１）配水管製作接合工事
B4: 路線名： | C4: =表紙!B22 -> 第２北部幹線
B5: ※下記のチェック欄に✓を入れてください。なお、評価項目で該当がない場合は空欄にしてください。
B6: 評 価 項 目 | D6: チェック欄 | E6: 確 認 項 目
B7: 企業の技術力 | C7: 施工実績 | E7: ア 対象工事の施工実績は国、地方公共団体及び特殊法人等が発注した公共工事であるか？ | H7: FALSE
E8: イ 対象工事の施工実績は公告文で設定された期間以内のものであるか？ | H8: FALSE
E9: ウ 対象工事の施工実績は公告文で設定された工事規模のものであるか？ | H9: FALSE
E10: エ 対象工事の施工実績の添付資料の準備はできているか？ | H10: FALSE
E11: オ 対象工事の施工実績は入札に参加する営業所又は県内の営業所のものか？ | H11: FALSE
E12: カ 加算点申告表で選択した加算点数は対象工事の施工実績の件数と合致しているか？ | H12: FALSE
C13: 工事成績 | E13: ア 工事成績は企業庁の成績であるか？ | H13: FALSE
E14: イ 工事成績点は公告文で設定された期間以内のものであるか？ | H14: FALSE
E15: ウ 工事成績点の添付資料の準備はできているか？ | H15: FALSE
E16: エ 加算点申告表で選択した加算点数は平均点の加算点基準と合致しているか？ | H16: FALSE
C17: 優良工事表彰 | E17: ア 優良工事表彰は「愛知県企業庁」、「愛知県建設局、都市・交通局又は建築局」、 「愛知県農業水産局又は農林基盤局」発注工事のものであるか？ | H17: FALSE
E18: イ 優良工事表彰は公告文で設定された期間以内のものであるか？ | H18: FALSE
E19: ウ 優良工事表彰の添付資料の準備はできているか？ | H19: FALSE
E20: エ 優良工事表彰は2件までで、加算点申告表で選択した加算点数と合致しているか？ | H20: FALSE
C21: 中長期的な担い手の確保※ | E21: ア 若手技術者の雇用実績は公告文に記載されている期間内のものか？ | H21: FALSE
E22: イ 愛知県内に主たる営業所のある会社であるか？ | H22: FALSE
E23: ウ 公告文に記載されている若手技術者の年齢と学歴及び正規社員としての新規雇用実績が確認できる資料は 準備できているか？ | H23: FALSE
E24: エ 加算点申告表で選択した加算点数は間違っていないか？ | H24: FALSE
C25: 国家資格等の取得者の有無※ | E25: ア 国家資格等の種類に応じて合格証明書、免許の登録、免状の交付又は資格者証の交付等の日付は 公告文で設定された期間内のものであるか？ | H25: FALSE
E26: イ 正規社員であることを確認できる資料及び国家資格等の種類に応じて合格証明書、免許証、 免状又は資格者証等の写しの準備はできているか？ | H26: FALSE
E27: ウ 愛知県内に主たる営業所のある会社であるか？ | H27: FALSE
E28: エ 加算点申告表で選択した加算点数は間違っていないか？ | H28: FALSE
C29: ＩＣＴ活用工事の取組実績※ | E29: ア ICT活用工事取組証に記載の日付は公告文で設定された期間内のものであるか？ | H29: FALSE
E30: イ ICT活用工事取組証の写しの準備はできているか？ | H30: FALSE
E31: ウ ICT活用工事取組証は「愛知県企業庁」、「愛知県建設局、都市・交通局又は建築局」、 「愛知県農業水産局又は農林基盤局」発注工事のものであるか？ | H31: FALSE
E32: エ 加算点申告表で選択した加算点数は間違っていないか？ | H32: FALSE
C33: IＳO９００１取得 | E33: ア 入札に参加する営業所が認定事業所であるか？ | H33: FALSE | AW33: TRUE
E34: イ IＳO９００１認定証の写しが準備できているか？ | H34: FALSE
E35: エ 加算点申告表で選択した加算点数は間違っていないか？ | H35: FALSE
B36: 配置予定技術者の能力 | C36: 配置予定技術者 | E36: ア 「①施工実績」と「②工事成績（②-1、②-2）」は同一技術者が評価対象か？ | H36: FALSE
C37: ①施工実績 | E37: ア 対象工事の施工実績は国、地方公共団体及び特殊法人等が発注した公共工事であるか？ | H37: FALSE
E38: イ 対象工事の施工実績は公告文で設定された期間以内のものであるか？ | H38: FALSE
E39: ウ 対象工事の施工実績は公告文で設定された工事規模のものであるか？ | H39: FALSE
E40: エ 対象工事の施工実績は監理技術者・監理技術者補佐・主任技術者・現場代理人で従事したものであるか？ | H40: FALSE
...

Sheet 加算点申告表 【管製作接合型】
B1: 様式第４ 【管製作接合型】
B2: 総合評価落札方式技術資料 | E2: 全所属で共通して使用するため、セル内容は改変しないこと。
B3: 加算点申告表 (愛知県企業庁) | D3: 使用方法 | E3: ①落札者決定基準と加算点、加点基準が合致していることを確認する。
B4: 共通様式 | E4: ②発注する形式に応じて不要シートを削除する。シート削除は、シートタグを右クリックし、削除を選択。 | L4: 下の黄色セルに申請者名及び工事名等の必要事項を記入して下さい。
E5: 削除後は、復元できないので再度ダウンロードしてください。
B6: 申請者名 | E6: ③D列からK列までを「非表示」とする。非表示は、上部列表示を選択し、右クリックから、非表示を選択。 | L6: =表紙!F9 -> 株式会社○○
B7: 工事名 | E7: ④「入札参加者選択項目」欄を「削除」で空白表示とする。加算点集計結果がゼロ点であることを確認する。 | L7: =表紙!B19 -> 第２北部幹線第１工区連絡線（その１）配水管製作接合工事
B8: 路線名 | E8: ⑤メニュー「ツール」「保護」「シートの保護」からパスワード「shinkoku(小文字)」を設定し、ロックする。パスワードは全所属共通とする。 | L8: =表紙!B22 -> 第２北部幹線
E9: ⑥ランダムに評価項目に加算点を入力し正しく加算点が算出されることを確認する。 | L9: 下の黄色セル中の選択項目から選択して下さい。 加算点を過大に申告した場合、公告に記載の計算方法で減点しますので、ご注意下さい。
E10: ⑦加算点集計結果がゼロ点となるよう入札参加選択項目欄を「Delete」キーで削除し、合計点がゼロ点であることを確認する。
D11: 解除方法 | E11: メニュー「ツール」「保護」「シートの保護」からパスワード「shinkoku(小文字)」を入力し、解除する。
B12: 企業の技術力（配点１０．５点）
B13: 評価項目 | C13: 配点 | D13: 評価基準と配点 | L13: 入札参加者選択項目 | O13: 加算点集計結果
B14: ①企業評価対象工事の施工実績（過去１５年間、１０年間又は５年間) | C14: 3 | D14: 実績３件 ３点 | E14: 実績２件 ２点 | F14: 実績１件 １点 | G14: 実績なし ０点 | H14: ←件数注意 | O14: =IF(L14=D14,3,IF(L14=E14,2,IF(L14=F14,1,))) -> 0
B15: ②愛知県企業庁発注工事の成績評定点の平均点（過去１０年間） | C15: 5 | D15: ８４点以上 ５点 | E15: ８２点以上８４点未満 ４点 | F15: ８０点以上８２点未満 ３点 | G15: ７８点以上８０点未満 ２点 | H15: ７６点以上７８点未満 １点 | I15: ７６点未満または実績なし ０点 | O15: =IF(L15=D15,5,IF(L15=E15,4,IF(L15=F15,3,IF(L15=G15,2,IF(L15=G15,2,IF(L15=H15,1,0)))))) -> 0
B16: ④愛知県発注工事の優良工事表彰の有無（過去１０年間) | C16: ２ | D16: 企業庁の表彰 ２件以上の実績あり ２点 | E16: 企業庁の表彰と県その他の表彰 各々１件の実績あり １.５点 | F16: 企業庁の表彰 １件の実績あり １点 | G16: 県その他の表彰 ２件以上の実績あり １点 | H16: 県その他の表彰 １件の実績あり ０.５点 | I16: 実績なし ０点 | O16: =IF(L16=D16,2,IF(L16=E16,1.5,IF(L16=F16,1,IF(L16=G16,1,IF(L16=H16,0.5,0))))) -> 0
B17: ⑤ISO9001認証取得の有無 | C17: 0.5 | D17: 取得あり 0.5点 | E17: 取得なし ０点 | O17: =IF(L17=D17,0.5,) -> 0
N18: 小計 | O18: =SUM(O14:O17) -> 0
B19: 配置予定技術者の能力（配点７点）
B20: 評価項目 | C20: 配点 | D20: 評価基準と配点 | L20: 入札参加者選択項目 | O20: 加算点集計結果
B21: ①技術者評価対象工事の施工実績（過去１５年間１０年間又は５年間) 監理技術者、監理技術者補佐、主任技術者又は現場代理人の従事経験 | C21: 2 | D21: 実績あり ２点 | E21: 実績なし ０点 | O21: =IF(L21=D21,2,IF(L21=E21,0,)) -> 0
B22: ②-1「愛知県企業庁発注の①技術者評価対象工事」の工事成績評定点（過去１０年間) 監理技術者、監理技術者補佐、主任技術者又は現場代理人の従事経験 | C22: 5 | D22: ８４点以上 ５点 | E22: ８２点以上８４点未満 ４点 | F22: ８０点以上８２点未満 ３点 | G22: ７８点以上８０点未満 ２点 | H22: ７６点以上７８点未満 １点 | I22: ７６点未満または実績なし ０点 | J22: 最大加算点判定欄 | K22: =IF(L22=D22,5,IF(L22=E22,4,IF(L22=F22,3,IF(L22=G22,2,IF(L22=H22,1,0))))) -> 0 | O22: =IF(SUM($K$22:$K$23)>=5,5,SUM($K$22:$K$23)) -> 0
B23: ②-2 上記工事以外の愛知県企業庁発注工事又は県その他発注工事の工事成績評定点から１件（過去１０年間) 監理技術者、監理技術者補佐、主任技術者又は現場代理人の従事経験 | D23: 上記以外 ８５点以上 ３点 | E23: 上記以外 ８２点以上８５点未満 ２点 | F23: 上記以外 ８０点以上８２点未満 １点 | G23: 上記以外 ８０点未満または実績なし ０点 | K23: =IF(L23=D23,3,IF(L23=E23,2,IF(L23=F23,1,IF(L23=G23,0,)))) -> 0
N24: 小計 | O24: =SUM(O21:O22) -> 0
B26: 地域精通度地域貢献度（配点６点）
B27: 評価項目 | C27: 配点 | D27: 評価基準と配点 | L27: 入札参加者選択項目 | O27: 加算点集計結果
B28: ①大規模災害時に関する協定等の締結状況、愛知県企業庁の水道事務所での応急復旧工事請書による応急復旧工事実績の有無（過去５年間）、愛知県企業庁と災害時における応急給水支援に関する協定の締結状況 | C28: 2 | D28: 水道事務所と大規模災害時の活動に関する協定締結中、又は、企業庁と災害時における水道資材の供給に関する協定締結中 0.5点 | E28: 該当なし ０点 | J28: 最大加算点判定欄 | K28: =IF($D28=$L28,0.5,0) -> 0 | O28: =IF(SUM(K28:K30)>=2,2,SUM(K28:K30)) -> 0
D29: 企業庁での11件以上の応急復旧工事実績有り 1.5点 | E29: 企業庁での10～6件の応急復旧工事実績有り １点 | F29: 企業庁での1～5件の応急復旧工事実績有り 0.5点 | G29: 該当なし ０点 | K29: =IF(L29=D29,1.5,IF(L29=E29,1,IF(L29=F29,0.5,IF(L29=G29,0,IF(L29=H29,0,0))))) -> 0
D30: 災害時における応急給水支援に関する協定を締結中 0.5点 | E30: 該当なし ０点 | K30: =IF($L30=$D30,0.5,0) -> 0
B31: ②ISO14001認証取得の有無 | C31: 0.5 | D31: 取得あり 0.5点 | E31: 取得なし ０点 | O31: =IF(L31=D31,0.5,) -> 0
B32: ③女性の活躍促進への取組の有無 | C32: 1 | D32: あいち女性輝きカンパニーの認証、えるぼし認定又はプラチナえるぼし認定あり １点 | E32: 女性の活躍促進宣言の実施あり 0.5点 | F32: 該当なし ０点 | O32: =IF(L32=D32,1,IF(L32=E32,0.5,)) -> 0
B33: ④愛知県安全なまちづくり・交通安全パートナーシップ企業登録事業での活動実績の有無（過去１年間） | C33: 0.5 | D33: 活動実績あり 0.5点 | E33: 該当なし ０点 | O33: =IF($L33=$D33,0.5,) -> 0
B34: ⑦休み方改革への取組実績 | C34: 2 | D34: 完全週休２日工事 実績あり 2点 | E34: 該当なし ０点 | J34: 最大加算点判定欄 | K34: =IF($D34=$L34,2,0) -> 0 | O34: =MAX(K34:K36) -> 0
D35: 月単位週休２日工事 実績あり 1点 | E35: 該当なし ０点 | K35: =IF(L35=D35,1,IF(L35=E35,0,)) -> 0
D36: 休み方改革マイスター企業認定 0.5点 | E36: 該当なし ０点 | K36: =IF($D36=$L36,0.5,0) -> 0
B37: 注：発注工事毎に加算点の基準が異なるため公告文を参照の上、入力してください。共通して利用しているため対象期間が複数記載してあるものもありますが、公告文の記載が優先されます。 | N37: 小計 | O37: =SUM(O28:O36) -> 0
B38: 選択した加算点と表示している配点及び合計得点を確認してください。 | N38: 合計 | O38: =O18+O24+O37 -> 0
