Workbook
Name 【企業】評価項目: 発注者入力シート!$L$6:$L$13
Name 【技術者】評価項目: 発注者入力シート!$M$6:$M$12
Name 【地域貢献】評価項目: 発注者入力シート!$N$6:$N$26
Name 【地理的条件】評価項目: 発注者入力シート!$O$6:$O$11
Name 企業回答: 発注者入力シート!$Z$6:$Z$9
Name 企業回答1: 発注者入力シート!$V$6:$V$8
Name 企業回答10: 発注者入力シート!$AE$6:$AE$9
Name 企業回答11: 発注者入力シート!$AF$6:$AF$8
Name 企業回答12: 発注者入力シート!$AG$6:$AG$9
Name 企業回答13: [1]発注者入力シート!$AH$6:$AH$8
Name 企業回答14: [1]発注者入力シート!$AI$6:$AI$9
Name 企業回答2: 発注者入力シート!$W$6:$W$11
Name 企業回答3: 発注者入力シート!$X$6:$X$11
Name 企業回答4: 発注者入力シート!$Y$6:$Y$8
Name 企業回答5: 発注者入力シート!$Z$6:$Z$9
Name 企業回答6: 発注者入力シート!$AA$6:$AA$12
Name 企業回答7: 発注者入力シート!$AB$6:$AB$9
Name 企業回答8: 発注者入力シート!$AC$6:$AC$17
Name 企業回答9: 発注者入力シート!$AD$6:$AD$8
Name 建設工事の種類: 発注者入力シート!$U$6:$U$22
Name 工事種別: 発注者入力シート!$T$6:$T$22
Name 地域密着型: 発注者入力シート!$S$6:$S$7
Name 評価項目番号: 発注者入力シート!$Q$6:$Q$12
Name 評価項目番号_枝番: 発注者入力シート!$R$6:$R$16
Name 様式番号: 発注者入力シート!$P$6:$P$32

Sheet 発注者入力シート
A1: 発注までに必要な作業 | L1: 【表３】プルダウンリスト | AX1: 技術資料「企業の工事成績評定点」、「配置予定技術者の工事成績評定点」の表示
A2: （１）発注工事の基本情報 | L2: 【表３】を編集すると評価項目（C列）のリストが変更できます（原則、着色セル以外編集不可）。 | AX2: 入力状況 | AY2: =C8&C9 -> 一般土木工事土木一式工事
B3: １．【表１】のC列に基本情報を直接入力してください | L3: 表中の着色セルを予備欄です。項目が不足する場合ここに入力すれば、プルダウンリストを追加できます。 | AX3: 工事種別 | AY3: 建設工事の種類 | AZ3: 判定用 | BA3: 表示（工事種別） | BB3: 表示（建設工事の種類） | BC3: 工事成績評価対象期間
B4: 【表１】 | L4: 【表３】 | AX4: 一般土木工事 | AY4: 土木一式工事 | AZ4: =AX4&AY4 -> 一般土木工事土木一式工事 | BA4: 一般土木工事、維持修繕工事 | BB4: 土木一式工事、とび・土工・ｺﾝｸﾘｰﾄ工事、しゅんせつ工事 | BC4: 工事成績（過去3年間で評価）
B5: 入力項目名 | C5: 入力欄 | L5: 【企業】評価項目 | M5: 【技術者】評価項目 | N5: 【地域貢献・その他】評価項目 | O5: 【地理的条件】評価項目 | P5: 様式番号 | Q5: 評価項目番号 | R5: 評価項目番号（枝番） | S5: 地域設定 | T5: 工事種別 | U5: 建設工事の種類 | V5: 企業回答1 | W5: 企業回答2 | X5: 企業回答3 | Y5: 企業回答4 | Z5: 企業回答5 | AA5: 企業回答6 | AB5: 企業回答7 | AC5: 企業回答8 | AD5: 企業回答9 | AE5: 企業回答10 | AF5: 企業回答11 | AG5: 企業回答12 | AX5: 一般土木工事 | AY5: とび・土工・コンクリート工事 | AZ5: =AX5&AY5 -> 一般土木工事とび・土工・コンクリート工事 | BA5: 一般土木工事、維持修繕工事 | BB5: 土木一式工事、とび・土工・ｺﾝｸﾘｰﾄ工事、しゅんせつ工事 | BC5: 工事成績（過去3年間で評価）
B6: 発注事務所名 | C6: 浜田県土整備事務所 | D6: ←直接入力 | L6: 工事成績 | M6: 保有資格 | N6: 防災協定 | O6: 近隣施工実績 | P6: ２ | Q6: （１） | R6: ① | S6: 【地域設定】 | T6: 一般土木工事 | U6: 土木一式工事 | V6: 有 | W6: 国局長 | X6: 国局長の表彰 | Y6: 契約工事名 | Z6: 単体 | AA6: 監理技術者 | AB6: 本店 | AC6: ｼｮﾍﾞﾙ系掘削機(ｼｮﾍﾞﾙ) | AD6: 保有 | AE6: 第1ｸﾞﾙｰﾌﾟ | AF6: 元請 | AG6: 除雪業務 | AX6: 一般土木工事 | AY6: しゅんせつ工事 | AZ6: =AX6&AY6 -> 一般土木工事しゅんせつ工事 | BA6: 一般土木工事、維持修繕工事 | BB6: 土木一式工事、とび・土工・ｺﾝｸﾘｰﾄ工事、しゅんせつ工事 | BC6: 工事成績（過去3年間で評価）
B7: 入札公告日 | C7: 46297 | D7: ←ｙｙｙｙ/m/dで入力【重要】 | G7: 入札公告日前日 | H7: =C7-1 -> 46296 | I7: ←削除厳禁 | L7: 同種工事実績 | M7: 同種工事経験 | N7: 家畜伝染病防疫協定 | O7: 会社所在地 | P7: ３ | Q7: （２） | R7: ② | T7: アスファルト舗装工事・特殊舗装工事（旧舗装工事） | U7: とび・土工・コンクリート工事 | V7: 無 | W7: 国整備局部長 | X7: 国整備局部長の表彰 | Y7: 表彰状記載工事名 | Z7: 特別（特定）JV | AA7: 主任技術者 | AB7: 支店 | AC7: ｼｮﾍﾞﾙ系掘削機(ﾊﾞｯｸﾎｳ) | AD7: リース契約 | AE7: 第2ｸﾞﾙｰﾌﾟ | AF7: 下請 | AG7: 散布業務 | AI7: 技術資料の提出方法の表示 | AX7: 維持修繕工事 | AY7: 土木一式工事 | AZ7: =AX7&AY7 -> 維持修繕工事土木一式工事 | BA7: 一般土木工事、維持修繕工事 | BB7: 土木一式工事、とび・土工・ｺﾝｸﾘｰﾄ工事、しゅんせつ工事 | BC7: 工事成績（過去3年間で評価）
B8: 工事種別 | C8: 一般土木工事 | D8: ←必須【入力結果が技術資料(企業成績評定点、技術者成績評定点）シートの対象工事欄に反映される】 | L8: 優良工事表彰 | M8: 技術者の表彰 | N8: ボランティア活動又はハートフルしまね | O8: 工場・会社所在地 | P8: ４ | Q8: （３） | R8: ③ | T8: 鋼橋上部工事 | U8: 鋼構造物工事 | W8: 国事務所長 | X8: 国事務所長の表彰 | Z8: 一般（経常）JV | AA8: 現場代理人 | AB8: 営業所 | AC8: ｼｮﾍﾞﾙ系掘削機(ﾄﾞﾗｸﾞﾗｲﾝ) | AE8: 第3ｸﾞﾙｰﾌﾟ | AG8: 除雪・散布業務 | AI8: 未記入 | AJ8: 「企業入力シート」の「押印済資料での提出」欄が未記入ですので、リストから「有」、「無」どちらかを選択してください | AX8: 維持修繕工事 | AY8: とび・土工・コンクリート工事 | AZ8: =AX8&AY8 -> 維持修繕工事とび・土工・コンクリート工事 | BA8: 一般土木工事、維持修繕工事 | BB8: 土木一式工事、とび・土工・ｺﾝｸﾘｰﾄ工事、しゅんせつ工事 | BC8: 工事成績（過去3年間で評価）
B9: 建設工事の種類 | C9: 土木一式工事 | D9: =IF(INDEX(AX3:BC31,MATCH(AY2,AZ3:AZ31,0),3)=AY2,INDEX(AX3:BC31,MATCH(AY2,AZ3:AZ31,0),6),"err") -> 工事成績（過去3年間で評価） | G9: ←エラー表示の場合、工事種別と建設工事の種類を再確認 | L9: プラント保有 | M9: 継続学習 | N9: 維持管理業務 | O9: サポート拠点 | P9: ５ | Q9: （４） | R9: ④ | T9: ﾌﾟﾚｽﾄﾚｽﾄｺﾝｸﾘｰﾄ構造物工事 | U9: 舗装工事 | W9: 知事 | X9: 知事表彰該当工事の表彰 | AA9: 担当技術者 | AC9: ｼｮﾍﾞﾙ系掘削機(ｸﾗﾑｼｪﾙ) | AI9: 無 | AJ9: 本技術資料により提出します | AX9: アスファルト舗装工事・特殊舗装工事（旧舗装工事） | AY9: 舗装工事 | AZ9: =AX9&AY9 -> アスファルト舗装工事・特殊舗装工事（旧舗装工事）舗装工事 | BA9: アスファルト舗装工事・特殊舗装工事（旧舗装工事）、維持修繕工事 | BB9: 舗装工事 | BC9: 工事成績（過去3年間で評価）
B10: 工事名 | C10: （一）跡市波子停車場線（跡市２工区）総合交付金（改築）工事 第６期 | L10: 法面機械保有 | M10: 技術者の成績 | N10: 除雪業務 | O10: - | P10: ６ | Q10: （５） | R10: ⑤ | T10: 港湾工事 | U10: しゅんせつ工事 | W10: 県課長 | X10: 県課長表彰該当工事の表彰 | AA10: 監理技術者補佐 | AC10: ｼｮﾍﾞﾙ系掘削機(ｸﾚｰﾝ) | AI10: 有 | AJ10: 事前審査・証明書、又は別添押印済資料により提出しますので、本書への記載は省略します | AX10: 維持修繕工事 | AY10: 舗装工事 | AZ10: =AX10&AY10 -> 維持修繕工事舗装工事 | BA10: アスファルト舗装工事・特殊舗装工事（旧舗装工事）、維持修繕工事 | BB10: 舗装工事 | BC10: 工事成績（過去3年間で評価）
B11: 押印済資料有効期限 | C11: 令和９年７月３１日までに入札公告された工事 | E11: 手引き年度 | F11: 令和８年度 | G11: 令和７年度 | H11: 令和６年度 | L11: OPD制度参加登録 | M11: - | N11: 労働福祉（障がい者雇用） | P11: ７ | Q11: （６） | R11: ⑥ | T11: 機械設備工事 | U11: 機械器具設置工事 | W11: 県事務所長 | X11: 県事務所長表彰該当工事の表彰 | AC11: ｼｮﾍﾞﾙ系掘削機(ﾊﾟｲﾙﾄﾞﾗｲﾊﾞｰ) | AI11: 申請なし | AJ11: 申請する場合は、「企業入力シート」の「押印済資料での提出」欄で「有」を選択してください | AX11: 鋼橋上部工事 | AY11: 鋼構造物工事 | AZ11: =AX11&AY11 -> 鋼橋上部工事鋼構造物工事 | BA11: 鋼橋上部工事 | BB11: 鋼構造物工事 | BC11: 工事成績（過去3年間で評価）
A12: （２）総合評価方式の評価項目、技術資料様式の番号情報 | L12: - | N12: 労働福祉（育児介護制度） | P12: ８ | R12: ⑦ | T12: 塗装工事 | U12: 塗装工事 | AC12: ﾌﾞﾙﾄﾞｰｻﾞｰ | AX12: ﾌﾟﾚｽﾄﾚｽﾄｺﾝｸﾘｰﾄ構造物工事 | AY12: 土木一式工事 | AZ12: =AX12&AY12 -> ﾌﾟﾚｽﾄﾚｽﾄｺﾝｸﾘｰﾄ構造物工事土木一式工事 | BA12: ﾌﾟﾚｽﾄﾚｽﾄｺﾝｸﾘｰﾄ構造物工事（旧ﾌﾟﾚｽﾄﾚｽﾄｺﾝｸﾘｰﾄ工事） | BB12: 土木一式工事 | BC12: 工事成績（過去3年間で評価）
B13: １．【表２】C列に発注工事の評価項目を入力してください（プルダウンリストから選択） | N13: 育児介護チェック表 | P13: ９ | R13: ⑧ | T13: 造園工事 | U13: 造園工事 | AC13: ﾄﾗｸﾀｰｼｮﾍﾞﾙ | AX13: 港湾工事 | AY13: 土木一式工事 | AZ13: =AX13&AY13 -> 港湾工事土木一式工事 | BA13: 港湾工事 | BB13: 土木一式工事、しゅんせつ工事 | BC13: 工事成績（過去3年間で評価）
B14: （特殊な評価項目でプルダウンリストに項目がない場合は、【表３】で項目を追加してください） | N14: 労働福祉（若手技術者雇用） | P14: １０ | R14: ⑨ | T14: さく井工事 | U14: さく井工事 | AC14: ﾓｰﾀｰｸﾞﾚｰﾀﾞｰ | AX14: 港湾工事 | AY14: しゅんせつ工事 | AZ14: =AX14&AY14 -> 港湾工事しゅんせつ工事 | BA14: 港湾工事 | BB14: 土木一式工事、しゅんせつ工事 | BC14: 工事成績（過去3年間で評価）
B15: ２．【表２】E～G列に様式番号と評価項目の番号をプルダウンリストで選択してください。 | N15: 登録基幹技能者 | P15: １１ | R15: ⑩ | T15: 法面処理工事 | U15: 電気工事 | AC15: 移動式ｸﾚｰﾝ | AX15: 機械設備工事 | AY15: 機械器具設置工事 | AZ15: =AX15&AY15 -> 機械設備工事機械器具設置工事 | BA15: 機械設備工事 | BB15: 機械器具設置工事、鋼構造物工事 | BC15: 工事成績（過去5年間で評価）
B16: （様式番号は表紙が1になるため、2から始まります。評価項目の番号は、入札説明書に記載する見出し番号とあわせてください） | N16: 若手・中堅技術者配置 | P16: １２ | T16: 維持修繕工事 | U16: 管工事 | AC16: 大型ﾀﾞﾝﾌﾟ車 | AX16: 機械設備工事 | AY16: 鋼構造物工事 | AZ16: =AX16&AY16 -> 機械設備工事鋼構造物工事 | BA16: 機械設備工事 | BB16: 機械器具設置工事、鋼構造物工事 | BC16: 工事成績（過去5年間で評価）
B17: ３．地域条件を設定する評価項目は、【表２】D列で【地域設定】を選択してください | N17: 若手技術者・若手従業員の新規雇用 | P17: １３ | T17: グラウト工事 | U17: 水道施設工事 | AX17: 塗装工事 | AY17: 塗装工事 | AZ17: =AX17&AY17 -> 塗装工事塗装工事 | BA17: 塗装工事、維持修繕工事 | BB17: 塗装工事 | BC17: 工事成績（過去5年間で評価）
B18: 【表２】 | F18: 様式番号 | G18: 評価項目（１）－①（例） | N18: 建設機械保有状況 | P18: １４ | T18: 管工事 | U18: 消防施設工事 | AX18: 維持修繕工事 | AY18: 塗装工事 | AZ18: =AX18&AY18 -> 維持修繕工事塗装工事 | BA18: 塗装工事、維持修繕工事 | BB18: 塗装工事 | BC18: 工事成績（過去5年間で評価）
B19: 区分 | C19: 評価項目 | D19: 地域設定 | E19: 様式－○ | F19: 評価項目○－○ | H19: ↓押印済資料提出状況【削除厳禁】 | N19: 消防団協力事業所 | P19: １５ | T19: 電気工事 | U19: 電気通信工事 | AX19: 造園工事 | AY19: 造園工事 | AZ19: =AX19&AY19 -> 造園工事造園工事 | BA19: 造園工事 | BB19: 造園工事 | BC19: 工事成績（過去5年間で評価）
B20: 企業 | C20: 工事成績 | E20: ２ | F20: （１） | G20: ① | H20: =IF(企業入力シート!B44="","未記入",企業入力シート!B44) -> 未記入 | N20: 応急危険度判定士 | P20: １６ | T20: 通信設備工事 | AX20: さく井工事 | AY20: さく井工事 | AZ20: =AX20&AY20 -> さく井工事さく井工事 | BA20: さく井工事 | BB20: さく井工事 | BC20: 工事成績（過去5年間で評価）
B21: 企業 | H21: =IF(企業入力シート!B45="","未記入",企業入力シート!B45) -> 未記入 | N21: 災害復旧工事受注実績 | P21: １７ | AX21: 法面処理工事 | AY21: とび・土工・コンクリート工事 | AZ21: =AX21&AY21 -> 法面処理工事とび・土工・コンクリート工事 | BA21: 法面処理工事 | BB21: とび・土工・コンクリート工事 | BC21: 工事成績（過去3年間で評価）
B22: 企業 | H22: =IF(企業入力シート!B46="","未記入",企業入力シート!B46) -> 未記入 | N22: 海上援助活動 | P22: １８ | AX22: 電気工事 | AY22: 電気工事 | AZ22: =AX22&AY22 -> 電気工事電気工事 | BA22: 電気工事、維持修繕工事 | BB22: 電気工事 | BC22: 工事成績（過去5年間で評価）
B23: 企業 | H23: =IF(企業入力シート!B47="","未記入",企業入力シート!B47) -> 未記入 | N23: BCP認定状況 | P23: １９ | AX23: 電気工事 | AY23: 消防施設工事 | AZ23: =AX23&AY23 -> 電気工事消防施設工事 | BA23: 電気工事、維持修繕工事 | BB23: 電気工事 | BC23: 工事成績（過去5年間で評価）
B24: 企業 | H24: =IF(企業入力シート!B48="","未記入",企業入力シート!B48) -> 未記入 | N24: - | P24: ２０ | AX24: 維持修繕工事 | AY24: 電気工事 | AZ24: =AX24&AY24 -> 維持修繕工事電気工事 | BA24: 電気工事、維持修繕工事 | BB24: 電気工事 | BC24: 工事成績（過去5年間で評価）
B25: 配置予定技術者 | C25: 保有資格 | E25: ３ | F25: （２） | G25: ① | H25: =IF(企業入力シート!$C$18="","配置なし",IF(企業入力シート!B65="","未記入",企業入力シート!B65)) -> 配置なし | I25: =IF(企業入力シート!$C$19="","配置なし",IF(企業入力シート!B72="","未記入",企業入力シート!B72)) -> 配置なし | J25: =IF(企業入力シート!$C$20="","配置なし",IF(企業入力シート!B79="","未記入",企業入力シート!B79)) -> 配置なし | N25: - | P25: ２１ | AX25: グラウト工事 | AY25: 土木一式工事 | AZ25: =AX25&AY25 -> グラウト工事土木一式工事 | BA25: グラウト工事 | BB25: 土木一式工事、とび・土工・ｺﾝｸﾘｰﾄ工事 | BC25: 工事成績（過去5年間で評価）
B26: 配置予定技術者 | H26: =IF(企業入力シート!$C$18="","配置なし",IF(企業入力シート!B66="","未記入",企業入力シート!B66)) -> 配置なし | I26: =IF(企業入力シート!$C$19="","配置なし",IF(企業入力シート!B73="","未記入",企業入力シート!B73)) -> 配置なし | J26: =IF(企業入力シート!$C$20="","配置なし",IF(企業入力シート!B80="","未記入",企業入力シート!B80)) -> 配置なし | P26: ２２ | AX26: グラウト工事 | AY26: とび・土工・コンクリート工事 | AZ26: =AX26&AY26 -> グラウト工事とび・土工・コンクリート工事 | BA26: グラウト工事 | BB26: 土木一式工事、とび・土工・ｺﾝｸﾘｰﾄ工事 | BC26: 工事成績（過去5年間で評価）
B27: 配置予定技術者 | H27: =IF(企業入力シート!$C$18="","配置なし",IF(企業入力シート!B67="","未記入",企業入力シート!B67)) -> 配置なし | I27: =IF(企業入力シート!$C$19="","配置なし",IF(企業入力シート!B74="","未記入",企業入力シート!B74)) -> 配置なし | J27: =IF(企業入力シート!$C$20="","配置なし",IF(企業入力シート!B81="","未記入",企業入力シート!B81)) -> 配置なし | P27: ２３ | AX27: 管工事 | AY27: 管工事 | AZ27: =AX27&AY27 -> 管工事管工事 | BA27: 管工事 | BB27: 管工事、水道施設工事 | BC27: 工事成績（過去5年間で評価）
B28: 配置予定技術者 | H28: =IF(企業入力シート!$C$18="","配置なし",IF(企業入力シート!B68="","未記入",企業入力シート!B68)) -> 配置なし | I28: =IF(企業入力シート!$C$19="","配置なし",IF(企業入力シート!B75="","未記入",企業入力シート!B75)) -> 配置なし | J28: =IF(企業入力シート!$C$20="","配置なし",IF(企業入力シート!B82="","未記入",企業入力シート!B82)) -> 配置なし | P28: ２４ | AX28: 管工事 | AY28: 水道施設工事 | AZ28: =AX28&AY28 -> 管工事水道施設工事 | BA28: 管工事 | BB28: 管工事、水道施設工事 | BC28: 工事成績（過去5年間で評価）
B29: 地域貢献・その他 | C29: 防災協定 | E29: ４ | F29: （３） | G29: ① | H29: =IF(企業入力シート!B52="","未記入",企業入力シート!B52) -> 未記入 | P29: ２５ | AX29: 通信設備工事 | AY29: 電気通信工事 | AZ29: =AX29&AY29 -> 通信設備工事電気通信工事 | BA29: 通信設備工事 | BB29: 電気通信工事 | BC29: 工事成績（過去5年間で評価）
B30: 地域貢献・その他 | C30: ボランティア活動又はハートフルしまね | D30: 【地域設定】 | E30: ５ | F30: （３） | G30: ② | H30: =IF(企業入力シート!B53="","未記入",企業入力シート!B53) -> 未記入 | P30: ２６ | AX30: 一般土木工事 | AY30: 鋼構造物工事 | AZ30: =AX30&AY30 -> 一般土木工事鋼構造物工事 | BC30: 評価対象工事は、個別判断
B31: 地域貢献・その他 | C31: 維持管理業務 | D31: 【地域設定】 | E31: ６ | F31: （３） | G31: ③ | H31: =IF(企業入力シート!B54="","未記入",企業入力シート!B54) -> 未記入 | P31: ２７ | AX31: 維持修繕工事 | AY31: 鋼構造物工事 | AZ31: =AX31&AY31 -> 維持修繕工事鋼構造物工事 | BC31: 評価対象工事は、個別判断
B32: 地域貢献・その他 | C32: 除雪業務 | D32: 【地域設定】 | E32: ７ | F32: （３） | G32: ④ | H32: =IF(企業入力シート!B55="","未記入",企業入力シート!B55) -> 未記入
B33: 地域貢献・その他 | C33: 若手技術者・若手従業員の新規雇用 | E33: ８ | F33: （３） | G33: ⑤ | H33: =IF(企業入力シート!B56="","未記入",企業入力シート!B56) -> 未記入
B34: 地域貢献・その他 | H34: =IF(企業入力シート!B57="","未記入",企業入力シート!B57) -> 未記入
B35: 地域貢献・その他 | H35: =IF(企業入力シート!B58="","未記入",企業入力シート!B58) -> 未記入 | L35: 【表４】表紙記載文リスト
B36: 地域貢献・その他 | H36: =IF(企業入力シート!B59="","未記入",企業入力シート!B59) -> 未記入 | L36: 【表４】を編集すると技術資料（表紙）「2 提出書類（必要な項目について）」で記載する様式の名称変更ができます。
B37: 地域貢献・その他 | H37: =IF(企業入力シート!B60="","未記入",企業入力シート!B60) -> 未記入 | L37: （【隠岐】企業の法面機械保有は、機械名が○○になっていますので、必ず編集が必要です。）
B38: 地域貢献・その他 | H38: =IF(企業入力シート!B61="","未記入",企業入力シート!B61) -> 未記入 | L38: 【表４】
B39: 地理的条件 | C39: 会社所在地 | D39: 【地域設定】 | E39: ９ | F39: （４） | G39: ① | L39: ↓【重要】表２のD列で項目を記載したもの以外は、エラー表示される【編集厳禁】
B40: 地理的条件 | L40: 様式番号 | M40: 区分 | N40: 評価項目名 | O40: 表紙記載文
B41: その他様式 | C41: 設計図書、技術資料質問書 | E41: １０ | L41: =INDEX($B$20:$G$40,MATCH(N41,$C$20:$C$40,0),4) -> ２ | M41: 企業 | N41: =L6 -> 工事成績 | O41: =CONCATENATE(" ○企業の工事成績評定点 （様式-",L41,"-１、様式-",L41,"-２）") -> ○企業の工事成績評定点 （様式-２-１、様式-２-２）
B42: その他様式 | C42: 設計図書、技術資料回答書 | E42: １１ | L42: =INDEX($B$20:$G$40,MATCH(N42,$C$20:$C$40,0),4) -> #N/A | N42: =L7 -> 同種工事実績 | O42: =CONCATENATE(" ○企業の同種工事の施工実績 （様式-",L42,"）") -> #N/A
B43: その他様式 | C43: 評価内容説明要求書 | E43: １２ | L43: =INDEX($B$20:$G$40,MATCH(N43,$C$20:$C$40,0),4) -> #N/A | N43: =L8 -> 優良工事表彰 | O43: =CONCATENATE(" ○企業の優良工事表彰（優良工事施工団体表彰） （様式-",L43,"）") -> #N/A
B44: その他様式 | C44: 評価内容回答書 | E44: １３ | L44: =INDEX($B$20:$G$40,MATCH(N44,$C$20:$C$40,0),4) -> #N/A | N44: =L9 -> プラント保有 | O44: =CONCATENATE(" ○アスファルト合材プラント保有の有無 （様式-",L44,"）") -> #N/A
L45: =INDEX($B$20:$G$40,MATCH(N45,$C$20:$C$40,0),4) -> #N/A | N45: =L10 -> 法面機械保有 | O45: =CONCATENATE(" ○企業の○○機の保有の有無 （様式-",L45,"）") -> #N/A
A46: （３）確認・修正作業【重要】 | L46: =INDEX($B$20:$G$40,MATCH(N46,$C$20:$C$40,0),4) -> #N/A | N46: =L11 -> OPD制度参加登録 | O46: =CONCATENATE(" ○企業の継続能力（CPD）制度の参加登録 （様式-",L46,"）") -> #N/A
A47: １．【技術資料（表紙）の確認・修正事項】 | L47: =INDEX($B$20:$G$40,MATCH(N47,$C$20:$C$40,0),4) -> #N/A | N47: =L12 -> - | O47: 対象外
B48: ①「2 提出書類（必要な項目について）」を確認してください。記載文の修正が必要な場合、【表４】O列数式内の記載文を編集してください。 | L48: =INDEX($B$20:$G$40,MATCH(N48,$C$20:$C$40,0),4) -> #N/A | N48: =L13 -> 0 | O48: 表３【企業】評価項目の着色セルに項目を記入した場合、ここに記載文を直接入力！
B49: （【隠岐】企業の法面機械保有は、機械名が○○になっていますので、必ず編集が必要です。） | L49: =INDEX($B$20:$G$40,MATCH(N49,$C$20:$C$40,0),4) -> ３ | M49: 技術者 | N49: =M6 -> 保有資格 | O49: =CONCATENATE(" ○配置予定技術者の資格 （様式-",L49,"）") -> ○配置予定技術者の資格 （様式-３）
B50: ②エラー表示がでている行を非表示にしてください（行の削除厳禁）。 | L50: =INDEX($B$20:$G$40,MATCH(N50,$C$20:$C$40,0),4) -> #N/A | N50: =M7 -> 同種工事経験 | O50: =CONCATENATE(" ○配置予定技術者の同種工事の施工経験 （様式-",L50,"）") -> #N/A
L51: =INDEX($B$20:$G$40,MATCH(N51,$C$20:$C$40,0),4) -> #N/A | N51: =M8 -> 技術者の表彰 | O51: =CONCATENATE(" ○配置予定技術者の優秀建設技術者表彰 （様式-",L51,"）") -> #N/A
A52: ２．【技術資料（各種様式）の確認・修正事項】 | L52: =INDEX($B$20:$G$40,MATCH(N52,$C$20:$C$40,0),4) -> #N/A | N52: =M9 -> 継続学習 | O52: =CONCATENATE(" ○配置予定技術者の継続学習 （様式-",L52,"）") -> #N/A
B53: ①技術資料の緑着色セルに正しく情報が転記されているか確認してください | L53: =INDEX($B$20:$G$40,MATCH(N53,$C$20:$C$40,0),4) -> #N/A | N53: =M10 -> 技術者の成績 | O53: =CONCATENATE(" ○配置予定技術者の工事成績評定点 （様式-",L53,"）") -> #N/A
B54: （転記されていない場合は、もう一度【表１～４】の入力条件を確認後、必要に応じ緑着色セルを直接入力により修正してください） | L54: =INDEX($B$20:$G$40,MATCH(N54,$C$20:$C$40,0),4) -> #N/A | N54: =M11 -> - | O54: 対象外
B55: ②技術資料の黄色着色セルに必要な情報を直接入力してください | L55: =INDEX($B$20:$G$40,MATCH(N55,$C$20:$C$40,0),4) -> #N/A | N55: =M12 -> 0 | O55: 表３【技術者】評価項目の着色セルに項目を記入した場合、ここに記載文を直接入力！
B56: ③その他箇所の記載文や文字切れなど不備がないか確認し、必要に応じて修正してください | L56: =INDEX($B$20:$G$40,MATCH(N56,$C$20:$C$40,0),4) -> ４ | M56: 地域貢献・その他 | N56: =N6 -> 防災協定 | O56: =CONCATENATE(" ○防災協定の締結実績 （様式-",L56,"）") -> ○防災協定の締結実績 （様式-４）
L57: =INDEX($B$20:$G$40,MATCH(N57,$C$20:$C$40,0),4) -> #N/A | N57: =N7 -> 家畜伝染病防疫協定 | O57: =CONCATENATE(" ○家畜伝染病防疫協定の締結実績 （様式-",L57,"）") -> #N/A
A58: ３．【評価基準の確認】 | L58: =INDEX($B$20:$G$40,MATCH(N58,$C$20:$C$40,0),4) -> ５ | N58: =N8 -> ボランティア活動又はハートフルしまね | O58: =CONCATENATE(" ○ボランティア活動又はハートフルしまねへの参加実績 （様式-",L58,"）") -> ○ボランティア活動又はハートフルしまねへの参加実績 （様式-５）
B59: ①「発注者設定内容確認シート」で入札説明書に記載した内容と様式に記載した内容が一致しているか確認してください | L59: =INDEX($B$20:$G$40,MATCH(N59,$C$20:$C$40,0),4) -> ６ | N59: =N9 -> 維持管理業務 | O59: =CONCATENATE(" ○県管理公共土木施設に関する維持管理業務または海岸漂着物の回収業務の契約実績 （様式-",L59,"）") -> ○県管理公共土木施設に関する維持管理業務または海岸漂着物の回収業務の契約実績 （様式-６）
L60: =INDEX($B$20:$G$40,MATCH(N60,$C$20:$C$40,0),4) -> ７ | N60: =N10 -> 除雪業務 | O60: =CONCATENATE(" ○県管理道路・空港または市町村管理道路を含む除雪業務の契約実績 （様式-",L60,"）") -> ○県管理道路・空港または市町村管理道路を含む除雪業務の契約実績 （様式-７）
A61: ４．【PPI掲載用ファイルの作成】 | L61: =INDEX($B$20:$G$40,MATCH(N61,$C$20:$C$40,0),4) -> #N/A | N61: =N11 -> 労働福祉（障がい者雇用） | O61: =CONCATENATE(" ○労働福祉関連の状況(b 障がい者雇用の実態) （様式-",L61,"）") -> #N/A
B62: ①PPI掲載用ファイルを別ファイルで作成してください（シート削除するとシートの復活できないので、必ず削除作業前に別ファイルを作成してください） | L62: =INDEX($B$20:$G$40,MATCH(N62,$C$20:$C$40,0),4) -> #N/A | N62: =N12 -> 労働福祉（育児介護制度） | O62: =CONCATENATE(" ○労働福祉関連の状況(c 育児・介護休業に関する制度) （様式-",L62,"）") -> #N/A
B63: ②不要な技術資料様式は、シート毎削除してください | L63: =INDEX($B$20:$G$40,MATCH(N63,$C$20:$C$40,0),4) -> #N/A | N63: =N13 -> 育児介護チェック表 | O63: =CONCATENATE(" ○育児・介護休業に関する制度 チェック表 （様式-",L63,"）") -> #N/A
B64: ③収受印を発行しない様式は、破線以下を全て削除してください | L64: =INDEX($B$20:$G$40,MATCH(N64,$C$20:$C$40,0),4) -> #N/A | N64: =N14 -> 労働福祉（若手技術者雇用） | O64: =CONCATENATE(" ○労働福祉関連の状況(d 若手技術者の新規雇用) （様式-",L64,"）") -> #N/A
B65: ④「企業入力シート」の「３提出資料確認欄」について、不要項目などを削除・修正してください | L65: =INDEX($B$20:$G$40,MATCH(N65,$C$20:$C$40,0),4) -> #N/A | N65: =N15 -> 登録基幹技能者 | O65: =CONCATENATE(" ○登録基幹技能者の配置 （様式-",L65,"）") -> #N/A
B66: （収受印を発行しない発注機関は、「３提出資料確認欄」を全て削除） | L66: =INDEX($B$20:$G$40,MATCH(N66,$C$20:$C$40,0),4) -> #N/A | N66: =N16 -> 若手・中堅技術者配置 | O66: =CONCATENATE(" ○若手・中堅技術者の配置 （様式-",L66,"）") -> #N/A
L67: =INDEX($B$20:$G$40,MATCH(N67,$C$20:$C$40,0),4) -> ８ | N67: =N17 -> 若手技術者・若手従業員の新規雇用 | O67: =CONCATENATE(" ○若手技術者・若手従業員の新規雇用 （様式-",L67,"）") -> ○若手技術者・若手従業員の新規雇用 （様式-８）
A68: ５．【技術審査（競争参加資格委員会）の準備作業】 | L68: =INDEX($B$20:$G$40,MATCH(N68,$C$20:$C$40,0),4) -> #N/A | N68: =N18 -> 建設機械保有状況 | O68: =CONCATENATE(" ○建設機械の保有状況 （様式-",L68,"）") -> #N/A
B69: ①「発注者審査作業用」シートに記載されている表中の不要な項目の列全体を削除してください | L69: =INDEX($B$20:$G$40,MATCH(N69,$C$20:$C$40,0),4) -> #N/A | N69: =N19 -> 消防団協力事業所 | O69: =CONCATENATE(" ○消防団協力事業所の認定 （様式-",L69,"）") -> #N/A
B70: （文字のサイズ、セルの結合、列幅の調整などは、「技術審査用ファイル」で行うため、「発注者作業用シート」では、体裁を整える必要はありません） | L70: =INDEX($B$20:$G$40,MATCH(N70,$C$20:$C$40,0),4) -> #N/A | N70: =N20 -> 応急危険度判定士 | O70: =CONCATENATE(" ○島根県地震被災建築物応急危険度判定士の登録 （様式-",L70,"）") -> #N/A
L71: =INDEX($B$20:$G$40,MATCH(N71,$C$20:$C$40,0),4) -> #N/A | N71: =N21 -> 災害復旧工事受注実績 | O71: =CONCATENATE(" ○災害復旧工事の受注実績 （様式-",L71,"）") -> #N/A
B72: ※「発注者審査作業用」シート | L72: =INDEX($B$20:$G$40,MATCH(N72,$C$20:$C$40,0),4) -> #N/A | N72: =N22 -> 海上援助活動 | O72: =CONCATENATE(" ○海上援助活動の実績 （様式-",L72,"）") -> #N/A
B73: 企業の申請内容を数式でリンクさせて評価項目毎に一覧表で整理。指定された範囲を「技術審査用ファイル」の「作業用シート」に一括コピーすることで、 | L73: =INDEX($B$20:$G$40,MATCH(N73,$C$20:$C$40,0),4) -> #N/A | N73: =N23 -> BCP認定状況 | O73: =CONCATENATE(" ○BCPの認定状況 （様式-",L73,"）") -> #N/A
B74: 技術審査（競争参加資格委員会）や入札結果調書を簡単に作成することが可能 | L74: =INDEX($B$20:$G$40,MATCH(N74,$C$20:$C$40,0),4) -> #N/A | N74: =N24 -> - | O74: 対象外
L75: =INDEX($B$20:$G$40,MATCH(N75,$C$20:$C$40,0),4) -> #N/A | N75: =N25 -> - | O75: 対象外
B76: ※技術審査用ファイル | L76: =INDEX($B$20:$G$40,MATCH(N76,$C$20:$C$40,0),4) -> #N/A | N76: =N26 -> 0 | O76: 表３【地域貢献・その他】評価項目の着色セルに項目を記入した場合、ここに記載文を直接入力！
B77: このファイルの「発注者作業用シート」から各企業の申請内容を一括コピーし、「技術審査用ファイル」で集計することで、技術審査（競争参加資格委員会） | L77: =INDEX($B$20:$G$40,MATCH(N77,$C$20:$C$40,0),4) -> #N/A | M77: 地理的条件 | N77: =O6 -> 近隣施工実績 | O77: =CONCATENATE(" ○地理的条件（近隣地域での施工実績） （様式-",L77,"）") -> #N/A
B78: 用の資料や入札結果調書が簡単に作成可能 | L78: =INDEX($B$20:$G$40,MATCH(N78,$C$20:$C$40,0),4) -> ９ | N78: =O7 -> 会社所在地 | O78: =CONCATENATE(" ○地理的条件（会社所在地） （様式-",L78,"）") -> ○地理的条件（会社所在地） （様式-９）
L79: =INDEX($B$20:$G$40,MATCH(N79,$C$20:$C$40,0),4) -> #N/A | N79: =O8 -> 工場・会社所在地 | O79: =CONCATENATE(" ○地理的条件（橋梁用桁製作の機能を有する工場及び建設業法上の営業所所在地） （様式-",L79,"）") -> #N/A
A80: ＜発注準備から入札結果調書作成までの全体イメージ＞ | L80: =INDEX($B$20:$G$40,MATCH(N80,$C$20:$C$40,0),4) -> #N/A | N80: =O9 -> サポート拠点 | O80: =CONCATENATE(" ○地理的条件（サポート拠点の所在地及び技術者の在籍） （様式-",L80,"）") -> #N/A
L81: =INDEX($B$20:$G$40,MATCH(N81,$C$20:$C$40,0),4) -> #N/A | N81: =O10 -> - | O81: 対象外
L82: =INDEX($B$20:$G$40,MATCH(N82,$C$20:$C$40,0),4) -> #N/A | N82: =O11 -> 0 | O82: 表３【地理的条件】評価項目の着色セルに項目を記入した場合、ここに記載文を直接入力！

Sheet 企業入力シート
A1: 1.企業情報
A2: 表のC列（赤枠内）に企業情報を入力してください。入力した情報は、各種様式に反映されます。
B3: 項目名 | C3: 企業情報記入欄
A4: 1 | B4: 提出日 | D4: ←ｙｙｙｙ/m/dで入力
A5: 2
A6: 3 | B6: 住所
A7: 4 | B7: 商号又は名称
A8: 5 | B8: 代表者
A9: 6 | B9: 担当者
A10: 7 | B10: 部署
A11: 8 | B11: 電話番号
A12: 9 | B12: ＦＡＸ番号
A13: 10 | B13: Ｅ－mail
A15: 2.配置予定技術者の氏名
A16: 表のC・D列（赤枠内）に配置予定技術者情報を入力してください。入力した情報は、各種様式に反映されます。
B17: 配置予定技術者 | C17: 氏名記入欄 | D17: 生年月日
A18: 1 | B18: 配置予定技術者① | E18: ←ｙｙｙｙ/m/dで入力
A19: 2 | B19: 配置予定技術者② | E19: ←ｙｙｙｙ/m/dで入力
A20: 3 | B20: 配置予定技術者③ | E20: ←ｙｙｙｙ/m/dで入力
A22: 3.事前審査・証明書による申請
A23: 事前審査・証明書で提出する評価項目がある場合、該当するものに「○」を入力してください。事前審査・証明書で提出する項目については、技術資料及び添付資料を提出する必要はありません。
A24: 下欄の入力内容は「表紙」シートに反映されます。
A25: =COUNTA(B26:B35) -> 0 | B25: 証明書での提出 | C25: 項目 | K25: ○
A26: =COUNTA(B26) -> 0 | C26: 【土木一式】企業の工事成績評定点（県）
A27: =COUNTA($B$26:B27) -> 0 | C27: 【舗装】企業の工事成績評定点（県）
A28: =COUNTA($B$26:B28) -> 0 | C28: 【法面】企業の工事成績評定点（県）
A29: =COUNTA($B$26:B29) -> 0 | C29: 【港湾】企業の工事成績評定点（県）
A30: =COUNTA($B$26:B30) -> 0 | C30: 防災協定の締結実績
A31: =COUNTA($B$26:B31) -> 0 | C31: 家畜伝染病防疫協定の締結実績
A32: =COUNTA($B$26:B32) -> 0 | C32: ボランティア活動又はハートフルしまねへの参加実績
A33: =COUNTA($B$26:B33) -> 0 | C33: 維持管理業務等の契約実績（県）
A34: =COUNTA($B$26:B34) -> 0 | C34: 除雪業務の契約実績（県）
A35: =COUNTA($B$26:B35) -> 0 | C35: 労働福祉関連（育児介護・こっころ）
A37: 4.押印済資料で提出する評価項目
A38: 発注者収受印欄に押印した技術資料の写し（以下「押印済資料」という。）で技術資料を提出する評価項目がある場合は、表のB列（赤枠）に「有」を、ない場合は「無」を選択してください。
A40: 「有」を選択した評価項目は、このファイルで技術資料を作成する必要はありません。押印済資料のみ提出してください。
A42: ＜企業＞
B43: 押印済資料での提出 | C43: 様式名
C44: =INDEX(発注者入力シート!$L$41:$T$48,MATCH(発注者入力シート!C20,発注者入力シート!$N$41:$N$48,0),4) -> ○企業の工事成績評定点 （様式-２-１、様式-２-２）
C45: =INDEX(発注者入力シート!$L$41:$T$48,MATCH(発注者入力シート!C21,発注者入力シート!$N$41:$N$48,0),4) -> 表３【企業】評価項目の着色セルに項目を記入した場合、ここに記載文を直接入力！
C46: =INDEX(発注者入力シート!$L$41:$T$48,MATCH(発注者入力シート!C22,発注者入力シート!$N$41:$N$48,0),4) -> 表３【企業】評価項目の着色セルに項目を記入した場合、ここに記載文を直接入力！
C47: =INDEX(発注者入力シート!$L$41:$T$48,MATCH(発注者入力シート!C23,発注者入力シート!$N$41:$N$48,0),4) -> 表３【企業】評価項目の着色セルに項目を記入した場合、ここに記載文を直接入力！
C48: =INDEX(発注者入力シート!$L$41:$T$48,MATCH(発注者入力シート!C24,発注者入力シート!$N$41:$N$48,0),4) -> 表３【企業】評価項目の着色セルに項目を記入した場合、ここに記載文を直接入力！
A50: ＜地域貢献・その他＞
B51: 押印済資料での提出 | C51: 様式名
C52: =INDEX(発注者入力シート!$L$56:$T$76,MATCH(発注者入力シート!C29,発注者入力シート!$N$56:$N$76,0),4) -> ○防災協定の締結実績 （様式-４）
C53: =INDEX(発注者入力シート!$L$56:$T$76,MATCH(発注者入力シート!C30,発注者入力シート!$N$56:$N$76,0),4) -> ○ボランティア活動又はハートフルしまねへの参加実績 （様式-５）
C54: =INDEX(発注者入力シート!$L$56:$T$76,MATCH(発注者入力シート!C31,発注者入力シート!$N$56:$N$76,0),4) -> ○県管理公共土木施設に関する維持管理業務または海岸漂着物の回収業務の契約実績 （様式-６）
C55: =INDEX(発注者入力シート!$L$56:$T$76,MATCH(発注者入力シート!C32,発注者入力シート!$N$56:$N$76,0),4) -> ○県管理道路・空港または市町村管理道路を含む除雪業務の契約実績 （様式-７）
C56: =INDEX(発注者入力シート!$L$56:$T$76,MATCH(発注者入力シート!C33,発注者入力シート!$N$56:$N$76,0),4) -> ○若手技術者・若手従業員の新規雇用 （様式-８）
C57: =INDEX(発注者入力シート!$L$56:$T$76,MATCH(発注者入力シート!C34,発注者入力シート!$N$56:$N$76,0),4) -> 表３【地域貢献・その他】評価項目の着色セルに項目を記入した場合、ここに記載文を直接入力！
C58: =INDEX(発注者入力シート!$L$56:$T$76,MATCH(発注者入力シート!C35,発注者入力シート!$N$56:$N$76,0),4) -> 表３【地域貢献・その他】評価項目の着色セルに項目を記入した場合、ここに記載文を直接入力！
C59: =INDEX(発注者入力シート!$L$56:$T$76,MATCH(発注者入力シート!C36,発注者入力シート!$N$56:$N$76,0),4) -> 表３【地域貢献・その他】評価項目の着色セルに項目を記入した場合、ここに記載文を直接入力！
C60: =INDEX(発注者入力シート!$L$56:$T$76,MATCH(発注者入力シート!C37,発注者入力シート!$N$56:$N$76,0),4) -> 表３【地域貢献・その他】評価項目の着色セルに項目を記入した場合、ここに記載文を直接入力！
C61: =INDEX(発注者入力シート!$L$56:$T$76,MATCH(発注者入力シート!C38,発注者入力シート!$N$56:$N$76,0),4) -> 表３【地域貢献・その他】評価項目の着色セルに項目を記入した場合、ここに記載文を直接入力！
A63: =CONCATENATE("＜配置予定技術者① ：",C18,">""") -> ＜配置予定技術者① ：>"
B64: 押印済資料での提出 | C64: 様式名
C65: =INDEX(発注者入力シート!$L$49:$T$55,MATCH(発注者入力シート!C25,発注者入力シート!$N$49:$N$55,0),4) -> ○配置予定技術者の資格 （様式-３）
C66: =INDEX(発注者入力シート!$L$49:$T$55,MATCH(発注者入力シート!C26,発注者入力シート!$N$49:$N$55,0),4) -> 表３【技術者】評価項目の着色セルに項目を記入した場合、ここに記載文を直接入力！
C67: =INDEX(発注者入力シート!$L$49:$T$55,MATCH(発注者入力シート!C27,発注者入力シート!$N$49:$N$55,0),4) -> 表３【技術者】評価項目の着色セルに項目を記入した場合、ここに記載文を直接入力！
C68: =INDEX(発注者入力シート!$L$49:$T$55,MATCH(発注者入力シート!C28,発注者入力シート!$N$49:$N$55,0),4) -> 表３【技術者】評価項目の着色セルに項目を記入した場合、ここに記載文を直接入力！
A70: =CONCATENATE("＜配置予定技術者② ：",C19,">""") -> ＜配置予定技術者② ：>"
B71: 押印済資料での提出 | C71: 様式名
C72: =C65 -> ○配置予定技術者の資格 （様式-３）
C73: =C66 -> 表３【技術者】評価項目の着色セルに項目を記入した場合、ここに記載文を直接入力！
C74: =C67 -> 表３【技術者】評価項目の着色セルに項目を記入した場合、ここに記載文を直接入力！
C75: =C68 -> 表３【技術者】評価項目の着色セルに項目を記入した場合、ここに記載文を直接入力！
A77: =CONCATENATE("＜配置予定技術者③ ：",C20,">""") -> ＜配置予定技術者③ ：>"
B78: 押印済資料での提出 | C78: 様式名
C79: =C72 -> ○配置予定技術者の資格 （様式-３）
C80: =C73 -> 表３【技術者】評価項目の着色セルに項目を記入した場合、ここに記載文を直接入力！
C81: =C74 -> 表３【技術者】評価項目の着色セルに項目を記入した場合、ここに記載文を直接入力！
C82: =C75 -> 表３【技術者】評価項目の着色セルに項目を記入した場合、ここに記載文を直接入力！

Sheet ファイル使用上の注意事項
A1: 技術資料作成用エクセル形式の電子ファイル使用上の注意事項
A3: ○技術資料【PDF形式】と参考資料【本エクセル形式】の位置づけについて
A4: (1) | B4: 本エクセル形式で作成したデータをPDF形式に変換したものを「技術資料」として、提出しなければなりません。 （提出：必須）
A6: (2) | B6: 本エクセル形式は、発注者が技術資料の審査を行う際に「参考資料」として使用しますので、提出の協力をお願いします。 本エクセル形式のみの提出をもって、技術資料を提出したことにはなりませんので、ご注意ください。
A11: ○エクセル形式使用時及び技術資料提出時の注意事項について
A12: (1) | B12: 行高・列幅不足により文字切れや「＃＃＃＃」表示で出力されていないか、提出する前に必ず印刷物で確認してください。
A14: (2) | B14: 文字切れや「＃＃＃＃」表示になっている場合、行高・列幅を広げる、文字を縮小して表示させるなど調整してください。
A16: (3) | B16: 発注者専用シート（シート名が赤色シート）には触れないでください。
A17: (4) | B17: 記入しない様式があっても、シートは絶対に削除しないでください。
A18: (5) | B18: 各様式の企業直接入力欄（青色着色セル）に記入する際、結合されたセルは絶対に解除しないでください。
A20: (6) | B20: 技術資料様式は、「ページ設定」で「白黒印刷」と「印刷範囲」を設定していますので、画面表示の着色セルも白色で印刷されます。
A23: ○数式に不具合があった場合の対応について
A24: (1) | B24: 本エクセル形式に設定されている数式に不具合があり、正しく表示されない場合がありましたら、直接セルに正しいものを記入してください。
A27: ○技術資料の審査について
A28: (1) | B28: 発注者は、技術資料【PDF形式】に記載された内容により審査しますので、提出書類に記載漏れ、添付漏れ、文字切れ等の不備がないか必ず確認してください。
A31: ○本エクセル形式のシート名着色の区分について
A32: シート名着色の区分は次のとおりです
B33: ：発注者専用シート（企業は入力厳禁です！！）
B34: ：企業専用シート（企業入力シート（申請企業の基本情報を入力）、質問書など）
B36: ：技術資料様式の表紙シート、ファイル使用上の注意事項シート
B37: ：「企業の評価」様式シート
B38: ：「配置予定技術者」様式シート
B39: ：「地域貢献・その他の評価」様式シート
B40: ：「地理的条件の評価」様式シート
A42: ○技術資料様式の凡例について
A43: 技術資料様式のセルの着色の凡例は次の通りです
A44: 着色セルの凡例
A45: （企業）
B46: ：「企業入力シート」で入力した情報が表示される箇所（数式でリンク有）
B47: ：セルに直接入力が必要な箇所
A49: （発注者）
B50: ：「発注者入力シート」や他のシートで入力した情報が表示される箇所（数式でリンク有）
B51: ：セルに直接入力が必要な箇所
A53: （企業・発注者共通事項）
B54: ：同じシート内で入力した情報が表示される箇所（数式でリンク有）

Sheet 発注者設定内容確認シート
A1: 入札公告日： | D1: =発注者入力シート!C7 -> 46297
A2: 工事名： | D2: =発注者入力シート!C10 -> （一）跡市波子停車場線（跡市２工区）総合交付金（改築）工事 第６期
A3: 不要な項目は、非表示にしてください（行の削除厳禁）
A4: 発注者入力シートで選択していない項目は、エラー表示になります
A5: 評価項目番号 | D5: 区分 | E5: 評価項目 | F5: 評価対象事項 | G5: 評価基準（様式記載内容）
A6: =INDEX(発注者入力シート!$B$20:$G$24,MATCH(発注者入力シート!L6,発注者入力シート!$C$20:$C$24,0),5) -> （１） | B6: - | C6: =INDEX(発注者入力シート!$B$20:$G$24,MATCH(発注者入力シート!L6,発注者入力シート!$C$20:$C$24,0),6) -> ① | D6: 企業 | E6: 工事成績(3年用) | F6: 完成年度 | G6: =IF(企業成績評定点!G6="","",企業成績評定点!G6) -> 令和５年度から令和７年度（完成及び引き渡しが完了）
A7: =A6 -> （１） | B7: - | C7: =C6 -> ① | F7: 発注機関 | G7: =IF(企業成績評定点!G7="","",企業成績評定点!G7) -> 島根県（総務部、農林水産部、土木部）
A8: =A6 -> （１） | B8: - | C8: =C6 -> ① | F8: 工事種別 | G8: =IF(企業成績評定点!G8="","",企業成績評定点!G8) -> 一般土木工事、維持修繕工事
A9: =A6 -> （１） | B9: - | C9: =C6 -> ① | F9: 建設工事の種類 | G9: =IF(企業成績評定点!G9="","",企業成績評定点!G9) -> 土木一式工事、とび・土工・ｺﾝｸﾘｰﾄ工事、しゅんせつ工事
A10: =INDEX(発注者入力シート!$B$25:$G$28,MATCH(発注者入力シート!M6,発注者入力シート!$C$25:$C$28,0),5) -> （２） | B10: - | C10: =INDEX(発注者入力シート!$B$25:$G$28,MATCH(発注者入力シート!M6,発注者入力シート!$C$25:$C$28,0),6) -> ① | D10: 配置予定技術者 | E10: 資格 | F10: 対象資格 | G10: =IF(技術者資格!B9="","",技術者資格!B9) -> １級もしくは２級土木施工管理技士、または1級もしくは２級建設機械施工技士
A11: =INDEX(発注者入力シート!$B$29:$G$38,MATCH(発注者入力シート!N6,発注者入力シート!$C$29:$C$38,0),5) -> （３） | B11: - | C11: =INDEX(発注者入力シート!$B$29:$G$38,MATCH(発注者入力シート!N6,発注者入力シート!$C$29:$C$38,0),6) -> ① | D11: 地域貢献・その他 | E11: 防災協定 | F11: 対象 | G11: =IF(防災協定・家畜伝染病防疫協定!T15=1,防災協定・家畜伝染病防疫協定!B8,"－") -> 令和６年度及び令和７年度における島根県との防災協定の締結実績
A12: =INDEX(発注者入力シート!$B$29:$G$38,MATCH(発注者入力シート!N7,発注者入力シート!$C$29:$C$38,0),5) -> #N/A | B12: - | C12: =INDEX(発注者入力シート!$B$29:$G$38,MATCH(発注者入力シート!N7,発注者入力シート!$C$29:$C$38,0),6) -> #N/A | D12: 地域貢献・その他 | E12: 家畜伝染病防疫協定 | F12: 対象 | G12: =IF(防災協定・家畜伝染病防疫協定!T15=2,防災協定・家畜伝染病防疫協定!B8,"－") -> －
A13: =INDEX(発注者入力シート!$B$29:$G$38,MATCH(発注者入力シート!N8,発注者入力シート!$C$29:$C$38,0),5) -> （３） | B13: - | C13: =INDEX(発注者入力シート!$B$29:$G$38,MATCH(発注者入力シート!N8,発注者入力シート!$C$29:$C$38,0),6) -> ② | D13: 地域貢献・その他 | E13: ボランティア | F13: 対象 | G13: =IF(ボランティア!B6="","",ボランティア!B6) -> 令和６年度及び令和７年度のボランティア活動又はハートフルしまねへの参加実績
A14: =A13 -> （３） | B14: - | C14: =C13 -> ② | F14: 評価対象地域 | G14: =IF(ボランティア!D8="","",ボランティア!D8) -> 江津市（桜江町を除く）内
A15: =INDEX(発注者入力シート!$B$29:$G$38,MATCH(発注者入力シート!N9,発注者入力シート!$C$29:$C$38,0),5) -> （３） | B15: - | C15: =INDEX(発注者入力シート!$B$29:$G$38,MATCH(発注者入力シート!N9,発注者入力シート!$C$29:$C$38,0),6) -> ③ | D15: 地域貢献・その他 | E15: 維持管理業務 | F15: 対象 | G15: =IF(維持管理業務!B7="","",維持管理業務!B7) -> 令和６年度及び令和７年度の県管理公共土木施設に関する維持管理業務または海岸漂着物の回収業務の契約実績
A16: =A15 -> （３） | B16: - | C16: =C15 -> ③ | F16: 評価対象地域 | G16: =IF(維持管理業務!D10="","",維持管理業務!D10) -> 江津市（桜江町を除く）内
A17: =INDEX(発注者入力シート!$B$29:$G$38,MATCH(発注者入力シート!N10,発注者入力シート!$C$29:$C$38,0),5) -> （３） | B17: - | C17: =INDEX(発注者入力シート!$B$29:$G$38,MATCH(発注者入力シート!N10,発注者入力シート!$C$29:$C$38,0),6) -> ④ | D17: 地域貢献・その他 | E17: 除雪業務 | F17: 対象 | G17: =IF(除雪業務!B8="","",除雪業務!B8) -> 令和６年度及び令和７年度の県管理道路・空港または市町村管理道路を含む除雪業務の契約実績
A18: =A17 -> （３） | B18: - | C18: =C17 -> ④ | F18: 評価対象地域 | G18: =IF(除雪業務!D11="","",除雪業務!D11) -> 江津市（桜江町を除く）内
A19: =INDEX(発注者入力シート!$B$29:$G$38,MATCH(発注者入力シート!N16,発注者入力シート!$C$29:$C$38,0),5) -> #N/A | B19: - | C19: =INDEX(発注者入力シート!$B$29:$G$38,MATCH(発注者入力シート!N16,発注者入力シート!$C$29:$C$38,0),6) -> #N/A | D19: 地域貢献・その他 | E19: 若手・中堅技術者配置 | F19: 対象 | G19: =IF(若手・中堅技術者の配置!B9="","",若手・中堅技術者の配置!B9) -> ４０歳未満の技術者を主任技術者又は監理技術者として配置
A20: =INDEX(発注者入力シート!$B$29:$G$38,MATCH(発注者入力シート!N17,発注者入力シート!$C$29:$C$38,0),5) -> （３） | B20: - | C20: =INDEX(発注者入力シート!$B$29:$G$38,MATCH(発注者入力シート!N17,発注者入力シート!$C$29:$C$38,0),6) -> ⑤ | D20: 地域貢献・その他 | E20: 若手技術者・若手従業員の新規雇用 | F20: 対象 | G20: =IF(若手技術者・従業員新規雇用!B8="","",若手技術者・従業員新規雇用!B8) -> 令和６年４月１日以降に、若手技術者・若手従業員（30歳未満の者）の１人以上の新規雇用があること。
A21: =INDEX(発注者入力シート!$B$29:$G$38,MATCH(発注者入力シート!N18,発注者入力シート!$C$29:$C$38,0),5) -> #N/A | B21: - | C21: =INDEX(発注者入力シート!$B$29:$G$38,MATCH(発注者入力シート!N18,発注者入力シート!$C$29:$C$38,0),6) -> #N/A | D21: 地域貢献・その他 | E21: 建設機械保有状況（土木一式用） | F21: 対象 | G21: =IF('建設機械の保有状況（土木一式用）'!B6="","",'建設機械の保有状況（土木一式用）'!B6) -> 入札公告日前日時点（令和8年10月1日時点）で建設機械を３台以上保有もしくは長期リース契約していること
A22: =INDEX(発注者入力シート!$B$29:$G$38,MATCH(発注者入力シート!N18,発注者入力シート!$C$29:$C$38,0),5) -> #N/A | B22: - | C22: =INDEX(発注者入力シート!$B$29:$G$38,MATCH(発注者入力シート!N18,発注者入力シート!$C$29:$C$38,0),6) -> #N/A | D22: 地域貢献・その他 | E22: 建設機械保有状況（ほ装用） | F22: 対象 | G22: =IF('建設機械の保有状況 (舗装用)'!B6="","",'建設機械の保有状況 (舗装用)'!B6) -> 入札公告日前日時点（令和8年10月1日時点）でモーターグレーダー（自重5t以上）を保有もしくは長期リース契約していること
A23: =INDEX(発注者入力シート!$B$29:$G$38,MATCH(発注者入力シート!N21,発注者入力シート!$C$29:$C$38,0),5) -> #N/A | B23: - | C23: =INDEX(発注者入力シート!$B$29:$G$38,MATCH(発注者入力シート!N21,発注者入力シート!$C$29:$C$38,0),6) -> #N/A | D23: 地域貢献・その他 | E23: 災害復旧工事受注実績 | F23: 対象 | G23: =災害復旧実績!F9 -> 令和７年度に受注した島根県が発注した災害復旧工事
A24: =INDEX(発注者入力シート!$B$29:$G$38,MATCH(発注者入力シート!N21,発注者入力シート!$C$29:$C$38,0),5) -> #N/A | B24: - | C24: =INDEX(発注者入力シート!$B$29:$G$38,MATCH(発注者入力シート!N21,発注者入力シート!$C$29:$C$38,0),6) -> #N/A | F24: 評価対象地域 | G24: =災害復旧実績!F13 -> 島根県内
A25: =INDEX(発注者入力シート!$B$39:$G$40,MATCH(発注者入力シート!O7,発注者入力シート!$C$39:$C$40,0),5) -> （４） | B25: - | C25: =INDEX(発注者入力シート!$B$39:$G$40,MATCH(発注者入力シート!O7,発注者入力シート!$C$39:$C$40,0),6) -> ① | D25: 地理的条件 | E25: 会社所在地 | F25: 対象 | G25: =IF(会社所在地!B10="","",会社所在地!B10) -> 入札公告日前日において、評価対象地域内に建設業法で規定する主たる営業所（本店）または従たる営業所（支店、営業所）がある者
A26: =A25 -> （４） | B26: - | C26: =C25 -> ① | F26: 評価対象地域 | G26: =IF(会社所在地!D13="","",会社所在地!D13) -> 江津市（桜江町を除く）内

Sheet 発注者審査作業用シート（提案以外）
A1: このシートは、「技術審査用ファイル」の「作業用シート」に一括コピー作業を行うためのものです
A2: ＜シートの説明＞
B3: ・「技術審査用ファイル」の「作業用シート」へ一括コピーするため、「コピー専用表」をこのシートに設定しています。
B4: ・コピーする範囲は、「コピー専用表」の薄オレンジ部分（評価項目：１９～２５行）と白色部分（企業申請内容：２６行～３３行）です。
B5: ・文字切れやフォントサイズの修正は、「技術審査用ファイル」で行いますので、このシートでは作業不要です。
B6: ・「コピー専用表」は、「技術審査用ファイル」の「技術審査用シート」で見えやすいように概ね書式調整しています。「技術審査用シート」で見えにくいときのみ、コピー専用表の書式を修正してください。
A7: ＜作業手順＞・・・・以下の作業は、必ず別ファイルとして公告用ファイルを作成し、公告用ファイルで作業してください（１回シートや列を削除すると元の状態に戻せなくなります）。
A8: 準備作業： | B8: 不要な評価項目の列全体をこのシートから削除。不要な様式も削除してください。
B9: 評価項目の列全体を削除する際、コピー先の配列（「技術審査用ファイル」）に合わせておく必要があります（「技術審査用ファイル」の自動集計に支障が生じるため）。
B10: 予備欄等を活用して配列を合わせてください。
B11: 「技術審査用ファイル」の固定配列（※１項目３列で設定してあります）
B12: 企業：４項目、配置予定技術者①：４項目、配置予定技術者②：４項目、配置予定技術者③：４項目、地域貢献・その他：５項目、地理的条件：２項目
A13: 手順①： | B13: 「コピー専用表」の薄オレンジ部分全体を指定しコピー後、「技術審査用ファイル」の「作業用シート」の「貼り付け箇所A」に、貼り付けオプションの「値」で貼り付け。
A14: 手順②： | B14: 手順①の後、同じ場所（貼り付け箇所A）に貼り付けオプションの「書式設定」で貼り付けると、コピー専用行で設定された書式でコピー可能。
A15: 手順③： | B15: 手順①、手順②の方法により、「コピー専用表」の白色部分全体を「技術審査用ファイル」の「作業用シート」の「貼り付け箇所B」に貼り付け。
A17: 以下、審査用ファイルの「作業用」シートへの「コピー専用表」 | F17: 審査用ファイルコピー先の列数と合わせるため削除× | I17: 審査用ファイルコピー先の列数と合わせるため削除× | L17: 審査用ファイルコピー先の列数と合わせるため削除× | R17: 審査用ファイルコピー先の列数と合わせるため削除× | U17: 審査用ファイルコピー先の列数と合わせるため削除× | X17: 審査用ファイルコピー先の列数と合わせるため削除× | AD17: 審査用ファイルコピー先の列数と合わせるため削除× | AG17: 審査用ファイルコピー先の列数と合わせるため削除× | AJ17: 審査用ファイルコピー先の列数と合わせるため削除× | AP17: 審査用ファイルコピー先の列数と合わせるため削除× | AS17: 審査用ファイルコピー先の列数と合わせるため削除× | AV17: 審査用ファイルコピー先の列数と合わせるため削除× | BQ17: 審査用ファイルコピー先の列数と合わせるための列 | BT17: 審査用ファイルコピー先の列数と合わせるための列
B18: 行番号 | C18: =CONCATENATE("様式-",INDEX(発注者入力シート!$B$20:$G$24,MATCH(発注者入力シート!L6,発注者入力シート!$C$20:$C$24,0),4)) -> 様式-２ | O18: =CONCATENATE("様式-",INDEX(発注者入力シート!$B$25:$G$28,MATCH(発注者入力シート!M6,発注者入力シート!$C$25:$C$28,0),4)) -> 様式-３ | AA18: =CONCATENATE("様式-",INDEX(発注者入力シート!$B$25:$G$28,MATCH(発注者入力シート!M6,発注者入力シート!$C$25:$C$28,0),4)) -> 様式-３ | AM18: =CONCATENATE("様式-",INDEX(発注者入力シート!$B$25:$G$28,MATCH(発注者入力シート!M6,発注者入力シート!$C$25:$C$28,0),4)) -> 様式-３ | AP18: =CONCATENATE("様式-",INDEX(発注者入力シート!$B$25:$G$28,MATCH(発注者入力シート!M7,発注者入力シート!$C$25:$C$28,0),4)) -> #N/A | AY18: {=CONCATENATE("様式-",INDEX(発注者入力シート!$B$29:$G$38,MATCH(TRUE,(発注者入力シート!$C$29:$C$38=発注者入力シート!N6)+(発注者入力シート!$C$29:$C$38=発注者入力シート!N7)>0,0),4))} -> 様式-４ | BB18: =CONCATENATE("様式-",INDEX(発注者入力シート!$B$29:$G$38,MATCH(発注者入力シート!N8,発注者入力シート!$C$29:$C$38,0),4)) -> 様式-５ | BE18: =CONCATENATE("様式-",INDEX(発注者入力シート!$B$29:$G$38,MATCH(発注者入力シート!N9,発注者入力シート!$C$29:$C$38,0),4)) -> 様式-６ | BH18: =CONCATENATE("様式-",INDEX(発注者入力シート!$B$29:$G$38,MATCH(発注者入力シート!N10,発注者入力シート!$C$29:$C$38,0),4)) -> 様式-７ | BK18: =CONCATENATE("様式-",INDEX(発注者入力シート!$B$29:$G$38,MATCH(発注者入力シート!N17,発注者入力シート!$C$29:$C$38,0),4)) -> 様式-８ | BN18: =CONCATENATE("様式-",INDEX(発注者入力シート!$B$39:$G$40,MATCH(発注者入力シート!O7,発注者入力シート!$C$39:$C$40,0),4)) -> 様式-９ | BQ18: =CONCATENATE("様式-",INDEX(発注者入力シート!$B$39:$G$40,MATCH(発注者入力シート!O11,発注者入力シート!$C$39:$C$40,0),4)) -> #N/A
A19: コピー専用行 | B19: a0 | C19: 企業 | O19: 配置予定技術者① | AA19: 配置予定技術者② | AM19: 配置予定技術者③ | AY19: 地域貢献・その他 | BB19: 地域貢献・その他 | BE19: 地域貢献・その他 | BH19: 地域貢献・その他 | BK19: 地域貢献・その他 | BN19: 地理的条件 | BQ19: 地理的条件 | BT19: 地理的条件
A20: コピー専用行 | B20: a1 | C20: 工事成績評定点 | O20: 資格 | AA20: 資格 | AM20: 資格 | AY20: =AY38 -> 防災協定 | BB20: ボランティア | BE20: 維持管理 | BH20: 除雪業務 | BK20: 若手技術者・従業員の新規雇用 | BN20: 会社所在地 | BQ20: 予備欄１ | BT20: 予備欄２
A21: コピー専用行 | B21: a | C21: =C39 -> 完成年度 | D21: =D39 -> 令和５年度から令和７年度（完成及び引き渡しが完了） | E21: =E39 -> 0 | O21: =O39 -> 対象資格 | P21: =P39 -> １級もしくは２級土木施工管理技士、または1級もしくは２級建設機械施工技士 | Q21: =Q39 -> 0 | AA21: =AA39 -> 対象資格 | AB21: =AB39 -> １級もしくは２級土木施工管理技士、または1級もしくは２級建設機械施工技士 | AC21: =AC39 -> 0 | AM21: =AM39 -> 対象資格 | AN21: =AN39 -> １級もしくは２級土木施工管理技士、または1級もしくは２級建設機械施工技士 | AY21: =AY39 -> 対象 | AZ21: =AZ39 -> 令和６年度及び令和７年度における島根県との防災協定の締結実績 | BA21: =BA39 -> 0 | BB21: =BB39 -> 対象 | BC21: =ボランティア!B6 -> 令和６年度及び令和７年度のボランティア活動又はハートフルしまねへの参加実績 | BE21: =BE39 -> 対象 | BF21: =BF39 -> 令和６年度及び令和７年度の県管理公共土木施設に関する維持管理業務または海岸漂着物の回収業務の契約実績 | BH21: =BH39 -> 対象 | BI21: =BI39 -> 令和６年度及び令和７年度の県管理道路・空港または市町村管理道路を含む除雪業務の契約実績 | BK21: =BK39 -> 対象 | BL21: =BL39 -> 令和６年４月１日以降に、若手技術者・若手従業員（30歳未満の者）の１人以上の新規雇用があること。 | BN21: =BN39 -> 対象 | BO21: =BO39 -> 入札公告日前日において、評価対象地域内に建設業法で規定する主たる営業所（本店）または従たる営業所（支店、営業所）がある者
A22: コピー専用行 | B22: b | C22: =C40 -> 発注機関 | D22: =D40 -> 島根県（総務部、農林水産部、土木部） | E22: =E40 -> 0 | O22: =O40 -> 0 | P22: =P40 -> 0 | Q22: =Q40 -> 0 | AA22: =AA40 -> 0 | AB22: =AB40 -> 0 | AC22: =AC40 -> 0 | AY22: =AY40 -> 0 | AZ22: =AZ40 -> 0 | BA22: =BA40 -> 0
A23: コピー専用行 | B23: c | C23: =C41 -> 工事種別 | D23: =D41 -> 一般土木工事、維持修繕工事 | E23: =E41 -> 0 | O23: =O41 -> 0 | P23: =P41 -> 0 | Q23: =Q41 -> 0 | AA23: =AA41 -> 0 | AB23: =AB41 -> 0 | AC23: =AC41 -> 0 | AY23: =AY41 -> 0 | AZ23: =AZ41 -> 0 | BA23: =BA41 -> 0
A24: コピー専用行 | B24: d | C24: =C42 -> 建設工事の種類 | D24: =D42 -> 土木一式工事、とび・土工・ｺﾝｸﾘｰﾄ工事、しゅんせつ工事 | E24: =E42 -> 0 | O24: =O42 -> 0 | P24: =P42 -> 0 | Q24: =Q42 -> 0 | AA24: =AA42 -> 0 | AB24: =AB42 -> 0 | AC24: =AC42 -> 0 | AY24: =AY42 -> 0 | AZ24: =AZ42 -> 0 | BA24: =BA42 -> 0 | BB24: =BB42 -> 評価地域 | BC24: =BC42 -> 江津市（桜江町を除く）内 | BE24: =BE42 -> 評価地域 | BF24: =BF42 -> 江津市（桜江町を除く）内 | BH24: =BH42 -> 評価地域 | BI24: =BI42 -> 江津市（桜江町を除く）内 | BN24: =BN42 -> 評価地域 | BO24: =BO42 -> 江津市（桜江町を除く）内
A25: コピー専用行 | B25: e | C25: =C43 -> 該当件数 | D25: =D43 -> 平均点 | O25: =O43 -> 項目名 | P25: =P43 -> 状況 | AA25: =AA43 -> 項目名 | AB25: =AB43 -> 状況 | AM25: =AM43 -> 項目名 | AN25: =AN43 -> 状況 | AY25: =AY43 -> 項目名 | AZ25: =AZ43 -> 令和６年度 | BA25: =BA43 -> 令和７年度 | BB25: =BB43 -> 項目名 | BC25: =BC43 -> 令和６年度 | BD25: =BD43 -> 令和７年度 | BE25: =BE43 -> 項目名 | BF25: =BF43 -> 令和６年度 | ... BJ25: =BJ43 -> 令和７年度 | BK25: 項目名 | BL25: =BL43 -> 雇用① | BM25: =BM43 -> 雇用② | BN25: =BN43 -> 項目名 | BO25: =BO43 -> 状況
A26: コピー専用行 | B26: 1 | C26: =C44 | D26: =D44 | O26: =O44 -> 配置なし | P26: =P44 | Q26: =Q44 -> 0 | AA26: =AA44 -> 配置なし | AB26: =AB44 | AC26: =AC44 -> 0 | AM26: =AM44 -> 配置なし | AN26: =AN44 | AO26: =AO44 -> 0 | AY26: =AY44 -> 協定実績 | AZ26: =AZ44 -> 申請なし | BA26: =BA44 -> 申請なし | BB26: =BB44 -> ボランティア活動内容 | BC26: =BC44 -> 申請なし | BD26: =BD44 -> 申請なし | BE26: =BE44 -> 業務名 | BF26: =BF44 -> 申請なし | ... BH26: =BH44 -> 業務名 | BI26: =IF(OR(BI50="有",BI50=""),BI44,"実績なし") -> 申請なし | BJ26: =IF(OR(BJ50="有",BJ50=""),BJ44,"実績なし") -> 申請なし | BK26: =BK44 -> 雇用の内容 | BL26: =BL44 -> 申請なし | BM26: =BM44 -> 申請なし | BN26: =BN44 -> 住所 | BO26: =BO44 -> 申請なし
A27: コピー専用行 | B27: 2 | C27: =C45 | D27: =D45 | O27: =O45 | P27: =P45 | Q27: =Q45 -> 0 | AA27: =AA45 | AB27: =AB45 | AC27: =AC45 -> 0 | AM27: =AM45 | AN27: =AN45 | AO27: =AO45 -> 0 | BB27: =BB45 | BC27: =BC45 | BD27: =BD45 | BN27: =BN45 -> 種類 | BO27: =BO45
A28: コピー専用行 | B28: 3 | C28: =C46 | BB28: =BB46 | BC28: =BC46 | BD28: =BD46
A29: コピー専用行 | B29: 4 | BB29: =BB47 | BC29: =IF(OR(BC44="",BC44="審査済・詳細省略",BC44="申請なし"),"","参加"&BC47&"人"&CHAR(10)&"従業員"&BC48&"人") | BD29: =IF(OR(企業入力シート!B32="○",BD44="",BD44="申請なし"),"","参加"&BD47&"人"&CHAR(10)&"従業員"&BD48&"人") | BE29: =BE45 -> 発注機関 | BF29: =BF45 | BG29: =BG45 | BH29: =BH45 -> 発注機関 | BI29: =IF(BI50="無","",BI45) | BJ29: =IF(BJ50="無","",BJ45) | BK29: =BK45 | BL29: =BL45 | BM29: =BM45
A30: コピー専用行 | B30: 5 | BB30: =BB49 -> ﾊｰﾄﾌﾙ活動 | BC30: =BC49 -> 申請なし | BD30: =BD49 -> 申請なし | BE30: =BE46 -> 元請・下請区分 | BF30: =BF46 -> 0 | BG30: =BG46 -> 0 | BH30: =BH46 -> 元請・下請区分 | BI30: =IF(BI50="無","",BI46) | BJ30: =IF(BJ50="無","",BJ46) | BK30: =BK46 | BL30: =BL46 | BM30: =BM46
A31: コピー専用行 | B31: 6 | BB31: =BB51&CHAR(10)&BB52 | BC31: =IF(BC50="","","参加"&BC51&"人"&CHAR(10)&"従業員"&BC52&"人") | BD31: =IF(BD50="","","参加"&BD51&"人"&CHAR(10)&"従業員"&BD52&"人") | BE31: =BE47 -> 契約(始) | BF31: =BF47 | BG31: =BG47 | BH31: =BH47 -> 契約(始) | BI31: =IF(BI50="無","",BI47) | BJ31: =IF(BJ50="無","",BJ47)
A32: コピー専用行 | B32: 7 | BB32: =BB50 | BC32: =BC50 | BD32: =BD50 | BE32: =BE48 -> 契約(終) | BF32: =BF48 | BG32: =BG48 | BH32: =BH48 -> 契約(終) | BI32: =IF(BI50="無","",BI48) | BJ32: =IF(BJ50="無","",BJ48)
A33: コピー専用行 | B33: 8 | BE33: =BE49 -> 施工箇所 | BF33: =BF49 | BG33: =BG49 | BH33: =BH49 -> 施工箇所 | BI33: =IF(BI50="無","",BI49) | BJ33: =IF(BJ50="無","",BJ49)
C34: 今回、押印済資料（収受印）での提出の有無 | D34: =INDEX(発注者入力シート!$B$20:$J$24,MATCH(発注者入力シート!L6,発注者入力シート!$C$20:$C$24,0),7) -> 未記入 | O34: 今回、押印済資料（収受印）での提出の有無 | P34: =INDEX(発注者入力シート!$B$25:$J$28,MATCH(発注者入力シート!M6,発注者入力シート!$C$25:$C$28,0),7) -> 配置なし | Q34: =IF(企業入力シート!C18="","配置なし","配置あり") -> 配置なし | T34: =IF(企業入力シート!C18="","配置なし","配置あり") -> 配置なし | AA34: 今回、押印済資料（収受印）での提出の有無 | AB34: =INDEX(発注者入力シート!$B$25:$J$28,MATCH(発注者入力シート!M6,発注者入力シート!$C$25:$C$28,0),8) -> 配置なし | AC34: =IF(企業入力シート!C19="","配置なし","配置あり") -> 配置なし | AF34: =IF(企業入力シート!C19="","配置なし","配置あり") -> 配置なし | AM34: 今回、押印済資料（収受印）での提出の有無 | AN34: =INDEX(発注者入力シート!$B$25:$J$28,MATCH(発注者入力シート!M6,発注者入力シート!$C$25:$C$28,0),9) -> 配置なし | AO34: =IF(企業入力シート!C20="","配置なし","配置あり") -> 配置なし | AR34: =IF(企業入力シート!C20="","配置なし","配置あり") -> 配置なし | AY34: 今回、押印済資料（収受印）での提出の有無 | AZ34: =INDEX(発注者入力シート!$B$29:$J$38,MATCH(発注者入力シート!N6,発注者入力シート!$C$29:$C$38,0),7) -> 未記入 | BB34: 今回、押印済資料（収受印）での提出の有無 | BC34: =INDEX(発注者入力シート!$B$29:$J$38,MATCH(発注者入力シート!N8,発注者入力シート!$C$29:$C$38,0),7) -> 未記入 | BE34: 今回、押印済資料（収受印）での提出の有無 | BF34: =INDEX(発注者入力シート!$B$29:$J$38,MATCH(発注者入力シート!N9,発注者入力シート!$C$29:$C$38,0),7) -> 未記入 | BH34: 今回、押印済資料（収受印）での提出の有無 | BI34: =INDEX(発注者入力シート!$B$29:$J$38,MATCH(発注者入力シート!N10,発注者入力シート!$C$29:$C$38,0),7) -> 未記入
A36: 以下、集計専用表（コピー箇所ではありません）
B37: a0 | C37: 企業 | O37: 配置予定技術者① | U37: 配置予定技術者① | X37: 配置予定技術者① | AA37: 配置予定技術者② | AG37: 配置予定技術者② | AJ37: 配置予定技術者② | AM37: 配置予定技術者③ | AS37: 配置予定技術者③ | AV37: 配置予定技術者③ | AY37: 地域貢献・その他 | BB37: 地域貢献・その他 | BE37: 地域貢献・その他 | BH37: 地域貢献・その他 | BK37: 地域貢献・その他 | BN37: 地理的条件 | BQ37: 地理的条件 | BT37: 地理的条件
B38: a1 | C38: 工事成績評定点 | O38: 資格 | U38: 予備欄① | X38: 予備欄② | AA38: 資格 | AG38: 予備欄① | AJ38: 予備欄② | AM38: 資格 | AS38: 予備欄① | AV38: 予備欄② | AY38: =IF(防災協定・家畜伝染病防疫協定!T15=1,"防災",IF(防災協定・家畜伝染病防疫協定!T15=2,"家畜伝染病防疫","防災協定・家畜伝染病防疫"))&"協定" -> 防災協定 | BB38: ボランティア | BE38: 維持管理業務 | BH38: 除雪業務 | BK38: 若手技術者・従業員の新規雇用 | BN38: 会社所在地
B39: a | C39: 完成年度 | D39: =IF(企業成績評定点!G6="","",企業成績評定点!G6) -> 令和５年度から令和７年度（完成及び引き渡しが完了） | O39: 対象資格 | P39: =IF(技術者資格!B9="","",技術者資格!B9) -> １級もしくは２級土木施工管理技士、または1級もしくは２級建設機械施工技士 | AA39: 対象資格 | AB39: =IF(技術者資格!B9="","",技術者資格!B9) -> １級もしくは２級土木施工管理技士、または1級もしくは２級建設機械施工技士 | AM39: 対象資格 | AN39: =IF(技術者資格!B9="","",技術者資格!B9) -> １級もしくは２級土木施工管理技士、または1級もしくは２級建設機械施工技士 | AY39: 対象 | AZ39: =IF(防災協定・家畜伝染病防疫協定!B8="","",防災協定・家畜伝染病防疫協定!B8) -> 令和６年度及び令和７年度における島根県との防災協定の締結実績 | BB39: 対象 | BC39: =IF(ボランティア!B6="","",ボランティア!B6) -> 令和６年度及び令和７年度のボランティア活動又はハートフルしまねへの参加実績 | BE39: 対象 | BF39: =IF(維持管理業務!B7="","",維持管理業務!B7) -> 令和６年度及び令和７年度の県管理公共土木施設に関する維持管理業務または海岸漂着物の回収業務の契約実績 | BH39: 対象 | BI39: =IF(除雪業務!B8="","",除雪業務!B8) -> 令和６年度及び令和７年度の県管理道路・空港または市町村管理道路を含む除雪業務の契約実績 | BK39: 対象 | BL39: =IF(若手技術者・従業員新規雇用!B8="","",若手技術者・従業員新規雇用!B8) -> 令和６年４月１日以降に、若手技術者・若手従業員（30歳未満の者）の１人以上の新規雇用があること。 | BN39: 対象 | BO39: =IF(会社所在地!B10="","",会社所在地!B10) -> 入札公告日前日において、評価対象地域内に建設業法で規定する主たる営業所（本店）または従たる営業所（支店、営業所）がある者
B40: b | C40: 発注機関 | D40: =IF(企業成績評定点!G7="","",企業成績評定点!G7) -> 島根県（総務部、農林水産部、土木部）
B41: c | C41: 工事種別 | D41: =IF(企業成績評定点!G8="","",企業成績評定点!G8) -> 一般土木工事、維持修繕工事
B42: d | C42: 建設工事の種類 | D42: =IF(企業成績評定点!G9="","",企業成績評定点!G9) -> 土木一式工事、とび・土工・ｺﾝｸﾘｰﾄ工事、しゅんせつ工事 | BB42: 評価地域 | BC42: =IF(ボランティア!D8="","",ボランティア!D8) -> 江津市（桜江町を除く）内 | BE42: 評価地域 | BF42: =IF(維持管理業務!D10="","",維持管理業務!D10) -> 江津市（桜江町を除く）内 | BH42: 評価地域 | BI42: =IF(除雪業務!D11="","",除雪業務!D11) -> 江津市（桜江町を除く）内 | BN42: 評価地域 | BO42: =IF(会社所在地!D13="","",会社所在地!D13) -> 江津市（桜江町を除く）内
B43: e | C43: 該当件数 | D43: 平均点 | O43: 項目名 | P43: 状況 | AA43: 項目名 | AB43: 状況 | AM43: 項目名 | AN43: 状況 | AY43: 項目名 | AZ43: =発注者入力シート!H11 -> 令和６年度 | BA43: =発注者入力シート!G11 -> 令和７年度 | BB43: 項目名 | BC43: =発注者入力シート!H11 -> 令和６年度 | BD43: =発注者入力シート!G11 -> 令和７年度 | BE43: 項目名 | BF43: =発注者入力シート!H11 -> 令和６年度 | BG43: =発注者入力シート!G11 -> 令和７年度 | BH43: 項目名 | BI43: =発注者入力シート!H11 -> 令和６年度 | BJ43: =発注者入力シート!G11 -> 令和７年度 | BK43: 項目名 | BL43: 雇用① | BM43: 雇用② | BN43: 項目名 | BO43: 状況
B44: 1 | C44: =IF(OR(COUNTIF(企業入力シート!B26:B29,"○")>0,D34="有"),"",IF(企業成績評定点!G30="","",企業成績評定点!G30)) | D44: =IF(OR(COUNTIF(企業入力シート!B26:B29,"○")>0,D34="有"),"",IF(企業成績評定点!J30="","",企業成績評定点!J30)) | O44: =IF(P34="有","押印済資料提出",IF(Q34="配置なし","配置なし",IF(P44="","申請なし","名称"))) -> 配置なし | P44: =IF(P34="有","審査済・詳細省略",IF(Q34="配置なし","",IF(技術者資格!F12="","",技術者資格!F12))) | AA44: =IF(AB34="有","押印済資料提出",IF(AC34="配置なし","配置なし",IF(AB44="","申請なし","名称"))) -> 配置なし | AB44: =IF(AB34="有","審査済・詳細省略",IF(AC34="配置なし","",IF(技術者資格!F14="","",技術者資格!F14))) | AM44: =IF(AN34="有","押印済資料提出",IF(AO34="配置なし","配置なし",IF(AN44="","申請なし","名称"))) -> 配置なし | AN44: =IF(AN34="有","審査済・詳細省略",IF(AO34="配置なし","",IF(技術者資格!F16="","",技術者資格!F16))) | AY44: 協定実績 | AZ44: =IF(COUNTIF(企業入力シート!B30:B31,"○")>0,"事前審査・証明書提出",IF(防災協定・家畜伝染病防疫協定!G10="","申請なし",防災協定・家畜伝染病防疫協定!G10)) -> 申請なし | BA44: =IF(COUNTIF(企業入力シート!B30:B31,"○")>0,"事前審査・証明書提出",IF(防災協定・家畜伝染病防疫協定!G11="","申請なし",防災協定・家畜伝染病防疫協定!G11)) -> 申請なし | BB44: =IF(企業入力シート!B32="○","事前審査・証明書提出",IF(BC34="有","押印済資料提出","ボランティア活動内容")) -> ボランティア活動内容 | BC44: =IF(OR(企業入力シート!B32="○",BC34="有"),"審査済・詳細省略",IF(BC46="","申請なし",IF(ボランティア!F12="","",ボランティア!F12))) -> 申請なし | BD44: =IF(OR(企業入力シート!B32="○",BC34="有"),"審査済・詳細省略",IF(BD46="","申請なし",IF(ボランティア!F15="","",ボランティア!F15))) -> 申請なし | BE44: =IF(企業入力シート!B33="○","事前審査・証明書提出",IF(BF34="有","押印済資料提出","業務名")) -> 業務名 | BF44: =IF(OR(企業入力シート!B33="○",BF34="有"),"審査済・詳細省略",IF(維持管理業務!I15="","申請なし",維持管理業務!I15)) -> 申請なし | BG44: =IF(OR(企業入力シート!B33="○",BF34="有"),"審査済・詳細省略",IF(維持管理業務!I20="","申請なし",維持管理業務!I20)) -> 申請なし | BH44: =IF(企業入力シート!B34="○","事前審査・証明書提出",IF(BI34="有","押印済資料提出","業務名")) -> 業務名 | BI44: =IF(OR(企業入力シート!B34="○",BI34="有"),"審査済・詳細省略",IF(除雪業務!I16="","申請なし",除雪業務!I16)) -> 申請なし | BJ44: =IF(OR(企業入力シート!B34="○",BI34="有"),"審査済・詳細省略",IF(除雪業務!I21="","申請なし",除雪業務!I21)) -> 申請なし | BK44: 雇用の内容 | BL44: =IF(若手技術者・従業員新規雇用!H14="","申請なし",IF(若手技術者・従業員新規雇用!H18="有","若手技術者(指定学科卒)",IF(若手技術者・従業員新規雇用!H28="有","若手技術者(資格有)",IF(若手技術者・従業員新規雇用!H33="有","若手従業員","無")))) -> 申請なし | BM44: =IF(若手技術者・従業員新規雇用!M14="","申請なし",IF(若手技術者・従業員新規雇用!M18="有","若手技術者(指定学科卒)",IF(若手技術者・従業員新規雇用!M28="有","若手技術者(資格有)",IF(若手技術者・従業員新規雇用!M33="有","若手従業員","無")))) -> 申請なし | BN44: 住所 | BO44: =IF(BO45="","申請なし",IF(会社所在地!F16="","",会社所在地!F16)) -> 申請なし
B45: 2 | C45: =IF(OR(COUNTIF(企業入力シート!B26:B29,"○")>0,D34="有"),"↑件数直接入力",IF(D34="無","申請あり","")) | D45: =IF(OR(COUNTIF(企業入力シート!B26:B29,"○")>0,D34="有"),"↑平均点直接入力","") | O45: =IF(OR(P34="有",Q34="配置なし",P44=""),"","有効期限") | P45: =IF(OR(P34="有",Q34="配置なし",P44=""),"",IF(技術者資格!J12="","",技術者資格!J12)) | AA45: =IF(OR(AB34="有",AC34="配置なし",AB44=""),"","有効期限") | AB45: =IF(OR(AB34="有",AC34="配置なし",AB44=""),"",IF(技術者資格!J14="","",技術者資格!J14)) | AM45: =IF(OR(AN34="有",AO34="配置なし",AN44=""),"","有効期限") | AN45: =IF(OR(AN34="有",AO34="配置なし",AN44=""),"",IF(技術者資格!J16="","",技術者資格!J16)) | BB45: =IF(OR(企業入力シート!B32="○",BC34="有"),"",IF(AND(BC46="",BD46=""),"","活動日")) | BC45: =IF(OR(企業入力シート!B32="○",BC34="有",BC46=""),"",IF(ボランティア!C12="","",ボランティア!C12)) | BD45: =IF(OR(企業入力シート!B32="○",BC34="有",BD46=""),"",IF(ボランティア!C15="","",ボランティア!C15)) | BE45: =IF(OR(企業入力シート!B33="○",BF34="有"),"","発注機関") -> 発注機関 | BF45: =IF(OR(企業入力シート!B33="○",BF34="有"),"",IF(維持管理業務!A15="","",維持管理業務!A15)) | BG45: =IF(OR(企業入力シート!B33="○",BF34="有"),"",IF(維持管理業務!A20="","",維持管理業務!A20)) | BH45: =IF(OR(企業入力シート!B34="○",BI34="有"),"","発注機関") -> 発注機関 | BI45: =IF(OR(企業入力シート!B34="○",BI34="有"),"",IF(除雪業務!A16="","",除雪業務!A16)) | BJ45: =IF(OR(企業入力シート!B34="○",BI34="有"),"",IF(除雪業務!A21="","",除雪業務!A21)) | BK45: =IF(AND(BL44="申請なし",BM44="申請なし"),"","生年月日") | BL45: =IF(OR(BL44="申請なし",BL44="無"),"",若手技術者・従業員新規雇用!H15) | BM45: =IF(OR(BM44="申請なし",BM44="無"),"",若手技術者・従業員新規雇用!M15) | BN45: 種類 | BO45: =IF(会社所在地!A16="","",会社所在地!A16)
B46: 3 | C46: =IF(COUNTIF(企業入力シート!B26:B29,"○")>0,"事前審査・証明書提出",IF(D34="有","押印済資料提出","")) | BB46: =IF(OR(企業入力シート!B32="○",BC34="有"),"",IF(AND(BC46="",BD46=""),"","活動箇所")) | BC46: =IF(OR(企業入力シート!B32="○",BC34="有"),"",IF(ボランティア!K12="","",ボランティア!K12)) | BD46: =IF(OR(企業入力シート!B32="○",BC34="有"),"",IF(ボランティア!K15="","",ボランティア!K15)) | BE46: =IF(OR(企業入力シート!B33="○",BF34="有"),"","元請・下請区分") -> 元請・下請区分 | BF46: =IF(OR(企業入力シート!B33="○",BF34="有"),"",IF(維持管理業務!D15="","",維持管理業務!D15)) -> 0 | BG46: =IF(OR(企業入力シート!B33="○",BF34="有"),"",IF(維持管理業務!D20="","",維持管理業務!D20)) -> 0 | BH46: =IF(OR(企業入力シート!B34="○",BI34="有"),"","元請・下請区分") -> 元請・下請区分 | BI46: =IF(OR(企業入力シート!B34="○",BI34="有"),"",IF(除雪業務!D16="","",除雪業務!D16)) | BJ46: =IF(OR(企業入力シート!B34="○",BI34="有"),"",IF(除雪業務!D21="","",除雪業務!D21)) | BK46: =IF(AND(BL44="申請なし",BM44="申請なし"),"","雇用年月日") | BL46: =IF(OR(BL44="申請なし",BL44="無"),"",若手技術者・従業員新規雇用!H16) | BM46: =IF(OR(BM44="申請なし",BM44="無"),"",若手技術者・従業員新規雇用!M16)
B47: 4 | BB47: =IF(OR(企業入力シート!B32="○",BC34="有"),"",IF(AND(BC46="",BD46=""),"","参加人数")) | BC47: =IF(OR(企業入力シート!B32="○",BC34="有",BC46=""),"",IF(ボランティア!O12="","",ボランティア!O12)) | BD47: =IF(OR(企業入力シート!B32="○",BC34="有",BD46=""),"",IF(ボランティア!O15="","",ボランティア!O15)) | BE47: =IF(OR(企業入力シート!B33="○",BF34="有"),"","契約(始)") -> 契約(始) | BF47: =IF(OR(企業入力シート!B33="○",BF34="有"),"",IF(維持管理業務!F15="","",維持管理業務!F15)) | BG47: =IF(OR(企業入力シート!B33="○",BF34="有"),"",IF(維持管理業務!F20="","",維持管理業務!F20)) | BH47: =IF(OR(企業入力シート!B34="○",BI34="有"),"","契約(始)") -> 契約(始) | BI47: =IF(OR(企業入力シート!B34="○",BI34="有"),"",IF(除雪業務!F16="","",除雪業務!F16)) | BJ47: =IF(OR(企業入力シート!B34="○",BI34="有"),"",IF(除雪業務!F21="","",除雪業務!F21))
B48: 5 | BB48: =IF(OR(企業入力シート!B32="○",BC34="有"),"",IF(AND(BC46="",BD46=""),"","従業員数")) | BC48: =IF(OR(企業入力シート!B32="○",BC34="有",BC46=""),"",IF(ボランティア!Q12="","",ボランティア!Q12)) | BD48: =IF(OR(企業入力シート!B32="○",BC34="有",BD46=""),"",IF(ボランティア!Q15="","",ボランティア!Q15)) | BE48: =IF(OR(企業入力シート!B33="○",BF34="有"),"","契約(終)") -> 契約(終) | BF48: =IF(OR(企業入力シート!B33="○",BF34="有"),"",IF(維持管理業務!F16="","",維持管理業務!F16)) | BG48: =IF(OR(企業入力シート!B33="○",BF34="有"),"",IF(維持管理業務!F21="","",維持管理業務!F21)) | BH48: =IF(OR(企業入力シート!B34="○",BI34="有"),"","契約(終)") -> 契約(終) | BI48: =IF(OR(企業入力シート!B34="○",BI34="有"),"",IF(除雪業務!F17="","",除雪業務!F17)) | BJ48: =IF(OR(企業入力シート!B34="○",BI34="有"),"",IF(除雪業務!F22="","",除雪業務!F22))
B49: 6 | BB49: =IF(OR(企業入力シート!B32="○",BC34="有"),"","ﾊｰﾄﾌﾙ活動") -> ﾊｰﾄﾌﾙ活動 | BC49: =IF(OR(企業入力シート!B32="○",BC34="有"),"",IF(BC50="","申請なし","")) -> 申請なし | BD49: =IF(OR(企業入力シート!B32="○",BC34="有"),"",IF(BD50="","申請なし","")) -> 申請なし | BE49: =IF(OR(企業入力シート!B33="○",BF34="有"),"","施工箇所") -> 施工箇所 | BF49: =IF(OR(企業入力シート!B33="○",BF34="有"),"",IF(維持管理業務!N15="","",維持管理業務!N15)) | BG49: =IF(OR(企業入力シート!B33="○",BF34="有"),"",IF(維持管理業務!N20="","",維持管理業務!N20)) | BH49: =IF(OR(企業入力シート!B34="○",BI34="有"),"","施工箇所") -> 施工箇所 | BI49: =IF(OR(企業入力シート!B34="○",BI34="有"),"",IF(除雪業務!N16="","",除雪業務!N16)) | BJ49: =IF(OR(企業入力シート!B34="○",BI34="有"),"",IF(除雪業務!N21="","",除雪業務!N21))
B50: 7 | BB50: =IF(OR(企業入力シート!B32="○",BC34="有"),"",IF(AND(BC50="",BD50=""),"","活動箇所")) | BC50: =IF(OR(企業入力シート!B32="○",BC34="有"),"",IF(ボランティア!C26="","",ボランティア!C26)) | BD50: =IF(OR(企業入力シート!B32="○",BC34="有"),"",IF(ボランティア!C27="","",ボランティア!C27))
B51: 8 | BB51: =IF(OR(企業入力シート!B32="○",BC34="有"),"",IF(AND(BC50="",BD50=""),"","参加人数")) | BC51: =IF(OR(企業入力シート!B32="○",BC34="有",BC50=""),"",IF(ボランティア!J26="","",ボランティア!J26)) | BD51: =IF(OR(企業入力シート!B32="○",BC34="有",BD50=""),"",IF(ボランティア!J27="","",ボランティア!J27))
B52: 9 | BB52: =IF(OR(企業入力シート!B32="○",BC34="有"),"",IF(AND(BC50="",BD50=""),"","従業員数")) | BC52: =IF(OR(企業入力シート!B32="○",BC34="有",BC50=""),"",IF(ボランティア!M26="","",ボランティア!M26)) | BD52: =IF(OR(企業入力シート!B32="○",BC34="有",BD50=""),"",IF(ボランティア!M27="","",ボランティア!M27))
B53: 10
B54: 11
B55: 12
B56: 13
B57: 14
B58: 15
B59: 16
B60: 17
B62: ・各様式に記載された内容をこのシートの集計専用表で数式によりリンクさせています。
B63: ・集計専用表で集計した内容をコピー専用表で再集計していますので、企業震災内容の行数は１７行から８行に減っています。

Sheet 表紙
A1: 様式－ | B1: 1 | S1: 着色セルの凡例
M2: 提出日 | N2: =IF(企業入力シート!C4="","",企業入力シート!C4) | S2: （企業）
T3: ：「企業入力シート」で入力（数式リンク有）
A4: （ 特別簡易型【地域維持型】 総合評価方式 ） | T4: ：セルに直接入力が必要な箇所
A5: 総 合 評 価 技 術 資 料
S6: （発注者）
A7: 発注者 | T7: ：「発注者入力シート」で入力（数式リンク有）
A8: =CONCATENATE(" ",発注者入力シート!C6,IF(COUNTIF(発注者入力シート!C6,"*センター*"),"所長","長")," ","様") -> 浜田県土整備事務所長 様 | T8: ：セルに直接入力が必要な箇所
S10: 【印刷について】
H11: 住所 | J11: =IF(企業入力シート!C6="","",企業入力シート!C6) | S11: このシートは「ページ設定」で「白黒印刷」と「印刷範囲」が設定されています。
G13: 商号又は名称 | J13: =IF(企業入力シート!C7="","",企業入力シート!C7)
G14: 代表者氏名 | J14: =IF(企業入力シート!C8="","",企業入力シート!C8)
A17: =CONCATENATE(" ","令和",(YEAR(発注者入力シート!C7)-2018),"年",MONTH(発注者入力シート!C7),"月",DAY(発注者入力シート!C7),"日付けで入札公告のありました下記工事について、別添のとおり書類を添えて提出いたします。") -> 令和8年10月2日付けで入札公告のありました下記工事について、別添のとおり書類を添えて提出いたします。
A20: １ 工事名 | C20: =発注者入力シート!C10 -> （一）跡市波子停車場線（跡市２工区）総合交付金（改築）工事 第６期
A22: ２ 提出書類（下記項目の該当するもの）
A23: =IF(AND(IFERROR(OR(発注者入力シート!$L$62="２",発注者入力シート!$L$63="２"),FALSE),企業入力シート!$B$35="○"),"",IF(COUNTIF($A$44:$A$50,"*"&VLOOKUP("２",発注者入力シート!$L$41:$N$76,3,FALSE)&"*")>=1,"",INDEX(発注者入力シート!$L$40:$O$82,MATCH("２",発注者入力シート!$L$40:$L$82,0),4))) -> ○企業の工事成績評定点 （様式-２-１、様式-２-２）
A24: =IF(AND(IFERROR(OR(発注者入力シート!$L$62="３",発注者入力シート!$L$63="３"),FALSE),企業入力シート!$B$35="○"),"",IF(COUNTIF($A$44:$A$50,"*"&VLOOKUP("３",発注者入力シート!$L$41:$N$76,3,FALSE)&"*")>=1,"",INDEX(発注者入力シート!$L$40:$O$82,MATCH("３",発注者入力シート!$L$40:$L$82,0),4))) -> ○配置予定技術者の資格 （様式-３）
A25: =IF(AND(IFERROR(OR(発注者入力シート!$L$62="４",発注者入力シート!$L$63="４"),FALSE),企業入力シート!$B$35="○"),"",IF(COUNTIF($A$44:$A$50,"*"&VLOOKUP("４",発注者入力シート!$L$41:$N$76,3,FALSE)&"*")>=1,"",INDEX(発注者入力シート!$L$40:$O$82,MATCH("４",発注者入力シート!$L$40:$L$82,0),4))) -> ○防災協定の締結実績 （様式-４）
A26: =IF(AND(IFERROR(OR(発注者入力シート!$L$62="５",発注者入力シート!$L$63="５"),FALSE),企業入力シート!$B$35="○"),"",IF(COUNTIF($A$44:$A$50,"*"&VLOOKUP("５",発注者入力シート!$L$41:$N$76,3,FALSE)&"*")>=1,"",INDEX(発注者入力シート!$L$40:$O$82,MATCH("５",発注者入力シート!$L$40:$L$82,0),4))) -> ○ボランティア活動又はハートフルしまねへの参加実績 （様式-５）
A27: =IF(AND(IFERROR(OR(発注者入力シート!$L$62="６",発注者入力シート!$L$63="６"),FALSE),企業入力シート!$B$35="○"),"",IF(COUNTIF($A$44:$A$50,"*"&VLOOKUP("６",発注者入力シート!$L$41:$N$76,3,FALSE)&"*")>=1,"",INDEX(発注者入力シート!$L$40:$O$82,MATCH("６",発注者入力シート!$L$40:$L$82,0),4))) -> ○県管理公共土木施設に関する維持管理業務または海岸漂着物の回収業務の契約実績 （様式-６）
A28: =IF(AND(IFERROR(OR(発注者入力シート!$L$62="７",発注者入力シート!$L$63="７"),FALSE),企業入力シート!$B$35="○"),"",IF(COUNTIF($A$44:$A$50,"*"&VLOOKUP("７",発注者入力シート!$L$41:$N$76,3,FALSE)&"*")>=1,"",INDEX(発注者入力シート!$L$40:$O$82,MATCH("７",発注者入力シート!$L$40:$L$82,0),4))) -> ○県管理道路・空港または市町村管理道路を含む除雪業務の契約実績 （様式-７）
A29: =IF(AND(IFERROR(OR(発注者入力シート!$L$62="８",発注者入力シート!$L$63="８"),FALSE),企業入力シート!$B$35="○"),"",IF(COUNTIF($A$44:$A$50,"*"&VLOOKUP("８",発注者入力シート!$L$41:$N$76,3,FALSE)&"*")>=1,"",INDEX(発注者入力シート!$L$40:$O$82,MATCH("８",発注者入力シート!$L$40:$L$82,0),4))) -> ○若手技術者・若手従業員の新規雇用 （様式-８）
A30: =IF(AND(IFERROR(OR(発注者入力シート!$L$62="９",発注者入力シート!$L$63="９"),FALSE),企業入力シート!$B$35="○"),"",IF(COUNTIF($A$44:$A$50,"*"&VLOOKUP("９",発注者入力シート!$L$41:$N$76,3,FALSE)&"*")>=1,"",INDEX(発注者入力シート!$L$40:$O$82,MATCH("９",発注者入力シート!$L$40:$L$82,0),4))) -> ○地理的条件（会社所在地） （様式-９）
A31: =IF(AND(IFERROR(OR(発注者入力シート!$L$62="１０",発注者入力シート!$L$63="１０"),FALSE),企業入力シート!$B$35="○"),"",IF(COUNTIF($A$44:$A$50,"*"&VLOOKUP("１０",発注者入力シート!$L$41:$N$76,3,FALSE)&"*")>=1,"",INDEX(発注者入力シート!$L$40:$O$82,MATCH("１０",発注者入力シート!$L$40:$L$82,0),4))) -> #N/A
A32: =IF(AND(IFERROR(OR(発注者入力シート!$L$62="１１",発注者入力シート!$L$63="１１"),FALSE),企業入力シート!$B$35="○"),"",IF(COUNTIF($A$44:$A$50,"*"&VLOOKUP("１１",発注者入力シート!$L$41:$N$76,3,FALSE)&"*")>=1,"",INDEX(発注者入力シート!$L$40:$O$82,MATCH("１１",発注者入力シート!$L$40:$L$82,0),4))) -> #N/A
A33: =IF(AND(IFERROR(OR(発注者入力シート!$L$62="１２",発注者入力シート!$L$63="１２"),FALSE),企業入力シート!$B$35="○"),"",IF(COUNTIF($A$44:$A$50,"*"&VLOOKUP("１２",発注者入力シート!$L$41:$N$76,3,FALSE)&"*")>=1,"",INDEX(発注者入力シート!$L$40:$O$82,MATCH("１２",発注者入力シート!$L$40:$L$82,0),4))) -> #N/A
A34: =IF(AND(IFERROR(OR(発注者入力シート!$L$62="１３",発注者入力シート!$L$63="１３"),FALSE),企業入力シート!$B$35="○"),"",IF(COUNTIF($A$44:$A$50,"*"&VLOOKUP("１３",発注者入力シート!$L$41:$N$76,3,FALSE)&"*")>=1,"",INDEX(発注者入力シート!$L$40:$O$82,MATCH("１３",発注者入力シート!$L$40:$L$82,0),4))) -> #N/A
A35: =IF(AND(IFERROR(OR(発注者入力シート!$L$62="１４",発注者入力シート!$L$63="１４"),FALSE),企業入力シート!$B$35="○"),"",IF(COUNTIF($A$44:$A$50,"*"&VLOOKUP("１４",発注者入力シート!$L$41:$N$76,3,FALSE)&"*")>=1,"",INDEX(発注者入力シート!$L$40:$O$82,MATCH("１４",発注者入力シート!$L$40:$L$82,0),4))) -> #N/A
A36: =IF(AND(IFERROR(OR(発注者入力シート!$L$62="１５",発注者入力シート!$L$63="１５"),FALSE),企業入力シート!$B$35="○"),"",IF(COUNTIF($A$44:$A$50,"*"&VLOOKUP("１５",発注者入力シート!$L$41:$N$76,3,FALSE)&"*")>=1,"",INDEX(発注者入力シート!$L$40:$O$82,MATCH("１５",発注者入力シート!$L$40:$L$82,0),4))) -> #N/A
A37: =IF(AND(IFERROR(OR(発注者入力シート!$L$62="１６",発注者入力シート!$L$63="１６"),FALSE),企業入力シート!$B$35="○"),"",IF(COUNTIF($A$44:$A$50,"*"&VLOOKUP("１６",発注者入力シート!$L$41:$N$76,3,FALSE)&"*")>=1,"",INDEX(発注者入力シート!$L$40:$O$82,MATCH("１６",発注者入力シート!$L$40:$L$82,0),4))) -> #N/A
A38: =IF(AND(IFERROR(OR(発注者入力シート!$L$62="１７",発注者入力シート!$L$63="１７"),FALSE),企業入力シート!$B$35="○"),"",IF(COUNTIF($A$44:$A$50,"*"&VLOOKUP("１７",発注者入力シート!$L$41:$N$76,3,FALSE)&"*")>=1,"",INDEX(発注者入力シート!$L$40:$O$82,MATCH("１７",発注者入力シート!$L$40:$L$82,0),4))) -> #N/A
A39: =IF(AND(IFERROR(OR(発注者入力シート!$L$62="１８",発注者入力シート!$L$63="１８"),FALSE),企業入力シート!$B$35="○"),"",IF(COUNTIF($A$44:$A$50,"*"&VLOOKUP("１８",発注者入力シート!$L$41:$N$76,3,FALSE)&"*")>=1,"",INDEX(発注者入力シート!$L$40:$O$82,MATCH("１８",発注者入力シート!$L$40:$L$82,0),4))) -> #N/A
A40: =IF(AND(IFERROR(OR(発注者入力シート!$L$62="１９",発注者入力シート!$L$63="１９"),FALSE),企業入力シート!$B$35="○"),"",IF(COUNTIF($A$44:$A$50,"*"&VLOOKUP("１９",発注者入力シート!$L$41:$N$76,3,FALSE)&"*")>=1,"",INDEX(発注者入力シート!$L$40:$O$82,MATCH("１９",発注者入力シート!$L$40:$L$82,0),4))) -> #N/A
A41: =IF(AND(IFERROR(OR(発注者入力シート!$L$62="２０",発注者入力シート!$L$63="２０"),FALSE),企業入力シート!$B$35="○"),"",IF(COUNTIF($A$44:$A$50,"*"&VLOOKUP("２０",発注者入力シート!$L$41:$N$76,3,FALSE)&"*")>=1,"",INDEX(発注者入力シート!$L$40:$O$82,MATCH("２０",発注者入力シート!$L$40:$L$82,0),4))) -> #N/A
A43: =IF(企業入力シート!A25=0,"","※事前審査・証明書による提出（技術資料及び添付資料省略）")
A44: =IF(企業入力シート!$A$25>0," ・"&VLOOKUP(1,企業入力シート!$A$26:$I$36,3,FALSE),"")
A45: =IF(企業入力シート!$A$25>1," ・"&VLOOKUP(2,企業入力シート!$A$26:$I$36,3,FALSE),"")
A46: =IF(企業入力シート!$A$25>2," ・"&VLOOKUP(3,企業入力シート!$A$26:$I$36,3,FALSE),"")
A47: =IF(企業入力シート!$A$25>3," ・"&VLOOKUP(4,企業入力シート!$A$26:$I$36,3,FALSE),"")
A48: =IF(企業入力シート!$A$25>4," ・"&VLOOKUP(5,企業入力シート!$A$26:$I$36,3,FALSE),"")
A49: =IF(企業入力シート!$A$25>5," ・"&VLOOKUP(6,企業入力シート!$A$26:$I$36,3,FALSE),"")
A50: =IF(企業入力シート!$A$25>6," ・"&VLOOKUP(7,企業入力シート!$A$27:$I$36,3,FALSE),"")
A52: ３ 問い合わせ先
B53: 担当者 | D53: =IF(企業入力シート!C9="","",企業入力シート!C9)
B54: 部署 | D54: =IF(企業入力シート!C10="","",企業入力シート!C10)
B55: 電話番号 | D55: =IF(企業入力シート!C11="","",企業入力シート!C11)
B56: FAX番号 | D56: =IF(企業入力シート!C12="","",企業入力シート!C12)
B57: Ｅ－ｍａｉｌ | D57: =IF(企業入力シート!C13="","",企業入力シート!C13)

Sheet 企業成績評定点
A1: =CONCATENATE("（様式-",INDEX(発注者入力シート!$B$20:$G$24,MATCH(発注者入力シート!L6,発注者入力シート!$C$20:$C$24,0),4),"-１）") -> （様式-２-１） | R1: 着色セルの凡例
A2: =CONCATENATE("評価項目",INDEX(発注者入力シート!$B$20:$G$24,MATCH(発注者入力シート!L6,発注者入力シート!$C$20:$C$24,0),5),"-",INDEX(発注者入力シート!$B$20:$G$24,MATCH(発注者入力シート!L6,発注者入力シート!$C$20:$C$24,0),6)) -> 評価項目（１）-① | R2: （企業）
A3: 企業の工事成績評定点 | S3: ：「企業入力シート」、一覧表（別紙）で入力（数式リンク有）
H4: 会社（企業体）名： | K4: =IF(企業入力シート!C7="","",企業入力シート!C7) | S4: ：リストから選択が必要な箇所
S5: ：自動計算
A6: 対象工事 | D6: 完成年度 | G6: 令和５年度から令和７年度（完成及び引き渡しが完了） | R6: （発注者）
D7: 発注機関 | G7: 島根県（総務部、農林水産部、土木部） | S7: ：「発注者入力シート」で入力（数式リンク有）
D8: 工事種別 | G8: =INDEX(発注者入力シート!$AX$3:$BC$31,MATCH(発注者入力シート!$AY$2,発注者入力シート!$AZ$3:$AZ$31,0),4) -> 一般土木工事、維持修繕工事 | S8: ：セルに直接入力が必要な箇所
D9: 建設工事の種類 | G9: =INDEX(発注者入力シート!$AX$3:$BC$31,MATCH(発注者入力シート!$AY$2,発注者入力シート!$AZ$3:$AZ$31,0),5) -> 土木一式工事、とび・土工・ｺﾝｸﾘｰﾄ工事、しゅんせつ工事
A12: 各工事成績評定点 | D12: 令和４年度 | G12: =IF('評定点一覧(R５年度完成工事)'!P9="","",'評定点一覧(R５年度完成工事)'!P9) | H12: =IF('評定点一覧(R５年度完成工事)'!P11="","",'評定点一覧(R５年度完成工事)'!P11) | I12: =IF('評定点一覧(R５年度完成工事)'!P13="","",'評定点一覧(R５年度完成工事)'!P13) | J12: =IF('評定点一覧(R５年度完成工事)'!P15="","",'評定点一覧(R５年度完成工事)'!P15) | K12: =IF('評定点一覧(R５年度完成工事)'!P17="","",'評定点一覧(R５年度完成工事)'!P17) | L12: =IF('評定点一覧(R５年度完成工事)'!P19="","",'評定点一覧(R５年度完成工事)'!P19) | M12: =IF('評定点一覧(R５年度完成工事)'!P21="","",'評定点一覧(R５年度完成工事)'!P21) | N12: =IF('評定点一覧(R５年度完成工事)'!P23="","",'評定点一覧(R５年度完成工事)'!P23) | O12: =IF('評定点一覧(R５年度完成工事)'!P25="","",'評定点一覧(R５年度完成工事)'!P25) | P12: =IF('評定点一覧(R５年度完成工事)'!P27="","",'評定点一覧(R５年度完成工事)'!P27)
G13: =IF('評定点一覧(R５年度完成工事)'!P29="","",'評定点一覧(R５年度完成工事)'!P29) | H13: =IF('評定点一覧(R５年度完成工事)'!P31="","",'評定点一覧(R５年度完成工事)'!P31) | I13: =IF('評定点一覧(R５年度完成工事)'!P33="","",'評定点一覧(R５年度完成工事)'!P33) | J13: =IF('評定点一覧(R５年度完成工事)'!P35="","",'評定点一覧(R５年度完成工事)'!P35) | K13: =IF('評定点一覧(R５年度完成工事)'!P37="","",'評定点一覧(R５年度完成工事)'!P37) | L13: =IF('評定点一覧(R５年度完成工事)'!P39="","",'評定点一覧(R５年度完成工事)'!P39) | M13: =IF('評定点一覧(R５年度完成工事)'!P41="","",'評定点一覧(R５年度完成工事)'!P41) | N13: =IF('評定点一覧(R５年度完成工事)'!P43="","",'評定点一覧(R５年度完成工事)'!P43) | O13: =IF('評定点一覧(R５年度完成工事)'!P45="","",'評定点一覧(R５年度完成工事)'!P45) | P13: =IF('評定点一覧(R５年度完成工事)'!P47="","",'評定点一覧(R５年度完成工事)'!P47)
G14: =IF('評定点一覧(R５年度完成工事)'!P61="","",'評定点一覧(R５年度完成工事)'!P61) | H14: =IF('評定点一覧(R５年度完成工事)'!P63="","",'評定点一覧(R５年度完成工事)'!P63) | I14: =IF('評定点一覧(R５年度完成工事)'!P65="","",'評定点一覧(R５年度完成工事)'!P65) | J14: =IF('評定点一覧(R５年度完成工事)'!P67="","",'評定点一覧(R５年度完成工事)'!P67) | K14: =IF('評定点一覧(R５年度完成工事)'!P69="","",'評定点一覧(R５年度完成工事)'!P69) | L14: =IF('評定点一覧(R５年度完成工事)'!P71="","",'評定点一覧(R５年度完成工事)'!P71) | M14: =IF('評定点一覧(R５年度完成工事)'!P73="","",'評定点一覧(R５年度完成工事)'!P73) | N14: =IF('評定点一覧(R５年度完成工事)'!P75="","",'評定点一覧(R５年度完成工事)'!P75) | O14: =IF('評定点一覧(R５年度完成工事)'!P77="","",'評定点一覧(R５年度完成工事)'!P77) | P14: =IF('評定点一覧(R５年度完成工事)'!P79="","",'評定点一覧(R５年度完成工事)'!P79)
G15: =IF('評定点一覧(R５年度完成工事)'!P81="","",'評定点一覧(R５年度完成工事)'!P81) | H15: =IF('評定点一覧(R５年度完成工事)'!P83="","",'評定点一覧(R５年度完成工事)'!P83) | I15: =IF('評定点一覧(R５年度完成工事)'!P85="","",'評定点一覧(R５年度完成工事)'!P85) | J15: =IF('評定点一覧(R５年度完成工事)'!P87="","",'評定点一覧(R５年度完成工事)'!P87) | K15: =IF('評定点一覧(R５年度完成工事)'!P89="","",'評定点一覧(R５年度完成工事)'!P89) | L15: =IF('評定点一覧(R５年度完成工事)'!P91="","",'評定点一覧(R５年度完成工事)'!P91) | M15: =IF('評定点一覧(R５年度完成工事)'!P93="","",'評定点一覧(R５年度完成工事)'!P93) | N15: =IF('評定点一覧(R５年度完成工事)'!P95="","",'評定点一覧(R５年度完成工事)'!P95) | O15: =IF('評定点一覧(R５年度完成工事)'!P97="","",'評定点一覧(R５年度完成工事)'!P97) | P15: =IF('評定点一覧(R５年度完成工事)'!P99="","",'評定点一覧(R５年度完成工事)'!P99)
G16: =IF('評定点一覧(R５年度完成工事)'!P113="","",'評定点一覧(R５年度完成工事)'!P113) | H16: =IF('評定点一覧(R５年度完成工事)'!P115="","",'評定点一覧(R５年度完成工事)'!P115) | I16: =IF('評定点一覧(R５年度完成工事)'!P117="","",'評定点一覧(R５年度完成工事)'!P117) | J16: =IF('評定点一覧(R５年度完成工事)'!P119="","",'評定点一覧(R５年度完成工事)'!P119) | K16: =IF('評定点一覧(R５年度完成工事)'!P121="","",'評定点一覧(R５年度完成工事)'!P121) | L16: =IF('評定点一覧(R５年度完成工事)'!P123="","",'評定点一覧(R５年度完成工事)'!P123) | M16: =IF('評定点一覧(R５年度完成工事)'!P125="","",'評定点一覧(R５年度完成工事)'!P125) | N16: =IF('評定点一覧(R５年度完成工事)'!P127="","",'評定点一覧(R５年度完成工事)'!P127) | O16: =IF('評定点一覧(R５年度完成工事)'!P129="","",'評定点一覧(R５年度完成工事)'!P129) | P16: =IF('評定点一覧(R５年度完成工事)'!P131="","",'評定点一覧(R５年度完成工事)'!P131)
G17: =IF('評定点一覧(R５年度完成工事)'!P133="","",'評定点一覧(R５年度完成工事)'!P133) | H17: =IF('評定点一覧(R５年度完成工事)'!P135="","",'評定点一覧(R５年度完成工事)'!P135) | I17: =IF('評定点一覧(R５年度完成工事)'!P137="","",'評定点一覧(R５年度完成工事)'!P137) | J17: =IF('評定点一覧(R５年度完成工事)'!P139="","",'評定点一覧(R５年度完成工事)'!P139) | K17: =IF('評定点一覧(R５年度完成工事)'!P141="","",'評定点一覧(R５年度完成工事)'!P141) | L17: =IF('評定点一覧(R５年度完成工事)'!P143="","",'評定点一覧(R５年度完成工事)'!P143) | M17: =IF('評定点一覧(R５年度完成工事)'!P145="","",'評定点一覧(R５年度完成工事)'!P145) | N17: =IF('評定点一覧(R５年度完成工事)'!P147="","",'評定点一覧(R５年度完成工事)'!P147) | O17: =IF('評定点一覧(R５年度完成工事)'!P149="","",'評定点一覧(R５年度完成工事)'!P149) | P17: =IF('評定点一覧(R５年度完成工事)'!P151="","",'評定点一覧(R５年度完成工事)'!P151)
D18: 令和５年度 | G18: =IF('評定点一覧(R６年度完成工事)'!P9="","",'評定点一覧(R６年度完成工事)'!P9) | H18: =IF('評定点一覧(R６年度完成工事)'!P11="","",'評定点一覧(R６年度完成工事)'!P11) | I18: =IF('評定点一覧(R６年度完成工事)'!P13="","",'評定点一覧(R６年度完成工事)'!P13) | J18: =IF('評定点一覧(R６年度完成工事)'!P15="","",'評定点一覧(R６年度完成工事)'!P15) | K18: =IF('評定点一覧(R６年度完成工事)'!P17="","",'評定点一覧(R６年度完成工事)'!P17) | L18: =IF('評定点一覧(R６年度完成工事)'!P19="","",'評定点一覧(R６年度完成工事)'!P19) | M18: =IF('評定点一覧(R６年度完成工事)'!P21="","",'評定点一覧(R６年度完成工事)'!P21) | N18: =IF('評定点一覧(R６年度完成工事)'!P23="","",'評定点一覧(R６年度完成工事)'!P23) | O18: =IF('評定点一覧(R６年度完成工事)'!P25="","",'評定点一覧(R６年度完成工事)'!P25) | P18: =IF('評定点一覧(R６年度完成工事)'!P27="","",'評定点一覧(R６年度完成工事)'!P27)
G19: =IF('評定点一覧(R６年度完成工事)'!P29="","",'評定点一覧(R６年度完成工事)'!P29) | H19: =IF('評定点一覧(R６年度完成工事)'!P31="","",'評定点一覧(R６年度完成工事)'!P31) | I19: =IF('評定点一覧(R６年度完成工事)'!P33="","",'評定点一覧(R６年度完成工事)'!P33) | J19: =IF('評定点一覧(R６年度完成工事)'!P35="","",'評定点一覧(R６年度完成工事)'!P35) | K19: =IF('評定点一覧(R６年度完成工事)'!P37="","",'評定点一覧(R６年度完成工事)'!P37) | L19: =IF('評定点一覧(R６年度完成工事)'!P39="","",'評定点一覧(R６年度完成工事)'!P39) | M19: =IF('評定点一覧(R６年度完成工事)'!P41="","",'評定点一覧(R６年度完成工事)'!P41) | N19: =IF('評定点一覧(R６年度完成工事)'!P43="","",'評定点一覧(R６年度完成工事)'!P43) | O19: =IF('評定点一覧(R６年度完成工事)'!P45="","",'評定点一覧(R６年度完成工事)'!P45) | P19: =IF('評定点一覧(R６年度完成工事)'!P47="","",'評定点一覧(R６年度完成工事)'!P47)
G20: =IF('評定点一覧(R６年度完成工事)'!P61="","",'評定点一覧(R６年度完成工事)'!P61) | H20: =IF('評定点一覧(R６年度完成工事)'!P63="","",'評定点一覧(R６年度完成工事)'!P63) | I20: =IF('評定点一覧(R６年度完成工事)'!P65="","",'評定点一覧(R６年度完成工事)'!P65) | J20: =IF('評定点一覧(R６年度完成工事)'!P67="","",'評定点一覧(R６年度完成工事)'!P67) | K20: =IF('評定点一覧(R６年度完成工事)'!P69="","",'評定点一覧(R６年度完成工事)'!P69) | L20: =IF('評定点一覧(R６年度完成工事)'!P71="","",'評定点一覧(R６年度完成工事)'!P71) | M20: =IF('評定点一覧(R６年度完成工事)'!P73="","",'評定点一覧(R６年度完成工事)'!P73) | N20: =IF('評定点一覧(R６年度完成工事)'!P75="","",'評定点一覧(R６年度完成工事)'!P75) | O20: =IF('評定点一覧(R６年度完成工事)'!P77="","",'評定点一覧(R６年度完成工事)'!P77) | P20: =IF('評定点一覧(R６年度完成工事)'!P79="","",'評定点一覧(R６年度完成工事)'!P79)
G21: =IF('評定点一覧(R６年度完成工事)'!P81="","",'評定点一覧(R６年度完成工事)'!P81) | H21: =IF('評定点一覧(R６年度完成工事)'!P83="","",'評定点一覧(R６年度完成工事)'!P83) | I21: =IF('評定点一覧(R６年度完成工事)'!P85="","",'評定点一覧(R６年度完成工事)'!P85) | J21: =IF('評定点一覧(R６年度完成工事)'!P87="","",'評定点一覧(R６年度完成工事)'!P87) | K21: =IF('評定点一覧(R６年度完成工事)'!P89="","",'評定点一覧(R６年度完成工事)'!P89) | L21: =IF('評定点一覧(R６年度完成工事)'!P91="","",'評定点一覧(R６年度完成工事)'!P91) | M21: =IF('評定点一覧(R６年度完成工事)'!P93="","",'評定点一覧(R６年度完成工事)'!P93) | N21: =IF('評定点一覧(R６年度完成工事)'!P95="","",'評定点一覧(R６年度完成工事)'!P95) | O21: =IF('評定点一覧(R６年度完成工事)'!P97="","",'評定点一覧(R６年度完成工事)'!P97) | P21: =IF('評定点一覧(R６年度完成工事)'!P99="","",'評定点一覧(R６年度完成工事)'!P99)
G22: =IF('評定点一覧(R６年度完成工事)'!P113="","",'評定点一覧(R６年度完成工事)'!P113) | H22: =IF('評定点一覧(R６年度完成工事)'!P115="","",'評定点一覧(R６年度完成工事)'!P115) | I22: =IF('評定点一覧(R６年度完成工事)'!P117="","",'評定点一覧(R６年度完成工事)'!P117) | J22: =IF('評定点一覧(R６年度完成工事)'!P119="","",'評定点一覧(R６年度完成工事)'!P119) | K22: =IF('評定点一覧(R６年度完成工事)'!P121="","",'評定点一覧(R６年度完成工事)'!P121) | L22: =IF('評定点一覧(R６年度完成工事)'!P123="","",'評定点一覧(R６年度完成工事)'!P123) | M22: =IF('評定点一覧(R６年度完成工事)'!P125="","",'評定点一覧(R６年度完成工事)'!P125) | N22: =IF('評定点一覧(R６年度完成工事)'!P127="","",'評定点一覧(R６年度完成工事)'!P127) | O22: =IF('評定点一覧(R６年度完成工事)'!P129="","",'評定点一覧(R６年度完成工事)'!P129) | P22: =IF('評定点一覧(R６年度完成工事)'!P131="","",'評定点一覧(R６年度完成工事)'!P131)
G23: =IF('評定点一覧(R６年度完成工事)'!P133="","",'評定点一覧(R６年度完成工事)'!P133) | H23: =IF('評定点一覧(R６年度完成工事)'!P135="","",'評定点一覧(R６年度完成工事)'!P135) | I23: =IF('評定点一覧(R６年度完成工事)'!P137="","",'評定点一覧(R６年度完成工事)'!P137) | J23: =IF('評定点一覧(R６年度完成工事)'!P139="","",'評定点一覧(R６年度完成工事)'!P139) | K23: =IF('評定点一覧(R６年度完成工事)'!P141="","",'評定点一覧(R６年度完成工事)'!P141) | L23: =IF('評定点一覧(R６年度完成工事)'!P143="","",'評定点一覧(R６年度完成工事)'!P143) | M23: =IF('評定点一覧(R６年度完成工事)'!P145="","",'評定点一覧(R６年度完成工事)'!P145) | N23: =IF('評定点一覧(R６年度完成工事)'!P147="","",'評定点一覧(R６年度完成工事)'!P147) | O23: =IF('評定点一覧(R６年度完成工事)'!P149="","",'評定点一覧(R６年度完成工事)'!P149) | P23: =IF('評定点一覧(R６年度完成工事)'!P151="","",'評定点一覧(R６年度完成工事)'!P151)
D24: 令和６年度 | G24: =IF('評定点一覧(R７年度完成工事)'!P9="","",'評定点一覧(R７年度完成工事)'!P9) | H24: =IF('評定点一覧(R７年度完成工事)'!P11="","",'評定点一覧(R７年度完成工事)'!P11) | I24: =IF('評定点一覧(R７年度完成工事)'!P13="","",'評定点一覧(R７年度完成工事)'!P13) | J24: =IF('評定点一覧(R７年度完成工事)'!P15="","",'評定点一覧(R７年度完成工事)'!P15) | K24: =IF('評定点一覧(R７年度完成工事)'!P17="","",'評定点一覧(R７年度完成工事)'!P17) | L24: =IF('評定点一覧(R７年度完成工事)'!P19="","",'評定点一覧(R７年度完成工事)'!P19) | M24: =IF('評定点一覧(R７年度完成工事)'!P21="","",'評定点一覧(R７年度完成工事)'!P21) | N24: =IF('評定点一覧(R７年度完成工事)'!P23="","",'評定点一覧(R７年度完成工事)'!P23) | O24: =IF('評定点一覧(R７年度完成工事)'!P25="","",'評定点一覧(R７年度完成工事)'!P25) | P24: =IF('評定点一覧(R７年度完成工事)'!P27="","",'評定点一覧(R７年度完成工事)'!P27)
G25: =IF('評定点一覧(R７年度完成工事)'!P29="","",'評定点一覧(R７年度完成工事)'!P29) | H25: =IF('評定点一覧(R７年度完成工事)'!P31="","",'評定点一覧(R７年度完成工事)'!P31) | I25: =IF('評定点一覧(R７年度完成工事)'!P33="","",'評定点一覧(R７年度完成工事)'!P33) | J25: =IF('評定点一覧(R７年度完成工事)'!P35="","",'評定点一覧(R７年度完成工事)'!P35) | K25: =IF('評定点一覧(R７年度完成工事)'!P37="","",'評定点一覧(R７年度完成工事)'!P37) | L25: =IF('評定点一覧(R７年度完成工事)'!P39="","",'評定点一覧(R７年度完成工事)'!P39) | M25: =IF('評定点一覧(R７年度完成工事)'!P41="","",'評定点一覧(R７年度完成工事)'!P41) | N25: =IF('評定点一覧(R７年度完成工事)'!P43="","",'評定点一覧(R７年度完成工事)'!P43) | O25: =IF('評定点一覧(R７年度完成工事)'!P45="","",'評定点一覧(R７年度完成工事)'!P45) | P25: =IF('評定点一覧(R７年度完成工事)'!P47="","",'評定点一覧(R７年度完成工事)'!P47)
G26: =IF('評定点一覧(R７年度完成工事)'!P61="","",'評定点一覧(R７年度完成工事)'!P61) | H26: =IF('評定点一覧(R７年度完成工事)'!P63="","",'評定点一覧(R７年度完成工事)'!P63) | I26: =IF('評定点一覧(R７年度完成工事)'!P65="","",'評定点一覧(R７年度完成工事)'!P65) | J26: =IF('評定点一覧(R７年度完成工事)'!P67="","",'評定点一覧(R７年度完成工事)'!P67) | K26: =IF('評定点一覧(R７年度完成工事)'!P69="","",'評定点一覧(R７年度完成工事)'!P69) | L26: =IF('評定点一覧(R７年度完成工事)'!P71="","",'評定点一覧(R７年度完成工事)'!P71) | M26: =IF('評定点一覧(R７年度完成工事)'!P73="","",'評定点一覧(R７年度完成工事)'!P73) | N26: =IF('評定点一覧(R７年度完成工事)'!P75="","",'評定点一覧(R７年度完成工事)'!P75) | O26: =IF('評定点一覧(R７年度完成工事)'!P77="","",'評定点一覧(R７年度完成工事)'!P77) | P26: =IF('評定点一覧(R７年度完成工事)'!P79="","",'評定点一覧(R７年度完成工事)'!P79)
G27: =IF('評定点一覧(R７年度完成工事)'!P81="","",'評定点一覧(R７年度完成工事)'!P81) | H27: =IF('評定点一覧(R７年度完成工事)'!P83="","",'評定点一覧(R７年度完成工事)'!P83) | I27: =IF('評定点一覧(R７年度完成工事)'!P85="","",'評定点一覧(R７年度完成工事)'!P85) | J27: =IF('評定点一覧(R７年度完成工事)'!P87="","",'評定点一覧(R７年度完成工事)'!P87) | K27: =IF('評定点一覧(R７年度完成工事)'!P89="","",'評定点一覧(R７年度完成工事)'!P89) | L27: =IF('評定点一覧(R７年度完成工事)'!P91="","",'評定点一覧(R７年度完成工事)'!P91) | M27: =IF('評定点一覧(R７年度完成工事)'!P93="","",'評定点一覧(R７年度完成工事)'!P93) | N27: =IF('評定点一覧(R７年度完成工事)'!P95="","",'評定点一覧(R７年度完成工事)'!P95) | O27: =IF('評定点一覧(R７年度完成工事)'!P97="","",'評定点一覧(R７年度完成工事)'!P97) | P27: =IF('評定点一覧(R７年度完成工事)'!P99="","",'評定点一覧(R７年度完成工事)'!P99)
G28: =IF('評定点一覧(R７年度完成工事)'!P113="","",'評定点一覧(R７年度完成工事)'!P113) | H28: =IF('評定点一覧(R７年度完成工事)'!P115="","",'評定点一覧(R７年度完成工事)'!P115) | I28: =IF('評定点一覧(R７年度完成工事)'!P117="","",'評定点一覧(R７年度完成工事)'!P117) | J28: =IF('評定点一覧(R７年度完成工事)'!P119="","",'評定点一覧(R７年度完成工事)'!P119) | K28: =IF('評定点一覧(R７年度完成工事)'!P121="","",'評定点一覧(R７年度完成工事)'!P121) | L28: =IF('評定点一覧(R７年度完成工事)'!P123="","",'評定点一覧(R７年度完成工事)'!P123) | M28: =IF('評定点一覧(R７年度完成工事)'!P125="","",'評定点一覧(R７年度完成工事)'!P125) | N28: =IF('評定点一覧(R７年度完成工事)'!P127="","",'評定点一覧(R７年度完成工事)'!P127) | O28: =IF('評定点一覧(R７年度完成工事)'!P129="","",'評定点一覧(R７年度完成工事)'!P129) | P28: =IF('評定点一覧(R７年度完成工事)'!P131="","",'評定点一覧(R７年度完成工事)'!P131)
G29: =IF('評定点一覧(R７年度完成工事)'!P133="","",'評定点一覧(R７年度完成工事)'!P133) | H29: =IF('評定点一覧(R７年度完成工事)'!P135="","",'評定点一覧(R７年度完成工事)'!P135) | I29: =IF('評定点一覧(R７年度完成工事)'!P137="","",'評定点一覧(R７年度完成工事)'!P137) | J29: =IF('評定点一覧(R７年度完成工事)'!P139="","",'評定点一覧(R７年度完成工事)'!P139) | K29: =IF('評定点一覧(R７年度完成工事)'!P141="","",'評定点一覧(R７年度完成工事)'!P141) | L29: =IF('評定点一覧(R７年度完成工事)'!P143="","",'評定点一覧(R７年度完成工事)'!P143) | M29: =IF('評定点一覧(R７年度完成工事)'!P145="","",'評定点一覧(R７年度完成工事)'!P145) | N29: =IF('評定点一覧(R７年度完成工事)'!P147="","",'評定点一覧(R７年度完成工事)'!P147) | O29: =IF('評定点一覧(R７年度完成工事)'!P149="","",'評定点一覧(R７年度完成工事)'!P149) | P29: =IF('評定点一覧(R７年度完成工事)'!P151="","",'評定点一覧(R７年度完成工事)'!P151)
A30: 工事成績評定点の平均 | G30: =IF((COUNTA(G12:P29)-COUNTBLANK(G12:P29))=0,"",COUNTA(G12:P29)-COUNTBLANK(G12:P29)) | I30: 件 | J30: =IF(OR(G30="",G30=0),"",ROUND(AVERAGE(G12:P29),1)) | M30: 点
A31: （小数第２位を四捨五入）
A32: (1) | B32: 対象工事の工事成績評定点一覧表（別紙）を添付すること。 | R32: 【印刷について】
A33: (2) | B33: 工事種別については、各工事の契約時における「島根県土木工事仕様書」等において確認すること。 | R33: このシートは「ページ設定」で「白黒印刷」と「印刷範囲」が設定されています。
R34: 様式内の吹出しコメントは印刷されません。
A35: (3) | B35: 単年度の対象工事件数が６０件を超える場合、「工事成績評定点の平均」欄の「件数」及び「平均点」は、自動計算されないため、直接記入すること。
A37: (4) | B37: 上記事項の外、入札説明書本文にある要件を必ず確認すること。
A43: 技術資料提出工事名： | E43: =IF(発注者入力シート!C10="","",発注者入力シート!C10) -> （一）跡市波子停車場線（跡市２工区）総合交付金（改築）工事 第６期
A45: 提出事務所名： | E45: =IF(発注者入力シート!C6="","",発注者入力シート!C6) -> 浜田県土整備事務所
A47: 有効範囲： | E47: =発注者入力シート!$C$11 -> 令和９年７月３１日までに入札公告された工事
A49: =CONCATENATE(" 今後、",発注者入力シート!C6,"が発注する工事においては、本書の写し（※）をもって「企業の工事成績評定点」の貴社技術資料とみなし、その他添付資料の提出は不要とする。 ※本書の写しとは、収受印欄に収受の押印がある資料をいう。") -> 今後、浜田県土整備事務所が発注する工事においては、本書の写し（※）をもって「企業の工事成績評定点」の貴社技術資料とみなし、その他添付資料の提出は不要とする。 ※本書の写しとは、収受印欄に収受の押印がある資料をいう。
M51: （収受印）
B52: 技術資料の提出方法
B53: =IF(COUNTIF(企業入力シート!B26:B29,"○")>0,発注者入力シート!AJ10,IF(INDEX(発注者入力シート!$B$20:$J$24,MATCH(発注者入力シート!L6,発注者入力シート!$C$20:$C$24,0),7)="未記入",発注者入力シート!$AJ$8,IF(INDEX(発注者入力シート!$B$20:$J$24,MATCH(発注者入力シート!L6,発注者入力シート!$C$20:$C$24,0),7)="無",発注者入力シート!$AJ$9,IF(INDEX(発注者入力シート!$B$20:$J$24,MATCH(発注者入力シート!L6,発注者入力シート!$C$20:$C$24,0),7)="有",発注者入力シート!$AJ$10)))) -> 「企業入力シート」の「押印済資料での提出」欄が未記入ですので、リストから「有」、「無」どちらかを選択してください
A60: 【注】
B61: ・押印済資料で提出する場合、押印済資料で評価する。
B62: ・対象工事が異なる押印済資料を提出した場合、当該評価項目の加算点はゼロとする。
B63: =CONCATENATE("・収受印欄に収受印と併せて全県適用 の押印があれば、上記に",発注者入力シート!$C$6,"が発注する工事と記載があっても、本書の写しをもって島根県総務部、防災部、農林水産部及び土木部の事業課、関係地方機関が発注する工事において、その他添付資料の提出は不要とする。") -> ・収受印欄に収受印と併せて全県適用 の押印があれば、上記に浜田県土整備事務所が発注する工事と記載があっても、本書の写しをもって島根県総務部、防災部、農林水産部及び土木部の事業課、関係地方機関が発注する工事において、その他添付資料の提出は不要とする。

Sheet 評定点一覧(R５年度完成工事)
A1: =CONCATENATE("（様式-",INDEX(発注者入力シート!$B$20:$G$24,MATCH(発注者入力シート!L6,発注者入力シート!$C$20:$C$24,0),4),"-２）") -> （様式-２-２） | Q1: 【令和５年度完成工事分】 | S1: 着色セルの凡例
A2: =CONCATENATE("評価項目",INDEX(発注者入力シート!$B$20:$G$24,MATCH(発注者入力シート!L6,発注者入力シート!$C$20:$C$24,0),5),"-",INDEX(発注者入力シート!$B$20:$G$24,MATCH(発注者入力シート!L6,発注者入力シート!$C$20:$C$24,0),6)) -> 評価項目（１）-① | S2: （企業）
A3: 工事成績評定点一覧表(別紙１枚目) | T3: ：「企業入力シート」、一覧表（別紙）で入力（数式リンク有）
H4: 会社（企業体）名： | K4: =IF(企業入力シート!C7="","",企業入力シート!C7) | T4: ：セルに直接入力が必要な箇所
S6: （発注者）
A7: 申請 | B7: 完成 | C7: 発注機関名 | E7: 工事種別 | H7: 工事名 | P7: 工事成績 | T7: ：「発注者入力シート」で入力（数式リンク有）
A8: 番号 | B8: 年度 | E8: 建設工事の種類 | P8: 評定点 | T8: ：セルに直接入力が必要な箇所
A9: 1 | B9: R５ | Q9: 点
S10: 【印刷について】
A11: 2 | B11: =B9 -> R５ | Q11: 点 | S11: このシートは「ページ設定」で「白黒印刷」と「印刷範囲」が設定されています。
S12: 様式内の吹出しコメントは印刷されません。
A13: 3 | B13: =B11 -> R５ | Q13: 点
A15: 4 | B15: =B13 -> R５ | Q15: 点
A17: 5 | B17: =B15 -> R５ | Q17: 点
A19: 6 | B19: =B17 -> R５ | Q19: 点
A21: 7 | B21: =B19 -> R５ | Q21: 点
A23: 8 | B23: =B21 -> R５ | Q23: 点
A25: 9 | B25: =B23 -> R５ | Q25: 点
A27: 10 | B27: =B25 -> R５ | Q27: 点
A29: 11 | B29: =B27 -> R５ | Q29: 点
A31: 12 | B31: =B29 -> R５ | Q31: 点
A33: 13 | B33: =B31 -> R５ | Q33: 点
A35: 14 | B35: =B33 -> R５ | Q35: 点
... A47: 20 | B47: =B45 -> R５ | Q47: 点
A49: (1) | B49: 対象工事が６０件を超える場合は、本様式を複写し申請番号を修正のうえ、提出すること。
A50: (2) | B50: 工事種別、建設工事の種類は、各工事の契約時における「島根県土木工事仕様書」等において確認すること。
A53: =CONCATENATE("（様式-",INDEX(発注者入力シート!$B$20:$G$24,MATCH(発注者入力シート!L6,発注者入力シート!$C$20:$C$24,0),4),"-２）") -> （様式-２-２） | Q53: =Q1 -> 【令和５年度完成工事分】 | S53: 着色セルの凡例
A54: =CONCATENATE("評価項目",INDEX(発注者入力シート!$B$20:$G$24,MATCH(発注者入力シート!L6,発注者入力シート!$C$20:$C$24,0),5),"-",INDEX(発注者入力シート!$B$20:$G$24,MATCH(発注者入力シート!L6,発注者入力シート!$C$20:$C$24,0),6)) -> 評価項目（１）-① | S54: （企業）
A55: 工事成績評定点一覧表(別紙２枚目) | T55: ：「企業入力シート」、一覧表（別紙）で入力（数式リンク有）
H56: 会社（企業体）名： | K56: =IF(企業入力シート!C7="","",企業入力シート!C7) | T56: ：セルに直接入力が必要な箇所
S58: （発注者）
A59: 申請 | B59: 完成 | C59: 発注機関名 | E59: 工事種別 | H59: 工事名 | P59: 工事成績 | T59: ：「発注者入力シート」で入力（数式リンク有）
A60: 番号 | B60: 年度 | E60: 建設工事の種類 | P60: 評定点 | T60: ：セルに直接入力が必要な箇所
A61: 21 | B61: =B47 -> R５ | Q61: 点
S62: 【印刷について】
A63: 22 | B63: =B61 -> R５ | Q63: 点 | S63: このシートは「ページ設定」で「白黒印刷」と「印刷範囲」が設定されています。
A65: 23 | B65: =B63 -> R５ | Q65: 点
A67: 24 | B67: =B65 -> R５ | Q67: 点
A69: 25 | B69: =B67 -> R５ | Q69: 点
A71: 26 | B71: =B69 -> R５ | Q71: 点
A73: 27 | B73: =B71 -> R５ | Q73: 点
A75: 28 | B75: =B73 -> R５ | Q75: 点
A77: 29 | B77: =B75 -> R５ | Q77: 点
A79: 30 | B79: =B77 -> R５ | Q79: 点
A81: 31 | B81: =B79 -> R５ | Q81: 点
A83: 32 | B83: =B81 -> R５ | Q83: 点
A85: 33 | B85: =B83 -> R５ | Q85: 点
A87: 34 | B87: =B85 -> R５ | Q87: 点
... A99: 40 | B99: =B97 -> R５ | Q99: 点
A101: (1) | B101: 対象工事が６０件を超える場合は、本様式を複写し申請番号を修正のうえ、提出すること。
A102: (2) | B102: 工事種別、建設工事の種類は、各工事の契約時における「島根県土木工事仕様書」等において確認すること。
A105: =CONCATENATE("（様式-",INDEX(発注者入力シート!$B$20:$G$24,MATCH(発注者入力シート!L6,発注者入力シート!$C$20:$C$24,0),4),"-２）") -> （様式-２-２） | Q105: =Q1 -> 【令和５年度完成工事分】 | S105: 着色セルの凡例
A106: =CONCATENATE("評価項目",INDEX(発注者入力シート!$B$20:$G$24,MATCH(発注者入力シート!L6,発注者入力シート!$C$20:$C$24,0),5),"-",INDEX(発注者入力シート!$B$20:$G$24,MATCH(発注者入力シート!L6,発注者入力シート!$C$20:$C$24,0),6)) -> 評価項目（１）-① | S106: （企業）
A107: 工事成績評定点一覧表(別紙３枚目) | T107: ：「企業入力シート」、一覧表（別紙）で入力（数式リンク有）
H108: 会社（企業体）名： | K108: =IF(企業入力シート!C7="","",企業入力シート!C7) | T108: ：セルに直接入力が必要な箇所
S110: （発注者）
A111: 申請 | B111: 完成 | C111: 発注機関名 | E111: 工事種別 | H111: 工事名 | P111: 工事成績 | T111: ：「発注者入力シート」で入力（数式リンク有）
A112: 番号 | B112: 年度 | E112: 建設工事の種類 | P112: 評定点 | T112: ：セルに直接入力が必要な箇所
A113: 41 | B113: =B99 -> R５ | Q113: 点
S114: 【印刷について】
A115: 42 | B115: =B113 -> R５ | Q115: 点 | S115: このシートは「ページ設定」で「白黒印刷」と「印刷範囲」が設定されています。
A117: 43 | B117: =B115 -> R５ | Q117: 点
A119: 44 | B119: =B117 -> R５ | Q119: 点
A121: 45 | B121: =B119 -> R５ | Q121: 点
A123: 46 | B123: =B121 -> R５ | Q123: 点
A125: 47 | B125: =B123 -> R５ | Q125: 点
A127: 48 | B127: =B125 -> R５ | Q127: 点
A129: 49 | B129: =B127 -> R５ | Q129: 点
A131: 50 | B131: =B129 -> R５ | Q131: 点
A133: 51 | B133: =B131 -> R５ | Q133: 点
A135: 52 | B135: =B133 -> R５ | Q135: 点
A137: 53 | B137: =B135 -> R５ | Q137: 点
A139: 54 | B139: =B137 -> R５ | Q139: 点
... A151: 60 | B151: =B149 -> R５ | Q151: 点
A153: (1) | B153: 対象工事が６０件を超える場合は、本様式を複写し申請番号を修正のうえ、提出すること。
A154: (2) | B154: 工事種別、建設工事の種類は、各工事の契約時における「島根県土木工事仕様書」等において確認すること。

Sheet 評定点一覧(R６年度完成工事)
A1: =CONCATENATE("（様式-",INDEX(発注者入力シート!$B$20:$G$24,MATCH(発注者入力シート!L6,発注者入力シート!$C$20:$C$24,0),4),"-２）") -> （様式-２-２） | Q1: 【令和６年度完成工事分】 | S1: 着色セルの凡例
A2: =CONCATENATE("評価項目",INDEX(発注者入力シート!$B$20:$G$24,MATCH(発注者入力シート!L6,発注者入力シート!$C$20:$C$24,0),5),"-",INDEX(発注者入力シート!$B$20:$G$24,MATCH(発注者入力シート!L6,発注者入力シート!$C$20:$C$24,0),6)) -> 評価項目（１）-① | S2: （企業）
A3: 工事成績評定点一覧表(別紙１枚目) | T3: ：「企業入力シート」、一覧表（別紙）で入力（数式リンク有）
H4: 会社（企業体）名： | K4: =IF(企業入力シート!C7="","",企業入力シート!C7) | T4: ：セルに直接入力が必要な箇所
S6: （発注者）
A7: 申請 | B7: 完成 | C7: 発注機関名 | E7: 工事種別 | H7: 工事名 | P7: 工事成績 | T7: ：「発注者入力シート」で入力（数式リンク有）
A8: 番号 | B8: 年度 | E8: 建設工事の種類 | P8: 評定点 | T8: ：セルに直接入力が必要な箇所
A9: 1 | B9: R６ | Q9: 点
S10: 【印刷について】
A11: 2 | B11: =B9 -> R６ | Q11: 点 | S11: このシートは「ページ設定」で「白黒印刷」と「印刷範囲」が設定されています。
S12: 様式内の吹出しコメントは印刷されません。
A13: 3 | B13: =B11 -> R６ | Q13: 点
A15: 4 | B15: =B13 -> R６ | Q15: 点
A17: 5 | B17: =B15 -> R６ | Q17: 点
A19: 6 | B19: =B17 -> R６ | Q19: 点
A21: 7 | B21: =B19 -> R６ | Q21: 点
A23: 8 | B23: =B21 -> R６ | Q23: 点
A25: 9 | B25: =B23 -> R６ | Q25: 点
A27: 10 | B27: =B25 -> R６ | Q27: 点
A29: 11 | B29: =B27 -> R６ | Q29: 点
A31: 12 | B31: =B29 -> R６ | Q31: 点
A33: 13 | B33: =B31 -> R６ | Q33: 点
A35: 14 | B35: =B33 -> R６ | Q35: 点
... A47: 20 | B47: =B45 -> R６ | Q47: 点
A49: (1) | B49: 対象工事が６０件を超える場合は、本様式を複写し申請番号を修正のうえ、提出すること。
A50: (2) | B50: 工事種別、建設工事の種類は、各工事の契約時における「島根県土木工事仕様書」等において確認すること。
A53: =CONCATENATE("（様式-",INDEX(発注者入力シート!$B$20:$G$24,MATCH(発注者入力シート!L6,発注者入力シート!$C$20:$C$24,0),4),"-２）") -> （様式-２-２） | Q53: =Q1 -> 【令和６年度完成工事分】 | S53: 着色セルの凡例
A54: =CONCATENATE("評価項目",INDEX(発注者入力シート!$B$20:$G$24,MATCH(発注者入力シート!L6,発注者入力シート!$C$20:$C$24,0),5),"-",INDEX(発注者入力シート!$B$20:$G$24,MATCH(発注者入力シート!L6,発注者入力シート!$C$20:$C$24,0),6)) -> 評価項目（１）-① | S54: （企業）
A55: 工事成績評定点一覧表(別紙２枚目) | T55: ：「企業入力シート」、一覧表（別紙）で入力（数式リンク有）
H56: 会社（企業体）名： | K56: =IF(企業入力シート!C7="","",企業入力シート!C7) | T56: ：セルに直接入力が必要な箇所
S58: （発注者）
A59: 申請 | B59: 完成 | C59: 発注機関名 | E59: 工事種別 | H59: 工事名 | P59: 工事成績 | T59: ：「発注者入力シート」で入力（数式リンク有）
A60: 番号 | B60: 年度 | E60: 建設工事の種類 | P60: 評定点 | T60: ：セルに直接入力が必要な箇所
A61: 21 | B61: =B47 -> R６ | Q61: 点
S62: 【印刷について】
A63: 22 | B63: =B61 -> R６ | Q63: 点 | S63: このシートは「ページ設定」で「白黒印刷」と「印刷範囲」が設定されています。
A65: 23 | B65: =B63 -> R６ | Q65: 点
A67: 24 | B67: =B65 -> R６ | Q67: 点
A69: 25 | B69: =B67 -> R６ | Q69: 点
A71: 26 | B71: =B69 -> R６ | Q71: 点
A73: 27 | B73: =B71 -> R６ | Q73: 点
A75: 28 | B75: =B73 -> R６ | Q75: 点
A77: 29 | B77: =B75 -> R６ | Q77: 点
A79: 30 | B79: =B77 -> R６ | Q79: 点
A81: 31 | B81: =B79 -> R６ | Q81: 点
A83: 32 | B83: =B81 -> R６ | Q83: 点
A85: 33 | B85: =B83 -> R６ | Q85: 点
A87: 34 | B87: =B85 -> R６ | Q87: 点
... A99: 40 | B99: =B97 -> R６ | Q99: 点
A101: (1) | B101: 対象工事が６０件を超える場合は、本様式を複写し申請番号を修正のうえ、提出すること。
A102: (2) | B102: 工事種別、建設工事の種類は、各工事の契約時における「島根県土木工事仕様書」等において確認すること。
A105: =CONCATENATE("（様式-",INDEX(発注者入力シート!$B$20:$G$24,MATCH(発注者入力シート!L6,発注者入力シート!$C$20:$C$24,0),4),"-２）") -> （様式-２-２） | Q105: =Q1 -> 【令和６年度完成工事分】 | S105: 着色セルの凡例
A106: =CONCATENATE("評価項目",INDEX(発注者入力シート!$B$20:$G$24,MATCH(発注者入力シート!L6,発注者入力シート!$C$20:$C$24,0),5),"-",INDEX(発注者入力シート!$B$20:$G$24,MATCH(発注者入力シート!L6,発注者入力シート!$C$20:$C$24,0),6)) -> 評価項目（１）-① | S106: （企業）
A107: 工事成績評定点一覧表(別紙３枚目) | T107: ：「企業入力シート」、一覧表（別紙）で入力（数式リンク有）
H108: 会社（企業体）名： | K108: =IF(企業入力シート!C7="","",企業入力シート!C7) | T108: ：セルに直接入力が必要な箇所
S110: （発注者）
A111: 申請 | B111: 完成 | C111: 発注機関名 | E111: 工事種別 | H111: 工事名 | P111: 工事成績 | T111: ：「発注者入力シート」で入力（数式リンク有）
A112: 番号 | B112: 年度 | E112: 建設工事の種類 | P112: 評定点 | T112: ：セルに直接入力が必要な箇所
A113: 41 | B113: =B99 -> R６ | Q113: 点
S114: 【印刷について】
A115: 42 | B115: =B113 -> R６ | Q115: 点 | S115: このシートは「ページ設定」で「白黒印刷」と「印刷範囲」が設定されています。
A117: 43 | B117: =B115 -> R６ | Q117: 点
A119: 44 | B119: =B117 -> R６ | Q119: 点
A121: 45 | B121: =B119 -> R６ | Q121: 点
A123: 46 | B123: =B121 -> R６ | Q123: 点
A125: 47 | B125: =B123 -> R６ | Q125: 点
A127: 48 | B127: =B125 -> R６ | Q127: 点
A129: 49 | B129: =B127 -> R６ | Q129: 点
A131: 50 | B131: =B129 -> R６ | Q131: 点
A133: 51 | B133: =B131 -> R６ | Q133: 点
A135: 52 | B135: =B133 -> R６ | Q135: 点
A137: 53 | B137: =B135 -> R６ | Q137: 点
A139: 54 | B139: =B137 -> R６ | Q139: 点
... A151: 60 | B151: =B149 -> R６ | Q151: 点
A153: (1) | B153: 対象工事が６０件を超える場合は、本様式を複写し申請番号を修正のうえ、提出すること。
A154: (2) | B154: 工事種別、建設工事の種類は、各工事の契約時における「島根県土木工事仕様書」等において確認すること。

Sheet 評定点一覧(R７年度完成工事)
A1: =CONCATENATE("（様式-",INDEX(発注者入力シート!$B$20:$G$24,MATCH(発注者入力シート!L6,発注者入力シート!$C$20:$C$24,0),4),"-２）") -> （様式-２-２） | Q1: 【令和７年度完成工事分】 | S1: 着色セルの凡例
A2: =CONCATENATE("評価項目",INDEX(発注者入力シート!$B$20:$G$24,MATCH(発注者入力シート!L6,発注者入力シート!$C$20:$C$24,0),5),"-",INDEX(発注者入力シート!$B$20:$G$24,MATCH(発注者入力シート!L6,発注者入力シート!$C$20:$C$24,0),6)) -> 評価項目（１）-① | S2: （企業）
A3: 工事成績評定点一覧表(別紙１枚目) | T3: ：「企業入力シート」、一覧表（別紙）で入力（数式リンク有）
H4: 会社（企業体）名： | K4: =IF(企業入力シート!C7="","",企業入力シート!C7) | T4: ：セルに直接入力が必要な箇所
S6: （発注者）
A7: 申請 | B7: 完成 | C7: 発注機関名 | E7: 工事種別 | H7: 工事名 | P7: 工事成績 | T7: ：「発注者入力シート」で入力（数式リンク有）
A8: 番号 | B8: 年度 | E8: 建設工事の種類 | P8: 評定点 | T8: ：セルに直接入力が必要な箇所
A9: 1 | B9: R７ | Q9: 点
S10: 【印刷について】
A11: 2 | B11: =B9 -> R７ | Q11: 点 | S11: このシートは「ページ設定」で「白黒印刷」と「印刷範囲」が設定されています。
S12: 様式内の吹出しコメントは印刷されません。
A13: 3 | B13: =B11 -> R７ | Q13: 点
A15: 4 | B15: =B13 -> R７ | Q15: 点
A17: 5 | B17: =B15 -> R７ | Q17: 点
A19: 6 | B19: =B17 -> R７ | Q19: 点
A21: 7 | B21: =B19 -> R７ | Q21: 点
A23: 8 | B23: =B21 -> R７ | Q23: 点
A25: 9 | B25: =B23 -> R７ | Q25: 点
A27: 10 | B27: =B25 -> R７ | Q27: 点
A29: 11 | B29: =B27 -> R７ | Q29: 点
A31: 12 | B31: =B29 -> R７ | Q31: 点
A33: 13 | B33: =B31 -> R７ | Q33: 点
A35: 14 | B35: =B33 -> R７ | Q35: 点
... A47: 20 | B47: =B45 -> R７ | Q47: 点
A49: (1) | B49: 対象工事が６０件を超える場合は、本様式を複写し申請番号を修正のうえ、提出すること。
A50: (2) | B50: 工事種別、建設工事の種類は、各工事の契約時における「島根県土木工事仕様書」等において確認すること。
A53: =CONCATENATE("（様式-",INDEX(発注者入力シート!$B$20:$G$24,MATCH(発注者入力シート!L6,発注者入力シート!$C$20:$C$24,0),4),"-２）") -> （様式-２-２） | Q53: =Q1 -> 【令和７年度完成工事分】 | S53: 着色セルの凡例
A54: =CONCATENATE("評価項目",INDEX(発注者入力シート!$B$20:$G$24,MATCH(発注者入力シート!L6,発注者入力シート!$C$20:$C$24,0),5),"-",INDEX(発注者入力シート!$B$20:$G$24,MATCH(発注者入力シート!L6,発注者入力シート!$C$20:$C$24,0),6)) -> 評価項目（１）-① | S54: （企業）
A55: 工事成績評定点一覧表(別紙２枚目) | T55: ：「企業入力シート」、一覧表（別紙）で入力（数式リンク有）
H56: 会社（企業体）名： | K56: =IF(企業入力シート!C7="","",企業入力シート!C7) | T56: ：セルに直接入力が必要な箇所
S58: （発注者）
A59: 申請 | B59: 完成 | C59: 発注機関名 | E59: 工事種別 | H59: 工事名 | P59: 工事成績 | T59: ：「発注者入力シート」で入力（数式リンク有）
A60: 番号 | B60: 年度 | E60: 建設工事の種類 | P60: 評定点 | T60: ：セルに直接入力が必要な箇所
A61: 21 | B61: =B47 -> R７ | Q61: 点
S62: 【印刷について】
A63: 22 | B63: =B61 -> R７ | Q63: 点 | S63: このシートは「ページ設定」で「白黒印刷」と「印刷範囲」が設定されています。
A65: 23 | B65: =B63 -> R７ | Q65: 点
A67: 24 | B67: =B65 -> R７ | Q67: 点
A69: 25 | B69: =B67 -> R７ | Q69: 点
A71: 26 | B71: =B69 -> R７ | Q71: 点
A73: 27 | B73: =B71 -> R７ | Q73: 点
A75: 28 | B75: =B73 -> R７ | Q75: 点
A77: 29 | B77: =B75 -> R７ | Q77: 点
A79: 30 | B79: =B77 -> R７ | Q79: 点
A81: 31 | B81: =B79 -> R７ | Q81: 点
A83: 32 | B83: =B81 -> R７ | Q83: 点
A85: 33 | B85: =B83 -> R７ | Q85: 点
A87: 34 | B87: =B85 -> R７ | Q87: 点
... A99: 40 | B99: =B97 -> R７ | Q99: 点
A101: (1) | B101: 対象工事が６０件を超える場合は、本様式を複写し申請番号を修正のうえ、提出すること。
A102: (2) | B102: 工事種別、建設工事の種類は、各工事の契約時における「島根県土木工事仕様書」等において確認すること。
A105: =CONCATENATE("（様式-",INDEX(発注者入力シート!$B$20:$G$24,MATCH(発注者入力シート!L6,発注者入力シート!$C$20:$C$24,0),4),"-２）") -> （様式-２-２） | Q105: =Q1 -> 【令和７年度完成工事分】 | S105: 着色セルの凡例
A106: =CONCATENATE("評価項目",INDEX(発注者入力シート!$B$20:$G$24,MATCH(発注者入力シート!L6,発注者入力シート!$C$20:$C$24,0),5),"-",INDEX(発注者入力シート!$B$20:$G$24,MATCH(発注者入力シート!L6,発注者入力シート!$C$20:$C$24,0),6)) -> 評価項目（１）-① | S106: （企業）
A107: 工事成績評定点一覧表(別紙３枚目) | T107: ：「企業入力シート」、一覧表（別紙）で入力（数式リンク有）
H108: 会社（企業体）名： | K108: =IF(企業入力シート!C7="","",企業入力シート!C7) | T108: ：セルに直接入力が必要な箇所
S110: （発注者）
A111: 申請 | B111: 完成 | C111: 発注機関名 | E111: 工事種別 | H111: 工事名 | P111: 工事成績 | T111: ：「発注者入力シート」で入力（数式リンク有）
A112: 番号 | B112: 年度 | E112: 建設工事の種類 | P112: 評定点 | T112: ：セルに直接入力が必要な箇所
A113: 41 | B113: =B99 -> R７ | Q113: 点
S114: 【印刷について】
A115: 42 | B115: =B113 -> R７ | Q115: 点 | S115: このシートは「ページ設定」で「白黒印刷」と「印刷範囲」が設定されています。
A117: 43 | B117: =B115 -> R７ | Q117: 点
A119: 44 | B119: =B117 -> R７ | Q119: 点
A121: 45 | B121: =B119 -> R７ | Q121: 点
A123: 46 | B123: =B121 -> R７ | Q123: 点
A125: 47 | B125: =B123 -> R７ | Q125: 点
A127: 48 | B127: =B125 -> R７ | Q127: 点
A129: 49 | B129: =B127 -> R７ | Q129: 点
A131: 50 | B131: =B129 -> R７ | Q131: 点
A133: 51 | B133: =B131 -> R７ | Q133: 点
A135: 52 | B135: =B133 -> R７ | Q135: 点
A137: 53 | B137: =B135 -> R７ | Q137: 点
A139: 54 | B139: =B137 -> R７ | Q139: 点
... A151: 60 | B151: =B149 -> R７ | Q151: 点
A153: (1) | B153: 対象工事が６０件を超える場合は、本様式を複写し申請番号を修正のうえ、提出すること。
A154: (2) | B154: 工事種別、建設工事の種類は、各工事の契約時における「島根県土木工事仕様書」等において確認すること。

Sheet 技術者資格
A1: =CONCATENATE("（様式-",INDEX(発注者入力シート!$B$25:$G$28,MATCH(発注者入力シート!M6,発注者入力シート!$C$25:$C$28,0),4),"）") -> （様式-３） | Q1: 配置予定技術者①、②、③共通 | S1: 着色セルの凡例
A2: =CONCATENATE("評価項目",INDEX(発注者入力シート!$B$25:$G$28,MATCH(発注者入力シート!M6,発注者入力シート!$C$25:$C$28,0),5),"-",INDEX(発注者入力シート!$B$25:$G$28,MATCH(発注者入力シート!M6,発注者入力シート!$C$25:$C$28,0),6)) -> 評価項目（２）-① | S2: （企業）
T3: ：「企業入力シート」、一覧表（別紙）で入力（数式リンク有）
A4: 配置予定技術者の資格 | T4: ：セルに直接入力もしくはリストから選択が必要な箇所
H6: 会社（企業体）名： | K6: =IF(企業入力シート!C7="","",企業入力シート!C7) | S6: （発注者）
T7: ：「発注者入力シート」で入力（数式リンク有）
A8: 対象：配置予定の主任（監理）技術者が保有する次の資格 | T8: ：セルに直接入力が必要な箇所
B9: １級もしくは２級土木施工管理技士、または1級もしくは２級建設機械施工技士
A10: 配置予定技術者氏名 | F10: 保有する資格名称 | J10: 最新の有効期限 (有効期限のない 資格は記入不要)
S11: 【印刷について】
A12: ① | B12: =IF(企業入力シート!C18="","",企業入力シート!C18) | S12: このシートは「ページ設定」で「白黒印刷」と「印刷範囲」が設定されています。
S13: 様式内の吹出しコメントは印刷されません。
A14: ② | B14: =IF(企業入力シート!C19="","",企業入力シート!C19)
A16: ③ | B16: =IF(企業入力シート!C20="","",企業入力シート!C20)
A18: (1) | B18: 資格・有効期限の確認できる証明書、資格証等の写しを添付すること。
A19: (2) | B19: =CONCATENATE("資格は入札公告日前日時点（令和",(YEAR(発注者入力シート!H7)-2018),"年",MONTH(発注者入力シート!H7),"月",DAY(発注者入力シート!H7),"日時点）で保有する資格とする。") -> 資格は入札公告日前日時点（令和8年10月1日時点）で保有する資格とする。
A20: (3) | B20: 技術資料提出時に配置予定技術者が特定できない場合は、複数の候補者を記入できる。その場合、審査は候補者のうち配置予定技術者の評価点合計が最も低い者で評価する。
A22: (4) | B22: 上記事項の外、入札説明書本文にある要件を必ず確認すること。
A26: 技術資料提出工事名： | E26: =IF(発注者入力シート!C10="","",発注者入力シート!C10) -> （一）跡市波子停車場線（跡市２工区）総合交付金（改築）工事 第６期
A28: 提出事務所名： | E28: =IF(発注者入力シート!C6="","",発注者入力シート!C6) -> 浜田県土整備事務所
A30: 有効範囲： | E30: =発注者入力シート!$C$11 -> 令和９年７月３１日までに入札公告された工事
E31: （ただし、資格の有効期限が令和９年7月31日以前までのものは、その期日までとする）
A33: 対象技術者： | E33: 上記①～③の配置予定技術者のうち、上記資格保有者
A35: =CONCATENATE(" 今後、",発注者入力シート!C6,"が発注する工事においては、本書の写し（※）をもって「配置予定技術者の資格」の 貴社技術資料とみなし、その他添付資料の提出は不要とする。 ※本書の写しとは、収受印欄に収受の押印がある資料をいう。") -> 今後、浜田県土整備事務所が発注する工事においては、本書の写し（※）をもって「配置予定技術者の資格」の 貴社技術資料とみなし、その他添付資料の提出は不要とする。 ※本書の写しとは、収受印欄に収受の押印がある資料をいう。
A37: ただし、資格を新たに取得し、加算点に変更が生じた場合は、技術資料及び必要な添付資料を再提出すること。
N39: （収受印）
A40: ="①"&"配置予定技術者："&B12&" 技術資料の提出方法" -> ①配置予定技術者： 技術資料の提出方法
A41: =IF(B12="",発注者入力シート!$AJ$11,IF(INDEX(発注者入力シート!$B$25:$J$28,MATCH(発注者入力シート!M6,発注者入力シート!$C$25:$C$28,0),7)="未記入",発注者入力シート!$AJ$8,IF(INDEX(発注者入力シート!$B$25:$J$28,MATCH(発注者入力シート!M6,発注者入力シート!$C$25:$C$28,0),7)="無",発注者入力シート!$AJ$9,IF(INDEX(発注者入力シート!$B$25:$J$28,MATCH(発注者入力シート!M6,発注者入力シート!$C$25:$C$28,0),7)="有",発注者入力シート!$AJ$10)))) -> 申請する場合は、「企業入力シート」の「押印済資料での提出」欄で「有」を選択してください
A43: ="②"&"配置予定技術者："&B14&" 技術資料の提出方法" -> ②配置予定技術者： 技術資料の提出方法
A44: =IF(B14="",発注者入力シート!$AJ$11,IF(INDEX(発注者入力シート!$B$25:$J$28,MATCH(発注者入力シート!M6,発注者入力シート!$C$25:$C$28,0),8)="未記入",発注者入力シート!$AJ$8,IF(INDEX(発注者入力シート!$B$25:$J$28,MATCH(発注者入力シート!M6,発注者入力シート!$C$25:$C$28,0),8)="無",発注者入力シート!$AJ$9,IF(INDEX(発注者入力シート!$B$25:$J$28,MATCH(発注者入力シート!M6,発注者入力シート!$C$25:$C$28,0),8)="有",発注者入力シート!$AJ$10)))) -> 申請する場合は、「企業入力シート」の「押印済資料での提出」欄で「有」を選択してください
A46: ="③"&"配置予定技術者："&B16&" 技術資料の提出方法" -> ③配置予定技術者： 技術資料の提出方法
A47: =IF(B16="",発注者入力シート!$AJ$11,IF(INDEX(発注者入力シート!$B$25:$J$28,MATCH(発注者入力シート!M6,発注者入力シート!$C$25:$C$28,0),9)="未記入",発注者入力シート!$AJ$8,IF(INDEX(発注者入力シート!$B$25:$J$28,MATCH(発注者入力シート!M6,発注者入力シート!$C$25:$C$28,0),9)="無",発注者入力シート!$AJ$9,IF(INDEX(発注者入力シート!$B$25:$J$28,MATCH(発注者入力シート!M6,発注者入力シート!$C$25:$C$28,0),9)="有",発注者入力シート!$AJ$10)))) -> 申請する場合は、「企業入力シート」の「押印済資料での提出」欄で「有」を選択してください
A50: 【注】
B51: ・押印済資料で提出する場合、押印済資料で評価する。
B52: ・対象資格が異なる押印済資料を提出した場合、当該評価項目の加算点はゼロとする。
B53: =CONCATENATE("・収受印欄に収受印と併せて全県適用 の押印があれば、上記に",発注者入力シート!$C$6,"が発注する工事と記載があっても、本書の写しをもって島根県総務部、防災部、農林水産部及び土木部の事業課、関係地方機関が発注する工事において、その他添付資料の提出は不要とする。") -> ・収受印欄に収受印と併せて全県適用 の押印があれば、上記に浜田県土整備事務所が発注する工事と記載があっても、本書の写しをもって島根県総務部、防災部、農林水産部及び土木部の事業課、関係地方機関が発注する工事において、その他添付資料の提出は不要とする。

Sheet 防災協定・家畜伝染病防疫協定
A1: =IF(T15=1,CONCATENATE("（様式-",INDEX(発注者入力シート!$B$29:$G$38,MATCH(発注者入力シート!N6,発注者入力シート!$C$29:$C$38,0),4),"）"),CONCATENATE("（様式-",INDEX(発注者入力シート!$B$29:$G$38,MATCH(発注者入力シート!N7,発注者入力シート!$C$29:$C$38,0),4),"）")) -> （様式-４） | S1: 着色セルの凡例
A2: =IF(T15=1,CONCATENATE("評価項目",INDEX(発注者入力シート!$B$29:$G$38,MATCH(発注者入力シート!N6,発注者入力シート!$C$29:$C$38,0),5),"-",INDEX(発注者入力シート!$B$29:$G$38,MATCH(発注者入力シート!N6,発注者入力シート!$C$29:$C$38,0),6)),CONCATENATE("評価項目",INDEX(発注者入力シート!$B$29:$G$38,MATCH(発注者入力シート!N7,発注者入力シート!$C$29:$C$38,0),5),"-",INDEX(発注者入力シート!$B$29:$G$38,MATCH(発注者入力シート!N7,発注者入力シート!$C$29:$C$38,0),6))) -> 評価項目（３）-① | S2: （企業）
T3: ：「企業入力シートで入力（数式リンク有）
A4: =IF(T15=1,"防災",IF(T15=2,"家畜伝染病防疫","防災協定・家畜伝染病防疫"))&"協定の締結実績" -> 防災協定の締結実績 | T4: ：セルに直接入力もしくはリストから選択が必要な箇所
G6: 会社（企業体）名： | K6: =IF(企業入力シート!C7="","",企業入力シート!C7) | S6: （発注者）
T7: ：「発注者入力シート」で入力（数式リンク有）
A8: 対象： | B8: =発注者入力シート!H11&"及び"&発注者入力シート!G11&"における島根県との"&A4 -> 令和６年度及び令和７年度における島根県との防災協定の締結実績 | T8: ：セルに直接入力が必要な箇所
A10: =発注者入力シート!H11&"の協定締結実績の有無" -> 令和６年度の協定締結実績の有無 | S10: 【印刷について】
A11: =発注者入力シート!G11&"の協定締結実績の有無" -> 令和７年度の協定締結実績の有無 | S11: このシートは「ページ設定」で「白黒印刷」と「印刷範囲」が設定されています。
S12: 様式内の吹出しコメントは印刷されません。
A13: (1) | B13: ="対象年度において、島根県との"&A4&"の有無を記載すること。" -> 対象年度において、島根県との防災協定の締結実績の有無を記載すること。
A14: (2) | B14: 協定を締結した団体の構成員はもとより、協定に参加している協力企業等も対象とする。ただし、評価の対象者は、団体が所管する地域内に建設業法に規定する営業所を有する者に限る。また、年度途中で脱退した場合、年度途中から加入した場合はその年度の契約締結実績として認めない。
T15: =IF(COUNTIF(発注者入力シート!C20:C44,発注者入力シート!N6),1,IF(COUNTIF(発注者入力シート!C20:C44,発注者入力シート!N7),2,0)) -> 1
T16: ↑判定式：防災協定なら「１」、家畜伝染病防疫協定なら「２」が表示されます。
A18: (3) | B18: 協力企業等の場合、企業名が明示された協定書等の写しや団体の代表者の証明書など、協定に参加している企業であることがわかる資料を添付すること。

Sheet ボランティア
A1: =CONCATENATE("（様式-",INDEX(発注者入力シート!$B$29:$G$38,MATCH(発注者入力シート!N8,発注者入力シート!$C$29:$C$38,0),4),"）") -> （様式-５） | P1: =IF(INDEX(発注者入力シート!$B$20:$G$40,MATCH(発注者入力シート!N8,発注者入力シート!$C$20:$C$40,0),3)="","",INDEX(発注者入力シート!$B$20:$G$40,MATCH(発注者入力シート!N10,発注者入力シート!$C$20:$C$40,0),3)) -> 【地域設定】 | T1: 着色セルの凡例
A2: =CONCATENATE("評価項目",INDEX(発注者入力シート!$B$29:$G$38,MATCH(発注者入力シート!N8,発注者入力シート!$C$29:$C$38,0),5),"-",INDEX(発注者入力シート!$B$29:$G$38,MATCH(発注者入力シート!N8,発注者入力シート!$C$29:$C$38,0),6)) -> 評価項目（３）-② | T2: （企業）
A3: ボランティア活動又はハートフルしまねへの参加実績 | U3: ：「企業入力シートで入力（数式リンク有）
G4: 会社（企業体）名： | K4: =IF(企業入力シート!C7="","",企業入力シート!C7) | U4: ：セルに直接入力もしくはリストから選択が必要な箇所
A6: 対象： | B6: 令和６年度及び令和７年度のボランティア活動又はハートフルしまねへの参加実績
A8: 評価対象地域 | D8: 江津市（桜江町を除く）内
A10: ○企業としてのボランティア活動への参加実績
A11: 対象年度 | C11: 活動年月日 | F11: 活動内容 | K11: 活動箇所 | O11: 年度間延べ参加人数 | Q11: 従業員数
A12: 令和６年度
A15: 令和７年度 | T15: （発注者）
U16: ：「発注者入力シート」で入力（数式リンク有）
U17: ：セルに直接入力が必要な箇所
A18: (1) | B18: 活動したことを証明する資料と活動箇所が確認できる資料を添付すること。
A19: (2) | B19: 参加人数が１０名未満の場合、従業員数の欄に当該活動時点の常用雇用労働者と短時間労働者の合計人数を記載すること。 | T19: 【印刷について】
A20: (3) | B20: 入札説明書本文にある要件を必ず確認すること。 | T20: このシートは「ページ設定」で「白黒印刷」と「印刷範囲」が設定されています。
A21: (4) | B21: ボランティア活動を複数日で行った場合、参加実績は重複者を含んだ合計人数とする（延べ人数）。従業員数は当該活動時点のものとする。 | T21: 様式内の吹出しコメントは印刷されません。
A24: ○企業としてのハートフルしまねの参加実績
A25: 対象年度 | C25: 活動箇所 | J25: 年度間延べ参加人数 | M25: 従業員数 | T25: 活動期間中に従業員数の変動があった場合は、最大時の人数を記載してください
A26: =+A12 -> 令和６年度
A27: =+A15 -> 令和７年度
A28: 登録団体名
A29: (1) | B29: 活動箇所が確認できる資料を添付すること。
A30: (2) | B30: 参加人数が１０名未満の場合、従業員数の欄に当該活動時点の常用雇用労働者と短時間労働者の合計人数を記載すること。
A31: (3) | B31: 入札説明書本文にある要件を必ず確認すること。
A32: (4) | B32: 従業員数は当該活動時点のものとする。
A35: 技術資料提出工事名： | E35: =IF(発注者入力シート!C10="","",発注者入力シート!C10) -> （一）跡市波子停車場線（跡市２工区）総合交付金（改築）工事 第６期
A37: 提出事務所名： | E37: =IF(発注者入力シート!C6="","",発注者入力シート!C6) -> 浜田県土整備事務所
A39: 有効範囲： | E39: =発注者入力シート!$C$11 -> 令和９年７月３１日までに入札公告された工事
A41: =CONCATENATE(" 今後、",発注者入力シート!C6,"が発注する工事においては、本書の写し（※）をもって「ボランティア活動等への参加実績」の貴社技術資料とみなし、その他添付資料の提出は不要とする。 ※本書の写しとは、収受印欄に収受の押印がある資料をいう。") -> 今後、浜田県土整備事務所が発注する工事においては、本書の写し（※）をもって「ボランティア活動等への参加実績」の貴社技術資料とみなし、その他添付資料の提出は不要とする。 ※本書の写しとは、収受印欄に収受の押印がある資料をいう。
A43: ただし、本提出書類では契約実績が確認できない（評価対象となる施工範囲を満足していないなど）場合、再度、技術資料及び必要な添付資料の提出が必要である。
N45: （収受印）
B46: 技術資料の提出方法
B47: =IF(COUNTIF(企業入力シート!B32,"○")>0,発注者入力シート!AJ10,IF(INDEX(発注者入力シート!$B$29:$J$38,MATCH(発注者入力シート!N10,発注者入力シート!$C$29:$C$38,0),7)="未記入",発注者入力シート!$AJ$8,IF(INDEX(発注者入力シート!$B$29:$J$38,MATCH(発注者入力シート!N10,発注者入力シート!$C$29:$C$38,0),7)="無",発注者入力シート!$AJ$9,IF(INDEX(発注者入力シート!$B$29:$J$38,MATCH(発注者入力シート!N10,発注者入力シート!$C$29:$C$38,0),7)="有",発注者入力シート!$AJ$10)))) -> 「企業入力シート」の「押印済資料での提出」欄が未記入ですので、リストから「有」、「無」どちらかを選択してください
A54: 【注】
B55: ・押印済資料で提出する場合、押印済資料で評価する。
B56: =CONCATENATE("・収受印欄に収受印と併せて全県適用 の押印があれば、上記に",発注者入力シート!$C$6,"が発注する工事と記載があっても、本書の写しをもって島根県総務部、防災部、農林水産部及び土木部の事業課、関係地方機関が発注する工事において、その他添付資料の提出は不要とする。") -> ・収受印欄に収受印と併せて全県適用 の押印があれば、上記に浜田県土整備事務所が発注する工事と記載があっても、本書の写しをもって島根県総務部、防災部、農林水産部及び土木部の事業課、関係地方機関が発注する工事において、その他添付資料の提出は不要とする。

Sheet 維持管理業務
A1: =CONCATENATE("（様式-",INDEX(発注者入力シート!$B$29:$G$38,MATCH(発注者入力シート!N9,発注者入力シート!$C$29:$C$38,0),4),"）") -> （様式-６） | O1: =IF(INDEX(発注者入力シート!$B$20:$G$40,MATCH(発注者入力シート!N9,発注者入力シート!$C$20:$C$40,0),3)="","",INDEX(発注者入力シート!$B$20:$G$40,MATCH(発注者入力シート!N9,発注者入力シート!$C$20:$C$40,0),3)) -> 【地域設定】 | S1: 着色セルの凡例
A2: =CONCATENATE("評価項目",INDEX(発注者入力シート!$B$29:$G$38,MATCH(発注者入力シート!N9,発注者入力シート!$C$29:$C$38,0),5),"-",INDEX(発注者入力シート!$B$29:$G$38,MATCH(発注者入力シート!N9,発注者入力シート!$C$29:$C$38,0),6)) -> 評価項目（３）-③ | S2: （企業）
T3: ：「企業入力シートで入力（数式リンク有）
A4: 県管理公共土木施設に関する維持管理業務または海岸漂着物の回収業務の契約実績 | T4: ：セルに直接入力もしくはリストから選択が必要な箇所
H5: 会社（企業体）名： | K5: =IF(企業入力シート!C7="","",企業入力シート!C7)
S6: （発注者）
A7: 対象： | B7: 令和６年度及び令和７年度の県管理公共土木施設に関する維持管理業務または海岸漂着物の回収業務の契約実績 | T7: ：「発注者入力シート」で入力（数式リンク有）
T8: ：セルに直接入力が必要な箇所
A10: 評価対象地域 | D10: 江津市（桜江町を除く）内 | S10: 【印刷について】
S11: このシートは「ページ設定」で「白黒印刷」と「印刷範囲」が設定されています。
A12: 令和６年度 | S12: 様式内の吹出しコメントは印刷されません。
A13: 発注機関 | D13: 委託月数 （自動計算） | F13: 委託期間 | I13: 業務名 | N13: 施工箇所(旧市町村名)
F14: 上段：着手日/下段：完了日
D15: =(DATEDIF(F15,F16+1,"m")+ROUNDDOWN(DATEDIF(F15,F16+1,"md")/TEXT(EOMONTH(F16,0),"d"),1)) -> 0 | S15: 注意！
S16: 下請契約で申請する場合、「発注機関」欄は元請企業名ではありません。
A17: 令和７年度
A18: 発注機関 | D18: 委託月数 （自動計算） | F18: 委託期間 | I18: 業務名 | N18: 施工箇所(旧市町村名)
F19: 上段：着手日/下段：完了日
D20: =(DATEDIF(F20,F21+1,"m")+ROUNDDOWN(DATEDIF(F20,F21+1,"md")/TEXT(EOMONTH(F21,0),"d"),1)) -> 0
A22: (1) | B22: 両年度とも契約実績がある場合、両年度とも必ず記入すること。
A23: (2) | B23: 対象年度において、県管理公共土木施設に関する維持管理業務（発注機関は問わない。島根県発注業務においては県が認めた下請け業務も含む。）または島根県発注の海岸漂着物の回収業務の契約実績（県が認めた下請け業務も含む。）のうち、１回の契約期間が6ヶ月以上のものについて記入すること。
A27: (3) | B27: １回の契約期間が両年度にわたるものは、契約期間の長い方の年度に契約実績を記入すること。
A28: (4) | B28: １回の契約期間が１年6ヶ月以上の場合、両年度とも契約実績として記入する。
A29: (5) | B29: 契約実績を確認する資料として、当該年度の業務内容の分かる資料（契約書、下請負人通知書、施工体制台帳、下請契約書、注文書・請書、発注者の実績証明証等の写し）を添付すること。
A31: (6) | B31: 上記（５）の資料で評価対象地域が確認できない場合は、確認できる資料（位置図）を追加添付すること。
A33: (7) | B33: 上記事項の外、入札説明書本文にある要件を必ず確認すること。
A36: 技術資料提出工事名： | E36: =IF(発注者入力シート!C10="","",発注者入力シート!C10) -> （一）跡市波子停車場線（跡市２工区）総合交付金（改築）工事 第６期
A38: 提出事務所名： | E38: =IF(発注者入力シート!C6="","",発注者入力シート!C6) -> 浜田県土整備事務所
A40: 有効範囲： | E40: =発注者入力シート!$C$11 -> 令和９年７月３１日までに入札公告された工事
A42: =CONCATENATE(" 今後、",発注者入力シート!C6,"が発注する工事においては、本書の写し（※）をもって「県管理公共土木施設に関する維持管理業務または海岸漂着物の回収業務の契約実績」の貴社技術資料とみなし、その他添付資料の提出は不要とする。 ※本書の写しとは、収受印欄に収受の押印がある資料をいう。") -> 今後、浜田県土整備事務所が発注する工事においては、本書の写し（※）をもって「県管理公共土木施設に関する維持管理業務または海岸漂着物の回収業務の契約実績」の貴社技術資料とみなし、その他添付資料の提出は不要とする。 ※本書の写しとは、収受印欄に収受の押印がある資料をいう。
A45: ただし、本提出書類では契約実績が確認できない（評価対象となる施工範囲を満足していないなど）場合、再度、技術資料及び必要な添付資料の提出が必要である。
N47: （収受印）
B48: 技術資料の提出方法
B49: =IF(COUNTIF(企業入力シート!B33,"○")>0,発注者入力シート!AJ10,IF(INDEX(発注者入力シート!$B$29:$J$38,MATCH(発注者入力シート!N8,発注者入力シート!$C$29:$C$38,0),7)="未記入",発注者入力シート!$AJ$8,IF(INDEX(発注者入力シート!$B$29:$J$38,MATCH(発注者入力シート!N8,発注者入力シート!$C$29:$C$38,0),7)="無",発注者入力シート!$AJ$9,IF(INDEX(発注者入力シート!$B$29:$J$38,MATCH(発注者入力シート!N8,発注者入力シート!$C$29:$C$38,0),7)="有",発注者入力シート!$AJ$10)))) -> 「企業入力シート」の「押印済資料での提出」欄が未記入ですので、リストから「有」、「無」どちらかを選択してください
A55: 【注】
B56: ・押印済資料で提出する場合、押印済資料で評価する。

Sheet 除雪業務
A1: =CONCATENATE("（様式-",INDEX(発注者入力シート!$B$29:$G$38,MATCH(発注者入力シート!N10,発注者入力シート!$C$29:$C$38,0),4),"）") -> （様式-７） | O1: =IF(INDEX(発注者入力シート!$B$20:$G$40,MATCH(発注者入力シート!N10,発注者入力シート!$C$20:$C$40,0),3)="","",INDEX(発注者入力シート!$B$20:$G$40,MATCH(発注者入力シート!N10,発注者入力シート!$C$20:$C$40,0),3)) -> 【地域設定】 | S1: 着色セルの凡例
A2: =CONCATENATE("評価項目",INDEX(発注者入力シート!$B$29:$G$38,MATCH(発注者入力シート!N10,発注者入力シート!$C$29:$C$38,0),5),"-",INDEX(発注者入力シート!$B$29:$G$38,MATCH(発注者入力シート!N10,発注者入力シート!$C$29:$C$38,0),6)) -> 評価項目（３）-④ | S2: （企業）
T3: ：「企業入力シートで入力（数式リンク有）
A4: 県管理道路・空港または市町村管理道路を含む除雪業務の契約実績 | T4: ：セルに直接入力もしくはリストから選択が必要な箇所
H6: 会社（企業体）名： | K6: =IF(企業入力シート!C7="","",企業入力シート!C7) | S6: （発注者）
T7: ：「発注者入力シート」で入力（数式リンク有）
A8: 対象： | B8: 令和６年度及び令和７年度の県管理道路・空港または市町村管理道路を含む除雪業務の契約実績 | T8: ：セルに直接入力が必要な箇所
S10: 【印刷について】
A11: 評価対象地域 | D11: 江津市（桜江町を除く）内 | S11: このシートは「ページ設定」で「白黒印刷」と「印刷範囲」が設定されています。
S12: 様式内の吹出しコメントは印刷されません。
A13: 令和６年度
A14: 発注機関 | D14: 元請・下請区分 | F14: 委託期間 | I14: 業務内容 | N14: 施工箇所(旧市町村名)
F15: 上段：着手日/下段：完了日 | S15: 注意！
S16: 下請契約で申請する場合、「発注機関」欄は元請企業名ではありません。
A18: 令和７年度
A19: 発注機関 | D19: 元請・下請区分 | F19: 委託期間 | I19: 業務内容 | N19: 施工箇所(旧市町村名)
F20: 上段：着手日/下段：完了日
A23: (1) | B23: 対象年度において、県管理道路・空港または市町村管理道路を含む除雪業務（凍結防止剤散布業務を含む。）の契約実績（島根県発注業務においては県が認めた下請け実績も含む。）について記載すること。
A25: (2) | B25: 契約実績を確認する資料として、当該年度の業務内容の分かる資料（契約書、下請負人通知書、施工体制台帳、下請契約書、注文書・請書、発注者の実績証明証等の写し）を添付すること。
A27: (3) | B27: 上記（２）の資料で評価対象地域が確認できない場合は、確認できる資料（位置図）を追加添付すること。
A32: 技術資料提出工事名： | E32: =IF(発注者入力シート!C10="","",発注者入力シート!C10) -> （一）跡市波子停車場線（跡市２工区）総合交付金（改築）工事 第６期
A34: 提出事務所名： | E34: =IF(発注者入力シート!C6="","",発注者入力シート!C6) -> 浜田県土整備事務所
A36: 有効範囲： | E36: =発注者入力シート!$C$11 -> 令和９年７月３１日までに入札公告された工事
A39: =CONCATENATE(" 今後、",発注者入力シート!C6,"が発注する工事においては、本書の写し（※）をもって「県管理道路・空港を含む除雪業務の契約実績」の貴社技術資料とみなし、その他添付資料の提出は不要とする。 ※本書の写しとは、収受印欄に収受の押印がある資料をいう。") -> 今後、浜田県土整備事務所が発注する工事においては、本書の写し（※）をもって「県管理道路・空港を含む除雪業務の契約実績」の貴社技術資料とみなし、その他添付資料の提出は不要とする。 ※本書の写しとは、収受印欄に収受の押印がある資料をいう。
A41: ただし、本提出書類では契約実績が確認できない（評価対象となる施工範囲を満足していないなど）場合、再度、技術資料及び必要な添付資料の提出が必要である。
N44: （収受印）
B45: 技術資料の提出方法
B46: =IF(COUNTIF(企業入力シート!B34,"○")>0,発注者入力シート!AJ10,IF(INDEX(発注者入力シート!$B$29:$J$38,MATCH(発注者入力シート!N9,発注者入力シート!$C$29:$C$38,0),7)="未記入",発注者入力シート!$AJ$8,IF(INDEX(発注者入力シート!$B$29:$J$38,MATCH(発注者入力シート!N9,発注者入力シート!$C$29:$C$38,0),7)="無",発注者入力シート!$AJ$9,IF(INDEX(発注者入力シート!$B$29:$J$38,MATCH(発注者入力シート!N9,発注者入力シート!$C$29:$C$38,0),7)="有",発注者入力シート!$AJ$10)))) -> 「企業入力シート」の「押印済資料での提出」欄が未記入ですので、リストから「有」、「無」どちらかを選択してください
A52: 【注】
B53: ・押印済資料で提出する場合、押印済資料で評価する。

Sheet 若手・中堅技術者の配置
A1: =CONCATENATE("（様式-",INDEX(発注者入力シート!$B$29:$G$38,MATCH(発注者入力シート!N16,発注者入力シート!$C$29:$C$38,0),4),"）") -> #N/A | S1: 着色セルの凡例
A2: =CONCATENATE("評価項目",INDEX(発注者入力シート!$B$29:$G$38,MATCH(発注者入力シート!N16,発注者入力シート!$C$29:$C$38,0),5),"-",INDEX(発注者入力シート!$B$29:$G$38,MATCH(発注者入力シート!N16,発注者入力シート!$C$29:$C$38,0),6)) -> #N/A | S2: （企業）
T3: ：「企業入力シートで入力（数式リンク有）
A4: 若手・中堅技術者の配置 | T4: ：セルに直接入力が必要な箇所
H6: 会社（企業体）名： | K6: =IF(企業入力シート!C7="","",企業入力シート!C7) | S6: （発注者）
T7: ：「発注者入力シート」で入力（数式リンク有）
T8: ：セルに直接入力が必要な箇所
A9: 対象： | B9: ４０歳未満の技術者を主任技術者又は監理技術者として配置
A10: 配置予定技術者氏名 | F10: 生年月日 | M10: 年齢 | S10: 【印刷について】
S11: このシートは「ページ設定」で「白黒印刷」と「印刷範囲」が設定されています。
A12: ① | B12: =IF(企業入力シート!C18="","",企業入力シート!C18) | F12: =IF(企業入力シート!D18="","",企業入力シート!D18) | M12: =IF(企業入力シート!$C$18="","",DATEDIF(F12,発注者入力シート!$H$7,"Y")) | P12: =IF(企業入力シート!C18="","",IF(M12<40,"(OK)","(NO)"))
A13: ② | B13: =IF(企業入力シート!C19="","",企業入力シート!C19) | F13: =IF(企業入力シート!D19="","",企業入力シート!D19) | M13: =IF(企業入力シート!$C$19="","",DATEDIF(F13,発注者入力シート!$H$7,"Y")) | P13: =IF(企業入力シート!C19="","",IF(M13<40,"(OK)","(NO)"))
A14: ③ | B14: =IF(企業入力シート!C20="","",企業入力シート!C20) | F14: =IF(企業入力シート!D20="","",企業入力シート!D20) | M14: =IF(企業入力シート!$C$20="","",DATEDIF(F14,発注者入力シート!$H$7,"Y")) | P14: =IF(企業入力シート!C20="","",IF(M14<40,"(OK)","(NO)"))
A15: (1) | B15: =CONCATENATE("年齢は、入札公告日前日時点（令和",(YEAR(発注者入力シート!H7)-2018),"年",MONTH(発注者入力シート!H7),"月",DAY(発注者入力シート!H7),"日時点）で記入すること。") -> 年齢は、入札公告日前日時点（令和8年10月1日時点）で記入すること。
A16: (2) | B16: 生年月日が確認できる資料、生年月日が記載されている資格証の写し等）を添付すること。他の技術資料で生年月日が確認できる資料を添付している場合は、添付しなくてよい。
A18: (3) | B18: 複数の候補者を記入する場合、全て候補者の年齢が満４０歳未満であれば評価する。
A19: (4) | B19: 上記事項の外、入札説明書本文にある要件を必ず確認すること。

Sheet 若手技術者・従業員新規雇用
A1: =CONCATENATE("（様式-",INDEX(発注者入力シート!$B$29:$G$38,MATCH(発注者入力シート!N17,発注者入力シート!$C$29:$C$38,0),4),"）") -> （様式-８） | S1: 着色セルの凡例
A2: =CONCATENATE("評価項目",INDEX(発注者入力シート!$B$29:$G$38,MATCH(発注者入力シート!N17,発注者入力シート!$C$29:$C$38,0),5),"-",INDEX(発注者入力シート!$B$29:$G$38,MATCH(発注者入力シート!N17,発注者入力シート!$C$29:$C$38,0),6)) -> 評価項目（３）-⑤ | S2: （企業）
T3: ：「企業入力シートで入力（数式リンク有）
A4: 若手技術者・若手従業員の新規雇用 | T4: ：セルに直接入力もしくはリストから選択が必要な箇所
H6: 会社（企業体）名： | K6: =IF(企業入力シート!C7="","",企業入力シート!C7) | S6: （発注者）
T7: ：「発注者入力シート」で入力（数式リンク有）
A8: 対象： | B8: 令和６年４月１日以降に、若手技術者・若手従業員（30歳未満の者）の１人以上の新規雇用があること。 | T8: ：セルに直接入力が必要な箇所
B10: ただし、入札参加希望者と直接的かつ恒常的な雇用関係にあること。
A12: ○若手技術者・若手従業員の新規雇用があれば、下表を記載すること。
A13: 新規雇用の内容 | H13: 新規雇用① | M13: 新規雇用②
A14: 新規雇用した若手技術者・若手従業員の氏名
A15: 生年月日
A16: 新規雇用年月日
A17: 新規雇用時の年齢 | H17: =IF(OR(H15="",H16=""),"-",DATEDIF(H15,H16,"Y")) -> - | M17: =IF(OR(M15="",M16=""),"-",DATEDIF(M15,M16,"Y")) -> -
A18: （a）.建設業法第７条第１項第２号イで定める学校の建設業法施行規則第１条に定める学科（国土交通省令で定める学科）を卒業した者等。 なお、国土交通省令で定める学科に記載の、許可を受けようとする建設業欄の許可業種毎の区分はない。 または、旧建設業法施行令第36条第１項第１号及び第２号並びに旧令第37条第２項第１号イ(１)及び(２)並びに第２号イ(１)で定める学校の施工技術検定規則第2条に定める学科を修めた者等。
A28: （b）.当該工事種別に該当する建設業法第７条第１項第２号ハに示す資格を有する者
A33: （c）.上記（a）、（b）以外の若手従業員
A38: (1) | B38: 新規雇用した日における年齢が３０歳未満である者を記載すること。
A39: (2) | B39: 新規雇用した日及び直接的かつ恒常的な雇用関係を確認できる書類を添付すること。
A40: (3) | B40: （a）に該当する場合、指定学校・学科を卒業したことがわかる証明書の写しを添付すること。
B41: （学科名だけでは判断できない学科の場合は専攻等まで記載のある証明書とすること。）
A42: (4) | B42: （b）に該当する場合、資格者証の写しを添付すること。
A43: (５) | B43: =CONCATENATE("入札公告日前日時点（令和",(YEAR(発注者入力シート!H7)-2018),"年",MONTH(発注者入力シート!H7),"月",DAY(発注者入力シート!H7),"日時点）での状況について記載すること。") -> 入札公告日前日時点（令和8年10月1日時点）での状況について記載すること。
A45: ※ | B45: 雇用関係確認書類
B46: （１）所属会社の雇用証明書（参考様式HP掲載）
B47: （２）雇用保険被保険者資格取得等確認通知書（事業主通知用）及び監理技術者資格者証
B48: （３）その他上記に準ずる資料（所属会社名及び３ヶ月以上の雇用関係が確認できるもの
B49: （２つの書類を提出しても可）に限る)
B50: ○詳細は島根県土木部土木総務課建設産業対策室ホームページ参照
B51: URL: | C51: https://www.pref.shimane.lg.jp/admin/bid/seido/seido_doboku/jyoukinseikakuninsiryou.html

Sheet 建設機械の保有状況（土木一式用）
A1: =CONCATENATE("（様式-",INDEX(発注者入力シート!$B$29:$G$38,MATCH(発注者入力シート!N18,発注者入力シート!$C$29:$C$38,0),4),"）") -> #N/A | T1: 着色セルの凡例
A2: =CONCATENATE("評価項目",INDEX(発注者入力シート!$B$29:$G$38,MATCH(発注者入力シート!N18,発注者入力シート!$C$29:$C$38,0),5),"-",INDEX(発注者入力シート!$B$29:$G$38,MATCH(発注者入力シート!N18,発注者入力シート!$C$29:$C$38,0),6)) -> #N/A | T2: （企業）
A3: 建設機械の保有状況 | U3: ：「企業入力シートで入力（数式リンク有）
H4: 会社（企業体）名： | L4: =IF(企業入力シート!C7="","",企業入力シート!C7) | U4: ：セルに直接入力が必要な箇所
A6: 対象： | B6: =CONCATENATE("入札公告日前日時点（令和",(YEAR(発注者入力シート!H7)-2018),"年",MONTH(発注者入力シート!H7),"月",DAY(発注者入力シート!H7),"日時点）で建設機械を３台以上保有もしくは長期リース契約していること") -> 入札公告日前日時点（令和8年10月1日時点）で建設機械を３台以上保有もしくは長期リース契約していること | T6: （発注者）
U7: ：「発注者入力シート」で入力（数式リンク有）
A9: ○保有もしくは長期リース契約している建設機械の種類等を表１に記入すること。
A10: 表１：建設機械の種類等 | T10: 【印刷について】
A11: 申請番号 | B11: 建設機械の種類 | E11: 所有・リースの区分 | G11: 検査実施日（最新） | K11: 資料②を提出する場合、申請建設機械に対応する番号 | P11: 備考 | T11: このシートは「ページ設定」で「白黒印刷」と「印刷範囲」が設定されています。
A12: ① | K12: No. | P12: ※表２を入力する場合も表１の入力は必要です。
A13: ② | K13: No.
A14: ③ | K14: No.
A16: ○資料②を提出しない（個別資料で申請する）場合、建設機械の詳細を表２に記入すること。 （資料②を提出した場合、表２の記載は不要）
A18: 表２：建設機械の詳細
A19: 申請番号 | B19: メーカー名 | E19: 型式 | H19: 製造・車体番号 表示番号（大型ﾀﾞﾝﾌﾟ車） | L19: 種別又は規格 | O19: リース期間 （リース契約の場合）
A20: ① | O20: （始）
O21: （終）
A22: ② | O22: （始）
O23: （終）
A24: ③ | O24: （始）
O25: （終）
A26: (1) | B26: ３台以上保有もしくは長期リース契約している場合は、３台分の記載でよい。
A27: (2) | B27: 表２の「種別又は規格」欄は、表３の内容が確認できる種別又は規格を記入すること。
A28: (3) | B28: 表３、４を参考に建設機械の保有状況が確認できる必要な以下の資料を提出すること。
B29: 資料① | C29: 表３に記載する検査記録表等の写し。
B30: 資料② | C30: 経営事項審査時に提出した「建設機械の保有状況一覧表」の写し（県が押印した最新の資料に限る。）。ただし、リース契約の場合、入札公告日前日時点でリース期間が満了しているものは不可。
B33: 資料③ | C33: 建設機械の保有もしくは長期リース契約していることを証明する資料（売買契約書、リース契約書、割賦販売契約書、販売証明書等）。
B35: 資料④ | C35: 対象となる建設機械であることが確認できる写真、カタログ（型式、自重、バケット容量等が記載されたもの）。
B37: 資料⑤ | C37: リース契約でリース期間が入札公告日前日から１年７ヶ月未満の場合は、建設機械のリース契約に関する誓約書（経営事項審査時に提出した誓約書は不可）。
A40: 表３：申請可能な建設機械
A41: 建設機械の種類 | E41: 条件 | K41: 種別又は規格 | N41: 提出が必要な検査記録表等
A42: a.ショベル系掘削機 | E42: ｼｮﾍﾞﾙ、ﾊﾞｯｸﾎｳ、ﾄﾞﾗｸﾞﾗｲﾝ、ｸﾗﾑｼｪﾙ、ｸﾚｰﾝ又はﾊﾟｲﾙﾄﾞﾗｲﾊﾞｰのｱﾀｯﾁﾒﾝﾄを有すること | N42: 特定自主検査記録表（検査年月日が入札公告日前日を含み過去１年以内のものに限る）
A45: b.ブルドーザー | K45: 自重が3ｔ以上
A46: c.トラクターショベル | K46: ﾊﾞｹｯﾄ容量が0.4立方ﾒｰﾄﾙ以上
A48: d.モーターグレーダー | K48: 自重が5ｔ以上
A49: e.移動式クレーン | K49: 吊り上げ荷重3ｔ以上 | N49: 移動式クレーン検査証（有効期間が入札公告日前日以降であること）
A52: f.大型ダンプ車 | E52: 事業の種類として建設業を届け出、表示番号の指定を受けているもの、又は営業用で主として建設業の用途として届け出、車検証備考欄に表示されているもの | K52: 車両総重量8t以上または最大積載量5t以上 | N52: 自動車検査証（有効期間の満了する日が入札公告日前日以降であること）
A56: 表４：代表的な提出資料の組合せ
A57: a.ｼｮﾍﾞﾙ系掘削機、b.ﾌﾞﾙﾄﾞｰｻﾞｰ、c.ﾄﾗｸﾀｰｼｮﾍﾞﾙ、d.ﾓｰﾀｰｸﾞﾚｰﾀﾞｰの場合
A58: パターン名 | C58: 条件１ | H58: 条件２ | O58: 提出資料の組合せ
A59: パターン１ | C59: 資料②で提出する場合 | H59: リース契約がない、もしくはリース期間が入札公告日前日から１年７ヶ月以上あり | O59: ①+②
A61: パターン２ | H61: リース期間が入札公告日前日から１年７ヶ月未満 | O61: ①+②+⑤
A63: パターン３ | C63: 資料②を提出しない場合（個別資料を提出） | H63: リース契約がない、もしくはリース期間が入札公告日前日から１年７ヶ月以上あり | O63: ①+③+④
A65: パターン４ | H65: リース期間が入札公告日前日から１年７ヶ月未満 | O65: ①+③+④+⑤
A68: e.移動式クレーン、f.大型ﾀﾞﾝﾌﾟ車の場合
A69: パターン名 | C69: 条件１ | H69: 条件２ | O69: 提出資料の組合せ
A70: パターン１ | C70: 資料②で提出する場合 | H70: リース契約がない、もしくはリース期間が入札公告日前日から１年７ヶ月以上あり | O70: ①+②
A72: パターン２ | H72: リース期間が入札公告日前日から１年７ヶ月未満 | O72: ①+②+⑤
A74: パターン３ | C74: 資料②を提出しない場合（個別資料を提出） | H74: リース契約がない、もしくはリース期間が入札公告日前日から１年７ヶ月以上あり | O74: ①+③
A76: パターン４ | H76: リース期間が入札公告日前日から１年７ヶ月未満 | O76: ①+③+⑤
A79: （参考）資料②経営事項審査時に提出する「建設機械の保有状況一覧表」の写し
A117: 建設機械のリース契約に関する誓約書
B119: 島根県知事 様
G120: 所在地 | J120: =IF(企業入力シート!C6="","",企業入力シート!C6)
G121: 許可番号
G122: 商号又は名称 | J122: =IF(企業入力シート!C7="","",企業入力シート!C7)
G123: 代表者氏名 | J123: =IF(企業入力シート!C8="","",企業入力シート!C8)
G124: 入札公告日前日 | J124: =IF(発注者入力シート!H7="","",発注者入力シート!H7) -> 46296
B126: 下記建設機械について、リース期間が入札公告日前日から１年７カ月未満となっていますが、これらの建設機械について、リース契約の更新、延長及び建設機械の買い取りを予定していることを誓約します。 なお、この誓約に反し、リース契約の更新、延長及び建設機械の買い取りを行わなかった場合（ただし、廃車等やむを得ないと認められる場合は除く。）は、今回の申請において虚偽の申請を行ったとして、指名停止の措置が科されることを了承します。
B133: 誓約書記載日： | E133: 令和○年○月○日
A135: 申請 番号 | B135: メーカー名 | E135: 型式 | H135: 製造・車体番号 | K135: リース期間満了後の取扱い | N135: リース期間
A137: ① | N137: （始）
N138: （終）
A139: ② | N139: （始）
N140: （終）
A141: ③ | N141: （始）
N142: （終）

Sheet 建設機械の保有状況 (舗装用)
A1: =CONCATENATE("（様式-",INDEX(発注者入力シート!$B$29:$G$38,MATCH(発注者入力シート!N18,発注者入力シート!$C$29:$C$38,0),4),"）") -> #N/A | T1: 着色セルの凡例
A2: =CONCATENATE("評価項目",INDEX(発注者入力シート!$B$29:$G$38,MATCH(発注者入力シート!N18,発注者入力シート!$C$29:$C$38,0),5),"-",INDEX(発注者入力シート!$B$29:$G$38,MATCH(発注者入力シート!N18,発注者入力シート!$C$29:$C$38,0),6)) -> #N/A | T2: （企業）
A3: 建設機械の保有状況 | U3: ：「企業入力シートで入力（数式リンク有）
H4: 会社（企業体）名： | L4: =IF(企業入力シート!C7="","",企業入力シート!C7) | U4: ：セルに直接入力が必要な箇所
A6: 対象： | B6: =CONCATENATE("入札公告日前日時点（令和",(YEAR(発注者入力シート!H7)-2018),"年",MONTH(発注者入力シート!H7),"月",DAY(発注者入力シート!H7),"日時点）でモーターグレーダー（自重5t以上）を保有もしくは長期リース契約していること") -> 入札公告日前日時点（令和8年10月1日時点）でモーターグレーダー（自重5t以上）を保有もしくは長期リース契約していること | T6: （発注者）
U7: ：「発注者入力シート」で入力（数式リンク有）
A9: ○保有もしくは長期リース契約しているモーターグレーダーを表１に記入すること。
A10: 表１：モーターグレーダーの所有状況等 | T10: 【印刷について】
A11: 申請番号 | B11: 建設機械の種類 | E11: 所有・リースの区分 | G11: 検査実施日（最新） | K11: 資料②を提出する場合、申請建設機械に対応する番号 | P11: 備考 | T11: このシートは「ページ設定」で「白黒印刷」と「印刷範囲」が設定されています。
A12: ① | B12: ﾓｰﾀｰｸﾞﾚｰﾀﾞｰ | K12: No. | P12: ※表２を入力する場合も表１の入力は必要です。
A14: ○資料②を提出しない（個別資料で申請する）場合、詳細を表２に記入すること。 （資料②を提出した場合、表２の記載は不要）
A16: 表２：モーターグレーダーの詳細
A17: 申請番号 | B17: メーカー名 | E17: 型式 | H17: 製造・車体番号 | L17: 自重 | O17: リース期間 （リース契約の場合）
A18: ① | O18: （始）
O19: （終）
A20: (1) | B20: ２台以上保有もしくは長期リース契約している場合は、１台分の記載でよい。
A21: (2) | B21: 表３を参考に保有状況が確認できる必要な以下の資料を提出すること。
B22: 資料① | C22: 特定自主検査記録表の写し。（検査年月日が入札公告日前日を含み過去1年以内のものに限る。）
B24: 資料② | C24: 経営事項審査時に提出した「建設機械の保有状況一覧表」の写し（県が押印した最新の資料に限る。）。ただし、リース契約の場合、入札公告日前日時点でリース期間が満了しているものは不可。
B27: 資料③ | C27: モーターグレーダーの保有もしくは長期リース契約していることを証明する資料（売買契約書、リース契約書、割賦販売契約書、販売証明書等）。
B29: 資料④ | C29: 写真、カタログ（型式、自重等が記載されたもの）。
B30: 資料⑤ | C30: リース契約でリース期間が入札公告日前日から１年７ヶ月未満の場合は、建設機械のリース契約に関する誓約書（経営事項審査時に提出した誓約書は不可）。
A33: 表３：代表的な提出資料の組合せ
A34: パターン名 | C34: 条件１ | H34: 条件２ | O34: 提出資料の組合せ
A35: パターン１ | C35: 資料②で提出する場合 | H35: リース契約がない、もしくはリース期間が入札公告日前日から１年７ヶ月以上あり | O35: ①+②
A37: パターン２ | H37: リース期間が入札公告日前日から１年７ヶ月未満 | O37: ①+②+⑤
A39: パターン３ | C39: 資料②を提出しない場合（個別資料を提出） | H39: リース契約がない、もしくはリース期間が入札公告日前日から１年７ヶ月以上あり | O39: ①+③+④
A41: パターン４ | H41: リース期間が入札公告日前日から１年７ヶ月未満 | O41: ①+③+④+⑤
A58: （参考）資料②経営事項審査時に提出する「建設機械の保有状況一覧表」の写し
A119: 建設機械のリース契約に関する誓約書
B121: 島根県知事 様
G122: 所在地 | J122: =IF(企業入力シート!C6="","",企業入力シート!C6)
G123: 許可番号
G124: 商号又は名称 | J124: =IF(企業入力シート!C7="","",企業入力シート!C7)
G125: 代表者氏名 | J125: =IF(企業入力シート!C8="","",企業入力シート!C8)
G126: 入札公告日前日 | J126: =IF(発注者入力シート!H7="","",発注者入力シート!H7) -> 46296
B128: 下記建設機械について、リース期間が入札公告日前日から１年７カ月未満となっていますが、これらの建設機械について、リース契約の更新、延長及び建設機械の買い取りを予定していることを誓約します。 なお、この誓約に反し、リース契約の更新、延長及び建設機械の買い取りを行わなかった場合（ただし、廃車等やむを得ないと認められる場合は除く。）は、今回の申請において虚偽の申請を行ったとして、指名停止の措置が科されることを了承します。
B135: 誓約書記載日： | E135: 令和○年○月○日
A137: 申請 番号 | B137: メーカー名 | E137: 型式 | H137: 製造・車体番号 | K137: リース期間満了後の取扱い | N137: リース期間
A139: ① | N139: （始）
N140: （終）

Sheet 災害復旧実績
A1: =CONCATENATE("（様式-",INDEX(発注者入力シート!$B$29:$G$38,MATCH(発注者入力シート!N21,発注者入力シート!$C$29:$C$38,0),4),"）") -> #N/A | Q1: =IF(INDEX(発注者入力シート!$B$20:$G$40,MATCH(発注者入力シート!N21,発注者入力シート!$C$20:$C$40,0),3)="","",INDEX(発注者入力シート!$B$20:$G$40,MATCH(発注者入力シート!N21,発注者入力シート!$C$20:$C$40,0),3)) -> #N/A | U1: 着色セルの凡例
A2: =CONCATENATE("評価項目",INDEX(発注者入力シート!$B$29:$G$38,MATCH(発注者入力シート!N21,発注者入力シート!$C$29:$C$38,0),5),"-",INDEX(発注者入力シート!$B$29:$G$38,MATCH(発注者入力シート!N21,発注者入力シート!$C$29:$C$38,0),6)) -> #N/A | U2: （企業）
V3: ：「企業入力シートで入力（数式リンク有）
A4: 災害復旧工事の受注実績 | V4: ：セルに直接入力が必要な箇所
H5: 会社（企業体）名： | K5: =IF(企業入力シート!C7="","",企業入力シート!C7)
U6: （発注者）
V7: ：「発注者入力シート」で入力（数式リンク有）
A9: 対象工事 | F9: 令和７年度に受注した島根県が発注した災害復旧工事
F11: （「公共土木施設災害復旧事業国庫負担法」または「農林水産業施設災害復旧事業費国庫補助の暫定措置に関する法律」の対象となった災害復旧工事に限る。）
A13: 対象地域 | F13: 島根県内
A14: 工事種別 | F14: =INDEX(発注者入力シート!$AX$3:$BC$31,MATCH(発注者入力シート!$AY$2,発注者入力シート!$AZ$3:$AZ$31,0),4) -> 一般土木工事、維持修繕工事
A15: 建設工事の種類 | F15: =INDEX(発注者入力シート!$AX$3:$BC$31,MATCH(発注者入力シート!$AY$2,発注者入力シート!$AZ$3:$AZ$31,0),5) -> 土木一式工事、とび・土工・ｺﾝｸﾘｰﾄ工事、しゅんせつ工事
A17: 工事内容 | F17: 施工実績①
A18: 工 事 名
A23: 発注機関名 | T23: ←○○県土整備事務所など発注機関名を記入（略名可）
A24: 工事種別
A25: 建設工事の種類
A26: 施工場所
U27: （チェック用）
A28: 請負金額（当初・税込） | L28: 円 | U28: 西暦
A29: 当初契約日 | F29: 令和 | H29: 年 | J29: 月 | L29: 日 | U29: 46235 | V29: ←西暦を入力すると下の欄に和暦が表示
U30: 和暦
U31: =U29 -> 46235

Sheet 会社所在地
A1: =CONCATENATE("（様式-",INDEX(発注者入力シート!$B$39:$G$40,MATCH(発注者入力シート!O7,発注者入力シート!$C$39:$C$40,0),4),"）") -> （様式-９） | S1: 着色セルの凡例
A2: =CONCATENATE("評価項目",INDEX(発注者入力シート!$B$39:$G$40,MATCH(発注者入力シート!O7,発注者入力シート!$C$39:$C$40,0),5),"-",INDEX(発注者入力シート!$B$39:$G$40,MATCH(発注者入力シート!O7,発注者入力シート!$C$39:$C$40,0),6)) -> 評価項目（４）-① | S2: （企業）
T3: ：「企業入力シートで入力（数式リンク有）
A4: 地理的条件 | T4: ：セルに直接入力もしくはリストから選択が必要な箇所
A5: （会社所在地）
S6: （発注者）
G7: 会社（企業体）名： | K7: =IF(企業入力シート!C7="","",企業入力シート!C7) | T7: ：「発注者入力シート」で入力（数式リンク有）
T8: ：セルに直接入力が必要な箇所
A10: 対象： | B10: 入札公告日前日において、評価対象地域内に建設業法で規定する主たる営業所（本店）または従たる営業所（支店、営業所）がある者 | S10: 【印刷について】
S11: このシートは「ページ設定」で「白黒印刷」と「印刷範囲」が設定されています。
S12: 様式内の吹出しコメントは印刷されません。
A13: 評価対象地域 | D13: 江津市（桜江町を除く）内
A15: 種類 | F15: 住 所
A21: (1) | B21: 資料の添付は不要。ただし、上記内容(住所)が、島根県建設工事等入札参加資格者名簿に記載の住所と異なる場合は、建設業許可申請における営業所一覧表等、上記内容(住所)を確認するために必要な資料を添付すること。営業所一覧表等は、原本と相違ないことを代表者名で証明すること。
A24: (2) | B24: =CONCATENATE("入札公告日前日（令和",(YEAR(発注者入力シート!H7)-2018),"年",MONTH(発注者入力シート!H7),"月",DAY(発注者入力シート!H7),"日時点）での状況について記載すること。") -> 入札公告日前日（令和8年10月1日時点）での状況について記載すること。
A27: ※ | B27: 島根県建設工事等入札参加資格者名簿は島根県土木総務課建設産業対策室ホームページにて掲載 http://www.pref.shimane.lg.jp/admin/bid/shikaku/shinsei_doboku/nyuusatu_sannka_meibo_4-6.html

Sheet 質問書
A1: =CONCATENATE("（様式－",発注者入力シート!E41,"）") -> （様式－１０） | S1: 着色セルの凡例
A2: 令和 年 月 日 | S2: （企業）
T3: ：「企業入力シートで入力（数式リンク有）
A4: 設計図書、技術資料作成に対する質問書 | T4: ：セルに直接入力が必要な箇所
S6: （発注者）
T7: ：「発注者入力シート」で入力（数式リンク有）
A8: 令和 年 月 日付けで入札公告のありました下記工事について下記のとおり質問します。 | T8: ：セルに直接入力が必要な箇所
A9: 記
A10: 入札公告日 | E10: =IF(発注者入力シート!C7="","",発注者入力シート!C7) -> 46297 | S10: 【印刷について】
A11: 工事名 | E11: =IF(発注者入力シート!C10="","",発注者入力シート!C10) -> （一）跡市波子停車場線（跡市２工区）総合交付金（改築）工事 第６期 | S11: このシートは「ページ設定」で「白黒印刷」と「印刷範囲」が設定されています。
A13: 質問事項 | E13: 要旨

Sheet 回答書
A1: =CONCATENATE("（様式－",発注者入力シート!E42,"）") -> （様式－１１） | S1: 着色セルの凡例
A2: 令和 年 月 日 | S2: （発注者）
T3: ：「発注者入力シート」で入力（数式リンク有）
A4: 設計図書、技術資料作成に対する質問の回答書 | T4: ：セルに直接入力が必要な箇所
A8: 令和 年 月 日付けでありました質問について下記のとおり回答します。
A9: 記
A10: 入札公告日 | E10: =IF(発注者入力シート!C7="","",発注者入力シート!C7) -> 46297 | S10: 【印刷について】
A11: 工事名 | E11: =IF(発注者入力シート!C10="","",発注者入力シート!C10) -> （一）跡市波子停車場線（跡市２工区）総合交付金（改築）工事 第６期 | S11: このシートは「ページ設定」で「白黒印刷」と「印刷範囲」が設定されています。
A13: 質問事項 | E13: 回答

Sheet 評価内容説明要求
A1: =CONCATENATE("（様式－",発注者入力シート!E43,"）") -> （様式－１２） | S1: 着色セルの凡例
A2: 令和 年 月 日 | S2: （企業）
A3: 評価内容説明要求書 | T3: ：「企業入力シートで入力（数式リンク有）
T4: ：セルに直接入力が必要な箇所
A5: （発注者）
F6: 様 | S6: （発注者）
T7: ：「発注者入力シート」で入力（数式リンク有）
K8: （提案者） | T8: ：セルに直接入力が必要な箇所
S10: 【印刷について】
S11: このシートは「ページ設定」で「白黒印刷」と「印刷範囲」が設定されています。
A12: 令和 年 月 日付けで公表のありました入札結果調書において下記事項について評価内容の詳細な説明を求めます。
A15: 記
A17: 入札公告日 | E17: =発注者入力シート!C7 -> 46297
A18: 工事名 | E18: =発注者入力シート!C10 -> （一）跡市波子停車場線（跡市２工区）総合交付金（改築）工事 第６期
A20: 評価内容の説明を求める項目及び要求の要旨
A21: 項目 | E21: 説明を求める要旨
A22: ①
A30: ②
A38: ③

Sheet 評価内容回答
A1: =CONCATENATE("（様式－",発注者入力シート!E44,"）") -> （様式－１３） | S1: 着色セルの凡例
A2: 令和 年 月 日 | S2: （企業）
A3: 評価内容回答書 | T3: ：「企業入力シートで入力（数式リンク有）
T4: ：セルに直接入力が必要な箇所
A5: （提案者）
F6: 様 | S6: （発注者）
T7: ：「発注者入力シート」で入力（数式リンク有）
K8: （発注者） | T8: ：セルに直接入力が必要な箇所
S10: 【印刷について】
S11: このシートは「ページ設定」で「白黒印刷」と「印刷範囲」が設定されています。
A12: 令和 年 月 日付けで通知のありました評価内容説明要求書について下記のとおり回答します。
A15: 記
A17: 入札公告日 | E17: =発注者入力シート!C7 -> 46297
A18: 工事名 | E18: =発注者入力シート!C10 -> （一）跡市波子停車場線（跡市２工区）総合交付金（改築）工事 第６期
A20: 評価内容の説明要求に対する回答
A21: 項目 | E21: 回答
A22: ①
A30: ②
A38: ③
