Workbook
Name 【企業】評価項目: 発注者入力シート!$L$6:$L$13
Name 【技術者】評価項目: 発注者入力シート!$M$6:$M$12
Name 【地域貢献】評価項目: 発注者入力シート!$N$6:$N$26
Name 【地理的条件】評価項目: 発注者入力シート!$O$6:$O$11
Name 企業回答: 発注者入力シート!$Z$6:$Z$9
Name 企業回答1: 発注者入力シート!$V$6:$V$8
Name 企業回答10: 発注者入力シート!$AE$6:$AE$9
Name 企業回答11: 発注者入力シート!$AF$6:$AF$8
Name 企業回答12: 発注者入力シート!$AG$6:$AG$9
Name 企業回答13: [1]発注者入力シート!$AH$6:$AH$8
Name 企業回答14: [1]発注者入力シート!$AI$6:$AI$9
Name 企業回答2: 発注者入力シート!$W$6:$W$11
Name 企業回答3: 発注者入力シート!$X$6:$X$11
Name 企業回答4: 発注者入力シート!$Y$6:$Y$8
Name 企業回答5: 発注者入力シート!$Z$6:$Z$9
Name 企業回答6: 発注者入力シート!$AA$6:$AA$12
Name 企業回答7: 発注者入力シート!$AB$6:$AB$9
Name 企業回答8: 発注者入力シート!$AC$6:$AC$17
Name 企業回答9: 発注者入力シート!$AD$6:$AD$8
Name 建設工事の種類: 発注者入力シート!$U$6:$U$22
Name 工事種別: 発注者入力シート!$T$6:$T$22
Name 地域密着型: 発注者入力シート!$S$6:$S$7
Name 評価項目番号: 発注者入力シート!$Q$6:$Q$12
Name 評価項目番号_枝番: 発注者入力シート!$R$6:$R$16
Name 様式番号: 発注者入力シート!$P$6:$P$32

Sheet 発注者入力シート
A1: 発注までに必要な作業 | L1: 【表３】プルダウンリスト | AX1: 技術資料「企業の工事成績評定点」、「配置予定技術者の工事成績評定点」の表示
A2: （１）発注工事の基本情報 | L2: 【表３】を編集すると評価項目（C列）のリストが変更できます（原則、着色セル以外編集不可）。 | AX2: 入力状況 | AY2: =C8&C9 -> 一般土木工事土木一式工事
B3: １．【表１】のC列に基本情報を直接入力してください | L3: 表中の着色セルを予備欄です。項目が不足する場合ここに入力すれば、プルダウンリストを追加できます。 | AX3: 工事種別 | AY3: 建設工事の種類 | AZ3: 判定用 | BA3: 表示（工事種別） | BB3: 表示（建設工事の種類） | BC3: 工事成績評価対象期間
B4: 【表１】 | L4: 【表３】 | AX4: 一般土木工事 | AY4: 土木一式工事 | AZ4: =AX4&AY4 -> 一般土木工事土木一式工事 | BA4: 一般土木工事、維持修繕工事 | BB4: 土木一式工事、とび・土工・ｺﾝｸﾘｰﾄ工事、しゅんせつ工事 | BC4: 工事成績（過去3年間で評価）
B5: 入力項目名 | C5: 入力欄 | L5: 【企業】評価項目 | M5: 【技術者】評価項目 | N5: 【地域貢献・その他】評価項目 | O5: 【地理的条件】評価項目 | P5: 様式番号 | Q5: 評価項目番号 | R5: 評価項目番号（枝番） | S5: 地域設定 | T5: 工事種別 | U5: 建設工事の種類 | V5: 企業回答1 | W5: 企業回答2 | X5: 企業回答3 | Y5: 企業回答4 | Z5: 企業回答5 | AA5: 企業回答6 | AB5: 企業回答7 | AC5: 企業回答8 | AD5: 企業回答9 | AE5: 企業回答10 | AF5: 企業回答11 | AG5: 企業回答12 | AX5: 一般土木工事 | AY5: とび・土工・コンクリート工事 | AZ5: =AX5&AY5 -> 一般土木工事とび・土工・コンクリート工事 | BA5: 一般土木工事、維持修繕工事 | BB5: 土木一式工事、とび・土工・ｺﾝｸﾘｰﾄ工事、しゅんせつ工事 | BC5: 工事成績（過去3年間で評価）
B6: 発注事務所名 | C6: 浜田県土整備事務所 | D6: ←直接入力 | L6: 工事成績 | M6: 保有資格 | N6: 防災協定 | O6: 近隣施工実績 | P6: ２ | Q6: （１） | R6: ① | S6: 【地域設定】 | T6: 一般土木工事 | U6: 土木一式工事 | V6: 有 | W6: 国局長 | X6: 国局長の表彰 | Y6: 契約工事名 | Z6: 単体 | AA6: 監理技術者 | AB6: 本店 | AC6: ｼｮﾍﾞﾙ系掘削機(ｼｮﾍﾞﾙ) | AD6: 保有 | AE6: 第1ｸﾞﾙｰﾌﾟ | AF6: 元請 | AG6: 除雪業務 | AX6: 一般土木工事 | AY6: しゅんせつ工事 | AZ6: =AX6&AY6 -> 一般土木工事しゅんせつ工事 | BA6: 一般土木工事、維持修繕工事 | BB6: 土木一式工事、とび・土工・ｺﾝｸﾘｰﾄ工事、しゅんせつ工事 | BC6: 工事成績（過去3年間で評価）
B7: 入札公告日 | C7: 46297 | D7: ←ｙｙｙｙ/m/dで入力【重要】 | G7: 入札公告日前日 | H7: =C7-1 -> 46296 | I7: ←削除厳禁 | L7: 同種工事実績 | M7: 同種工事経験 | N7: 家畜伝染病防疫協定 | O7: 会社所在地 | P7: ３ | Q7: （２） | R7: ② | T7: アスファルト舗装工事・特殊舗装工事（旧舗装工事） | U7: とび・土工・コンクリート工事 | V7: 無 | W7: 国整備局部長 | X7: 国整備局部長の表彰 | Y7: 表彰状記載工事名 | Z7: 特別（特定）JV | AA7: 主任技術者 | AB7: 支店 | AC7: ｼｮﾍﾞﾙ系掘削機(ﾊﾞｯｸﾎｳ) | AD7: リース契約 | AE7: 第2ｸﾞﾙｰﾌﾟ | AF7: 下請 | AG7: 散布業務 | AI7: 技術資料の提出方法の表示 | AX7: 維持修繕工事 | AY7: 土木一式工事 | AZ7: =AX7&AY7 -> 維持修繕工事土木一式工事 | BA7: 一般土木工事、維持修繕工事 | BB7: 土木一式工事、とび・土工・ｺﾝｸﾘｰﾄ工事、しゅんせつ工事 | BC7: 工事成績（過去3年間で評価）
B8: 工事種別 | C8: 一般土木工事 | D8: ←必須【入力結果が技術資料(企業成績評定点、技術者成績評定点）シートの対象工事欄に反映される】 | L8: 優良工事表彰 | M8: 技術者の表彰 | N8: ボランティア活動又はハートフルしまね | O8: 工場・会社所在地 | P8: ４ | Q8: （３） | R8: ③ | T8: 鋼橋上部工事 | U8: 鋼構造物工事 | W8: 国事務所長 | X8: 国事務所長の表彰 | Z8: 一般（経常）JV | AA8: 現場代理人 | AB8: 営業所 | AC8: ｼｮﾍﾞﾙ系掘削機(ﾄﾞﾗｸﾞﾗｲﾝ) | AE8: 第3ｸﾞﾙｰﾌﾟ | AG8: 除雪・散布業務 | AI8: 未記入 | AJ8: 「企業入力シート」の「押印済資料での提出」欄が未記入ですので、リストから「有」、「無」どちらかを選択してください | AX8: 維持修繕工事 | AY8: とび・土工・コンクリート工事 | AZ8: =AX8&AY8 -> 維持修繕工事とび・土工・コンクリート工事 | BA8: 一般土木工事、維持修繕工事 | BB8: 土木一式工事、とび・土工・ｺﾝｸﾘｰﾄ工事、しゅんせつ工事 | BC8: 工事成績（過去3年間で評価）
B9: 建設工事の種類 | C9: 土木一式工事 | D9: =IF(INDEX(AX3:BC31,MATCH(AY2,AZ3:AZ31,0),3)=AY2,INDEX(AX3:BC31,MATCH(AY2,AZ3:AZ31,0),6),"err") -> 工事成績（過去3年間で評価） | G9: ←エラー表示の場合、工事種別と建設工事の種類を再確認 | L9: プラント保有 | M9: 継続学習 | N9: 維持管理業務 | O9: サポート拠点 | P9: ５ | Q9: （４） | R9: ④ | T9: ﾌﾟﾚｽﾄﾚｽﾄｺﾝｸﾘｰﾄ構造物工事 | U9: 舗装工事 | W9: 知事 | X9: 知事表彰該当工事の表彰 | AA9: 担当技術者 | AC9: ｼｮﾍﾞﾙ系掘削機(ｸﾗﾑｼｪﾙ) | AI9: 無 | AJ9: 本技術資料により提出します | AX9: アスファルト舗装工事・特殊舗装工事（旧舗装工事） | AY9: 舗装工事 | AZ9: =AX9&AY9 -> アスファルト舗装工事・特殊舗装工事（旧舗装工事）舗装工事 | BA9: アスファルト舗装工事・特殊舗装工事（旧舗装工事）、維持修繕工事 | BB9: 舗装工事 | BC9: 工事成績（過去3年間で評価）
B10: 工事名 | C10: （一）跡市波子停車場線（跡市２工区）総合交付金（改築）工事 第６期 | L10: 法面機械保有 | M10: 技術者の成績 | N10: 除雪業務 | O10: - | P10: ６ | Q10: （５） | R10: ⑤ | T10: 港湾工事 | U10: しゅんせつ工事 | W10: 県課長 | X10: 県課長表彰該当工事の表彰 | AA10: 監理技術者補佐 | AC10: ｼｮﾍﾞﾙ系掘削機(ｸﾚｰﾝ) | AI10: 有 | AJ10: 事前審査・証明書、又は別添押印済資料により提出しますので、本書への記載は省略します | AX10: 維持修繕工事 | AY10: 舗装工事 | AZ10: =AX10&AY10 -> 維持修繕工事舗装工事 | BA10: アスファルト舗装工事・特殊舗装工事（旧舗装工事）、維持修繕工事 | BB10: 舗装工事 | BC10: 工事成績（過去3年間で評価）
B11: 押印済資料有効期限 | C11: 令和９年７月３１日までに入札公告された工事 | E11: 手引き年度 | F11: 令和８年度 | G11: 令和７年度 | H11: 令和６年度 | L11: OPD制度参加登録 | M11: - | N11: 労働福祉（障がい者雇用） | P11: ７ | Q11: （６） | R11: ⑥ | T11: 機械設備工事 | U11: 機械器具設置工事 | W11: 県事務所長 | X11: 県事務所長表彰該当工事の表彰 | AC11: ｼｮﾍﾞﾙ系掘削機(ﾊﾟｲﾙﾄﾞﾗｲﾊﾞｰ) | AI11: 申請なし | AJ11: 申請する場合は、「企業入力シート」の「押印済資料での提出」欄で「有」を選択してください | AX11: 鋼橋上部工事 | AY11: 鋼構造物工事 | AZ11: =AX11&AY11 -> 鋼橋上部工事鋼構造物工事 | BA11: 鋼橋上部工事 | BB11: 鋼構造物工事 | BC11: 工事成績（過去3年間で評価）
A12: （２）総合評価方式の評価項目、技術資料様式の番号情報 | L12: - | N12: 労働福祉（育児介護制度） | P12: ８ | R12: ⑦ | T12: 塗装工事 | U12: 塗装工事 | AC12: ﾌﾞﾙﾄﾞｰｻﾞｰ | AX12: ﾌﾟﾚｽﾄﾚｽﾄｺﾝｸﾘｰﾄ構造物工事 | AY12: 土木一式工事 | AZ12: =AX12&AY12 -> ﾌﾟﾚｽﾄﾚｽﾄｺﾝｸﾘｰﾄ構造物工事土木一式工事 | BA12: ﾌﾟﾚｽﾄﾚｽﾄｺﾝｸﾘｰﾄ構造物工事（旧ﾌﾟﾚｽﾄﾚｽﾄｺﾝｸﾘｰﾄ工事） | BB12: 土木一式工事 | BC12: 工事成績（過去3年間で評価）
B13: １．【表２】C列に発注工事の評価項目を入力してください（プルダウンリストから選択） | N13: 育児介護チェック表 | P13: ９ | R13: ⑧ | T13: 造園工事 | U13: 造園工事 | AC13: ﾄﾗｸﾀｰｼｮﾍﾞﾙ | AX13: 港湾工事 | AY13: 土木一式工事 | AZ13: =AX13&AY13 -> 港湾工事土木一式工事 | BA13: 港湾工事 | BB13: 土木一式工事、しゅんせつ工事 | BC13: 工事成績（過去3年間で評価）
B14: （特殊な評価項目でプルダウンリストに項目がない場合は、【表３】で項目を追加してください） | N14: 労働福祉（若手技術者雇用） | P14: １０ | R14: ⑨ | T14: さく井工事 | U14: さく井工事 | AC14: ﾓｰﾀｰｸﾞﾚｰﾀﾞｰ | AX14: 港湾工事 | AY14: しゅんせつ工事 | AZ14: =AX14&AY14 -> 港湾工事しゅんせつ工事 | BA14: 港湾工事 | BB14: 土木一式工事、しゅんせつ工事 | BC14: 工事成績（過去3年間で評価）
B15: ２．【表２】E～G列に様式番号と評価項目の番号をプルダウンリストで選択してください。 | N15: 登録基幹技能者 | P15: １１ | R15: ⑩ | T15: 法面処理工事 | U15: 電気工事 | AC15: 移動式ｸﾚｰﾝ | AX15: 機械設備工事 | AY15: 機械器具設置工事 | AZ15: =AX15&AY15 -> 機械設備工事機械器具設置工事 | BA15: 機械設備工事 | BB15: 機械器具設置工事、鋼構造物工事 | BC15: 工事成績（過去5年間で評価）
B16: （様式番号は表紙が1になるため、2から始まります。評価項目の番号は、入札説明書に記載する見出し番号とあわせてください） | N16: 若手・中堅技術者配置 | P16: １２ | T16: 維持修繕工事 | U16: 管工事 | AC16: 大型ﾀﾞﾝﾌﾟ車 | AX16: 機械設備工事 | AY16: 鋼構造物工事 | AZ16: =AX16&AY16 -> 機械設備工事鋼構造物工事 | BA16: 機械設備工事 | BB16: 機械器具設置工事、鋼構造物工事 | BC16: 工事成績（過去5年間で評価）
B17: ３．地域条件を設定する評価項目は、【表２】D列で【地域設定】を選択してください | N17: 若手技術者・若手従業員の新規雇用 | P17: １３ | T17: グラウト工事 | U17: 水道施設工事 | AX17: 塗装工事 | AY17: 塗装工事 | AZ17: =AX17&AY17 -> 塗装工事塗装工事 | BA17: 塗装工事、維持修繕工事 | BB17: 塗装工事 | BC17: 工事成績（過去5年間で評価）
B18: 【表２】 | F18: 様式番号 | G18: 評価項目（１）－①（例） | N18: 建設機械保有状況 | P18: １４ | T18: 管工事 | U18: 消防施設工事 | AX18: 維持修繕工事 | AY18: 塗装工事 | AZ18: =AX18&AY18 -> 維持修繕工事塗装工事 | BA18: 塗装工事、維持修繕工事 | BB18: 塗装工事 | BC18: 工事成績（過去5年間で評価）
B19: 区分 | C19: 評価項目 | D19: 地域設定 | E19: 様式－○ | F19: 評価項目○－○ | H19: ↓押印済資料提出状況【削除厳禁】 | N19: 消防団協力事業所 | P19: １５ | T19: 電気工事 | U19: 電気通信工事 | AX19: 造園工事 | AY19: 造園工事 | AZ19: =AX19&AY19 -> 造園工事造園工事 | BA19: 造園工事 | BB19: 造園工事 | BC19: 工事成績（過去5年間で評価）
B20: 企業 | C20: 工事成績 | E20: ２ | F20: （１） | G20: ① | H20: =IF(企業入力シート!B44="","未記入",企業入力シート!B44) -> 未記入 | N20: 応急危険度判定士 | P20: １６ | T20: 通信設備工事 | AX20: さく井工事 | AY20: さく井工事 | AZ20: =AX20&AY20 -> さく井工事さく井工事 | BA20: さく井工事 | BB20: さく井工事 | BC20: 工事成績（過去5年間で評価）
B21: 企業 | H21: =IF(企業入力シート!B45="","未記入",企業入力シート!B45) -> 未記入 | N21: 災害復旧工事受注実績 | P21: １７ | AX21: 法面処理工事 | AY21: とび・土工・コンクリート工事 | AZ21: =AX21&AY21 -> 法面処理工事とび・土工・コンクリート工事 | BA21: 法面処理工事 | BB21: とび・土工・コンクリート工事 | BC21: 工事成績（過去3年間で評価）
B22: 企業 | H22: =IF(企業入力シート!B46="","未記入",企業入力シート!B46) -> 未記入 | N22: 海上援助活動 | P22: １８ | AX22: 電気工事 | AY22: 電気工事 | AZ22: =AX22&AY22 -> 電気工事電気工事 | BA22: 電気工事、維持修繕工事 | BB22: 電気工事 | BC22: 工事成績（過去5年間で評価）
B23: 企業 | H23: =IF(企業入力シート!B47="","未記入",企業入力シート!B47) -> 未記入 | N23: BCP認定状況 | P23: １９ | AX23: 電気工事 | AY23: 消防施設工事 | AZ23: =AX23&AY23 -> 電気工事消防施設工事 | BA23: 電気工事、維持修繕工事 | BB23: 電気工事 | BC23: 工事成績（過去5年間で評価）
B24: 企業 | H24: =IF(企業入力シート!B48="","未記入",企業入力シート!B48) -> 未記入 | N24: - | P24: ２０ | AX24: 維持修繕工事 | AY24: 電気工事 | AZ24: =AX24&AY24 -> 維持修繕工事電気工事 | BA24: 電気工事、維持修繕工事 | BB24: 電気工事 | BC24: 工事成績（過去5年間で評価）
B25: 配置予定技術者 | C25: 保有資格 | E25: ３ | F25: （２） | G25: ① | H25: =IF(企業入力シート!$C$18="","配置なし",IF(企業入力シート!B65="","未記入",企業入力シート!B65)) -> 配置なし | I25: =IF(企業入力シート!$C$19="","配置なし",IF(企業入力シート!B72="","未記入",企業入力シート!B72)) -> 配置なし | J25: =IF(企業入力シート!$C$20="","配置なし",IF(企業入力シート!B79="","未記入",企業入力シート!B79)) -> 配置なし | N25: - | P25: ２１ | AX25: グラウト工事 | AY25: 土木一式工事 | AZ25: =AX25&AY25 -> グラウト工事土木一式工事 | BA25: グラウト工事 | BB25: 土木一式工事、とび・土工・ｺﾝｸﾘｰﾄ工事 | BC25: 工事成績（過去5年間で評価）
B26: 配置予定技術者 | H26: =IF(企業入力シート!$C$18="","配置なし",IF(企業入力シート!B66="","未記入",企業入力シート!B66)) -> 配置なし | I26: =IF(企業入力シート!$C$19="","配置なし",IF(企業入力シート!B73="","未記入",企業入力シート!B73)) -> 配置なし | J26: =IF(企業入力シート!$C$20="","配置なし",IF(企業入力シート!B80="","未記入",企業入力シート!B80)) -> 配置なし | P26: ２２ | AX26: グラウト工事 | AY26: とび・土工・コンクリート工事 | AZ26: =AX26&AY26 -> グラウト工事とび・土工・コンクリート工事 | BA26: グラウト工事 | BB26: 土木一式工事、とび・土工・ｺﾝｸﾘｰﾄ工事 | BC26: 工事成績（過去5年間で評価）
B27: 配置予定技術者 | H27: =IF(企業入力シート!$C$18="","配置なし",IF(企業入力シート!B67="","未記入",企業入力シート!B67)) -> 配置なし | I27: =IF(企業入力シート!$C$19="","配置なし",IF(企業入力シート!B74="","未記入",企業入力シート!B74)) -> 配置なし | J27: =IF(企業入力シート!$C$20="","配置なし",IF(企業入力シート!B81="","未記入",企業入力シート!B81)) -> 配置なし | P27: ２３ | AX27: 管工事 | AY27: 管工事 | AZ27: =AX27&AY27 -> 管工事管工事 | BA27: 管工事 | BB27: 管工事、水道施設工事 | BC27: 工事成績（過去5年間で評価）
B28: 配置予定技術者 | H28: =IF(企業入力シート!$C$18="","配置なし",IF(企業入力シート!B68="","未記入",企業入力シート!B68)) -> 配置なし | I28: =IF(企業入力シート!$C$19="","配置なし",IF(企業入力シート!B75="","未記入",企業入力シート!B75)) -> 配置なし | J28: =IF(企業入力シート!$C$20="","配置なし",IF(企業入力シート!B82="","未記入",企業入力シート!B82)) -> 配置なし | P28: ２４ | AX28: 管工事 | AY28: 水道施設工事 | AZ28: =AX28&AY28 -> 管工事水道施設工事 | BA28: 管工事 | BB28: 管工事、水道施設工事 | BC28: 工事成績（過去5年間で評価）
B29: 地域貢献・その他 | C29: 防災協定 | E29: ４ | F29: （３） | G29: ① | H29: =IF(企業入力シート!B52="","未記入",企業入力シート!B52) -> 未記入 | P29: ２５ | AX29: 通信設備工事 | AY29: 電気通信工事 | AZ29: =AX29&AY29 -> 通信設備工事電気通信工事 | BA29: 通信設備工事 | BB29: 電気通信工事 | BC29: 工事成績（過去5年間で評価）
B30: 地域貢献・その他 | C30: ボランティア活動又はハートフルしまね | D30: 【地域設定】 | E30: ５ | F30: （３） | G30: ② | H30: =IF(企業入力シート!B53="","未記入",企業入力シート!B53) -> 未記入 | P30: ２６ | AX30: 一般土木工事 | AY30: 鋼構造物工事 | AZ30: =AX30&AY30 -> 一般土木工事鋼構造物工事 | BC30: 評価対象工事は、個別判断
B31: 地域貢献・その他 | C31: 維持管理業務 | D31: 【地域設定】 | E31: ６ | F31: （３） | G31: ③ | H31: =IF(企業入力シート!B54="","未記入",企業入力シート!B54) -> 未記入 | P31: ２７ | AX31: 維持修繕工事 | AY31: 鋼構造物工事 | AZ31: =AX31&AY31 -> 維持修繕工事鋼構造物工事 | BC31: 評価対象工事は、個別判断
B32: 地域貢献・その他 | C32: 除雪業務 | D32: 【地域設定】 | E32: ７ | F32: （３） | G32: ④ | H32: =IF(企業入力シート!B55="","未記入",企業入力シート!B55) -> 未記入
B33: 地域貢献・その他 | C33: 若手技術者・若手従業員の新規雇用 | E33: ８ | F33: （３） | G33: ⑤ | H33: =IF(企業入力シート!B56="","未記入",企業入力シート!B56) -> 未記入
B34: 地域貢献・その他 | H34: =IF(企業入力シート!B57="","未記入",企業入力シート!B57) -> 未記入
B35: 地域貢献・その他 | H35: =IF(企業入力シート!B58="","未記入",企業入力シート!B58) -> 未記入 | L35: 【表４】表紙記載文リスト
B36: 地域貢献・その他 | H36: =IF(企業入力シート!B59="","未記入",企業入力シート!B59) -> 未記入 | L36: 【表４】を編集すると技術資料（表紙）「2 提出書類（必要な項目について）」で記載する様式の名称変更ができます。
B37: 地域貢献・その他 | H37: =IF(企業入力シート!B60="","未記入",企業入力シート!B60) -> 未記入 | L37: （【隠岐】企業の法面機械保有は、機械名が○○になっていますので、必ず編集が必要です。）
B38: 地域貢献・その他 | H38: =IF(企業入力シート!B61="","未記入",企業入力シート!B61) -> 未記入 | L38: 【表４】
B39: 地理的条件 | C39: 会社所在地 | D39: 【地域設定】 | E39: ９ | F39: （４） | G39: ① | L39: ↓【重要】表２のD列で項目を記載したもの以外は、エラー表示される【編集厳禁】
B40: 地理的条件 | L40: 様式番号 | M40: 区分 | N40: 評価項目名 | O40: 表紙記載文
...

Sheet 企業入力シート
A1: 1.企業情報
A2: 表のC列（赤枠内）に企業情報を入力してください。入力した情報は、各種様式に反映されます。
B3: 項目名 | C3: 企業情報記入欄
A4: 1 | B4: 提出日 | D4: ←ｙｙｙｙ/m/dで入力
A5: 2
A6: 3 | B6: 住所
A7: 4 | B7: 商号又は名称
A8: 5 | B8: 代表者
A9: 6 | B9: 担当者
A10: 7 | B10: 部署
A11: 8 | B11: 電話番号
A12: 9 | B12: ＦＡＸ番号
A13: 10 | B13: Ｅ－mail
A15: 2.配置予定技術者の氏名
A16: 表のC・D列（赤枠内）に配置予定技術者情報を入力してください。入力した情報は、各種様式に反映されます。
B17: 配置予定技術者 | C17: 氏名記入欄 | D17: 生年月日
A18: 1 | B18: 配置予定技術者① | E18: ←ｙｙｙｙ/m/dで入力
A19: 2 | B19: 配置予定技術者② | E19: ←ｙｙｙｙ/m/dで入力
A20: 3 | B20: 配置予定技術者③ | E20: ←ｙｙｙｙ/m/dで入力
A22: 3.事前審査・証明書による申請
A23: 事前審査・証明書で提出する評価項目がある場合、該当するものに「○」を入力してください。事前審査・証明書で提出する項目については、技術資料及び添付資料を提出する必要はありません。
A24: 下欄の入力内容は「表紙」シートに反映されます。
A25: =COUNTA(B26:B35) -> 0 | B25: 証明書での提出 | C25: 項目 | K25: ○
A26: =COUNTA(B26) -> 0 | C26: 【土木一式】企業の工事成績評定点（県）
A27: =COUNTA($B$26:B27) -> 0 | C27: 【舗装】企業の工事成績評定点（県）
A28: =COUNTA($B$26:B28) -> 0 | C28: 【法面】企業の工事成績評定点（県）
A29: =COUNTA($B$26:B29) -> 0 | C29: 【港湾】企業の工事成績評定点（県）
A30: =COUNTA($B$26:B30) -> 0 | C30: 防災協定の締結実績
A31: =COUNTA($B$26:B31) -> 0 | C31: 家畜伝染病防疫協定の締結実績
A32: =COUNTA($B$26:B32) -> 0 | C32: ボランティア活動又はハートフルしまねへの参加実績
A33: =COUNTA($B$26:B33) -> 0 | C33: 維持管理業務等の契約実績（県）
A34: =COUNTA($B$26:B34) -> 0 | C34: 除雪業務の契約実績（県）
A35: =COUNTA($B$26:B35) -> 0 | C35: 労働福祉関連（育児介護・こっころ）
A37: 4.押印済資料で提出する評価項目
A38: 発注者収受印欄に押印した技術資料の写し（以下「押印済資料」という。）で技術資料を提出する評価項目がある場合は、表のB列（赤枠）に「有」を、ない場合は「無」を選択してください。
A40: 「有」を選択した評価項目は、このファイルで技術資料を作成する必要はありません。押印済資料のみ提出してください。
A42: ＜企業＞
B43: 押印済資料での提出 | C43: 様式名
C44: =INDEX(発注者入力シート!$L$41:$T$48,MATCH(発注者入力シート!C20,発注者入力シート!$N$41:$N$48,0),4) -> ○企業の工事成績評定点 （様式-２-１、様式-２-２）
C45: =INDEX(発注者入力シート!$L$41:$T$48,MATCH(発注者入力シート!C21,発注者入力シート!$N$41:$N$48,0),4) -> 表３【企業】評価項目の着色セルに項目を記入した場合、ここに記載文を直接入力！
...

Sheet ファイル使用上の注意事項
A1: 技術資料作成用エクセル形式の電子ファイル使用上の注意事項
A3: ○技術資料【PDF形式】と参考資料【本エクセル形式】の位置づけについて
A4: (1) | B4: 本エクセル形式で作成したデータをPDF形式に変換したものを「技術資料」として、提出しなければなりません。 （提出：必須）
A6: (2) | B6: 本エクセル形式は、発注者が技術資料の審査を行う際に「参考資料」として使用しますので、提出の協力をお願いします。 本エクセル形式のみの提出をもって、技術資料を提出したことにはなりませんので、ご注意ください。
A11: ○エクセル形式使用時及び技術資料提出時の注意事項について
A12: (1) | B12: 行高・列幅不足により文字切れや「＃＃＃＃」表示で出力されていないか、提出する前に必ず印刷物で確認してください。
A14: (2) | B14: 文字切れや「＃＃＃＃」表示になっている場合、行高・列幅を広げる、文字を縮小して表示させるなど調整してください。
A16: (3) | B16: 発注者専用シート（シート名が赤色シート）には触れないでください。
A17: (4) | B17: 記入しない様式があっても、シートは絶対に削除しないでください。
A18: (5) | B18: 各様式の企業直接入力欄（青色着色セル）に記入する際、結合されたセルは絶対に解除しないでください。
A20: (6) | B20: 技術資料様式は、「ページ設定」で「白黒印刷」と「印刷範囲」を設定していますので、画面表示の着色セルも白色で印刷されます。
A23: ○数式に不具合があった場合の対応について
A24: (1) | B24: 本エクセル形式に設定されている数式に不具合があり、正しく表示されない場合がありましたら、直接セルに正しいものを記入してください。
A27: ○技術資料の審査について
A28: (1) | B28: 発注者は、技術資料【PDF形式】に記載された内容により審査しますので、提出書類に記載漏れ、添付漏れ、文字切れ等の不備がないか必ず確認してください。
A31: ○本エクセル形式のシート名着色の区分について
A32: シート名着色の区分は次のとおりです
B33: ：発注者専用シート（企業は入力厳禁です！！）
B34: ：企業専用シート（企業入力シート（申請企業の基本情報を入力）、質問書など）
B36: ：技術資料様式の表紙シート、ファイル使用上の注意事項シート
B37: ：「企業の評価」様式シート
B38: ：「配置予定技術者」様式シート
B39: ：「地域貢献・その他の評価」様式シート
B40: ：「地理的条件の評価」様式シート
A42: ○技術資料様式の凡例について
A43: 技術資料様式のセルの着色の凡例は次の通りです
A44: 着色セルの凡例
A45: （企業）
B46: ：「企業入力シート」で入力した情報が表示される箇所（数式でリンク有）
B47: ：セルに直接入力が必要な箇所
A49: （発注者）
B50: ：「発注者入力シート」や他のシートで入力した情報が表示される箇所（数式でリンク有）
B51: ：セルに直接入力が必要な箇所
A53: （企業・発注者共通事項）
B54: ：同じシート内で入力した情報が表示される箇所（数式でリンク有）

Sheet 発注者設定内容確認シート
A1: 入札公告日： | D1: =発注者入力シート!C7 -> 46297
A2: 工事名： | D2: =発注者入力シート!C10 -> （一）跡市波子停車場線（跡市２工区）総合交付金（改築）工事 第６期
A3: 不要な項目は、非表示にしてください（行の削除厳禁）
A4: 発注者入力シートで選択していない項目は、エラー表示になります
A5: 評価項目番号 | D5: 区分 | E5: 評価項目 | F5: 評価対象事項 | G5: 評価基準（様式記載内容）
A6: =INDEX(発注者入力シート!$B$20:$G$24,MATCH(発注者入力シート!L6,発注者入力シート!$C$20:$C$24,0),5) -> （１） | B6: - | C6: =INDEX(発注者入力シート!$B$20:$G$24,MATCH(発注者入力シート!L6,発注者入力シート!$C$20:$C$24,0),6) -> ① | D6: 企業 | E6: 工事成績(3年用) | F6: 完成年度 | G6: =IF(企業成績評定点!G6="","",企業成績評定点!G6) -> 令和５年度から令和７年度（完成及び引き渡しが完了）
A7: =A6 -> （１） | B7: - | C7: =C6 -> ① | F7: 発注機関 | G7: =IF(企業成績評定点!G7="","",企業成績評定点!G7) -> 島根県（総務部、農林水産部、土木部）
A8: =A6 -> （１） | B8: - | C8: =C6 -> ① | F8: 工事種別 | G8: =IF(企業成績評定点!G8="","",企業成績評定点!G8) -> 一般土木工事、維持修繕工事
A9: =A6 -> （１） | B9: - | C9: =C6 -> ① | F9: 建設工事の種類 | G9: =IF(企業成績評定点!G9="","",企業成績評定点!G9) -> 土木一式工事、とび・土工・ｺﾝｸﾘｰﾄ工事、しゅんせつ工事
A10: =INDEX(発注者入力シート!$B$25:$G$28,MATCH(発注者入力シート!M6,発注者入力シート!$C$25:$C$28,0),5) -> （２） | B10: - | C10: =INDEX(発注者入力シート!$B$25:$G$28,MATCH(発注者入力シート!M6,発注者入力シート!$C$25:$C$28,0),6) -> ① | D10: 配置予定技術者 | E10: 資格 | F10: 対象資格 | G10: =IF(技術者資格!B9="","",技術者資格!B9) -> １級もしくは２級土木施工管理技士、または1級もしくは２級建設機械施工技士
A11: =INDEX(発注者入力シート!$B$29:$G$38,MATCH(発注者入力シート!N6,発注者入力シート!$C$29:$C$38,0),5) -> （３） | B11: - | C11: =INDEX(発注者入力シート!$B$29:$G$38,MATCH(発注者入力シート!N6,発注者入力シート!$C$29:$C$38,0),6) -> ① | D11: 地域貢献・その他 | E11: 防災協定 | F11: 対象 | G11: =IF(防災協定・家畜伝染病防疫協定!T15=1,防災協定・家畜伝染病防疫協定!B8,"－") -> 令和６年度及び令和７年度における島根県との防災協定の締結実績
A12: =INDEX(発注者入力シート!$B$29:$G$38,MATCH(発注者入力シート!N7,発注者入力シート!$C$29:$C$38,0),5) -> #N/A | B12: - | C12: =INDEX(発注者入力シート!$B$29:$G$38,MATCH(発注者入力シート!N7,発注者入力シート!$C$29:$C$38,0),6) -> #N/A | D12: 地域貢献・その他 | E12: 家畜伝染病防疫協定 | F12: 対象 | G12: =IF(防災協定・家畜伝染病防疫協定!T15=2,防災協定・家畜伝染病防疫協定!B8,"－") -> －
A13: =INDEX(発注者入力シート!$B$29:$G$38,MATCH(発注者入力シート!N8,発注者入力シート!$C$29:$C$38,0),5) -> （３） | B13: - | C13: =INDEX(発注者入力シート!$B$29:$G$38,MATCH(発注者入力シート!N8,発注者入力シート!$C$29:$C$38,0),6) -> ② | D13: 地域貢献・その他 | E13: ボランティア | F13: 対象 | G13: =IF(ボランティア!B6="","",ボランティア!B6) -> 令和６年度及び令和７年度のボランティア活動又はハートフルしまねへの参加実績
A14: =A13 -> （３） | B14: - | C14: =C13 -> ② | F14: 評価対象地域 | G14: =IF(ボランティア!D8="","",ボランティア!D8) -> 江津市（桜江町を除く）内
A15: =INDEX(発注者入力シート!$B$29:$G$38,MATCH(発注者入力シート!N9,発注者入力シート!$C$29:$C$38,0),5) -> （３） | B15: - | C15: =INDEX(発注者入力シート!$B$29:$G$38,MATCH(発注者入力シート!N9,発注者入力シート!$C$29:$C$38,0),6) -> ③ | D15: 地域貢献・その他 | E15: 維持管理業務 | F15: 対象 | G15: =IF(維持管理業務!B7="","",維持管理業務!B7) -> 令和６年度及び令和７年度の県管理公共土木施設に関する維持管理業務または海岸漂着物の回収業務の契約実績
A16: =A15 -> （３） | B16: - | C16: =C15 -> ③ | F16: 評価対象地域 | G16: =IF(維持管理業務!D10="","",維持管理業務!D10) -> 江津市（桜江町を除く）内
A17: =INDEX(発注者入力シート!$B$29:$G$38,MATCH(発注者入力シート!N10,発注者入力シート!$C$29:$C$38,0),5) -> （３） | B17: - | C17: =INDEX(発注者入力シート!$B$29:$G$38,MATCH(発注者入力シート!N10,発注者入力シート!$C$29:$C$38,0),6) -> ④ | D17: 地域貢献・その他 | E17: 除雪業務 | F17: 対象 | G17: =IF(除雪業務!B8="","",除雪業務!B8) -> 令和６年度及び令和７年度の県管理道路・空港または市町村管理道路を含む除雪業務の契約実績
A18: =A17 -> （３） | B18: - | C18: =C17 -> ④ | F18: 評価対象地域 | G18: =IF(除雪業務!D11="","",除雪業務!D11) -> 江津市（桜江町を除く）内
A19: =INDEX(発注者入力シート!$B$29:$G$38,MATCH(発注者入力シート!N16,発注者入力シート!$C$29:$C$38,0),5) -> #N/A | B19: - | C19: =INDEX(発注者入力シート!$B$29:$G$38,MATCH(発注者入力シート!N16,発注者入力シート!$C$29:$C$38,0),6) -> #N/A | D19: 地域貢献・その他 | E19: 若手・中堅技術者配置 | F19: 対象 | G19: =IF(若手・中堅技術者の配置!B9="","",若手・中堅技術者の配置!B9) -> ４０歳未満の技術者を主任技術者又は監理技術者として配置
A20: =INDEX(発注者入力シート!$B$29:$G$38,MATCH(発注者入力シート!N17,発注者入力シート!$C$29:$C$38,0),5) -> （３） | B20: - | C20: =INDEX(発注者入力シート!$B$29:$G$38,MATCH(発注者入力シート!N17,発注者入力シート!$C$29:$C$38,0),6) -> ⑤ | D20: 地域貢献・その他 | E20: 若手技術者・若手従業員の新規雇用 | F20: 対象 | G20: =IF(若手技術者・従業員新規雇用!B8="","",若手技術者・従業員新規雇用!B8) -> 令和６年４月１日以降に、若手技術者・若手従業員（30歳未満の者）の１人以上の新規雇用があること。
A21: =INDEX(発注者入力シート!$B$29:$G$38,MATCH(発注者入力シート!N18,発注者入力シート!$C$29:$C$38,0),5) -> #N/A | B21: - | C21: =INDEX(発注者入力シート!$B$29:$G$38,MATCH(発注者入力シート!N18,発注者入力シート!$C$29:$C$38,0),6) -> #N/A | D21: 地域貢献・その他 | E21: 建設機械保有状況（土木一式用） | F21: 対象 | G21: =IF('建設機械の保有状況（土木一式用）'!B6="","",'建設機械の保有状況（土木一式用）'!B6) -> 入札公告日前日時点（令和8年10月1日時点）で建設機械を３台以上保有もしくは長期リース契約していること
A22: =INDEX(発注者入力シート!$B$29:$G$38,MATCH(発注者入力シート!N18,発注者入力シート!$C$29:$C$38,0),5) -> #N/A | B22: - | C22: =INDEX(発注者入力シート!$B$29:$G$38,MATCH(発注者入力シート!N18,発注者入力シート!$C$29:$C$38,0),6) -> #N/A | D22: 地域貢献・その他 | E22: 建設機械保有状況（ほ装用） | F22: 対象 | G22: =IF('建設機械の保有状況 (舗装用)'!B6="","",'建設機械の保有状況 (舗装用)'!B6) -> 入札公告日前日時点（令和8年10月1日時点）でモーターグレーダー（自重5t以上）を保有もしくは長期リース契約していること
A23: =INDEX(発注者入力シート!$B$29:$G$38,MATCH(発注者入力シート!N21,発注者入力シート!$C$29:$C$38,0),5) -> #N/A | B23: - | C23: =INDEX(発注者入力シート!$B$29:$G$38,MATCH(発注者入力シート!N21,発注者入力シート!$C$29:$C$38,0),6) -> #N/A | D23: 地域貢献・その他 | E23: 災害復旧工事受注実績 | F23: 対象 | G23: =災害復旧実績!F9 -> 令和７年度に受注した島根県が発注した災害復旧工事
A24: =INDEX(発注者入力シート!$B$29:$G$38,MATCH(発注者入力シート!N21,発注者入力シート!$C$29:$C$38,0),5) -> #N/A | B24: - | C24: =INDEX(発注者入力シート!$B$29:$G$38,MATCH(発注者入力シート!N21,発注者入力シート!$C$29:$C$38,0),6) -> #N/A | F24: 評価対象地域 | G24: =災害復旧実績!F13 -> 島根県内
A25: =INDEX(発注者入力シート!$B$39:$G$40,MATCH(発注者入力シート!O7,発注者入力シート!$C$39:$C$40,0),5) -> （４） | B25: - | C25: =INDEX(発注者入力シート!$B$39:$G$40,MATCH(発注者入力シート!O7,発注者入力シート!$C$39:$C$40,0),6) -> ① | D25: 地理的条件 | E25: 会社所在地 | F25: 対象 | G25: =IF(会社所在地!B10="","",会社所在地!B10) -> 入札公告日前日において、評価対象地域内に建設業法で規定する主たる営業所（本店）または従たる営業所（支店、営業所）がある者
A26: =A25 -> （４） | B26: - | C26: =C25 -> ① | F26: 評価対象地域 | G26: =IF(会社所在地!D13="","",会社所在地!D13) -> 江津市（桜江町を除く）内

Sheet 発注者審査作業用シート（提案以外）
A1: このシートは、「技術審査用ファイル」の「作業用シート」に一括コピー作業を行うためのものです
A2: ＜シートの説明＞
B3: ・「技術審査用ファイル」の「作業用シート」へ一括コピーするため、「コピー専用表」をこのシートに設定しています。
B4: ・コピーする範囲は、「コピー専用表」の薄オレンジ部分（評価項目：１９～２５行）と白色部分（企業申請内容：２６行～３３行）です。
B5: ・文字切れやフォントサイズの修正は、「技術審査用ファイル」で行いますので、このシートでは作業不要です。
B6: ・「コピー専用表」は、「技術審査用ファイル」の「技術審査用シート」で見えやすいように概ね書式調整しています。「技術審査用シート」で見えにくいときのみ、コピー専用表の書式を修正してください。
A7: ＜作業手順＞・・・・以下の作業は、必ず別ファイルとして公告用ファイルを作成し、公告用ファイルで作業してください（１回シートや列を削除すると元の状態に戻せなくなります）。
A8: 準備作業： | B8: 不要な評価項目の列全体をこのシートから削除。不要な様式も削除してください。
B9: 評価項目の列全体を削除する際、コピー先の配列（「技術審査用ファイル」）に合わせておく必要があります（「技術審査用ファイル」の自動集計に支障が生じるため）。
B10: 予備欄等を活用して配列を合わせてください。
B11: 「技術審査用ファイル」の固定配列（※１項目３列で設定してあります）
B12: 企業：４項目、配置予定技術者①：４項目、配置予定技術者②：４項目、配置予定技術者③：４項目、地域貢献・その他：５項目、地理的条件：２項目
A13: 手順①： | B13: 「コピー専用表」の薄オレンジ部分全体を指定しコピー後、「技術審査用ファイル」の「作業用シート」の「貼り付け箇所A」に、貼り付けオプションの「値」で貼り付け。
A14: 手順②： | B14: 手順①の後、同じ場所（貼り付け箇所A）に貼り付けオプションの「書式設定」で貼り付けると、コピー専用行で設定された書式でコピー可能。
A15: 手順③： | B15: 手順①、手順②の方法により、「コピー専用表」の白色部分全体を「技術審査用ファイル」の「作業用シート」の「貼り付け箇所B」に貼り付け。
A17: 以下、審査用ファイルの「作業用」シートへの「コピー専用表」 | F17: 審査用ファイルコピー先の列数と合わせるため削除× | I17: 審査用ファイルコピー先の列数と合わせるため削除× | L17: 審査用ファイルコピー先の列数と合わせるため削除× | R17: 審査用ファイルコピー先の列数と合わせるため削除× | U17: 審査用ファイルコピー先の列数と合わせるため削除× | X17: 審査用ファイルコピー先の列数と合わせるため削除× | AD17: 審査用ファイルコピー先の列数と合わせるため削除× | AG17: 審査用ファイルコピー先の列数と合わせるため削除× | AJ17: 審査用ファイルコピー先の列数と合わせるため削除× | AP17: 審査用ファイルコピー先の列数と合わせるため削除× | AS17: 審査用ファイルコピー先の列数と合わせるため削除× | AV17: 審査用ファイルコピー先の列数と合わせるため削除× | BQ17: 審査用ファイルコピー先の列数と合わせるための列 | BT17: 審査用ファイルコピー先の列数と合わせるための列
B18: 行番号 | C18: =CONCATENATE("様式-",INDEX(発注者入力シート!$B$20:$G$24,MATCH(発注者入力シート!L6,発注者入力シート!$C$20:$C$24,0),4)) -> 様式-２ | O18: =CONCATENATE("様式-",INDEX(発注者入力シート!$B$25:$G$28,MATCH(発注者入力シート!M6,発注者入力シート!$C$25:$C$28,0),4)) -> 様式-３ | AA18: =CONCATENATE("様式-",INDEX(発注者入力シート!$B$25:$G$28,MATCH(発注者入力シート!M6,発注者入力シート!$C$25:$C$28,0),4)) -> 様式-３ | AM18: =CONCATENATE("様式-",INDEX(発注者入力シート!$B$25:$G$28,MATCH(発注者入力シート!M6,発注者入力シート!$C$25:$C$28,0),4)) -> 様式-３ | AP18: =CONCATENATE("様式-",INDEX(発注者入力シート!$B$25:$G$28,MATCH(発注者入力シート!M7,発注者入力シート!$C$25:$C$28,0),4)) -> #N/A | AY18: {=CONCATENATE("様式-",INDEX(発注者入力シート!$B$29:$G$38,MATCH(TRUE,(発注者入力シート!$C$29:$C$38=発注者入力シート!N6)+(発注者入力シート!$C$29:$C$38=発注者入力シート!N7)>0,0),4))} -> 様式-４ | BB18: =CONCATENATE("様式-",INDEX(発注者入力シート!$B$29:$G$38,MATCH(発注者入力シート!N8,発注者入力シート!$C$29:$C$38,0),4)) -> 様式-５ | BE18: =CONCATENATE("様式-",INDEX(発注者入力シート!$B$29:$G$38,MATCH(発注者入力シート!N9,発注者入力シート!$C$29:$C$38,0),4)) -> 様式-６ | BH18: =CONCATENATE("様式-",INDEX(発注者入力シート!$B$29:$G$38,MATCH(発注者入力シート!N10,発注者入力シート!$C$29:$C$38,0),4)) -> 様式-７ | BK18: =CONCATENATE("様式-",INDEX(発注者入力シート!$B$29:$G$38,MATCH(発注者入力シート!N17,発注者入力シート!$C$29:$C$38,0),4)) -> 様式-８ | BN18: =CONCATENATE("様式-",INDEX(発注者入力シート!$B$39:$G$40,MATCH(発注者入力シート!O7,発注者入力シート!$C$39:$C$40,0),4)) -> 様式-９ | BQ18: =CONCATENATE("様式-",INDEX(発注者入力シート!$B$39:$G$40,MATCH(発注者入力シート!O11,発注者入力シート!$C$39:$C$40,0),4)) -> #N/A
A19: コピー専用行 | B19: a0 | C19: 企業 | O19: 配置予定技術者① | AA19: 配置予定技術者② | AM19: 配置予定技術者③ | AY19: 地域貢献・その他 | BB19: 地域貢献・その他 | BE19: 地域貢献・その他 | BH19: 地域貢献・その他 | BK19: 地域貢献・その他 | BN19: 地理的条件 | BQ19: 地理的条件 | BT19: 地理的条件
A20: コピー専用行 | B20: a1 | C20: 工事成績評定点 | O20: 資格 | AA20: 資格 | AM20: 資格 | AY20: =AY38 -> 防災協定 | BB20: ボランティア | BE20: 維持管理 | BH20: 除雪業務 | BK20: 若手技術者・従業員の新規雇用 | BN20: 会社所在地 | BQ20: 予備欄１ | BT20: 予備欄２
A21: コピー専用行 | B21: a | C21: =C39 -> 完成年度 | D21: =D39 -> 令和５年度から令和７年度（完成及び引き渡しが完了） | E21: =E39 -> 0 | O21: =O39 -> 対象資格 | P21: =P39 -> １級もしくは２級土木施工管理技士、または1級もしくは２級建設機械施工技士 | Q21: =Q39 -> 0 | AA21: =AA39 -> 対象資格 | AB21: =AB39 -> １級もしくは２級土木施工管理技士、または1級もしくは２級建設機械施工技士 | AC21: =AC39 -> 0 | AM21: =AM39 -> 対象資格 | AN21: =AN39 -> １級もしくは２級土木施工管理技士、または1級もしくは２級建設機械施工技士 | AY21: =AY39 -> 対象 | AZ21: =AZ39 -> 令和６年度及び令和７年度における島根県との防災協定の締結実績 | BA21: =BA39 -> 0 | BB21: =BB39 -> 対象 | BC21: =ボランティア!B6 -> 令和６年度及び令和７年度のボランティア活動又はハートフルしまねへの参加実績 | BE21: =BE39 -> 対象 | BF21: =BF39 -> 令和６年度及び令和７年度の県管理公共土木施設に関する維持管理業務または海岸漂着物の回収業務の契約実績 | BH21: =BH39 -> 対象 | BI21: =BI39 -> 令和６年度及び令和７年度の県管理道路・空港または市町村管理道路を含む除雪業務の契約実績 | BK21: =BK39 -> 対象 | BL21: =BL39 -> 令和６年４月１日以降に、若手技術者・若手従業員（30歳未満の者）の１人以上の新規雇用があること。 | BN21: =BN39 -> 対象 | BO21: =BO39 -> 入札公告日前日において、評価対象地域内に建設業法で規定する主たる営業所（本店）または従たる営業所（支店、営業所）がある者
A22: コピー専用行 | B22: b | C22: =C40 -> 発注機関 | D22: =D40 -> 島根県（総務部、農林水産部、土木部） | E22: =E40 -> 0 | O22: =O40 -> 0 | P22: =P40 -> 0 | Q22: =Q40 -> 0 | AA22: =AA40 -> 0 | AB22: =AB40 -> 0 | AC22: =AC40 -> 0 | AY22: =AY40 -> 0 | AZ22: =AZ40 -> 0 | BA22: =BA40 -> 0
A23: コピー専用行 | B23: c | C23: =C41 -> 工事種別 | D23: =D41 -> 一般土木工事、維持修繕工事 | E23: =E41 -> 0 | O23: =O41 -> 0 | P23: =P41 -> 0 | Q23: =Q41 -> 0 | AA23: =AA41 -> 0 | AB23: =AB41 -> 0 | AC23: =AC41 -> 0 | AY23: =AY41 -> 0 | AZ23: =AZ41 -> 0 | BA23: =BA41 -> 0
A24: コピー専用行 | B24: d | C24: =C42 -> 建設工事の種類 | D24: =D42 -> 土木一式工事、とび・土工・ｺﾝｸﾘｰﾄ工事、しゅんせつ工事 | E24: =E42 -> 0 | O24: =O42 -> 0 | P24: =P42 -> 0 | Q24: =Q42 -> 0 | AA24: =AA42 -> 0 | AB24: =AB42 -> 0 | AC24: =AC42 -> 0 | AY24: =AY42 -> 0 | AZ24: =AZ42 -> 0 | BA24: =BA42 -> 0 | BB24: =BB42 -> 評価地域 | BC24: =BC42 -> 江津市（桜江町を除く）内 | BE24: =BE42 -> 評価地域 | BF24: =BF42 -> 江津市（桜江町を除く）内 | BH24: =BH42 -> 評価地域 | BI24: =BI42 -> 江津市（桜江町を除く）内 | BN24: =BN42 -> 評価地域 | BO24: =BO42 -> 江津市（桜江町を除く）内
A25: コピー専用行 | B25: e | C25: =C43 -> 該当件数 | D25: =D43 -> 平均点 | O25: =O43 -> 項目名 | P25: =P43 -> 状況 | AA25: =AA43 -> 項目名 | AB25: =AB43 -> 状況 | AM25: =AM43 -> 項目名 | AN25: =AN43 -> 状況 | AY25: =AY43 -> 項目名 | AZ25: =AZ43 -> 令和６年度 | BA25: =BA43 -> 令和７年度 | BB25: =BB43 -> 項目名 | BC25: =BC43 -> 令和６年度 | BD25: =BD43 -> 令和７年度 | BE25: =BE43 -> 項目名 | BF25: =BF43 -> 令和６年度 | ... BJ25: =BJ43 -> 令和７年度 | BK25: 項目名 | BL25: =BL43 -> 雇用① | BM25: =BM43 -> 雇用② | BN25: =BN43 -> 項目名 | BO25: =BO43 -> 状況
A26: コピー専用行 | B26: 1 | C26: =C44 | D26: =D44 | O26: =O44 -> 配置なし | P26: =P44 | Q26: =Q44 -> 0 | AA26: =AA44 -> 配置なし | AB26: =AB44 | AC26: =AC44 -> 0 | AM26: =AM44 -> 配置なし | AN26: =AN44 | AO26: =AO44 -> 0 | AY26: =AY44 -> 協定実績 | AZ26: =AZ44 -> 申請なし | BA26: =BA44 -> 申請なし | BB26: =BB44 -> ボランティア活動内容 | BC26: =BC44 -> 申請なし | BD26: =BD44 -> 申請なし | BE26: =BE44 -> 業務名 | BF26: =BF44 -> 申請なし | ... BH26: =BH44 -> 業務名 | BI26: =IF(OR(BI50="有",BI50=""),BI44,"実績なし") -> 申請なし | BJ26: =IF(OR(BJ50="有",BJ50=""),BJ44,"実績なし") -> 申請なし | BK26: =BK44 -> 雇用の内容 | BL26: =BL44 -> 申請なし | BM26: =BM44 -> 申請なし | BN26: =BN44 -> 住所 | BO26: =BO44 -> 申請なし
A27: コピー専用行 | B27: 2 | C27: =C45 | D27: =D45 | O27: =O45 | P27: =P45 | Q27: =Q45 -> 0 | AA27: =AA45 | AB27: =AB45 | AC27: =AC45 -> 0 | AM27: =AM45 | AN27: =AN45 | AO27: =AO45 -> 0 | BB27: =BB45 | BC27: =BC45 | BD27: =BD45 | BN27: =BN45 -> 種類 | BO27: =BO45
A28: コピー専用行 | B28: 3 | C28: =C46 | BB28: =BB46 | BC28: =BC46 | BD28: =BD46
A29: コピー専用行 | B29: 4 | BB29: =BB47 | BC29: =IF(OR(BC44="",BC44="審査済・詳細省略",BC44="申請なし"),"","参加"&BC47&"人"&CHAR(10)&"従業員"&BC48&"人") | BD29: =IF(OR(企業入力シート!B32="○",BD44="",BD44="申請なし"),"","参加"&BD47&"人"&CHAR(10)&"従業員"&BD48&"人") | BE29: =BE45 -> 発注機関 | BF29: =BF45 | BG29: =BG45 | BH29: =BH45 -> 発注機関 | BI29: =IF(BI50="無","",BI45) | BJ29: =IF(BJ50="無","",BJ45) | BK29: =BK45 | BL29: =BL45 | BM29: =BM45
A30: コピー専用行 | B30: 5 | BB30: =BB49 -> ﾊｰﾄﾌﾙ活動 | BC30: =BC49 -> 申請なし | BD30: =BD49 -> 申請なし | BE30: =BE46 -> 元請・下請区分 | BF30: =BF46 -> 0 | BG30: =BG46 -> 0 | BH30: =BH46 -> 元請・下請区分 | BI30: =IF(BI50="無","",BI46) | BJ30: =IF(BJ50="無","",BJ46) | BK30: =BK46 | BL30: =BL46 | BM30: =BM46
A31: コピー専用行 | B31: 6 | BB31: =BB51&CHAR(10)&BB52 | BC31: =IF(BC50="","","参加"&BC51&"人"&CHAR(10)&"従業員"&BC52&"人") | BD31: =IF(BD50="","","参加"&BD51&"人"&CHAR(10)&"従業員"&BD52&"人") | BE31: =BE47 -> 契約(始) | BF31: =BF47 | BG31: =BG47 | BH31: =BH47 -> 契約(始) | BI31: =IF(BI50="無","",BI47) | BJ31: =IF(BJ50="無","",BJ47)
A32: コピー専用行 | B32: 7 | BB32: =BB50 | BC32: =BC50 | BD32: =BD50 | BE32: =BE48 -> 契約(終) | BF32: =BF48 | BG32: =BG48 | BH32: =BH48 -> 契約(終) | BI32: =IF(BI50="無","",BI48) | BJ32: =IF(BJ50="無","",BJ48)
A33: コピー専用行 | B33: 8 | BE33: =BE49 -> 施工箇所 | BF33: =BF49 | BG33: =BG49 | BH33: =BH49 -> 施工箇所 | BI33: =IF(BI50="無","",BI49) | BJ33: =IF(BJ50="無","",BJ49)
C34: 今回、押印済資料（収受印）での提出の有無 | D34: =INDEX(発注者入力シート!$B$20:$J$24,MATCH(発注者入力シート!L6,発注者入力シート!$C$20:$C$24,0),7) -> 未記入 | O34: 今回、押印済資料（収受印）での提出の有無 | P34: =INDEX(発注者入力シート!$B$25:$J$28,MATCH(発注者入力シート!M6,発注者入力シート!$C$25:$C$28,0),7) -> 配置なし | Q34: =IF(企業入力シート!C18="","配置なし","配置あり") -> 配置なし | T34: =IF(企業入力シート!C18="","配置なし","配置あり") -> 配置なし | AA34: 今回、押印済資料（収受印）での提出の有無 | AB34: =INDEX(発注者入力シート!$B$25:$J$28,MATCH(発注者入力シート!M6,発注者入力シート!$C$25:$C$28,0),8) -> 配置なし | AC34: =IF(企業入力シート!C19="","配置なし","配置あり") -> 配置なし | AF34: =IF(企業入力シート!C19="","配置なし","配置あり") -> 配置なし | AM34: 今回、押印済資料（収受印）での提出の有無 | AN34: =INDEX(発注者入力シート!$B$25:$J$28,MATCH(発注者入力シート!M6,発注者入力シート!$C$25:$C$28,0),9) -> 配置なし | AO34: =IF(企業入力シート!C20="","配置なし","配置あり") -> 配置なし | AR34: =IF(企業入力シート!C20="","配置なし","配置あり") -> 配置なし | AY34: 今回、押印済資料（収受印）での提出の有無 | AZ34: =INDEX(発注者入力シート!$B$29:$J$38,MATCH(発注者入力シート!N6,発注者入力シート!$C$29:$C$38,0),7) -> 未記入 | BB34: 今回、押印済資料（収受印）での提出の有無 | BC34: =INDEX(発注者入力シート!$B$29:$J$38,MATCH(発注者入力シート!N8,発注者入力シート!$C$29:$C$38,0),7) -> 未記入 | BE34: 今回、押印済資料（収受印）での提出の有無 | BF34: =INDEX(発注者入力シート!$B$29:$J$38,MATCH(発注者入力シート!N9,発注者入力シート!$C$29:$C$38,0),7) -> 未記入 | BH34: 今回、押印済資料（収受印）での提出の有無 | BI34: =INDEX(発注者入力シート!$B$29:$J$38,MATCH(発注者入力シート!N10,発注者入力シート!$C$29:$C$38,0),7) -> 未記入
A36: 以下、集計専用表（コピー箇所ではありません）
B37: a0 | C37: 企業 | O37: 配置予定技術者① | U37: 配置予定技術者① | X37: 配置予定技術者① | AA37: 配置予定技術者② | AG37: 配置予定技術者② | AJ37: 配置予定技術者② | AM37: 配置予定技術者③ | AS37: 配置予定技術者③ | AV37: 配置予定技術者③ | AY37: 地域貢献・その他 | BB37: 地域貢献・その他 | BE37: 地域貢献・その他 | BH37: 地域貢献・その他 | BK37: 地域貢献・その他 | BN37: 地理的条件 | BQ37: 地理的条件 | BT37: 地理的条件
B38: a1 | C38: 工事成績評定点 | O38: 資格 | U38: 予備欄① | X38: 予備欄② | AA38: 資格 | AG38: 予備欄① | AJ38: 予備欄② | AM38: 資格 | AS38: 予備欄① | AV38: 予備欄② | AY38: =IF(防災協定・家畜伝染病防疫協定!T15=1,"防災",IF(防災協定・家畜伝染病防疫協定!T15=2,"家畜伝染病防疫","防災協定・家畜伝染病防疫"))&"協定" -> 防災協定 | BB38: ボランティア | BE38: 維持管理業務 | BH38: 除雪業務 | BK38: 若手技術者・従業員の新規雇用 | BN38: 会社所在地
B39: a | C39: 完成年度 | D39: =IF(企業成績評定点!G6="","",企業成績評定点!G6) -> 令和５年度から令和７年度（完成及び引き渡しが完了） | O39: 対象資格 | P39: =IF(技術者資格!B9="","",技術者資格!B9) -> １級もしくは２級土木施工管理技士、または1級もしくは２級建設機械施工技士 | AA39: 対象資格 | AB39: =IF(技術者資格!B9="","",技術者資格!B9) -> １級もしくは２級土木施工管理技士、または1級もしくは２級建設機械施工技士 | AM39: 対象資格 | AN39: =IF(技術者資格!B9="","",技術者資格!B9) -> １級もしくは２級土木施工管理技士、または1級もしくは２級建設機械施工技士 | AY39: 対象 | AZ39: =IF(防災協定・家畜伝染病防疫協定!B8="","",防災協定・家畜伝染病防疫協定!B8) -> 令和６年度及び令和７年度における島根県との防災協定の締結実績 | BB39: 対象 | BC39: =IF(ボランティア!B6="","",ボランティア!B6) -> 令和６年度及び令和７年度のボランティア活動又はハートフルしまねへの参加実績 | BE39: 対象 | BF39: =IF(維持管理業務!B7="","",維持管理業務!B7) -> 令和６年度及び令和７年度の県管理公共土木施設に関する維持管理業務または海岸漂着物の回収業務の契約実績 | BH39: 対象 | BI39: =IF(除雪業務!B8="","",除雪業務!B8) -> 令和６年度及び令和７年度の県管理道路・空港または市町村管理道路を含む除雪業務の契約実績 | BK39: 対象 | BL39: =IF(若手技術者・従業員新規雇用!B8="","",若手技術者・従業員新規雇用!B8) -> 令和６年４月１日以降に、若手技術者・若手従業員（30歳未満の者）の１人以上の新規雇用があること。 | BN39: 対象 | BO39: =IF(会社所在地!B10="","",会社所在地!B10) -> 入札公告日前日において、評価対象地域内に建設業法で規定する主たる営業所（本店）または従たる営業所（支店、営業所）がある者
B40: b | C40: 発注機関 | D40: =IF(企業成績評定点!G7="","",企業成績評定点!G7) -> 島根県（総務部、農林水産部、土木部）
B41: c | C41: 工事種別 | D41: =IF(企業成績評定点!G8="","",企業成績評定点!G8) -> 一般土木工事、維持修繕工事
B42: d | C42: 建設工事の種類 | D42: =IF(企業成績評定点!G9="","",企業成績評定点!G9) -> 土木一式工事、とび・土工・ｺﾝｸﾘｰﾄ工事、しゅんせつ工事 | BB42: 評価地域 | BC42: =IF(ボランティア!D8="","",ボランティア!D8) -> 江津市（桜江町を除く）内 | BE42: 評価地域 | BF42: =IF(維持管理業務!D10="","",維持管理業務!D10) -> 江津市（桜江町を除く）内 | BH42: 評価地域 | BI42: =IF(除雪業務!D11="","",除雪業務!D11) -> 江津市（桜江町を除く）内 | BN42: 評価地域 | BO42: =IF(会社所在地!D13="","",会社所在地!D13) -> 江津市（桜江町を除く）内
...

Sheet 表紙
A1: 様式－ | B1: 1 | S1: 着色セルの凡例
M2: 提出日 | N2: =IF(企業入力シート!C4="","",企業入力シート!C4) | S2: （企業）
T3: ：「企業入力シート」で入力（数式リンク有）
A4: （ 特別簡易型【地域維持型】 総合評価方式 ） | T4: ：セルに直接入力が必要な箇所
A5: 総 合 評 価 技 術 資 料
S6: （発注者）
A7: 発注者 | T7: ：「発注者入力シート」で入力（数式リンク有）
A8: =CONCATENATE(" ",発注者入力シート!C6,IF(COUNTIF(発注者入力シート!C6,"*センター*"),"所長","長")," ","様") -> 浜田県土整備事務所長 様 | T8: ：セルに直接入力が必要な箇所
S10: 【印刷について】
H11: 住所 | J11: =IF(企業入力シート!C6="","",企業入力シート!C6) | S11: このシートは「ページ設定」で「白黒印刷」と「印刷範囲」が設定されています。
G13: 商号又は名称 | J13: =IF(企業入力シート!C7="","",企業入力シート!C7)
G14: 代表者氏名 | J14: =IF(企業入力シート!C8="","",企業入力シート!C8)
A17: =CONCATENATE(" ","令和",(YEAR(発注者入力シート!C7)-2018),"年",MONTH(発注者入力シート!C7),"月",DAY(発注者入力シート!C7),"日付けで入札公告のありました下記工事について、別添のとおり書類を添えて提出いたします。") -> 令和8年10月2日付けで入札公告のありました下記工事について、別添のとおり書類を添えて提出いたします。
A20: １ 工事名 | C20: =発注者入力シート!C10 -> （一）跡市波子停車場線（跡市２工区）総合交付金（改築）工事 第６期
A22: ２ 提出書類（下記項目の該当するもの）
A23: =IF(AND(IFERROR(OR(発注者入力シート!$L$62="２",発注者入力シート!$L$63="２"),FALSE),企業入力シート!$B$35="○"),"",IF(COUNTIF($A$44:$A$50,"*"&VLOOKUP("２",発注者入力シート!$L$41:$N$76,3,FALSE)&"*")>=1,"",INDEX(発注者入力シート!$L$40:$O$82,MATCH("２",発注者入力シート!$L$40:$L$82,0),4))) -> ○企業の工事成績評定点 （様式-２-１、様式-２-２）
A24: =IF(AND(IFERROR(OR(発注者入力シート!$L$62="３",発注者入力シート!$L$63="３"),FALSE),企業入力シート!$B$35="○"),"",IF(COUNTIF($A$44:$A$50,"*"&VLOOKUP("３",発注者入力シート!$L$41:$N$76,3,FALSE)&"*")>=1,"",INDEX(発注者入力シート!$L$40:$O$82,MATCH("３",発注者入力シート!$L$40:$L$82,0),4))) -> ○配置予定技術者の資格 （様式-３）
A25: =IF(AND(IFERROR(OR(発注者入力シート!$L$62="４",発注者入力シート!$L$63="４"),FALSE),企業入力シート!$B$35="○"),"",IF(COUNTIF($A$44:$A$50,"*"&VLOOKUP("４",発注者入力シート!$L$41:$N$76,3,FALSE)&"*")>=1,"",INDEX(発注者入力シート!$L$40:$O$82,MATCH("４",発注者入力シート!$L$40:$L$82,0),4))) -> ○防災協定の締結実績 （様式-４）
A26: =IF(AND(IFERROR(OR(発注者入力シート!$L$62="５",発注者入力シート!$L$63="５"),FALSE),企業入力シート!$B$35="○"),"",IF(COUNTIF($A$44:$A$50,"*"&VLOOKUP("５",発注者入力シート!$L$41:$N$76,3,FALSE)&"*")>=1,"",INDEX(発注者入力シート!$L$40:$O$82,MATCH("５",発注者入力シート!$L$40:$L$82,0),4))) -> ○ボランティア活動又はハートフルしまねへの参加実績 （様式-５）
A27: =IF(AND(IFERROR(OR(発注者入力シート!$L$62="６",発注者入力シート!$L$63="６"),FALSE),企業入力シート!$B$35="○"),"",IF(COUNTIF($A$44:$A$50,"*"&VLOOKUP("６",発注者入力シート!$L$41:$N$76,3,FALSE)&"*")>=1,"",INDEX(発注者入力シート!$L$40:$O$82,MATCH("６",発注者入力シート!$L$40:$L$82,0),4))) -> ○県管理公共土木施設に関する維持管理業務または海岸漂着物の回収業務の契約実績 （様式-６）
A28: =IF(AND(IFERROR(OR(発注者入力シート!$L$62="７",発注者入力シート!$L$63="７"),FALSE),企業入力シート!$B$35="○"),"",IF(COUNTIF($A$44:$A$50,"*"&VLOOKUP("７",発注者入力シート!$L$41:$N$76,3,FALSE)&"*")>=1,"",INDEX(発注者入力シート!$L$40:$O$82,MATCH("７",発注者入力シート!$L$40:$L$82,0),4))) -> ○県管理道路・空港または市町村管理道路を含む除雪業務の契約実績 （様式-７）
A29: =IF(AND(IFERROR(OR(発注者入力シート!$L$62="８",発注者入力シート!$L$63="８"),FALSE),企業入力シート!$B$35="○"),"",IF(COUNTIF($A$44:$A$50,"*"&VLOOKUP("８",発注者入力シート!$L$41:$N$76,3,FALSE)&"*")>=1,"",INDEX(発注者入力シート!$L$40:$O$82,MATCH("８",発注者入力シート!$L$40:$L$82,0),4))) -> ○若手技術者・若手従業員の新規雇用 （様式-８）
A30: =IF(AND(IFERROR(OR(発注者入力シート!$L$62="９",発注者入力シート!$L$63="９"),FALSE),企業入力シート!$B$35="○"),"",IF(COUNTIF($A$44:$A$50,"*"&VLOOKUP("９",発注者入力シート!$L$41:$N$76,3,FALSE)&"*")>=1,"",INDEX(発注者入力シート!$L$40:$O$82,MATCH("９",発注者入力シート!$L$40:$L$82,0),4))) -> ○地理的条件（会社所在地） （様式-９）
A31: =IF(AND(IFERROR(OR(発注者入力シート!$L$62="１０",発注者入力シート!$L$63="１０"),FALSE),企業入力シート!$B$35="○"),"",IF(COUNTIF($A$44:$A$50,"*"&VLOOKUP("１０",発注者入力シート!$L$41:$N$76,3,FALSE)&"*")>=1,"",INDEX(発注者入力シート!$L$40:$O$82,MATCH("１０",発注者入力シート!$L$40:$L$82,0),4))) -> #N/A
A32: =IF(AND(IFERROR(OR(発注者入力シート!$L$62="１１",発注者入力シート!$L$63="１１"),FALSE),企業入力シート!$B$35="○"),"",IF(COUNTIF($A$44:$A$50,"*"&VLOOKUP("１１",発注者入力シート!$L$41:$N$76,3,FALSE)&"*")>=1,"",INDEX(発注者入力シート!$L$40:$O$82,MATCH("１１",発注者入力シート!$L$40:$L$82,0),4))) -> #N/A
A33: =IF(AND(IFERROR(OR(発注者入力シート!$L$62="１２",発注者入力シート!$L$63="１２"),FALSE),企業入力シート!$B$35="○"),"",IF(COUNTIF($A$44:$A$50,"*"&VLOOKUP("１２",発注者入力シート!$L$41:$N$76,3,FALSE)&"*")>=1,"",INDEX(発注者入力シート!$L$40:$O$82,MATCH("１２",発注者入力シート!$L$40:$L$82,0),4))) -> #N/A
A34: =IF(AND(IFERROR(OR(発注者入力シート!$L$62="１３",発注者入力シート!$L$63="１３"),FALSE),企業入力シート!$B$35="○"),"",IF(COUNTIF($A$44:$A$50,"*"&VLOOKUP("１３",発注者入力シート!$L$41:$N$76,3,FALSE)&"*")>=1,"",INDEX(発注者入力シート!$L$40:$O$82,MATCH("１３",発注者入力シート!$L$40:$L$82,0),4))) -> #N/A
A35: =IF(AND(IFERROR(OR(発注者入力シート!$L$62="１４",発注者入力シート!$L$63="１４"),FALSE),企業入力シート!$B$35="○"),"",IF(COUNTIF($A$44:$A$50,"*"&VLOOKUP("１４",発注者入力シート!$L$41:$N$76,3,FALSE)&"*")>=1,"",INDEX(発注者入力シート!$L$40:$O$82,MATCH("１４",発注者入力シート!$L$40:$L$82,0),4))) -> #N/A
A36: =IF(AND(IFERROR(OR(発注者入力シート!$L$62="１５",発注者入力シート!$L$63="１５"),FALSE),企業入力シート!$B$35="○"),"",IF(COUNTIF($A$44:$A$50,"*"&VLOOKUP("１５",発注者入力シート!$L$41:$N$76,3,FALSE)&"*")>=1,"",INDEX(発注者入力シート!$L$40:$O$82,MATCH("１５",発注者入力シート!$L$40:$L$82,0),4))) -> #N/A
A37: =IF(AND(IFERROR(OR(発注者入力シート!$L$62="１６",発注者入力シート!$L$63="１６"),FALSE),企業入力シート!$B$35="○"),"",IF(COUNTIF($A$44:$A$50,"*"&VLOOKUP("１６",発注者入力シート!$L$41:$N$76,3,FALSE)&"*")>=1,"",INDEX(発注者入力シート!$L$40:$O$82,MATCH("１６",発注者入力シート!$L$40:$L$82,0),4))) -> #N/A
A38: =IF(AND(IFERROR(OR(発注者入力シート!$L$62="１７",発注者入力シート!$L$63="１７"),FALSE),企業入力シート!$B$35="○"),"",IF(COUNTIF($A$44:$A$50,"*"&VLOOKUP("１７",発注者入力シート!$L$41:$N$76,3,FALSE)&"*")>=1,"",INDEX(発注者入力シート!$L$40:$O$82,MATCH("１７",発注者入力シート!$L$40:$L$82,0),4))) -> #N/A
A39: =IF(AND(IFERROR(OR(発注者入力シート!$L$62="１８",発注者入力シート!$L$63="１８"),FALSE),企業入力シート!$B$35="○"),"",IF(COUNTIF($A$44:$A$50,"*"&VLOOKUP("１８",発注者入力シート!$L$41:$N$76,3,FALSE)&"*")>=1,"",INDEX(発注者入力シート!$L$40:$O$82,MATCH("１８",発注者入力シート!$L$40:$L$82,0),4))) -> #N/A
A40: =IF(AND(IFERROR(OR(発注者入力シート!$L$62="１９",発注者入力シート!$L$63="１９"),FALSE),企業入力シート!$B$35="○"),"",IF(COUNTIF($A$44:$A$50,"*"&VLOOKUP("１９",発注者入力シート!$L$41:$N$76,3,FALSE)&"*")>=1,"",INDEX(発注者入力シート!$L$40:$O$82,MATCH("１９",発注者入力シート!$L$40:$L$82,0),4))) -> #N/A
A41: =IF(AND(IFERROR(OR(発注者入力シート!$L$62="２０",発注者入力シート!$L$63="２０"),FALSE),企業入力シート!$B$35="○"),"",IF(COUNTIF($A$44:$A$50,"*"&VLOOKUP("２０",発注者入力シート!$L$41:$N$76,3,FALSE)&"*")>=1,"",INDEX(発注者入力シート!$L$40:$O$82,MATCH("２０",発注者入力シート!$L$40:$L$82,0),4))) -> #N/A
A43: =IF(企業入力シート!A25=0,"","※事前審査・証明書による提出（技術資料及び添付資料省略）")
A44: =IF(企業入力シート!$A$25>0," ・"&VLOOKUP(1,企業入力シート!$A$26:$I$36,3,FALSE),"")
A45: =IF(企業入力シート!$A$25>1," ・"&VLOOKUP(2,企業入力シート!$A$26:$I$36,3,FALSE),"")
A46: =IF(企業入力シート!$A$25>2," ・"&VLOOKUP(3,企業入力シート!$A$26:$I$36,3,FALSE),"")
A47: =IF(企業入力シート!$A$25>3," ・"&VLOOKUP(4,企業入力シート!$A$26:$I$36,3,FALSE),"")
A48: =IF(企業入力シート!$A$25>4," ・"&VLOOKUP(5,企業入力シート!$A$26:$I$36,3,FALSE),"")
...

Sheet 企業成績評定点
A1: =CONCATENATE("（様式-",INDEX(発注者入力シート!$B$20:$G$24,MATCH(発注者入力シート!L6,発注者入力シート!$C$20:$C$24,0),4),"-１）") -> （様式-２-１） | R1: 着色セルの凡例
A2: =CONCATENATE("評価項目",INDEX(発注者入力シート!$B$20:$G$24,MATCH(発注者入力シート!L6,発注者入力シート!$C$20:$C$24,0),5),"-",INDEX(発注者入力シート!$B$20:$G$24,MATCH(発注者入力シート!L6,発注者入力シート!$C$20:$C$24,0),6)) -> 評価項目（１）-① | R2: （企業）
A3: 企業の工事成績評定点 | S3: ：「企業入力シート」、一覧表（別紙）で入力（数式リンク有）
H4: 会社（企業体）名： | K4: =IF(企業入力シート!C7="","",企業入力シート!C7) | S4: ：リストから選択が必要な箇所
S5: ：自動計算
A6: 対象工事 | D6: 完成年度 | G6: 令和５年度から令和７年度（完成及び引き渡しが完了） | R6: （発注者）
D7: 発注機関 | G7: 島根県（総務部、農林水産部、土木部） | S7: ：「発注者入力シート」で入力（数式リンク有）
D8: 工事種別 | G8: =INDEX(発注者入力シート!$AX$3:$BC$31,MATCH(発注者入力シート!$AY$2,発注者入力シート!$AZ$3:$AZ$31,0),4) -> 一般土木工事、維持修繕工事 | S8: ：セルに直接入力が必要な箇所
D9: 建設工事の種類 | G9: =INDEX(発注者入力シート!$AX$3:$BC$31,MATCH(発注者入力シート!$AY$2,発注者入力シート!$AZ$3:$AZ$31,0),5) -> 土木一式工事、とび・土工・ｺﾝｸﾘｰﾄ工事、しゅんせつ工事
A12: 各工事成績評定点 | D12: 令和４年度 | G12: =IF('評定点一覧(R５年度完成工事)'!P9="","",'評定点一覧(R５年度完成工事)'!P9) | H12: =IF('評定点一覧(R５年度完成工事)'!P11="","",'評定点一覧(R５年度完成工事)'!P11) | I12: =IF('評定点一覧(R５年度完成工事)'!P13="","",'評定点一覧(R５年度完成工事)'!P13) | J12: =IF('評定点一覧(R５年度完成工事)'!P15="","",'評定点一覧(R５年度完成工事)'!P15) | K12: =IF('評定点一覧(R５年度完成工事)'!P17="","",'評定点一覧(R５年度完成工事)'!P17) | L12: =IF('評定点一覧(R５年度完成工事)'!P19="","",'評定点一覧(R５年度完成工事)'!P19) | M12: =IF('評定点一覧(R５年度完成工事)'!P21="","",'評定点一覧(R５年度完成工事)'!P21) | N12: =IF('評定点一覧(R５年度完成工事)'!P23="","",'評定点一覧(R５年度完成工事)'!P23) | O12: =IF('評定点一覧(R５年度完成工事)'!P25="","",'評定点一覧(R５年度完成工事)'!P25) | P12: =IF('評定点一覧(R５年度完成工事)'!P27="","",'評定点一覧(R５年度完成工事)'!P27)
G13: =IF('評定点一覧(R５年度完成工事)'!P29="","",'評定点一覧(R５年度完成工事)'!P29) | H13: =IF('評定点一覧(R５年度完成工事)'!P31="","",'評定点一覧(R５年度完成工事)'!P31) | I13: =IF('評定点一覧(R５年度完成工事)'!P33="","",'評定点一覧(R５年度完成工事)'!P33) | J13: =IF('評定点一覧(R５年度完成工事)'!P35="","",'評定点一覧(R５年度完成工事)'!P35) | K13: =IF('評定点一覧(R５年度完成工事)'!P37="","",'評定点一覧(R５年度完成工事)'!P37) | L13: =IF('評定点一覧(R５年度完成工事)'!P39="","",'評定点一覧(R５年度完成工事)'!P39) | M13: =IF('評定点一覧(R５年度完成工事)'!P41="","",'評定点一覧(R５年度完成工事)'!P41) | N13: =IF('評定点一覧(R５年度完成工事)'!P43="","",'評定点一覧(R５年度完成工事)'!P43) | O13: =IF('評定点一覧(R５年度完成工事)'!P45="","",'評定点一覧(R５年度完成工事)'!P45) | P13: =IF('評定点一覧(R５年度完成工事)'!P47="","",'評定点一覧(R５年度完成工事)'!P47)
G14: =IF('評定点一覧(R５年度完成工事)'!P61="","",'評定点一覧(R５年度完成工事)'!P61) | H14: =IF('評定点一覧(R５年度完成工事)'!P63="","",'評定点一覧(R５年度完成工事)'!P63) | I14: =IF('評定点一覧(R５年度完成工事)'!P65="","",'評定点一覧(R５年度完成工事)'!P65) | J14: =IF('評定点一覧(R５年度完成工事)'!P67="","",'評定点一覧(R５年度完成工事)'!P67) | K14: =IF('評定点一覧(R５年度完成工事)'!P69="","",'評定点一覧(R５年度完成工事)'!P69) | L14: =IF('評定点一覧(R５年度完成工事)'!P71="","",'評定点一覧(R５年度完成工事)'!P71) | M14: =IF('評定点一覧(R５年度完成工事)'!P73="","",'評定点一覧(R５年度完成工事)'!P73) | N14: =IF('評定点一覧(R５年度完成工事)'!P75="","",'評定点一覧(R５年度完成工事)'!P75) | O14: =IF('評定点一覧(R５年度完成工事)'!P77="","",'評定点一覧(R５年度完成工事)'!P77) | P14: =IF('評定点一覧(R５年度完成工事)'!P79="","",'評定点一覧(R５年度完成工事)'!P79)
G15: =IF('評定点一覧(R５年度完成工事)'!P81="","",'評定点一覧(R５年度完成工事)'!P81) | H15: =IF('評定点一覧(R５年度完成工事)'!P83="","",'評定点一覧(R５年度完成工事)'!P83) | I15: =IF('評定点一覧(R５年度完成工事)'!P85="","",'評定点一覧(R５年度完成工事)'!P85) | J15: =IF('評定点一覧(R５年度完成工事)'!P87="","",'評定点一覧(R５年度完成工事)'!P87) | K15: =IF('評定点一覧(R５年度完成工事)'!P89="","",'評定点一覧(R５年度完成工事)'!P89) | L15: =IF('評定点一覧(R５年度完成工事)'!P91="","",'評定点一覧(R５年度完成工事)'!P91) | M15: =IF('評定点一覧(R５年度完成工事)'!P93="","",'評定点一覧(R５年度完成工事)'!P93) | N15: =IF('評定点一覧(R５年度完成工事)'!P95="","",'評定点一覧(R５年度完成工事)'!P95) | O15: =IF('評定点一覧(R５年度完成工事)'!P97="","",'評定点一覧(R５年度完成工事)'!P97) | P15: =IF('評定点一覧(R５年度完成工事)'!P99="","",'評定点一覧(R５年度完成工事)'!P99)
G16: =IF('評定点一覧(R５年度完成工事)'!P113="","",'評定点一覧(R５年度完成工事)'!P113) | H16: =IF('評定点一覧(R５年度完成工事)'!P115="","",'評定点一覧(R５年度完成工事)'!P115) | I16: =IF('評定点一覧(R５年度完成工事)'!P117="","",'評定点一覧(R５年度完成工事)'!P117) | J16: =IF('評定点一覧(R５年度完成工事)'!P119="","",'評定点一覧(R５年度完成工事)'!P119) | K16: =IF('評定点一覧(R５年度完成工事)'!P121="","",'評定点一覧(R５年度完成工事)'!P121) | L16: =IF('評定点一覧(R５年度完成工事)'!P123="","",'評定点一覧(R５年度完成工事)'!P123) | M16: =IF('評定点一覧(R５年度完成工事)'!P125="","",'評定点一覧(R５年度完成工事)'!P125) | N16: =IF('評定点一覧(R５年度完成工事)'!P127="","",'評定点一覧(R５年度完成工事)'!P127) | O16: =IF('評定点一覧(R５年度完成工事)'!P129="","",'評定点一覧(R５年度完成工事)'!P129) | P16: =IF('評定点一覧(R５年度完成工事)'!P131="","",'評定点一覧(R５年度完成工事)'!P131)
G17: =IF('評定点一覧(R５年度完成工事)'!P133="","",'評定点一覧(R５年度完成工事)'!P133) | H17: =IF('評定点一覧(R５年度完成工事)'!P135="","",'評定点一覧(R５年度完成工事)'!P135) | I17: =IF('評定点一覧(R５年度完成工事)'!P137="","",'評定点一覧(R５年度完成工事)'!P137) | J17: =IF('評定点一覧(R５年度完成工事)'!P139="","",'評定点一覧(R５年度完成工事)'!P139) | K17: =IF('評定点一覧(R５年度完成工事)'!P141="","",'評定点一覧(R５年度完成工事)'!P141) | L17: =IF('評定点一覧(R５年度完成工事)'!P143="","",'評定点一覧(R５年度完成工事)'!P143) | M17: =IF('評定点一覧(R５年度完成工事)'!P145="","",'評定点一覧(R５年度完成工事)'!P145) | N17: =IF('評定点一覧(R５年度完成工事)'!P147="","",'評定点一覧(R５年度完成工事)'!P147) | O17: =IF('評定点一覧(R５年度完成工事)'!P149="","",'評定点一覧(R５年度完成工事)'!P149) | P17: =IF('評定点一覧(R５年度完成工事)'!P151="","",'評定点一覧(R５年度完成工事)'!P151)
D18: 令和５年度 | G18: =IF('評定点一覧(R６年度完成工事)'!P9="","",'評定点一覧(R６年度完成工事)'!P9) | H18: =IF('評定点一覧(R６年度完成工事)'!P11="","",'評定点一覧(R６年度完成工事)'!P11) | I18: =IF('評定点一覧(R６年度完成工事)'!P13="","",'評定点一覧(R６年度完成工事)'!P13) | J18: =IF('評定点一覧(R６年度完成工事)'!P15="","",'評定点一覧(R６年度完成工事)'!P15) | K18: =IF('評定点一覧(R６年度完成工事)'!P17="","",'評定点一覧(R６年度完成工事)'!P17) | L18: =IF('評定点一覧(R６年度完成工事)'!P19="","",'評定点一覧(R６年度完成工事)'!P19) | M18: =IF('評定点一覧(R６年度完成工事)'!P21="","",'評定点一覧(R６年度完成工事)'!P21) | N18: =IF('評定点一覧(R６年度完成工事)'!P23="","",'評定点一覧(R６年度完成工事)'!P23) | O18: =IF('評定点一覧(R６年度完成工事)'!P25="","",'評定点一覧(R６年度完成工事)'!P25) | P18: =IF('評定点一覧(R６年度完成工事)'!P27="","",'評定点一覧(R６年度完成工事)'!P27)
G19: =IF('評定点一覧(R６年度完成工事)'!P29="","",'評定点一覧(R６年度完成工事)'!P29) | H19: =IF('評定点一覧(R６年度完成工事)'!P31="","",'評定点一覧(R６年度完成工事)'!P31) | I19: =IF('評定点一覧(R６年度完成工事)'!P33="","",'評定点一覧(R６年度完成工事)'!P33) | J19: =IF('評定点一覧(R６年度完成工事)'!P35="","",'評定点一覧(R６年度完成工事)'!P35) | K19: =IF('評定点一覧(R６年度完成工事)'!P37="","",'評定点一覧(R６年度完成工事)'!P37) | L19: =IF('評定点一覧(R６年度完成工事)'!P39="","",'評定点一覧(R６年度完成工事)'!P39) | M19: =IF('評定点一覧(R６年度完成工事)'!P41="","",'評定点一覧(R６年度完成工事)'!P41) | N19: =IF('評定点一覧(R６年度完成工事)'!P43="","",'評定点一覧(R６年度完成工事)'!P43) | O19: =IF('評定点一覧(R６年度完成工事)'!P45="","",'評定点一覧(R６年度完成工事)'!P45) | P19: =IF('評定点一覧(R６年度完成工事)'!P47="","",'評定点一覧(R６年度完成工事)'!P47)
G20: =IF('評定点一覧(R６年度完成工事)'!P61="","",'評定点一覧(R６年度完成工事)'!P61) | H20: =IF('評定点一覧(R６年度完成工事)'!P63="","",'評定点一覧(R６年度完成工事)'!P63) | I20: =IF('評定点一覧(R６年度完成工事)'!P65="","",'評定点一覧(R６年度完成工事)'!P65) | J20: =IF('評定点一覧(R６年度完成工事)'!P67="","",'評定点一覧(R６年度完成工事)'!P67) | K20: =IF('評定点一覧(R６年度完成工事)'!P69="","",'評定点一覧(R６年度完成工事)'!P69) | L20: =IF('評定点一覧(R６年度完成工事)'!P71="","",'評定点一覧(R６年度完成工事)'!P71) | M20: =IF('評定点一覧(R６年度完成工事)'!P73="","",'評定点一覧(R６年度完成工事)'!P73) | N20: =IF('評定点一覧(R６年度完成工事)'!P75="","",'評定点一覧(R６年度完成工事)'!P75) | O20: =IF('評定点一覧(R６年度完成工事)'!P77="","",'評定点一覧(R６年度完成工事)'!P77) | P20: =IF('評定点一覧(R６年度完成工事)'!P79="","",'評定点一覧(R６年度完成工事)'!P79)
G21: =IF('評定点一覧(R６年度完成工事)'!P81="","",'評定点一覧(R６年度完成工事)'!P81) | H21: =IF('評定点一覧(R６年度完成工事)'!P83="","",'評定点一覧(R６年度完成工事)'!P83) | I21: =IF('評定点一覧(R６年度完成工事)'!P85="","",'評定点一覧(R６年度完成工事)'!P85) | J21: =IF('評定点一覧(R６年度完成工事)'!P87="","",'評定点一覧(R６年度完成工事)'!P87) | K21: =IF('評定点一覧(R６年度完成工事)'!P89="","",'評定点一覧(R６年度完成工事)'!P89) | L21: =IF('評定点一覧(R６年度完成工事)'!P91="","",'評定点一覧(R６年度完成工事)'!P91) | M21: =IF('評定点一覧(R６年度完成工事)'!P93="","",'評定点一覧(R６年度完成工事)'!P93) | N21: =IF('評定点一覧(R６年度完成工事)'!P95="","",'評定点一覧(R６年度完成工事)'!P95) | O21: =IF('評定点一覧(R６年度完成工事)'!P97="","",'評定点一覧(R６年度完成工事)'!P97) | P21: =IF('評定点一覧(R６年度完成工事)'!P99="","",'評定点一覧(R６年度完成工事)'!P99)
G22: =IF('評定点一覧(R６年度完成工事)'!P113="","",'評定点一覧(R６年度完成工事)'!P113) | H22: =IF('評定点一覧(R６年度完成工事)'!P115="","",'評定点一覧(R６年度完成工事)'!P115) | I22: =IF('評定点一覧(R６年度完成工事)'!P117="","",'評定点一覧(R６年度完成工事)'!P117) | J22: =IF('評定点一覧(R６年度完成工事)'!P119="","",'評定点一覧(R６年度完成工事)'!P119) | K22: =IF('評定点一覧(R６年度完成工事)'!P121="","",'評定点一覧(R６年度完成工事)'!P121) | L22: =IF('評定点一覧(R６年度完成工事)'!P123="","",'評定点一覧(R６年度完成工事)'!P123) | M22: =IF('評定点一覧(R６年度完成工事)'!P125="","",'評定点一覧(R６年度完成工事)'!P125) | N22: =IF('評定点一覧(R６年度完成工事)'!P127="","",'評定点一覧(R６年度完成工事)'!P127) | O22: =IF('評定点一覧(R６年度完成工事)'!P129="","",'評定点一覧(R６年度完成工事)'!P129) | P22: =IF('評定点一覧(R６年度完成工事)'!P131="","",'評定点一覧(R６年度完成工事)'!P131)
G23: =IF('評定点一覧(R６年度完成工事)'!P133="","",'評定点一覧(R６年度完成工事)'!P133) | H23: =IF('評定点一覧(R６年度完成工事)'!P135="","",'評定点一覧(R６年度完成工事)'!P135) | I23: =IF('評定点一覧(R６年度完成工事)'!P137="","",'評定点一覧(R６年度完成工事)'!P137) | J23: =IF('評定点一覧(R６年度完成工事)'!P139="","",'評定点一覧(R６年度完成工事)'!P139) | K23: =IF('評定点一覧(R６年度完成工事)'!P141="","",'評定点一覧(R６年度完成工事)'!P141) | L23: =IF('評定点一覧(R６年度完成工事)'!P143="","",'評定点一覧(R６年度完成工事)'!P143) | M23: =IF('評定点一覧(R６年度完成工事)'!P145="","",'評定点一覧(R６年度完成工事)'!P145) | N23: =IF('評定点一覧(R６年度完成工事)'!P147="","",'評定点一覧(R６年度完成工事)'!P147) | O23: =IF('評定点一覧(R６年度完成工事)'!P149="","",'評定点一覧(R６年度完成工事)'!P149) | P23: =IF('評定点一覧(R６年度完成工事)'!P151="","",'評定点一覧(R６年度完成工事)'!P151)
D24: 令和６年度 | G24: =IF('評定点一覧(R７年度完成工事)'!P9="","",'評定点一覧(R７年度完成工事)'!P9) | H24: =IF('評定点一覧(R７年度完成工事)'!P11="","",'評定点一覧(R７年度完成工事)'!P11) | I24: =IF('評定点一覧(R７年度完成工事)'!P13="","",'評定点一覧(R７年度完成工事)'!P13) | J24: =IF('評定点一覧(R７年度完成工事)'!P15="","",'評定点一覧(R７年度完成工事)'!P15) | K24: =IF('評定点一覧(R７年度完成工事)'!P17="","",'評定点一覧(R７年度完成工事)'!P17) | L24: =IF('評定点一覧(R７年度完成工事)'!P19="","",'評定点一覧(R７年度完成工事)'!P19) | M24: =IF('評定点一覧(R７年度完成工事)'!P21="","",'評定点一覧(R７年度完成工事)'!P21) | N24: =IF('評定点一覧(R７年度完成工事)'!P23="","",'評定点一覧(R７年度完成工事)'!P23) | O24: =IF('評定点一覧(R７年度完成工事)'!P25="","",'評定点一覧(R７年度完成工事)'!P25) | P24: =IF('評定点一覧(R７年度完成工事)'!P27="","",'評定点一覧(R７年度完成工事)'!P27)
G25: =IF('評定点一覧(R７年度完成工事)'!P29="","",'評定点一覧(R７年度完成工事)'!P29) | H25: =IF('評定点一覧(R７年度完成工事)'!P31="","",'評定点一覧(R７年度完成工事)'!P31) | I25: =IF('評定点一覧(R７年度完成工事)'!P33="","",'評定点一覧(R７年度完成工事)'!P33) | J25: =IF('評定点一覧(R７年度完成工事)'!P35="","",'評定点一覧(R７年度完成工事)'!P35) | K25: =IF('評定点一覧(R７年度完成工事)'!P37="","",'評定点一覧(R７年度完成工事)'!P37) | L25: =IF('評定点一覧(R７年度完成工事)'!P39="","",'評定点一覧(R７年度完成工事)'!P39) | M25: =IF('評定点一覧(R７年度完成工事)'!P41="","",'評定点一覧(R７年度完成工事)'!P41) | N25: =IF('評定点一覧(R７年度完成工事)'!P43="","",'評定点一覧(R７年度完成工事)'!P43) | O25: =IF('評定点一覧(R７年度完成工事)'!P45="","",'評定点一覧(R７年度完成工事)'!P45) | P25: =IF('評定点一覧(R７年度完成工事)'!P47="","",'評定点一覧(R７年度完成工事)'!P47)
G26: =IF('評定点一覧(R７年度完成工事)'!P61="","",'評定点一覧(R７年度完成工事)'!P61) | H26: =IF('評定点一覧(R７年度完成工事)'!P63="","",'評定点一覧(R７年度完成工事)'!P63) | I26: =IF('評定点一覧(R７年度完成工事)'!P65="","",'評定点一覧(R７年度完成工事)'!P65) | J26: =IF('評定点一覧(R７年度完成工事)'!P67="","",'評定点一覧(R７年度完成工事)'!P67) | K26: =IF('評定点一覧(R７年度完成工事)'!P69="","",'評定点一覧(R７年度完成工事)'!P69) | L26: =IF('評定点一覧(R７年度完成工事)'!P71="","",'評定点一覧(R７年度完成工事)'!P71) | M26: =IF('評定点一覧(R７年度完成工事)'!P73="","",'評定点一覧(R７年度完成工事)'!P73) | N26: =IF('評定点一覧(R７年度完成工事)'!P75="","",'評定点一覧(R７年度完成工事)'!P75) | O26: =IF('評定点一覧(R７年度完成工事)'!P77="","",'評定点一覧(R７年度完成工事)'!P77) | P26: =IF('評定点一覧(R７年度完成工事)'!P79="","",'評定点一覧(R７年度完成工事)'!P79)
G27: =IF('評定点一覧(R７年度完成工事)'!P81="","",'評定点一覧(R７年度完成工事)'!P81) | H27: =IF('評定点一覧(R７年度完成工事)'!P83="","",'評定点一覧(R７年度完成工事)'!P83) | I27: =IF('評定点一覧(R７年度完成工事)'!P85="","",'評定点一覧(R７年度完成工事)'!P85) | J27: =IF('評定点一覧(R７年度完成工事)'!P87="","",'評定点一覧(R７年度完成工事)'!P87) | K27: =IF('評定点一覧(R７年度完成工事)'!P89="","",'評定点一覧(R７年度完成工事)'!P89) | L27: =IF('評定点一覧(R７年度完成工事)'!P91="","",'評定点一覧(R７年度完成工事)'!P91) | M27: =IF('評定点一覧(R７年度完成工事)'!P93="","",'評定点一覧(R７年度完成工事)'!P93) | N27: =IF('評定点一覧(R７年度完成工事)'!P95="","",'評定点一覧(R７年度完成工事)'!P95) | O27: =IF('評定点一覧(R７年度完成工事)'!P97="","",'評定点一覧(R７年度完成工事)'!P97) | P27: =IF('評定点一覧(R７年度完成工事)'!P99="","",'評定点一覧(R７年度完成工事)'!P99)
G28: =IF('評定点一覧(R７年度完成工事)'!P113="","",'評定点一覧(R７年度完成工事)'!P113) | H28: =IF('評定点一覧(R７年度完成工事)'!P115="","",'評定点一覧(R７年度完成工事)'!P115) | I28: =IF('評定点一覧(R７年度完成工事)'!P117="","",'評定点一覧(R７年度完成工事)'!P117) | J28: =IF('評定点一覧(R７年度完成工事)'!P119="","",'評定点一覧(R７年度完成工事)'!P119) | K28: =IF('評定点一覧(R７年度完成工事)'!P121="","",'評定点一覧(R７年度完成工事)'!P121) | L28: =IF('評定点一覧(R７年度完成工事)'!P123="","",'評定点一覧(R７年度完成工事)'!P123) | M28: =IF('評定点一覧(R７年度完成工事)'!P125="","",'評定点一覧(R７年度完成工事)'!P125) | N28: =IF('評定点一覧(R７年度完成工事)'!P127="","",'評定点一覧(R７年度完成工事)'!P127) | O28: =IF('評定点一覧(R７年度完成工事)'!P129="","",'評定点一覧(R７年度完成工事)'!P129) | P28: =IF('評定点一覧(R７年度完成工事)'!P131="","",'評定点一覧(R７年度完成工事)'!P131)
G29: =IF('評定点一覧(R７年度完成工事)'!P133="","",'評定点一覧(R７年度完成工事)'!P133) | H29: =IF('評定点一覧(R７年度完成工事)'!P135="","",'評定点一覧(R７年度完成工事)'!P135) | I29: =IF('評定点一覧(R７年度完成工事)'!P137="","",'評定点一覧(R７年度完成工事)'!P137) | J29: =IF('評定点一覧(R７年度完成工事)'!P139="","",'評定点一覧(R７年度完成工事)'!P139) | K29: =IF('評定点一覧(R７年度完成工事)'!P141="","",'評定点一覧(R７年度完成工事)'!P141) | L29: =IF('評定点一覧(R７年度完成工事)'!P143="","",'評定点一覧(R７年度完成工事)'!P143) | M29: =IF('評定点一覧(R７年度完成工事)'!P145="","",'評定点一覧(R７年度完成工事)'!P145) | N29: =IF('評定点一覧(R７年度完成工事)'!P147="","",'評定点一覧(R７年度完成工事)'!P147) | O29: =IF('評定点一覧(R７年度完成工事)'!P149="","",'評定点一覧(R７年度完成工事)'!P149) | P29: =IF('評定点一覧(R７年度完成工事)'!P151="","",'評定点一覧(R７年度完成工事)'!P151)
A30: 工事成績評定点の平均 | G30: =IF((COUNTA(G12:P29)-COUNTBLANK(G12:P29))=0,"",COUNTA(G12:P29)-COUNTBLANK(G12:P29)) | I30: 件 | J30: =IF(OR(G30="",G30=0),"",ROUND(AVERAGE(G12:P29),1)) | M30: 点
A31: （小数第２位を四捨五入）
A32: (1) | B32: 対象工事の工事成績評定点一覧表（別紙）を添付すること。 | R32: 【印刷について】
A33: (2) | B33: 工事種別については、各工事の契約時における「島根県土木工事仕様書」等において確認すること。 | R33: このシートは「ページ設定」で「白黒印刷」と「印刷範囲」が設定されています。
R34: 様式内の吹出しコメントは印刷されません。
A35: (3) | B35: 単年度の対象工事件数が６０件を超える場合、「工事成績評定点の平均」欄の「件数」及び「平均点」は、自動計算されないため、直接記入すること。
A37: (4) | B37: 上記事項の外、入札説明書本文にある要件を必ず確認すること。
A43: 技術資料提出工事名： | E43: =IF(発注者入力シート!C10="","",発注者入力シート!C10) -> （一）跡市波子停車場線（跡市２工区）総合交付金（改築）工事 第６期
A45: 提出事務所名： | E45: =IF(発注者入力シート!C6="","",発注者入力シート!C6) -> 浜田県土整備事務所
A47: 有効範囲： | E47: =発注者入力シート!$C$11 -> 令和９年７月３１日までに入札公告された工事
A49: =CONCATENATE(" 今後、",発注者入力シート!C6,"が発注する工事においては、本書の写し（※）をもって「企業の工事成績評定点」の貴社技術資料とみなし、その他添付資料の提出は不要とする。 ※本書の写しとは、収受印欄に収受の押印がある資料をいう。") -> 今後、浜田県土整備事務所が発注する工事においては、本書の写し（※）をもって「企業の工事成績評定点」の貴社技術資料とみなし、その他添付資料の提出は不要とする。 ※本書の写しとは、収受印欄に収受の押印がある資料をいう。
M51: （収受印）
B52: 技術資料の提出方法
...

Sheet 評定点一覧(R５年度完成工事)
A1: =CONCATENATE("（様式-",INDEX(発注者入力シート!$B$20:$G$24,MATCH(発注者入力シート!L6,発注者入力シート!$C$20:$C$24,0),4),"-２）") -> （様式-２-２） | Q1: 【令和５年度完成工事分】 | S1: 着色セルの凡例
A2: =CONCATENATE("評価項目",INDEX(発注者入力シート!$B$20:$G$24,MATCH(発注者入力シート!L6,発注者入力シート!$C$20:$C$24,0),5),"-",INDEX(発注者入力シート!$B$20:$G$24,MATCH(発注者入力シート!L6,発注者入力シート!$C$20:$C$24,0),6)) -> 評価項目（１）-① | S2: （企業）
A3: 工事成績評定点一覧表(別紙１枚目) | T3: ：「企業入力シート」、一覧表（別紙）で入力（数式リンク有）
H4: 会社（企業体）名： | K4: =IF(企業入力シート!C7="","",企業入力シート!C7) | T4: ：セルに直接入力が必要な箇所
S6: （発注者）
A7: 申請 | B7: 完成 | C7: 発注機関名 | E7: 工事種別 | H7: 工事名 | P7: 工事成績 | T7: ：「発注者入力シート」で入力（数式リンク有）
A8: 番号 | B8: 年度 | E8: 建設工事の種類 | P8: 評定点 | T8: ：セルに直接入力が必要な箇所
A9: 1 | B9: R５ | Q9: 点
S10: 【印刷について】
A11: 2 | B11: =B9 -> R５ | Q11: 点 | S11: このシートは「ページ設定」で「白黒印刷」と「印刷範囲」が設定されています。
S12: 様式内の吹出しコメントは印刷されません。
A13: 3 | B13: =B11 -> R５ | Q13: 点
A15: 4 | B15: =B13 -> R５ | Q15: 点
A17: 5 | B17: =B15 -> R５ | Q17: 点
A19: 6 | B19: =B17 -> R５ | Q19: 点
A21: 7 | B21: =B19 -> R５ | Q21: 点
A23: 8 | B23: =B21 -> R５ | Q23: 点
A25: 9 | B25: =B23 -> R５ | Q25: 点
A27: 10 | B27: =B25 -> R５ | Q27: 点
A29: 11 | B29: =B27 -> R５ | Q29: 点
A31: 12 | B31: =B29 -> R５ | Q31: 点
A33: 13 | B33: =B31 -> R５ | Q33: 点
A35: 14 | B35: =B33 -> R５ | Q35: 点
... A47: 20 | B47: =B45 -> R５ | Q47: 点
A49: (1) | B49: 対象工事が６０件を超える場合は、本様式を複写し申請番号を修正のうえ、提出すること。
A50: (2) | B50: 工事種別、建設工事の種類は、各工事の契約時における「島根県土木工事仕様書」等において確認すること。
A53: =CONCATENATE("（様式-",INDEX(発注者入力シート!$B$20:$G$24,MATCH(発注者入力シート!L6,発注者入力シート!$C$20:$C$24,0),4),"-２）") -> （様式-２-２） | Q53: =Q1 -> 【令和５年度完成工事分】 | S53: 着色セルの凡例
A54: =CONCATENATE("評価項目",INDEX(発注者入力シート!$B$20:$G$24,MATCH(発注者入力シート!L6,発注者入力シート!$C$20:$C$24,0),5),"-",INDEX(発注者入力シート!$B$20:$G$24,MATCH(発注者入力シート!L6,発注者入力シート!$C$20:$C$24,0),6)) -> 評価項目（１）-① | S54: （企業）
A55: 工事成績評定点一覧表(別紙２枚目) | T55: ：「企業入力シート」、一覧表（別紙）で入力（数式リンク有）
H56: 会社（企業体）名： | K56: =IF(企業入力シート!C7="","",企業入力シート!C7) | T56: ：セルに直接入力が必要な箇所
S58: （発注者）
A59: 申請 | B59: 完成 | C59: 発注機関名 | E59: 工事種別 | H59: 工事名 | P59: 工事成績 | T59: ：「発注者入力シート」で入力（数式リンク有）
A60: 番号 | B60: 年度 | E60: 建設工事の種類 | P60: 評定点 | T60: ：セルに直接入力が必要な箇所
A61: 21 | B61: =B47 -> R５ | Q61: 点
S62: 【印刷について】
A63: 22 | B63: =B61 -> R５ | Q63: 点 | S63: このシートは「ページ設定」で「白黒印刷」と「印刷範囲」が設定されています。
A65: 23 | B65: =B63 -> R５ | Q65: 点
A67: 24 | B67: =B65 -> R５ | Q67: 点
A69: 25 | B69: =B67 -> R５ | Q69: 点
A71: 26 | B71: =B69 -> R５ | Q71: 点
...

Sheet 評定点一覧(R６年度完成工事)
A1: =CONCATENATE("（様式-",INDEX(発注者入力シート!$B$20:$G$24,MATCH(発注者入力シート!L6,発注者入力シート!$C$20:$C$24,0),4),"-２）") -> （様式-２-２） | Q1: 【令和６年度完成工事分】 | S1: 着色セルの凡例
A2: =CONCATENATE("評価項目",INDEX(発注者入力シート!$B$20:$G$24,MATCH(発注者入力シート!L6,発注者入力シート!$C$20:$C$24,0),5),"-",INDEX(発注者入力シート!$B$20:$G$24,MATCH(発注者入力シート!L6,発注者入力シート!$C$20:$C$24,0),6)) -> 評価項目（１）-① | S2: （企業）
A3: 工事成績評定点一覧表(別紙１枚目) | T3: ：「企業入力シート」、一覧表（別紙）で入力（数式リンク有）
H4: 会社（企業体）名： | K4: =IF(企業入力シート!C7="","",企業入力シート!C7) | T4: ：セルに直接入力が必要な箇所
S6: （発注者）
A7: 申請 | B7: 完成 | C7: 発注機関名 | E7: 工事種別 | H7: 工事名 | P7: 工事成績 | T7: ：「発注者入力シート」で入力（数式リンク有）
A8: 番号 | B8: 年度 | E8: 建設工事の種類 | P8: 評定点 | T8: ：セルに直接入力が必要な箇所
A9: 1 | B9: R６ | Q9: 点
S10: 【印刷について】
A11: 2 | B11: =B9 -> R６ | Q11: 点 | S11: このシートは「ページ設定」で「白黒印刷」と「印刷範囲」が設定されています。
S12: 様式内の吹出しコメントは印刷されません。
A13: 3 | B13: =B11 -> R６ | Q13: 点
A15: 4 | B15: =B13 -> R６ | Q15: 点
A17: 5 | B17: =B15 -> R６ | Q17: 点
A19: 6 | B19: =B17 -> R６ | Q19: 点
A21: 7 | B21: =B19 -> R６ | Q21: 点
A23: 8 | B23: =B21 -> R６ | Q23: 点
A25: 9 | B25: =B23 -> R６ | Q25: 点
A27: 10 | B27: =B25 -> R６ | Q27: 点
A29: 11 | B29: =B27 -> R６ | Q29: 点
A31: 12 | B31: =B29 -> R６ | Q31: 点
A33: 13 | B33: =B31 -> R６ | Q33: 点
A35: 14 | B35: =B33 -> R６ | Q35: 点
... A47: 20 | B47: =B45 -> R６ | Q47: 点
A49: (1) | B49: 対象工事が６０件を超える場合は、本様式を複写し申請番号を修正のうえ、提出すること。
A50: (2) | B50: 工事種別、建設工事の種類は、各工事の契約時における「島根県土木工事仕様書」等において確認すること。
A53: =CONCATENATE("（様式-",INDEX(発注者入力シート!$B$20:$G$24,MATCH(発注者入力シート!L6,発注者入力シート!$C$20:$C$24,0),4),"-２）") -> （様式-２-２） | Q53: =Q1 -> 【令和６年度完成工事分】 | S53: 着色セルの凡例
A54: =CONCATENATE("評価項目",INDEX(発注者入力シート!$B$20:$G$24,MATCH(発注者入力シート!L6,発注者入力シート!$C$20:$C$24,0),5),"-",INDEX(発注者入力シート!$B$20:$G$24,MATCH(発注者入力シート!L6,発注者入力シート!$C$20:$C$24,0),6)) -> 評価項目（１）-① | S54: （企業）
A55: 工事成績評定点一覧表(別紙２枚目) | T55: ：「企業入力シート」、一覧表（別紙）で入力（数式リンク有）
H56: 会社（企業体）名： | K56: =IF(企業入力シート!C7="","",企業入力シート!C7) | T56: ：セルに直接入力が必要な箇所
S58: （発注者）
A59: 申請 | B59: 完成 | C59: 発注機関名 | E59: 工事種別 | H59: 工事名 | P59: 工事成績 | T59: ：「発注者入力シート」で入力（数式リンク有）
A60: 番号 | B60: 年度 | E60: 建設工事の種類 | P60: 評定点 | T60: ：セルに直接入力が必要な箇所
A61: 21 | B61: =B47 -> R６ | Q61: 点
S62: 【印刷について】
A63: 22 | B63: =B61 -> R６ | Q63: 点 | S63: このシートは「ページ設定」で「白黒印刷」と「印刷範囲」が設定されています。
A65: 23 | B65: =B63 -> R６ | Q65: 点
A67: 24 | B67: =B65 -> R６ | Q67: 点
A69: 25 | B69: =B67 -> R６ | Q69: 点
A71: 26 | B71: =B69 -> R６ | Q71: 点
...

Sheet 評定点一覧(R７年度完成工事)
A1: =CONCATENATE("（様式-",INDEX(発注者入力シート!$B$20:$G$24,MATCH(発注者入力シート!L6,発注者入力シート!$C$20:$C$24,0),4),"-２）") -> （様式-２-２） | Q1: 【令和７年度完成工事分】 | S1: 着色セルの凡例
A2: =CONCATENATE("評価項目",INDEX(発注者入力シート!$B$20:$G$24,MATCH(発注者入力シート!L6,発注者入力シート!$C$20:$C$24,0),5),"-",INDEX(発注者入力シート!$B$20:$G$24,MATCH(発注者入力シート!L6,発注者入力シート!$C$20:$C$24,0),6)) -> 評価項目（１）-① | S2: （企業）
A3: 工事成績評定点一覧表(別紙１枚目) | T3: ：「企業入力シート」、一覧表（別紙）で入力（数式リンク有）
H4: 会社（企業体）名： | K4: =IF(企業入力シート!C7="","",企業入力シート!C7) | T4: ：セルに直接入力が必要な箇所
S6: （発注者）
A7: 申請 | B7: 完成 | C7: 発注機関名 | E7: 工事種別 | H7: 工事名 | P7: 工事成績 | T7: ：「発注者入力シート」で入力（数式リンク有）
A8: 番号 | B8: 年度 | E8: 建設工事の種類 | P8: 評定点 | T8: ：セルに直接入力が必要な箇所
A9: 1 | B9: R７ | Q9: 点
S10: 【印刷について】
A11: 2 | B11: =B9 -> R７ | Q11: 点 | S11: このシートは「ページ設定」で「白黒印刷」と「印刷範囲」が設定されています。
S12: 様式内の吹出しコメントは印刷されません。
A13: 3 | B13: =B11 -> R７ | Q13: 点
A15: 4 | B15: =B13 -> R７ | Q15: 点
A17: 5 | B17: =B15 -> R７ | Q17: 点
A19: 6 | B19: =B17 -> R７ | Q19: 点
A21: 7 | B21: =B19 -> R７ | Q21: 点
A23: 8 | B23: =B21 -> R７ | Q23: 点
A25: 9 | B25: =B23 -> R７ | Q25: 点
A27: 10 | B27: =B25 -> R７ | Q27: 点
A29: 11 | B29: =B27 -> R７ | Q29: 点
A31: 12 | B31: =B29 -> R７ | Q31: 点
A33: 13 | B33: =B31 -> R７ | Q33: 点
A35: 14 | B35: =B33 -> R７ | Q35: 点
... A47: 20 | B47: =B45 -> R７ | Q47: 点
A49: (1) | B49: 対象工事が６０件を超える場合は、本様式を複写し申請番号を修正のうえ、提出すること。
A50: (2) | B50: 工事種別、建設工事の種類は、各工事の契約時における「島根県土木工事仕様書」等において確認すること。
A53: =CONCATENATE("（様式-",INDEX(発注者入力シート!$B$20:$G$24,MATCH(発注者入力シート!L6,発注者入力シート!$C$20:$C$24,0),4),"-２）") -> （様式-２-２） | Q53: =Q1 -> 【令和７年度完成工事分】 | S53: 着色セルの凡例
A54: =CONCATENATE("評価項目",INDEX(発注者入力シート!$B$20:$G$24,MATCH(発注者入力シート!L6,発注者入力シート!$C$20:$C$24,0),5),"-",INDEX(発注者入力シート!$B$20:$G$24,MATCH(発注者入力シート!L6,発注者入力シート!$C$20:$C$24,0),6)) -> 評価項目（１）-① | S54: （企業）
A55: 工事成績評定点一覧表(別紙２枚目) | T55: ：「企業入力シート」、一覧表（別紙）で入力（数式リンク有）
H56: 会社（企業体）名： | K56: =IF(企業入力シート!C7="","",企業入力シート!C7) | T56: ：セルに直接入力が必要な箇所
S58: （発注者）
A59: 申請 | B59: 完成 | C59: 発注機関名 | E59: 工事種別 | H59: 工事名 | P59: 工事成績 | T59: ：「発注者入力シート」で入力（数式リンク有）
A60: 番号 | B60: 年度 | E60: 建設工事の種類 | P60: 評定点 | T60: ：セルに直接入力が必要な箇所
A61: 21 | B61: =B47 -> R７ | Q61: 点
S62: 【印刷について】
A63: 22 | B63: =B61 -> R７ | Q63: 点 | S63: このシートは「ページ設定」で「白黒印刷」と「印刷範囲」が設定されています。
A65: 23 | B65: =B63 -> R７ | Q65: 点
A67: 24 | B67: =B65 -> R７ | Q67: 点
A69: 25 | B69: =B67 -> R７ | Q69: 点
A71: 26 | B71: =B69 -> R７ | Q71: 点
...

Sheet 技術者資格
A1: =CONCATENATE("（様式-",INDEX(発注者入力シート!$B$25:$G$28,MATCH(発注者入力シート!M6,発注者入力シート!$C$25:$C$28,0),4),"）") -> （様式-３） | Q1: 配置予定技術者①、②、③共通 | S1: 着色セルの凡例
A2: =CONCATENATE("評価項目",INDEX(発注者入力シート!$B$25:$G$28,MATCH(発注者入力シート!M6,発注者入力シート!$C$25:$C$28,0),5),"-",INDEX(発注者入力シート!$B$25:$G$28,MATCH(発注者入力シート!M6,発注者入力シート!$C$25:$C$28,0),6)) -> 評価項目（２）-① | S2: （企業）
T3: ：「企業入力シート」、一覧表（別紙）で入力（数式リンク有）
A4: 配置予定技術者の資格 | T4: ：セルに直接入力もしくはリストから選択が必要な箇所
H6: 会社（企業体）名： | K6: =IF(企業入力シート!C7="","",企業入力シート!C7) | S6: （発注者）
T7: ：「発注者入力シート」で入力（数式リンク有）
A8: 対象：配置予定の主任（監理）技術者が保有する次の資格 | T8: ：セルに直接入力が必要な箇所
B9: １級もしくは２級土木施工管理技士、または1級もしくは２級建設機械施工技士
A10: 配置予定技術者氏名 | F10: 保有する資格名称 | J10: 最新の有効期限 (有効期限のない 資格は記入不要)
S11: 【印刷について】
A12: ① | B12: =IF(企業入力シート!C18="","",企業入力シート!C18) | S12: このシートは「ページ設定」で「白黒印刷」と「印刷範囲」が設定されています。
S13: 様式内の吹出しコメントは印刷されません。
A14: ② | B14: =IF(企業入力シート!C19="","",企業入力シート!C19)
A16: ③ | B16: =IF(企業入力シート!C20="","",企業入力シート!C20)
A18: (1) | B18: 資格・有効期限の確認できる証明書、資格証等の写しを添付すること。
A19: (2) | B19: =CONCATENATE("資格は入札公告日前日時点（令和",(YEAR(発注者入力シート!H7)-2018),"年",MONTH(発注者入力シート!H7),"月",DAY(発注者入力シート!H7),"日時点）で保有する資格とする。") -> 資格は入札公告日前日時点（令和8年10月1日時点）で保有する資格とする。
A20: (3) | B20: 技術資料提出時に配置予定技術者が特定できない場合は、複数の候補者を記入できる。その場合、審査は候補者のうち配置予定技術者の評価点合計が最も低い者で評価する。
A22: (4) | B22: 上記事項の外、入札説明書本文にある要件を必ず確認すること。
A26: 技術資料提出工事名： | E26: =IF(発注者入力シート!C10="","",発注者入力シート!C10) -> （一）跡市波子停車場線（跡市２工区）総合交付金（改築）工事 第６期
A28: 提出事務所名： | E28: =IF(発注者入力シート!C6="","",発注者入力シート!C6) -> 浜田県土整備事務所
A30: 有効範囲： | E30: =発注者入力シート!$C$11 -> 令和９年７月３１日までに入札公告された工事
E31: （ただし、資格の有効期限が令和９年7月31日以前までのものは、その期日までとする）
A33: 対象技術者： | E33: 上記①～③の配置予定技術者のうち、上記資格保有者
A35: =CONCATENATE(" 今後、",発注者入力シート!C6,"が発注する工事においては、本書の写し（※）をもって「配置予定技術者の資格」の 貴社技術資料とみなし、その他添付資料の提出は不要とする。 ※本書の写しとは、収受印欄に収受の押印がある資料をいう。") -> 今後、浜田県土整備事務所が発注する工事においては、本書の写し（※）をもって「配置予定技術者の資格」の 貴社技術資料とみなし、その他添付資料の提出は不要とする。 ※本書の写しとは、収受印欄に収受の押印がある資料をいう。
A37: ただし、資格を新たに取得し、加算点に変更が生じた場合は、技術資料及び必要な添付資料を再提出すること。
N39: （収受印）
A40: ="①"&"配置予定技術者："&B12&" 技術資料の提出方法" -> ①配置予定技術者： 技術資料の提出方法
A41: =IF(B12="",発注者入力シート!$AJ$11,IF(INDEX(発注者入力シート!$B$25:$J$28,MATCH(発注者入力シート!M6,発注者入力シート!$C$25:$C$28,0),7)="未記入",発注者入力シート!$AJ$8,IF(INDEX(発注者入力シート!$B$25:$J$28,MATCH(発注者入力シート!M6,発注者入力シート!$C$25:$C$28,0),7)="無",発注者入力シート!$AJ$9,IF(INDEX(発注者入力シート!$B$25:$J$28,MATCH(発注者入力シート!M6,発注者入力シート!$C$25:$C$28,0),7)="有",発注者入力シート!$AJ$10)))) -> 申請する場合は、「企業入力シート」の「押印済資料での提出」欄で「有」を選択してください
A43: ="②"&"配置予定技術者："&B14&" 技術資料の提出方法" -> ②配置予定技術者： 技術資料の提出方法
A44: =IF(B14="",発注者入力シート!$AJ$11,IF(INDEX(発注者入力シート!$B$25:$J$28,MATCH(発注者入力シート!M6,発注者入力シート!$C$25:$C$28,0),8)="未記入",発注者入力シート!$AJ$8,IF(INDEX(発注者入力シート!$B$25:$J$28,MATCH(発注者入力シート!M6,発注者入力シート!$C$25:$C$28,0),8)="無",発注者入力シート!$AJ$9,IF(INDEX(発注者入力シート!$B$25:$J$28,MATCH(発注者入力シート!M6,発注者入力シート!$C$25:$C$28,0),8)="有",発注者入力シート!$AJ$10)))) -> 申請する場合は、「企業入力シート」の「押印済資料での提出」欄で「有」を選択してください
A46: ="③"&"配置予定技術者："&B16&" 技術資料の提出方法" -> ③配置予定技術者： 技術資料の提出方法
