Workbook

Sheet 評価項目（標準）
M1: 設計業務（高度・標準） 【令和８年６月版】
B2: 設計業務 総合評価方式評価項目一覧 【加算方式】 | H2: 委託名： | J2: 一般国道１６３号（片田ＢＰ４工区）道路改良（交差点詳細設計）業務委託
B3: 大項目 | D3: 中項目 | E3: 小項目 | G3: 評価基準 | H3: 技術評価点 | K3: 様式 | L3: 評価内容等
H4: 配点 | I4: 小項目 配点 | J4: 大項目 配点
B5: 企業の能力等 | C5: 社会貢献度 | D5: 社会貢献度 | E5: ① 男女共同参画活動実績 ② 障がい者雇用実績 ③ 環境マネジメントシステムの認証 ④人権に関する取組実績 | G5: 左欄の①～④のうち、該当する項目数 | I5: 6 | J5: =SUM(I5:I19) -> 33 | K5: 様式１ 様式２ | L5: 次の実績（認証取得）の該当項目数により評価します。 ①男女共同参画活動実績 女性の職業生活における活躍の推進に関する法律に基づく一般事業主行動計画を策定している場合に評価します。 ②障がい者雇用実績 障害者の雇用の促進等に関する法律に基づく障がい者雇用の有無により評価します。 ・法律により障がい者雇用が義務付けられている企業は、法定雇用率を達成している場合に評価します。 ・法律により障がい者雇用が義務付けされていない企業は、障がい者を雇用している場合に評価します。 ③ISO1400１、M-EMSの認証取得 当該業務の入札に参加する者が、ISO14001又はM-EMS（ステップ２又はステップ１）のいずれかの認証を取得している場合に評価します。 ISO14001とM-EMSは、重複して評価しません。 ④人権に関する取組実績 「三重県が開催する人権に関する研修の受講実績」又は「職業安定法に基づく公正採用選考人権啓発推進員の設置」のいずれかの取組実績の有無により評価します。 なお、「三重県が開催する人権に関する研修の受講実績」は、令和７年度から令和８年度の受講実績を評価の対象とします。 ・「三重県が開催する人権に関する研修の受講実績」と「職業安定法に基づく公正採用選考人権啓発推進員の設置」は重複して評価しません。
G6: ４項目 | H6: 6
G7: ３項目 | H7: 5
G8: ２項目 | H8: 4
G9: １項目 | H9: 3
G10: 実績（認証取得）なし | H10: 0
C11: 企業の技術力等 | D11: 企業の技術力等 | E11: 品質マネジメントシステムの認証 | G11: 有 | H11: 2 | I11: 2 | L11: ISO9000Sの認証取得の有無により評価します。 ・当該業務の入札に参加する者がISO9000Sの認証を取得している、又は配置予定の管理技術者が所属する組織がISO9000Sの認証を取得している場合に評価します。
G12: 無 | H12: 0
E13: 業務成績 | G13: ８５点以上 | H13: 5 | I13: 5 | L13: 設計業務のうち、令和５年４月１日から令和６年３月３１日までの三重県が通知（設計業務等成績認定書）した業務評定点（計画検討、解析等調査業務及び設計業務（土木業務））と令和６年４月１日から令和８年３月３１日までの三重県が通知（設計業務等成績認定書）した業務評定点（設計業務「調査業務・計画業務」、設計業務「概略・予備検討」及び設計業務「詳細設計」）総計の平均値（小数第２位以下切り捨て）の点数を評価します。 ・業務成績のない場合又は当該業務の指名通知日までに県土整備部公共事業運営課が行う業務評定点の確認が取れていない場合は０点です。
G14: ８０点以上８５点未満 | H14: 4
G15: ７５点以上８０点未満 | H15: 3
G16: ７０点以上７５点未満 | H16: 2
G17: ７０点未満 | H17: 0
E18: 評価対象業務の実績 | G18: 評価対象業務の実績あり | H18: 20 | I18: 20 | L18: 平成２８年度以降に完了した契約金額300万円以上の評価対象業務の実績の有無について評価します。なお、評価対象業務は国、地方公共団体又はその他政令等で定める法人発注の業務で下記に定めるとおりとします。 評価対象業務とは、「道路詳細設計業務、道路予備設計業務または交差点詳細設計業務」を指します。 ・「道路」とは国道、県道、市町村道に限ります。 ・法面や構造物のみの設計は除きます。 ・修正設計は除きます。 ・評価対象の業務実績は1件とし、テクリス登録業務に限ります。
G19: 評価対象業務の実績なし | H19: 0
B20: 技術者要件 | C20: 管理技術者 | D20: 業務執行技術力 | E20: 評価対象業務の実績 | G20: 評価対象業務の実績あり | H20: 20 | I20: 20 | J20: =SUM(I20:I29) -> 45 | K20: 様式１ 様式３ | L20: 平成２８年度以降に完了した契約金額300万円以上の評価対象業務の管理技術者又は担当技術者としての実績の有無について評価します。なお、評価対象業務は国、地方公共団体又はその他政令等で定める法人発注の業務で下記に定めるとおりとします。 評価対象業務とは、「道路詳細設計業務、道路予備設計業務または交差点詳細設計業務」を指します。 ・「道路」とは国道、県道、市町村道に限ります。 ・法面や構造物のみの設計は除きます。 ・修正設計は除きます。 ・評価対象の業務実績は1件とし、テクリス登録業務に限ります。
G21: 評価対象業務の実績なし | H21: 0
D22: 手持ち業務件数 | E22: 管理技術者の三重県発注業務委託の 手持ち業務件数 | G22: ０件 | H22: 20 | I22: 20 | L22: 配置予定の管理技術者が、指名通知日において、管理（主任）技術者として従事している契約中の手持ち業務件数により評価します。 ・手持ち業務件数とは、三重県が発注した測量・設計（金額を問わずすべて）の業務委託で、管理（主任）技術者として契約を行っている件数とします。ただし、単価契約による業務、災害協定に基づく対応業務については、件数に含みません。
G23: １件 | H23: 15
G24: ２件 | H24: 10
G25: ３件 | H25: 5
G26: ４件以上 | H26: 0
D27: 管理技術者又は 照査技術者の 資格及び分野 | E27: 資格の保有状況 | G27: 技術士資格 | H27: 5 | I27: 5 | K27: 様式１ 様式３ 様式６ | L27: 管理技術者又は照査技術者いずれかの資格の保有状況により評価します。なお、資格及び分野は、次のとおりとします。 ・技術士資格：〔道路部門（道路科目）〕 ・技術管理者：〔道路部門〕 ※技術評価点の高い技術者の資格で評価します。
G28: 技術管理者 | H28: 3
G29: 上記以外 | H29: 0
B30: 技術力要件 | C30: 技術提案等 | D30: 技術提案 | E30: 特定テーマ | F30: 配慮すべき項目とその設計方針 | G30: 優れている | H30: 50 | I30: 50 | J30: =SUM(I30:I34) -> 50 | K30: 様式８ | L30: 当該業務は、一般国道１６３号において、現忠盛塚東交差点をバイパスの分岐点とした場合の交差点予備設計を実施し、現計画と比較したうえで、交差点詳細設計を行う業務です。 現地状況等を踏まえ、業務を行ううえで、配慮すべき項目とその設計方針を記載してください。
G31: 概ね優れている | H31: 45
G32: 良好である | H32: 40
G33: 概ね良好である | H33: 35
G34: 上記以外 | H34: 0
I35: 合計 | J35: =SUM(J5:J34) -> 128 | L35: ※技術提案書の作成の留意事項及び提出資料は、「技術提案書作成等説明書」で必ず確認してください。

Sheet 技術提案書提出届
O2: 令和 年 月 日
A5: 技術提案書提出届
A8: 三重県知事 あて
J11: 住 所
J13: 会 社 名
J15: 代表者氏名
A19: 業 務 名 | E19: ： | F19: 令和8年度 社会資本・広連・国 第 A110－05分2002号
F20: 一般国道１６３号（片田ＢＰ４工区）道路改良
F21: （交差点詳細設計）業務委託
B23: 上記業務の技術提案書を提出します。 なお、本技術提案書の記載内容並びに確認資料の内容は、事実と相違ないことを誓約します。 また、契約に至った場合は、本技術提案書の記載内容を業務計画書に反映します。 問い合わせ先は次のとおりです。
C30: 【問い合わせ先】
D31: 担当者 | G31: ： | H31: ○○ ○○
D32: 部 署 | G32: ： | H32: ○○本店 ○○部 ○○課
D33: 住 所 | G33: ： | H33: ○○県 ○○市 ○○
D34: 電話番号 | G34: ： | H34: ＊＊＊－＊＊＊＊－＊＊＊＊
D35: ＦＡＸ | G35: ： | H35: ＊＊＊－＊＊＊＊－＊＊＊＊
D36: Ｅ-mail | G36: ：

Sheet 様式1 技術評価点申告書
B1: 様式１ 技術評価点申告書
G2: 会社名
B3: 大項目 | D3: 中項目 | F3: 小項目 | G3: 小項目配点 | H3: 基準評価点 | J3: 各評価項目の 自己評価 | K3: 自己 評定点
H4: 配点 | I4: 評価基準
B5: =IF('評価項目（標準）'!B5="","",+'評価項目（標準）'!B5) -> 企業の能力等 | C5: =IF('評価項目（標準）'!C5="","",+'評価項目（標準）'!C5) -> 社会貢献度 | D5: =IF('評価項目（標準）'!D5="","",+'評価項目（標準）'!D5) -> 社会貢献度 | F5: =IF('評価項目（標準）'!E5="","",+'評価項目（標準）'!E5) -> ① 男女共同参画活動実績 ② 障がい者雇用実績 ③ 環境マネジメントシステムの認証 ④人権に関する取組実績 | G5: =IF('評価項目（標準）'!I5="","",+'評価項目（標準）'!I5) -> 6 | H5: =IF('評価項目（標準）'!G5="","",+'評価項目（標準）'!G5) -> 左欄の①～④のうち、該当する項目数
H6: =IF('評価項目（標準）'!H6="","",+'評価項目（標準）'!H6) -> 6 | I6: =IF('評価項目（標準）'!G6="","",+'評価項目（標準）'!G6) -> ４項目
H7: =IF('評価項目（標準）'!H7="","",+'評価項目（標準）'!H7) -> 5 | I7: =IF('評価項目（標準）'!G7="","",+'評価項目（標準）'!G7) -> ３項目
H8: =IF('評価項目（標準）'!H8="","",+'評価項目（標準）'!H8) -> 4 | I8: =IF('評価項目（標準）'!G8="","",+'評価項目（標準）'!G8) -> ２項目
H9: =IF('評価項目（標準）'!H9="","",+'評価項目（標準）'!H9) -> 3 | I9: =IF('評価項目（標準）'!G9="","",+'評価項目（標準）'!G9) -> １項目
H10: =IF('評価項目（標準）'!H10="","",+'評価項目（標準）'!H10) -> 0 | I10: =IF('評価項目（標準）'!G10="","",+'評価項目（標準）'!G10) -> 実績（認証取得）なし
C11: =IF('評価項目（標準）'!C11="","",+'評価項目（標準）'!C11) -> 企業の技術力等 | D11: =IF('評価項目（標準）'!D11="","",+'評価項目（標準）'!D11) -> 企業の技術力等 | F11: =IF('評価項目（標準）'!E11="","",+'評価項目（標準）'!E11) -> 品質マネジメントシステムの認証 | G11: =IF('評価項目（標準）'!I11="","",+'評価項目（標準）'!I11) -> 2 | H11: =IF('評価項目（標準）'!H11="","",+'評価項目（標準）'!H11) -> 2 | I11: =IF('評価項目（標準）'!G11="","",+'評価項目（標準）'!G11) -> 有
H12: =IF('評価項目（標準）'!H12="","",+'評価項目（標準）'!H12) -> 0 | I12: =IF('評価項目（標準）'!G12="","",+'評価項目（標準）'!G12) -> 無
F13: =IF('評価項目（標準）'!E13="","",+'評価項目（標準）'!E13) -> 業務成績 | G13: =IF('評価項目（標準）'!I13="","",+'評価項目（標準）'!I13) -> 5 | H13: =IF('評価項目（標準）'!H13="","",+'評価項目（標準）'!H13) -> 5 | I13: =IF('評価項目（標準）'!G13="","",+'評価項目（標準）'!G13) -> ８５点以上
H14: =IF('評価項目（標準）'!H14="","",+'評価項目（標準）'!H14) -> 4 | I14: =IF('評価項目（標準）'!G14="","",+'評価項目（標準）'!G14) -> ８０点以上８５点未満
H15: =IF('評価項目（標準）'!H15="","",+'評価項目（標準）'!H15) -> 3 | I15: =IF('評価項目（標準）'!G15="","",+'評価項目（標準）'!G15) -> ７５点以上８０点未満
H16: =IF('評価項目（標準）'!H16="","",+'評価項目（標準）'!H16) -> 2 | I16: =IF('評価項目（標準）'!G16="","",+'評価項目（標準）'!G16) -> ７０点以上７５点未満
H17: =IF('評価項目（標準）'!H17="","",+'評価項目（標準）'!H17) -> 0 | I17: =IF('評価項目（標準）'!G17="","",+'評価項目（標準）'!G17) -> ７０点未満
F18: =IF('評価項目（標準）'!E18="","",+'評価項目（標準）'!E18) -> 評価対象業務の実績 | G18: =IF('評価項目（標準）'!I18="","",+'評価項目（標準）'!I18) -> 20 | H18: =IF('評価項目（標準）'!H18="","",+'評価項目（標準）'!H18) -> 20 | I18: =IF('評価項目（標準）'!G18="","",+'評価項目（標準）'!G18) -> 評価対象業務の実績あり
H19: =IF('評価項目（標準）'!H19="","",+'評価項目（標準）'!H19) -> 0 | I19: =IF('評価項目（標準）'!G19="","",+'評価項目（標準）'!G19) -> 評価対象業務の実績なし
B20: =IF('評価項目（標準）'!B20="","",+'評価項目（標準）'!B20) -> 技術者要件 | C20: =IF('評価項目（標準）'!C20="","",+'評価項目（標準）'!C20) -> 管理技術者 | D20: =IF('評価項目（標準）'!D20="","",+'評価項目（標準）'!D20) -> 業務執行技術力 | F20: =IF('評価項目（標準）'!E20="","",+'評価項目（標準）'!E20) -> 評価対象業務の実績 | G20: =IF('評価項目（標準）'!I20="","",+'評価項目（標準）'!I20) -> 20 | H20: =IF('評価項目（標準）'!H20="","",+'評価項目（標準）'!H20) -> 20 | I20: =IF('評価項目（標準）'!G20="","",+'評価項目（標準）'!G20) -> 評価対象業務の実績あり
H21: =IF('評価項目（標準）'!H21="","",+'評価項目（標準）'!H21) -> 0 | I21: =IF('評価項目（標準）'!G21="","",+'評価項目（標準）'!G21) -> 評価対象業務の実績なし
D22: =IF('評価項目（標準）'!D22="","",+'評価項目（標準）'!D22) -> 手持ち業務件数 | F22: =IF('評価項目（標準）'!E22="","",+'評価項目（標準）'!E22) -> 管理技術者の三重県発注業務委託の 手持ち業務件数 | G22: =IF('評価項目（標準）'!I22="","",+'評価項目（標準）'!I22) -> 20 | H22: =IF('評価項目（標準）'!H22="","",+'評価項目（標準）'!H22) -> 20 | I22: =IF('評価項目（標準）'!G22="","",+'評価項目（標準）'!G22) -> ０件
H23: =IF('評価項目（標準）'!H23="","",+'評価項目（標準）'!H23) -> 15 | I23: =IF('評価項目（標準）'!G23="","",+'評価項目（標準）'!G23) -> １件
H24: =IF('評価項目（標準）'!H24="","",+'評価項目（標準）'!H24) -> 10 | I24: =IF('評価項目（標準）'!G24="","",+'評価項目（標準）'!G24) -> ２件
H25: =IF('評価項目（標準）'!H25="","",+'評価項目（標準）'!H25) -> 5 | I25: =IF('評価項目（標準）'!G25="","",+'評価項目（標準）'!G25) -> ３件
H26: =IF('評価項目（標準）'!H26="","",+'評価項目（標準）'!H26) -> 0 | I26: =IF('評価項目（標準）'!G26="","",+'評価項目（標準）'!G26) -> ４件以上
D27: =IF('評価項目（標準）'!D27="","",+'評価項目（標準）'!D27) -> 管理技術者又は 照査技術者の 資格及び分野 | F27: =IF('評価項目（標準）'!E27="","",+'評価項目（標準）'!E27) -> 資格の保有状況 | G27: =IF('評価項目（標準）'!I27="","",+'評価項目（標準）'!I27) -> 5 | H27: =IF('評価項目（標準）'!H27="","",+'評価項目（標準）'!H27) -> 5 | I27: =IF('評価項目（標準）'!G27="","",+'評価項目（標準）'!G27) -> 技術士資格
H28: =IF('評価項目（標準）'!H28="","",+'評価項目（標準）'!H28) -> 3 | I28: =IF('評価項目（標準）'!G28="","",+'評価項目（標準）'!G28) -> 技術管理者
H29: =IF('評価項目（標準）'!H29="","",+'評価項目（標準）'!H29) -> 0 | I29: =IF('評価項目（標準）'!G29="","",+'評価項目（標準）'!G29) -> 上記以外
J30: 合計 | K30: =SUM(K5:K29) -> 0
B32: 【記入上の注意】
B33: ・ | D33: 黄色着色のセルは、該当する数値を直接入力してください。技術評価点は、自動計算により表示されます。
B34: ・ | D34: 橙色着色のセルは、セル中から該当する項目を選択してください。技術評価点は、選択した内容に応じて自動で表示されます。
B35: ・ | C35: 評価項目及び評価基準の詳細については、「評価項目一覧」及び「技術提案書作成等説明書」で確認してください。
B36: ・ | C36: このシートは「評価項目一覧」とリンクしています。自己加算点が表示されていない場合は評価しません。

Sheet 様式２企業
A1: 様式２ | F1: 企業の能力等に関する技術資料
P3: 会社名：
A5: 社会貢献度 | F5: ① | H5: 男女共同参画活動実績の有無
F6: ② | H6: 障がい者雇用実績の有無
F7: ③ | H7: 環境マネジメントシステムの認証の有無
F8: ④ | H8: 人権に関する取組実績
A9: 企業の技術力等 | F9: 業務実績 | I9: テクリス 登録番号
I10: 業務名称
A13: 注１： | C13: 社会貢献度の各項目で実績（認証取得）の有無をプルダウンで選択してください。
A14: 注２： | C14: 企業の技術力等で評価対象業務の実績がある場合は、テクリス登録番号及び業務名称を記載してください。

Sheet 様式３管理
A1: 様式３ | F1: 管理技術者に関する技術資料
O3: 会社名：
A5: 管理技術者の経歴
A6: ①氏名 | C6: （ふりがな） | K6: ②生年月日（西暦）
N7: 年 | P7: 月 | R7: 日
A8: ③所属
A10: ④評価対象業務
A11: テクリス 登録番号
A12: 業務名称
A15: ⑤手持ち業務の状況
A16: 業務名称 【管理（主任）技術者として従事している業務】 | T16: 発注機関名
A17: 1
A19: 2
A21: 3
A23: 4
A25: ⑥保有資格
A26: 技術士 | D26: （ | L26: 部門， | V26: 科目）
A27: 技術管理者 | D27: （ | V27: 部門）
B28: 注１： | C28: ①欄の氏名（ふりがな）は、必ず記載してください。
B29: 注２： | C29: ②欄の生年月日は、審査・評価とは関係ありませんが、統計上必要なため記載してください。
B30: 注３： | C30: ④欄の評価対象業務の実績がある場合は、テクリス登録番号及び業務名称を記載してください。
B31: 注４： | C31: ⑤欄の手持ち業務の状況は、金額を問わず全ての測量業務及び設計業務を記載してください。
C32: ただし、単価契約による業務は、手持ち業務に含みません。
C33: また、手持ち業務が４件以上ある場合は、４件まで記載してください。
B34: 注５： | C34: ⑥欄に管理技術者の該当する保有資格を記載してください。

Sheet 様式６照査
A1: 様式６ | F1: 照査技術者に関する技術資料
O3: 会社名：
A5: 照査技術者の経歴
A6: ①氏名 | C6: （ふりがな） | K6: ②生年月日（西暦）
N7: 年 | P7: 月 | R7: 日
A8: ③保有資格
A9: 技術士 | D9: （ | L9: 部門， | V9: 科目）
A10: 技術管理者 | D10: （ | V10: 部門）
B11: 注１： | C11: ①欄の氏名（ふりがな）は、必ず記載してください。
B12: 注２： | C12: ②欄の生年月日は、審査・評価とは関係ありませんが、統計上必要なため記載してください。
B13: 注３： | C13: ③欄に照査技術者の該当する保有資格を記載してください。

Sheet 様式８
A1: 様式８ | E1: 技術力要件に関する技術資料（特定テーマ）
O2: 会社名：
A3: 技術提案
A4: 特定テーマ： | D4: 当該業務は、一般国道１６３号において、現忠盛塚東交差点をバイパスの分岐点とした場合の交差点予備設計を実施し、現計画と比較したうえで、交差点詳細設計を行う業務です。 現地状況等を踏まえ、業務を行ううえで、配慮すべき項目とその設計方針を記載してください。
