Workbook

Sheet 評価項目(標準)
M1: 機械器具設置工事 【令和８年６月版】
B2: 簡易型Ｂ | D2: 総合評価方式評価項目一覧 【機械器具設置工事】 除算方式 | G2: 工事名： | I2: 鹿海地区 農村地域排水対策事業 排水機場補修更新その２工事
B3: 大項目 | D3: 中項目 | E3: 小項目 | F3: 評価基準 | I3: 加算点 | L3: 様式 | M3: 評価内容等
I4: 配点 | J4: 小項目 配点 | K4: 大項目 配点
B5: 企 業 の 能 力 等 | C5: 社会貢献度 | D5: 社会貢献度 | E5: ① 男女共同参画活動実績 ② 障がい者雇用実績 ③ 人権に関する取組実績 ④ 「みえる・わかる・つながる！職業ポータルサイト」 Webページへの登録 ⑤ 現場見学会等の開催実績 ⑥ 不当要求防止責任者講習の受講実績 ⑦ 職場環境づくりの実績 | F5: 左欄の①～⑦のうち、該当する項目により得られる合計点数 | J5: 4 | K5: =SUM(J5:J17) -> 42 | L5: 様式１ 様式２ | M5: 下記の実績の該当する項目により得られる合計点数により評価します。 ①男女共同参画活動実績 女性の職業生活における活躍の推進に関する法律に基づく一般事業主行動計画を策定している場合に評価します。（１点） ②障がい者雇用実績 障害者の雇用の促進等に関する法律に基づく障がい者雇用の有無により評価します。（１点） ・法律により障がい者雇用が義務付けられている企業は、法定雇用率を達成している場合に評価します。 ・法律により障がい者雇用が義務付けられていない企業は、障がい者を雇用している場合に評価します。 ③人権に関する取組実績 「三重県が開催する人権に関する研修の受講実績」又は「職業安定法に基づく公正採用選考人権啓発推進員の設置」のいずれかの取組実績の有無により評価します。（１点） なお、「三重県が開催する人権に関する研修の受講実績」は、令和７年度から令和８年度の受講実績を評価の対象とします。 ・「三重県が開催する人権に関する研修の受講実績」と「職業安定法に基づく公正採用選考人権啓発推進員の設置」は重複して評価しません。 ④「みえる・わかる・つながる！職業ポータルサイト」Webページへの登録 ・当該工事の入札に参加する者が、「みえる・わかる・つながる！職業ポータルサイト」Webぺージにインターンシップ受入情報を登録している場合に評価します。（１点） ・Webページ登録項目のうち「所在地、業種、職種、受入対象、受入時期、受入人数」の項目が全て記載されている場合に評価します。 ⑤現場見学会等の開催実績 ・当該工事の入札に参加する者が、単独又は共同企業体構成員として受注した三重県内の工事において、小学校、中学校、高等学校等の教育機関を対象に社会に貢献する建設業の役割の理解や次世代を支える若者たちの建設業への興味や関心を高めることを目的として現場見学会を開催した場合、及び、同目的で出前講座、実習授業のいずれかを開催した場合に評価します。（１点） ・現場見学会、出前講座、実習授業は１０名以上を対象とした場合に評価します。ただし、１０名以上の参加が見込めない場合（小規模な学校や学校側との調整の結果参加者が１０名未満となった場合）は、１０名未満でも評価します。 ・令和３年度から当該工事の入札公告日までの開催実績を評価の対象とします。 ・評価対象の現場見学会の実績は、官民の別は問いません。 ⑥不当要求防止責任者講習の受講実績 当該工事の入札に参加する者が、不当要求防止責任者を選任し、三重県公安委員会（(公財)暴力追放三重県民センター）が開催する不当要求防止責任者講習の受講実績のある場合に評価します。（１点） なお、「不当要求防止責任者講習の受講実績」は、令和５年度から入札公告日までの受講実績を評価の対象とします。 ⑦職場環境づくりの実績 下記のいずれかの実績により評価します。 （１） 令和４年度以降に「ユースエール認定制度」に認定されたことがある。（２点） （２）「みえの働き方改革推進企業登録制度」に登録されている。（１点） ※（１）と（２）は重複して評価しません。
F6: ４点 | I6: 4
F7: ３点 | I7: 3
F8: ２点 | I8: 2
F9: １点 | I9: 1
F10: 実績（取得点）なし | I10: 0
C11: 企業の技術力等 | D11: 工事実績 | E11: 企業の工事実績 | F11: 評価対象工事①の実績あり | I11: 30 | J11: 30 | M11: 単独又は共同企業体構成員（出資比率20％以上に限る）の元請として受注し、平成２３年度以降に完成し、かつ、引渡しが済んでいる契約金額２千５百万円以上の評価対象工事の実績の有無により評価します。 ・「評価対象工事①」とは、機械器具設置工事で発注された口径φ1,200㎜以上の揚排水ポンプ（水中ポンプを除く）の「新設」、「分解を伴う改良（改造）」、「分解を伴う補修」のいずれかを含む工事を指します。ただし、点検工事は除きます。 ・「評価対象工事②」とは、機械器具設置工事で発注された口径φ600㎜以上の揚排水ポンプ（水中ポンプを除く）の「新設」、「分解を伴う改良（改造）」、「分解を伴う補修」のいずれかを含む工事を指します。ただし、点検工事は除きます。 ・評価対象の工事実績は１件とし、コリンズに登録された公共機関等発注の工事に限ります。
F12: 評価対象工事②の実績あり | I12: 15
F13: 評価対象工事の実績なし | I13: 0
D14: 品質 マネジメント | E14: 品質マネジメントシステムの認証 | F14: 有 | I14: 3 | J14: 3 | M14: 当該工事の入札に参加する者が、ISO9000Sの認証を取得している場合に評価します。
F15: 無 | I15: 0
D16: 労働安全 衛生管理 | E16: 労働安全衛生マネジメントシステムの認証 | F16: 有 | I16: 5 | J16: 5 | M16: 当該工事の入札に参加する者が、労働安全衛生マネジメントシステムガイドライン(建設業労働安全衛生マネジメントシステムガイドラインを含む）に沿った取組の認証を取得している場合に評価します。
F17: 無 | I17: 0
B18: 技術者の能力 | C18: 技術者の能力 | D18: 配置予定 技術者の 工事実績 | E18: 主任（監理）技術者又は 現場代理人としての工事実績 | F18: 評価対象工事②実績あり | I18: 30 | J18: 30 | K18: =SUM(J18:J22) -> 35 | L18: 様式１ 様式３ | M18: 配置予定技術者が主任(監理）技術者又は現場代理人として従事した工事のうち、単独又は共同企業体構成員（出資比率20％以上に限る）の元請として受注した契約金額２千５百万円以上の評価対象工事の実績の有無により評価します。 ・「評価対象工事②」とは、機械器具設置工事で発注された口径φ600㎜以上の揚排水ポンプ（水中ポンプを除く）の「新設」、「分解を伴う改良（改造）」、「分解を伴う補修」のいずれかを含む工事を指します。ただし、点検工事は除きます。 ・主任(監理)技術者としての実績とは、平成２３年度以降に完成し、かつ、引渡しが済んでいる工事で、契約日から完成日までの期間において、完成日を含む２分の１以上の連続した期間に従事した工事の実績をいいます。 ・現場代理人としての実績とは、平成２３年度以降に完成し、かつ、引渡しが済んでいる工事で、契約日から完成日までの期間において、完成日を含む２分の１以上の連続した期間に従事した工事の実績をいいます。ただし、コリンズに登録されていた者に限ります。 ・評価対象の工事実績は１件とし、コリンズに登録された公共機関等発注の工事に限ります。 ・余裕期間制度の対象工事は、現地施工期間において、完成日を含む実工期（現地着手日から完成日まで）の２分の１以上の連続した期間に従事した実績を評価の対象とします。
F19: 評価対象工事の実績なし | I19: 0
D20: 配置予定技術者 のCPD （継続学習制度）取組実績 | E20: 各団体が発行するCPDの取組実績 | F20: 換算後の単位数の合計が推奨単位以上 | I20: 5 | J20: 5 | M20: 配置予定技術者が令和５年度から令和８年度に取得したＣＰＤ単位により評価します。 ・ＣＰＤ単位は、建設系ＣＰＤ協議会加盟団体で証明、認定されたものに限ります。ただし、当該工事が建築関係業種の場合は、建築ＣＰＤ運営会議の加盟団体を含みます。 ・申告は、加盟団体のうちいずれか１団体の取得単位に限ります。ただし、相互承認を受けたＣＰＤ単位は、申告する加盟団体以外であっても取得単位に含めることを可能とします。 ・１年間の推奨単位を設定していない団体のＣＰＤ単位は、評価の対象としません。 ・各年度の取得単位は、換算係数を乗じるものとします。（小数第４位以下切り捨て） ・換算係数は、令和５年度は１／４、令和６年度は１／２、令和７年度及び令和８年度は１とします。
F21: 換算後の単位数の合計が推奨単位の1/2以上 | I21: 3
F22: 換算後の単位数の合計が推奨単位の1/2未満 | I22: 0
B23: 技術提案等 | C23: 技術提案 (対策なし型) | D23: 特記課題 | E23: 工事を行ううえでの留意点 | F23: 各項目あたりの評価基準・加算点 | G23: 項目1,2 | H23: 項目3 | I23: 80 (最大30点/項目×2項目+最大20点/項目×1項目) | J23: 80 | K23: =SUM(J23:J28) -> 80 | L23: 様式４ | M23: 当該工事は、排水機場において既存のポンプ設備等の補修、更新を行う工事です。 「項目１ 効率的な工程管理」、「項目２ 施工時の品質管理」、「項目３ 周辺環境への配慮」の３項目について、それぞれに工事を行ううえで考えられる留意点を３つ以内で、その理由を含めて記述してください。 ・これらの提案については、対策を求めていません。そのため履行義務はありません。
F24: 優れている | G24: 30 | H24: 20
F25: 概ね優れている | G25: 25 | H25: 15
F26: 良好である | G26: 20 | H26: 10
F27: 概ね良好である | G27: 15 | H27: 5
F28: 上記以外 | G28: 0 | H28: 0
B29: 総合評価方式の不履行による 加算点の減点 | E29: 当該工事の入札公告日が、三重県が総合評価方式で発注した工事で不履行による減点措置が課されている期間内である場合、「技術提案等不履行確定通知書等」に記載した減点を行います。 | I29: △換算前 加算点満点 ×1割 ×件数 | L29: 様式１ | M29: 三重県が総合評価方式で発注した工事で、技術資料又は施工体制確認資料に記載された事項に不履行があった場合の減点は、次式により行います。 減点後の貴社の換算前加算点合計＝Ａ－（Ｂ×０．１×Ｃ） Ａ：貴社の換算前加算点合計 Ｂ：当該工事の換算前加算点満点 Ｃ：不履行工事件数 不履行工事件数とは、当該工事の入札公告日が「技術提案等不履行確定通知書」で通知された不履行による減点の対象となる期間内である工事の件数とします。
B30: 指名停止措置による 加算点の減点 | E30: 当該工事の入札公告日が、三重県発注工事にかかる贈賄、公契約関係競売等妨害又は談合により役員等又は使用人が逮捕、又は逮捕を経ないで公訴を提起されたことによる指名停止に伴う減点措置期間内である場合、減点を行います。 | I30: △換算前 加算点満点 ×1割 | L30: 様式１ | M30: 当該工事の入札公告日が、三重県発注工事にかかる贈賄、公契約関係競売等妨害又は談合により役員等又は使用人が逮捕、又は逮捕を経ないで公訴を提起されたことによる指名停止に伴う減点措置期間内である場合の減点は、次式により行います。 減点後の貴社の換算前加算点合計＝Ａ－（Ｂ×０．１） Ａ：貴社の換算前加算点合計 Ｂ：当該工事の換算前加算点満点 ※減点措置期間は指名停止期間の終了日の翌日から１年間とします。 なお、対象となる指名停止措置は、当該工事入札公告日の前年度４月１日から当該工事入札公告日までの期間に指名停止期間が１日でも重複するものとします。
I31: 換算前 加算点 満点 | J31: =SUM(K5:K28) -> 157 | M31: ※技術資料の作成方法及び提出資料は、「技術資料作成上の留意事項」を必ず確認してください。
I32: 加算点 満点 | J32: =IF(B2="簡易型Ａ",10,IF(B2="簡易型Ｂ",20,IF(B2="簡易型Ｃ",25,IF(B2="標準型",35,"型選択")))) -> 20
B34: 当該工事で、技術資料又は施工体制確認資料に記載の内容に不履行があった場合の取り扱い | E34: 当該工事の履行確認を伴う評価項目に不履行があった場合、「技術提案等不履行確定通知書」により不履行項目・不履行による減点の対象となる期間などを通知します。 「技術提案等不履行確定通知書」に記載した期間に三重県が総合評価方式で発注する工事（以下「発注工事」という。）で、「貴社の換算前加算点合計」から「発注工事の換算前加算点満点」の1割を減点します。 貴社が特定建設工事共同企業体又は経常建設共同企業体の構成員である場合も、「発注工事の換算前加算点満点」の１割を減点します。

Sheet 届出書
AA3: 令和 年 月 日
A5: 技 術 資 料 届 出 書
B9: 三重県知事 | H9: あて
O11: 住 所
O13: 会社名
O15: 代表者氏名
E18: 工 事 名 | F18: ： | G18: 令和8年度 農村地域排水対策 第5829-分0002号
G19: 鹿海地区
G20: 農村地域排水対策事業 排水機場補修更新その２工事
B25: 上記工事の技術資料を提出します。なお、地方自治法施行令（昭和22年政令第16号）
B26: 第167条の4の規定に該当する者でないこと並びに確認資料の内容は、事実と相違ない
B27: ことを誓約します。問い合わせ先は次のとおりです。
C30: 【問い合わせ先】
D31: 担当者 | G31: ： | H31: ○○ ○○
D32: 部 署 | G32: ： | H32: ○○本店 ○○部 ○○課
D33: 住 所 | G33: ： | H33: ○○県○○市○○
D34: 電話番号 | G34: ： | H34: ＊＊＊－＊＊＊＊－＊＊＊＊
D35: ＦＡＸ | G35: ： | H35: ＊＊＊－＊＊＊＊－＊＊＊＊
D36: Ｅ-mail | G36: ：

Sheet 様式１
B1: （様式１） 加算点申告書
F2: 会社名
B3: 大項目 | D3: 中項目 | E3: 小項目 | F3: 加算点 | G3: 評価基準 | I3: 各評価項目の 自己評価 | J3: 自己 加算点
G4: 配点 | H4: 基準
C5: =IF(+'評価項目(標準)'!C5="","",+'評価項目(標準)'!C5) -> 社会貢献度 | D5: =IF(+'評価項目(標準)'!D5="","",+'評価項目(標準)'!D5) -> 社会貢献度 | E5: =IF(+'評価項目(標準)'!E5="","",+'評価項目(標準)'!E5) -> ① 男女共同参画活動実績 ② 障がい者雇用実績 ③ 人権に関する取組実績 ④ 「みえる・わかる・つながる！職業ポータルサイト」 Webページへの登録 ⑤ 現場見学会等の開催実績 ⑥ 不当要求防止責任者講習の受講実績 ⑦ 職場環境づくりの実績 | F5: =+IF(+'評価項目(標準)'!J5="","",+'評価項目(標準)'!J5) -> 4 | G5: 左欄の①～⑦のうち、該当する項目により得られる合計点数 | J5: =IF(I5="","",IF(I5=H6,G6,IF(I5=H7,G7,IF(I5=H8,G8,IF(I5=H9,G9,IF(I5=H10,G10))))))
G6: =+IF(+'評価項目(標準)'!I6="","",+'評価項目(標準)'!I6) -> 4 | H6: =+IF(+'評価項目(標準)'!F6="","",+'評価項目(標準)'!F6) -> ４点
G7: =+IF(+'評価項目(標準)'!I7="","",+'評価項目(標準)'!I7) -> 3 | H7: =+IF(+'評価項目(標準)'!F7="","",+'評価項目(標準)'!F7) -> ３点
G8: =+IF(+'評価項目(標準)'!I8="","",+'評価項目(標準)'!I8) -> 2 | H8: =+IF(+'評価項目(標準)'!F8="","",+'評価項目(標準)'!F8) -> ２点
G9: =+IF(+'評価項目(標準)'!I9="","",+'評価項目(標準)'!I9) -> 1 | H9: =+IF(+'評価項目(標準)'!F9="","",+'評価項目(標準)'!F9) -> １点
G10: =+IF(+'評価項目(標準)'!I10="","",+'評価項目(標準)'!I10) -> 0 | H10: =+IF(+'評価項目(標準)'!F10="","",+'評価項目(標準)'!F10) -> 実績（取得点）なし
C11: =IF(+'評価項目(標準)'!C11="","",+'評価項目(標準)'!C11) -> 企業の技術力等 | D11: =IF(+'評価項目(標準)'!D11="","",+'評価項目(標準)'!D11) -> 工事実績 | E11: =IF(+'評価項目(標準)'!E11="","",+'評価項目(標準)'!E11) -> 企業の工事実績 | F11: =+IF(+'評価項目(標準)'!J11="","",+'評価項目(標準)'!J11) -> 30 | G11: =+IF(+'評価項目(標準)'!I11="","",+'評価項目(標準)'!I11) -> 30 | H11: =+IF(+'評価項目(標準)'!F11="","",+'評価項目(標準)'!F11) -> 評価対象工事①の実績あり | J11: =IF(I11="","",VLOOKUP(I11,'評価項目(標準)'!F11:I13,4,FALSE))
G12: =+IF(+'評価項目(標準)'!I12="","",+'評価項目(標準)'!I12) -> 15 | H12: =+IF(+'評価項目(標準)'!F12="","",+'評価項目(標準)'!F12) -> 評価対象工事②の実績あり
G13: =+IF(+'評価項目(標準)'!I13="","",+'評価項目(標準)'!I13) -> 0 | H13: =+IF(+'評価項目(標準)'!F13="","",+'評価項目(標準)'!F13) -> 評価対象工事の実績なし
D14: =IF(+'評価項目(標準)'!D14="","",+'評価項目(標準)'!D14) -> 品質 マネジメント | E14: =IF(+'評価項目(標準)'!E14="","",+'評価項目(標準)'!E14) -> 品質マネジメントシステムの認証 | F14: =+IF(+'評価項目(標準)'!J14="","",+'評価項目(標準)'!J14) -> 3 | G14: =+IF(+'評価項目(標準)'!I14="","",+'評価項目(標準)'!I14) -> 3 | H14: =+IF(+'評価項目(標準)'!F14="","",+'評価項目(標準)'!F14) -> 有 | J14: =IF(I14="","",IF(I14=H14,G14,IF(I14=H15,G15)))
G15: =+IF(+'評価項目(標準)'!I15="","",+'評価項目(標準)'!I15) -> 0 | H15: =+IF(+'評価項目(標準)'!F15="","",+'評価項目(標準)'!F15) -> 無
D16: =IF(+'評価項目(標準)'!D16="","",+'評価項目(標準)'!D16) -> 労働安全 衛生管理 | E16: =IF(+'評価項目(標準)'!E16="","",+'評価項目(標準)'!E16) -> 労働安全衛生マネジメントシステムの認証 | F16: =+IF(+'評価項目(標準)'!J16="","",+'評価項目(標準)'!J16) -> 5 | G16: 5 | H16: =IF(+'評価項目(標準)'!F16="","",+'評価項目(標準)'!F16) -> 有 | J16: =IF(I16="","",IF(I16=H16,G16,IF(I16=H17,G17)))
G17: 0 | H17: =IF(+'評価項目(標準)'!F17="","",+'評価項目(標準)'!F17) -> 無
B18: =IF('評価項目(標準)'!B18="","",+'評価項目(標準)'!B18) -> 技術者の能力 | C18: =IF(+'評価項目(標準)'!C18="","",+'評価項目(標準)'!C18) -> 技術者の能力 | D18: =IF(+'評価項目(標準)'!D18="","",+'評価項目(標準)'!D18) -> 配置予定 技術者の 工事実績 | E18: =IF(+'評価項目(標準)'!E18="","",+'評価項目(標準)'!E18) -> 主任（監理）技術者又は 現場代理人としての工事実績 | F18: =+IF(+'評価項目(標準)'!J18="","",+'評価項目(標準)'!J18) -> 30 | G18: =+IF(+'評価項目(標準)'!I18="","",+'評価項目(標準)'!I18) -> 30 | H18: =+IF(+'評価項目(標準)'!F18="","",+'評価項目(標準)'!F18) -> 評価対象工事②実績あり | J18: =IF(I18="","",VLOOKUP(I18,'評価項目(標準)'!F18:I19,4,FALSE))
G19: =+IF(+'評価項目(標準)'!I19="","",+'評価項目(標準)'!I19) -> 0 | H19: =+IF(+'評価項目(標準)'!F19="","",+'評価項目(標準)'!F19) -> 評価対象工事の実績なし
D20: =IF(+'評価項目(標準)'!D20="","",+'評価項目(標準)'!D20) -> 配置予定技術者 のCPD （継続学習制度）取組実績 | E20: =IF(+'評価項目(標準)'!E20="","",+'評価項目(標準)'!E20) -> 各団体が発行するCPDの取組実績 | F20: =+IF(+'評価項目(標準)'!J20="","",+'評価項目(標準)'!J20) -> 5 | G20: =+IF(+'評価項目(標準)'!I20="","",+'評価項目(標準)'!I20) -> 5 | H20: =+IF(+'評価項目(標準)'!F20="","",+'評価項目(標準)'!F20) -> 換算後の単位数の合計が推奨単位以上 | J20: =IF(I20="","",IF(I20=H20,G20,IF(I20=H21,G21,IF(I20=H22,G22))))
G21: =+IF(+'評価項目(標準)'!I21="","",+'評価項目(標準)'!I21) -> 3 | H21: =+IF(+'評価項目(標準)'!F21="","",+'評価項目(標準)'!F21) -> 換算後の単位数の合計が推奨単位の1/2以上
G22: =+IF(+'評価項目(標準)'!I22="","",+'評価項目(標準)'!I22) -> 0 | H22: =+IF(+'評価項目(標準)'!F22="","",+'評価項目(標準)'!F22) -> 換算後の単位数の合計が推奨単位の1/2未満
B23: =IF(+'評価項目(標準)'!B29="","",+'評価項目(標準)'!B29) -> 総合評価方式の不履行による 加算点の減点 | E23: =IF(+'評価項目(標準)'!E29="","",+'評価項目(標準)'!E29) -> 当該工事の入札公告日が、三重県が総合評価方式で発注した工事で不履行による減点措置が課されている期間内である場合、「技術提案等不履行確定通知書等」に記載した減点を行います。 | H23: =IF('評価項目(標準)'!I29="","",+'評価項目(標準)'!I29) -> △換算前 加算点満点 ×1割 ×件数 | J23: =IF(+I23="","",-(+'評価項目(標準)'!J31*0.1*I23))
B24: =IF(+'評価項目(標準)'!B30="","",+'評価項目(標準)'!B30) -> 指名停止措置による 加算点の減点 | E24: =IF(+'評価項目(標準)'!E30="","",+'評価項目(標準)'!E30) -> 当該工事の入札公告日が、三重県発注工事にかかる贈賄、公契約関係競売等妨害又は談合により役員等又は使用人が逮捕、又は逮捕を経ないで公訴を提起されたことによる指名停止に伴う減点措置期間内である場合、減点を行います。 | H24: =IF('評価項目(標準)'!I30="","",+'評価項目(標準)'!I30) -> △換算前 加算点満点 ×1割 | J24: =IF(+I24="","",-(+'評価項目(標準)'!J31*0.1))
I25: 合計 | J25: =SUM(J5:J24) -> 0
B27: 【記入上の注意】
B28: ・ | D28: 黄色着色のセルは、該当する数値を直接入力してください。加算点は、自動計算により表示されます。
B29: ・ | D29: 橙色着色のセルは、セル中から該当する項目を選択してください。加算点は、選択した内容に応じて自動で表示されます。
B30: ・ | C30: 評価項目及び評価基準の詳細については、「評価項目一覧」及び「技術資料作成上の留意事項」で確認してください。
B31: ・ | C31: このシートは「評価項目一覧」とリンクしています。自己加算点が表示されていない場合は評価しません。

Sheet 様式２
A1: （様式２） 地域精通度・社会貢献度・企業の技術力等に関する技術資料 | AJ1: ※本頁は（様式２）の注意事項となっています。提出の必要はありません。
O2: 会社名
A3: 【地域精通度】 | AJ3: 【地域精通度の注意事項】
G5: 【社会貢献度】 | AJ5: 【社会貢献度の注意事項】
AD6: 評価対象 | AG6: 実績
A7: 社会貢献度 | E7: ① | F7: 男女共同参画活動実績の有無 | AJ7: 注1： | AL7: 評価対象として届け出る項目に「○」をプルダウンで選択してください。（最大４点）
E8: ② | F8: 障がい者雇用実績の有無
E9: ③ | F9: 人権に関する取組実績の有無（人権研修の受講実績又は公正採用選考人権啓発推進員の設置） | AJ9: 注2： | AL9: 各項目で実績（認証取得）の有無をプルダウンで選択してください。
E10: ④ | F10: 「みえる・わかる・つながる！職業ポータルサイト」Webページへの登録
E11: ⑤ | F11: 現場見学会等の開催実績
E12: ⑥ | F12: 不当要求防止責任者講習の受講実績
E13: ⑦ | F13: 「ユースエール認定制度」認定実績
F14: 「みえの働き方改革推進企業登録制度」登録実績
A15: 【企業の技術力等】
A17: 工事実績 | E17: コリンズ登録番号
E18: 工事名称

Sheet 様式３
A1: （様式３） 技術者の能力に関する技術資料
N2: 会社名
A3: 【技術者の能力】
A5: 配置予定技術者 | C5: 氏名 | W5: 生年月日（西暦） | AB5: 年 月 日
C6: 工事実績 | G6: コリンズ登録番号
G7: 工事名称
C9: 上記記載工事における 役割・従事期間 | K9: 役 割 | Q9: 監理技術者 | V9: □ | W9: 主任技術者 | AB9: □ | AC9: 現場代理人 | AH9: □
K10: 従事期間
C11: CPD取組実績 | E11: 取得単位認定団体 | N11: （例）○○技士会 | Y11: 推奨単位数 | AG11: 単位／年
N12: 取得単位数 | S12: 換算係数 | U12: 換算後単位数 | Y12: 換算後単位数の合計
E13: R8(2026)年度 | Q13: 単位 | S13: 1 | U13: =IF(N13="","",ROUNDDOWN(N13*S13,3)) | W13: 単位 | Y13: =IF(SUM(U13:V16)=0,"",SUM(U13:V16)) | AD13: 単 位
E14: R7(2025)年度 | Q14: 単位 | S14: 1 | U14: =IF(N14="","",ROUNDDOWN(N14*S14,3)) | W14: 単位
E15: R6(2024)年度 | Q15: 単位 | S15: 0.5 | U15: =IF(N15="","",ROUNDDOWN(N15*(1/2),3)) | W15: 単位
E16: R5(2023)年度 | Q16: 単位 | S16: 0.25 | U16: =IF(N16="","",ROUNDDOWN(N16*(1/4),3)) | W16: 単位
A21: 【技術者の能力の注意事項】
A23: 注1： | C23: 配置予定技術者の氏名は、必ず入力してください。
A25: 注2： | C25: 氏名欄には、現地施工の配置予定技術者を入力してください。
A27: 注3： | C27: 配置予定技術者に関する項目のうち、チェック欄が設けてあるところは、該当する「□」をプルダウンで「■」に変更してください。
A29: 注4： | C29: 配置予定技術者の従事期間は、現地施工期間とし、工場製作期間を含めない期間を入力してください。
A31: 注5： | C31: CPDの取得単位認定団体で記入できる団体数は、１団体のみとします。 推奨単位数は、上記で記入した団体のR8.4.1時点の推奨単位数を入力してください。

Sheet 様式４（対策なし）
A1: （様式４） 技術提案に関する技術資料
A2: 工事名： | G2: 鹿海地区 農村地域排水対策事業 排水機場補修更新その2工事
A3: 会社名 | AQ3: ※本頁は、提出不要です。
A4: 特記課題 | AQ4: 【特記課題の注意事項】
A5: 項目１ | D5: 留意点① | AP5: 1 2 3 4 5 6 7 8 9 10 11 12 13 14 15 | AR5: ・評価項目一覧に示す３項目について、工事を行ううえでの留意点とその理由をそれぞれ簡潔に記
AP6: 2 | AR6: 載してください。
AP7: 3 | AR7: ・具体的に実施する対策などを記載しても、その部分は評価しません。
AP8: 4 | AR8: ・文字の大きさは、１０ポイントとします。
AP9: 5 | AR9: ・行列の挿入及びセルサイズの変更は、不可とします。
D10: 留意点② | AP10: 1 | AR10: ・各項目の留意点①～③は、それぞれ５行以内で記載するものとします。
AP11: 2 | AR11: ・５行を超えて記載されている留意点は、評価しません。※例１、例２参照
AP12: 3 | AR12: ・ | AS12: 文字ポイントを小さくして、５行以内で記載されている留意点は、評価しません。※例３参照
AP13: 4 | AR13: ・ | AS13: 印刷した様式４で判断しますので、十分確認のうえ提出してください。
AP14: 5 | AS14: ※電子媒体で提出された場合でも、印刷して判断します。
D15: 留意点③ | AP15: 1 | AR15: ・ | AS15: 一括審査対象工事の場合、工事名には入札への参加を希望するすべての工事名を記載してください。
AP16: 2
AP17: 3
AP18: 4
AP19: 5
A20: 項目２ | D20: 留意点① | AP20: 1 2 3 4 5 6 7 8 9 10 11 12 13 14 15
AP21: 2
AP22: 3
AP23: 4
AP24: 5
D25: 留意点② | AP25: 1
AP26: 2
AP27: 3
AP28: 4
AP29: 5
D30: 留意点③ | AP30: 1
AP31: 2
AP32: 3
AP33: 4
AP34: 5
A35: 項目３ | D35: 留意点① | AP35: 1
AP36: 2
AP37: 3
AP38: 4
AP39: 5
D40: 留意点② | AP40: 1
AP41: 2
AP42: 3
AP43: 4
AP44: 5
D45: 留意点③ | AP45: 1
AP46: 2
AP47: 3
AP48: 4
AP49: 5
