Workbook

Sheet 評価項目(標準)
M1: 【農業農村整備事業】設計業務（高度・標準） 【令和８年６月版】
B2: 【農業農村整備事業】設計業務 総合評価方式評価項目一覧 【加算方式】 | J2: 委託名： | L2: 高須地区 農村地域排水対策事業 詳細設計業務委託
B3: 大項目 | D3: 中項目 | E3: 小項目 | G3: 評価基準 | H3: 技術評価点 | K3: 様式 | L3: 評価内容等
H4: 配点 | I4: 小項目 配点 | J4: 大項目 配点
C5: 地域要件 | D5: 所在地 | E5: 本店所在地 | G5: 三重県内 | H5: 10 | I5: 10 | J5: =SUM(I5:I26) -> 48 | L5: 本店の所在地により評価します。
G6: 県外 | H6: 0
B7: 企業の能力等 | C7: 社会貢献度 | D7: 社会貢献度 | E7: ①多面的機能支払活動実績 ②土地改良施設等における災害時の 応急対策業務等に関する協定に基づいた 訓練等への参加実績 | G7: 左欄の①～②のうち、該当する項目数 | I7: 5 | K7: 様式１ 様式２ | L7: 次の実績の該当項目数により評価します。 ①多面的機能支払活動実績 令和７年度、令和８年度のいずれかにおける三重県内の多面的機能支払活動へ、企業の社会的責任（ＣＳＲ）として参加している実績の有無により評価します。 ・三重県の市町から多面的機能支払交付金に係る認定を受けた組織の活動に参加した実績に限ります。 ②土地改良施設等における災害時の応急対策業務等に関する協定に基づいた訓練等への参加実績 土地改良施設等ＢＣＰ協議会と「土地改良施設等における災害時の応急対策業務等に関する協定」を締結した組織に属し、かつ、当該協定に基づいた訓練等（訓練や研修等）への参加実績の 有無により評価します。 ・「訓練等への参加実績」については、令和８年度の参加実績を対象とします。
G8: ２項目 | H8: 5
G9: １項目 | H9: 3
G10: 実績なし | H10: 0
E11: ① 男女共同参画活動実績 ② 障がい者雇用実績 ③ 環境マネジメントシステムの認証 ④ 人権に関する取組実績 | G11: 左欄の①～④のうち、該当する項目数 | I11: 6 | L11: 次の実績（認証取得）の該当項目数により評価します。 ①男女共同参画活動実績 女性の職業生活における活躍の推進に関する法律に基づく一般事業主行動計画を策定している場合に評価します。 ②障がい者雇用実績 障害者の雇用の促進等に関する法律に基づく障がい者雇用の有無により評価します。 ・法律により障がい者雇用が義務付けられている企業は、法定雇用率を達成している場合に評価します。 ・法律により障がい者雇用が義務付けされていない企業は、障がい者を雇用している場合に評価します。 ③ISO1400１、M-EMSの認証取得 当該業務の入札に参加する者が、ISO14001又はM-EMS（ステップ２又はステップ１）のいずれかの認証を取得している場合に評価します。 ISO14001とM-EMSは、重複して評価しません。 ④人権に関する取組実績 「三重県が開催する人権に関する研修の受講実績」又は「職業安定法に基づく公正採用選考人権啓発推進員の設置」のいずれかの取組実績の有無により評価します。 なお、「三重県が開催する人権に関する研修の受講実績」は、令和７年度から令和８年度の受講実績を評価の対象とします。 ・「三重県が開催する人権に関する研修の受講実績」と「職業安定法に基づく公正採用選考人権啓発推進員の設置」は重複して評価しません。
G12: ４項目 | H12: 6
G13: ３項目 | H13: 5
G14: ２項目 | H14: 4
G15: １項目 | H15: 3
G16: 実績（認証取得）なし | H16: 0
C17: 企業の技術力等 | D17: 企業の技術力等 | E17: 品質マネジメントシステムの認証 | G17: 有 | H17: 2 | I17: 2 | L17: ISO9000Sの認証取得の有無により評価します。 ・当該業務の入札に参加する者がISO9000Sの認証を取得している、又は配置予定の管理技術者が所属する組織がISO9000Sの認証を取得している場合に評価します。
G18: 無 | H18: 0
E19: 業務成績 | G19: ８５点以上 | H19: 5 | I19: 5 | L19: 設計業務のうち、令和５年４月１日から令和６年３月３１日までの三重県が通知（設計業務等成績認定書）した業務評定点（計画検討、解析等調査業務及び設計業務（土木業務））と令和６年４月１日から令和８年３月３１日までの三重県が通知（設計業務等成績認定書）した業務評定点（設計業務「調査業務・計画業務」、設計業務「概略・予備検討」及び設計業務「詳細設計」）総計の平均値（小数第２位以下切り捨て）の点数を評価します。 ・業務成績のない場合又は当該業務の指名通知日までに県土整備部公共事業運営課が行う業務評定点の確認が取れていない場合は０点です。
G20: ８０点以上８５点未満 | H20: 4
G21: ７５点以上８０点未満 | H21: 3
G22: ７０点以上７５点未満 | H22: 2
G23: ７０点未満 | H23: 0
E24: 評価対象業務の実績 | G24: 評価対象業務①の実績あり | H24: 20 | I24: 20 | L24: 平成２８年度以降に完了した契約金額300万円以上の評価対象業務の実績の有無について評価します。なお、評価対象業務は国、地方公共団体又はその他政令等で定める法人発注の業務で下記に定めるとおりとします。 評価対象業務①とは、農業用施設又は河川管理施設である排水機場のポンプ設備を含む、基本設計又は詳細設計（実施設計）を指します。 評価対象業務②とは、農業用施設又は河川管理施設である排水機場のポンプ設備を含む、機能保全計画策定（長寿命化計画策定）を指します。 ・評価対象の業務実績は1件とし、アグリス又はテクリス登録業務に限ります。
G25: 評価対象業務②の実績あり | H25: 10
G26: 評価対象業務の実績なし | H26: 0
B27: 技術者要件 | C27: 管理技術者 | D27: 業務執行技術力 | E27: 評価対象業務の実績 | G27: 評価対象業務③の実績あり | H27: 20 | I27: 20 | J27: =SUM(I27:I39) -> 42 | K27: 様式１ 様式３ | L27: 平成２８年度以降に完了した契約金額300万円以上の評価対象業務の管理技術者又は担当技術者としての実績の有無について評価します。なお、評価対象業務は国、地方公共団体又はその他政令等で定める法人発注の業務で下記に定めるとおりとします。 評価対象業務③とは、農業用施設又は河川管理施設である排水機場のポンプ設備を含む、基本設計又は詳細設計（実施設計）あるいは機能保全計画策定（長寿命化計画策定）を指します。 ・評価対象の業務実績は1件とし、アグリス又はテクリス登録業務に限ります。
G28: 評価対象業務の実績なし | H28: 0
D29: 手持ち業務件数 | E29: 管理技術者の手持ち業務件数 | G29: ０件 | H29: 15 | I29: 15 | L29: 配置予定の管理技術者が、指名通知日において、管理（主任）技術者として従事している契約中の手持ち業務件数により評価します。 ・手持ち業務件数とは、国、地方公共団体又はその他政令等で定める法人が発注した測量・設計（金額を問わずすべて）の業務委託で、管理（主任）技術者として契約を行っている件数とします。ただし、単価契約、三重県との災害協定に基づく対応業務については、件数に含みません。
G30: １件 | H30: 12
G31: ２件 | H31: 9
G32: ３件 | H32: 6
G33: ４件以上 | H33: 0
D34: 管理技術者又は 照査技術者の 資格及び分野 | E34: 資格の保有状況 | G34: 技術士資格 | H34: 5 | I34: 5 | K34: 様式１ 様式３ 様式６ | L34: 管理技術者又は照査技術者いずれかの資格の保有状況により評価します。なお、資格及び分野は、次のとおりとします。 ・技術士資格：〔農業部門（農業土木・農業農村工学科目）、又は建設部門（鋼構造及びコンクリート科目）〕 ・技術管理者：〔農業土木部門、又は鋼構造及びコンクリート部門〕 ・農業土木技術管理士 ※技術評価点の高い技術者の資格で評価します。
G35: 技術管理者又は 農業土木技術管理士 | H35: 3
G36: 上記以外 | H36: 0
D37: 管理技術者及び 照査技術者の 技術力向上活動 | E37: 農業農村工学会技術者継続教育機構 （ＣＰＤ）への参加実績 | G37: 管理技術者及び照査技術者とも参加実績あり | H37: 2 | I37: 2 | L37: 農業農村工学会技術者継続教育機構(CPD)への参加について評価します。
G38: 管理技術者又は照査技術者が参加実績あり | H38: 1
G39: 参加実績なし | H39: 0
B40: 技術力要件 | C40: 技術提案等 | D40: 技術提案 | E40: 特定テーマ | F40: 配慮すべき項目とその設計方針 | G40: 優れている | H40: 50 | I40: 50 | J40: =SUM(I40:I49) -> 70 | K40: 様式８ | L40: 機能保全計画において整備、更新が必要と診断された排水機場施設の詳細設計（実施設計）を行う業務です。 業務を行ううえで、配慮すべき項目とその設計方針を記載してください。
...

Sheet 技術提案書提出届
P2: 令和 | R2: 年 | T2: 月 | V2: 日
A5: 技術提案書提出届
A8: 三重県知事 あて
J11: 住 所
J13: 会 社 名
J15: 代表者氏名
A19: 業 務 名 | D19: ： | E19: 令和8年度 農村地域排水対策 第5825-分2001号
E20: 高須地区 農村地域排水対策事業 詳細設計業務委託
B25: 上記業務の技術提案書を提出します。
B26: なお、本技術提案書の記載内容並びに確認資料の内容は、事実と相違ない
B27: ことを誓約します。
B28: また、契約に至った場合は、本技術提案書の記載内容を業務計画書に反映
B29: します。
B30: 問い合わせ先は次のとおりです。
C33: 【問い合わせ先】
D34: 担当者 | G34: ： | H34: ○○ ○○
D35: 部 署 | G35: ： | H35: ○○本店 ○○部 ○○課
D36: 住 所 | G36: ： | H36: ○○県 ○○市 ○○
D37: 電話番号 | G37: ： | H37: ＊＊＊－＊＊＊＊－＊＊＊＊
D38: ＦＡＸ | G38: ： | H38: ＊＊＊－＊＊＊＊－＊＊＊＊
D39: Ｅ-mail | G39: ：

Sheet 様式１技術評価点申告書
B1: 様式１ 技術評価点申告書 | D1: 技術評価点申告書
G2: 会社名：
B3: 大項目 | D3: 中項目 | F3: 小項目 | G3: 技術 評価点 | H3: 評価基準 | J3: 各評価項目の 自己評価 | K3: 自己 評定点
H4: 配点 | I4: 基準
C5: =IF('評価項目(標準)'!C5="","",+'評価項目(標準)'!C5) -> 地域要件 | D5: =IF('評価項目(標準)'!D5="","",+'評価項目(標準)'!D5) -> 所在地 | F5: =IF('評価項目(標準)'!E5="","",+'評価項目(標準)'!E5) -> 本店所在地 | G5: =IF('評価項目(標準)'!I5="","",+'評価項目(標準)'!I5) -> 10 | H5: =IF('評価項目(標準)'!H5="","",+'評価項目(標準)'!H5) -> 10 | I5: =IF('評価項目(標準)'!G5="","",+'評価項目(標準)'!G5) -> 三重県内 | K5: =IF(J5="","",IF(J5=I5,H5,IF(J5=I6,H6)))
H6: =IF('評価項目(標準)'!H6="","",+'評価項目(標準)'!H6) -> 0 | I6: =IF('評価項目(標準)'!G6="","",+'評価項目(標準)'!G6) -> 県外
B7: =IF('評価項目(標準)'!B7="","",+'評価項目(標準)'!B7) -> 企業の能力等 | C7: =IF('評価項目(標準)'!C7="","",+'評価項目(標準)'!C7) -> 社会貢献度 | D7: =IF('評価項目(標準)'!D7="","",+'評価項目(標準)'!D7) -> 社会貢献度 | F7: =IF('評価項目(標準)'!E7="","",+'評価項目(標準)'!E7) -> ①多面的機能支払活動実績 ②土地改良施設等における災害時の 応急対策業務等に関する協定に基づいた 訓練等への参加実績 | G7: =IF('評価項目(標準)'!I7="","",+'評価項目(標準)'!I7) -> 5 | H7: =IF('評価項目(標準)'!G7="","",+'評価項目(標準)'!G7) -> 左欄の①～②のうち、該当する項目数 | K7: =IF(J7="","",VLOOKUP(J7,'評価項目(標準)'!G8:H10,2,FALSE))
H8: =IF('評価項目(標準)'!H8="","",+'評価項目(標準)'!H8) -> 5 | I8: =IF('評価項目(標準)'!G8="","",+'評価項目(標準)'!G8) -> ２項目
B9: =IF('評価項目(標準)'!B9="","",+'評価項目(標準)'!B9) | H9: =IF('評価項目(標準)'!H9="","",+'評価項目(標準)'!H9) -> 3 | I9: =IF('評価項目(標準)'!G9="","",+'評価項目(標準)'!G9) -> １項目
H10: =IF('評価項目(標準)'!H10="","",+'評価項目(標準)'!H10) -> 0 | I10: =IF('評価項目(標準)'!G10="","",+'評価項目(標準)'!G10) -> 実績なし
B11: =IF('評価項目(標準)'!B11="","",+'評価項目(標準)'!B11) | F11: =IF('評価項目(標準)'!E11="","",+'評価項目(標準)'!E11) -> ① 男女共同参画活動実績 ② 障がい者雇用実績 ③ 環境マネジメントシステムの認証 ④ 人権に関する取組実績 | G11: =IF('評価項目(標準)'!I11="","",+'評価項目(標準)'!I11) -> 6 | H11: =IF('評価項目(標準)'!G11="","",+'評価項目(標準)'!G11) -> 左欄の①～④のうち、該当する項目数 | K11: =IF(J11="","",IF(J11=I12,H12,IF(J11=I13,H13,IF(J11=I14,H14,IF(J11=I15,H15,IF(J11=I16,H16))))))
H12: =IF('評価項目(標準)'!H12="","",+'評価項目(標準)'!H12) -> 6 | I12: =IF('評価項目(標準)'!G12="","",+'評価項目(標準)'!G12) -> ４項目
B13: =IF('評価項目(標準)'!B13="","",+'評価項目(標準)'!B13) | H13: =IF('評価項目(標準)'!H13="","",+'評価項目(標準)'!H13) -> 5 | I13: =IF('評価項目(標準)'!G13="","",+'評価項目(標準)'!G13) -> ３項目
H14: =IF('評価項目(標準)'!H14="","",+'評価項目(標準)'!H14) -> 4 | I14: =IF('評価項目(標準)'!G14="","",+'評価項目(標準)'!G14) -> ２項目
B15: =IF('評価項目(標準)'!B15="","",+'評価項目(標準)'!B15) | H15: =IF('評価項目(標準)'!H15="","",+'評価項目(標準)'!H15) -> 3 | I15: =IF('評価項目(標準)'!G15="","",+'評価項目(標準)'!G15) -> １項目
H16: =IF('評価項目(標準)'!H16="","",+'評価項目(標準)'!H16) -> 0 | I16: =IF('評価項目(標準)'!G16="","",+'評価項目(標準)'!G16) -> 実績（認証取得）なし
B17: =IF('評価項目(標準)'!B17="","",+'評価項目(標準)'!B17) | C17: =IF('評価項目(標準)'!C17="","",+'評価項目(標準)'!C17) -> 企業の技術力等 | D17: =IF('評価項目(標準)'!D17="","",+'評価項目(標準)'!D17) -> 企業の技術力等 | F17: =IF('評価項目(標準)'!E17="","",+'評価項目(標準)'!E17) -> 品質マネジメントシステムの認証 | G17: =IF('評価項目(標準)'!I17="","",+'評価項目(標準)'!I17) -> 2 | H17: =IF('評価項目(標準)'!H17="","",+'評価項目(標準)'!H17) -> 2 | I17: =IF('評価項目(標準)'!G17="","",+'評価項目(標準)'!G17) -> 有 | K17: =IF(J17="","",IF(J17=I17,H17,IF(J17=I18,H18)))
H18: =IF('評価項目(標準)'!H18="","",+'評価項目(標準)'!H18) -> 0 | I18: =IF('評価項目(標準)'!G18="","",+'評価項目(標準)'!G18) -> 無
B19: =IF('評価項目(標準)'!B19="","",+'評価項目(標準)'!B19) | F19: =IF('評価項目(標準)'!E19="","",+'評価項目(標準)'!E19) -> 業務成績 | G19: =IF('評価項目(標準)'!I19="","",+'評価項目(標準)'!I19) -> 5 | H19: =IF('評価項目(標準)'!H19="","",+'評価項目(標準)'!H19) -> 5 | I19: =IF('評価項目(標準)'!G19="","",+'評価項目(標準)'!G19) -> ８５点以上 | K19: =IF(NOT(ISNUMBER(J19)),"",IF(J19="","",IF(J19>100,"",IF(J19>=85,H19,IF(J19>=80,H20,IF(J19>=75,H21,IF(J19>=70,H22,IF(70>J19,0,""))))))))
H20: =IF('評価項目(標準)'!H20="","",+'評価項目(標準)'!H20) -> 4 | I20: =IF('評価項目(標準)'!G20="","",+'評価項目(標準)'!G20) -> ８０点以上８５点未満
B21: =IF('評価項目(標準)'!B21="","",+'評価項目(標準)'!B21) | H21: =IF('評価項目(標準)'!H21="","",+'評価項目(標準)'!H21) -> 3 | I21: =IF('評価項目(標準)'!G21="","",+'評価項目(標準)'!G21) -> ７５点以上８０点未満
H22: =IF('評価項目(標準)'!H22="","",+'評価項目(標準)'!H22) -> 2 | I22: =IF('評価項目(標準)'!G22="","",+'評価項目(標準)'!G22) -> ７０点以上７５点未満
B23: =IF('評価項目(標準)'!B23="","",+'評価項目(標準)'!B23) | H23: =IF('評価項目(標準)'!H23="","",+'評価項目(標準)'!H23) -> 0 | I23: =IF('評価項目(標準)'!G23="","",+'評価項目(標準)'!G23) -> ７０点未満
F24: =IF('評価項目(標準)'!E24="","",+'評価項目(標準)'!E24) -> 評価対象業務の実績 | G24: =IF('評価項目(標準)'!I24="","",+'評価項目(標準)'!I24) -> 20 | H24: =IF('評価項目(標準)'!H24="","",+'評価項目(標準)'!H24) -> 20 | I24: =IF('評価項目(標準)'!G24="","",+'評価項目(標準)'!G24) -> 評価対象業務①の実績あり | K24: =IF(J24="","",VLOOKUP(J24,'評価項目(標準)'!G24:H26,2,FALSE))
B25: =IF('評価項目(標準)'!B25="","",+'評価項目(標準)'!B25) | H25: =IF('評価項目(標準)'!H25="","",+'評価項目(標準)'!H25) -> 10 | I25: =IF('評価項目(標準)'!G25="","",+'評価項目(標準)'!G25) -> 評価対象業務②の実績あり
H26: =IF('評価項目(標準)'!H26="","",+'評価項目(標準)'!H26) -> 0 | I26: =IF('評価項目(標準)'!G26="","",+'評価項目(標準)'!G26) -> 評価対象業務の実績なし
B27: =IF('評価項目(標準)'!B27="","",+'評価項目(標準)'!B27) -> 技術者要件 | C27: =IF('評価項目(標準)'!C27="","",+'評価項目(標準)'!C27) -> 管理技術者 | D27: =IF('評価項目(標準)'!D27="","",+'評価項目(標準)'!D27) -> 業務執行技術力 | F27: =IF('評価項目(標準)'!E27="","",+'評価項目(標準)'!E27) -> 評価対象業務の実績 | G27: =IF('評価項目(標準)'!I27="","",+'評価項目(標準)'!I27) -> 20 | H27: =IF('評価項目(標準)'!H27="","",+'評価項目(標準)'!H27) -> 20 | I27: =IF('評価項目(標準)'!G27="","",+'評価項目(標準)'!G27) -> 評価対象業務③の実績あり | K27: =IF(J27="","",VLOOKUP(J27,'評価項目(標準)'!G27:H28,2,FALSE))
H28: =IF('評価項目(標準)'!H28="","",+'評価項目(標準)'!H28) -> 0 | I28: =IF('評価項目(標準)'!G28="","",+'評価項目(標準)'!G28) -> 評価対象業務の実績なし
D29: =IF('評価項目(標準)'!D29="","",+'評価項目(標準)'!D29) -> 手持ち業務件数 | F29: =IF('評価項目(標準)'!E29="","",+'評価項目(標準)'!E29) -> 管理技術者の手持ち業務件数 | G29: =IF('評価項目(標準)'!I29="","",+'評価項目(標準)'!I29) -> 15 | H29: =IF('評価項目(標準)'!H29="","",+'評価項目(標準)'!H29) -> 15 | I29: =IF('評価項目(標準)'!G29="","",+'評価項目(標準)'!G29) -> ０件 | K29: =IF(J29="","",VLOOKUP(J29,'評価項目(標準)'!G29:H33,2,FALSE))
H30: =IF('評価項目(標準)'!H30="","",+'評価項目(標準)'!H30) -> 12 | I30: =IF('評価項目(標準)'!G30="","",+'評価項目(標準)'!G30) -> １件
H31: =IF('評価項目(標準)'!H31="","",+'評価項目(標準)'!H31) -> 9 | I31: =IF('評価項目(標準)'!G31="","",+'評価項目(標準)'!G31) -> ２件
H32: =IF('評価項目(標準)'!H32="","",+'評価項目(標準)'!H32) -> 6 | I32: =IF('評価項目(標準)'!G32="","",+'評価項目(標準)'!G32) -> ３件
H33: =IF('評価項目(標準)'!H33="","",+'評価項目(標準)'!H33) -> 0 | I33: =IF('評価項目(標準)'!G33="","",+'評価項目(標準)'!G33) -> ４件以上
D34: =IF('評価項目(標準)'!D34="","",+'評価項目(標準)'!D34) -> 管理技術者又は 照査技術者の 資格及び分野 | F34: =IF('評価項目(標準)'!E34="","",+'評価項目(標準)'!E34) -> 資格の保有状況 | G34: =IF('評価項目(標準)'!I34="","",+'評価項目(標準)'!I34) -> 5 | H34: =IF('評価項目(標準)'!H34="","",+'評価項目(標準)'!H34) -> 5 | I34: =IF('評価項目(標準)'!G34="","",+'評価項目(標準)'!G34) -> 技術士資格 | K34: =IF(J34="","",VLOOKUP(J34,'評価項目(標準)'!G34:H36,2,FALSE))
H35: =IF('評価項目(標準)'!H35="","",+'評価項目(標準)'!H35) -> 3 | I35: =IF('評価項目(標準)'!G35="","",+'評価項目(標準)'!G35) -> 技術管理者又は 農業土木技術管理士
H36: =IF('評価項目(標準)'!H36="","",+'評価項目(標準)'!H36) -> 0 | I36: =IF('評価項目(標準)'!G36="","",+'評価項目(標準)'!G36) -> 上記以外
D37: =IF('評価項目(標準)'!D37="","",+'評価項目(標準)'!D37) -> 管理技術者及び 照査技術者の 技術力向上活動 | F37: =IF('評価項目(標準)'!E37="","",+'評価項目(標準)'!E37) -> 農業農村工学会技術者継続教育機構 （ＣＰＤ）への参加実績 | G37: =IF('評価項目(標準)'!I37="","",+'評価項目(標準)'!I37) -> 2 | H37: =IF('評価項目(標準)'!H37="","",+'評価項目(標準)'!H37) -> 2 | I37: =IF('評価項目(標準)'!G37="","",+'評価項目(標準)'!G37) -> 管理技術者及び照査技術者とも参加実績あり | K37: =IF(J37="","",IF(J37=I37,H37,IF(J37=I38,H38,IF(J37=I39,H39))))
H38: =IF('評価項目(標準)'!H38="","",+'評価項目(標準)'!H38) -> 1 | I38: =IF('評価項目(標準)'!G38="","",+'評価項目(標準)'!G38) -> 管理技術者又は照査技術者が参加実績あり
H39: =IF('評価項目(標準)'!H39="","",+'評価項目(標準)'!H39) -> 0 | I39: =IF('評価項目(標準)'!G39="","",+'評価項目(標準)'!G39) -> 参加実績なし
J40: 合計 | K40: =SUM(K5:K39) -> 0
...

Sheet 様式２企業
A1: 様式２ | F1: 企業の能力等に関する技術資料
P3: 会社名：
A5: 所在地 | F5: 本店所在地 | K5: 《住所》
A11: 社会貢献度 | F11: ① | H11: 多面的機能支払活動実績の有無
F12: ② | H12: 土地改良施設等における災害時の応急対策業務等 に関する協定に基づいた訓練等への参加実績
F14: ① | H14: 男女共同参画活動実績の有無
F15: ② | H15: 障がい者雇用実績の有無
F16: ③ | H16: 環境マネジメントシステムの認証の有無
F17: ④ | H17: 人権に関する取組実績
A18: 企業の技術力等 | F18: 業務実績 | I18: アグリス又はテクリス登録番号
I19: 業務名称
A22: 注１： | C22: 社会貢献度の各項目で実績（認証取得）の有無をプルダウンで選択してください。
A23: 注２： | C23: 企業の技術力等で評価対象業務の実績がある場合は、アグリス又はテクリス登録番号及び業務名称を
C24: 記載してください。

Sheet 様式３管理
A1: 様式３ | F1: 管理技術者に関する技術資料
O3: 会社名：
A5: 管理技術者の経歴
A6: ①氏名 | C6: （ふりがな） | K6: ②生年月日（西暦）
N7: 年 | P7: 月 | R7: 日
A8: ③所属
A10: ④評価対象業務
A11: アグリス又はテクリス登録番号
A12: 業務名称
A15: ⑤手持ち業務の状況
A16: 業務名称 【管理（主任）技術者として従事している業務】 | T16: 発注機関名
A17: 1
A19: 2
A21: 3
A23: 4
A25: ⑥保有資格
A26: 技術士 | D26: （ | L26: 部門， | V26: 科目）
A27: 技術管理者 | D27: （ | V27: 部門）
A28: 農業土木技術管理士
A29: ⑦農業農村工学会技術者継続教育機構(CPD)への参加実績の有無
B31: 注１： | C31: ①欄の氏名（ふりがな）は、必ず記載してください。
B32: 注２： | C32: ②欄の生年月日は、審査・評価とは関係ありませんが、統計上必要なため記載してください。
B33: 注３： | C33: ④欄の評価対象業務の実績がある場合は、アグリス又はテクリス登録番号及び業務名称を記載してください。
B34: 注４： | C34: ⑤欄の手持ち業務の状況は、金額を問わず全ての測量業務及び設計業務を記載してください。
C35: ただし、単価契約による業務は、手持ち業務に含みません。
C36: また、手持ち業務が４件以上ある場合は、４件まで記載してください。
B37: 注５： | C37: ⑥欄に管理技術者の該当する保有資格を記載してください。
B38: 注６： | C38: ⑦欄の参加実績の有無をプルダウンで選択してください。

Sheet 様式６照査
A1: 様式６ | F1: 照査技術者に関する技術資料
O3: 会社名：
A5: 照査技術者の経歴
A6: ①氏名 | C6: （ふりがな） | K6: ②生年月日（西暦）
N7: 年 | P7: 月 | R7: 日
A8: ③保有資格
A9: 技術士 | D9: （ | L9: 部門， | V9: 科目）
A10: 技術管理者 | D10: （ | V10: 部門）
A11: 農業土木技術管理士
A12: ④農業農村工学会技術者継続教育機構(CPD)への参加実績の有無
B14: 注１： | C14: ①欄の氏名（ふりがな）は、必ず記載してください。
B15: 注２： | C15: ②欄の生年月日は、審査・評価とは関係ありませんが、統計上必要なため記載してください。
B16: 注３： | C16: ③欄に照査技術者の該当する保有資格を記載してください。
B17: 注４： | C17: ④欄の参加実績の有無をプルダウンで選択してください。

Sheet 様式８
A1: 様式８ | E1: 技術力要件に関する技術資料（特定テーマ）
O3: 会社名：
A5: 技術提案
A6: 特定テーマ： | D6: 機能保全計画において整備、更新が必要と診断された排水機場施設の詳細設計（実施設計）を行う業務です。 業務を行ううえで、配慮すべき項目とその設計方針を記載してください。

Sheet ヒアリング評価対象者届出書
AA3: 令和 年 月 日
A5: ヒアリング出席者（配置予定技術者）届出書
B9: 三重県知事 | H9: あて
O11: 住 所
O12: 会社名
O13: 代表者氏名
B16: 業 務 名 | F16: ： | G16: 令和8年度 農村地域排水対策 第5825-分2001号
G17: 高須地区 農村地域排水対策事業 詳細設計業務委託
B21: 上記業務委託の配置予定技術者については、技術資料（様式３）において複数の者を届け出ましたが、届け出た者のうち下記の者を配置予定技術者としてヒアリングに出席させます。 なお、当社が落札した場合は、下記の者を管理技術者として配置することを誓約します。
O27: 記
C28: １．配置予定技術者の氏名
D29: ○○ ○○
B32: 注意事項
C33: 1 | D33: 技術資料（様式３）で複数の配置予定技術者を届出た会社のうち、ヒアリング時に配置予定技術者を絞る時は、この書類を提出してください。 この書類を提出しない場合のヒアリングについては、技術資料（様式３）に記載した配置予定技術者全員の出席を求めます。
C37: 2 | D37: この書類は、ヒアリング時に持参し提出してください。
C38: 3 | D38: 評価項目の「ヒアリング」については、この書類に記載された者を対象に評価します。
