Workbook

Sheet 評価項目(標準)
M1: 鋼橋上部工事 【令和８年６月版】
B2: 簡易型Ｃ | D2: 総合評価方式評価項目一覧 【鋼橋上部工事】 除算方式 | G2: 工事名： | I2: 一般県道鳥羽阿児線（麻生の浦大橋２号橋）橋梁修繕（吊材交換）工事
B3: 大項目 | D3: 中項目 | E3: 小項目 | F3: 評価基準 | I3: 加算点 | L3: 様式 | M3: 評価内容等
I4: 配点 | J4: 小項目 配点 | K4: 大項目 配点
B5: 企 業 の 能 力 等 | C5: 地域精通度 | D5: 地域精通度 | E5: 本店等所在地 | F5: 三重県内に本店及び建設業法上の主たる営業所あり | I5: 20 | J5: 20 | K5: =SUM(J5:J26) -> 72 | L5: 様式１ 様式２ | M5: 「本店及び建設業法上の主たる営業所」、「建設業法上の営業所」又は「自社工場」の所在地により評価します。 ・本店等の所在地を変更した場合、公告の前月から３６か月前までの期間の「１８か月以上連続した所在地」を評価の対象とします。 ・「自社工場あり」とは、自社で恒常的に使用できる工場があることをいいます。
F6: 三重県内に建設業法上の営業所あり 又は 三重県内に橋梁上部工製作のための自社工場あり | I6: 5
F7: 上記以外 | I7: 0
E8: 県内における工事実績 | F8: 鋼橋上部工事の実績あり | I8: 5 | J8: 5 | M8: 単独又は共同企業体構成員（出資比率20％以上に限る）の元請として受注し、令和３年度以降に完成し、かつ、引渡しが済んでいる契約金額２千５百万円以上の工事の実績の有無により評価します。 ・評価対象の工事実績は１件とし、コリンズに本件登録工事の入札参加資格が鋼橋上部工事で登録された公共機関等発注工事に限ります。
F9: 工事実績なし | I9: 0
C10: 社会貢献度 | D10: 社会貢献度 | E10: ① 男女共同参画活動実績 ② 障がい者雇用実績 ③ 人権に関する取組実績 ④ 「みえる・わかる・つながる！職業ポータルサイト」 Webページへの登録 ⑤ 現場見学会等の開催実績 ⑥ 不当要求防止責任者講習の受講実績 ⑦ 職場環境づくりの実績 | F10: 左欄の①～⑦のうち、該当する項目により得られる合計点数 | J10: 4 | M10: 下記の実績の該当する項目により得られる合計点数により評価します。 ①男女共同参画活動実績 女性の職業生活における活躍の推進に関する法律に基づく一般事業主行動計画を策定している場合に評価します。（１点） ②障がい者雇用実績 障害者の雇用の促進等に関する法律に基づく障がい者雇用の有無により評価します。（１点） ・法律により障がい者雇用が義務付けられている企業は、法定雇用率を達成している場合に評価します。 ・法律により障がい者雇用が義務付けられていない企業は、障がい者を雇用している場合に評価します。 ③人権に関する取組実績 「三重県が開催する人権に関する研修の受講実績」又は「職業安定法に基づく公正採用選考人権啓発推進員の設置」のいずれかの取組実績の有無により評価します。（１点） なお、「三重県が開催する人権に関する研修の受講実績」は、令和７年度から令和８年度の受講実績を評価の対象とします。 ・「三重県が開催する人権に関する研修の受講実績」と「職業安定法に基づく公正採用選考人権啓発推進員の設置」は重複して評価しません。 ④「みえる・わかる・つながる！職業ポータルサイト」Webページへの登録 ・当該工事の入札に参加する者が、「みえる・わかる・つながる！職業ポータルサイト」Webぺージにインターンシップ受入情報を登録している場合に評価します。（１点） ・Webページ登録項目のうち「所在地、業種、職種、受入対象、受入時期、受入人数」の項目が全て記載されている場合に評価します。 ⑤現場見学会等の開催実績 ・当該工事の入札に参加する者が、単独又は共同企業体構成員として受注した三重県内の工事において、小学校、中学校、高等学校等の教育機関を対象に社会に貢献する建設業の役割の理解や次世代を支える若者たちの建設業への興味や関心を高めることを目的として現場見学会を開催した場合、及び、同目的で出前講座、実習授業のいずれかを開催した場合に評価します。（１点） ・現場見学会、出前講座、実習授業は１０名以上を対象とした場合に評価します。ただし、１０名以上の参加が見込めない場合（小規模な学校や学校側との調整の結果参加者が１０名未満となった場合）は、１０名未満でも評価します。 ・令和３年度から当該工事の入札公告日までの開催実績を評価の対象とします。 ・評価対象の現場見学会の実績は、官民の別は問いません。 ⑥不当要求防止責任者講習の受講実績 当該工事の入札に参加する者が、不当要求防止責任者を選任し、三重県公安委員会（(公財)暴力追放三重県民センター）が開催する不当要求防止責任者講習の受講実績のある場合に評価します。（１点） なお、「不当要求防止責任者講習の受講実績」は、令和５年度から入札公告日までの受講実績を評価の対象とします。 ⑦職場環境づくりの実績 下記のいずれかの実績により評価します。 （１） 令和４年度以降に「ユースエール認定制度」に認定されたことがある。（２点） （２）「みえの働き方改革推進企業登録制度」に登録されている。（１点） ※（１）と（２）は重複して評価しません。
F11: ４点 | I11: 4
F12: ３点 | I12: 3
F13: ２点 | I13: 2
F14: １点 | I14: 1
F15: 実績（取得点）なし | I15: 0
C16: 企業の技術力等 | D16: 工事実績 | E16: 企業の工事実績 | F16: 評価対象工事の実績あり | I16: 30 | J16: 30 | M16: 単独又は共同企業体構成員（出資比率20％以上に限る）の元請として受注し、平成２３年度以降に完成し、かつ、引渡しが済んでいる契約金額２千５百万円以上の評価対象工事の実績の有無により評価します。 ・「評価対象工事」とは、「鋼道路橋で、ニールセンローゼ橋の製作及び架設、又は補修・補強工事（吊材交換を含む工事に限る。）」、「鋼道路橋で、斜張橋の製作及び架設、又は補修・補強工事（吊材交換を含む工事に限る。）」または「鋼道路橋で、吊橋の製作及び架設、又は補修・補強工事（吊材交換を含む工事に限る。）」を指します。 なお、鋼道路橋とは活荷重が自動車荷重対応の橋をいいます。 ・評価対象の工事実績は１件とし、コリンズに登録された公共機関等発注の工事に限ります。
F17: 評価対象工事の実績なし | I17: 0
D18: 工事成績 | E18: 平均工事成績（５箇年） | F18: ９０点以上 の場合 | I18: 5 | J18: 5 | M18: 平均工事成績点数を評価基準に記載の計算式により評価します。 ・「工事成績」については、令和２年１０月１日から令和７年９月３０日の間に完成認定を受けた「対象工事」の工事成績の平均点（小数第２位以下切り捨て）とします。 ・「対象工事」とは、三重県が三重県建設工事発注標準に定める鋼橋上部工事で発注した鋼橋上部工を指します。 三重県の工事成績点数がない場合は、国土交通省中部地方整備局又は国土交通省近畿地方整備局が前年度に公表した工事成績評定平均点を評価基準に記載の計算式により評価します。 ・加算点は、小数第２位以下切り捨てとします。 ・上記全てに工事成績がない場合の加算点は０点です。
F19: ７５点以上 ９０点未満 の場合 （平均工事成績点－７５点）×５／１５
I20: ～
F22: ７５点未満 の場合 | I22: 0
D23: 品質 マネジメント | E23: 品質マネジメントシステムの認証 | F23: 有 | I23: 3 | J23: 3 | M23: 当該工事の入札に参加する者が、ISO9000Sの認証を取得している場合に評価します。
F24: 無 | I24: 0
D25: 労働安全 衛生管理 | E25: 労働安全衛生マネジメントシステムの認証 | F25: 有 | I25: 5 | J25: 5 | M25: 当該工事の入札に参加する者が、労働安全衛生マネジメントシステムガイドライン(建設業労働安全衛生マネジメントシステムガイドラインを含む）に沿った取組の認証を取得している場合に評価します。
F26: 無 | I26: 0
B27: 技術者の能力 | C27: 技術者の能力 | D27: 配置予定技術者 のCPD (継続学習制度) 取組実績 | E27: 各団体が発行するCPDの取組実績 | F27: 換算後の単位数の合計が推奨単位以上 | I27: 5 | J27: 5 | K27: =J27 -> 5 | L27: 様式１ 様式３ | M27: 配置予定技術者が令和５年度から令和８年度に取得したＣＰＤ単位により評価します。 ・ＣＰＤ単位は、建設系ＣＰＤ協議会加盟団体で証明、認定されたものに限ります。ただし、当該工事が建築関係業種の場合は、建築ＣＰＤ運営会議の加盟団体を含みます。 ・申告は、加盟団体のうちいずれか１団体の取得単位に限ります。ただし、相互承認を受けたＣＰＤ単位は、申告する加盟団体以外であっても取得単位に含めることを可能とします。 ・１年間の推奨単位を設定していない団体のＣＰＤ単位は、評価の対象としません。 ・各年度の取得単位は、換算係数を乗じるものとします。（小数第４位以下切り捨て） ・換算係数は、令和５年度は１／４、令和６年度は１／２、令和７年度及び令和８年度は１とします。
F28: 換算後の単位数の合計が推奨単位の1/2以上 | I28: 3
F29: 換算後の単位数の合計が推奨単位の1/2未満 | I29: 0
B30: 技術提案等 | C30: 技術提案 (対策なし型) | D30: 特記課題１ | E30: 工事を行ううえでの留意点、 | F30: 各項目あたりの評価基準・加算点 | G30: 項目1,2 | H30: 項目3 | I30: 80 (最大30点/項目×2項目+最大20点/項目×1項目) | J30: 80 | K30: =SUM(J30:J41) -> 140 | L30: 様式４ | M30: 当該工事は、一般県道鳥羽阿児線（麻生の浦大橋２号橋）において橋梁修繕（吊材交換）を行う工事です。 「項目１ 吊材交換における施工管理」、「項目２ 作業員の安全確保」、「項目３ 海上作業における悪天候への対応」の３項目について、それぞれに工事を行ううえで考えられる留意点を３つ以内で、その理由を含めて記述してください。 ・これらの提案については、対策を求めていません。そのため履行義務はありません。
F31: 優れている | G31: 30 | H31: 20
F32: 概ね優れている | G32: 25 | H32: 15
F33: 良好である | G33: 20 | H33: 10
F34: 概ね良好である | G34: 15 | H34: 5
F35: 上記以外 | G35: 0 | H35: 0
D36: 特記課題２ | E36: 工事を行ううえでの留意点、 | F36: 各項目あたりの評価基準・加算点 | G36: 各項目 | I36: 60 (最大20点/項目×３項目) | J36: 60 | L36: 様式５ | M36: 当該工事は、一般県道鳥羽阿児線（麻生の浦大橋２号橋）において橋梁修繕（吊材交換）を行う工事です。 「項目１ 工程計画における工夫」、「項目２ 道路利用者への配慮」、「項目３ 周辺環境への配慮」の３項目について、それぞれに工事を行ううえで考えられる留意点を３つ以内で、その理由を含めて記述してください。 ・これらの提案については、対策を求めていません。そのため履行義務はありません。
F37: 優れている | G37: 20
F38: 概ね優れている | G38: 15
F39: 良好である | G39: 10
F40: 概ね良好である | G40: 5
F41: 上記以外 | G41: 0
B42: 総合評価方式の不履行による加算点の減点 | E42: 当該工事の入札公告日が、三重県が総合評価方式で発注した工事で不履行による減点措置が課されている期間内である場合、「技術提案等不履行確定通知書等」に記載した減点を行います。 | I42: △換算前 加算点満点 ×1割 ×件数 | L42: 様式１ | M42: 三重県が総合評価方式で発注した工事で、技術資料又は施工体制確認資料に記載された事項に不履行があった場合の減点は、次式により行います。 減点後の貴社の換算前加算点合計＝Ａ－（Ｂ×０．１×Ｃ） Ａ：貴社の換算前加算点合計 Ｂ：当該工事の換算前加算点満点 Ｃ：不履行工事件数 不履行工事件数とは、当該工事の入札公告日が「技術提案等不履行確定通知書」で通知された不履行による減点の対象となる期間内である工事の件数とします。
B43: 指名停止措置による 加算点の減点 | E43: 当該工事の入札公告日が、三重県発注工事にかかる贈賄、公契約関係競売等妨害又は談合により役員等又は使用人が逮捕、又は逮捕を経ないで公訴を提起されたことによる指名停止に伴う減点措置期間内である場合、減点を行います。 | I43: △換算前 加算点満点 ×1割 | L43: 様式１ | M43: 当該工事の入札公告日が、三重県発注工事にかかる贈賄、公契約関係競売等妨害又は談合により役員等又は使用人が逮捕、又は逮捕を経ないで公訴を提起されたことによる指名停止に伴う減点措置期間内である場合の減点は、次式により行います。 減点後の貴社の換算前加算点合計＝Ａ－（Ｂ×０．１） Ａ：貴社の換算前加算点合計 Ｂ：当該工事の換算前加算点満点 ※減点措置期間は指名停止期間の終了日の翌日から１年間とします。 なお、対象となる指名停止措置は、当該工事入札公告日の前年度４月１日から当該工事入札公告日までの期間に指名停止期間が１日でも重複するものとします。
I44: 換算前 加算点 満点 | J44: =SUM(K5:K41) -> 217 | M44: ※技術資料の作成方法及び提出資料は、「技術資料作成上の留意事項」を必ず確認してください。
I45: 加算点 満点 | J45: =IF(B2="簡易型Ｃ",25,IF(B2="標準型",35,"型選択")) -> 25
B47: 当該工事で、技術資料又は施工体制確認資料に記載の内容に不履行があった場合の取り扱い | E47: 当該工事の履行確認を伴う評価項目に不履行があった場合、「技術提案等不履行確定通知書」により不履行項目・不履行による減点の対象となる期間などを通知します。 「技術提案等不履行確定通知書」に記載した期間に三重県が総合評価方式で発注する工事（以下「発注工事」という。）で、「貴社の換算前加算点合計」から「発注工事の換算前加算点満点」の1割を減点します。 貴社が特定建設工事共同企業体又は経常建設共同企業体の構成員である場合も、「発注工事の換算前加算点満点」の１割を減点します。

Sheet 届出書
AA3: 令和 年 月 日
A5: 技 術 資 料 届 出 書
B9: 三重県知事 | H9: あて
O11: 住 所
O13: 会社名
O15: 代表者氏名
E18: 工 事 名 | F18: ： | G18: 令和8年度 道路メンテ 第152-分0006号
G19: 一般県道鳥羽阿児線（麻生の浦大橋２号橋）橋梁修繕（吊材交換）工事
B25: 上記工事の技術資料を提出します。なお、地方自治法施行令（昭和22年政令第16号）
B26: 第167条の4の規定に該当する者でないこと並びに確認資料の内容は、事実と相違ない
B27: ことを誓約します。問い合わせ先は次のとおりです。
C30: 【問い合わせ先】
D31: 担当者 | G31: ： | H31: ○○ ○○
D32: 部 署 | G32: ： | H32: ○○本店 ○○部 ○○課
D33: 住 所 | G33: ： | H33: ○○県○○市○○
D34: 電話番号 | G34: ： | H34: ＊＊＊－＊＊＊＊－＊＊＊＊
D35: ＦＡＸ | G35: ： | H35: ＊＊＊－＊＊＊＊－＊＊＊＊
D36: Ｅ-mail | G36: ：

Sheet 様式１
B1: （様式１） 加算点申告書
F2: 会社名
B3: 大項目 | D3: 中項目 | E3: 小項目 | F3: 加算点 | G3: 評価基準 | I3: 各評価項目の 自己評価 | J3: 自己 加算点
G4: 配点 | H4: 基準
B5: =IF('評価項目(標準)'!B5="","",+'評価項目(標準)'!B5) -> 企 業 の 能 力 等 | C5: =IF(+'評価項目(標準)'!C5="","",+'評価項目(標準)'!C5) -> 地域精通度 | D5: =IF(+'評価項目(標準)'!D5="","",+'評価項目(標準)'!D5) -> 地域精通度 | E5: =IF(+'評価項目(標準)'!E5="","",+'評価項目(標準)'!E5) -> 本店等所在地 | F5: =+IF(+'評価項目(標準)'!J5="","",+'評価項目(標準)'!J5) -> 20 | G5: =+IF(+'評価項目(標準)'!I5="","",+'評価項目(標準)'!I5) -> 20 | H5: =+IF(+'評価項目(標準)'!F5="","",+'評価項目(標準)'!F5) -> 三重県内に本店及び建設業法上の主たる営業所あり | J5: =IF(I5="","",VLOOKUP(I5,'評価項目(標準)'!F5:I7,4,FALSE))
G6: =+IF(+'評価項目(標準)'!I6="","",+'評価項目(標準)'!I6) -> 5 | H6: =+IF(+'評価項目(標準)'!F6="","",+'評価項目(標準)'!F6) -> 三重県内に建設業法上の営業所あり 又は 三重県内に橋梁上部工製作のための自社工場あり
G7: =+IF(+'評価項目(標準)'!I7="","",+'評価項目(標準)'!I7) -> 0 | H7: =+IF(+'評価項目(標準)'!F7="","",+'評価項目(標準)'!F7) -> 上記以外
E8: =IF(+'評価項目(標準)'!E8="","",+'評価項目(標準)'!E8) -> 県内における工事実績 | F8: =+IF(+'評価項目(標準)'!J8="","",+'評価項目(標準)'!J8) -> 5 | G8: =+IF(+'評価項目(標準)'!I8="","",+'評価項目(標準)'!I8) -> 5 | H8: =+IF(+'評価項目(標準)'!F8="","",+'評価項目(標準)'!F8) -> 鋼橋上部工事の実績あり | J8: =IF(I8="","",IF(I8=H8,G8,IF(I8=H9,G9)))
G9: =+IF(+'評価項目(標準)'!I9="","",+'評価項目(標準)'!I9) -> 0 | H9: =+IF(+'評価項目(標準)'!F9="","",+'評価項目(標準)'!F9) -> 工事実績なし
C10: =IF(+'評価項目(標準)'!C10="","",+'評価項目(標準)'!C10) -> 社会貢献度 | D10: =IF(+'評価項目(標準)'!D10="","",+'評価項目(標準)'!D10) -> 社会貢献度 | E10: =IF(+'評価項目(標準)'!E10="","",+'評価項目(標準)'!E10) -> ① 男女共同参画活動実績 ② 障がい者雇用実績 ③ 人権に関する取組実績 ④ 「みえる・わかる・つながる！職業ポータルサイト」 Webページへの登録 ⑤ 現場見学会等の開催実績 ⑥ 不当要求防止責任者講習の受講実績 ⑦ 職場環境づくりの実績 | F10: =+IF(+'評価項目(標準)'!J10="","",+'評価項目(標準)'!J10) -> 4 | G10: 左欄の①～⑦のうち、該当する項目により得られる合計点数 | J10: =IF(I10="","",IF(I10=H11,G11,IF(I10=H12,G12,IF(I10=H13,G13,IF(I10=H14,G14,IF(I10=H15,G15))))))
G11: =+IF(+'評価項目(標準)'!I11="","",+'評価項目(標準)'!I11) -> 4 | H11: =+IF(+'評価項目(標準)'!F11="","",+'評価項目(標準)'!F11) -> ４点
G12: =+IF(+'評価項目(標準)'!I12="","",+'評価項目(標準)'!I12) -> 3 | H12: =+IF(+'評価項目(標準)'!F12="","",+'評価項目(標準)'!F12) -> ３点
G13: =+IF(+'評価項目(標準)'!I13="","",+'評価項目(標準)'!I13) -> 2 | H13: =+IF(+'評価項目(標準)'!F13="","",+'評価項目(標準)'!F13) -> ２点
G14: =+IF(+'評価項目(標準)'!I14="","",+'評価項目(標準)'!I14) -> 1 | H14: =+IF(+'評価項目(標準)'!F14="","",+'評価項目(標準)'!F14) -> １点
G15: =+IF(+'評価項目(標準)'!I15="","",+'評価項目(標準)'!I15) -> 0 | H15: =+IF(+'評価項目(標準)'!F15="","",+'評価項目(標準)'!F15) -> 実績（取得点）なし
C16: =IF(+'評価項目(標準)'!C16="","",+'評価項目(標準)'!C16) -> 企業の技術力等 | D16: =IF(+'評価項目(標準)'!D16="","",+'評価項目(標準)'!D16) -> 工事実績 | E16: =IF(+'評価項目(標準)'!E16="","",+'評価項目(標準)'!E16) -> 企業の工事実績 | F16: =+IF(+'評価項目(標準)'!J16="","",+'評価項目(標準)'!J16) -> 30 | G16: =+IF(+'評価項目(標準)'!I16="","",+'評価項目(標準)'!I16) -> 30 | H16: =+IF(+'評価項目(標準)'!F16="","",+'評価項目(標準)'!F16) -> 評価対象工事の実績あり | J16: =IF(I16="","",VLOOKUP(I16,'評価項目(標準)'!F16:I17,4,FALSE))
G17: =+IF(+'評価項目(標準)'!I17="","",+'評価項目(標準)'!I17) -> 0 | H17: =+IF(+'評価項目(標準)'!F17="","",+'評価項目(標準)'!F17) -> 評価対象工事の実績なし
D18: =IF(+'評価項目(標準)'!D18="","",+'評価項目(標準)'!D18) -> 工事成績 | E18: =IF(+'評価項目(標準)'!E18="","",+'評価項目(標準)'!E18) -> 平均工事成績（５箇年） | F18: =+IF(+'評価項目(標準)'!J18="","",+'評価項目(標準)'!J18) -> 5 | G18: =IF(+'評価項目(標準)'!I18="","",+'評価項目(標準)'!I18) -> 5 | H18: =IF(+'評価項目(標準)'!F18="","",+'評価項目(標準)'!F18) -> ９０点以上 の場合 | I18: 【平均工事成績】 | J18: =IF(COUNTA(I21)=0,"",IF(AND(COUNTA(I21)=1,I19=""),"いずれの【申告工事成績点】なのか、「三重県、中部地整、近畿地整」より選択してください",IF(I21>=90,5,IF(AND(I21<90,I21>=75),ROUNDDOWN(ROUND(I21-75,1)*5/15,1),IF(I32<75,0,)))))
G19: =IF(+'評価項目(標準)'!I19="","",+'評価項目(標準)'!I19) | H19: =IF(+'評価項目(標準)'!F19="","",+'評価項目(標準)'!F19) -> ７５点以上 ９０点未満 の場合 （平均工事成績点－７５点）×５／１５
G20: =IF(+'評価項目(標準)'!I20="","",+'評価項目(標準)'!I20) -> ～
G21: =IF(+'評価項目(標準)'!I21="","",+'評価項目(標準)'!I21)
G22: =IF(+'評価項目(標準)'!I22="","",+'評価項目(標準)'!I22) -> 0 | H22: =IF(+'評価項目(標準)'!F22="","",+'評価項目(標準)'!F22) -> ７５点未満 の場合
D23: =IF(+'評価項目(標準)'!D23="","",+'評価項目(標準)'!D23) -> 品質 マネジメント | E23: =IF(+'評価項目(標準)'!E23="","",+'評価項目(標準)'!E23) -> 品質マネジメントシステムの認証 | F23: =+IF(+'評価項目(標準)'!J23="","",+'評価項目(標準)'!J23) -> 3 | G23: =+IF(+'評価項目(標準)'!I23="","",+'評価項目(標準)'!I23) -> 3 | H23: =+IF(+'評価項目(標準)'!F23="","",+'評価項目(標準)'!F23) -> 有 | J23: =IF(I23="","",IF(I23=H23,G23,IF(I23=H24,G24)))
G24: =+IF(+'評価項目(標準)'!I24="","",+'評価項目(標準)'!I24) -> 0 | H24: =+IF(+'評価項目(標準)'!F24="","",+'評価項目(標準)'!F24) -> 無
D25: =IF(+'評価項目(標準)'!D25="","",+'評価項目(標準)'!D25) -> 労働安全 衛生管理 | E25: =IF(+'評価項目(標準)'!E25="","",+'評価項目(標準)'!E25) -> 労働安全衛生マネジメントシステムの認証 | F25: =+IF(+'評価項目(標準)'!J25="","",+'評価項目(標準)'!J25) -> 5 | G25: 5 | H25: =IF(+'評価項目(標準)'!F25="","",+'評価項目(標準)'!F25) -> 有 | J25: =IF(I25="","",IF(I25=H25,G25,IF(I25=H26,G26)))
G26: 0 | H26: =IF(+'評価項目(標準)'!F26="","",+'評価項目(標準)'!F26) -> 無
B27: 技術者の能力 | C27: 技術者の能力 | D27: =IF(+'評価項目(標準)'!D27="","",+'評価項目(標準)'!D27) -> 配置予定技術者 のCPD (継続学習制度) 取組実績 | E27: =IF(+'評価項目(標準)'!E27="","",+'評価項目(標準)'!E27) -> 各団体が発行するCPDの取組実績 | F27: =+IF(+'評価項目(標準)'!J27="","",+'評価項目(標準)'!J27) -> 5 | G27: =+IF(+'評価項目(標準)'!I27="","",+'評価項目(標準)'!I27) -> 5 | H27: =+IF(+'評価項目(標準)'!F27="","",+'評価項目(標準)'!F27) -> 換算後の単位数の合計が推奨単位以上 | J27: =IF(I27="","",IF(I27=H27,G27,IF(I27=H28,G28,IF(I27=H29,G29))))
G28: =+IF(+'評価項目(標準)'!I28="","",+'評価項目(標準)'!I28) -> 3 | H28: =+IF(+'評価項目(標準)'!F28="","",+'評価項目(標準)'!F28) -> 換算後の単位数の合計が推奨単位の1/2以上
G29: =+IF(+'評価項目(標準)'!I29="","",+'評価項目(標準)'!I29) -> 0 | H29: =+IF(+'評価項目(標準)'!F29="","",+'評価項目(標準)'!F29) -> 換算後の単位数の合計が推奨単位の1/2未満
B30: =IF(+'評価項目(標準)'!B42="","",+'評価項目(標準)'!B42) -> 総合評価方式の不履行による加算点の減点 | E30: =IF(+'評価項目(標準)'!E42="","",+'評価項目(標準)'!E42) -> 当該工事の入札公告日が、三重県が総合評価方式で発注した工事で不履行による減点措置が課されている期間内である場合、「技術提案等不履行確定通知書等」に記載した減点を行います。 | H30: =IF('評価項目(標準)'!I42="","",+'評価項目(標準)'!I42) -> △換算前 加算点満点 ×1割 ×件数 | J30: =IF(+I30="","",-(+'評価項目(標準)'!J44*0.1*I30))
B31: =IF(+'評価項目(標準)'!B43="","",+'評価項目(標準)'!B43) -> 指名停止措置による 加算点の減点 | E31: =IF(+'評価項目(標準)'!E43="","",+'評価項目(標準)'!E43) -> 当該工事の入札公告日が、三重県発注工事にかかる贈賄、公契約関係競売等妨害又は談合により役員等又は使用人が逮捕、又は逮捕を経ないで公訴を提起されたことによる指名停止に伴う減点措置期間内である場合、減点を行います。 | H31: =IF('評価項目(標準)'!I43="","",+'評価項目(標準)'!I43) -> △換算前 加算点満点 ×1割 | J31: =IF(+I31="","",-(+'評価項目(標準)'!J44*0.1))
I32: 合計 | J32: =SUM(J5:J31) -> 0
B34: 【記入上の注意】
B35: ・ | D35: 黄色着色のセルは、該当する数値を直接入力してください。加算点は、自動計算により表示されます。
B36: ・ | D36: 橙色着色のセルは、セル中から該当する項目を選択してください。加算点は、選択した内容に応じて自動で表示されます。
B37: ・ | C37: 評価項目及び評価基準の詳細については、「評価項目一覧」及び「技術資料作成上の留意事項」で確認してください。
B38: ・ | C38: このシートは「評価項目一覧」とリンクしています。自己加算点が表示されていない場合は評価しません。

Sheet 様式２
A1: （様式２） 地域精通度・社会貢献度・企業の技術力等に関する技術資料 | AJ1: ※本頁は（様式２）の注意事項となっています。提出の必要はありません。
O2: 会社名
A3: 【地域精通度】 | AJ3: 【地域精通度の注意事項】
A5: 本店等所在地 | E5: 本店所在地 | AJ5: 注1： | AL5: 本店と建設業法上の主たる営業所の所在地が同じ場合は、本店所在地の入力は不要です。
E7: 所在地の変更日 | J7: 年 月 日 | AJ7: 注2： | AL7: 公告の前月から３６か月前までの期間に、本店及び建設業法上の主たる営業所の所在地を変更した場合は、旧所在地と変更日を入力して下さい。
E8: 旧所在地
E10: 営業所 自社工場所在地 | AJ10: 注3： | AL10: 三重県内に建設業法上の営業所又は自社工場を有する県外業者は、所在地を入力してください。
A12: 県内における 工事実績 | E12: コリンズ登録番号
E13: 工事名称
G16: 【社会貢献度】 | AJ16: 【社会貢献度の注意事項】
AD17: 評価対象 | AG17: 実績
A18: 社会貢献度 | E18: ① | F18: 男女共同参画活動実績の有無 | AJ18: 注1： | AL18: 評価対象として届け出る項目に「○」をプルダウンで選択してください。（最大４点）
E19: ② | F19: 障がい者雇用実績の有無
E20: ③ | F20: 人権に関する取組実績の有無（人権研修の受講実績又は公正採用選考人権啓発推進員の設置） | AJ20: 注2： | AL20: 各項目で実績（認証取得）の有無をプルダウンで選択してください。
E21: ④ | F21: 「みえる・わかる・つながる！職業ポータルサイト」Webページへの登録
E22: ⑤ | F22: 現場見学会等の開催実績
E23: ⑥ | F23: 不当要求防止責任者講習の受講実績
E24: ⑦ | F24: 「ユースエール認定制度」認定実績
F25: 「みえの働き方改革推進企業登録制度」登録実績
A26: 【企業の技術力等】
A28: 工事実績 | E28: コリンズ登録番号
E29: 工事名称

Sheet 様式３
A1: （様式３） 技術者の能力に関する技術資料
N2: 会社名
A3: 【技術者の能力】
A5: 配置予定技術者 | C5: 氏名 | W5: 生年月日（西暦） | AB5: 年 月 日
C6: CPD取組実績 | E6: 取得単位認定団体 | N6: （例）○○技士会 | Y6: 推奨単位数 | AG6: 単位／年
N7: 取得単位数 | S7: 換算係数 | U7: 換算後単位数 | Y7: 換算後単位数の合計
E8: R8(2026)年度 | Q8: 単位 | S8: 1 | U8: =IF(N8="","",ROUNDDOWN(N8*S8,3)) | W8: 単位 | Y8: =IF(SUM(U8:V12)=0,"",SUM(U8:V12)) | AD8: 単 位
E9: R7(2025)年度 | Q9: 単位 | S9: 1 | U9: =IF(N9="","",ROUNDDOWN(N9*S9,3)) | W9: 単位
E10: R6(2024)年度 | Q10: 単位 | S10: 0.5 | U10: =IF(N10="","",ROUNDDOWN(N10*(1/2),3)) | W10: 単位
E11: R5(2023)年度 | Q11: 単位 | S11: 0.25 | U11: =IF(N11="","",ROUNDDOWN(N11*(1/4),3)) | W11: 単位
A16: 【技術者の能力の注意事項】
A18: 注1： | C18: 配置予定技術者の氏名は、必ず入力してください。
A20: 注2： | C20: 氏名欄には、現地架設の配置予定技術者を入力してください。
A22: 注3： | C22: 配置予定技術者に関する項目のうち、チェック欄が設けてあるところは、該当する「□」をプルダウンで「■」に変更してください。
A24: 注4： | C24: 配置予定技術者の従事期間は、現地架設期間とし、工場製作期間を含めない期間を入力してください。
A26: 注5： | C26: CPDの取得単位認定団体で記入できる団体数は、１団体のみとします。 推奨単位数は、上記で記入した団体のR8.4.1時点の推奨単位数を入力してください。

Sheet 様式４（対策なし）
A1: （様式４） 技術提案に関する技術資料
A2: 工事名： | G2: 一般県道鳥羽阿児線（麻生の浦大橋２号橋）橋梁修繕（吊材交換）工事
A3: 会社名 | AQ3: ※本頁は、提出不要です。
A4: 特記課題 | AQ4: 【特記課題の注意事項】
A5: 項目１ | D5: 留意点① | AP5: 1 2 3 4 5 6 7 8 9 10 11 12 13 14 15 | AR5: ・評価項目一覧に示す３項目について、工事を行ううえでの留意点とその理由をそれぞれ簡潔に記
AP6: 2 | AR6: 載してください。
AP7: 3 | AR7: ・具体的に実施する対策などを記載しても、その部分は評価しません。
AP8: 4 | AR8: ・文字の大きさは、１０ポイントとします。
AP9: 5 | AR9: ・行列の挿入及びセルサイズの変更は、不可とします。
D10: 留意点② | AP10: 1 | AR10: ・各項目の留意点①～③は、それぞれ５行以内で記載するものとします。
AP11: 2 | AR11: ・５行を超えて記載されている留意点は、評価しません。※例１、例２参照
AP12: 3 | AR12: ・ | AS12: 文字ポイントを小さくして、５行以内で記載されている留意点は、評価しません。※例３参照
AP13: 4 | AR13: ・ | AS13: 印刷した様式４で判断しますので、十分確認のうえ提出してください。
AP14: 5 | AS14: ※電子媒体で提出された場合でも、印刷して判断します。
D15: 留意点③ | AP15: 1 | AR15: ・ | AS15: 一括審査対象工事の場合、工事名には入札への参加を希望するすべての工事名を記載してください。
AP16: 2
AP17: 3
AP18: 4
AP19: 5
A20: 項目２ | D20: 留意点① | AP20: 1 2 3 4 5 6 7 8 9 10 11 12 13 14 15
AP21: 2
AP22: 3
AP23: 4
AP24: 5
D25: 留意点② | AP25: 1
AP26: 2
AP27: 3
AP28: 4
AP29: 5
D30: 留意点③ | AP30: 1
AP31: 2
AP32: 3
AP33: 4
AP34: 5
A35: 項目３ | D35: 留意点① | AP35: 1
AP36: 2
AP37: 3
AP38: 4
AP39: 5
D40: 留意点② | AP40: 1
AP41: 2
AP42: 3
AP43: 4
AP44: 5
D45: 留意点③ | AP45: 1
AP46: 2
AP47: 3
AP48: 4
AP49: 5

Sheet 様式５（対策なし）
A1: （様式５） 技術提案に関する技術資料
A2: 工事名： | G2: 一般県道鳥羽阿児線（麻生の浦大橋２号橋）橋梁修繕（吊材交換）工事
A3: 会社名
A4: 特記課題
A5: 項目１ | D5: 留意点① | AP5: 1 2 3 4 5 6 7 8 9 10 11 12 13 14 15
AP6: 2
AP7: 3
AP8: 4
AP9: 5
D10: 留意点② | AP10: 1
AP11: 2
AP12: 3
AP13: 4
AP14: 5
D15: 留意点③ | AP15: 1
AP16: 2
AP17: 3
AP18: 4
AP19: 5
A20: 項目２ | D20: 留意点① | AP20: 1 2 3 4 5 6 7 8 9 10 11 12 13 14 15
AP21: 2
AP22: 3
AP23: 4
AP24: 5
D25: 留意点② | AP25: 1
AP26: 2
AP27: 3
AP28: 4
AP29: 5
D30: 留意点③ | AP30: 1
AP31: 2
AP32: 3
AP33: 4
AP34: 5
A35: 項目３ | D35: 留意点① | AP35: 1
AP36: 2
AP37: 3
AP38: 4
AP39: 5
D40: 留意点② | AP40: 1
AP41: 2
AP42: 3
AP43: 4
AP44: 5
D45: 留意点③ | AP45: 1
AP46: 2
AP47: 3
AP48: 4
AP49: 5
