Workbook
Name OLE_LINK1: 様式２号評価点確認申請書!#REF!

Sheet 提出書類一覧表
Y1: 【事前審査登録制度】提出書類一覧表（技術資料提出時）建設コンサルタント、地質調査 | BX1: 2026.06.01
AA3: 入札参加資格審査： | AK3: 入札後審査型 | AR3: 総合評価、評価項目確認： | BD3: 事後確認型 | BK3: 総合評価タイプ： | BS3: 簡易型Ⅱ
AA4: 様式 | AY4: 様式の添付書類等（確認書類等） | BU4: チェック
Y5: 総合評価様式 | Z5: 1 | AA5: 様式１号 | AH5: 技術資料（表紙） | AY5: 不要
Z6: 2 | AA6: 様式２号 | AH6: 評価点確認申請書 | AY6: 不要
Z7: 3 | AA7: 様式３号 | AH7: 業務実施体制 | AY7: 不要
Z8: =IF(BS3="簡易型Ⅱ",3,4) -> 3 | AA8: 様式４号 | AH8: 予定技術者の経歴 | AY8: =IF(BD3=AH35,"不要（※技術者の資格証等の写し）","技術者の資格証等の写し") -> 不要（※技術者の資格証等の写し）
AY9: =IF(BD3=AH35,"不要（※技術者の業務実績の確認（根拠）資料）","技術者の業務実績の確認（根拠）資料") -> 不要（※技術者の業務実績の確認（根拠）資料）
AY10: =IF(BD3=AH35,"不要（※技術者のＣＰＤ取得の証明書）","技術者のＣＰＤ取得の証明書") -> 不要（※技術者のＣＰＤ取得の証明書）
Z11: =IF(BS3="簡易型Ⅱ",4,5) -> 4 | AA11: 様式５号 | AH11: 企業の能力等 | AY11: ※業務成績を証明する書類は、事前審査登録制度対象 | BU11: 不要
AY12: ※優良業務委託表彰の実績を証明する書類は、事前審査登録制度対象 | BU12: 不要
AY13: ※ＩＳＯ認証を証明する書類は、事前審査登録制度対象 | BU13: 不要
AY14: =IF(BD3=AH35,"不要（※本社（営業所等）があることを証明する書類（登記簿謄本等））","本社（営業所等）があることを証明する書類（登記簿謄本等）") -> 不要（※本社（営業所等）があることを証明する書類（登記簿謄本等））
AY15: ※災害協定に基づく出動要請書及び完了報告書の写しは、事前審査登録対象 | BU15: 不要
AY16: ※地域貢献活動の確認（根拠）書類は、事前審査登録対象 | BU16: 不要
AY17: ※雇用実績の確認（根拠）書類は、事前審査登録対象 | BU17: 不要
Z18: 6 | AA18: 様式６号 | AH18: 業務の実施方針 | AY18: 不要
Z19: 7 | AA19: 様式７－１号 | AH19: 評価テーマに対する技術提案 | AY19: 不要
AA20: 様式７－２号
Y22: 入札参加資格様式 | Z22: 8 | AA22: =IF(AK3=AA35,"入札後審査様式第２号","様式第２号") -> 入札後審査様式第２号 | AH22: =IF(AK3=AA35,"入札参加資格確認申請書（入札後審査型）","入札参加資格確認申請書") -> 入札参加資格確認申請書（入札後審査型） | AY22: 不要
AH23: 同種または類似業務の施工実績（入札参加資格確認申請書に記載） | AY23: =IF(AK3=AA35,"不要（※企業の同種業務実績の確認（根拠）資料）","企業の同種業務実績の確認（根拠）資料") -> 不要（※企業の同種業務実績の確認（根拠）資料）
AH25: 配置予定技術者等の資格・業務経験（入札参加資格確認申請書に記載） | AY25: =IF(AK3=AA35,"不要（※技術者の資格、雇用関係を書する書類）","技術者の資格、雇用関係を書する書類") -> 不要（※技術者の資格、雇用関係を書する書類）
AY26: =IF(AK3=AA35,"不要（※技術者の同種業務の経験を確認できる書類（条件がある場合））","技術者の同種業務の経験を確認できる書類（条件がある場合））") -> 不要（※技術者の同種業務の経験を確認できる書類（条件がある場合））
AH27: 本社、営業所の所在地（入札参加資格確認申請書に記載） | AY27: =IF(AK3=AA35,"不要（※本社（営業所等）があることを証明する書類（登記簿謄本等）(条件がある場合）","本社（営業所等）があることを証明する書類（登記簿謄本等）(条件がある場合)") -> 不要（※本社（営業所等）があることを証明する書類（登記簿謄本等）(条件がある場合）
Z28: 9 | AA28: その他必要と認めるもの (条件がある場合) | AH28: 業務ごとに設定する資格要件に応じた様式（入札公告参照） | AY28: 入札公告において示す資料
Z29: 10 | AA29: =IF(AK3=AA35,"不要（※入札参加資格）","入札参加資格") -> 不要（※入札参加資格） | AY29: =IF(AK3=AA35,"不要（※建設コンサルタント登録規程に基づく登録証明の写し）","建設コンサルタント登録規程に基づく登録証明の写し") -> 不要（※建設コンサルタント登録規程に基づく登録証明の写し）
AA30: =IF(AK3=AA35,"※入札参加者は、執行機関の指定する日までに様式を提出するものとする。入札執行後、落札候補者は、執行機関の指定する日までに添付書類等を提出するものとする。なお、様式及び添付書類等を提出できない場合や、資格要件を満たしていない場合並びに虚偽の申請を行った者等は入札が無効となることがあります。","※入札参加者は、執行機関の指定する日までに様式及び添付書類等を提出するものとする。なお、様式及び添付書類等を提出できない場合や、資格要件を満たしていない場合並びに虚偽の申請を行った者等は入札が無効となることがあります。") -> ※入札参加者は、執行機関の指定する日までに様式を提出するものとする。入札執行後、落札候補者は、執行機関の指定する日までに添付書類等を提出するものとする。なお、様式及び添付書類等を提出できない場合や、資格要件を満たしていない場合並びに虚偽の申請を行った者等は入札が無効となることがあります。
AA34: 入札前審査型 | AH34: 事前確認型 | AN34: 標準型 | AR34: レ | AU34: =IF(AK3=AA34,1,10) -> 10 | AV34: =IF(BD3=AH34,5,15) -> 15 | AX34: =AU34+AV34 -> 25
AA35: 入札後審査型 | AH35: 事後確認型 | AN35: 簡易型Ⅰ | AR35: －
AN36: 簡易型Ⅱ

Sheet 様式１号表紙
Y1: 令和８年６月１日以降に公告（事前審査登録制度対象）簡易型Ⅱ用
Y3: 様式１号（技術資料 表紙） | BF3: 用紙（日本産業規格Ａ４判）
AU5: 令和 | AW5: 8 | AY5: 年 | AZ5: 10 | BB5: 月 | BC5: 16 | BE5: 日
Y7: 静岡県 | AB7: 島田土木事務所長 | AL7: 様
AN9: 住所 | AR9: ○○市○○町○－○－○
AN11: 商号又は名称 | AR11: ○○○コンサルタント株式会社
AN13: 代表者氏名 | AR13: 代表取締役 ○○○○
Z15: 入札番号 | AD15: 島第２６３６１号
AA16: 令和８年度［第３８-Ｋ１５０５-２１号］栃山川水系河川調査に伴う設計業務委託（河川整備計画変更）
AP20: 業務箇所 | AQ20: ： | AR20: 焼津市小川地先ほか
AA23: 技 術 資 料
AK31: 業種区分 | AO31: 土木関係建設コンサルタント
AK33: 所在地 | AO33: (本社の所在地を記入すること｡)
AK39: 連絡先 | AO39: 所 属： | AS39: ○○
AO40: 役 職： | AS40: ○○○
AO41: 氏 名： | AS41: ○○ ○○
AO42: 電 話： | AS42: ○○○-○○○-○○○○
AO43: E-mail： | AS43: ○○○○○○＠○○.○○.○○
Z45: 標記について、 | AH45: 令和 | AJ45: 8 | AL45: 年 | AM45: 10 | AO45: 月 | AP45: 6 | AR45: 日 | AT45: 付けで公告のありました
Z46: 『 | AA46: =+AA16 -> 令和８年度［第３８-Ｋ１５０５-２１号］栃山川水系河川調査に伴う設計業務委託（河川整備計画変更）
BF48: 』
Z49: の技術資料を別添のとおり提出します。
Y52: 31 | Z52: 4 | AA52: 1 | AC52: 下田土木事務所長 | AD52: 23 | AH52: 土木関係建設コンサルタント
Y53: 元 | Z53: 5 | AA53: 2 | AC53: 熱海土木事務所長 | AD53: 24 | AH53: 地質調査
Y54: 2 | Z54: 6 | AA54: 3 | AC54: 沼津土木事務所長 | AD54: 25
Y55: 3 | Z55: 7 | AA55: 4 | AC55: 富士土木事務所長 | AD55: 26
Y56: 4 | Z56: 8 | AA56: 5 | AC56: 静岡土木事務所長 | AD56: 27
Y57: 5 | Z57: 9 | AA57: 6 | AC57: 島田土木事務所長 | AD57: 28
Y58: 6 | Z58: 10 | AA58: 7 | AC58: 袋井土木事務所長 | AD58: 29
Y59: 7 | Z59: 11 | AA59: 8 | AC59: 浜松土木事務所長 | AD59: 30
Z60: 12 | AA60: 9 | AC60: 田子の浦港管理事務所長 | AD60: 31
Z61: 1 | AA61: 10 | AC61: 清水港管理局長
Z62: 2 | AA62: 11 | AC62: 焼津漁港管理事務所長
Z63: 3 | AA63: 12 | AC63: 御前崎港管理事務所長
AA64: 13
AA65: 14 | AC65: 賀茂農林事務所長
AA66: 15 | AC66: 東部農林事務所長
AA67: 16 | AC67: 富士農林事務所長
AA68: 17 | AC68: 中部農林事務所長
AA69: 18 | AC69: 志太榛原農林事務所長
...

Sheet 様式２号評価点確認申請書
Y1: 様式２号 | BH1: 用紙（日本産業規格Ａ４判）
Y3: 評 価 点 確 認 申 請 書
AW5: =様式１号表紙!AU5 -> 令和 | AY5: =様式１号表紙!AW5 -> 8 | BA5: 年 | BB5: =様式１号表紙!AZ5 -> 10 | BD5: 月 | BE5: =様式１号表紙!BC5 -> 16 | BG5: 日
Y7: 静岡県 | AC7: =様式１号表紙!AB7 -> 島田土木事務所長 | AM7: 様
AO8: 住所 | AS8: =様式１号表紙!AR9 -> ○○市○○町○－○－○
AO10: 商号又は名称 | AS10: =様式１号表紙!AR11 -> ○○○コンサルタント株式会社
AO12: 代表者氏名 | AS12: =様式１号表紙!AR13 -> 代表取締役 ○○○○
Z14: 下記業務の総合評価項目について、自社による評価点を申請します。
AA16: 記
Z18: １ 入札番号 | AG18: =様式１号表紙!AD15 -> 島第２６３６１号
Z19: ２ 業務名 | AG19: =様式１号表紙!AA16 -> 令和８年度［第３８-Ｋ１５０５-２１号］栃山川水系河川調査に伴う設計業務委託（河川整備計画変更）
Z21: ３ 業務箇所 | AG21: =様式１号表紙!AR20 -> 焼津市小川地先ほか
Z22: ４ 評価点申請
AA23: 配置予定技術者の能力について
AA24: 評価項目 | AF24: 評価基準 | AO24: =IF(様式１号表紙!AO31="土木関係建設コンサルタント",AX124,AX125) -> 管理技術者 | AS24: 担当技術者(単独) | AW24: 照査 技術者 | BA24: 申請点 小計 | BD24: 備考
AA26: 技術者資格 | AF26: ①技術士 | AO26: ①技術士 | AS26: ②ＲＣＣＭ | AW26: ②ＲＣＣＭ | BA26: =ROUND(SUM(AO38:AZ38),2) -> 4 | BD26: 公告文 １－７（１）ア（ア） 参照
AF27: 建設部門（河川、砂防及び海岸・海洋）又は総合技術監理部門（建設-河川、砂防及び海岸・海洋）
AO30: =IF(AO26=AF26,AF27,IF(AO26=AF30,AF31,IF(AO26=AF33,AF34,""))) -> 建設部門（河川、砂防及び海岸・海洋）又は総合技術監理部門（建設-河川、砂防及び海岸・海洋） | AS30: =IF(AS26=AF26,AF27,IF(AS26=AF30,AF31,IF(AS26=AF33,AF34,""))) -> 河川、砂防及び海岸・海洋部門 | AW30: =IF(AW26=AF26,AF27,IF(AW26=AF30,AF31,IF(AW26=AF33,AF34,""))) -> 河川、砂防及び海岸・海洋部門
AF33: ②ＲＣＣＭ
AF34: 河川、砂防及び海岸・海洋部門
AF38: ③上記以外 | AO38: =IF(AO26="",0,IF(AO26=AF26,4,IF(AO26=AF30,2,IF(AO26=AF33,2,0)))) -> 4 | AS38: =IF(BF129=300,"-",IF(AS26="",0,IF(AS26=AF26,2,IF(AS26=AF30,1,IF(AS26=AF33,1,0))))) -> - | AW38: =IF(BF129=300,"-",IF(AW24=AU123,"-",IF(AW26="",0,IF(AW26=AF26,2,IF(AW26=AF30,1,IF(AW26=AF33,1,0)))))) -> -
AA39: 同種又は類似業務経験 | AF39: ①同種業務経験あり | AO39: ①同種業務経験あり | AS39: ①同種業務経験あり | AW39: ①同種業務経験あり | BA39: =ROUND(SUM(AO42:AZ42),2) -> 4 | BD39: 公告文 １－７（１）ア（ア） 参照
AF40: ②類似業務経験あり
AF41: ③上記以外
AO42: =IF(AO39=AF39,4,IF(AO39=AF40,2,0)) -> 4 | AS42: =IF(BF129=300,"-",IF(AS39=AF39,2,IF(AS39=AF40,1,0))) -> - | AW42: =IF(BF129=300,"-",IF(AW24=AU123,"-",IF(AW39=AF39,2,IF(AW39=AF40,1,0)))) -> -
AA43: ＣＰＤの実績 | AF43: ①推奨単位以上取得 | AO43: ①推奨単位以上取得 | AS43: ①推奨単位以上取得 | AW43: ①推奨単位以上取得 | BA43: =ROUND(SUM(AO46:AZ46),2) -> 2 | BD43: 公告文 １－７（１）ア（ア） 参照
AF46: ②上記以外 | AO46: =IF(AO43="",0,IF(AO43=AF43,2,0)) -> 2 | AS46: =IF(BF129=300,"-",IF(AS43="",0,IF(AS43=AF43,1,0))) -> - | AW46: =IF(BF129=300,"-",IF(AW24=AU123,"-",IF(AW43="",0,IF(AW43=AF43,1,0)))) -> -
AA47: 当該地域の 業務経験 | AF47: ① | AG47: 焼津市内 | AO47: ①焼津市内 | AS47: ②○○土木事務所管内 | AW47: ②○○土木事務所管内 | BA47: =ROUND(SUM(AO51:AZ51),2) -> 2 | BD47: 公告文 １－７（１）ア（ア） 参照
AG48: における業務経験あり
AF49: ② | AG49: 島田土木事務所管内
AG50: における業務経験あり
AF51: ③上記以外 | AO51: =IF(AO47="",0,IF(AO47=BW121,2,IF(AO47="-",0,IF(AO47=BW122,1,0)))) -> 2 | AS51: =IF(BF129=300,"-",IF(AS47="",0,IF(AS47="-",0,IF(AS47=BW121,1,IF(AS47=BW122,0.5,0))))) -> - | AW51: =IF(BF129=300,"-",IF(AW24=AU123,"-",IF(AW47="",0,IF(AW47="-",0,IF(AW47=BW121,1,IF(AW47=BW122,0.5,0)))))) -> -
AA52: 手持ち業務量 | AF52: ①手持ち業務件数が0～1件 | AO52: ①0～1件 | AS52: ①0～1件 | AW52: ①0～1件 | BA52: =ROUND(SUM(AO55:AZ55),2) -> 4 | BD52: 公告文 １－７（１）ア（ア） 参照
AF53: ②手持ち業務件数が2件
AF54: ③手持ち業務件数が3～4件
AF55: ④上記以外 | AO55: =IF(BF129=300,BM130,BM129) -> 4 | AS55: =IF(BF129=300,"-",IF(AS52="",0,IF(AS52=CD121,4,IF(AS52=CD122,2,IF(AS52=CD123,0,0))))) -> - | AW55: =IF(BF129=300,"-",IF(AW24=AU123,"-",IF(AW52="",0,IF(AW52=CD121,2,IF(AW52=CD122,2,IF(AW52=CD123,1,0)))))) -> -
AA56: 予定技術者の経験及び能力の小計 | AO56: =AO38+AO42+AO46+AO51+AO55 -> 16 | AS56: =IF(BF129=300,"-",AS38+AS42+AS46+AS51+AS55) -> - | AW56: =IF(BF129=300,"-",IF(AW24=AU123,"-",(AW38+AW42+AW46+AW51+AW55))) -> - | BA56: =BA26+BA39+BA43+BA47+BA52 -> 16
AA57: 換算後の評価点小計 | BA57: =IF(AW121=0,ROUND(BA56*36/32,1),ROUND((BA56*28/24),1)) -> 18
AA60: 企業の能力等について
AA61: 評価項目 | AF61: 評価基準 | AX61: 申請点 | BC61: 備考
...

Sheet 様式４号予定技術者の経歴(管理技術者、主任技術者）
A1: 様式４号 | AI1: 用紙（日本産業規格Ａ４判）
K2: 予 定 | N2: =IF(様式１号表紙!AO31="土木関係建設コンサルタント",N82,N83) -> 管 理 | Q2: 技 術 者 の 経 歴
A3: 業務名： | D3: =+様式１号表紙!AA16 -> 令和８年度［第３８-Ｋ１５０５-２１号］栃山川水系河川調査に伴う設計業務委託（河川整備計画変更）
A5: 会社名： | D5: =様式１号表紙!AR11 -> ○○○コンサルタント株式会社
A7: ① | B7: ふりがな | R7: ② | S7: 生年月日：
B8: 氏 名：
A9: ③ | B9: 所属・役職：
A10: ④ | B10: ＴＥＣＲＩＳ技術者ＩＤ：
A11: ⑤ | B11: 保有資格
B12: 技術士 | E12: （部門： | P12: 分野： | AB12: ）
F13: 登録番号： | L13: 登録年月日： | Q13: 平成 年 月 日
B14: ＲＣＣＭ | E14: （部門： | R14: ）
F15: 登録番号： | L15: 登録年月日： | Q15: 平成 年 月 日
A18: ⑥ | B18: 同種又は類似業務経験 | J18: ※業務分類は『同種』『類似』『なし』のいずれか該当する分類を記載すること。
B19: 業務分類： | I19: 発注機関：
B20: 業 務 名：
B22: 業務箇所： | F22: 静岡県 ○○○市 地内 | Y22: 契約金額： | AI22: 円
B23: 履行期間： | F23: 平成 年 月 日 | O23: ～ | P23: 令和 年 月 日 | Y23: TECRIS登録番号：
A24: ⑦ | B24: ＣＰＤの取組状況
B25: 取組状況： | F25: 推奨（目標）単位 | O25: 証明書発行団体名：
B26: 取得期間： | F26: 令和 年 月 日 | O26: ～ | P26: 令和 年 月 日
B27: 取得単位： | H27: 単位(CPD時間)
A28: ⑧ | B28: 当該地域の業務経験
B29: 業務経験： | I29: 発注機関：
B30: 業 務 名：
B32: 業務箇所： | F32: 静岡県 ○○○市 地内 | Y32: 契約金額： | AI32: 円
B33: 履行期間： | F33: 令和 年 月 日 | O33: ～ | P33: 令和 年 月 日 | Y33: TECRIS登録番号：
A34: ⑨ | B34: 手持ち業務の状況 | I34: 令和 年 月 日 | R34: 現在 | T34: ※公告日
B35: 合計手持ち業務件数： | L35: 件 | M35: =IF(様式１号表紙!AO31="土木関係建設コンサルタント",I105,I106) -> ※契約金額500万円以上の管理技術者又は担当技術者として従事している業務
A36: 1 | B36: 業務名：
B38: 職務上の立場： | L38: 発注機関：
B39: 業務箇所： | F39: 静岡県 ○○○市 地内 | Y39: 契約金額： | AI39: 円
B40: 履行期間： | F40: 令和 年 月 日 | O40: ～ | P40: 令和 年 月 日 | Y40: TECRIS登録番号：
A41: 2 | B41: 業務名：
B43: 職務上の立場： | L43: 発注機関：
B44: 業務箇所： | F44: 静岡県 ○○○市 地内 | Y44: 契約金額： | AI44: 円
B45: 履行期間： | F45: 令和 年 月 日 | O45: ～ | P45: 令和 年 月 日 | Y45: TECRIS登録番号：
A46: 3 | B46: 業務名：
B48: 職務上の立場： | L48: 発注機関：
B49: 業務箇所： | F49: 静岡県 ○○○市 地内 | Y49: 契約金額： | AI49: 円
...

Sheet （×使用しない）様式５号企業の能力等
A1: 様式５号 | AN1: 用紙（日本産業規格Ａ４判）
A2: 企業の能力等
A4: 業務名： | D4: =+様式１号表紙!AA16 -> 令和８年度［第３８-Ｋ１５０５-２１号］栃山川水系河川調査に伴う設計業務委託（河川整備計画変更）
A6: 会社名： | D6: =様式１号表紙!AR11 -> ○○○コンサルタント株式会社
A8: 業務成績 | L8: ※事前審査登録対象
A12: 優良業務委託表彰の実績 | L12: ※事前審査登録対象
A16: ＩＳＯの取組状況 | L16: ※事前審査登録対象
A20: 評価項目における本社・営業所等の所在地 | L20: 総合評価における地理的条件の評価項目の設定： | AD20: =IF(様式２号評価点確認申請書!AL77='（×使用しない）様式５号企業の能力等'!L38,L38,IF(様式２号評価点確認申請書!AL77='（×使用しない）様式５号企業の能力等'!L39,L39,"")) -> 設定なし
L21: 評価項目の評価基準に | AA21: ※静岡県建設関連業務委託に係る入札 参加資格者名簿における本社又は委 任先営業所をいう。
L22: おける評価対象地域に | V22: （ | Z22: ）
L24: =IF(AD20="設定なし","",IF(W22="なし","該当なし",""))
A26: 過去５か年度における 災害協定に基づく活動 | L26: ※事前審査登録対象 | V26: 災害協定の締結 | AE26: ※事前審査登録対象
A28: 前年度の地域貢献活動 | L28: ※事前審査登録対象
A30: 前年度の雇用実績 | L30: ※事前審査登録対象
A32: （根拠書類）
A33: ＊ | C33: 評価項目の評価基準における評価対象地域に本社、委任先営業所等がある場合は、証明する書類（登記簿謄本等の必要な部分）を提出すること。
A38: 部長 | B38: 交通基盤部 | C38: ＩＳＯ9001 | D38: 5 | E38: 4 | F38: 1 | G38: あり | L38: 設定あり | R38: 本社(※)
A39: 所長 | C39: ＩＳＯ14001 | D39: 6 | E39: 5 | F39: 2 | G39: なし | L39: 設定なし | R39: 委任先営業所等(※)
C40: なし | D40: 7 | E40: 6 | F40: 3
D41: 8 | E41: 7 | F41: 4
D42: 9 | E42: 8 | F42: 5
B43: 下田土木事務所 | D43: 10 | E43: 9 | F43: 6
B44: 熱海土木事務所 | D44: 11 | E44: 10 | F44: 7
B45: 沼津土木事務所 | D45: 12 | E45: 11 | F45: 8
B46: 富士土木事務所 | D46: 13 | E46: 12 | F46: 9
B47: 静岡土木事務所 | D47: 14 | E47: 1 | F47: 10
B48: 島田土木事務所 | D48: 15 | E48: 2 | F48: 11
B49: 袋井土木事務所 | D49: 16 | E49: 3 | F49: 12
B50: 浜松土木事務所 | D50: 17 | F50: 13
B51: 田子の浦港管理事務所 | D51: 18 | F51: 14
B52: 清水港管理局 | D52: 19 | F52: 15
B53: 焼津漁港管理事務所 | D53: 20 | F53: 16
B54: 御前崎港管理事務所 | D54: 21 | F54: 17
B55: 静岡空港管理事務所 | D55: 22 | F55: 18
B56: 賀茂農林事務所 | D56: 23 | F56: 19
B57: 東部農林事務所 | D57: 24 | F57: 20
B58: 富士農林事務所 | D58: 25 | F58: 21
B59: 中部農林事務所 | D59: 26 | F59: 22
B60: 志太榛原農林事務所 | D60: 27 | F60: 23
B61: 中遠農林事務所 | D61: 28 | F61: 24
...
