Workbook

Sheet 施工計画確認型
B1: 別表 評価項目（施工計画確認型） 土木工事用 | K1: 1 2
B2: 評価項目 | D2: 評価内容 | F2: 評価基準 | G2: 配点 | H2: 評点 | K2: 1 2
B3: 【企業の技術力】 | K3: 1 2
B4: 工事成績※ （新潟県発注工事における土木部、交通政策局、農林水産部、農地部の4部局の工事成績※が対象） ※発注工種(業種)の工事成績を評価の対象とする | D4: 新潟県発注工事における過去5年間の工事成績※評定点の平均点 発注工種：法面処理工事 | F4: 82点以上 | G4: 5 | H4: (小数点以下第3位四捨五入2位止） | I4: ／ 5.00 | K4: 1 2
F5: 72点以上 82点未満 評点＝5.00×(平均点－72)／10 | G5: 5 | K5: 1 2
G6: ～
G7: 0 | K7: 1 2
F8: 65点以上72点未満 又は 実績なし | G8: 0 | K8: 1 2
F9: 65点未満 | G9: -2 | K9: 1 2
D10: 新潟県発注工事における過去3か月の工事成績※評定点の最低点 発注工種：法面処理工事 | F10: 65点以上 又は 実績なし | G10: 0 | I10: ／ 0.00 | K10: 1 2
F11: 65点未満 | G11: -1 | K11: 1 2
B12: 優良工事表彰等 | D12: 過去3か年度の新潟県優良工事表彰又は新潟県優良工事証の有無 | F12: 優良工事表彰（知事表彰）あり | G12: 0.5 | I12: ／ 0.50 | K12: 1 2 3
F13: 優良工事証（地域機関交付）あり | G13: 0.25 | K13: 1 2 3
F14: 上記以外 | G14: 0 | K14: 1 2
B15: 【配置予定技術者の能力】 | K15: 1 2
B16: 技術者の能力 | D16: 主任(監理)技術者の保有する資格 | F16: 1級土木施工管理技士(又は1級建設機械施工技士)、かつ技術士(建設部門又は総合技術監理部門（建設）） | G16: 0.5 | I16: ／ 0.50 | K16: 1 2 3 4 5 6 7
F17: 1級土木施工管理技士、1級建設機械施工技士 又は 技術士(建設部門又は総合技術監理部門（建設）） | G17: 0.25 | K17: 1 2 3 4 5 6 7
F18: その他 | G18: 0 | K18: 1 2
B19: 優秀技術者表彰等 | D19: 過去3か年度の新潟県優秀技術者表彰または新潟県優秀技術者証の有無 | F19: 優秀技術者表彰（知事表彰）あり | G19: 0.5 | I19: ／ 0.50 | K19: 1 2 3
F20: 優秀技術者証（地域機関交付）あり | G20: 0.25 | K20: 1 2 3
F21: 上記以外 | G21: 0 | K21: 1 2
B22: 継続教育（ＣＰＤ）の取組状況 | D22: 前年度の継続教育(CPD)の取得単位数 | F22: 【推奨単位以上】 1.0≦α （α＝a／b） ※a=取得単位数，b=各団体推奨単位数 ※小数点以下第2位切捨て1位止 | G22: 0.5 | I22: ／ 0.50 | K22: 1 2 3 4 5 6
F23: 【推奨単位未満かつ５割以上】 0.5≦α＜1.0 （α＝a／b） ※a=取得単位数，b=各団体推奨単位数 ※小数点以下第2位切捨て1位止 | G23: 0.25 | K23: 1 2 3 4 5 6
F24: 上記以外 | G24: 0 | K24: 1 2
B25: 【地域貢献度・精通度】 | K25: 1 2
B26: Made in 新潟新技術の活用 | D26: 「Made in 新潟 新技術普及制度」登録技術の活用 | F26: ２技術※の活用あり ※申請技術のうち、活用の目的が当該工事に合致し、現場条件に適合するもの | G26: 0.5 | I26: ／ 0.50 | K26: 1 2 3 4
F27: １技術※の活用あり ※申請技術のうち、活用の目的が当該工事に合致し、現場条件に適合するもの | G27: 0.25 | K27: 1 2
F28: 上記以外 | G28: 0 | K28: 1 2
B29: 災害時における活動実績等 | D29: ・過去3ヶ年度（当年度含む）の災害時における活動実績の有無 ・技術資料等の提出期限現在有効な防災協定の締結の有無 （佐渡地域振興局管内における、国・旧公団・新潟県・市町村のもの） | F29: 活動実績あり（防災協定の締結の有無を問わない） | G29: 1 | I29: ／ 1.00 | K29: 1 2 3
F30: 活動実績はないが、防災協定の締結あり | G30: 0.5 | K30: 1 2 3
F31: 実績・締結なし | G31: 0 | K31: 1 2 3
B32: 維持管理実績 | D32: 過去3ヶ年度（当年度含む）の道路除雪又は維持修繕(補修)実績の有無 （道路除雪は、佐渡地域振興局管内における国・旧公団・新潟県・市町村管理道路のもの、維持修繕は、当該佐渡地域整備部管理施設のもの） | F32: 道路除雪及び維持修繕(補修)の両方の実績あり | G32: 2 | I32: ／ 2.00 | K32: 1 2 3
F33: 道路除雪又は維持修繕(補修)のいずれかの実績あり | G33: 1 | K33: 1 2 3
F34: 実績なし（地域貢献の取組が認められない。） | G34: 0 | K34: 1 2 3
B35: 実働拠点 | D35: 地域内における過去3年間継続した営業所(実働拠点)の有無 | F35: 管内に過去3年間継続した主たる営業所あり | G35: 2 | I35: ／ 2.00 | K35: 1 2 3
F36: 管内に過去10年間継続した従たる営業所あり | G36: 1.5 | K36: 1 2 3
F37: 管内に過去3年間継続した従たる営業所あり | G37: 1 | K37: 1 2 3 4
F38: 上記以外 | G38: 0 | K38: 1 2
B39: 地域調達 | D39: 全ての下請負※における地域企業活用の有無 ※評価判定の対象となる下請企業は、契約額（請負額）500万円以上の一次・二次下請負とする 設定工種：全ての工種 | F39: 〔地域内調達〕 下請負※が以下のいずれかの条件を満たす場合 ・設定する工種の下請負※が地域内企業、かつその他の工種の下請負※は県内企業 ・入札参加企業（元請企業）が地域内企業で下請負※がない場合 【設定工種：全ての工種】 | G39: 2 | I39: ／ 2.00 | K39: 1 2 3 4 5 6 7 8 0 1 2 3 4 5 6 7
F40: 〔県内調達〕 下請負※が以下のいずれかの条件を満たす場合 ・全ての下請負※が県内企業 ・入札参加企業（元請企業）が県内企業で下請負※がない場合 | G40: 1 | K40: 1 2
F41: 上記以外 | G41: 0 | K41: 1 2
B42: 【担い手育成・確保】 | K42: 1 2
B43: 若手技術者の配置 | D43: 若手技術者の配置の有無 主任(監理)技術者に40歳未満の者を配置 | F43: 40歳未満の者の配置あり | G43: 0.5 | I43: ／ 0.50 | K43: 1 2 3 4
F44: 上記以外 | G44: 0 | K44: 1 2
B45: ＷＬＢ(ワーク･ライフ･バランス)の推進 | D45: WLB企業認定等の有無 〔対象制度〕 ①新潟県多様で柔軟な働き方・女性活躍実践企業 ②にいがた健康経営推進企業 ③えるぼし認定 ④くるみん認定 ⑤ユースエール認定 | F45: いずれか2つ以上の認定等あり | G45: 0.5 | I45: ／ 0.50 | K45: 1 2 3 1
F46: いずれか1つの認定等あり | G46: 0.25 | K46: 1 2 3 2
F47: 上記以外 | G47: 0 | K47: 1 2 3 3
B48: ICT活用工事の取組 | D48: 受注者希望型での発注をする場合におけるICT活用工事の取組申請の有無 | F48: 「全面活用施工」を実施する | G48: 0.5 | I48: ／ 0.50 | K48: 1 2 3 4
F49: 「ICT建機活用施工」又は「簡易型活用施工」を実施する | G49: 0.25
F50: 実施しない | G50: 0 | K50: 1 2
B51: ICT活用工事の実績 ※土木工事の実績を評価の対象とする | D51: 新潟県発注の土木工事でのICT活用工事の実績の有無 | F51: 過去３か年度に完了したICT活用工事の実績あり（新潟県発注工事） | G51: 0.5 | I51: ／ 0.50 | K51: 1 2 3 4
F52: 実績なし | G52: 0 | K52: 1 2
B53: 【簡易な施工計画】 | K53: 1 2
B54: 簡易な施工計画 | D54: 確実な施工を確保するための施工上の配慮すべき事項について評価を行う。 | F54: 工事特性の理解度と記述内容の妥当性により評価する。 2項目の場合 項目Ａ：斜面作業における安全管理（4.0点） 項目Ｂ：周辺環境への対策（4.0点） | G54: 8 | H54: 3者で評価し、その平均点を評点とする。(小数点以下第3位四捨五入2位止） | I54: ／ 8.00 | K54: 1 2 3
K55: 1 2
G56: ～ | K56: 1 2 3
K57: 1 2
G58: 0 | K58: 1 2 3
K59: 1 2
B60: 加算点 | I60: ／ 24.50 | K60: 1 2
B62: ※ 各評価項目及び評価基準に係る過去の期間の考え方については、別紙を参照のこと。

Sheet （別紙）評価期間【自動計算】
A1: （別紙）評価項目及び評価基準に係る過去の期間の考え方（施工計画確認型）
A3: 【技術資料提出期限】
A4: ='（期間）条件入力シート'!A8 -> 46322
A5: 評価項目 | B5: 評価期間 | E5: 評価対象の期間（年月日） | I5: 備考（評価期間の考え方の詳細）
A6: 企業･技術者の同種工事の実績 | B6: ='（期間）条件入力シート'!D13 -> 15 | C6: か年度 | E6: =VALUE(【編集不可】自動計算!D3&"-"&【編集不可】自動計算!E3&"-"&【編集不可】自動計算!F3) -> 40634 | F6: ～ | G6: =VALUE(【編集不可】自動計算!H3&"-"&【編集不可】自動計算!I3&"-"&【編集不可】自動計算!J3) -> 46322 | I6: ="技術資料等の提出期限の前年度から過去"&B6&"か年度及び今年度の4月1日から技術資料等提出期限までに完了した工事" -> 技術資料等の提出期限の前年度から過去15か年度及び今年度の4月1日から技術資料等提出期限までに完了した工事
A7: 工事成績の平均点(企業) | B7: ='（期間）条件入力シート'!D14 -> 5 | C7: か年 | E7: =VALUE(【編集不可】自動計算!D4&"-"&【編集不可】自動計算!E4&"-"&【編集不可】自動計算!F4) -> 44440 | F7: ～ | G7: =VALUE(【編集不可】自動計算!H4&"-"&【編集不可】自動計算!I4&"-"&【編集不可】自動計算!J4) -> 46265 | I7: ="技術資料等の提出期限から1か月遡った日の前月から過去"&B7&"か年" -> 技術資料等の提出期限から1か月遡った日の前月から過去5か年
A8: 工事成績の最低点(企業) | B8: ='（期間）条件入力シート'!D15 -> 3 | C8: か月 | E8: =VALUE(【編集不可】自動計算!D5&"-"&【編集不可】自動計算!E5&"-"&【編集不可】自動計算!F5) -> 46174 | F8: ～ | G8: =VALUE(【編集不可】自動計算!H5&"-"&【編集不可】自動計算!I5&"-"&【編集不可】自動計算!J5) -> 46265 | I8: ="技術資料等の提出期限から1か月遡った日の前月から過去"&B8&"か月" -> 技術資料等の提出期限から1か月遡った日の前月から過去3か月
A9: 優良工事･優秀技術者表彰等 | B9: ='（期間）条件入力シート'!D16 -> 3 | C9: か年度 | E9: =VALUE(【編集不可】自動計算!D6&"-"&【編集不可】自動計算!E6&"-"&【編集不可】自動計算!F6) -> 45017 | F9: ～ | G9: =VALUE(【編集不可】自動計算!H6&"-"&【編集不可】自動計算!I6&"-"&【編集不可】自動計算!J6) -> 46112 | I9: ="技術資料等の提出期限の前年度から過去"&B9&"か年度の間に受賞" -> 技術資料等の提出期限の前年度から過去3か年度の間に受賞
A10: 継続教育(CPD)の取組状況 | B10: ='（期間）条件入力シート'!D17 -> 1 | C10: か年度 | E10: =VALUE(【編集不可】自動計算!D7&"-"&【編集不可】自動計算!E7&"-"&【編集不可】自動計算!F7) -> 45748 | F10: ～ | G10: =VALUE(【編集不可】自動計算!H7&"-"&【編集不可】自動計算!I7&"-"&【編集不可】自動計算!J7) -> 46112 | I10: 技術資料等の提出期限の前年度の取得単位数
A11: 工事成績の平均点(技術者) | B11: ='（期間）条件入力シート'!D18 -> 5 | C11: か年 | E11: =VALUE(【編集不可】自動計算!D8&"-"&【編集不可】自動計算!E8&"-"&【編集不可】自動計算!F8) -> 44440 | F11: ～ | G11: =VALUE(【編集不可】自動計算!H8&"-"&【編集不可】自動計算!I8&"-"&【編集不可】自動計算!J8) -> 46265 | I11: ="技術資料等の提出期限から1か月遡った日の前月から過去"&B11&"か年のうち直近2件" -> 技術資料等の提出期限から1か月遡った日の前月から過去5か年のうち直近2件
A12: 災害時における活動実績等 維持管理実績 | B12: ='（期間）条件入力シート'!D19 -> 3 | C12: か年度 | E12: =VALUE(【編集不可】自動計算!D9&"-"&【編集不可】自動計算!E9&"-"&【編集不可】自動計算!F9) -> 45017 | F12: ～ | G12: =VALUE(【編集不可】自動計算!H9&"-"&【編集不可】自動計算!I9&"-"&【編集不可】自動計算!J9) -> 46322 | I12: ="技術資料等の提出期限の前年度から過去"&B12&"か年度及び今年度の4月1日から技術資料等提出期限までに完了した実績" -> 技術資料等の提出期限の前年度から過去3か年度及び今年度の4月1日から技術資料等提出期限までに完了した実績
A13: 実働拠点(過去3年間継続) | B13: ='（期間）条件入力シート'!D20 -> 3 | C13: 年間 | E13: =VALUE(【編集不可】自動計算!D10&"-"&【編集不可】自動計算!E10&"-"&【編集不可】自動計算!F10) -> 45227 | F13: ～ | G13: 継続 | I13: 技術資料等の提出期限から過去3年間継続
A14: 実働拠点(過去10年間継続) | B14: ='（期間）条件入力シート'!D21 -> 10 | C14: 年間 | E14: =VALUE(【編集不可】自動計算!D11&"-"&【編集不可】自動計算!E11&"-"&【編集不可】自動計算!F11) -> 42671 | F14: ～ | G14: 継続 | I14: 技術資料等の提出期限から過去10年間継続
A15: 実働拠点(過去5か年度の実績) | B15: ='（期間）条件入力シート'!D22 -> 5 | C15: か年 | E15: =VALUE(【編集不可】自動計算!D12&"-"&【編集不可】自動計算!E12&"-"&【編集不可】自動計算!F12) -> 44287 | F15: ～ | G15: =VALUE(【編集不可】自動計算!H12&"-"&【編集不可】自動計算!I12&"-"&【編集不可】自動計算!J12) -> 46112 | I15: （過去10年間継続した従たる営業所であって、管内等の地域における実績により主たる営業所と同等に取り扱う条件の期間）技術資料等の提出期限の前年度から過去5か年度
A16: 担い手育成･確保(若手,WLB) | B16: － | E16: =VALUE(【編集不可】自動計算!D13&"-"&【編集不可】自動計算!E13&"-"&【編集不可】自動計算!F13) -> 46322 | I16: 技術資料等の提出期限日において、40歳未満のもの、対象制度の認定等
A17: ICT活用工事の実績(過去3か年度） | B17: ='（期間）条件入力シート'!D24 -> 3 | C17: か年 | E17: =VALUE(【編集不可】自動計算!D14&"-"&【編集不可】自動計算!E14&"-"&【編集不可】自動計算!F14) -> 45017 | F17: ～ | G17: =VALUE(【編集不可】自動計算!H14&"-"&【編集不可】自動計算!I14&"-"&【編集不可】自動計算!J14) -> 46112 | I17: ="技術資料等の提出期限の前年度から過去"&B17&"か年度に完了した実績" -> 技術資料等の提出期限の前年度から過去3か年度に完了した実績
A18: 低入札の減点(過去1年間の工事成績) | B18: ='（期間）条件入力シート'!D25 -> 1 | C18: か年 | E18: =VALUE(【編集不可】自動計算!D15&"-"&【編集不可】自動計算!E15&"-"&【編集不可】自動計算!F15) -> 45901 | F18: ～ | G18: =VALUE(【編集不可】自動計算!H15&"-"&【編集不可】自動計算!I15&"-"&【編集不可】自動計算!J15) -> 46265 | I18: ="技術資料等の提出期限から1か月遡った日の前月から過去"&B18&"か年" -> 技術資料等の提出期限から1か月遡った日の前月から過去1か年

Sheet （期間）条件入力シート
A1: 「評価対象期間」算定ツール【条件入力シート】 | F1: Ver.250401
A2: 【ステップ①】
A3: 「技術資料提出期限」を入力してください。
A4: 年（西暦） | B4: 2026 | C4: 【入力】
A5: 月 | B5: 10 | C5: 【入力】
A6: 日 | B6: 27 | C6: 【入力】
A7: 【技術資料提出期限】
A8: =IFERROR(VALUE(B4&"-"&B5&"-"&B6),"※入力欄に年月日を入力") -> 46322 | C8: 【自動】
A10: 【ステップ②】
A11: 「評価期間」を変更する場合は、その期間（数字）を入力してください。
A12: 評価項目 | D12: 評価期間 | F12: 摘 要
A13: 企業･技術者の同種工事の実績 | D13: 15 | E13: か年度
A14: 工事成績の平均点(企業) | D14: 5 | E14: か年
A15: 工事成績の最低点(企業) | D15: 3 | E15: か月
A16: 優良工事･優秀技術者表彰等 | D16: 3 | E16: か年度 | F16: ※建築･管･電気工事は5か年度
A17: 継続教育(CPD)の取組状況 | D17: 1 | E17: か年度
A18: 工事成績の平均点(技術者) | D18: 5 | E18: か年
A19: 災害時における活動実績等 | D19: 3 | E19: か年度
A20: 実働拠点(過去3年間継続) | D20: 3 | E20: 年間
A21: 実働拠点(過去10年間継続) | D21: 10 | E21: 年間
A22: 実働拠点(過去5か年の実績) | D22: 5 | E22: か年
A23: 担い手育成･確保 | D23: －
A24: ICT活用工事の実績(過去3か年度） | D24: 3 | E24: 年間
A25: 低入札の減点 | D25: 1 | E25: か年

Sheet 【編集不可】自動計算
A1: =TEXT('（別紙）評価期間【自動計算】'!A4,"yyyy/mm/dd") -> 2026/10/27 | D1: =LEFT(A1,4) -> 2026 | E1: =MID(A1,6,2) -> 10 | F1: =RIGHT(A1,2) -> 27
A3: ='（別紙）評価期間【自動計算】'!A6 -> 企業･技術者の同種工事の実績 | B3: ='（別紙）評価期間【自動計算】'!B6 -> 15 | C3: ='（別紙）評価期間【自動計算】'!C6 -> か年度 | D3: =VALUE(IF(I3<4,D$1-B3-1,D$1-B3)) -> 2011 | E3: 4 | F3: 1 | G3: ～ | H3: =VALUE(D$1) -> 2026 | I3: =VALUE(E$1) -> 10 | J3: =VALUE(F$1) -> 27
A4: ='（別紙）評価期間【自動計算】'!A7 -> 工事成績の平均点(企業) | B4: ='（別紙）評価期間【自動計算】'!B7 -> 5 | C4: ='（別紙）評価期間【自動計算】'!C7 -> か年 | D4: =VALUE(IF(E4=1,H4-B4+1,H4-B4)) -> 2021 | E4: =VALUE(IF(I4=12,1,I4+1)) -> 9 | F4: 1 | G4: ～ | H4: =VALUE(IF(I4>=11,D$1-1,D$1)) -> 2026 | I4: =VALUE(IF(E$1-2=0,12,IF(E$1-2=-1,11,E$1-2))) -> 8 | J4: =IF(COUNTIF(L4:O4,I4),30,IF(I4=2,IF(MOD(H4,4)=0,29,28),31)) -> 31 | L4: 4 | M4: 6 | N4: 9 | O4: 11 | P4: ←30日までの月
A5: ='（別紙）評価期間【自動計算】'!A8 -> 工事成績の最低点(企業) | B5: ='（別紙）評価期間【自動計算】'!B8 -> 3 | C5: ='（別紙）評価期間【自動計算】'!C8 -> か月 | D5: =VALUE(IF(E5>=9,D$1-1,D$1)) -> 2026 | E5: =VALUE(IF(I$5-2=0,12,IF(I$5-2=-1,11,I$5-2))) -> 6 | F5: 1 | G5: ～ | H5: =VALUE(IF(I5>=11,D$1-1,D$1)) -> 2026 | I5: =VALUE(IF(E$1-2=0,12,IF(E$1-2=-1,11,E$1-2))) -> 8 | J5: =IF(COUNTIF(L5:O5,I5),30,IF(I5=2,IF(MOD(H5,4)=0,29,28),31)) -> 31 | L5: 4 | M5: 6 | N5: 9 | O5: 11 | P5: ←30日までの月
A6: ='（別紙）評価期間【自動計算】'!A9 -> 優良工事･優秀技術者表彰等 | B6: ='（別紙）評価期間【自動計算】'!B9 -> 3 | C6: ='（別紙）評価期間【自動計算】'!C9 -> か年度 | D6: =VALUE(H6-B6) -> 2023 | E6: 4 | F6: 1 | G6: ～ | H6: =VALUE(IF(E$1*1<4,D$1-1,D$1)) -> 2026 | I6: 3 | J6: 31
A7: ='（別紙）評価期間【自動計算】'!A10 -> 継続教育(CPD)の取組状況 | B7: ='（別紙）評価期間【自動計算】'!B10 -> 1 | C7: ='（別紙）評価期間【自動計算】'!C10 -> か年度 | D7: =VALUE(H7-B7) -> 2025 | E7: 4 | F7: 1 | G7: ～ | H7: =VALUE(IF(E$1*1<4,D$1-1,D$1)) -> 2026 | I7: 3 | J7: 31
A8: ='（別紙）評価期間【自動計算】'!A11 -> 工事成績の平均点(技術者) | B8: ='（別紙）評価期間【自動計算】'!B11 -> 5 | C8: ='（別紙）評価期間【自動計算】'!C11 -> か年 | D8: =VALUE(IF(E8=1,H8-B8+1,H8-B8)) -> 2021 | E8: =VALUE(IF(I8=12,1,I8+1)) -> 9 | F8: 1 | G8: ～ | H8: =VALUE(IF(I8>=11,D$1-1,D$1)) -> 2026 | I8: =VALUE(IF(E$1-2=0,12,IF(E$1-2=-1,11,E$1-2))) -> 8 | J8: =IF(COUNTIF(L8:O8,I8),30,IF(I8=2,IF(MOD(H8,4)=0,29,28),31)) -> 31 | L8: 4 | M8: 6 | N8: 9 | O8: 11 | P8: ←30日までの月
A9: ='（別紙）評価期間【自動計算】'!A12 -> 災害時における活動実績等 維持管理実績 | B9: ='（別紙）評価期間【自動計算】'!B12 -> 3 | C9: ='（別紙）評価期間【自動計算】'!C12 -> か年度 | D9: =VALUE(IF(I9<4,D$1-B9-1,D$1-B9)) -> 2023 | E9: 4 | F9: 1 | G9: ～ | H9: =VALUE(D$1) -> 2026 | I9: =VALUE(E$1) -> 10 | J9: =VALUE(F$1) -> 27
A10: ='（別紙）評価期間【自動計算】'!A13 -> 実働拠点(過去3年間継続) | B10: ='（別紙）評価期間【自動計算】'!B13 -> 3 | C10: ='（別紙）評価期間【自動計算】'!C13 -> 年間 | D10: =VALUE(IF(AND(E$1*1=12,F$1*1=31),D$1-B10+1,D$1-B10)) -> 2023 | E10: =VALUE(IF(F10=1,IF(E$1*1=12,1,E$1+1),E$1)) -> 10 | F10: =VALUE(IF(F$1*1=31,1,IF(AND(COUNTIF(L10:O10,E$1*1),F$1*1=30),1,IF(Q10=TRUE(),1,F$1+1)))) -> 28 | L10: 4 | M10: 6 | N10: 9 | O10: 11 | P10: ←30日までの月 | Q10: =OR(AND(E$1*1=2,F$1*1=29),AND(MOD(D$1*1,4)>0,E$1*1=2,F$1*1=28)) -> FALSE | R10: ←2月check
A11: ='（別紙）評価期間【自動計算】'!A14 -> 実働拠点(過去10年間継続) | B11: ='（別紙）評価期間【自動計算】'!B14 -> 10 | C11: ='（別紙）評価期間【自動計算】'!C14 -> 年間 | D11: =VALUE(IF(AND(E$1*1=12,F$1*1=31),D$1-B11+1,D$1-B11)) -> 2016 | E11: =VALUE(IF(F11=1,IF(E$1*1=12,1,E$1+1),E$1)) -> 10 | F11: =VALUE(IF(F$1*1=31,1,IF(AND(COUNTIF(L11:O11,E$1*1),F$1*1=30),1,IF(Q11=TRUE(),1,F$1+1)))) -> 28 | L11: 4 | M11: 6 | N11: 9 | O11: 11 | P11: ←30日までの月 | Q11: =OR(AND(E$1*1=2,F$1*1=29),AND(MOD(D$1*1,4)>0,E$1*1=2,F$1*1=28)) -> FALSE | R11: ←2月check
A12: ='（別紙）評価期間【自動計算】'!A15 -> 実働拠点(過去5か年度の実績) | B12: ='（別紙）評価期間【自動計算】'!B15 -> 5 | C12: ='（別紙）評価期間【自動計算】'!C15 -> か年 | D12: =VALUE(H12-B12) -> 2021 | E12: 4 | F12: 1 | G12: ～ | H12: =VALUE(IF(E$1*1<4,D$1-1,D$1)) -> 2026 | I12: 3 | J12: 31
A13: ='（別紙）評価期間【自動計算】'!A16 -> 担い手育成･確保(若手,WLB) | B13: ='（別紙）評価期間【自動計算】'!B16 -> － | C13: ='（別紙）評価期間【自動計算】'!C16 -> 0 | D13: =VALUE(D$1) -> 2026 | E13: =VALUE(E$1) -> 10 | F13: =VALUE(F$1) -> 27
A14: ='（別紙）評価期間【自動計算】'!A17 -> ICT活用工事の実績(過去3か年度） | B14: ='（別紙）評価期間【自動計算】'!B17 -> 3 | C14: ='（別紙）評価期間【自動計算】'!C17 -> か年 | D14: =VALUE(H14-B14) -> 2023 | E14: 4 | F14: 1 | G14: ～ | H14: =VALUE(IF(E$1*1<4,D$1-1,D$1)) -> 2026 | I14: 3 | J14: 31
A15: ='（別紙）評価期間【自動計算】'!A18 -> 低入札の減点(過去1年間の工事成績) | B15: ='（別紙）評価期間【自動計算】'!B18 -> 1 | C15: ='（別紙）評価期間【自動計算】'!C18 -> か年 | D15: =VALUE(IF(E15=1,H15-B15+1,H15-B15)) -> 2025 | E15: =VALUE(IF(I15=12,1,I15+1)) -> 9 | F15: 1 | G15: ～ | H15: =VALUE(IF(I15>=11,D$1-1,D$1)) -> 2026 | I15: =VALUE(IF(E$1-2=0,12,IF(E$1-2=-1,11,E$1-2))) -> 8 | J15: =IF(COUNTIF(L15:O15,I15),30,IF(I15=2,IF(MOD(H15,4)=0,29,28),31)) -> 31 | L15: 4 | M15: 6 | N15: 9 | O15: 11 | P15: ←30日までの月
A17: 【今日の日付】
A18: =NOW() -> 46300.726
A19: =TEXT(A18,"yyyy/mm/dd") -> 2026/10/05 | D19: =LEFT(A19,4) -> 2026 | E19: =MID(A19,6,2) -> 10 | F19: =RIGHT(A19,2) -> 05
D21: =+D19*1 -> 2026 | E21: =+E19*1 -> 10 | F21: =+F19*1 -> 5
D22: =+D21+1 -> 2027 | E22: 1 | F22: 1
D23: =+D22+1 -> 2028 | E23: 2 | F23: 2
D24: =+D23+1 -> 2029 | E24: 3 | F24: 3
D25: =+D24+1 -> 2030 | E25: 4 | F25: 4
E26: 5 | F26: 5
E27: 6 | F27: 6
E28: 7 | F28: 7
E29: 8 | F29: 8
E30: 9 | F30: 9
E31: 10 | F31: 10
E32: 11 | F32: 11
E33: 12 | F33: 12
F34: 13
F35: 14
F36: 15
F37: 16
F38: 17
F39: 18
F40: 19
F41: 20
F42: 21
F43: 22
F44: 23
F45: 24
... F52: 31
